{"text_format":"1","workbook":"xlsx","n_sheets":31,"sheets":["Deckblatt","Einzelwertung1","Einzelwertung2","Einzelwertung3","Einzelwertung4","Einzelwertung5","Gesamtstand","Bahnenstatistik","Verlosungen","Einzelwertung6","Einzelwertung7","Einzelwertung8","Einzelwertung9","Einzelwertung10","Einzelwertung18","Einzelwertung11","Einzelwertung12","Einzelwertung13","Einzelwertung14","Einzelwertung15","Einzelwertung16","Einzelwertung17","Bahnenergebnisse","Statistik","Teilnehmer","bangolf_players","Vereine","bangolf_kategorien","Punkteschema","Hilfe","Preise"],"not_rendered":{"charts":0,"images":1,"macros":1,"external_links":0,"defined_names":25,"comments":0,"pivot_tables":0},"unopened":[],"bounds":{"document_bytes":16777216,"sheet_cells":100000,"rows_first":2000,"rows_last":500,"rows_between":2000,"halvings":0,"cell_chars":16384,"cell_head_chars":4096},"cells_cut":0,"cells_raw":0,"read":"whole","date_system":"1900"}

{"sheet":"Deckblatt","index":0,"n_rows":42,"n_cols":2,"rows_kept":42,"cut":false,"hidden":false,"merged":[[31,0,31,4],[1,0,1,4],[3,0,3,4],[5,0,5,4],[27,0,27,4],[29,0,29,4],[30,0,30,4]]}
[]
["Sommer-Cup 2020"]
[]
["Witten-Herbede, Abt.1&2 - 10.06.-27.08.2020 - Welcome-Cup"]
[]
["Ergebnisliste - Deckblatt"]
[]
["Turnierleitung:","Peter Tabor, MGC \"AS\" Witten, Lizenznr. 8564"]
["Platzturnierleiter:","Uwe Kersch"]
["Ausrichter:","Marita Keuth/Uwe Kersch (Pächter)"]
[null,"in Kooperation mit MGC \"AS\" Witten"]
["Schiedsgericht:","wechselnd, jeweils durch Aushang bekanntgegeben"]
[]
[]
[]
[]
[]
[]
[]
[]
[]
[]
[]
["Siegerfoto in Zeiten von Corona: Mit Abstand oder Mund-/Nasenschutz !"]
["Die Gewinner der Geldpreise (von links): Jörg Hein (4.), Volker Urban (2.),"]
["Rolf Lenk (5. n.St.), Michael Puschner (3.), Wolfgang Battig (1.)    Foto: ASW"]
[]
["Besondere Vorkommnisse:"]
[]
["Am 2.7. wurde witterungsbedingt in der zweiten Runde zuerst unterbrochen und"]
["dann abgebrochen. An diesem Spieltag wurde nur die erste Runde gewertet."]
[]
["Anmerkungen des Turnierleiters:"]
[]
["Je Spieltag wurden weitere Ball- bzw. Sachpreise unter den Teilnehmern"]
["verlost, eine Liste der Preise findet sich ebenfalls in dieser Ergebnisliste."]
[]
["Wir danken allen Teilnehmern und freuen uns auf ein Wiedersehen!"]
[]
["Für die Richtigkeit:"]
["Peter Tabor"]
["MGC \"AS\" Witten"]

{"sheet":"Einzelwertung1","index":1,"n_rows":61,"n_cols":10,"rows_kept":61,"cut":false,"hidden":true,"merged":[[0,0,0,9]]}
[{"$f":"CONCATENATE(\"6. Sommer-Cup - Freizeittreff Herbede - \",TEXT(Gesamtstand!$F$2,\"TT.MM.JJ\"))","v":"6. Sommer-Cup - Freizeittreff Herbede - 07.05.20"}]
["Spieler","Runde 1","Runde 2","Gesamt","bessere?","Pl. R1","Pl. R2","Pl. Ges.","gewertet","Punkte"]
[null,null,null,{"$f":"IF(B3>0,C3+B3,\"\")","v":""},true,{"$f":"IF(B3>0,COUNTIF(B$3:B$55,\"<\"&B3)+1,\"\")","v":""},{"$f":"IF(C3>0,COUNTIF(C$3:C$55,\"<\"&C3)+1,\"\")","v":""},{"$f":"IF(AND(B3>0,C3>0),COUNTIF(D$3:D$55,\"<\"&D3)+1,\"\")","v":""},{"$f":"IF(B3>0,IF(E3,MIN(F3:H3),MAX(F3:H3)),\"\")","v":""},{"$f":"IF(B3>0,VLOOKUP(I3,Punkteschema!$A$2:$B$101,2,FALSE),\"\")","v":""}]
[null,null,null,"",true,"","","","",{"$f":"IF(B4>0,VLOOKUP(I4,Punkteschema!$A$2:$B$101,2,FALSE),\"\")","v":""}]
[null,null,null,"",true,"","","","",{"$f":"IF(B5>0,VLOOKUP(I5,Punkteschema!$A$2:$B$101,2,FALSE),\"\")","v":""}]
[null,null,null,"",true,"","","","",{"$f":"IF(B6>0,VLOOKUP(I6,Punkteschema!$A$2:$B$101,2,FALSE),\"\")","v":""}]
[null,null,null,"",true,"","","","",{"$f":"IF(B7>0,VLOOKUP(I7,Punkteschema!$A$2:$B$101,2,FALSE),\"\")","v":""}]
[null,null,null,"",true,"","","","",{"$f":"IF(B8>0,VLOOKUP(I8,Punkteschema!$A$2:$B$101,2,FALSE),\"\")","v":""}]
[null,null,null,"",true,"","","","",{"$f":"IF(B9>0,VLOOKUP(I9,Punkteschema!$A$2:$B$101,2,FALSE),\"\")","v":""}]
[null,null,null,"",true,"","","","",{"$f":"IF(B10>0,VLOOKUP(I10,Punkteschema!$A$2:$B$101,2,FALSE),\"\")","v":""}]
[null,null,null,"",true,"","","","",{"$f":"IF(B11>0,VLOOKUP(I11,Punkteschema!$A$2:$B$101,2,FALSE),\"\")","v":""}]
[null,null,null,"",true,"","","","",{"$f":"IF(B12>0,VLOOKUP(I12,Punkteschema!$A$2:$B$101,2,FALSE),\"\")","v":""}]
[null,null,null,"",true,"","","","",{"$f":"IF(B13>0,VLOOKUP(I13,Punkteschema!$A$2:$B$101,2,FALSE),\"\")","v":""}]
[null,null,null,"",true,"","","","",{"$f":"IF(B14>0,VLOOKUP(I14,Punkteschema!$A$2:$B$101,2,FALSE),\"\")","v":""}]
[null,null,null,"",true,"","","","",{"$f":"IF(B15>0,VLOOKUP(I15,Punkteschema!$A$2:$B$101,2,FALSE),\"\")","v":""}]
[null,null,null,"",true,"","","","",{"$f":"IF(B16>0,VLOOKUP(I16,Punkteschema!$A$2:$B$101,2,FALSE),\"\")","v":""}]
[null,null,null,"",true,"","","","",{"$f":"IF(B17>0,VLOOKUP(I17,Punkteschema!$A$2:$B$101,2,FALSE),\"\")","v":""}]
[null,null,null,"",true,"","","","",{"$f":"IF(B18>0,VLOOKUP(I18,Punkteschema!$A$2:$B$101,2,FALSE),\"\")","v":""}]
[null,null,null,{"$f":"IF(B19>0,C19+B19,\"\")","v":""},true,{"$f":"IF(B19>0,COUNTIF(B$3:B$55,\"<\"&B19)+1,\"\")","v":""},"",{"$f":"IF(AND(B19>0,C19>0),COUNTIF(D$3:D$55,\"<\"&D19)+1,\"\")","v":""},{"$f":"IF(B19>0,IF(E19,MIN(F19:H19),MAX(F19:H19)),\"\")","v":""},{"$f":"IF(B19>0,VLOOKUP(I19,Punkteschema!$A$2:$B$101,2,FALSE),\"\")","v":""}]
[null,null,null,"",true,"","","","",{"$f":"IF(B20>0,VLOOKUP(I20,Punkteschema!$A$2:$B$101,2,FALSE),\"\")","v":""}]
[null,null,null,"",true,"","","","",{"$f":"IF(B21>0,VLOOKUP(I21,Punkteschema!$A$2:$B$101,2,FALSE),\"\")","v":""}]
[null,null,null,"",true,"","","","",{"$f":"IF(B22>0,VLOOKUP(I22,Punkteschema!$A$2:$B$101,2,FALSE),\"\")","v":""}]
[null,null,null,"",true,"","","","",{"$f":"IF(B23>0,VLOOKUP(I23,Punkteschema!$A$2:$B$101,2,FALSE),\"\")","v":""}]
[null,null,null,"",true,"","","","",{"$f":"IF(B24>0,VLOOKUP(I24,Punkteschema!$A$2:$B$101,2,FALSE),\"\")","v":""}]
[null,null,null,"",true,"","","","",{"$f":"IF(B25>0,VLOOKUP(I25,Punkteschema!$A$2:$B$101,2,FALSE),\"\")","v":""}]
[null,null,null,"",true,"","","","",{"$f":"IF(B26>0,VLOOKUP(I26,Punkteschema!$A$2:$B$101,2,FALSE),\"\")","v":""}]
[null,null,null,"",true,"","","","",{"$f":"IF(B27>0,VLOOKUP(I27,Punkteschema!$A$2:$B$101,2,FALSE),\"\")","v":""}]
[null,null,null,"",true,"","","","",{"$f":"IF(B28>0,VLOOKUP(I28,Punkteschema!$A$2:$B$101,2,FALSE),\"\")","v":""}]
[null,null,null,"",true,"","","","",{"$f":"IF(B29>0,VLOOKUP(I29,Punkteschema!$A$2:$B$101,2,FALSE),\"\")","v":""}]
[null,null,null,"",true,"","","","",{"$f":"IF(B30>0,VLOOKUP(I30,Punkteschema!$A$2:$B$101,2,FALSE),\"\")","v":""}]
[null,null,null,"",true,"","","","",{"$f":"IF(B31>0,VLOOKUP(I31,Punkteschema!$A$2:$B$101,2,FALSE),\"\")","v":""}]
[null,null,null,"",true,"","","","",{"$f":"IF(B32>0,VLOOKUP(I32,Punkteschema!$A$2:$B$101,2,FALSE),\"\")","v":""}]
[null,null,null,"",true,"","","","",{"$f":"IF(B33>0,VLOOKUP(I33,Punkteschema!$A$2:$B$101,2,FALSE),\"\")","v":""}]
[null,null,null,"",true,"","","","",{"$f":"IF(B34>0,VLOOKUP(I34,Punkteschema!$A$2:$B$101,2,FALSE),\"\")","v":""}]
[null,null,null,"",true,"","","","",{"$f":"IF(B35>0,VLOOKUP(I35,Punkteschema!$A$2:$B$101,2,FALSE),\"\")","v":""}]
[null,null,null,"",true,"","","","",{"$f":"IF(B36>0,VLOOKUP(I36,Punkteschema!$A$2:$B$101,2,FALSE),\"\")","v":""}]
[null,null,null,"",true,"","","","",{"$f":"IF(B37>0,VLOOKUP(I37,Punkteschema!$A$2:$B$101,2,FALSE),\"\")","v":""}]
[null,null,null,"",true,"","","","",{"$f":"IF(B38>0,VLOOKUP(I38,Punkteschema!$A$2:$B$101,2,FALSE),\"\")","v":""}]
[null,null,null,"",true,"","","","",{"$f":"IF(B39>0,VLOOKUP(I39,Punkteschema!$A$2:$B$101,2,FALSE),\"\")","v":""}]
[null,null,null,"",true,"","","","",{"$f":"IF(B40>0,VLOOKUP(I40,Punkteschema!$A$2:$B$101,2,FALSE),\"\")","v":""}]
[null,null,null,"",true,"","","","",{"$f":"IF(B41>0,VLOOKUP(I41,Punkteschema!$A$2:$B$101,2,FALSE),\"\")","v":""}]
[null,null,null,"",true,"","","","",{"$f":"IF(B42>0,VLOOKUP(I42,Punkteschema!$A$2:$B$101,2,FALSE),\"\")","v":""}]
[null,null,null,"",true,"","","","",{"$f":"IF(B43>0,VLOOKUP(I43,Punkteschema!$A$2:$B$101,2,FALSE),\"\")","v":""}]
[null,null,null,"",true,"","","","",{"$f":"IF(B44>0,VLOOKUP(I44,Punkteschema!$A$2:$B$101,2,FALSE),\"\")","v":""}]
[null,null,null,"",true,"","","","",{"$f":"IF(B45>0,VLOOKUP(I45,Punkteschema!$A$2:$B$101,2,FALSE),\"\")","v":""}]
[null,null,null,"",true,"","","","",{"$f":"IF(B46>0,VLOOKUP(I46,Punkteschema!$A$2:$B$101,2,FALSE),\"\")","v":""}]
[null,null,null,"",true,"","","","",{"$f":"IF(B47>0,VLOOKUP(I47,Punkteschema!$A$2:$B$101,2,FALSE),\"\")","v":""}]
[null,null,null,"",true,"","","","",{"$f":"IF(B48>0,VLOOKUP(I48,Punkteschema!$A$2:$B$101,2,FALSE),\"\")","v":""}]
[null,null,null,"",true,"","","","",{"$f":"IF(B49>0,VLOOKUP(I49,Punkteschema!$A$2:$B$101,2,FALSE),\"\")","v":""}]
[null,null,null,"",true,"","","","",{"$f":"IF(B50>0,VLOOKUP(I50,Punkteschema!$A$2:$B$101,2,FALSE),\"\")","v":""}]
[null,null,null,"",true,"","","","",{"$f":"IF(B51>0,VLOOKUP(I51,Punkteschema!$A$2:$B$101,2,FALSE),\"\")","v":""}]
[null,null,null,"",true,"","","","",{"$f":"IF(B52>0,VLOOKUP(I52,Punkteschema!$A$2:$B$101,2,FALSE),\"\")","v":""}]
[null,null,null,"",true,{"$f":"IF(B53>0,COUNTIF(B$3:B$55,\"<\"&B53)+1,\"\")","v":""},"",{"$f":"IF(AND(B53>0,C53>0),COUNTIF(D$3:D$55,\"<\"&D53)+1,\"\")","v":""},{"$f":"IF(B53>0,IF(E53,MIN(F53:H53),MAX(F53:H53)),\"\")","v":""},{"$f":"IF(B53>0,VLOOKUP(I53,Punkteschema!$A$2:$B$101,2,FALSE),\"\")","v":""}]
[null,null,null,"",true,"","",{"$f":"IF(AND(B54>0,C54>0),COUNTIF(D$3:D$55,\"<\"&D54)+1,\"\")","v":""},{"$f":"IF(B54>0,IF(E54,MIN(F54:H54),MAX(F54:H54)),\"\")","v":""},{"$f":"IF(B54>0,VLOOKUP(I54,Punkteschema!$A$2:$B$101,2,FALSE),\"\")","v":""}]
[null,null,null,"",true,"","",{"$f":"IF(AND(B55>0,C55>0),COUNTIF(D$3:D$55,\"<\"&D55)+1,\"\")","v":""},{"$f":"IF(B55>0,IF(E55,MIN(F55:H55),MAX(F55:H55)),\"\")","v":""},{"$f":"IF(B55>0,VLOOKUP(I55,Punkteschema!$A$2:$B$101,2,FALSE),\"\")","v":""}]
[]
["OS: ",null,null,null,"Runde 1:","E","<- E/B"]
["S: ",null,null,null,"Runde 2:","B","<- E/B"]
["S: "]
[]
["Verloste Preise:"]

{"sheet":"Einzelwertung2","index":2,"n_rows":61,"n_cols":10,"rows_kept":61,"cut":false,"hidden":true,"merged":[[0,0,0,9]]}
[{"$f":"CONCATENATE(\"6. Sommer-Cup - Freizeittreff Herbede - \",TEXT(Gesamtstand!$G$2,\"TT.MM.JJ\"))","v":"6. Sommer-Cup - Freizeittreff Herbede - 14.05.20"}]
["Spieler","Runde 1","Runde 2","Gesamt","bessere?","Pl. R1","Pl. R2","Pl. Ges.","gewertet","Punkte"]
[null,null,null,{"$f":"IF(B3>0,C3+B3,\"\")","v":""},true,{"$f":"IF(B3>0,COUNTIF(B$3:B$55,\"<\"&B3)+1,\"\")","v":""},{"$f":"IF(C3>0,COUNTIF(C$3:C$55,\"<\"&C3)+1,\"\")","v":""},{"$f":"IF(AND(B3>0,C3>0),COUNTIF(D$3:D$55,\"<\"&D3)+1,\"\")","v":""},{"$f":"IF(B3>0,IF(E3,MIN(F3:H3),MAX(F3:H3)),\"\")","v":""},{"$f":"IF(B3>0,VLOOKUP(I3,Punkteschema!$A$2:$B$101,2,FALSE),\"\")","v":""}]
[null,null,null,"",true,"","","","",{"$f":"IF(B4>0,VLOOKUP(I4,Punkteschema!$A$2:$B$101,2,FALSE),\"\")","v":""}]
[null,null,null,"",true,"","","","",{"$f":"IF(B5>0,VLOOKUP(I5,Punkteschema!$A$2:$B$101,2,FALSE),\"\")","v":""}]
[null,null,null,"",true,"","","","",{"$f":"IF(B6>0,VLOOKUP(I6,Punkteschema!$A$2:$B$101,2,FALSE),\"\")","v":""}]
[null,null,null,"",true,"","","","",{"$f":"IF(B7>0,VLOOKUP(I7,Punkteschema!$A$2:$B$101,2,FALSE),\"\")","v":""}]
[null,null,null,"",true,"","","","",{"$f":"IF(B8>0,VLOOKUP(I8,Punkteschema!$A$2:$B$101,2,FALSE),\"\")","v":""}]
[null,null,null,"",true,"","","","",{"$f":"IF(B9>0,VLOOKUP(I9,Punkteschema!$A$2:$B$101,2,FALSE),\"\")","v":""}]
[null,null,null,"",true,"","","","",{"$f":"IF(B10>0,VLOOKUP(I10,Punkteschema!$A$2:$B$101,2,FALSE),\"\")","v":""}]
[null,null,null,"",true,"","","","",{"$f":"IF(B11>0,VLOOKUP(I11,Punkteschema!$A$2:$B$101,2,FALSE),\"\")","v":""}]
[null,null,null,"",true,"","","","",{"$f":"IF(B12>0,VLOOKUP(I12,Punkteschema!$A$2:$B$101,2,FALSE),\"\")","v":""}]
[null,null,null,"",true,"","","","",{"$f":"IF(B13>0,VLOOKUP(I13,Punkteschema!$A$2:$B$101,2,FALSE),\"\")","v":""}]
[null,null,null,"",true,"","","","",{"$f":"IF(B14>0,VLOOKUP(I14,Punkteschema!$A$2:$B$101,2,FALSE),\"\")","v":""}]
[null,null,null,"",true,"","","","",{"$f":"IF(B15>0,VLOOKUP(I15,Punkteschema!$A$2:$B$101,2,FALSE),\"\")","v":""}]
[null,null,null,"",true,"","","","",{"$f":"IF(B16>0,VLOOKUP(I16,Punkteschema!$A$2:$B$101,2,FALSE),\"\")","v":""}]
[null,null,null,"",true,"","","","",{"$f":"IF(B17>0,VLOOKUP(I17,Punkteschema!$A$2:$B$101,2,FALSE),\"\")","v":""}]
[null,null,null,"",true,"","","","",{"$f":"IF(B18>0,VLOOKUP(I18,Punkteschema!$A$2:$B$101,2,FALSE),\"\")","v":""}]
[null,null,null,{"$f":"IF(B19>0,C19+B19,\"\")","v":""},true,{"$f":"IF(B19>0,COUNTIF(B$3:B$55,\"<\"&B19)+1,\"\")","v":""},{"$f":"IF(C19>0,COUNTIF(C$3:C$55,\"<\"&C19)+1,\"\")","v":""},{"$f":"IF(AND(B19>0,C19>0),COUNTIF(D$3:D$55,\"<\"&D19)+1,\"\")","v":""},{"$f":"IF(B19>0,IF(E19,MIN(F19:H19),MAX(F19:H19)),\"\")","v":""},{"$f":"IF(B19>0,VLOOKUP(I19,Punkteschema!$A$2:$B$101,2,FALSE),\"\")","v":""}]
[null,null,null,"",true,"","","","",{"$f":"IF(B20>0,VLOOKUP(I20,Punkteschema!$A$2:$B$101,2,FALSE),\"\")","v":""}]
[null,null,null,"",true,"","","","",{"$f":"IF(B21>0,VLOOKUP(I21,Punkteschema!$A$2:$B$101,2,FALSE),\"\")","v":""}]
[null,null,null,"",true,"","","","",{"$f":"IF(B22>0,VLOOKUP(I22,Punkteschema!$A$2:$B$101,2,FALSE),\"\")","v":""}]
[null,null,null,"",true,"","","","",{"$f":"IF(B23>0,VLOOKUP(I23,Punkteschema!$A$2:$B$101,2,FALSE),\"\")","v":""}]
[null,null,null,{"$f":"IF(B24>0,C24+B24,\"\")","v":""},true,{"$f":"IF(B24>0,COUNTIF(B$3:B$55,\"<\"&B24)+1,\"\")","v":""},"",{"$f":"IF(AND(B24>0,C24>0),COUNTIF(D$3:D$55,\"<\"&D24)+1,\"\")","v":""},{"$f":"IF(B24>0,IF(E24,MIN(F24:H24),MAX(F24:H24)),\"\")","v":""},{"$f":"IF(B24>0,VLOOKUP(I24,Punkteschema!$A$2:$B$101,2,FALSE),\"\")","v":""}]
[null,null,null,"",true,"","","","",{"$f":"IF(B25>0,VLOOKUP(I25,Punkteschema!$A$2:$B$101,2,FALSE),\"\")","v":""}]
[null,null,null,"",true,"","","","",{"$f":"IF(B26>0,VLOOKUP(I26,Punkteschema!$A$2:$B$101,2,FALSE),\"\")","v":""}]
[null,null,null,"",true,"","","","",{"$f":"IF(B27>0,VLOOKUP(I27,Punkteschema!$A$2:$B$101,2,FALSE),\"\")","v":""}]
[null,null,null,"",true,"","","","",{"$f":"IF(B28>0,VLOOKUP(I28,Punkteschema!$A$2:$B$101,2,FALSE),\"\")","v":""}]
[null,null,null,"",true,"","","","",{"$f":"IF(B29>0,VLOOKUP(I29,Punkteschema!$A$2:$B$101,2,FALSE),\"\")","v":""}]
[null,null,null,"",true,"","","","",{"$f":"IF(B30>0,VLOOKUP(I30,Punkteschema!$A$2:$B$101,2,FALSE),\"\")","v":""}]
[null,null,null,"",true,"","","","",{"$f":"IF(B31>0,VLOOKUP(I31,Punkteschema!$A$2:$B$101,2,FALSE),\"\")","v":""}]
[null,null,null,"",true,"","","","",{"$f":"IF(B32>0,VLOOKUP(I32,Punkteschema!$A$2:$B$101,2,FALSE),\"\")","v":""}]
[null,null,null,"",true,"","","","",{"$f":"IF(B33>0,VLOOKUP(I33,Punkteschema!$A$2:$B$101,2,FALSE),\"\")","v":""}]
[null,null,null,"",true,"","","","",{"$f":"IF(B34>0,VLOOKUP(I34,Punkteschema!$A$2:$B$101,2,FALSE),\"\")","v":""}]
[null,null,null,"",true,"","","","",{"$f":"IF(B35>0,VLOOKUP(I35,Punkteschema!$A$2:$B$101,2,FALSE),\"\")","v":""}]
[null,null,null,"",true,"","","","",{"$f":"IF(B36>0,VLOOKUP(I36,Punkteschema!$A$2:$B$101,2,FALSE),\"\")","v":""}]
[null,null,null,"",true,"","","","",{"$f":"IF(B37>0,VLOOKUP(I37,Punkteschema!$A$2:$B$101,2,FALSE),\"\")","v":""}]
[null,null,null,"",true,"","","","",{"$f":"IF(B38>0,VLOOKUP(I38,Punkteschema!$A$2:$B$101,2,FALSE),\"\")","v":""}]
[null,null,null,"",true,"","","","",{"$f":"IF(B39>0,VLOOKUP(I39,Punkteschema!$A$2:$B$101,2,FALSE),\"\")","v":""}]
[null,null,null,"",true,"","","","",{"$f":"IF(B40>0,VLOOKUP(I40,Punkteschema!$A$2:$B$101,2,FALSE),\"\")","v":""}]
[null,null,null,"",true,"","","","",{"$f":"IF(B41>0,VLOOKUP(I41,Punkteschema!$A$2:$B$101,2,FALSE),\"\")","v":""}]
[null,null,null,"",true,"","","","",{"$f":"IF(B42>0,VLOOKUP(I42,Punkteschema!$A$2:$B$101,2,FALSE),\"\")","v":""}]
[null,null,null,"",true,"","","","",{"$f":"IF(B43>0,VLOOKUP(I43,Punkteschema!$A$2:$B$101,2,FALSE),\"\")","v":""}]
[null,null,null,"",true,"","","","",{"$f":"IF(B44>0,VLOOKUP(I44,Punkteschema!$A$2:$B$101,2,FALSE),\"\")","v":""}]
[null,null,null,"",true,"","","","",{"$f":"IF(B45>0,VLOOKUP(I45,Punkteschema!$A$2:$B$101,2,FALSE),\"\")","v":""}]
[null,null,null,"",true,"","","","",{"$f":"IF(B46>0,VLOOKUP(I46,Punkteschema!$A$2:$B$101,2,FALSE),\"\")","v":""}]
[null,null,null,"",true,"","","","",{"$f":"IF(B47>0,VLOOKUP(I47,Punkteschema!$A$2:$B$101,2,FALSE),\"\")","v":""}]
[null,null,null,"",true,"","","","",{"$f":"IF(B48>0,VLOOKUP(I48,Punkteschema!$A$2:$B$101,2,FALSE),\"\")","v":""}]
[null,null,null,"",true,"","","","",{"$f":"IF(B49>0,VLOOKUP(I49,Punkteschema!$A$2:$B$101,2,FALSE),\"\")","v":""}]
[null,null,null,"",true,"","","","",{"$f":"IF(B50>0,VLOOKUP(I50,Punkteschema!$A$2:$B$101,2,FALSE),\"\")","v":""}]
[null,null,null,"",true,"","","","",{"$f":"IF(B51>0,VLOOKUP(I51,Punkteschema!$A$2:$B$101,2,FALSE),\"\")","v":""}]
[null,null,null,"",true,"","","","",{"$f":"IF(B52>0,VLOOKUP(I52,Punkteschema!$A$2:$B$101,2,FALSE),\"\")","v":""}]
[null,null,null,"",true,{"$f":"IF(B53>0,COUNTIF(B$3:B$55,\"<\"&B53)+1,\"\")","v":""},"",{"$f":"IF(AND(B53>0,C53>0),COUNTIF(D$3:D$55,\"<\"&D53)+1,\"\")","v":""},{"$f":"IF(B53>0,IF(E53,MIN(F53:H53),MAX(F53:H53)),\"\")","v":""},{"$f":"IF(B53>0,VLOOKUP(I53,Punkteschema!$A$2:$B$101,2,FALSE),\"\")","v":""}]
[null,null,null,"",true,"","",{"$f":"IF(AND(B54>0,C54>0),COUNTIF(D$3:D$55,\"<\"&D54)+1,\"\")","v":""},{"$f":"IF(B54>0,IF(E54,MIN(F54:H54),MAX(F54:H54)),\"\")","v":""},{"$f":"IF(B54>0,VLOOKUP(I54,Punkteschema!$A$2:$B$101,2,FALSE),\"\")","v":""}]
[null,null,null,"",true,"","",{"$f":"IF(AND(B55>0,C55>0),COUNTIF(D$3:D$55,\"<\"&D55)+1,\"\")","v":""},{"$f":"IF(B55>0,IF(E55,MIN(F55:H55),MAX(F55:H55)),\"\")","v":""},{"$f":"IF(B55>0,VLOOKUP(I55,Punkteschema!$A$2:$B$101,2,FALSE),\"\")","v":""}]
[]
["OS: ",null,null,null,"Runde 1:","E","<- E/B"]
["S: ",null,null,null,"Runde 2:","B","<- E/B"]
["S: "]
[]
["Verloste Preise:"]

{"sheet":"Einzelwertung3","index":3,"n_rows":61,"n_cols":10,"rows_kept":61,"cut":false,"hidden":true,"merged":[[0,0,0,9]]}
[{"$f":"CONCATENATE(\"6. Sommer-Cup - Freizeittreff Herbede - \",TEXT(Gesamtstand!$H$2,\"TT.MM.JJ\"))","v":"6. Sommer-Cup - Freizeittreff Herbede - 20.05.20"}]
["Spieler","Runde 1","Runde 2","Gesamt","bessere?","Pl. R1","Pl. R2","Pl. Ges.","gewertet","Punkte"]
[null,null,null,{"$f":"IF(B3>0,C3+B3,\"\")","v":""},true,{"$f":"IF(B3>0,COUNTIF(B$3:B$55,\"<\"&B3)+1,\"\")","v":""},{"$f":"IF(C3>0,COUNTIF(C$3:C$55,\"<\"&C3)+1,\"\")","v":""},{"$f":"IF(AND(B3>0,C3>0),COUNTIF(D$3:D$55,\"<\"&D3)+1,\"\")","v":""},{"$f":"IF(B3>0,IF(E3,MIN(F3:H3),MAX(F3:H3)),\"\")","v":""},{"$f":"IF(B3>0,VLOOKUP(I3,Punkteschema!$A$2:$B$101,2,FALSE),\"\")","v":""}]
[null,null,null,"",true,"","","","",{"$f":"IF(B4>0,VLOOKUP(I4,Punkteschema!$A$2:$B$101,2,FALSE),\"\")","v":""}]
[null,null,null,"",true,"","","","",{"$f":"IF(B5>0,VLOOKUP(I5,Punkteschema!$A$2:$B$101,2,FALSE),\"\")","v":""}]
[null,null,null,"",true,"","","","",{"$f":"IF(B6>0,VLOOKUP(I6,Punkteschema!$A$2:$B$101,2,FALSE),\"\")","v":""}]
[null,null,null,"",true,"","","","",{"$f":"IF(B7>0,VLOOKUP(I7,Punkteschema!$A$2:$B$101,2,FALSE),\"\")","v":""}]
[null,null,null,"",true,"","","","",{"$f":"IF(B8>0,VLOOKUP(I8,Punkteschema!$A$2:$B$101,2,FALSE),\"\")","v":""}]
[null,null,null,"",true,"","","","",{"$f":"IF(B9>0,VLOOKUP(I9,Punkteschema!$A$2:$B$101,2,FALSE),\"\")","v":""}]
[null,null,null,"",true,"","","","",{"$f":"IF(B10>0,VLOOKUP(I10,Punkteschema!$A$2:$B$101,2,FALSE),\"\")","v":""}]
[null,null,null,"",true,"","","","",{"$f":"IF(B11>0,VLOOKUP(I11,Punkteschema!$A$2:$B$101,2,FALSE),\"\")","v":""}]
[null,null,null,"",true,"","","","",{"$f":"IF(B12>0,VLOOKUP(I12,Punkteschema!$A$2:$B$101,2,FALSE),\"\")","v":""}]
[null,null,null,"",true,"","","","",{"$f":"IF(B13>0,VLOOKUP(I13,Punkteschema!$A$2:$B$101,2,FALSE),\"\")","v":""}]
[null,null,null,"",true,"","","","",{"$f":"IF(B14>0,VLOOKUP(I14,Punkteschema!$A$2:$B$101,2,FALSE),\"\")","v":""}]
[null,null,null,"",true,"","","","",{"$f":"IF(B15>0,VLOOKUP(I15,Punkteschema!$A$2:$B$101,2,FALSE),\"\")","v":""}]
[null,null,null,"",true,"","","","",{"$f":"IF(B16>0,VLOOKUP(I16,Punkteschema!$A$2:$B$101,2,FALSE),\"\")","v":""}]
[null,null,null,"",true,"","","","",{"$f":"IF(B17>0,VLOOKUP(I17,Punkteschema!$A$2:$B$101,2,FALSE),\"\")","v":""}]
[null,null,null,"",true,"","","","",{"$f":"IF(B18>0,VLOOKUP(I18,Punkteschema!$A$2:$B$101,2,FALSE),\"\")","v":""}]
[null,null,null,"",true,"","","","",{"$f":"IF(B19>0,VLOOKUP(I19,Punkteschema!$A$2:$B$101,2,FALSE),\"\")","v":""}]
[null,null,null,"",true,"","","","",{"$f":"IF(B20>0,VLOOKUP(I20,Punkteschema!$A$2:$B$101,2,FALSE),\"\")","v":""}]
[null,null,null,{"$f":"IF(B21>0,C21+B21,\"\")","v":""},true,{"$f":"IF(B21>0,COUNTIF(B$3:B$55,\"<\"&B21)+1,\"\")","v":""},{"$f":"IF(C21>0,COUNTIF(C$3:C$55,\"<\"&C21)+1,\"\")","v":""},{"$f":"IF(AND(B21>0,C21>0),COUNTIF(D$3:D$55,\"<\"&D21)+1,\"\")","v":""},{"$f":"IF(B21>0,IF(E21,MIN(F21:H21),MAX(F21:H21)),\"\")","v":""},{"$f":"IF(B21>0,VLOOKUP(I21,Punkteschema!$A$2:$B$101,2,FALSE),\"\")","v":""}]
[null,null,null,"",true,"","","","",{"$f":"IF(B22>0,VLOOKUP(I22,Punkteschema!$A$2:$B$101,2,FALSE),\"\")","v":""}]
[null,null,null,"",true,"","","","",{"$f":"IF(B23>0,VLOOKUP(I23,Punkteschema!$A$2:$B$101,2,FALSE),\"\")","v":""}]
[null,null,null,{"$f":"IF(B24>0,C24+B24,\"\")","v":""},true,{"$f":"IF(B24>0,COUNTIF(B$3:B$55,\"<\"&B24)+1,\"\")","v":""},"",{"$f":"IF(AND(B24>0,C24>0),COUNTIF(D$3:D$55,\"<\"&D24)+1,\"\")","v":""},{"$f":"IF(B24>0,IF(E24,MIN(F24:H24),MAX(F24:H24)),\"\")","v":""},{"$f":"IF(B24>0,VLOOKUP(I24,Punkteschema!$A$2:$B$101,2,FALSE),\"\")","v":""}]
[null,null,null,"",true,"","","","",{"$f":"IF(B25>0,VLOOKUP(I25,Punkteschema!$A$2:$B$101,2,FALSE),\"\")","v":""}]
[null,null,null,"",true,"","","","",{"$f":"IF(B26>0,VLOOKUP(I26,Punkteschema!$A$2:$B$101,2,FALSE),\"\")","v":""}]
[null,null,null,"",true,"","","","",{"$f":"IF(B27>0,VLOOKUP(I27,Punkteschema!$A$2:$B$101,2,FALSE),\"\")","v":""}]
[null,null,null,"",true,"","","","",{"$f":"IF(B28>0,VLOOKUP(I28,Punkteschema!$A$2:$B$101,2,FALSE),\"\")","v":""}]
[null,null,null,"",true,"","","","",{"$f":"IF(B29>0,VLOOKUP(I29,Punkteschema!$A$2:$B$101,2,FALSE),\"\")","v":""}]
[null,null,null,"",true,"","","","",{"$f":"IF(B30>0,VLOOKUP(I30,Punkteschema!$A$2:$B$101,2,FALSE),\"\")","v":""}]
[null,null,null,"",true,"","","","",{"$f":"IF(B31>0,VLOOKUP(I31,Punkteschema!$A$2:$B$101,2,FALSE),\"\")","v":""}]
[null,null,null,"",true,"","","","",{"$f":"IF(B32>0,VLOOKUP(I32,Punkteschema!$A$2:$B$101,2,FALSE),\"\")","v":""}]
[null,null,null,"",true,"","","","",{"$f":"IF(B33>0,VLOOKUP(I33,Punkteschema!$A$2:$B$101,2,FALSE),\"\")","v":""}]
[null,null,null,"",true,"","","","",{"$f":"IF(B34>0,VLOOKUP(I34,Punkteschema!$A$2:$B$101,2,FALSE),\"\")","v":""}]
[null,null,null,"",true,"","","","",{"$f":"IF(B35>0,VLOOKUP(I35,Punkteschema!$A$2:$B$101,2,FALSE),\"\")","v":""}]
[null,null,null,"",true,"","","","",{"$f":"IF(B36>0,VLOOKUP(I36,Punkteschema!$A$2:$B$101,2,FALSE),\"\")","v":""}]
[null,null,null,"",true,"","","","",{"$f":"IF(B37>0,VLOOKUP(I37,Punkteschema!$A$2:$B$101,2,FALSE),\"\")","v":""}]
[null,null,null,"",true,"","","","",{"$f":"IF(B38>0,VLOOKUP(I38,Punkteschema!$A$2:$B$101,2,FALSE),\"\")","v":""}]
[null,null,null,"",true,"","","","",{"$f":"IF(B39>0,VLOOKUP(I39,Punkteschema!$A$2:$B$101,2,FALSE),\"\")","v":""}]
[null,null,null,"",true,"","","","",{"$f":"IF(B40>0,VLOOKUP(I40,Punkteschema!$A$2:$B$101,2,FALSE),\"\")","v":""}]
[null,null,null,"",true,"","","","",{"$f":"IF(B41>0,VLOOKUP(I41,Punkteschema!$A$2:$B$101,2,FALSE),\"\")","v":""}]
[null,null,null,"",true,"","","","",{"$f":"IF(B42>0,VLOOKUP(I42,Punkteschema!$A$2:$B$101,2,FALSE),\"\")","v":""}]
[null,null,null,"",true,"","","","",{"$f":"IF(B43>0,VLOOKUP(I43,Punkteschema!$A$2:$B$101,2,FALSE),\"\")","v":""}]
[null,null,null,"",true,"","","","",{"$f":"IF(B44>0,VLOOKUP(I44,Punkteschema!$A$2:$B$101,2,FALSE),\"\")","v":""}]
[null,null,null,"",true,"","","","",{"$f":"IF(B45>0,VLOOKUP(I45,Punkteschema!$A$2:$B$101,2,FALSE),\"\")","v":""}]
[null,null,null,"",true,"","","","",{"$f":"IF(B46>0,VLOOKUP(I46,Punkteschema!$A$2:$B$101,2,FALSE),\"\")","v":""}]
[null,null,null,"",true,"","","","",{"$f":"IF(B47>0,VLOOKUP(I47,Punkteschema!$A$2:$B$101,2,FALSE),\"\")","v":""}]
[null,null,null,"",true,"","","","",{"$f":"IF(B48>0,VLOOKUP(I48,Punkteschema!$A$2:$B$101,2,FALSE),\"\")","v":""}]
[null,null,null,"",true,"","","","",{"$f":"IF(B49>0,VLOOKUP(I49,Punkteschema!$A$2:$B$101,2,FALSE),\"\")","v":""}]
[null,null,null,"",true,"","","","",{"$f":"IF(B50>0,VLOOKUP(I50,Punkteschema!$A$2:$B$101,2,FALSE),\"\")","v":""}]
[null,null,null,"",true,"","","","",{"$f":"IF(B51>0,VLOOKUP(I51,Punkteschema!$A$2:$B$101,2,FALSE),\"\")","v":""}]
[null,null,null,"",true,"","","","",{"$f":"IF(B52>0,VLOOKUP(I52,Punkteschema!$A$2:$B$101,2,FALSE),\"\")","v":""}]
[null,null,null,"",true,{"$f":"IF(B53>0,COUNTIF(B$3:B$55,\"<\"&B53)+1,\"\")","v":""},"",{"$f":"IF(AND(B53>0,C53>0),COUNTIF(D$3:D$55,\"<\"&D53)+1,\"\")","v":""},{"$f":"IF(B53>0,IF(E53,MIN(F53:H53),MAX(F53:H53)),\"\")","v":""},{"$f":"IF(B53>0,VLOOKUP(I53,Punkteschema!$A$2:$B$101,2,FALSE),\"\")","v":""}]
[null,null,null,"",true,"","",{"$f":"IF(AND(B54>0,C54>0),COUNTIF(D$3:D$55,\"<\"&D54)+1,\"\")","v":""},{"$f":"IF(B54>0,IF(E54,MIN(F54:H54),MAX(F54:H54)),\"\")","v":""},{"$f":"IF(B54>0,VLOOKUP(I54,Punkteschema!$A$2:$B$101,2,FALSE),\"\")","v":""}]
[null,null,null,"",true,"","",{"$f":"IF(AND(B55>0,C55>0),COUNTIF(D$3:D$55,\"<\"&D55)+1,\"\")","v":""},{"$f":"IF(B55>0,IF(E55,MIN(F55:H55),MAX(F55:H55)),\"\")","v":""},{"$f":"IF(B55>0,VLOOKUP(I55,Punkteschema!$A$2:$B$101,2,FALSE),\"\")","v":""}]
[]
["OS: ",null,null,null,"Runde 1:","E","<- E/B"]
["S: ",null,null,null,"Runde 2:","B","<- E/B"]
["S: "]
[]
["Verloste Preise: "]

{"sheet":"Einzelwertung4","index":4,"n_rows":61,"n_cols":10,"rows_kept":61,"cut":false,"hidden":true,"merged":[[0,0,0,9]]}
[{"$f":"CONCATENATE(\"6. Sommer-Cup - Freizeittreff Herbede - \",TEXT(Gesamtstand!$I$2,\"TT.MM.JJ\"))","v":"6. Sommer-Cup - Freizeittreff Herbede - 28.05.20"}]
["Spieler","Runde 1","Runde 2","Gesamt","bessere?","Pl. R1","Pl. R2","Pl. Ges.","gewertet","Punkte"]
[null,null,null,{"$f":"IF(B3>0,C3+B3,\"\")","v":""},true,{"$f":"IF(B3>0,COUNTIF(B$3:B$55,\"<\"&B3)+1,\"\")","v":""},{"$f":"IF(C3>0,COUNTIF(C$3:C$55,\"<\"&C3)+1,\"\")","v":""},{"$f":"IF(AND(B3>0,C3>0),COUNTIF(D$3:D$55,\"<\"&D3)+1,\"\")","v":""},{"$f":"IF(B3>0,IF(E3,MIN(F3:H3),MAX(F3:H3)),\"\")","v":""},{"$f":"IF(B3>0,VLOOKUP(I3,Punkteschema!$A$2:$B$101,2,FALSE),\"\")","v":""}]
[null,null,null,{"$f":"IF(B4>0,C4+B4,\"\")","v":""},true,"","","","",{"$f":"IF(B4>0,VLOOKUP(I4,Punkteschema!$A$2:$B$101,2,FALSE),\"\")","v":""}]
[null,null,null,"<",true,"","","","",{"$f":"IF(B5>0,VLOOKUP(I5,Punkteschema!$A$2:$B$101,2,FALSE),\"\")","v":""}]
[null,null,null,{"$f":"IF(B6>0,C6+B6,\"\")","v":""},true,"","","","",{"$f":"IF(B6>0,VLOOKUP(I6,Punkteschema!$A$2:$B$101,2,FALSE),\"\")","v":""}]
[null,null,null,"",true,"","","","",{"$f":"IF(B7>0,VLOOKUP(I7,Punkteschema!$A$2:$B$101,2,FALSE),\"\")","v":""}]
[null,null,null,"",true,"","","","",{"$f":"IF(B8>0,VLOOKUP(I8,Punkteschema!$A$2:$B$101,2,FALSE),\"\")","v":""}]
[null,null,null,"",true,"","","","",{"$f":"IF(B9>0,VLOOKUP(I9,Punkteschema!$A$2:$B$101,2,FALSE),\"\")","v":""}]
[null,null,null,"",true,"","","","",{"$f":"IF(B10>0,VLOOKUP(I10,Punkteschema!$A$2:$B$101,2,FALSE),\"\")","v":""}]
[null,null,null,"",true,"","","","",{"$f":"IF(B11>0,VLOOKUP(I11,Punkteschema!$A$2:$B$101,2,FALSE),\"\")","v":""}]
[null,null,null,"",true,"","","","",{"$f":"IF(B12>0,VLOOKUP(I12,Punkteschema!$A$2:$B$101,2,FALSE),\"\")","v":""}]
[null,null,null,"",true,"","","","",{"$f":"IF(B13>0,VLOOKUP(I13,Punkteschema!$A$2:$B$101,2,FALSE),\"\")","v":""}]
[null,null,null,"",true,"","","","",{"$f":"IF(B14>0,VLOOKUP(I14,Punkteschema!$A$2:$B$101,2,FALSE),\"\")","v":""}]
[null,null,null,"",true,"","","","",{"$f":"IF(B15>0,VLOOKUP(I15,Punkteschema!$A$2:$B$101,2,FALSE),\"\")","v":""}]
[null,null,null,"",true,"","","","",{"$f":"IF(B16>0,VLOOKUP(I16,Punkteschema!$A$2:$B$101,2,FALSE),\"\")","v":""}]
[null,null,null,"",true,"","","","",{"$f":"IF(B17>0,VLOOKUP(I17,Punkteschema!$A$2:$B$101,2,FALSE),\"\")","v":""}]
[null,null,null,"",true,"","","","",{"$f":"IF(B18>0,VLOOKUP(I18,Punkteschema!$A$2:$B$101,2,FALSE),\"\")","v":""}]
[null,null,null,{"$f":"IF(B19>0,C19+B19,\"\")","v":""},true,{"$f":"IF(B19>0,COUNTIF(B$3:B$55,\"<\"&B19)+1,\"\")","v":""},{"$f":"IF(C19>0,COUNTIF(C$3:C$55,\"<\"&C19)+1,\"\")","v":""},{"$f":"IF(AND(B19>0,C19>0),COUNTIF(D$3:D$55,\"<\"&D19)+1,\"\")","v":""},{"$f":"IF(B19>0,IF(E19,MIN(F19:H19),MAX(F19:H19)),\"\")","v":""},{"$f":"IF(B19>0,VLOOKUP(I19,Punkteschema!$A$2:$B$101,2,FALSE),\"\")","v":""}]
[null,null,null,"",true,"","","","",{"$f":"IF(B20>0,VLOOKUP(I20,Punkteschema!$A$2:$B$101,2,FALSE),\"\")","v":""}]
[null,null,null,"",true,"","","","",{"$f":"IF(B21>0,VLOOKUP(I21,Punkteschema!$A$2:$B$101,2,FALSE),\"\")","v":""}]
[null,null,null,"",true,"","","","",{"$f":"IF(B22>0,VLOOKUP(I22,Punkteschema!$A$2:$B$101,2,FALSE),\"\")","v":""}]
[null,null,null,"",true,"","","","",{"$f":"IF(B23>0,VLOOKUP(I23,Punkteschema!$A$2:$B$101,2,FALSE),\"\")","v":""}]
[null,null,null,{"$f":"IF(B24>0,C24+B24,\"\")","v":""},true,{"$f":"IF(B24>0,COUNTIF(B$3:B$55,\"<\"&B24)+1,\"\")","v":""},"",{"$f":"IF(AND(B24>0,C24>0),COUNTIF(D$3:D$55,\"<\"&D24)+1,\"\")","v":""},{"$f":"IF(B24>0,IF(E24,MIN(F24:H24),MAX(F24:H24)),\"\")","v":""},{"$f":"IF(B24>0,VLOOKUP(I24,Punkteschema!$A$2:$B$101,2,FALSE),\"\")","v":""}]
[null,null,null,"",true,"","","","",{"$f":"IF(B25>0,VLOOKUP(I25,Punkteschema!$A$2:$B$101,2,FALSE),\"\")","v":""}]
[null,null,null,"",true,"","","","",{"$f":"IF(B26>0,VLOOKUP(I26,Punkteschema!$A$2:$B$101,2,FALSE),\"\")","v":""}]
[null,null,null,"",true,"","","","",{"$f":"IF(B27>0,VLOOKUP(I27,Punkteschema!$A$2:$B$101,2,FALSE),\"\")","v":""}]
[null,null,null,"",true,"","","","",{"$f":"IF(B28>0,VLOOKUP(I28,Punkteschema!$A$2:$B$101,2,FALSE),\"\")","v":""}]
[null,null,null,"",true,"","","","",{"$f":"IF(B29>0,VLOOKUP(I29,Punkteschema!$A$2:$B$101,2,FALSE),\"\")","v":""}]
[null,null,null,"",true,"","","","",{"$f":"IF(B30>0,VLOOKUP(I30,Punkteschema!$A$2:$B$101,2,FALSE),\"\")","v":""}]
[null,null,null,"",true,"","","","",{"$f":"IF(B31>0,VLOOKUP(I31,Punkteschema!$A$2:$B$101,2,FALSE),\"\")","v":""}]
[null,null,null,"",true,"","","","",{"$f":"IF(B32>0,VLOOKUP(I32,Punkteschema!$A$2:$B$101,2,FALSE),\"\")","v":""}]
[null,null,null,"",true,"","","","",{"$f":"IF(B33>0,VLOOKUP(I33,Punkteschema!$A$2:$B$101,2,FALSE),\"\")","v":""}]
[null,null,null,"",true,"","","","",{"$f":"IF(B34>0,VLOOKUP(I34,Punkteschema!$A$2:$B$101,2,FALSE),\"\")","v":""}]
[null,null,null,"",true,"","","","",{"$f":"IF(B35>0,VLOOKUP(I35,Punkteschema!$A$2:$B$101,2,FALSE),\"\")","v":""}]
[null,null,null,"",true,"","","","",{"$f":"IF(B36>0,VLOOKUP(I36,Punkteschema!$A$2:$B$101,2,FALSE),\"\")","v":""}]
[null,null,null,"",true,"","","","",{"$f":"IF(B37>0,VLOOKUP(I37,Punkteschema!$A$2:$B$101,2,FALSE),\"\")","v":""}]
[null,null,null,"",true,"","","","",{"$f":"IF(B38>0,VLOOKUP(I38,Punkteschema!$A$2:$B$101,2,FALSE),\"\")","v":""}]
[null,null,null,"",true,"","","","",{"$f":"IF(B39>0,VLOOKUP(I39,Punkteschema!$A$2:$B$101,2,FALSE),\"\")","v":""}]
[null,null,null,"",true,"","","","",{"$f":"IF(B40>0,VLOOKUP(I40,Punkteschema!$A$2:$B$101,2,FALSE),\"\")","v":""}]
[null,null,null,"",true,"","","","",{"$f":"IF(B41>0,VLOOKUP(I41,Punkteschema!$A$2:$B$101,2,FALSE),\"\")","v":""}]
[null,null,null,"",true,"","","","",{"$f":"IF(B42>0,VLOOKUP(I42,Punkteschema!$A$2:$B$101,2,FALSE),\"\")","v":""}]
[null,null,null,"",true,"","","","",{"$f":"IF(B43>0,VLOOKUP(I43,Punkteschema!$A$2:$B$101,2,FALSE),\"\")","v":""}]
[null,null,null,"",true,"","","","",{"$f":"IF(B44>0,VLOOKUP(I44,Punkteschema!$A$2:$B$101,2,FALSE),\"\")","v":""}]
[null,null,null,"",true,"","","","",{"$f":"IF(B45>0,VLOOKUP(I45,Punkteschema!$A$2:$B$101,2,FALSE),\"\")","v":""}]
[null,null,null,"",true,"","","","",{"$f":"IF(B46>0,VLOOKUP(I46,Punkteschema!$A$2:$B$101,2,FALSE),\"\")","v":""}]
[null,null,null,"",true,"","","","",{"$f":"IF(B47>0,VLOOKUP(I47,Punkteschema!$A$2:$B$101,2,FALSE),\"\")","v":""}]
[null,null,null,"",true,"","","","",{"$f":"IF(B48>0,VLOOKUP(I48,Punkteschema!$A$2:$B$101,2,FALSE),\"\")","v":""}]
[null,null,null,"",true,"","","","",{"$f":"IF(B49>0,VLOOKUP(I49,Punkteschema!$A$2:$B$101,2,FALSE),\"\")","v":""}]
[null,null,null,"",true,"","","","",{"$f":"IF(B50>0,VLOOKUP(I50,Punkteschema!$A$2:$B$101,2,FALSE),\"\")","v":""}]
[null,null,null,"",true,"","","","",{"$f":"IF(B51>0,VLOOKUP(I51,Punkteschema!$A$2:$B$101,2,FALSE),\"\")","v":""}]
[null,null,null,"",true,"","","","",{"$f":"IF(B52>0,VLOOKUP(I52,Punkteschema!$A$2:$B$101,2,FALSE),\"\")","v":""}]
[null,null,null,"",true,{"$f":"IF(B53>0,COUNTIF(B$3:B$55,\"<\"&B53)+1,\"\")","v":""},"",{"$f":"IF(AND(B53>0,C53>0),COUNTIF(D$3:D$55,\"<\"&D53)+1,\"\")","v":""},{"$f":"IF(B53>0,IF(E53,MIN(F53:H53),MAX(F53:H53)),\"\")","v":""},{"$f":"IF(B53>0,VLOOKUP(I53,Punkteschema!$A$2:$B$101,2,FALSE),\"\")","v":""}]
[null,null,null,"",true,"","",{"$f":"IF(AND(B54>0,C54>0),COUNTIF(D$3:D$55,\"<\"&D54)+1,\"\")","v":""},{"$f":"IF(B54>0,IF(E54,MIN(F54:H54),MAX(F54:H54)),\"\")","v":""},{"$f":"IF(B54>0,VLOOKUP(I54,Punkteschema!$A$2:$B$101,2,FALSE),\"\")","v":""}]
[null,null,null,"",true,"","",{"$f":"IF(AND(B55>0,C55>0),COUNTIF(D$3:D$55,\"<\"&D55)+1,\"\")","v":""},{"$f":"IF(B55>0,IF(E55,MIN(F55:H55),MAX(F55:H55)),\"\")","v":""},{"$f":"IF(B55>0,VLOOKUP(I55,Punkteschema!$A$2:$B$101,2,FALSE),\"\")","v":""}]
[]
["OS: ",null,null,null,"Runde 1:","E","<- E/B"]
["S: ",null,null,null,"Runde 2:","B","<- E/B"]
["S: "]
[]
["Verloste Preise: "]

{"sheet":"Einzelwertung5","index":5,"n_rows":61,"n_cols":10,"rows_kept":61,"cut":false,"hidden":true,"merged":[[0,0,0,9]]}
[{"$f":"CONCATENATE(\"6. Sommer-Cup - Freizeittreff Herbede - \",TEXT(Gesamtstand!$J$2,\"TT.MM.JJ\"))","v":"6. Sommer-Cup - Freizeittreff Herbede - 04.06.20"}]
["Spieler","Runde 1","Runde 2","Gesamt","bessere?","Pl. R1","Pl. R2","Pl. Ges.","gewertet","Punkte"]
[null,null,null,{"$f":"IF(B3>0,C3+B3,\"\")","v":""},true,{"$f":"IF(B3>0,COUNTIF(B$3:B$55,\"<\"&B3)+1,\"\")","v":""},{"$f":"IF(C3>0,COUNTIF(C$3:C$55,\"<\"&C3)+1,\"\")","v":""},{"$f":"IF(AND(B3>0,C3>0),COUNTIF(D$3:D$55,\"<\"&D3)+1,\"\")","v":""},{"$f":"IF(B3>0,IF(E3,MIN(F3:H3),MAX(F3:H3)),\"\")","v":""},{"$f":"IF(B3>0,VLOOKUP(I3,Punkteschema!$A$2:$B$101,2,FALSE),\"\")","v":""}]
[null,null,null,"",true,"","","","",{"$f":"IF(B4>0,VLOOKUP(I4,Punkteschema!$A$2:$B$101,2,FALSE),\"\")","v":""}]
[null,null,null,"",true,"","","","",{"$f":"IF(B5>0,VLOOKUP(I5,Punkteschema!$A$2:$B$101,2,FALSE),\"\")","v":""}]
[null,null,null,"",true,"","","","",{"$f":"IF(B6>0,VLOOKUP(I6,Punkteschema!$A$2:$B$101,2,FALSE),\"\")","v":""}]
[null,null,null,"",true,"","","","",{"$f":"IF(B7>0,VLOOKUP(I7,Punkteschema!$A$2:$B$101,2,FALSE),\"\")","v":""}]
[null,null,null,"",true,"","","","",{"$f":"IF(B8>0,VLOOKUP(I8,Punkteschema!$A$2:$B$101,2,FALSE),\"\")","v":""}]
[null,null,null,"",true,"","","","",{"$f":"IF(B9>0,VLOOKUP(I9,Punkteschema!$A$2:$B$101,2,FALSE),\"\")","v":""}]
[null,null,null,"",true,"","","","",{"$f":"IF(B10>0,VLOOKUP(I10,Punkteschema!$A$2:$B$101,2,FALSE),\"\")","v":""}]
[null,null,null,"",true,"","","","",{"$f":"IF(B11>0,VLOOKUP(I11,Punkteschema!$A$2:$B$101,2,FALSE),\"\")","v":""}]
[null,null,null,"",true,"","","","",{"$f":"IF(B12>0,VLOOKUP(I12,Punkteschema!$A$2:$B$101,2,FALSE),\"\")","v":""}]
[null,null,null,"",true,"","","","",{"$f":"IF(B13>0,VLOOKUP(I13,Punkteschema!$A$2:$B$101,2,FALSE),\"\")","v":""}]
[null,null,null,"",true,"","","","",{"$f":"IF(B14>0,VLOOKUP(I14,Punkteschema!$A$2:$B$101,2,FALSE),\"\")","v":""}]
[null,null,null,"",true,"","","","",{"$f":"IF(B15>0,VLOOKUP(I15,Punkteschema!$A$2:$B$101,2,FALSE),\"\")","v":""}]
[null,null,null,"",true,"","","","",{"$f":"IF(B16>0,VLOOKUP(I16,Punkteschema!$A$2:$B$101,2,FALSE),\"\")","v":""}]
[null,null,null,"",true,"","","","",{"$f":"IF(B17>0,VLOOKUP(I17,Punkteschema!$A$2:$B$101,2,FALSE),\"\")","v":""}]
[null,null,null,"",true,"","","","",{"$f":"IF(B18>0,VLOOKUP(I18,Punkteschema!$A$2:$B$101,2,FALSE),\"\")","v":""}]
[null,null,null,"",true,"","","","",{"$f":"IF(B19>0,VLOOKUP(I19,Punkteschema!$A$2:$B$101,2,FALSE),\"\")","v":""}]
[null,null,null,"",true,"","","","",{"$f":"IF(B20>0,VLOOKUP(I20,Punkteschema!$A$2:$B$101,2,FALSE),\"\")","v":""}]
[null,null,null,"",true,"","","","",{"$f":"IF(B21>0,VLOOKUP(I21,Punkteschema!$A$2:$B$101,2,FALSE),\"\")","v":""}]
[null,null,null,"",true,"","","","",{"$f":"IF(B22>0,VLOOKUP(I22,Punkteschema!$A$2:$B$101,2,FALSE),\"\")","v":""}]
[null,null,null,{"$f":"IF(B23>0,C23+B23,\"\")","v":""},true,"","","",{"$f":"IF(B23>0,IF(E23,MIN(F23:H23),MAX(F23:H23)),\"\")","v":""},{"$f":"IF(B23>0,VLOOKUP(I23,Punkteschema!$A$2:$B$101,2,FALSE),\"\")","v":""}]
[null,null,null,"",true,"","","","",{"$f":"IF(B24>0,VLOOKUP(I24,Punkteschema!$A$2:$B$101,2,FALSE),\"\")","v":""}]
[null,null,null,"",true,"","","","",{"$f":"IF(B25>0,VLOOKUP(I25,Punkteschema!$A$2:$B$101,2,FALSE),\"\")","v":""}]
[null,null,null,"",true,"","","","",{"$f":"IF(B26>0,VLOOKUP(I26,Punkteschema!$A$2:$B$101,2,FALSE),\"\")","v":""}]
[null,null,null,"",true,"","","","",{"$f":"IF(B27>0,VLOOKUP(I27,Punkteschema!$A$2:$B$101,2,FALSE),\"\")","v":""}]
[null,null,null,"",true,"","","","",{"$f":"IF(B28>0,VLOOKUP(I28,Punkteschema!$A$2:$B$101,2,FALSE),\"\")","v":""}]
[null,null,null,{"$f":"IF(B29>0,C29+B29,\"\")","v":""},true,"","","",{"$f":"IF(B29>0,IF(E29,MIN(F29:H29),MAX(F29:H29)),\"\")","v":""},{"$f":"IF(B29>0,VLOOKUP(I29,Punkteschema!$A$2:$B$101,2,FALSE),\"\")","v":""}]
[null,null,null,"",true,"","","","",{"$f":"IF(B30>0,VLOOKUP(I30,Punkteschema!$A$2:$B$101,2,FALSE),\"\")","v":""}]
[null,null,null,"",true,"","","","",{"$f":"IF(B31>0,VLOOKUP(I31,Punkteschema!$A$2:$B$101,2,FALSE),\"\")","v":""}]
[null,null,null,"",true,"","","","",{"$f":"IF(B32>0,VLOOKUP(I32,Punkteschema!$A$2:$B$101,2,FALSE),\"\")","v":""}]
[null,null,null,"",true,"","","","",{"$f":"IF(B33>0,VLOOKUP(I33,Punkteschema!$A$2:$B$101,2,FALSE),\"\")","v":""}]
[null,null,null,"",true,"","","","",{"$f":"IF(B34>0,VLOOKUP(I34,Punkteschema!$A$2:$B$101,2,FALSE),\"\")","v":""}]
[null,null,null,"",true,{"$f":"IF(B35>0,COUNTIF(B$3:B$55,\"<\"&B35)+1,\"\")","v":""},{"$f":"IF(C35>0,COUNTIF(C$3:C$55,\"<\"&C35)+1,\"\")","v":""},{"$f":"IF(AND(B35>0,C35>0),COUNTIF(D$3:D$55,\"<\"&D35)+1,\"\")","v":""},"",{"$f":"IF(B35>0,VLOOKUP(I35,Punkteschema!$A$2:$B$101,2,FALSE),\"\")","v":""}]
[null,null,null,"",true,"","","","",{"$f":"IF(B36>0,VLOOKUP(I36,Punkteschema!$A$2:$B$101,2,FALSE),\"\")","v":""}]
[null,null,null,"",true,"","","","",{"$f":"IF(B37>0,VLOOKUP(I37,Punkteschema!$A$2:$B$101,2,FALSE),\"\")","v":""}]
[null,null,null,"",true,"","","","",{"$f":"IF(B38>0,VLOOKUP(I38,Punkteschema!$A$2:$B$101,2,FALSE),\"\")","v":""}]
[null,null,null,"",true,"","","","",{"$f":"IF(B39>0,VLOOKUP(I39,Punkteschema!$A$2:$B$101,2,FALSE),\"\")","v":""}]
[null,null,null,"",true,"","","","",{"$f":"IF(B40>0,VLOOKUP(I40,Punkteschema!$A$2:$B$101,2,FALSE),\"\")","v":""}]
[null,null,null,"",true,"","","","",{"$f":"IF(B41>0,VLOOKUP(I41,Punkteschema!$A$2:$B$101,2,FALSE),\"\")","v":""}]
[null,null,null,"",true,"","","","",{"$f":"IF(B42>0,VLOOKUP(I42,Punkteschema!$A$2:$B$101,2,FALSE),\"\")","v":""}]
[null,null,null,"",true,"","","","",{"$f":"IF(B43>0,VLOOKUP(I43,Punkteschema!$A$2:$B$101,2,FALSE),\"\")","v":""}]
[null,null,null,"",true,"","","","",{"$f":"IF(B44>0,VLOOKUP(I44,Punkteschema!$A$2:$B$101,2,FALSE),\"\")","v":""}]
[null,null,null,"",true,"","","","",{"$f":"IF(B45>0,VLOOKUP(I45,Punkteschema!$A$2:$B$101,2,FALSE),\"\")","v":""}]
[null,null,null,"",true,"","","","",{"$f":"IF(B46>0,VLOOKUP(I46,Punkteschema!$A$2:$B$101,2,FALSE),\"\")","v":""}]
[null,null,null,"",true,"","","","",{"$f":"IF(B47>0,VLOOKUP(I47,Punkteschema!$A$2:$B$101,2,FALSE),\"\")","v":""}]
[null,null,null,"",true,"","","","",{"$f":"IF(B48>0,VLOOKUP(I48,Punkteschema!$A$2:$B$101,2,FALSE),\"\")","v":""}]
[null,null,null,"",true,"","","","",{"$f":"IF(B49>0,VLOOKUP(I49,Punkteschema!$A$2:$B$101,2,FALSE),\"\")","v":""}]
[null,null,null,"",true,"","","","",{"$f":"IF(B50>0,VLOOKUP(I50,Punkteschema!$A$2:$B$101,2,FALSE),\"\")","v":""}]
[null,null,null,"",true,"","","","",{"$f":"IF(B51>0,VLOOKUP(I51,Punkteschema!$A$2:$B$101,2,FALSE),\"\")","v":""}]
[null,null,null,"",true,"","","","",{"$f":"IF(B52>0,VLOOKUP(I52,Punkteschema!$A$2:$B$101,2,FALSE),\"\")","v":""}]
[null,null,null,"",true,"","","",{"$f":"IF(B53>0,IF(E53,MIN(F53:H53),MAX(F53:H53)),\"\")","v":""},{"$f":"IF(B53>0,VLOOKUP(I53,Punkteschema!$A$2:$B$101,2,FALSE),\"\")","v":""}]
[null,null,null,"",true,"","","",{"$f":"IF(B54>0,IF(E54,MIN(F54:H54),MAX(F54:H54)),\"\")","v":""},{"$f":"IF(B54>0,VLOOKUP(I54,Punkteschema!$A$2:$B$101,2,FALSE),\"\")","v":""}]
[null,null,null,"",true,"","","",{"$f":"IF(B55>0,IF(E55,MIN(F55:H55),MAX(F55:H55)),\"\")","v":""},{"$f":"IF(B55>0,VLOOKUP(I55,Punkteschema!$A$2:$B$101,2,FALSE),\"\")","v":""}]
[]
["OS: ",null,null,null,"Runde 1:","E","<- E/B"]
["S: ",null,null,null,"Runde 2:","B","<- E/B"]
["S: "]
[]
["Verloste Preise: "]

{"sheet":"Gesamtstand","index":6,"n_rows":42,"n_cols":26,"rows_kept":42,"cut":false,"hidden":false,"merged":[[0,1,0,23],[41,1,41,4]]}
[null,"Sommer-Cup 2020 im Freizeittreff Herbede - Gesamtstand"]
["Pl.","Spieler","Verein","Passnr.","Kat.","2020-05-07",{"$f":"F2+7","v":"2020-05-14"},{"$f":"G2+6","v":"2020-05-20"},{"$f":"H2+8","v":"2020-05-28"},{"$f":"I2+7","v":"2020-06-04"},{"$f":"J2+6","v":"2020-06-10"},{"$f":"K2+8","v":"2020-06-18"},"2020-06-25","2020-07-02","2020-07-09","2020-07-16","2020-07-23","2020-07-30","2020-08-06","2020-08-13","2020-08-20","2020-08-27","2020-09-03","Pkt. ges.","Starts","Startgeld"]
[1,"Battig, Wolfgang",{"$f":"VLOOKUP($B3,Teilnehmer!$A$3:$E$127,2,FALSE)","v":"Lüd."},{"$f":"VLOOKUP($B3,Teilnehmer!$A$3:$E$127,3,FALSE)","v":23741},{"$f":"VLOOKUP($B3,Teilnehmer!$A$3:$E$127,4,FALSE)","v":"SM1"},{"$f":"SUMIF(Einzelwertung1!$A$3:$A$55,$B3,Einzelwertung1!$J$3:$J$55)+0.017","v":1.7000000000000001E-2},{"$f":"SUMIF(Einzelwertung2!$A$3:$A$55,$B3,Einzelwertung2!$J$3:$J$55)+0.016","v":1.6E-2},{"$f":"SUMIF(Einzelwertung3!$A$3:$A$55,$B3,Einzelwertung3!$J$3:$J$55)+0.015","v":1.4999999999999999E-2},{"$f":"SUMIF(Einzelwertung4!$A$3:$A$55,$B3,Einzelwertung4!$J$3:$J$55)+0.014","v":1.4E-2},{"$f":"SUMIF(Einzelwertung5!$A$3:$A$55,$B3,Einzelwertung5!$J$3:$J$55)+0.013","v":1.2999999999999999E-2},{"$f":"SUMIF(Einzelwertung6!$A$3:$A$55,$B3,Einzelwertung6!$J$3:$J$55)+0.012","v":25.012},{"$f":"SUMIF(Einzelwertung7!$A$3:$A$55,$B3,Einzelwertung7!$J$3:$J$55)+0.011","v":5.0110000000000001},{"$f":"SUMIF(Einzelwertung8!$A$3:$A$55,$B3,Einzelwertung8!$J$3:$J$55)+0.01","v":15.01},{"$f":"SUMIF(Einzelwertung9!$A$3:$A$55,$B3,Einzelwertung9!$J$3:$J$55)+0.009","v":21.009},{"$f":"SUMIF(Einzelwertung10!$A$3:$A$55,$B3,Einzelwertung10!$J$3:$J$55)+0.008","v":8.0000000000000002E-3},{"$f":"SUMIF(Einzelwertung11!$A$3:$A$55,$B3,Einzelwertung11!$J$3:$J$55)+0.007","v":18.007000000000001},{"$f":"SUMIF(Einzelwertung12!$A$3:$A$55,$B3,Einzelwertung12!$J$3:$J$55)+0.006","v":25.006},{"$f":"SUMIF(Einzelwertung13!$A$3:$A$55,$B3,Einzelwertung13!$J$3:$J$55)+0.005","v":5.0049999999999999},{"$f":"SUMIF(Einzelwertung14!$A$3:$A$55,$B3,Einzelwertung14!$J$3:$J$55)+0.004","v":15.004},{"$f":"SUMIF(Einzelwertung15!$A$3:$A$67,$B3,Einzelwertung15!$J$3:$J$67)+0.003","v":25.003},{"$f":"SUMIF(Einzelwertung16!$A$3:$A$55,$B3,Einzelwertung16!$J$3:$J$55)+0.002","v":21.001999999999999},{"$f":"SUMIF(Einzelwertung17!$A$3:$A$55,$B3,Einzelwertung17!$J$3:$J$55)+0.001","v":1E-3},{"$f":"SUMIF(Einzelwertung18!$A$3:$A$55,$B3,Einzelwertung18!$J$3:$J$55)+0","v":0},{"$f":"INT(IF(COUNTIF(F3:W3,CONCATENATE(\">\",1/10))<=Hilfe!$A$1,SUM(F3:W3),SUMIF(F3:W3,CONCATENATE(\">=\",LARGE(F3:W3,Hilfe!$A$1)),F3:W3)))","v":165},{"$f":"COUNTIF(E3:W3,\">1\")","v":10},{"$f":"IF(ISERROR(SEARCH(CONCATENATE(\" \",E3,\" \"),\" JM JW SCHM SCHW \")),5,2.5)*Y3","v":50}]
[2,"Urban, Volker",{"$f":"VLOOKUP($B4,Teilnehmer!$A$3:$E$127,2,FALSE)","v":"ASW"},{"$f":"VLOOKUP($B4,Teilnehmer!$A$3:$E$127,3,FALSE)","v":35604},{"$f":"VLOOKUP($B4,Teilnehmer!$A$3:$E$127,4,FALSE)","v":"SM1"},{"$f":"SUMIF(Einzelwertung1!$A$3:$A$55,$B4,Einzelwertung1!$J$3:$J$55)+0.017","v":1.7000000000000001E-2},{"$f":"SUMIF(Einzelwertung2!$A$3:$A$55,$B4,Einzelwertung2!$J$3:$J$55)+0.016","v":1.6E-2},{"$f":"SUMIF(Einzelwertung3!$A$3:$A$55,$B4,Einzelwertung3!$J$3:$J$55)+0.015","v":1.4999999999999999E-2},{"$f":"SUMIF(Einzelwertung4!$A$3:$A$55,$B4,Einzelwertung4!$J$3:$J$55)+0.014","v":1.4E-2},{"$f":"SUMIF(Einzelwertung5!$A$3:$A$55,$B4,Einzelwertung5!$J$3:$J$55)+0.013","v":1.2999999999999999E-2},{"$f":"SUMIF(Einzelwertung6!$A$3:$A$55,$B4,Einzelwertung6!$J$3:$J$55)+0.012","v":21.012},{"$f":"SUMIF(Einzelwertung7!$A$3:$A$55,$B4,Einzelwertung7!$J$3:$J$55)+0.011","v":5.0110000000000001},{"$f":"SUMIF(Einzelwertung8!$A$3:$A$55,$B4,Einzelwertung8!$J$3:$J$55)+0.01","v":25.01},{"$f":"SUMIF(Einzelwertung9!$A$3:$A$55,$B4,Einzelwertung9!$J$3:$J$55)+0.009","v":8.9999999999999993E-3},{"$f":"SUMIF(Einzelwertung10!$A$3:$A$55,$B4,Einzelwertung10!$J$3:$J$55)+0.008","v":21.007999999999999},{"$f":"SUMIF(Einzelwertung11!$A$3:$A$55,$B4,Einzelwertung11!$J$3:$J$55)+0.007","v":21.007000000000001},{"$f":"SUMIF(Einzelwertung12!$A$3:$A$55,$B4,Einzelwertung12!$J$3:$J$55)+0.006","v":15.006},{"$f":"SUMIF(Einzelwertung13!$A$3:$A$55,$B4,Einzelwertung13!$J$3:$J$55)+0.005","v":10.005000000000001},{"$f":"SUMIF(Einzelwertung14!$A$3:$A$55,$B4,Einzelwertung14!$J$3:$J$55)+0.004","v":15.004},{"$f":"SUMIF(Einzelwertung15!$A$3:$A$67,$B4,Einzelwertung15!$J$3:$J$67)+0.003","v":21.003},{"$f":"SUMIF(Einzelwertung16!$A$3:$A$55,$B4,Einzelwertung16!$J$3:$J$55)+0.002","v":15.002000000000001},{"$f":"SUMIF(Einzelwertung17!$A$3:$A$55,$B4,Einzelwertung17!$J$3:$J$55)+0.001","v":25.001000000000001},{"$f":"SUMIF(Einzelwertung18!$A$3:$A$55,$B4,Einzelwertung18!$J$3:$J$55)+0","v":0},{"$f":"INT(IF(COUNTIF(F4:W4,CONCATENATE(\">\",1/10))<=Hilfe!$A$1,SUM(F4:W4),SUMIF(F4:W4,CONCATENATE(\">=\",LARGE(F4:W4,Hilfe!$A$1)),F4:W4)))","v":164},11,55]
[3,"Puschner, Michael",{"$f":"VLOOKUP($B5,Teilnehmer!$A$3:$E$127,2,FALSE)","v":"Hobby"},{"$f":"VLOOKUP($B5,Teilnehmer!$A$3:$E$127,3,FALSE)","v":"Hobby11"},{"$f":"VLOOKUP($B5,Teilnehmer!$A$3:$E$127,4,FALSE)","v":"SM2"},{"$f":"SUMIF(Einzelwertung1!$A$3:$A$55,$B5,Einzelwertung1!$J$3:$J$55)+0.017","v":1.7000000000000001E-2},{"$f":"SUMIF(Einzelwertung2!$A$3:$A$55,$B5,Einzelwertung2!$J$3:$J$55)+0.016","v":1.6E-2},{"$f":"SUMIF(Einzelwertung3!$A$3:$A$55,$B5,Einzelwertung3!$J$3:$J$55)+0.015","v":1.4999999999999999E-2},{"$f":"SUMIF(Einzelwertung4!$A$3:$A$55,$B5,Einzelwertung4!$J$3:$J$55)+0.014","v":1.4E-2},{"$f":"SUMIF(Einzelwertung5!$A$3:$A$55,$B5,Einzelwertung5!$J$3:$J$55)+0.013","v":1.2999999999999999E-2},{"$f":"SUMIF(Einzelwertung6!$A$3:$A$55,$B5,Einzelwertung6!$J$3:$J$55)+0.012","v":15.012},{"$f":"SUMIF(Einzelwertung7!$A$3:$A$55,$B5,Einzelwertung7!$J$3:$J$55)+0.011","v":5.0110000000000001},{"$f":"SUMIF(Einzelwertung8!$A$3:$A$55,$B5,Einzelwertung8!$J$3:$J$55)+0.01","v":25.01},{"$f":"SUMIF(Einzelwertung9!$A$3:$A$55,$B5,Einzelwertung9!$J$3:$J$55)+0.009","v":5.0090000000000003},{"$f":"SUMIF(Einzelwertung10!$A$3:$A$55,$B5,Einzelwertung10!$J$3:$J$55)+0.008","v":15.007999999999999},{"$f":"SUMIF(Einzelwertung11!$A$3:$A$55,$B5,Einzelwertung11!$J$3:$J$55)+0.007","v":18.007000000000001},{"$f":"SUMIF(Einzelwertung12!$A$3:$A$55,$B5,Einzelwertung12!$J$3:$J$55)+0.006","v":21.006},{"$f":"SUMIF(Einzelwertung13!$A$3:$A$55,$B5,Einzelwertung13!$J$3:$J$55)+0.005","v":15.005000000000001},{"$f":"SUMIF(Einzelwertung14!$A$3:$A$55,$B5,Einzelwertung14!$J$3:$J$55)+0.004","v":4.0000000000000001E-3},{"$f":"SUMIF(Einzelwertung15!$A$3:$A$67,$B5,Einzelwertung15!$J$3:$J$67)+0.003","v":3.0000000000000001E-3},{"$f":"SUMIF(Einzelwertung16!$A$3:$A$55,$B5,Einzelwertung16!$J$3:$J$55)+0.002","v":18.001999999999999},{"$f":"SUMIF(Einzelwertung17!$A$3:$A$55,$B5,Einzelwertung17!$J$3:$J$55)+0.001","v":21.001000000000001},{"$f":"SUMIF(Einzelwertung18!$A$3:$A$55,$B5,Einzelwertung18!$J$3:$J$55)+0","v":0},{"$f":"INT(IF(COUNTIF(F5:W5,CONCATENATE(\">\",1/10))<=Hilfe!$A$1,SUM(F5:W5),SUMIF(F5:W5,CONCATENATE(\">=\",LARGE(F5:W5,Hilfe!$A$1)),F5:W5)))","v":148},10,50]
[4,"Hein, Hans-Jörg",{"$f":"VLOOKUP($B6,Teilnehmer!$A$3:$E$127,2,FALSE)","v":"ASW"},{"$f":"VLOOKUP($B6,Teilnehmer!$A$3:$E$127,3,FALSE)","v":27863},{"$f":"VLOOKUP($B6,Teilnehmer!$A$3:$E$127,4,FALSE)","v":"SM1"},{"$f":"SUMIF(Einzelwertung1!$A$3:$A$55,$B6,Einzelwertung1!$J$3:$J$55)+0.017","v":1.7000000000000001E-2},{"$f":"SUMIF(Einzelwertung2!$A$3:$A$55,$B6,Einzelwertung2!$J$3:$J$55)+0.016","v":1.6E-2},{"$f":"SUMIF(Einzelwertung3!$A$3:$A$55,$B6,Einzelwertung3!$J$3:$J$55)+0.015","v":1.4999999999999999E-2},{"$f":"SUMIF(Einzelwertung4!$A$3:$A$55,$B6,Einzelwertung4!$J$3:$J$55)+0.014","v":1.4E-2},{"$f":"SUMIF(Einzelwertung5!$A$3:$A$55,$B6,Einzelwertung5!$J$3:$J$55)+0.013","v":1.2999999999999999E-2},{"$f":"SUMIF(Einzelwertung6!$A$3:$A$55,$B6,Einzelwertung6!$J$3:$J$55)+0.012","v":21.012},{"$f":"SUMIF(Einzelwertung7!$A$3:$A$55,$B6,Einzelwertung7!$J$3:$J$55)+0.011","v":10.010999999999999},{"$f":"SUMIF(Einzelwertung8!$A$3:$A$55,$B6,Einzelwertung8!$J$3:$J$55)+0.01","v":15.01},{"$f":"SUMIF(Einzelwertung9!$A$3:$A$55,$B6,Einzelwertung9!$J$3:$J$55)+0.009","v":15.009},{"$f":"SUMIF(Einzelwertung10!$A$3:$A$55,$B6,Einzelwertung10!$J$3:$J$55)+0.008","v":8.0000000000000002E-3},{"$f":"SUMIF(Einzelwertung11!$A$3:$A$55,$B6,Einzelwertung11!$J$3:$J$55)+0.007","v":10.007},{"$f":"SUMIF(Einzelwertung12!$A$3:$A$55,$B6,Einzelwertung12!$J$3:$J$55)+0.006","v":6.0000000000000001E-3},{"$f":"SUMIF(Einzelwertung13!$A$3:$A$55,$B6,Einzelwertung13!$J$3:$J$55)+0.005","v":10.005000000000001},{"$f":"SUMIF(Einzelwertung14!$A$3:$A$55,$B6,Einzelwertung14!$J$3:$J$55)+0.004","v":15.004},{"$f":"SUMIF(Einzelwertung15!$A$3:$A$67,$B6,Einzelwertung15!$J$3:$J$67)+0.003","v":3.0000000000000001E-3},{"$f":"SUMIF(Einzelwertung16!$A$3:$A$55,$B6,Einzelwertung16!$J$3:$J$55)+0.002","v":25.001999999999999},{"$f":"SUMIF(Einzelwertung17!$A$3:$A$55,$B6,Einzelwertung17!$J$3:$J$55)+0.001","v":21.001000000000001},{"$f":"SUMIF(Einzelwertung18!$A$3:$A$55,$B6,Einzelwertung18!$J$3:$J$55)+0","v":0},{"$f":"INT(IF(COUNTIF(F6:W6,CONCATENATE(\">\",1/10))<=Hilfe!$A$1,SUM(F6:W6),SUMIF(F6:W6,CONCATENATE(\">=\",LARGE(F6:W6,Hilfe!$A$1)),F6:W6)))","v":132},9,45]
["5 n.St.","Lenk, Rolf",{"$f":"VLOOKUP($B7,Teilnehmer!$A$3:$E$127,2,FALSE)","v":"ASW"},{"$f":"VLOOKUP($B7,Teilnehmer!$A$3:$E$127,3,FALSE)","v":61716},{"$f":"VLOOKUP($B7,Teilnehmer!$A$3:$E$127,4,FALSE)","v":"SM2"},{"$f":"SUMIF(Einzelwertung1!$A$3:$A$55,$B7,Einzelwertung1!$J$3:$J$55)+0.017","v":1.7000000000000001E-2},{"$f":"SUMIF(Einzelwertung2!$A$3:$A$55,$B7,Einzelwertung2!$J$3:$J$55)+0.016","v":1.6E-2},{"$f":"SUMIF(Einzelwertung3!$A$3:$A$55,$B7,Einzelwertung3!$J$3:$J$55)+0.015","v":1.4999999999999999E-2},{"$f":"SUMIF(Einzelwertung4!$A$3:$A$55,$B7,Einzelwertung4!$J$3:$J$55)+0.014","v":1.4E-2},{"$f":"SUMIF(Einzelwertung5!$A$3:$A$55,$B7,Einzelwertung5!$J$3:$J$55)+0.013","v":1.2999999999999999E-2},{"$f":"SUMIF(Einzelwertung6!$A$3:$A$55,$B7,Einzelwertung6!$J$3:$J$55)+0.012","v":10.012},{"$f":"SUMIF(Einzelwertung7!$A$3:$A$55,$B7,Einzelwertung7!$J$3:$J$55)+0.011","v":15.010999999999999},{"$f":"SUMIF(Einzelwertung8!$A$3:$A$55,$B7,Einzelwertung8!$J$3:$J$55)+0.01","v":15.01},{"$f":"SUMIF(Einzelwertung9!$A$3:$A$55,$B7,Einzelwertung9!$J$3:$J$55)+0.009","v":18.009},{"$f":"SUMIF(Einzelwertung10!$A$3:$A$55,$B7,Einzelwertung10!$J$3:$J$55)+0.008","v":10.007999999999999},{"$f":"SUMIF(Einzelwertung11!$A$3:$A$55,$B7,Einzelwertung11!$J$3:$J$55)+0.007","v":5.0069999999999997},{"$f":"SUMIF(Einzelwertung12!$A$3:$A$55,$B7,Einzelwertung12!$J$3:$J$55)+0.006","v":15.006},{"$f":"SUMIF(Einzelwertung13!$A$3:$A$55,$B7,Einzelwertung13!$J$3:$J$55)+0.005","v":5.0049999999999999},{"$f":"SUMIF(Einzelwertung14!$A$3:$A$55,$B7,Einzelwertung14!$J$3:$J$55)+0.004","v":21.004000000000001},{"$f":"SUMIF(Einzelwertung15!$A$3:$A$67,$B7,Einzelwertung15!$J$3:$J$67)+0.003","v":15.003},{"$f":"SUMIF(Einzelwertung16!$A$3:$A$55,$B7,Einzelwertung16!$J$3:$J$55)+0.002","v":2E-3},{"$f":"SUMIF(Einzelwertung17!$A$3:$A$55,$B7,Einzelwertung17!$J$3:$J$55)+0.001","v":18.001000000000001},{"$f":"SUMIF(Einzelwertung18!$A$3:$A$55,$B7,Einzelwertung18!$J$3:$J$55)+0","v":0},{"$f":"INT(IF(COUNTIF(F7:W7,CONCATENATE(\">\",1/10))<=Hilfe!$A$1,SUM(F7:W7),SUMIF(F7:W7,CONCATENATE(\">=\",LARGE(F7:W7,Hilfe!$A$1)),F7:W7)))","v":127},11,55]
["6 n.St.","Kunz, Martin",{"$f":"VLOOKUP($B8,Teilnehmer!$A$3:$E$127,2,FALSE)","v":"Hobby"},{"$f":"VLOOKUP($B8,Teilnehmer!$A$3:$E$127,3,FALSE)","v":"Hobby40"},{"$f":"VLOOKUP($B8,Teilnehmer!$A$3:$E$127,4,FALSE)","v":"SM1"},{"$f":"SUMIF(Einzelwertung1!$A$3:$A$55,$B8,Einzelwertung1!$J$3:$J$55)+0.017","v":1.7000000000000001E-2},{"$f":"SUMIF(Einzelwertung2!$A$3:$A$55,$B8,Einzelwertung2!$J$3:$J$55)+0.016","v":1.6E-2},{"$f":"SUMIF(Einzelwertung3!$A$3:$A$55,$B8,Einzelwertung3!$J$3:$J$55)+0.015","v":1.4999999999999999E-2},{"$f":"SUMIF(Einzelwertung4!$A$3:$A$55,$B8,Einzelwertung4!$J$3:$J$55)+0.014","v":1.4E-2},{"$f":"SUMIF(Einzelwertung5!$A$3:$A$55,$B8,Einzelwertung5!$J$3:$J$55)+0.013","v":1.2999999999999999E-2},{"$f":"SUMIF(Einzelwertung6!$A$3:$A$55,$B8,Einzelwertung6!$J$3:$J$55)+0.012","v":1.2E-2},{"$f":"SUMIF(Einzelwertung7!$A$3:$A$55,$B8,Einzelwertung7!$J$3:$J$55)+0.011","v":15.010999999999999},{"$f":"SUMIF(Einzelwertung8!$A$3:$A$55,$B8,Einzelwertung8!$J$3:$J$55)+0.01","v":21.01},{"$f":"SUMIF(Einzelwertung9!$A$3:$A$55,$B8,Einzelwertung9!$J$3:$J$55)+0.009","v":5.0090000000000003},{"$f":"SUMIF(Einzelwertung10!$A$3:$A$55,$B8,Einzelwertung10!$J$3:$J$55)+0.008","v":10.007999999999999},{"$f":"SUMIF(Einzelwertung11!$A$3:$A$55,$B8,Einzelwertung11!$J$3:$J$55)+0.007","v":18.007000000000001},{"$f":"SUMIF(Einzelwertung12!$A$3:$A$55,$B8,Einzelwertung12!$J$3:$J$55)+0.006","v":15.006},{"$f":"SUMIF(Einzelwertung13!$A$3:$A$55,$B8,Einzelwertung13!$J$3:$J$55)+0.005","v":18.004999999999999},{"$f":"SUMIF(Einzelwertung14!$A$3:$A$55,$B8,Einzelwertung14!$J$3:$J$55)+0.004","v":10.004},{"$f":"SUMIF(Einzelwertung15!$A$3:$A$67,$B8,Einzelwertung15!$J$3:$J$67)+0.003","v":15.003},{"$f":"SUMIF(Einzelwertung16!$A$3:$A$55,$B8,Einzelwertung16!$J$3:$J$55)+0.002","v":15.002000000000001},{"$f":"SUMIF(Einzelwertung17!$A$3:$A$55,$B8,Einzelwertung17!$J$3:$J$55)+0.001","v":5.0010000000000003},{"$f":"SUMIF(Einzelwertung18!$A$3:$A$55,$B8,Einzelwertung18!$J$3:$J$55)+0","v":0},{"$f":"INT(IF(COUNTIF(F8:W8,CONCATENATE(\">\",1/10))<=Hilfe!$A$1,SUM(F8:W8),SUMIF(F8:W8,CONCATENATE(\">=\",LARGE(F8:W8,Hilfe!$A$1)),F8:W8)))","v":127},11,55]
[7,"Lieber, Nicole",{"$f":"VLOOKUP($B9,Teilnehmer!$A$3:$E$127,2,FALSE)","v":"Hobby"},{"$f":"VLOOKUP($B9,Teilnehmer!$A$3:$E$127,3,FALSE)","v":"Hobby7"},{"$f":"VLOOKUP($B9,Teilnehmer!$A$3:$E$127,4,FALSE)","v":"D"},{"$f":"SUMIF(Einzelwertung1!$A$3:$A$55,$B9,Einzelwertung1!$J$3:$J$55)+0.017","v":1.7000000000000001E-2},{"$f":"SUMIF(Einzelwertung2!$A$3:$A$55,$B9,Einzelwertung2!$J$3:$J$55)+0.016","v":1.6E-2},{"$f":"SUMIF(Einzelwertung3!$A$3:$A$55,$B9,Einzelwertung3!$J$3:$J$55)+0.015","v":1.4999999999999999E-2},{"$f":"SUMIF(Einzelwertung4!$A$3:$A$55,$B9,Einzelwertung4!$J$3:$J$55)+0.014","v":1.4E-2},{"$f":"SUMIF(Einzelwertung5!$A$3:$A$55,$B9,Einzelwertung5!$J$3:$J$55)+0.013","v":1.2999999999999999E-2},{"$f":"SUMIF(Einzelwertung6!$A$3:$A$55,$B9,Einzelwertung6!$J$3:$J$55)+0.012","v":21.012},{"$f":"SUMIF(Einzelwertung7!$A$3:$A$55,$B9,Einzelwertung7!$J$3:$J$55)+0.011","v":10.010999999999999},{"$f":"SUMIF(Einzelwertung8!$A$3:$A$55,$B9,Einzelwertung8!$J$3:$J$55)+0.01","v":5.01},{"$f":"SUMIF(Einzelwertung9!$A$3:$A$55,$B9,Einzelwertung9!$J$3:$J$55)+0.009","v":10.009},{"$f":"SUMIF(Einzelwertung10!$A$3:$A$55,$B9,Einzelwertung10!$J$3:$J$55)+0.008","v":21.007999999999999},{"$f":"SUMIF(Einzelwertung11!$A$3:$A$55,$B9,Einzelwertung11!$J$3:$J$55)+0.007","v":21.007000000000001},{"$f":"SUMIF(Einzelwertung12!$A$3:$A$55,$B9,Einzelwertung12!$J$3:$J$55)+0.006","v":10.006},{"$f":"SUMIF(Einzelwertung13!$A$3:$A$55,$B9,Einzelwertung13!$J$3:$J$55)+0.005","v":10.005000000000001},{"$f":"SUMIF(Einzelwertung14!$A$3:$A$55,$B9,Einzelwertung14!$J$3:$J$55)+0.004","v":21.004000000000001},{"$f":"SUMIF(Einzelwertung15!$A$3:$A$67,$B9,Einzelwertung15!$J$3:$J$67)+0.003","v":5.0030000000000001},{"$f":"SUMIF(Einzelwertung16!$A$3:$A$55,$B9,Einzelwertung16!$J$3:$J$55)+0.002","v":10.002000000000001},{"$f":"SUMIF(Einzelwertung17!$A$3:$A$55,$B9,Einzelwertung17!$J$3:$J$55)+0.001","v":10.000999999999999},{"$f":"SUMIF(Einzelwertung18!$A$3:$A$55,$B9,Einzelwertung18!$J$3:$J$55)+0","v":0},{"$f":"INT(IF(COUNTIF(F9:W9,CONCATENATE(\">\",1/10))<=Hilfe!$A$1,SUM(F9:W9),SUMIF(F9:W9,CONCATENATE(\">=\",LARGE(F9:W9,Hilfe!$A$1)),F9:W9)))","v":124},12,60]
[8,"Rabe, Jonas",{"$f":"VLOOKUP($B10,Teilnehmer!$A$3:$E$127,2,FALSE)","v":"Hobby"},{"$f":"VLOOKUP($B10,Teilnehmer!$A$3:$E$127,3,FALSE)","v":"Hobby41"},{"$f":"VLOOKUP($B10,Teilnehmer!$A$3:$E$127,4,FALSE)","v":"SCHM"},{"$f":"SUMIF(Einzelwertung1!$A$3:$A$55,$B10,Einzelwertung1!$J$3:$J$55)+0.017","v":1.7000000000000001E-2},{"$f":"SUMIF(Einzelwertung2!$A$3:$A$55,$B10,Einzelwertung2!$J$3:$J$55)+0.016","v":1.6E-2},{"$f":"SUMIF(Einzelwertung3!$A$3:$A$55,$B10,Einzelwertung3!$J$3:$J$55)+0.015","v":1.4999999999999999E-2},{"$f":"SUMIF(Einzelwertung4!$A$3:$A$55,$B10,Einzelwertung4!$J$3:$J$55)+0.014","v":1.4E-2},{"$f":"SUMIF(Einzelwertung5!$A$3:$A$55,$B10,Einzelwertung5!$J$3:$J$55)+0.013","v":1.2999999999999999E-2},{"$f":"SUMIF(Einzelwertung6!$A$3:$A$55,$B10,Einzelwertung6!$J$3:$J$55)+0.012","v":15.012},{"$f":"SUMIF(Einzelwertung7!$A$3:$A$55,$B10,Einzelwertung7!$J$3:$J$55)+0.011","v":10.010999999999999},{"$f":"SUMIF(Einzelwertung8!$A$3:$A$55,$B10,Einzelwertung8!$J$3:$J$55)+0.01","v":15.01},{"$f":"SUMIF(Einzelwertung9!$A$3:$A$55,$B10,Einzelwertung9!$J$3:$J$55)+0.009","v":10.009},{"$f":"SUMIF(Einzelwertung10!$A$3:$A$55,$B10,Einzelwertung10!$J$3:$J$55)+0.008","v":25.007999999999999},{"$f":"SUMIF(Einzelwertung11!$A$3:$A$55,$B10,Einzelwertung11!$J$3:$J$55)+0.007","v":5.0069999999999997},{"$f":"SUMIF(Einzelwertung12!$A$3:$A$55,$B10,Einzelwertung12!$J$3:$J$55)+0.006","v":10.006},{"$f":"SUMIF(Einzelwertung13!$A$3:$A$55,$B10,Einzelwertung13!$J$3:$J$55)+0.005","v":15.005000000000001},{"$f":"SUMIF(Einzelwertung14!$A$3:$A$55,$B10,Einzelwertung14!$J$3:$J$55)+0.004","v":4.0000000000000001E-3},{"$f":"SUMIF(Einzelwertung15!$A$3:$A$67,$B10,Einzelwertung15!$J$3:$J$67)+0.003","v":15.003},{"$f":"SUMIF(Einzelwertung16!$A$3:$A$55,$B10,Einzelwertung16!$J$3:$J$55)+0.002","v":10.002000000000001},{"$f":"SUMIF(Einzelwertung17!$A$3:$A$55,$B10,Einzelwertung17!$J$3:$J$55)+0.001","v":15.000999999999999},{"$f":"SUMIF(Einzelwertung18!$A$3:$A$55,$B10,Einzelwertung18!$J$3:$J$55)+0","v":0},{"$f":"INT(IF(COUNTIF(F10:W10,CONCATENATE(\">\",1/10))<=Hilfe!$A$1,SUM(F10:W10),SUMIF(F10:W10,CONCATENATE(\">=\",LARGE(F10:W10,Hilfe!$A$1)),F10:W10)))","v":120},11,27.5]
[9,"Greiffendorf, Hellmut",{"$f":"VLOOKUP($B11,Teilnehmer!$A$3:$E$127,2,FALSE)","v":"ASW"},{"$f":"VLOOKUP($B11,Teilnehmer!$A$3:$E$127,3,FALSE)","v":3800},{"$f":"VLOOKUP($B11,Teilnehmer!$A$3:$E$127,4,FALSE)","v":"SM2"},{"$f":"SUMIF(Einzelwertung1!$A$3:$A$55,$B11,Einzelwertung1!$J$3:$J$55)+0.017","v":1.7000000000000001E-2},{"$f":"SUMIF(Einzelwertung2!$A$3:$A$55,$B11,Einzelwertung2!$J$3:$J$55)+0.016","v":1.6E-2},{"$f":"SUMIF(Einzelwertung3!$A$3:$A$55,$B11,Einzelwertung3!$J$3:$J$55)+0.015","v":1.4999999999999999E-2},{"$f":"SUMIF(Einzelwertung4!$A$3:$A$55,$B11,Einzelwertung4!$J$3:$J$55)+0.014","v":1.4E-2},{"$f":"SUMIF(Einzelwertung5!$A$3:$A$55,$B11,Einzelwertung5!$J$3:$J$55)+0.013","v":1.2999999999999999E-2},{"$f":"SUMIF(Einzelwertung6!$A$3:$A$55,$B11,Einzelwertung6!$J$3:$J$55)+0.012","v":25.012},{"$f":"SUMIF(Einzelwertung7!$A$3:$A$55,$B11,Einzelwertung7!$J$3:$J$55)+0.011","v":5.0110000000000001},{"$f":"SUMIF(Einzelwertung8!$A$3:$A$55,$B11,Einzelwertung8!$J$3:$J$55)+0.01","v":3.01},{"$f":"SUMIF(Einzelwertung9!$A$3:$A$55,$B11,Einzelwertung9!$J$3:$J$55)+0.009","v":5.0090000000000003},{"$f":"SUMIF(Einzelwertung10!$A$3:$A$55,$B11,Einzelwertung10!$J$3:$J$55)+0.008","v":8.0000000000000002E-3},{"$f":"SUMIF(Einzelwertung11!$A$3:$A$55,$B11,Einzelwertung11!$J$3:$J$55)+0.007","v":7.0000000000000001E-3},{"$f":"SUMIF(Einzelwertung12!$A$3:$A$55,$B11,Einzelwertung12!$J$3:$J$55)+0.006","v":18.006},{"$f":"SUMIF(Einzelwertung13!$A$3:$A$55,$B11,Einzelwertung13!$J$3:$J$55)+0.005","v":10.005000000000001},{"$f":"SUMIF(Einzelwertung14!$A$3:$A$55,$B11,Einzelwertung14!$J$3:$J$55)+0.004","v":4.0000000000000001E-3},{"$f":"SUMIF(Einzelwertung15!$A$3:$A$67,$B11,Einzelwertung15!$J$3:$J$67)+0.003","v":18.003},{"$f":"SUMIF(Einzelwertung16!$A$3:$A$55,$B11,Einzelwertung16!$J$3:$J$55)+0.002","v":18.001999999999999},{"$f":"SUMIF(Einzelwertung17!$A$3:$A$55,$B11,Einzelwertung17!$J$3:$J$55)+0.001","v":15.000999999999999},{"$f":"SUMIF(Einzelwertung18!$A$3:$A$55,$B11,Einzelwertung18!$J$3:$J$55)+0","v":0},{"$f":"INT(IF(COUNTIF(F11:W11,CONCATENATE(\">\",1/10))<=Hilfe!$A$1,SUM(F11:W11),SUMIF(F11:W11,CONCATENATE(\">=\",LARGE(F11:W11,Hilfe!$A$1)),F11:W11)))","v":114},9,45]
[10,"Tabor, Peter",{"$f":"VLOOKUP($B12,Teilnehmer!$A$3:$E$127,2,FALSE)","v":"ASW"},{"$f":"VLOOKUP($B12,Teilnehmer!$A$3:$E$127,3,FALSE)","v":65804},{"$f":"VLOOKUP($B12,Teilnehmer!$A$3:$E$127,4,FALSE)","v":"SM2"},{"$f":"SUMIF(Einzelwertung1!$A$3:$A$55,$B12,Einzelwertung1!$J$3:$J$55)+0.017","v":1.7000000000000001E-2},{"$f":"SUMIF(Einzelwertung2!$A$3:$A$55,$B12,Einzelwertung2!$J$3:$J$55)+0.016","v":1.6E-2},{"$f":"SUMIF(Einzelwertung3!$A$3:$A$55,$B12,Einzelwertung3!$J$3:$J$55)+0.015","v":1.4999999999999999E-2},{"$f":"SUMIF(Einzelwertung4!$A$3:$A$55,$B12,Einzelwertung4!$J$3:$J$55)+0.014","v":1.4E-2},{"$f":"SUMIF(Einzelwertung5!$A$3:$A$55,$B12,Einzelwertung5!$J$3:$J$55)+0.013","v":1.2999999999999999E-2},{"$f":"SUMIF(Einzelwertung6!$A$3:$A$55,$B12,Einzelwertung6!$J$3:$J$55)+0.012","v":15.012},{"$f":"SUMIF(Einzelwertung7!$A$3:$A$55,$B12,Einzelwertung7!$J$3:$J$55)+0.011","v":3.0110000000000001},{"$f":"SUMIF(Einzelwertung8!$A$3:$A$55,$B12,Einzelwertung8!$J$3:$J$55)+0.01","v":0.01},{"$f":"SUMIF(Einzelwertung9!$A$3:$A$55,$B12,Einzelwertung9!$J$3:$J$55)+0.009","v":8.9999999999999993E-3},{"$f":"SUMIF(Einzelwertung10!$A$3:$A$55,$B12,Einzelwertung10!$J$3:$J$55)+0.008","v":8.0000000000000002E-3},{"$f":"SUMIF(Einzelwertung11!$A$3:$A$55,$B12,Einzelwertung11!$J$3:$J$55)+0.007","v":7.0000000000000001E-3},{"$f":"SUMIF(Einzelwertung12!$A$3:$A$55,$B12,Einzelwertung12!$J$3:$J$55)+0.006","v":18.006},{"$f":"SUMIF(Einzelwertung13!$A$3:$A$55,$B12,Einzelwertung13!$J$3:$J$55)+0.005","v":15.005000000000001},{"$f":"SUMIF(Einzelwertung14!$A$3:$A$55,$B12,Einzelwertung14!$J$3:$J$55)+0.004","v":15.004},{"$f":"SUMIF(Einzelwertung15!$A$3:$A$67,$B12,Einzelwertung15!$J$3:$J$67)+0.003","v":10.003},{"$f":"SUMIF(Einzelwertung16!$A$3:$A$55,$B12,Einzelwertung16!$J$3:$J$55)+0.002","v":10.002000000000001},{"$f":"SUMIF(Einzelwertung17!$A$3:$A$55,$B12,Einzelwertung17!$J$3:$J$55)+0.001","v":15.000999999999999},{"$f":"SUMIF(Einzelwertung18!$A$3:$A$55,$B12,Einzelwertung18!$J$3:$J$55)+0","v":0},{"$f":"INT(IF(COUNTIF(F12:W12,CONCATENATE(\">\",1/10))<=Hilfe!$A$1,SUM(F12:W12),SUMIF(F12:W12,CONCATENATE(\">=\",LARGE(F12:W12,Hilfe!$A$1)),F12:W12)))","v":101},8,40]
[11,"Börgmann, Ulrich",{"$f":"VLOOKUP($B13,Teilnehmer!$A$3:$E$127,2,FALSE)","v":"Hobby"},{"$f":"VLOOKUP($B13,Teilnehmer!$A$3:$E$127,3,FALSE)","v":"Hobby15"},{"$f":"VLOOKUP($B13,Teilnehmer!$A$3:$E$127,4,FALSE)","v":"SM1"},{"$f":"SUMIF(Einzelwertung1!$A$3:$A$55,$B13,Einzelwertung1!$J$3:$J$55)+0.017","v":1.7000000000000001E-2},{"$f":"SUMIF(Einzelwertung2!$A$3:$A$55,$B13,Einzelwertung2!$J$3:$J$55)+0.016","v":1.6E-2},{"$f":"SUMIF(Einzelwertung3!$A$3:$A$55,$B13,Einzelwertung3!$J$3:$J$55)+0.015","v":1.4999999999999999E-2},{"$f":"SUMIF(Einzelwertung4!$A$3:$A$55,$B13,Einzelwertung4!$J$3:$J$55)+0.014","v":1.4E-2},{"$f":"SUMIF(Einzelwertung5!$A$3:$A$55,$B13,Einzelwertung5!$J$3:$J$55)+0.013","v":1.2999999999999999E-2},{"$f":"SUMIF(Einzelwertung6!$A$3:$A$55,$B13,Einzelwertung6!$J$3:$J$55)+0.012","v":21.012},{"$f":"SUMIF(Einzelwertung7!$A$3:$A$55,$B13,Einzelwertung7!$J$3:$J$55)+0.011","v":3.0110000000000001},{"$f":"SUMIF(Einzelwertung8!$A$3:$A$55,$B13,Einzelwertung8!$J$3:$J$55)+0.01","v":5.01},{"$f":"SUMIF(Einzelwertung9!$A$3:$A$55,$B13,Einzelwertung9!$J$3:$J$55)+0.009","v":10.009},{"$f":"SUMIF(Einzelwertung10!$A$3:$A$55,$B13,Einzelwertung10!$J$3:$J$55)+0.008","v":10.007999999999999},{"$f":"SUMIF(Einzelwertung11!$A$3:$A$55,$B13,Einzelwertung11!$J$3:$J$55)+0.007","v":10.007},{"$f":"SUMIF(Einzelwertung12!$A$3:$A$55,$B13,Einzelwertung12!$J$3:$J$55)+0.006","v":10.006},{"$f":"SUMIF(Einzelwertung13!$A$3:$A$55,$B13,Einzelwertung13!$J$3:$J$55)+0.005","v":5.0049999999999999},{"$f":"SUMIF(Einzelwertung14!$A$3:$A$55,$B13,Einzelwertung14!$J$3:$J$55)+0.004","v":15.004},{"$f":"SUMIF(Einzelwertung15!$A$3:$A$67,$B13,Einzelwertung15!$J$3:$J$67)+0.003","v":3.0000000000000001E-3},{"$f":"SUMIF(Einzelwertung16!$A$3:$A$55,$B13,Einzelwertung16!$J$3:$J$55)+0.002","v":2E-3},{"$f":"SUMIF(Einzelwertung17!$A$3:$A$55,$B13,Einzelwertung17!$J$3:$J$55)+0.001","v":18.001000000000001},{"$f":"SUMIF(Einzelwertung18!$A$3:$A$55,$B13,Einzelwertung18!$J$3:$J$55)+0","v":0},{"$f":"INT(IF(COUNTIF(F13:W13,CONCATENATE(\">\",1/10))<=Hilfe!$A$1,SUM(F13:W13),SUMIF(F13:W13,CONCATENATE(\">=\",LARGE(F13:W13,Hilfe!$A$1)),F13:W13)))","v":99},10,50]
[12,"Buchholz, Ansgar",{"$f":"VLOOKUP($B14,Teilnehmer!$A$3:$E$127,2,FALSE)","v":"ASW"},{"$f":"VLOOKUP($B14,Teilnehmer!$A$3:$E$127,3,FALSE)","v":31513},{"$f":"VLOOKUP($B14,Teilnehmer!$A$3:$E$127,4,FALSE)","v":"SM1"},{"$f":"SUMIF(Einzelwertung1!$A$3:$A$55,$B14,Einzelwertung1!$J$3:$J$55)+0.017","v":1.7000000000000001E-2},{"$f":"SUMIF(Einzelwertung2!$A$3:$A$55,$B14,Einzelwertung2!$J$3:$J$55)+0.016","v":1.6E-2},{"$f":"SUMIF(Einzelwertung3!$A$3:$A$55,$B14,Einzelwertung3!$J$3:$J$55)+0.015","v":1.4999999999999999E-2},{"$f":"SUMIF(Einzelwertung4!$A$3:$A$55,$B14,Einzelwertung4!$J$3:$J$55)+0.014","v":1.4E-2},{"$f":"SUMIF(Einzelwertung5!$A$3:$A$55,$B14,Einzelwertung5!$J$3:$J$55)+0.013","v":1.2999999999999999E-2},{"$f":"SUMIF(Einzelwertung6!$A$3:$A$55,$B14,Einzelwertung6!$J$3:$J$55)+0.012","v":1.2E-2},{"$f":"SUMIF(Einzelwertung7!$A$3:$A$55,$B14,Einzelwertung7!$J$3:$J$55)+0.011","v":18.010999999999999},{"$f":"SUMIF(Einzelwertung8!$A$3:$A$55,$B14,Einzelwertung8!$J$3:$J$55)+0.01","v":15.01},{"$f":"SUMIF(Einzelwertung9!$A$3:$A$55,$B14,Einzelwertung9!$J$3:$J$55)+0.009","v":25.009},{"$f":"SUMIF(Einzelwertung10!$A$3:$A$55,$B14,Einzelwertung10!$J$3:$J$55)+0.008","v":8.0000000000000002E-3},{"$f":"SUMIF(Einzelwertung11!$A$3:$A$55,$B14,Einzelwertung11!$J$3:$J$55)+0.007","v":7.0000000000000001E-3},{"$f":"SUMIF(Einzelwertung12!$A$3:$A$55,$B14,Einzelwertung12!$J$3:$J$55)+0.006","v":6.0000000000000001E-3},{"$f":"SUMIF(Einzelwertung13!$A$3:$A$55,$B14,Einzelwertung13!$J$3:$J$55)+0.005","v":25.004999999999999},{"$f":"SUMIF(Einzelwertung14!$A$3:$A$55,$B14,Einzelwertung14!$J$3:$J$55)+0.004","v":15.004},{"$f":"SUMIF(Einzelwertung15!$A$3:$A$67,$B14,Einzelwertung15!$J$3:$J$67)+0.003","v":3.0000000000000001E-3},{"$f":"SUMIF(Einzelwertung16!$A$3:$A$55,$B14,Einzelwertung16!$J$3:$J$55)+0.002","v":2E-3},{"$f":"SUMIF(Einzelwertung17!$A$3:$A$55,$B14,Einzelwertung17!$J$3:$J$55)+0.001","v":1E-3},{"$f":"SUMIF(Einzelwertung18!$A$3:$A$55,$B14,Einzelwertung18!$J$3:$J$55)+0","v":0},{"$f":"INT(IF(COUNTIF(F14:W14,CONCATENATE(\">\",1/10))<=Hilfe!$A$1,SUM(F14:W14),SUMIF(F14:W14,CONCATENATE(\">=\",LARGE(F14:W14,Hilfe!$A$1)),F14:W14)))","v":98},5,25]
[13,"Kortmann, Sabine",{"$f":"VLOOKUP($B15,Teilnehmer!$A$3:$E$127,2,FALSE)","v":"Hobby"},{"$f":"VLOOKUP($B15,Teilnehmer!$A$3:$E$127,3,FALSE)","v":"Hobby31"},{"$f":"VLOOKUP($B15,Teilnehmer!$A$3:$E$127,4,FALSE)","v":"SW1"},{"$f":"SUMIF(Einzelwertung1!$A$3:$A$55,$B15,Einzelwertung1!$J$3:$J$55)+0.017","v":1.7000000000000001E-2},{"$f":"SUMIF(Einzelwertung2!$A$3:$A$55,$B15,Einzelwertung2!$J$3:$J$55)+0.016","v":1.6E-2},{"$f":"SUMIF(Einzelwertung3!$A$3:$A$55,$B15,Einzelwertung3!$J$3:$J$55)+0.015","v":1.4999999999999999E-2},{"$f":"SUMIF(Einzelwertung4!$A$3:$A$55,$B15,Einzelwertung4!$J$3:$J$55)+0.014","v":1.4E-2},{"$f":"SUMIF(Einzelwertung5!$A$3:$A$55,$B15,Einzelwertung5!$J$3:$J$55)+0.013","v":1.2999999999999999E-2},{"$f":"SUMIF(Einzelwertung6!$A$3:$A$55,$B15,Einzelwertung6!$J$3:$J$55)+0.012","v":1.2E-2},{"$f":"SUMIF(Einzelwertung7!$A$3:$A$55,$B15,Einzelwertung7!$J$3:$J$55)+0.011","v":3.0110000000000001},{"$f":"SUMIF(Einzelwertung8!$A$3:$A$55,$B15,Einzelwertung8!$J$3:$J$55)+0.01","v":5.01},{"$f":"SUMIF(Einzelwertung9!$A$3:$A$55,$B15,Einzelwertung9!$J$3:$J$55)+0.009","v":10.009},{"$f":"SUMIF(Einzelwertung10!$A$3:$A$55,$B15,Einzelwertung10!$J$3:$J$55)+0.008","v":18.007999999999999},{"$f":"SUMIF(Einzelwertung11!$A$3:$A$55,$B15,Einzelwertung11!$J$3:$J$55)+0.007","v":10.007},{"$f":"SUMIF(Einzelwertung12!$A$3:$A$55,$B15,Einzelwertung12!$J$3:$J$55)+0.006","v":10.006},{"$f":"SUMIF(Einzelwertung13!$A$3:$A$55,$B15,Einzelwertung13!$J$3:$J$55)+0.005","v":15.005000000000001},{"$f":"SUMIF(Einzelwertung14!$A$3:$A$55,$B15,Einzelwertung14!$J$3:$J$55)+0.004","v":4.0000000000000001E-3},{"$f":"SUMIF(Einzelwertung15!$A$3:$A$67,$B15,Einzelwertung15!$J$3:$J$67)+0.003","v":15.003},{"$f":"SUMIF(Einzelwertung16!$A$3:$A$55,$B15,Einzelwertung16!$J$3:$J$55)+0.002","v":10.002000000000001},{"$f":"SUMIF(Einzelwertung17!$A$3:$A$55,$B15,Einzelwertung17!$J$3:$J$55)+0.001","v":1E-3},{"$f":"SUMIF(Einzelwertung18!$A$3:$A$55,$B15,Einzelwertung18!$J$3:$J$55)+0","v":0},{"$f":"INT(IF(COUNTIF(F15:W15,CONCATENATE(\">\",1/10))<=Hilfe!$A$1,SUM(F15:W15),SUMIF(F15:W15,CONCATENATE(\">=\",LARGE(F15:W15,Hilfe!$A$1)),F15:W15)))","v":93},9,45]
[14,"Urban, Dominic",{"$f":"VLOOKUP($B16,Teilnehmer!$A$3:$E$127,2,FALSE)","v":"ASW"},{"$f":"VLOOKUP($B16,Teilnehmer!$A$3:$E$127,3,FALSE)","v":66186},{"$f":"VLOOKUP($B16,Teilnehmer!$A$3:$E$127,4,FALSE)","v":"JM"},{"$f":"SUMIF(Einzelwertung1!$A$3:$A$55,$B16,Einzelwertung1!$J$3:$J$55)+0.017","v":1.7000000000000001E-2},{"$f":"SUMIF(Einzelwertung2!$A$3:$A$55,$B16,Einzelwertung2!$J$3:$J$55)+0.016","v":1.6E-2},{"$f":"SUMIF(Einzelwertung3!$A$3:$A$55,$B16,Einzelwertung3!$J$3:$J$55)+0.015","v":1.4999999999999999E-2},{"$f":"SUMIF(Einzelwertung4!$A$3:$A$55,$B16,Einzelwertung4!$J$3:$J$55)+0.014","v":1.4E-2},{"$f":"SUMIF(Einzelwertung5!$A$3:$A$55,$B16,Einzelwertung5!$J$3:$J$55)+0.013","v":1.2999999999999999E-2},{"$f":"SUMIF(Einzelwertung6!$A$3:$A$55,$B16,Einzelwertung6!$J$3:$J$55)+0.012","v":1.2E-2},{"$f":"SUMIF(Einzelwertung7!$A$3:$A$55,$B16,Einzelwertung7!$J$3:$J$55)+0.011","v":15.010999999999999},{"$f":"SUMIF(Einzelwertung8!$A$3:$A$55,$B16,Einzelwertung8!$J$3:$J$55)+0.01","v":15.01},{"$f":"SUMIF(Einzelwertung9!$A$3:$A$55,$B16,Einzelwertung9!$J$3:$J$55)+0.009","v":8.9999999999999993E-3},{"$f":"SUMIF(Einzelwertung10!$A$3:$A$55,$B16,Einzelwertung10!$J$3:$J$55)+0.008","v":15.007999999999999},{"$f":"SUMIF(Einzelwertung11!$A$3:$A$55,$B16,Einzelwertung11!$J$3:$J$55)+0.007","v":25.007000000000001},{"$f":"SUMIF(Einzelwertung12!$A$3:$A$55,$B16,Einzelwertung12!$J$3:$J$55)+0.006","v":21.006},{"$f":"SUMIF(Einzelwertung13!$A$3:$A$55,$B16,Einzelwertung13!$J$3:$J$55)+0.005","v":5.0000000000000001E-3},{"$f":"SUMIF(Einzelwertung14!$A$3:$A$55,$B16,Einzelwertung14!$J$3:$J$55)+0.004","v":4.0000000000000001E-3},{"$f":"SUMIF(Einzelwertung15!$A$3:$A$67,$B16,Einzelwertung15!$J$3:$J$67)+0.003","v":3.0000000000000001E-3},{"$f":"SUMIF(Einzelwertung16!$A$3:$A$55,$B16,Einzelwertung16!$J$3:$J$55)+0.002","v":2E-3},{"$f":"SUMIF(Einzelwertung17!$A$3:$A$55,$B16,Einzelwertung17!$J$3:$J$55)+0.001","v":1E-3},{"$f":"SUMIF(Einzelwertung18!$A$3:$A$55,$B16,Einzelwertung18!$J$3:$J$55)+0","v":0},{"$f":"INT(IF(COUNTIF(F16:W16,CONCATENATE(\">\",1/10))<=Hilfe!$A$1,SUM(F16:W16),SUMIF(F16:W16,CONCATENATE(\">=\",LARGE(F16:W16,Hilfe!$A$1)),F16:W16)))","v":91},5,12.5]
[15,"Kortmann, Uwe",{"$f":"VLOOKUP($B17,Teilnehmer!$A$3:$E$127,2,FALSE)","v":"Hobby"},{"$f":"VLOOKUP($B17,Teilnehmer!$A$3:$E$127,3,FALSE)","v":"Hobby32"},{"$f":"VLOOKUP($B17,Teilnehmer!$A$3:$E$127,4,FALSE)","v":"SM1"},{"$f":"SUMIF(Einzelwertung1!$A$3:$A$55,$B17,Einzelwertung1!$J$3:$J$55)+0.017","v":1.7000000000000001E-2},{"$f":"SUMIF(Einzelwertung2!$A$3:$A$55,$B17,Einzelwertung2!$J$3:$J$55)+0.016","v":1.6E-2},{"$f":"SUMIF(Einzelwertung3!$A$3:$A$55,$B17,Einzelwertung3!$J$3:$J$55)+0.015","v":1.4999999999999999E-2},{"$f":"SUMIF(Einzelwertung4!$A$3:$A$55,$B17,Einzelwertung4!$J$3:$J$55)+0.014","v":1.4E-2},{"$f":"SUMIF(Einzelwertung5!$A$3:$A$55,$B17,Einzelwertung5!$J$3:$J$55)+0.013","v":1.2999999999999999E-2},{"$f":"SUMIF(Einzelwertung6!$A$3:$A$55,$B17,Einzelwertung6!$J$3:$J$55)+0.012","v":1.2E-2},{"$f":"SUMIF(Einzelwertung7!$A$3:$A$55,$B17,Einzelwertung7!$J$3:$J$55)+0.011","v":18.010999999999999},{"$f":"SUMIF(Einzelwertung8!$A$3:$A$55,$B17,Einzelwertung8!$J$3:$J$55)+0.01","v":5.01},{"$f":"SUMIF(Einzelwertung9!$A$3:$A$55,$B17,Einzelwertung9!$J$3:$J$55)+0.009","v":15.009},{"$f":"SUMIF(Einzelwertung10!$A$3:$A$55,$B17,Einzelwertung10!$J$3:$J$55)+0.008","v":5.008},{"$f":"SUMIF(Einzelwertung11!$A$3:$A$55,$B17,Einzelwertung11!$J$3:$J$55)+0.007","v":15.007},{"$f":"SUMIF(Einzelwertung12!$A$3:$A$55,$B17,Einzelwertung12!$J$3:$J$55)+0.006","v":5.0060000000000002},{"$f":"SUMIF(Einzelwertung13!$A$3:$A$55,$B17,Einzelwertung13!$J$3:$J$55)+0.005","v":10.005000000000001},{"$f":"SUMIF(Einzelwertung14!$A$3:$A$55,$B17,Einzelwertung14!$J$3:$J$55)+0.004","v":4.0000000000000001E-3},{"$f":"SUMIF(Einzelwertung15!$A$3:$A$67,$B17,Einzelwertung15!$J$3:$J$67)+0.003","v":10.003},{"$f":"SUMIF(Einzelwertung16!$A$3:$A$55,$B17,Einzelwertung16!$J$3:$J$55)+0.002","v":10.002000000000001},{"$f":"SUMIF(Einzelwertung17!$A$3:$A$55,$B17,Einzelwertung17!$J$3:$J$55)+0.001","v":1E-3},{"$f":"SUMIF(Einzelwertung18!$A$3:$A$55,$B17,Einzelwertung18!$J$3:$J$55)+0","v":0},{"$f":"INT(IF(COUNTIF(F17:W17,CONCATENATE(\">\",1/10))<=Hilfe!$A$1,SUM(F17:W17),SUMIF(F17:W17,CONCATENATE(\">=\",LARGE(F17:W17,Hilfe!$A$1)),F17:W17)))","v":88},9,45]
[16,"Schmidtbauer, Günter",{"$f":"VLOOKUP($B18,Teilnehmer!$A$3:$E$127,2,FALSE)","v":"Hobby"},{"$f":"VLOOKUP($B18,Teilnehmer!$A$3:$E$127,3,FALSE)","v":"Hobby4"},{"$f":"VLOOKUP($B18,Teilnehmer!$A$3:$E$127,4,FALSE)","v":"SM2"},{"$f":"SUMIF(Einzelwertung1!$A$3:$A$55,$B18,Einzelwertung1!$J$3:$J$55)+0.017","v":1.7000000000000001E-2},{"$f":"SUMIF(Einzelwertung2!$A$3:$A$55,$B18,Einzelwertung2!$J$3:$J$55)+0.016","v":1.6E-2},{"$f":"SUMIF(Einzelwertung3!$A$3:$A$55,$B18,Einzelwertung3!$J$3:$J$55)+0.015","v":1.4999999999999999E-2},{"$f":"SUMIF(Einzelwertung4!$A$3:$A$55,$B18,Einzelwertung4!$J$3:$J$55)+0.014","v":1.4E-2},{"$f":"SUMIF(Einzelwertung5!$A$3:$A$55,$B18,Einzelwertung5!$J$3:$J$55)+0.013","v":1.2999999999999999E-2},{"$f":"SUMIF(Einzelwertung6!$A$3:$A$55,$B18,Einzelwertung6!$J$3:$J$55)+0.012","v":10.012},{"$f":"SUMIF(Einzelwertung7!$A$3:$A$55,$B18,Einzelwertung7!$J$3:$J$55)+0.011","v":3.0110000000000001},{"$f":"SUMIF(Einzelwertung8!$A$3:$A$55,$B18,Einzelwertung8!$J$3:$J$55)+0.01","v":5.01},{"$f":"SUMIF(Einzelwertung9!$A$3:$A$55,$B18,Einzelwertung9!$J$3:$J$55)+0.009","v":5.0090000000000003},{"$f":"SUMIF(Einzelwertung10!$A$3:$A$55,$B18,Einzelwertung10!$J$3:$J$55)+0.008","v":18.007999999999999},{"$f":"SUMIF(Einzelwertung11!$A$3:$A$55,$B18,Einzelwertung11!$J$3:$J$55)+0.007","v":25.007000000000001},{"$f":"SUMIF(Einzelwertung12!$A$3:$A$55,$B18,Einzelwertung12!$J$3:$J$55)+0.006","v":5.0060000000000002},{"$f":"SUMIF(Einzelwertung13!$A$3:$A$55,$B18,Einzelwertung13!$J$3:$J$55)+0.005","v":3.0049999999999999},{"$f":"SUMIF(Einzelwertung14!$A$3:$A$55,$B18,Einzelwertung14!$J$3:$J$55)+0.004","v":5.0039999999999996},{"$f":"SUMIF(Einzelwertung15!$A$3:$A$67,$B18,Einzelwertung15!$J$3:$J$67)+0.003","v":3.0000000000000001E-3},{"$f":"SUMIF(Einzelwertung16!$A$3:$A$55,$B18,Einzelwertung16!$J$3:$J$55)+0.002","v":2E-3},{"$f":"SUMIF(Einzelwertung17!$A$3:$A$55,$B18,Einzelwertung17!$J$3:$J$55)+0.001","v":5.0010000000000003},{"$f":"SUMIF(Einzelwertung18!$A$3:$A$55,$B18,Einzelwertung18!$J$3:$J$55)+0","v":0},{"$f":"INT(IF(COUNTIF(F18:W18,CONCATENATE(\">\",1/10))<=Hilfe!$A$1,SUM(F18:W18),SUMIF(F18:W18,CONCATENATE(\">=\",LARGE(F18:W18,Hilfe!$A$1)),F18:W18)))","v":78},10,50]
[17,"Urban, Angela",{"$f":"VLOOKUP($B19,Teilnehmer!$A$3:$E$127,2,FALSE)","v":"ASW"},{"$f":"VLOOKUP($B19,Teilnehmer!$A$3:$E$127,3,FALSE)","v":35605},{"$f":"VLOOKUP($B19,Teilnehmer!$A$3:$E$127,4,FALSE)","v":"SW1"},{"$f":"SUMIF(Einzelwertung1!$A$3:$A$55,$B19,Einzelwertung1!$J$3:$J$55)+0.017","v":1.7000000000000001E-2},{"$f":"SUMIF(Einzelwertung2!$A$3:$A$55,$B19,Einzelwertung2!$J$3:$J$55)+0.016","v":1.6E-2},{"$f":"SUMIF(Einzelwertung3!$A$3:$A$55,$B19,Einzelwertung3!$J$3:$J$55)+0.015","v":1.4999999999999999E-2},{"$f":"SUMIF(Einzelwertung4!$A$3:$A$55,$B19,Einzelwertung4!$J$3:$J$55)+0.014","v":1.4E-2},{"$f":"SUMIF(Einzelwertung5!$A$3:$A$55,$B19,Einzelwertung5!$J$3:$J$55)+0.013","v":1.2999999999999999E-2},{"$f":"SUMIF(Einzelwertung6!$A$3:$A$55,$B19,Einzelwertung6!$J$3:$J$55)+0.012","v":21.012},{"$f":"SUMIF(Einzelwertung7!$A$3:$A$55,$B19,Einzelwertung7!$J$3:$J$55)+0.011","v":1.0999999999999999E-2},{"$f":"SUMIF(Einzelwertung8!$A$3:$A$55,$B19,Einzelwertung8!$J$3:$J$55)+0.01","v":3.01},{"$f":"SUMIF(Einzelwertung9!$A$3:$A$55,$B19,Einzelwertung9!$J$3:$J$55)+0.009","v":8.9999999999999993E-3},{"$f":"SUMIF(Einzelwertung10!$A$3:$A$55,$B19,Einzelwertung10!$J$3:$J$55)+0.008","v":5.008},{"$f":"SUMIF(Einzelwertung11!$A$3:$A$55,$B19,Einzelwertung11!$J$3:$J$55)+0.007","v":21.007000000000001},{"$f":"SUMIF(Einzelwertung12!$A$3:$A$55,$B19,Einzelwertung12!$J$3:$J$55)+0.006","v":3.0059999999999998},{"$f":"SUMIF(Einzelwertung13!$A$3:$A$55,$B19,Einzelwertung13!$J$3:$J$55)+0.005","v":5.0000000000000001E-3},{"$f":"SUMIF(Einzelwertung14!$A$3:$A$55,$B19,Einzelwertung14!$J$3:$J$55)+0.004","v":10.004},{"$f":"SUMIF(Einzelwertung15!$A$3:$A$67,$B19,Einzelwertung15!$J$3:$J$67)+0.003","v":3.0000000000000001E-3},{"$f":"SUMIF(Einzelwertung16!$A$3:$A$55,$B19,Einzelwertung16!$J$3:$J$55)+0.002","v":5.0019999999999998},{"$f":"SUMIF(Einzelwertung17!$A$3:$A$55,$B19,Einzelwertung17!$J$3:$J$55)+0.001","v":1E-3},{"$f":"SUMIF(Einzelwertung18!$A$3:$A$55,$B19,Einzelwertung18!$J$3:$J$55)+0","v":0},{"$f":"INT(IF(COUNTIF(F19:W19,CONCATENATE(\">\",1/10))<=Hilfe!$A$1,SUM(F19:W19),SUMIF(F19:W19,CONCATENATE(\">=\",LARGE(F19:W19,Hilfe!$A$1)),F19:W19)))","v":68},7,35]
[null,"Börgmann, Brigitte",{"$f":"VLOOKUP($B20,Teilnehmer!$A$3:$E$127,2,FALSE)","v":"Hobby"},{"$f":"VLOOKUP($B20,Teilnehmer!$A$3:$E$127,3,FALSE)","v":"Hobby6"},{"$f":"VLOOKUP($B20,Teilnehmer!$A$3:$E$127,4,FALSE)","v":"SW1"},{"$f":"SUMIF(Einzelwertung1!$A$3:$A$55,$B20,Einzelwertung1!$J$3:$J$55)+0.017","v":1.7000000000000001E-2},{"$f":"SUMIF(Einzelwertung2!$A$3:$A$55,$B20,Einzelwertung2!$J$3:$J$55)+0.016","v":1.6E-2},{"$f":"SUMIF(Einzelwertung3!$A$3:$A$55,$B20,Einzelwertung3!$J$3:$J$55)+0.015","v":1.4999999999999999E-2},{"$f":"SUMIF(Einzelwertung4!$A$3:$A$55,$B20,Einzelwertung4!$J$3:$J$55)+0.014","v":1.4E-2},{"$f":"SUMIF(Einzelwertung5!$A$3:$A$55,$B20,Einzelwertung5!$J$3:$J$55)+0.013","v":1.2999999999999999E-2},{"$f":"SUMIF(Einzelwertung6!$A$3:$A$55,$B20,Einzelwertung6!$J$3:$J$55)+0.012","v":10.012},{"$f":"SUMIF(Einzelwertung7!$A$3:$A$55,$B20,Einzelwertung7!$J$3:$J$55)+0.011","v":5.0110000000000001},{"$f":"SUMIF(Einzelwertung8!$A$3:$A$55,$B20,Einzelwertung8!$J$3:$J$55)+0.01","v":3.01},{"$f":"SUMIF(Einzelwertung9!$A$3:$A$55,$B20,Einzelwertung9!$J$3:$J$55)+0.009","v":3.0089999999999999},{"$f":"SUMIF(Einzelwertung10!$A$3:$A$55,$B20,Einzelwertung10!$J$3:$J$55)+0.008","v":18.007999999999999},{"$f":"SUMIF(Einzelwertung11!$A$3:$A$55,$B20,Einzelwertung11!$J$3:$J$55)+0.007","v":5.0069999999999997},{"$f":"SUMIF(Einzelwertung12!$A$3:$A$55,$B20,Einzelwertung12!$J$3:$J$55)+0.006","v":5.0060000000000002},{"$f":"SUMIF(Einzelwertung13!$A$3:$A$55,$B20,Einzelwertung13!$J$3:$J$55)+0.005","v":5.0049999999999999},{"$f":"SUMIF(Einzelwertung14!$A$3:$A$55,$B20,Einzelwertung14!$J$3:$J$55)+0.004","v":15.004},{"$f":"SUMIF(Einzelwertung15!$A$3:$A$67,$B20,Einzelwertung15!$J$3:$J$67)+0.003","v":3.0000000000000001E-3},{"$f":"SUMIF(Einzelwertung16!$A$3:$A$55,$B20,Einzelwertung16!$J$3:$J$55)+0.002","v":2E-3},{"$f":"SUMIF(Einzelwertung17!$A$3:$A$55,$B20,Einzelwertung17!$J$3:$J$55)+0.001","v":5.0010000000000003},{"$f":"SUMIF(Einzelwertung18!$A$3:$A$55,$B20,Einzelwertung18!$J$3:$J$55)+0","v":0},{"$f":"INT(IF(COUNTIF(F20:W20,CONCATENATE(\">\",1/10))<=Hilfe!$A$1,SUM(F20:W20),SUMIF(F20:W20,CONCATENATE(\">=\",LARGE(F20:W20,Hilfe!$A$1)),F20:W20)))","v":68},10,50]
[19,"Kersch, Uwe",{"$f":"VLOOKUP($B21,Teilnehmer!$A$3:$E$127,2,FALSE)","v":"HEV"},{"$f":"VLOOKUP($B21,Teilnehmer!$A$3:$E$127,3,FALSE)","v":67352},{"$f":"VLOOKUP($B21,Teilnehmer!$A$3:$E$127,4,FALSE)","v":"SM2"},{"$f":"SUMIF(Einzelwertung1!$A$3:$A$55,$B21,Einzelwertung1!$J$3:$J$55)+0.017","v":1.7000000000000001E-2},{"$f":"SUMIF(Einzelwertung2!$A$3:$A$55,$B21,Einzelwertung2!$J$3:$J$55)+0.016","v":1.6E-2},{"$f":"SUMIF(Einzelwertung3!$A$3:$A$55,$B21,Einzelwertung3!$J$3:$J$55)+0.015","v":1.4999999999999999E-2},{"$f":"SUMIF(Einzelwertung4!$A$3:$A$55,$B21,Einzelwertung4!$J$3:$J$55)+0.014","v":1.4E-2},{"$f":"SUMIF(Einzelwertung5!$A$3:$A$55,$B21,Einzelwertung5!$J$3:$J$55)+0.013","v":1.2999999999999999E-2},{"$f":"SUMIF(Einzelwertung6!$A$3:$A$55,$B21,Einzelwertung6!$J$3:$J$55)+0.012","v":10.012},{"$f":"SUMIF(Einzelwertung7!$A$3:$A$55,$B21,Einzelwertung7!$J$3:$J$55)+0.011","v":25.010999999999999},{"$f":"SUMIF(Einzelwertung8!$A$3:$A$55,$B21,Einzelwertung8!$J$3:$J$55)+0.01","v":0.01},{"$f":"SUMIF(Einzelwertung9!$A$3:$A$55,$B21,Einzelwertung9!$J$3:$J$55)+0.009","v":8.9999999999999993E-3},{"$f":"SUMIF(Einzelwertung10!$A$3:$A$55,$B21,Einzelwertung10!$J$3:$J$55)+0.008","v":10.007999999999999},{"$f":"SUMIF(Einzelwertung11!$A$3:$A$55,$B21,Einzelwertung11!$J$3:$J$55)+0.007","v":7.0000000000000001E-3},{"$f":"SUMIF(Einzelwertung12!$A$3:$A$55,$B21,Einzelwertung12!$J$3:$J$55)+0.006","v":6.0000000000000001E-3},{"$f":"SUMIF(Einzelwertung13!$A$3:$A$55,$B21,Einzelwertung13!$J$3:$J$55)+0.005","v":5.0049999999999999},{"$f":"SUMIF(Einzelwertung14!$A$3:$A$55,$B21,Einzelwertung14!$J$3:$J$55)+0.004","v":10.004},{"$f":"SUMIF(Einzelwertung15!$A$3:$A$67,$B21,Einzelwertung15!$J$3:$J$67)+0.003","v":5.0030000000000001},{"$f":"SUMIF(Einzelwertung16!$A$3:$A$55,$B21,Einzelwertung16!$J$3:$J$55)+0.002","v":2E-3},{"$f":"SUMIF(Einzelwertung17!$A$3:$A$55,$B21,Einzelwertung17!$J$3:$J$55)+0.001","v":1E-3},{"$f":"SUMIF(Einzelwertung18!$A$3:$A$55,$B21,Einzelwertung18!$J$3:$J$55)+0","v":0},{"$f":"INT(IF(COUNTIF(F21:W21,CONCATENATE(\">\",1/10))<=Hilfe!$A$1,SUM(F21:W21),SUMIF(F21:W21,CONCATENATE(\">=\",LARGE(F21:W21,Hilfe!$A$1)),F21:W21)))","v":65},6,30]
[20,"Kalhöfer, Anna",{"$f":"VLOOKUP($B22,Teilnehmer!$A$3:$E$127,2,FALSE)","v":"ASW"},{"$f":"VLOOKUP($B22,Teilnehmer!$A$3:$E$127,3,FALSE)","v":4222},{"$f":"VLOOKUP($B22,Teilnehmer!$A$3:$E$127,4,FALSE)","v":"SW2"},{"$f":"SUMIF(Einzelwertung1!$A$3:$A$55,$B22,Einzelwertung1!$J$3:$J$55)+0.017","v":1.7000000000000001E-2},{"$f":"SUMIF(Einzelwertung2!$A$3:$A$55,$B22,Einzelwertung2!$J$3:$J$55)+0.016","v":1.6E-2},{"$f":"SUMIF(Einzelwertung3!$A$3:$A$55,$B22,Einzelwertung3!$J$3:$J$55)+0.015","v":1.4999999999999999E-2},{"$f":"SUMIF(Einzelwertung4!$A$3:$A$55,$B22,Einzelwertung4!$J$3:$J$55)+0.014","v":1.4E-2},{"$f":"SUMIF(Einzelwertung5!$A$3:$A$55,$B22,Einzelwertung5!$J$3:$J$55)+0.013","v":1.2999999999999999E-2},{"$f":"SUMIF(Einzelwertung6!$A$3:$A$55,$B22,Einzelwertung6!$J$3:$J$55)+0.012","v":1.2E-2},{"$f":"SUMIF(Einzelwertung7!$A$3:$A$55,$B22,Einzelwertung7!$J$3:$J$55)+0.011","v":1.0999999999999999E-2},{"$f":"SUMIF(Einzelwertung8!$A$3:$A$55,$B22,Einzelwertung8!$J$3:$J$55)+0.01","v":0.01},{"$f":"SUMIF(Einzelwertung9!$A$3:$A$55,$B22,Einzelwertung9!$J$3:$J$55)+0.009","v":8.9999999999999993E-3},{"$f":"SUMIF(Einzelwertung10!$A$3:$A$55,$B22,Einzelwertung10!$J$3:$J$55)+0.008","v":8.0000000000000002E-3},{"$f":"SUMIF(Einzelwertung11!$A$3:$A$55,$B22,Einzelwertung11!$J$3:$J$55)+0.007","v":7.0000000000000001E-3},{"$f":"SUMIF(Einzelwertung12!$A$3:$A$55,$B22,Einzelwertung12!$J$3:$J$55)+0.006","v":21.006},{"$f":"SUMIF(Einzelwertung13!$A$3:$A$55,$B22,Einzelwertung13!$J$3:$J$55)+0.005","v":15.005000000000001},{"$f":"SUMIF(Einzelwertung14!$A$3:$A$55,$B22,Einzelwertung14!$J$3:$J$55)+0.004","v":10.004},{"$f":"SUMIF(Einzelwertung15!$A$3:$A$67,$B22,Einzelwertung15!$J$3:$J$67)+0.003","v":10.003},{"$f":"SUMIF(Einzelwertung16!$A$3:$A$55,$B22,Einzelwertung16!$J$3:$J$55)+0.002","v":2E-3},{"$f":"SUMIF(Einzelwertung17!$A$3:$A$55,$B22,Einzelwertung17!$J$3:$J$55)+0.001","v":1E-3},{"$f":"SUMIF(Einzelwertung18!$A$3:$A$55,$B22,Einzelwertung18!$J$3:$J$55)+0","v":0},{"$f":"INT(IF(COUNTIF(F22:W22,CONCATENATE(\">\",1/10))<=Hilfe!$A$1,SUM(F22:W22),SUMIF(F22:W22,CONCATENATE(\">=\",LARGE(F22:W22,Hilfe!$A$1)),F22:W22)))","v":56},4,20]
[null,"Lehmann, Niclas",{"$f":"VLOOKUP($B23,Teilnehmer!$A$3:$E$127,2,FALSE)","v":"Oly"},{"$f":"VLOOKUP($B23,Teilnehmer!$A$3:$E$127,3,FALSE)","v":67372},{"$f":"VLOOKUP($B23,Teilnehmer!$A$3:$E$127,4,FALSE)","v":"H"},{"$f":"SUMIF(Einzelwertung1!$A$3:$A$55,$B23,Einzelwertung1!$J$3:$J$55)+0.017","v":1.7000000000000001E-2},{"$f":"SUMIF(Einzelwertung2!$A$3:$A$55,$B23,Einzelwertung2!$J$3:$J$55)+0.016","v":1.6E-2},{"$f":"SUMIF(Einzelwertung3!$A$3:$A$55,$B23,Einzelwertung3!$J$3:$J$55)+0.015","v":1.4999999999999999E-2},{"$f":"SUMIF(Einzelwertung4!$A$3:$A$55,$B23,Einzelwertung4!$J$3:$J$55)+0.014","v":1.4E-2},{"$f":"SUMIF(Einzelwertung5!$A$3:$A$55,$B23,Einzelwertung5!$J$3:$J$55)+0.013","v":1.2999999999999999E-2},{"$f":"SUMIF(Einzelwertung6!$A$3:$A$55,$B23,Einzelwertung6!$J$3:$J$55)+0.012","v":1.2E-2},{"$f":"SUMIF(Einzelwertung7!$A$3:$A$55,$B23,Einzelwertung7!$J$3:$J$55)+0.011","v":15.010999999999999},{"$f":"SUMIF(Einzelwertung8!$A$3:$A$55,$B23,Einzelwertung8!$J$3:$J$55)+0.01","v":21.01},{"$f":"SUMIF(Einzelwertung9!$A$3:$A$55,$B23,Einzelwertung9!$J$3:$J$55)+0.009","v":15.009},{"$f":"SUMIF(Einzelwertung10!$A$3:$A$55,$B23,Einzelwertung10!$J$3:$J$55)+0.008","v":5.008},{"$f":"SUMIF(Einzelwertung11!$A$3:$A$55,$B23,Einzelwertung11!$J$3:$J$55)+0.007","v":7.0000000000000001E-3},{"$f":"SUMIF(Einzelwertung12!$A$3:$A$55,$B23,Einzelwertung12!$J$3:$J$55)+0.006","v":6.0000000000000001E-3},{"$f":"SUMIF(Einzelwertung13!$A$3:$A$55,$B23,Einzelwertung13!$J$3:$J$55)+0.005","v":5.0000000000000001E-3},{"$f":"SUMIF(Einzelwertung14!$A$3:$A$55,$B23,Einzelwertung14!$J$3:$J$55)+0.004","v":4.0000000000000001E-3},{"$f":"SUMIF(Einzelwertung15!$A$3:$A$67,$B23,Einzelwertung15!$J$3:$J$67)+0.003","v":3.0000000000000001E-3},{"$f":"SUMIF(Einzelwertung16!$A$3:$A$55,$B23,Einzelwertung16!$J$3:$J$55)+0.002","v":2E-3},{"$f":"SUMIF(Einzelwertung17!$A$3:$A$55,$B23,Einzelwertung17!$J$3:$J$55)+0.001","v":1E-3},{"$f":"SUMIF(Einzelwertung18!$A$3:$A$55,$B23,Einzelwertung18!$J$3:$J$55)+0","v":0},{"$f":"INT(IF(COUNTIF(F23:W23,CONCATENATE(\">\",1/10))<=Hilfe!$A$1,SUM(F23:W23),SUMIF(F23:W23,CONCATENATE(\">=\",LARGE(F23:W23,Hilfe!$A$1)),F23:W23)))","v":56},4,20]
[22,"Schmidt, Barbara",{"$f":"VLOOKUP($B24,Teilnehmer!$A$3:$E$127,2,FALSE)","v":"Hobby"},{"$f":"VLOOKUP($B24,Teilnehmer!$A$3:$E$127,3,FALSE)","v":3202768},{"$f":"VLOOKUP($B24,Teilnehmer!$A$3:$E$127,4,FALSE)","v":"SW2"},{"$f":"SUMIF(Einzelwertung1!$A$3:$A$55,$B24,Einzelwertung1!$J$3:$J$55)+0.017","v":1.7000000000000001E-2},{"$f":"SUMIF(Einzelwertung2!$A$3:$A$55,$B24,Einzelwertung2!$J$3:$J$55)+0.016","v":1.6E-2},{"$f":"SUMIF(Einzelwertung3!$A$3:$A$55,$B24,Einzelwertung3!$J$3:$J$55)+0.015","v":1.4999999999999999E-2},{"$f":"SUMIF(Einzelwertung4!$A$3:$A$55,$B24,Einzelwertung4!$J$3:$J$55)+0.014","v":1.4E-2},{"$f":"SUMIF(Einzelwertung5!$A$3:$A$55,$B24,Einzelwertung5!$J$3:$J$55)+0.013","v":1.2999999999999999E-2},{"$f":"SUMIF(Einzelwertung6!$A$3:$A$55,$B24,Einzelwertung6!$J$3:$J$55)+0.012","v":5.0119999999999996},{"$f":"SUMIF(Einzelwertung7!$A$3:$A$55,$B24,Einzelwertung7!$J$3:$J$55)+0.011","v":1.0109999999999999},{"$f":"SUMIF(Einzelwertung8!$A$3:$A$55,$B24,Einzelwertung8!$J$3:$J$55)+0.01","v":0.01},{"$f":"SUMIF(Einzelwertung9!$A$3:$A$55,$B24,Einzelwertung9!$J$3:$J$55)+0.009","v":5.0090000000000003},{"$f":"SUMIF(Einzelwertung10!$A$3:$A$55,$B24,Einzelwertung10!$J$3:$J$55)+0.008","v":5.008},{"$f":"SUMIF(Einzelwertung11!$A$3:$A$55,$B24,Einzelwertung11!$J$3:$J$55)+0.007","v":3.0070000000000001},{"$f":"SUMIF(Einzelwertung12!$A$3:$A$55,$B24,Einzelwertung12!$J$3:$J$55)+0.006","v":3.0059999999999998},{"$f":"SUMIF(Einzelwertung13!$A$3:$A$55,$B24,Einzelwertung13!$J$3:$J$55)+0.005","v":5.0000000000000001E-3},{"$f":"SUMIF(Einzelwertung14!$A$3:$A$55,$B24,Einzelwertung14!$J$3:$J$55)+0.004","v":4.0000000000000001E-3},{"$f":"SUMIF(Einzelwertung15!$A$3:$A$67,$B24,Einzelwertung15!$J$3:$J$67)+0.003","v":5.0030000000000001},{"$f":"SUMIF(Einzelwertung16!$A$3:$A$55,$B24,Einzelwertung16!$J$3:$J$55)+0.002","v":2E-3},{"$f":"SUMIF(Einzelwertung17!$A$3:$A$55,$B24,Einzelwertung17!$J$3:$J$55)+0.001","v":15.000999999999999},{"$f":"SUMIF(Einzelwertung18!$A$3:$A$55,$B24,Einzelwertung18!$J$3:$J$55)+0","v":0},{"$f":"INT(IF(COUNTIF(F24:W24,CONCATENATE(\">\",1/10))<=Hilfe!$A$1,SUM(F24:W24),SUMIF(F24:W24,CONCATENATE(\">=\",LARGE(F24:W24,Hilfe!$A$1)),F24:W24)))","v":42},8,40]
[23,"Paffrath, Siegfried",{"$f":"VLOOKUP($B25,Teilnehmer!$A$3:$E$127,2,FALSE)","v":"HEV"},{"$f":"VLOOKUP($B25,Teilnehmer!$A$3:$E$127,3,FALSE)","v":33511},{"$f":"VLOOKUP($B25,Teilnehmer!$A$3:$E$127,4,FALSE)","v":"SM2"},{"$f":"SUMIF(Einzelwertung1!$A$3:$A$55,$B25,Einzelwertung1!$J$3:$J$55)+0.017","v":1.7000000000000001E-2},{"$f":"SUMIF(Einzelwertung2!$A$3:$A$55,$B25,Einzelwertung2!$J$3:$J$55)+0.016","v":1.6E-2},{"$f":"SUMIF(Einzelwertung3!$A$3:$A$55,$B25,Einzelwertung3!$J$3:$J$55)+0.015","v":1.4999999999999999E-2},{"$f":"SUMIF(Einzelwertung4!$A$3:$A$55,$B25,Einzelwertung4!$J$3:$J$55)+0.014","v":1.4E-2},{"$f":"SUMIF(Einzelwertung5!$A$3:$A$55,$B25,Einzelwertung5!$J$3:$J$55)+0.013","v":1.2999999999999999E-2},{"$f":"SUMIF(Einzelwertung6!$A$3:$A$55,$B25,Einzelwertung6!$J$3:$J$55)+0.012","v":1.2E-2},{"$f":"SUMIF(Einzelwertung7!$A$3:$A$55,$B25,Einzelwertung7!$J$3:$J$55)+0.011","v":15.010999999999999},{"$f":"SUMIF(Einzelwertung8!$A$3:$A$55,$B25,Einzelwertung8!$J$3:$J$55)+0.01","v":15.01},{"$f":"SUMIF(Einzelwertung9!$A$3:$A$55,$B25,Einzelwertung9!$J$3:$J$55)+0.009","v":8.9999999999999993E-3},{"$f":"SUMIF(Einzelwertung10!$A$3:$A$55,$B25,Einzelwertung10!$J$3:$J$55)+0.008","v":8.0000000000000002E-3},{"$f":"SUMIF(Einzelwertung11!$A$3:$A$55,$B25,Einzelwertung11!$J$3:$J$55)+0.007","v":7.0000000000000001E-3},{"$f":"SUMIF(Einzelwertung12!$A$3:$A$55,$B25,Einzelwertung12!$J$3:$J$55)+0.006","v":6.0000000000000001E-3},{"$f":"SUMIF(Einzelwertung13!$A$3:$A$55,$B25,Einzelwertung13!$J$3:$J$55)+0.005","v":5.0000000000000001E-3},{"$f":"SUMIF(Einzelwertung14!$A$3:$A$55,$B25,Einzelwertung14!$J$3:$J$55)+0.004","v":4.0000000000000001E-3},{"$f":"SUMIF(Einzelwertung15!$A$3:$A$67,$B25,Einzelwertung15!$J$3:$J$67)+0.003","v":3.0000000000000001E-3},{"$f":"SUMIF(Einzelwertung16!$A$3:$A$55,$B25,Einzelwertung16!$J$3:$J$55)+0.002","v":2E-3},{"$f":"SUMIF(Einzelwertung17!$A$3:$A$55,$B25,Einzelwertung17!$J$3:$J$55)+0.001","v":1E-3},{"$f":"SUMIF(Einzelwertung18!$A$3:$A$55,$B25,Einzelwertung18!$J$3:$J$55)+0","v":0},{"$f":"INT(IF(COUNTIF(F25:W25,CONCATENATE(\">\",1/10))<=Hilfe!$A$1,SUM(F25:W25),SUMIF(F25:W25,CONCATENATE(\">=\",LARGE(F25:W25,Hilfe!$A$1)),F25:W25)))","v":30},2,10]
[24,"Brunnenkant, Frank",{"$f":"VLOOKUP($B26,Teilnehmer!$A$3:$E$127,2,FALSE)","v":"Hobby"},{"$f":"VLOOKUP($B26,Teilnehmer!$A$3:$E$127,3,FALSE)","v":"Hobby38"},{"$f":"VLOOKUP($B26,Teilnehmer!$A$3:$E$127,4,FALSE)","v":"SM1"},{"$f":"SUMIF(Einzelwertung1!$A$3:$A$55,$B26,Einzelwertung1!$J$3:$J$55)+0.017","v":1.7000000000000001E-2},{"$f":"SUMIF(Einzelwertung2!$A$3:$A$55,$B26,Einzelwertung2!$J$3:$J$55)+0.016","v":1.6E-2},{"$f":"SUMIF(Einzelwertung3!$A$3:$A$55,$B26,Einzelwertung3!$J$3:$J$55)+0.015","v":1.4999999999999999E-2},{"$f":"SUMIF(Einzelwertung4!$A$3:$A$55,$B26,Einzelwertung4!$J$3:$J$55)+0.014","v":1.4E-2},{"$f":"SUMIF(Einzelwertung5!$A$3:$A$55,$B26,Einzelwertung5!$J$3:$J$55)+0.013","v":1.2999999999999999E-2},{"$f":"SUMIF(Einzelwertung6!$A$3:$A$55,$B26,Einzelwertung6!$J$3:$J$55)+0.012","v":1.2E-2},{"$f":"SUMIF(Einzelwertung7!$A$3:$A$55,$B26,Einzelwertung7!$J$3:$J$55)+0.011","v":1.0999999999999999E-2},{"$f":"SUMIF(Einzelwertung8!$A$3:$A$55,$B26,Einzelwertung8!$J$3:$J$55)+0.01","v":0.01},{"$f":"SUMIF(Einzelwertung9!$A$3:$A$55,$B26,Einzelwertung9!$J$3:$J$55)+0.009","v":3.0089999999999999},{"$f":"SUMIF(Einzelwertung10!$A$3:$A$55,$B26,Einzelwertung10!$J$3:$J$55)+0.008","v":8.0000000000000002E-3},{"$f":"SUMIF(Einzelwertung11!$A$3:$A$55,$B26,Einzelwertung11!$J$3:$J$55)+0.007","v":7.0000000000000001E-3},{"$f":"SUMIF(Einzelwertung12!$A$3:$A$55,$B26,Einzelwertung12!$J$3:$J$55)+0.006","v":6.0000000000000001E-3},{"$f":"SUMIF(Einzelwertung13!$A$3:$A$55,$B26,Einzelwertung13!$J$3:$J$55)+0.005","v":5.0000000000000001E-3},{"$f":"SUMIF(Einzelwertung14!$A$3:$A$55,$B26,Einzelwertung14!$J$3:$J$55)+0.004","v":4.0000000000000001E-3},{"$f":"SUMIF(Einzelwertung15!$A$3:$A$67,$B26,Einzelwertung15!$J$3:$J$67)+0.003","v":15.003},{"$f":"SUMIF(Einzelwertung16!$A$3:$A$55,$B26,Einzelwertung16!$J$3:$J$55)+0.002","v":2E-3},{"$f":"SUMIF(Einzelwertung17!$A$3:$A$55,$B26,Einzelwertung17!$J$3:$J$55)+0.001","v":10.000999999999999},{"$f":"SUMIF(Einzelwertung18!$A$3:$A$55,$B26,Einzelwertung18!$J$3:$J$55)+0","v":0},{"$f":"INT(IF(COUNTIF(F26:W26,CONCATENATE(\">\",1/10))<=Hilfe!$A$1,SUM(F26:W26),SUMIF(F26:W26,CONCATENATE(\">=\",LARGE(F26:W26,Hilfe!$A$1)),F26:W26)))","v":28},3,15]
[25,"Battling, Hendrik",{"$f":"VLOOKUP($B27,Teilnehmer!$A$3:$E$127,2,FALSE)","v":"ASW"},{"$f":"VLOOKUP($B27,Teilnehmer!$A$3:$E$127,3,FALSE)","v":37799},{"$f":"VLOOKUP($B27,Teilnehmer!$A$3:$E$127,4,FALSE)","v":"H"},{"$f":"SUMIF(Einzelwertung1!$A$3:$A$55,$B27,Einzelwertung1!$J$3:$J$55)+0.017","v":1.7000000000000001E-2},{"$f":"SUMIF(Einzelwertung2!$A$3:$A$55,$B27,Einzelwertung2!$J$3:$J$55)+0.016","v":1.6E-2},{"$f":"SUMIF(Einzelwertung3!$A$3:$A$55,$B27,Einzelwertung3!$J$3:$J$55)+0.015","v":1.4999999999999999E-2},{"$f":"SUMIF(Einzelwertung4!$A$3:$A$55,$B27,Einzelwertung4!$J$3:$J$55)+0.014","v":1.4E-2},{"$f":"SUMIF(Einzelwertung5!$A$3:$A$55,$B27,Einzelwertung5!$J$3:$J$55)+0.013","v":1.2999999999999999E-2},{"$f":"SUMIF(Einzelwertung6!$A$3:$A$55,$B27,Einzelwertung6!$J$3:$J$55)+0.012","v":1.2E-2},{"$f":"SUMIF(Einzelwertung7!$A$3:$A$55,$B27,Einzelwertung7!$J$3:$J$55)+0.011","v":1.0999999999999999E-2},{"$f":"SUMIF(Einzelwertung8!$A$3:$A$55,$B27,Einzelwertung8!$J$3:$J$55)+0.01","v":0.01},{"$f":"SUMIF(Einzelwertung9!$A$3:$A$55,$B27,Einzelwertung9!$J$3:$J$55)+0.009","v":8.9999999999999993E-3},{"$f":"SUMIF(Einzelwertung10!$A$3:$A$55,$B27,Einzelwertung10!$J$3:$J$55)+0.008","v":8.0000000000000002E-3},{"$f":"SUMIF(Einzelwertung11!$A$3:$A$55,$B27,Einzelwertung11!$J$3:$J$55)+0.007","v":7.0000000000000001E-3},{"$f":"SUMIF(Einzelwertung12!$A$3:$A$55,$B27,Einzelwertung12!$J$3:$J$55)+0.006","v":6.0000000000000001E-3},{"$f":"SUMIF(Einzelwertung13!$A$3:$A$55,$B27,Einzelwertung13!$J$3:$J$55)+0.005","v":25.004999999999999},{"$f":"SUMIF(Einzelwertung14!$A$3:$A$55,$B27,Einzelwertung14!$J$3:$J$55)+0.004","v":4.0000000000000001E-3},{"$f":"SUMIF(Einzelwertung15!$A$3:$A$67,$B27,Einzelwertung15!$J$3:$J$67)+0.003","v":3.0000000000000001E-3},{"$f":"SUMIF(Einzelwertung16!$A$3:$A$55,$B27,Einzelwertung16!$J$3:$J$55)+0.002","v":2E-3},{"$f":"SUMIF(Einzelwertung17!$A$3:$A$55,$B27,Einzelwertung17!$J$3:$J$55)+0.001","v":1E-3},{"$f":"SUMIF(Einzelwertung18!$A$3:$A$55,$B27,Einzelwertung18!$J$3:$J$55)+0","v":0},{"$f":"INT(IF(COUNTIF(F27:W27,CONCATENATE(\">\",1/10))<=Hilfe!$A$1,SUM(F27:W27),SUMIF(F27:W27,CONCATENATE(\">=\",LARGE(F27:W27,Hilfe!$A$1)),F27:W27)))","v":25},1,5]
[null,"Hettrich, Willi",{"$f":"VLOOKUP($B28,Teilnehmer!$A$3:$E$127,2,FALSE)","v":"CAS"},{"$f":"VLOOKUP($B28,Teilnehmer!$A$3:$E$127,3,FALSE)","v":35236},{"$f":"VLOOKUP($B28,Teilnehmer!$A$3:$E$127,4,FALSE)","v":"SM2"},{"$f":"SUMIF(Einzelwertung1!$A$3:$A$55,$B28,Einzelwertung1!$J$3:$J$55)+0.017","v":1.7000000000000001E-2},{"$f":"SUMIF(Einzelwertung2!$A$3:$A$55,$B28,Einzelwertung2!$J$3:$J$55)+0.016","v":1.6E-2},{"$f":"SUMIF(Einzelwertung3!$A$3:$A$55,$B28,Einzelwertung3!$J$3:$J$55)+0.015","v":1.4999999999999999E-2},{"$f":"SUMIF(Einzelwertung4!$A$3:$A$55,$B28,Einzelwertung4!$J$3:$J$55)+0.014","v":1.4E-2},{"$f":"SUMIF(Einzelwertung5!$A$3:$A$55,$B28,Einzelwertung5!$J$3:$J$55)+0.013","v":1.2999999999999999E-2},{"$f":"SUMIF(Einzelwertung6!$A$3:$A$55,$B28,Einzelwertung6!$J$3:$J$55)+0.012","v":1.2E-2},{"$f":"SUMIF(Einzelwertung7!$A$3:$A$55,$B28,Einzelwertung7!$J$3:$J$55)+0.011","v":1.0999999999999999E-2},{"$f":"SUMIF(Einzelwertung8!$A$3:$A$55,$B28,Einzelwertung8!$J$3:$J$55)+0.01","v":0.01},{"$f":"SUMIF(Einzelwertung9!$A$3:$A$55,$B28,Einzelwertung9!$J$3:$J$55)+0.009","v":8.9999999999999993E-3},{"$f":"SUMIF(Einzelwertung10!$A$3:$A$55,$B28,Einzelwertung10!$J$3:$J$55)+0.008","v":8.0000000000000002E-3},{"$f":"SUMIF(Einzelwertung11!$A$3:$A$55,$B28,Einzelwertung11!$J$3:$J$55)+0.007","v":7.0000000000000001E-3},{"$f":"SUMIF(Einzelwertung12!$A$3:$A$55,$B28,Einzelwertung12!$J$3:$J$55)+0.006","v":6.0000000000000001E-3},{"$f":"SUMIF(Einzelwertung13!$A$3:$A$55,$B28,Einzelwertung13!$J$3:$J$55)+0.005","v":5.0000000000000001E-3},{"$f":"SUMIF(Einzelwertung14!$A$3:$A$55,$B28,Einzelwertung14!$J$3:$J$55)+0.004","v":4.0000000000000001E-3},{"$f":"SUMIF(Einzelwertung15!$A$3:$A$67,$B28,Einzelwertung15!$J$3:$J$67)+0.003","v":3.0000000000000001E-3},{"$f":"SUMIF(Einzelwertung16!$A$3:$A$55,$B28,Einzelwertung16!$J$3:$J$55)+0.002","v":25.001999999999999},{"$f":"SUMIF(Einzelwertung17!$A$3:$A$55,$B28,Einzelwertung17!$J$3:$J$55)+0.001","v":1E-3},{"$f":"SUMIF(Einzelwertung18!$A$3:$A$55,$B28,Einzelwertung18!$J$3:$J$55)+0","v":0},{"$f":"INT(IF(COUNTIF(F28:W28,CONCATENATE(\">\",1/10))<=Hilfe!$A$1,SUM(F28:W28),SUMIF(F28:W28,CONCATENATE(\">=\",LARGE(F28:W28,Hilfe!$A$1)),F28:W28)))","v":25},1,5]
[null,"Wickel-Paffrath, Melanie",{"$f":"VLOOKUP($B29,Teilnehmer!$A$3:$E$127,2,FALSE)","v":"HEV"},{"$f":"VLOOKUP($B29,Teilnehmer!$A$3:$E$127,3,FALSE)","v":33510},{"$f":"VLOOKUP($B29,Teilnehmer!$A$3:$E$127,4,FALSE)","v":"D"},{"$f":"SUMIF(Einzelwertung1!$A$3:$A$55,$B29,Einzelwertung1!$J$3:$J$55)+0.017","v":1.7000000000000001E-2},{"$f":"SUMIF(Einzelwertung2!$A$3:$A$55,$B29,Einzelwertung2!$J$3:$J$55)+0.016","v":1.6E-2},{"$f":"SUMIF(Einzelwertung3!$A$3:$A$55,$B29,Einzelwertung3!$J$3:$J$55)+0.015","v":1.4999999999999999E-2},{"$f":"SUMIF(Einzelwertung4!$A$3:$A$55,$B29,Einzelwertung4!$J$3:$J$55)+0.014","v":1.4E-2},{"$f":"SUMIF(Einzelwertung5!$A$3:$A$55,$B29,Einzelwertung5!$J$3:$J$55)+0.013","v":1.2999999999999999E-2},{"$f":"SUMIF(Einzelwertung6!$A$3:$A$55,$B29,Einzelwertung6!$J$3:$J$55)+0.012","v":1.2E-2},{"$f":"SUMIF(Einzelwertung7!$A$3:$A$55,$B29,Einzelwertung7!$J$3:$J$55)+0.011","v":1.0999999999999999E-2},{"$f":"SUMIF(Einzelwertung8!$A$3:$A$55,$B29,Einzelwertung8!$J$3:$J$55)+0.01","v":25.01},{"$f":"SUMIF(Einzelwertung9!$A$3:$A$55,$B29,Einzelwertung9!$J$3:$J$55)+0.009","v":8.9999999999999993E-3},{"$f":"SUMIF(Einzelwertung10!$A$3:$A$55,$B29,Einzelwertung10!$J$3:$J$55)+0.008","v":8.0000000000000002E-3},{"$f":"SUMIF(Einzelwertung11!$A$3:$A$55,$B29,Einzelwertung11!$J$3:$J$55)+0.007","v":7.0000000000000001E-3},{"$f":"SUMIF(Einzelwertung12!$A$3:$A$55,$B29,Einzelwertung12!$J$3:$J$55)+0.006","v":6.0000000000000001E-3},{"$f":"SUMIF(Einzelwertung13!$A$3:$A$55,$B29,Einzelwertung13!$J$3:$J$55)+0.005","v":5.0000000000000001E-3},{"$f":"SUMIF(Einzelwertung14!$A$3:$A$55,$B29,Einzelwertung14!$J$3:$J$55)+0.004","v":4.0000000000000001E-3},{"$f":"SUMIF(Einzelwertung15!$A$3:$A$67,$B29,Einzelwertung15!$J$3:$J$67)+0.003","v":3.0000000000000001E-3},{"$f":"SUMIF(Einzelwertung16!$A$3:$A$55,$B29,Einzelwertung16!$J$3:$J$55)+0.002","v":2E-3},{"$f":"SUMIF(Einzelwertung17!$A$3:$A$55,$B29,Einzelwertung17!$J$3:$J$55)+0.001","v":1E-3},{"$f":"SUMIF(Einzelwertung18!$A$3:$A$55,$B29,Einzelwertung18!$J$3:$J$55)+0","v":0},{"$f":"INT(IF(COUNTIF(F29:W29,CONCATENATE(\">\",1/10))<=Hilfe!$A$1,SUM(F29:W29),SUMIF(F29:W29,CONCATENATE(\">=\",LARGE(F29:W29,Hilfe!$A$1)),F29:W29)))","v":25},1,5]
[28,"Rade, Marcus",{"$f":"VLOOKUP($B30,Teilnehmer!$A$3:$E$127,2,FALSE)","v":"ASW"},{"$f":"VLOOKUP($B30,Teilnehmer!$A$3:$E$127,3,FALSE)","v":38625},{"$f":"VLOOKUP($B30,Teilnehmer!$A$3:$E$127,4,FALSE)","v":"H"},{"$f":"SUMIF(Einzelwertung1!$A$3:$A$55,$B30,Einzelwertung1!$J$3:$J$55)+0.017","v":1.7000000000000001E-2},{"$f":"SUMIF(Einzelwertung2!$A$3:$A$55,$B30,Einzelwertung2!$J$3:$J$55)+0.016","v":1.6E-2},{"$f":"SUMIF(Einzelwertung3!$A$3:$A$55,$B30,Einzelwertung3!$J$3:$J$55)+0.015","v":1.4999999999999999E-2},{"$f":"SUMIF(Einzelwertung4!$A$3:$A$55,$B30,Einzelwertung4!$J$3:$J$55)+0.014","v":1.4E-2},{"$f":"SUMIF(Einzelwertung5!$A$3:$A$55,$B30,Einzelwertung5!$J$3:$J$55)+0.013","v":1.2999999999999999E-2},{"$f":"SUMIF(Einzelwertung6!$A$3:$A$55,$B30,Einzelwertung6!$J$3:$J$55)+0.012","v":1.2E-2},{"$f":"SUMIF(Einzelwertung7!$A$3:$A$55,$B30,Einzelwertung7!$J$3:$J$55)+0.011","v":1.0999999999999999E-2},{"$f":"SUMIF(Einzelwertung8!$A$3:$A$55,$B30,Einzelwertung8!$J$3:$J$55)+0.01","v":0.01},{"$f":"SUMIF(Einzelwertung9!$A$3:$A$55,$B30,Einzelwertung9!$J$3:$J$55)+0.009","v":8.9999999999999993E-3},{"$f":"SUMIF(Einzelwertung10!$A$3:$A$55,$B30,Einzelwertung10!$J$3:$J$55)+0.008","v":8.0000000000000002E-3},{"$f":"SUMIF(Einzelwertung11!$A$3:$A$55,$B30,Einzelwertung11!$J$3:$J$55)+0.007","v":7.0000000000000001E-3},{"$f":"SUMIF(Einzelwertung12!$A$3:$A$55,$B30,Einzelwertung12!$J$3:$J$55)+0.006","v":6.0000000000000001E-3},{"$f":"SUMIF(Einzelwertung13!$A$3:$A$55,$B30,Einzelwertung13!$J$3:$J$55)+0.005","v":21.004999999999999},{"$f":"SUMIF(Einzelwertung14!$A$3:$A$55,$B30,Einzelwertung14!$J$3:$J$55)+0.004","v":4.0000000000000001E-3},{"$f":"SUMIF(Einzelwertung15!$A$3:$A$67,$B30,Einzelwertung15!$J$3:$J$67)+0.003","v":3.0000000000000001E-3},{"$f":"SUMIF(Einzelwertung16!$A$3:$A$55,$B30,Einzelwertung16!$J$3:$J$55)+0.002","v":2E-3},{"$f":"SUMIF(Einzelwertung17!$A$3:$A$55,$B30,Einzelwertung17!$J$3:$J$55)+0.001","v":1E-3},{"$f":"SUMIF(Einzelwertung18!$A$3:$A$55,$B30,Einzelwertung18!$J$3:$J$55)+0","v":0},{"$f":"INT(IF(COUNTIF(F30:W30,CONCATENATE(\">\",1/10))<=Hilfe!$A$1,SUM(F30:W30),SUMIF(F30:W30,CONCATENATE(\">=\",LARGE(F30:W30,Hilfe!$A$1)),F30:W30)))","v":21},1,5]
[29,"Schmitt, Jürgen",{"$f":"VLOOKUP($B31,Teilnehmer!$A$3:$E$127,2,FALSE)","v":"ASW"},{"$f":"VLOOKUP($B31,Teilnehmer!$A$3:$E$127,3,FALSE)","v":44955},{"$f":"VLOOKUP($B31,Teilnehmer!$A$3:$E$127,4,FALSE)","v":"SM1"},{"$f":"SUMIF(Einzelwertung1!$A$3:$A$55,$B31,Einzelwertung1!$J$3:$J$55)+0.017","v":1.7000000000000001E-2},{"$f":"SUMIF(Einzelwertung2!$A$3:$A$55,$B31,Einzelwertung2!$J$3:$J$55)+0.016","v":1.6E-2},{"$f":"SUMIF(Einzelwertung3!$A$3:$A$55,$B31,Einzelwertung3!$J$3:$J$55)+0.015","v":1.4999999999999999E-2},{"$f":"SUMIF(Einzelwertung4!$A$3:$A$55,$B31,Einzelwertung4!$J$3:$J$55)+0.014","v":1.4E-2},{"$f":"SUMIF(Einzelwertung5!$A$3:$A$55,$B31,Einzelwertung5!$J$3:$J$55)+0.013","v":1.2999999999999999E-2},{"$f":"SUMIF(Einzelwertung6!$A$3:$A$55,$B31,Einzelwertung6!$J$3:$J$55)+0.012","v":1.2E-2},{"$f":"SUMIF(Einzelwertung7!$A$3:$A$55,$B31,Einzelwertung7!$J$3:$J$55)+0.011","v":15.010999999999999},{"$f":"SUMIF(Einzelwertung8!$A$3:$A$55,$B31,Einzelwertung8!$J$3:$J$55)+0.01","v":5.01},{"$f":"SUMIF(Einzelwertung9!$A$3:$A$55,$B31,Einzelwertung9!$J$3:$J$55)+0.009","v":8.9999999999999993E-3},{"$f":"SUMIF(Einzelwertung10!$A$3:$A$55,$B31,Einzelwertung10!$J$3:$J$55)+0.008","v":8.0000000000000002E-3},{"$f":"SUMIF(Einzelwertung11!$A$3:$A$55,$B31,Einzelwertung11!$J$3:$J$55)+0.007","v":7.0000000000000001E-3},{"$f":"SUMIF(Einzelwertung12!$A$3:$A$55,$B31,Einzelwertung12!$J$3:$J$55)+0.006","v":6.0000000000000001E-3},{"$f":"SUMIF(Einzelwertung13!$A$3:$A$55,$B31,Einzelwertung13!$J$3:$J$55)+0.005","v":5.0000000000000001E-3},{"$f":"SUMIF(Einzelwertung14!$A$3:$A$55,$B31,Einzelwertung14!$J$3:$J$55)+0.004","v":4.0000000000000001E-3},{"$f":"SUMIF(Einzelwertung15!$A$3:$A$67,$B31,Einzelwertung15!$J$3:$J$67)+0.003","v":3.0000000000000001E-3},{"$f":"SUMIF(Einzelwertung16!$A$3:$A$55,$B31,Einzelwertung16!$J$3:$J$55)+0.002","v":2E-3},{"$f":"SUMIF(Einzelwertung17!$A$3:$A$55,$B31,Einzelwertung17!$J$3:$J$55)+0.001","v":1E-3},{"$f":"SUMIF(Einzelwertung18!$A$3:$A$55,$B31,Einzelwertung18!$J$3:$J$55)+0","v":0},{"$f":"INT(IF(COUNTIF(F31:W31,CONCATENATE(\">\",1/10))<=Hilfe!$A$1,SUM(F31:W31),SUMIF(F31:W31,CONCATENATE(\">=\",LARGE(F31:W31,Hilfe!$A$1)),F31:W31)))","v":20},2,10]
[30,"Hickert, Peter",{"$f":"VLOOKUP($B32,Teilnehmer!$A$3:$E$127,2,FALSE)","v":"ASW"},{"$f":"VLOOKUP($B32,Teilnehmer!$A$3:$E$127,3,FALSE)","v":46250},{"$f":"VLOOKUP($B32,Teilnehmer!$A$3:$E$127,4,FALSE)","v":"SM2"},{"$f":"SUMIF(Einzelwertung1!$A$3:$A$55,$B32,Einzelwertung1!$J$3:$J$55)+0.017","v":1.7000000000000001E-2},{"$f":"SUMIF(Einzelwertung2!$A$3:$A$55,$B32,Einzelwertung2!$J$3:$J$55)+0.016","v":1.6E-2},{"$f":"SUMIF(Einzelwertung3!$A$3:$A$55,$B32,Einzelwertung3!$J$3:$J$55)+0.015","v":1.4999999999999999E-2},{"$f":"SUMIF(Einzelwertung4!$A$3:$A$55,$B32,Einzelwertung4!$J$3:$J$55)+0.014","v":1.4E-2},{"$f":"SUMIF(Einzelwertung5!$A$3:$A$55,$B32,Einzelwertung5!$J$3:$J$55)+0.013","v":1.2999999999999999E-2},{"$f":"SUMIF(Einzelwertung6!$A$3:$A$55,$B32,Einzelwertung6!$J$3:$J$55)+0.012","v":1.2E-2},{"$f":"SUMIF(Einzelwertung7!$A$3:$A$55,$B32,Einzelwertung7!$J$3:$J$55)+0.011","v":1.0999999999999999E-2},{"$f":"SUMIF(Einzelwertung8!$A$3:$A$55,$B32,Einzelwertung8!$J$3:$J$55)+0.01","v":0.01},{"$f":"SUMIF(Einzelwertung9!$A$3:$A$55,$B32,Einzelwertung9!$J$3:$J$55)+0.009","v":8.9999999999999993E-3},{"$f":"SUMIF(Einzelwertung10!$A$3:$A$55,$B32,Einzelwertung10!$J$3:$J$55)+0.008","v":8.0000000000000002E-3},{"$f":"SUMIF(Einzelwertung11!$A$3:$A$55,$B32,Einzelwertung11!$J$3:$J$55)+0.007","v":7.0000000000000001E-3},{"$f":"SUMIF(Einzelwertung12!$A$3:$A$55,$B32,Einzelwertung12!$J$3:$J$55)+0.006","v":6.0000000000000001E-3},{"$f":"SUMIF(Einzelwertung13!$A$3:$A$55,$B32,Einzelwertung13!$J$3:$J$55)+0.005","v":5.0000000000000001E-3},{"$f":"SUMIF(Einzelwertung14!$A$3:$A$55,$B32,Einzelwertung14!$J$3:$J$55)+0.004","v":4.0000000000000001E-3},{"$f":"SUMIF(Einzelwertung15!$A$3:$A$67,$B32,Einzelwertung15!$J$3:$J$67)+0.003","v":18.003},{"$f":"SUMIF(Einzelwertung16!$A$3:$A$55,$B32,Einzelwertung16!$J$3:$J$55)+0.002","v":2E-3},{"$f":"SUMIF(Einzelwertung17!$A$3:$A$55,$B32,Einzelwertung17!$J$3:$J$55)+0.001","v":1E-3},{"$f":"SUMIF(Einzelwertung18!$A$3:$A$55,$B32,Einzelwertung18!$J$3:$J$55)+0","v":0},{"$f":"INT(IF(COUNTIF(F32:W32,CONCATENATE(\">\",1/10))<=Hilfe!$A$1,SUM(F32:W32),SUMIF(F32:W32,CONCATENATE(\">=\",LARGE(F32:W32,Hilfe!$A$1)),F32:W32)))","v":18},1,5]
[31,"Scharpe, Sabine",{"$f":"VLOOKUP($B33,Teilnehmer!$A$3:$E$127,2,FALSE)","v":"BMC"},{"$f":"VLOOKUP($B33,Teilnehmer!$A$3:$E$127,3,FALSE)","v":67147},{"$f":"VLOOKUP($B33,Teilnehmer!$A$3:$E$127,4,FALSE)","v":"SW1"},{"$f":"SUMIF(Einzelwertung1!$A$3:$A$55,$B33,Einzelwertung1!$J$3:$J$55)+0.017","v":1.7000000000000001E-2},{"$f":"SUMIF(Einzelwertung2!$A$3:$A$55,$B33,Einzelwertung2!$J$3:$J$55)+0.016","v":1.6E-2},{"$f":"SUMIF(Einzelwertung3!$A$3:$A$55,$B33,Einzelwertung3!$J$3:$J$55)+0.015","v":1.4999999999999999E-2},{"$f":"SUMIF(Einzelwertung4!$A$3:$A$55,$B33,Einzelwertung4!$J$3:$J$55)+0.014","v":1.4E-2},{"$f":"SUMIF(Einzelwertung5!$A$3:$A$55,$B33,Einzelwertung5!$J$3:$J$55)+0.013","v":1.2999999999999999E-2},{"$f":"SUMIF(Einzelwertung6!$A$3:$A$55,$B33,Einzelwertung6!$J$3:$J$55)+0.012","v":1.2E-2},{"$f":"SUMIF(Einzelwertung7!$A$3:$A$55,$B33,Einzelwertung7!$J$3:$J$55)+0.011","v":1.0999999999999999E-2},{"$f":"SUMIF(Einzelwertung8!$A$3:$A$55,$B33,Einzelwertung8!$J$3:$J$55)+0.01","v":0.01},{"$f":"SUMIF(Einzelwertung9!$A$3:$A$55,$B33,Einzelwertung9!$J$3:$J$55)+0.009","v":8.9999999999999993E-3},{"$f":"SUMIF(Einzelwertung10!$A$3:$A$55,$B33,Einzelwertung10!$J$3:$J$55)+0.008","v":8.0000000000000002E-3},{"$f":"SUMIF(Einzelwertung11!$A$3:$A$55,$B33,Einzelwertung11!$J$3:$J$55)+0.007","v":10.007},{"$f":"SUMIF(Einzelwertung12!$A$3:$A$55,$B33,Einzelwertung12!$J$3:$J$55)+0.006","v":6.0000000000000001E-3},{"$f":"SUMIF(Einzelwertung13!$A$3:$A$55,$B33,Einzelwertung13!$J$3:$J$55)+0.005","v":3.0049999999999999},{"$f":"SUMIF(Einzelwertung14!$A$3:$A$55,$B33,Einzelwertung14!$J$3:$J$55)+0.004","v":4.0000000000000001E-3},{"$f":"SUMIF(Einzelwertung15!$A$3:$A$67,$B33,Einzelwertung15!$J$3:$J$67)+0.003","v":3.0000000000000001E-3},{"$f":"SUMIF(Einzelwertung16!$A$3:$A$55,$B33,Einzelwertung16!$J$3:$J$55)+0.002","v":2E-3},{"$f":"SUMIF(Einzelwertung17!$A$3:$A$55,$B33,Einzelwertung17!$J$3:$J$55)+0.001","v":1E-3},{"$f":"SUMIF(Einzelwertung18!$A$3:$A$55,$B33,Einzelwertung18!$J$3:$J$55)+0","v":0},{"$f":"INT(IF(COUNTIF(F33:W33,CONCATENATE(\">\",1/10))<=Hilfe!$A$1,SUM(F33:W33),SUMIF(F33:W33,CONCATENATE(\">=\",LARGE(F33:W33,Hilfe!$A$1)),F33:W33)))","v":13},2,10]
[32,"Wolf, Arnold",{"$f":"VLOOKUP($B34,Teilnehmer!$A$3:$E$127,2,FALSE)","v":"LIP"},{"$f":"VLOOKUP($B34,Teilnehmer!$A$3:$E$127,3,FALSE)","v":66409},{"$f":"VLOOKUP($B34,Teilnehmer!$A$3:$E$127,4,FALSE)","v":"SM2"},{"$f":"SUMIF(Einzelwertung1!$A$3:$A$55,$B34,Einzelwertung1!$J$3:$J$55)+0.017","v":1.7000000000000001E-2},{"$f":"SUMIF(Einzelwertung2!$A$3:$A$55,$B34,Einzelwertung2!$J$3:$J$55)+0.016","v":1.6E-2},{"$f":"SUMIF(Einzelwertung3!$A$3:$A$55,$B34,Einzelwertung3!$J$3:$J$55)+0.015","v":1.4999999999999999E-2},{"$f":"SUMIF(Einzelwertung4!$A$3:$A$55,$B34,Einzelwertung4!$J$3:$J$55)+0.014","v":1.4E-2},{"$f":"SUMIF(Einzelwertung5!$A$3:$A$55,$B34,Einzelwertung5!$J$3:$J$55)+0.013","v":1.2999999999999999E-2},{"$f":"SUMIF(Einzelwertung6!$A$3:$A$55,$B34,Einzelwertung6!$J$3:$J$55)+0.012","v":1.2E-2},{"$f":"SUMIF(Einzelwertung7!$A$3:$A$55,$B34,Einzelwertung7!$J$3:$J$55)+0.011","v":10.010999999999999},{"$f":"SUMIF(Einzelwertung8!$A$3:$A$55,$B34,Einzelwertung8!$J$3:$J$55)+0.01","v":0.01},{"$f":"SUMIF(Einzelwertung9!$A$3:$A$55,$B34,Einzelwertung9!$J$3:$J$55)+0.009","v":8.9999999999999993E-3},{"$f":"SUMIF(Einzelwertung10!$A$3:$A$55,$B34,Einzelwertung10!$J$3:$J$55)+0.008","v":8.0000000000000002E-3},{"$f":"SUMIF(Einzelwertung11!$A$3:$A$55,$B34,Einzelwertung11!$J$3:$J$55)+0.007","v":7.0000000000000001E-3},{"$f":"SUMIF(Einzelwertung12!$A$3:$A$55,$B34,Einzelwertung12!$J$3:$J$55)+0.006","v":6.0000000000000001E-3},{"$f":"SUMIF(Einzelwertung13!$A$3:$A$55,$B34,Einzelwertung13!$J$3:$J$55)+0.005","v":5.0000000000000001E-3},{"$f":"SUMIF(Einzelwertung14!$A$3:$A$55,$B34,Einzelwertung14!$J$3:$J$55)+0.004","v":4.0000000000000001E-3},{"$f":"SUMIF(Einzelwertung15!$A$3:$A$67,$B34,Einzelwertung15!$J$3:$J$67)+0.003","v":3.0000000000000001E-3},{"$f":"SUMIF(Einzelwertung16!$A$3:$A$55,$B34,Einzelwertung16!$J$3:$J$55)+0.002","v":2E-3},{"$f":"SUMIF(Einzelwertung17!$A$3:$A$55,$B34,Einzelwertung17!$J$3:$J$55)+0.001","v":1E-3},{"$f":"SUMIF(Einzelwertung18!$A$3:$A$55,$B34,Einzelwertung18!$J$3:$J$55)+0","v":0},{"$f":"INT(IF(COUNTIF(F34:W34,CONCATENATE(\">\",1/10))<=Hilfe!$A$1,SUM(F34:W34),SUMIF(F34:W34,CONCATENATE(\">=\",LARGE(F34:W34,Hilfe!$A$1)),F34:W34)))","v":10},1,5]
[33,"Hoffmann, Thomas",{"$f":"VLOOKUP($B35,Teilnehmer!$A$3:$E$127,2,FALSE)","v":"Hobby"},{"$f":"VLOOKUP($B35,Teilnehmer!$A$3:$E$127,3,FALSE)","v":"Hobby29"},{"$f":"VLOOKUP($B35,Teilnehmer!$A$3:$E$127,4,FALSE)","v":"SM2"},{"$f":"SUMIF(Einzelwertung1!$A$3:$A$55,$B35,Einzelwertung1!$J$3:$J$55)+0.017","v":1.7000000000000001E-2},{"$f":"SUMIF(Einzelwertung2!$A$3:$A$55,$B35,Einzelwertung2!$J$3:$J$55)+0.016","v":1.6E-2},{"$f":"SUMIF(Einzelwertung3!$A$3:$A$55,$B35,Einzelwertung3!$J$3:$J$55)+0.015","v":1.4999999999999999E-2},{"$f":"SUMIF(Einzelwertung4!$A$3:$A$55,$B35,Einzelwertung4!$J$3:$J$55)+0.014","v":1.4E-2},{"$f":"SUMIF(Einzelwertung5!$A$3:$A$55,$B35,Einzelwertung5!$J$3:$J$55)+0.013","v":1.2999999999999999E-2},{"$f":"SUMIF(Einzelwertung6!$A$3:$A$55,$B35,Einzelwertung6!$J$3:$J$55)+0.012","v":1.2E-2},{"$f":"SUMIF(Einzelwertung7!$A$3:$A$55,$B35,Einzelwertung7!$J$3:$J$55)+0.011","v":1.0999999999999999E-2},{"$f":"SUMIF(Einzelwertung8!$A$3:$A$55,$B35,Einzelwertung8!$J$3:$J$55)+0.01","v":0.01},{"$f":"SUMIF(Einzelwertung9!$A$3:$A$55,$B35,Einzelwertung9!$J$3:$J$55)+0.009","v":8.9999999999999993E-3},{"$f":"SUMIF(Einzelwertung10!$A$3:$A$55,$B35,Einzelwertung10!$J$3:$J$55)+0.008","v":8.0000000000000002E-3},{"$f":"SUMIF(Einzelwertung11!$A$3:$A$55,$B35,Einzelwertung11!$J$3:$J$55)+0.007","v":7.0000000000000001E-3},{"$f":"SUMIF(Einzelwertung12!$A$3:$A$55,$B35,Einzelwertung12!$J$3:$J$55)+0.006","v":6.0000000000000001E-3},{"$f":"SUMIF(Einzelwertung13!$A$3:$A$55,$B35,Einzelwertung13!$J$3:$J$55)+0.005","v":5.0000000000000001E-3},{"$f":"SUMIF(Einzelwertung14!$A$3:$A$55,$B35,Einzelwertung14!$J$3:$J$55)+0.004","v":5.0039999999999996},{"$f":"SUMIF(Einzelwertung15!$A$3:$A$67,$B35,Einzelwertung15!$J$3:$J$67)+0.003","v":3.0000000000000001E-3},{"$f":"SUMIF(Einzelwertung16!$A$3:$A$55,$B35,Einzelwertung16!$J$3:$J$55)+0.002","v":2E-3},{"$f":"SUMIF(Einzelwertung17!$A$3:$A$55,$B35,Einzelwertung17!$J$3:$J$55)+0.001","v":1E-3},{"$f":"SUMIF(Einzelwertung18!$A$3:$A$55,$B35,Einzelwertung18!$J$3:$J$55)+0","v":0},{"$f":"INT(IF(COUNTIF(F35:W35,CONCATENATE(\">\",1/10))<=Hilfe!$A$1,SUM(F35:W35),SUMIF(F35:W35,CONCATENATE(\">=\",LARGE(F35:W35,Hilfe!$A$1)),F35:W35)))","v":5},1,5]
[34,"Paffrath, Ben",{"$f":"VLOOKUP($B36,Teilnehmer!$A$3:$E$127,2,FALSE)","v":"HEV"},{"$f":"VLOOKUP($B36,Teilnehmer!$A$3:$E$127,3,FALSE)","v":66565},{"$f":"VLOOKUP($B36,Teilnehmer!$A$3:$E$127,4,FALSE)","v":"JM"},{"$f":"SUMIF(Einzelwertung1!$A$3:$A$55,$B36,Einzelwertung1!$J$3:$J$55)+0.017","v":1.7000000000000001E-2},{"$f":"SUMIF(Einzelwertung2!$A$3:$A$55,$B36,Einzelwertung2!$J$3:$J$55)+0.016","v":1.6E-2},{"$f":"SUMIF(Einzelwertung3!$A$3:$A$55,$B36,Einzelwertung3!$J$3:$J$55)+0.015","v":1.4999999999999999E-2},{"$f":"SUMIF(Einzelwertung4!$A$3:$A$55,$B36,Einzelwertung4!$J$3:$J$55)+0.014","v":1.4E-2},{"$f":"SUMIF(Einzelwertung5!$A$3:$A$55,$B36,Einzelwertung5!$J$3:$J$55)+0.013","v":1.2999999999999999E-2},{"$f":"SUMIF(Einzelwertung6!$A$3:$A$55,$B36,Einzelwertung6!$J$3:$J$55)+0.012","v":1.2E-2},{"$f":"SUMIF(Einzelwertung7!$A$3:$A$55,$B36,Einzelwertung7!$J$3:$J$55)+0.011","v":1.0999999999999999E-2},{"$f":"SUMIF(Einzelwertung8!$A$3:$A$55,$B36,Einzelwertung8!$J$3:$J$55)+0.01","v":3.01},{"$f":"SUMIF(Einzelwertung9!$A$3:$A$55,$B36,Einzelwertung9!$J$3:$J$55)+0.009","v":8.9999999999999993E-3},{"$f":"SUMIF(Einzelwertung10!$A$3:$A$55,$B36,Einzelwertung10!$J$3:$J$55)+0.008","v":8.0000000000000002E-3},{"$f":"SUMIF(Einzelwertung11!$A$3:$A$55,$B36,Einzelwertung11!$J$3:$J$55)+0.007","v":7.0000000000000001E-3},{"$f":"SUMIF(Einzelwertung12!$A$3:$A$55,$B36,Einzelwertung12!$J$3:$J$55)+0.006","v":6.0000000000000001E-3},{"$f":"SUMIF(Einzelwertung13!$A$3:$A$55,$B36,Einzelwertung13!$J$3:$J$55)+0.005","v":5.0000000000000001E-3},{"$f":"SUMIF(Einzelwertung14!$A$3:$A$55,$B36,Einzelwertung14!$J$3:$J$55)+0.004","v":4.0000000000000001E-3},{"$f":"SUMIF(Einzelwertung15!$A$3:$A$67,$B36,Einzelwertung15!$J$3:$J$67)+0.003","v":3.0000000000000001E-3},{"$f":"SUMIF(Einzelwertung16!$A$3:$A$55,$B36,Einzelwertung16!$J$3:$J$55)+0.002","v":2E-3},{"$f":"SUMIF(Einzelwertung17!$A$3:$A$55,$B36,Einzelwertung17!$J$3:$J$55)+0.001","v":1E-3},{"$f":"SUMIF(Einzelwertung18!$A$3:$A$55,$B36,Einzelwertung18!$J$3:$J$55)+0","v":0},{"$f":"INT(IF(COUNTIF(F36:W36,CONCATENATE(\">\",1/10))<=Hilfe!$A$1,SUM(F36:W36),SUMIF(F36:W36,CONCATENATE(\">=\",LARGE(F36:W36,Hilfe!$A$1)),F36:W36)))","v":3},1,2.5]
[null,"Wruck, Wolfgang",{"$f":"VLOOKUP($B37,Teilnehmer!$A$3:$E$127,2,FALSE)","v":"LIP"},{"$f":"VLOOKUP($B37,Teilnehmer!$A$3:$E$127,3,FALSE)","v":66408},{"$f":"VLOOKUP($B37,Teilnehmer!$A$3:$E$127,4,FALSE)","v":"SM1"},{"$f":"SUMIF(Einzelwertung1!$A$3:$A$55,$B37,Einzelwertung1!$J$3:$J$55)+0.017","v":1.7000000000000001E-2},{"$f":"SUMIF(Einzelwertung2!$A$3:$A$55,$B37,Einzelwertung2!$J$3:$J$55)+0.016","v":1.6E-2},{"$f":"SUMIF(Einzelwertung3!$A$3:$A$55,$B37,Einzelwertung3!$J$3:$J$55)+0.015","v":1.4999999999999999E-2},{"$f":"SUMIF(Einzelwertung4!$A$3:$A$55,$B37,Einzelwertung4!$J$3:$J$55)+0.014","v":1.4E-2},{"$f":"SUMIF(Einzelwertung5!$A$3:$A$55,$B37,Einzelwertung5!$J$3:$J$55)+0.013","v":1.2999999999999999E-2},{"$f":"SUMIF(Einzelwertung6!$A$3:$A$55,$B37,Einzelwertung6!$J$3:$J$55)+0.012","v":1.2E-2},{"$f":"SUMIF(Einzelwertung7!$A$3:$A$55,$B37,Einzelwertung7!$J$3:$J$55)+0.011","v":3.0110000000000001},{"$f":"SUMIF(Einzelwertung8!$A$3:$A$55,$B37,Einzelwertung8!$J$3:$J$55)+0.01","v":0.01},{"$f":"SUMIF(Einzelwertung9!$A$3:$A$55,$B37,Einzelwertung9!$J$3:$J$55)+0.009","v":8.9999999999999993E-3},{"$f":"SUMIF(Einzelwertung10!$A$3:$A$55,$B37,Einzelwertung10!$J$3:$J$55)+0.008","v":8.0000000000000002E-3},{"$f":"SUMIF(Einzelwertung11!$A$3:$A$55,$B37,Einzelwertung11!$J$3:$J$55)+0.007","v":7.0000000000000001E-3},{"$f":"SUMIF(Einzelwertung12!$A$3:$A$55,$B37,Einzelwertung12!$J$3:$J$55)+0.006","v":6.0000000000000001E-3},{"$f":"SUMIF(Einzelwertung13!$A$3:$A$55,$B37,Einzelwertung13!$J$3:$J$55)+0.005","v":5.0000000000000001E-3},{"$f":"SUMIF(Einzelwertung14!$A$3:$A$55,$B37,Einzelwertung14!$J$3:$J$55)+0.004","v":4.0000000000000001E-3},{"$f":"SUMIF(Einzelwertung15!$A$3:$A$67,$B37,Einzelwertung15!$J$3:$J$67)+0.003","v":3.0000000000000001E-3},{"$f":"SUMIF(Einzelwertung16!$A$3:$A$55,$B37,Einzelwertung16!$J$3:$J$55)+0.002","v":2E-3},{"$f":"SUMIF(Einzelwertung17!$A$3:$A$55,$B37,Einzelwertung17!$J$3:$J$55)+0.001","v":1E-3},{"$f":"SUMIF(Einzelwertung18!$A$3:$A$55,$B37,Einzelwertung18!$J$3:$J$55)+0","v":0},{"$f":"INT(IF(COUNTIF(F37:W37,CONCATENATE(\">\",1/10))<=Hilfe!$A$1,SUM(F37:W37),SUMIF(F37:W37,CONCATENATE(\">=\",LARGE(F37:W37,Hilfe!$A$1)),F37:W37)))","v":3},1,5]
["<","Dreischer, Burkhard",{"$f":"VLOOKUP($B38,Teilnehmer!$A$3:$E$127,2,FALSE)","v":"Oly"},{"$f":"VLOOKUP($B38,Teilnehmer!$A$3:$E$127,3,FALSE)","v":23778},{"$f":"VLOOKUP($B38,Teilnehmer!$A$3:$E$127,4,FALSE)","v":"SM2"},{"$f":"SUMIF(Einzelwertung1!$A$3:$A$55,$B38,Einzelwertung1!$J$3:$J$55)+0.017","v":1.7000000000000001E-2},{"$f":"SUMIF(Einzelwertung2!$A$3:$A$55,$B38,Einzelwertung2!$J$3:$J$55)+0.016","v":1.6E-2},{"$f":"SUMIF(Einzelwertung3!$A$3:$A$55,$B38,Einzelwertung3!$J$3:$J$55)+0.015","v":1.4999999999999999E-2},{"$f":"SUMIF(Einzelwertung4!$A$3:$A$55,$B38,Einzelwertung4!$J$3:$J$55)+0.014","v":1.4E-2},{"$f":"SUMIF(Einzelwertung5!$A$3:$A$55,$B38,Einzelwertung5!$J$3:$J$55)+0.013","v":1.2999999999999999E-2},{"$f":"SUMIF(Einzelwertung6!$A$3:$A$55,$B38,Einzelwertung6!$J$3:$J$55)+0.012","v":1.2E-2},{"$f":"SUMIF(Einzelwertung7!$A$3:$A$55,$B38,Einzelwertung7!$J$3:$J$55)+0.011","v":1.0999999999999999E-2},{"$f":"SUMIF(Einzelwertung8!$A$3:$A$55,$B38,Einzelwertung8!$J$3:$J$55)+0.01","v":0.01},{"$f":"SUMIF(Einzelwertung9!$A$3:$A$55,$B38,Einzelwertung9!$J$3:$J$55)+0.009","v":8.9999999999999993E-3},{"$f":"SUMIF(Einzelwertung10!$A$3:$A$55,$B38,Einzelwertung10!$J$3:$J$55)+0.008","v":8.0000000000000002E-3},{"$f":"SUMIF(Einzelwertung11!$A$3:$A$55,$B38,Einzelwertung11!$J$3:$J$55)+0.007","v":7.0000000000000001E-3},{"$f":"SUMIF(Einzelwertung12!$A$3:$A$55,$B38,Einzelwertung12!$J$3:$J$55)+0.006","v":6.0000000000000001E-3},{"$f":"SUMIF(Einzelwertung13!$A$3:$A$55,$B38,Einzelwertung13!$J$3:$J$55)+0.005","v":5.0000000000000001E-3},{"$f":"SUMIF(Einzelwertung14!$A$3:$A$55,$B38,Einzelwertung14!$J$3:$J$55)+0.004","v":4.0000000000000001E-3},{"$f":"SUMIF(Einzelwertung15!$A$3:$A$67,$B38,Einzelwertung15!$J$3:$J$67)+0.003","v":3.0000000000000001E-3},{"$f":"SUMIF(Einzelwertung16!$A$3:$A$55,$B38,Einzelwertung16!$J$3:$J$55)+0.002","v":2E-3},{"$f":"SUMIF(Einzelwertung17!$A$3:$A$55,$B38,Einzelwertung17!$J$3:$J$55)+0.001","v":1E-3},{"$f":"SUMIF(Einzelwertung18!$A$3:$A$55,$B38,Einzelwertung18!$J$3:$J$55)+0","v":0},{"$f":"INT(IF(COUNTIF(F38:W38,CONCATENATE(\">\",1/10))<=Hilfe!$A$1,SUM(F38:W38),SUMIF(F38:W38,CONCATENATE(\">=\",LARGE(F38:W38,Hilfe!$A$1)),F38:W38)))","v":0},{"$f":"COUNTIF(E38:W38,\">1\")","v":0},{"$f":"IF(ISERROR(SEARCH(CONCATENATE(\" \",E38,\" \"),\" JM JW SCHM SCHW \")),5,2.5)*Y38","v":0}]
[null,"Schmitz, Ingeborg",{"$f":"VLOOKUP($B39,Teilnehmer!$A$3:$E$127,2,FALSE)","v":"BMC"},{"$f":"VLOOKUP($B39,Teilnehmer!$A$3:$E$127,3,FALSE)","v":37171},{"$f":"VLOOKUP($B39,Teilnehmer!$A$3:$E$127,4,FALSE)","v":"SW2"},{"$f":"SUMIF(Einzelwertung1!$A$3:$A$55,$B39,Einzelwertung1!$J$3:$J$55)+0.017","v":1.7000000000000001E-2},{"$f":"SUMIF(Einzelwertung2!$A$3:$A$55,$B39,Einzelwertung2!$J$3:$J$55)+0.016","v":1.6E-2},{"$f":"SUMIF(Einzelwertung3!$A$3:$A$55,$B39,Einzelwertung3!$J$3:$J$55)+0.015","v":1.4999999999999999E-2},{"$f":"SUMIF(Einzelwertung4!$A$3:$A$55,$B39,Einzelwertung4!$J$3:$J$55)+0.014","v":1.4E-2},{"$f":"SUMIF(Einzelwertung5!$A$3:$A$55,$B39,Einzelwertung5!$J$3:$J$55)+0.013","v":1.2999999999999999E-2},{"$f":"SUMIF(Einzelwertung6!$A$3:$A$55,$B39,Einzelwertung6!$J$3:$J$55)+0.012","v":1.2E-2},{"$f":"SUMIF(Einzelwertung7!$A$3:$A$55,$B39,Einzelwertung7!$J$3:$J$55)+0.011","v":1.0999999999999999E-2},{"$f":"SUMIF(Einzelwertung8!$A$3:$A$55,$B39,Einzelwertung8!$J$3:$J$55)+0.01","v":0.01},{"$f":"SUMIF(Einzelwertung9!$A$3:$A$55,$B39,Einzelwertung9!$J$3:$J$55)+0.009","v":8.9999999999999993E-3},{"$f":"SUMIF(Einzelwertung10!$A$3:$A$55,$B39,Einzelwertung10!$J$3:$J$55)+0.008","v":8.0000000000000002E-3},{"$f":"SUMIF(Einzelwertung11!$A$3:$A$55,$B39,Einzelwertung11!$J$3:$J$55)+0.007","v":7.0000000000000001E-3},{"$f":"SUMIF(Einzelwertung12!$A$3:$A$55,$B39,Einzelwertung12!$J$3:$J$55)+0.006","v":6.0000000000000001E-3},{"$f":"SUMIF(Einzelwertung13!$A$3:$A$55,$B39,Einzelwertung13!$J$3:$J$55)+0.005","v":5.0000000000000001E-3},{"$f":"SUMIF(Einzelwertung14!$A$3:$A$55,$B39,Einzelwertung14!$J$3:$J$55)+0.004","v":4.0000000000000001E-3},{"$f":"SUMIF(Einzelwertung15!$A$3:$A$67,$B39,Einzelwertung15!$J$3:$J$67)+0.003","v":3.0000000000000001E-3},{"$f":"SUMIF(Einzelwertung16!$A$3:$A$55,$B39,Einzelwertung16!$J$3:$J$55)+0.002","v":2E-3},{"$f":"SUMIF(Einzelwertung17!$A$3:$A$55,$B39,Einzelwertung17!$J$3:$J$55)+0.001","v":1E-3},{"$f":"SUMIF(Einzelwertung18!$A$3:$A$55,$B39,Einzelwertung18!$J$3:$J$55)+0","v":0},{"$f":"INT(IF(COUNTIF(F39:W39,CONCATENATE(\">\",1/10))<=Hilfe!$A$1,SUM(F39:W39),SUMIF(F39:W39,CONCATENATE(\">=\",LARGE(F39:W39,Hilfe!$A$1)),F39:W39)))","v":0},0,0]
[null,"Wilke, Andreas",{"$f":"VLOOKUP($B40,Teilnehmer!$A$3:$E$127,2,FALSE)","v":"Hobby"},{"$f":"VLOOKUP($B40,Teilnehmer!$A$3:$E$127,3,FALSE)","v":"Hobby39"},{"$f":"VLOOKUP($B40,Teilnehmer!$A$3:$E$127,4,FALSE)","v":"SM1"},{"$f":"SUMIF(Einzelwertung1!$A$3:$A$55,$B40,Einzelwertung1!$J$3:$J$55)+0.017","v":1.7000000000000001E-2},{"$f":"SUMIF(Einzelwertung2!$A$3:$A$55,$B40,Einzelwertung2!$J$3:$J$55)+0.016","v":1.6E-2},{"$f":"SUMIF(Einzelwertung3!$A$3:$A$55,$B40,Einzelwertung3!$J$3:$J$55)+0.015","v":1.4999999999999999E-2},{"$f":"SUMIF(Einzelwertung4!$A$3:$A$55,$B40,Einzelwertung4!$J$3:$J$55)+0.014","v":1.4E-2},{"$f":"SUMIF(Einzelwertung5!$A$3:$A$55,$B40,Einzelwertung5!$J$3:$J$55)+0.013","v":1.2999999999999999E-2},{"$f":"SUMIF(Einzelwertung6!$A$3:$A$55,$B40,Einzelwertung6!$J$3:$J$55)+0.012","v":1.2E-2},{"$f":"SUMIF(Einzelwertung7!$A$3:$A$55,$B40,Einzelwertung7!$J$3:$J$55)+0.011","v":1.0999999999999999E-2},{"$f":"SUMIF(Einzelwertung8!$A$3:$A$55,$B40,Einzelwertung8!$J$3:$J$55)+0.01","v":0.01},{"$f":"SUMIF(Einzelwertung9!$A$3:$A$55,$B40,Einzelwertung9!$J$3:$J$55)+0.009","v":8.9999999999999993E-3},{"$f":"SUMIF(Einzelwertung10!$A$3:$A$55,$B40,Einzelwertung10!$J$3:$J$55)+0.008","v":8.0000000000000002E-3},{"$f":"SUMIF(Einzelwertung11!$A$3:$A$55,$B40,Einzelwertung11!$J$3:$J$55)+0.007","v":7.0000000000000001E-3},{"$f":"SUMIF(Einzelwertung12!$A$3:$A$55,$B40,Einzelwertung12!$J$3:$J$55)+0.006","v":6.0000000000000001E-3},{"$f":"SUMIF(Einzelwertung13!$A$3:$A$55,$B40,Einzelwertung13!$J$3:$J$55)+0.005","v":5.0000000000000001E-3},{"$f":"SUMIF(Einzelwertung14!$A$3:$A$55,$B40,Einzelwertung14!$J$3:$J$55)+0.004","v":4.0000000000000001E-3},{"$f":"SUMIF(Einzelwertung15!$A$3:$A$67,$B40,Einzelwertung15!$J$3:$J$67)+0.003","v":3.0000000000000001E-3},{"$f":"SUMIF(Einzelwertung16!$A$3:$A$55,$B40,Einzelwertung16!$J$3:$J$55)+0.002","v":2E-3},{"$f":"SUMIF(Einzelwertung17!$A$3:$A$55,$B40,Einzelwertung17!$J$3:$J$55)+0.001","v":1E-3},{"$f":"SUMIF(Einzelwertung18!$A$3:$A$55,$B40,Einzelwertung18!$J$3:$J$55)+0","v":0},{"$f":"INT(IF(COUNTIF(F40:W40,CONCATENATE(\">\",1/10))<=Hilfe!$A$1,SUM(F40:W40),SUMIF(F40:W40,CONCATENATE(\">=\",LARGE(F40:W40,Hilfe!$A$1)),F40:W40)))","v":0},0,0]
[]
[null,"Teilnehmer pro Spieltag und im Mittel",null,null,null,{"$f":"COUNTIF(F3:F40,\">0.1\")","v":0},0,0,0,0,15,24,22,17,16,17,18,21,15,15,13,14,0,{"$f":"IF(SUM(F42:W42)>0,SUM(F42:W42)/COUNTIF(F42:W42,\">0\"),0)","v":17.25},{"$f":"SUM(Y3:Y40)","v":207},{"$f":"SUM(Z3:Z40)","v":992.5}]

{"sheet":"Bahnenstatistik","index":7,"n_rows":42,"n_cols":10,"rows_kept":42,"cut":false,"hidden":false,"merged":[[0,0,0,9],[1,0,1,9]]}
["6. Sommer-Cup - Freizeittreff Herbede"]
["Bahnenstatistik"]
[]
[null,1,2,3,4,5,6,7,"Schnitt","As-Quote"]
["Pyramiden",{"$f":"COUNTIF(Bahnenergebnisse!$K$2:$K$208,B$4)","v":131},{"$f":"COUNTIF(Bahnenergebnisse!$K$2:$K$208,C$4)","v":58},{"$f":"COUNTIF(Bahnenergebnisse!$K$2:$K$208,D$4)","v":17},{"$f":"COUNTIF(Bahnenergebnisse!$K$2:$K$208,E$4)","v":1},{"$f":"COUNTIF(Bahnenergebnisse!$K$2:$K$208,F$4)","v":0},{"$f":"COUNTIF(Bahnenergebnisse!$K$2:$K$208,G$4)","v":0},{"$f":"COUNTIF(Bahnenergebnisse!$K$2:$K$208,H$4)","v":0},{"$f":"SUMPRODUCT(B5:H5,B$4:H$4)/SUM(B5:H5)","v":1.4589371980676329},{"$f":"B5/SUM(B5:H5)","v":0.63285024154589375}]
["Rohrhügel",{"$f":"COUNTIF(Bahnenergebnisse!$L$2:$L$208,B$4)","v":97},{"$f":"COUNTIF(Bahnenergebnisse!$L$2:$L$208,C$4)","v":50},{"$f":"COUNTIF(Bahnenergebnisse!$L$2:$L$208,D$4)","v":20},{"$f":"COUNTIF(Bahnenergebnisse!$L$2:$L$208,E$4)","v":17},{"$f":"COUNTIF(Bahnenergebnisse!$L$2:$L$208,F$4)","v":8},{"$f":"COUNTIF(Bahnenergebnisse!$L$2:$L$208,G$4)","v":7},{"$f":"COUNTIF(Bahnenergebnisse!$L$2:$L$208,H$4)","v":8},{"$f":"SUMPRODUCT(B6:H6,B$4:H$4)/SUM(B6:H6)","v":2.2367149758454108},{"$f":"B6/SUM(B6:H6)","v":0.46859903381642515}]
["Winkel",{"$f":"COUNTIF(Bahnenergebnisse!$M$2:$M$208,B$4)","v":103},{"$f":"COUNTIF(Bahnenergebnisse!$M$2:$M$208,C$4)","v":95},{"$f":"COUNTIF(Bahnenergebnisse!$M$2:$M$208,D$4)","v":9},{"$f":"COUNTIF(Bahnenergebnisse!$M$2:$M$208,E$4)","v":0},{"$f":"COUNTIF(Bahnenergebnisse!$M$2:$M$208,F$4)","v":0},{"$f":"COUNTIF(Bahnenergebnisse!$M$2:$M$208,G$4)","v":0},{"$f":"COUNTIF(Bahnenergebnisse!$M$2:$M$208,H$4)","v":0},1.5458937198067633,0.49758454106280192]
["Doppelwelle",{"$f":"COUNTIF(Bahnenergebnisse!$N$2:$N$208,B$4)","v":67},{"$f":"COUNTIF(Bahnenergebnisse!$N$2:$N$208,C$4)","v":135},{"$f":"COUNTIF(Bahnenergebnisse!$N$2:$N$208,D$4)","v":4},{"$f":"COUNTIF(Bahnenergebnisse!$N$2:$N$208,E$4)","v":1},{"$f":"COUNTIF(Bahnenergebnisse!$N$2:$N$208,F$4)","v":0},{"$f":"COUNTIF(Bahnenergebnisse!$N$2:$N$208,G$4)","v":0},{"$f":"COUNTIF(Bahnenergebnisse!$N$2:$N$208,H$4)","v":0},1.7053140096618358,0.32367149758454106]
["Schleife",{"$f":"COUNTIF(Bahnenergebnisse!$O$2:$O$208,B$4)","v":116},{"$f":"COUNTIF(Bahnenergebnisse!$O$2:$O$208,C$4)","v":71},{"$f":"COUNTIF(Bahnenergebnisse!$O$2:$O$208,D$4)","v":13},{"$f":"COUNTIF(Bahnenergebnisse!$O$2:$O$208,E$4)","v":6},{"$f":"COUNTIF(Bahnenergebnisse!$O$2:$O$208,F$4)","v":1},{"$f":"COUNTIF(Bahnenergebnisse!$O$2:$O$208,G$4)","v":0},{"$f":"COUNTIF(Bahnenergebnisse!$O$2:$O$208,H$4)","v":0},1.5748792270531402,0.56038647342995174]
["Labyrinth",{"$f":"COUNTIF(Bahnenergebnisse!$P$2:$P$208,B$4)","v":139},{"$f":"COUNTIF(Bahnenergebnisse!$P$2:$P$208,C$4)","v":36},{"$f":"COUNTIF(Bahnenergebnisse!$P$2:$P$208,D$4)","v":19},{"$f":"COUNTIF(Bahnenergebnisse!$P$2:$P$208,E$4)","v":8},{"$f":"COUNTIF(Bahnenergebnisse!$P$2:$P$208,F$4)","v":1},{"$f":"COUNTIF(Bahnenergebnisse!$P$2:$P$208,G$4)","v":0},{"$f":"COUNTIF(Bahnenergebnisse!$P$2:$P$208,H$4)","v":4},1.6086956521739131,0.67149758454106279]
["Mittelhügel",{"$f":"COUNTIF(Bahnenergebnisse!$Q$2:$Q$208,B$4)","v":148},{"$f":"COUNTIF(Bahnenergebnisse!$Q$2:$Q$208,C$4)","v":33},{"$f":"COUNTIF(Bahnenergebnisse!$Q$2:$Q$208,D$4)","v":11},{"$f":"COUNTIF(Bahnenergebnisse!$Q$2:$Q$208,E$4)","v":7},{"$f":"COUNTIF(Bahnenergebnisse!$Q$2:$Q$208,F$4)","v":5},{"$f":"COUNTIF(Bahnenergebnisse!$Q$2:$Q$208,G$4)","v":0},{"$f":"COUNTIF(Bahnenergebnisse!$Q$2:$Q$208,H$4)","v":3},1.5507246376811594,0.71497584541062797]
["Netz",{"$f":"COUNTIF(Bahnenergebnisse!$R$2:$R$208,B$4)","v":146},{"$f":"COUNTIF(Bahnenergebnisse!$R$2:$R$208,C$4)","v":42},{"$f":"COUNTIF(Bahnenergebnisse!$R$2:$R$208,D$4)","v":13},{"$f":"COUNTIF(Bahnenergebnisse!$R$2:$R$208,E$4)","v":2},{"$f":"COUNTIF(Bahnenergebnisse!$R$2:$R$208,F$4)","v":4},{"$f":"COUNTIF(Bahnenergebnisse!$R$2:$R$208,G$4)","v":0},{"$f":"COUNTIF(Bahnenergebnisse!$R$2:$R$208,H$4)","v":0},1.4347826086956521,0.70531400966183577]
["Brücke",{"$f":"COUNTIF(Bahnenergebnisse!$S$2:$S$208,B$4)","v":87},{"$f":"COUNTIF(Bahnenergebnisse!$S$2:$S$208,C$4)","v":120},{"$f":"COUNTIF(Bahnenergebnisse!$S$2:$S$208,D$4)","v":0},{"$f":"COUNTIF(Bahnenergebnisse!$S$2:$S$208,E$4)","v":0},{"$f":"COUNTIF(Bahnenergebnisse!$S$2:$S$208,F$4)","v":0},{"$f":"COUNTIF(Bahnenergebnisse!$S$2:$S$208,G$4)","v":0},{"$f":"COUNTIF(Bahnenergebnisse!$S$2:$S$208,H$4)","v":0},1.5797101449275361,0.42028985507246375]
["Radkappen",{"$f":"COUNTIF(Bahnenergebnisse!$T$2:$T$208,B$4)","v":78},{"$f":"COUNTIF(Bahnenergebnisse!$T$2:$T$208,C$4)","v":121},{"$f":"COUNTIF(Bahnenergebnisse!$T$2:$T$208,D$4)","v":5},{"$f":"COUNTIF(Bahnenergebnisse!$T$2:$T$208,E$4)","v":2},{"$f":"COUNTIF(Bahnenergebnisse!$T$2:$T$208,F$4)","v":1},{"$f":"COUNTIF(Bahnenergebnisse!$T$2:$T$208,G$4)","v":0},{"$f":"COUNTIF(Bahnenergebnisse!$T$2:$T$208,H$4)","v":0},1.681159420289855,0.37681159420289856]
["Vulkan",{"$f":"COUNTIF(Bahnenergebnisse!$U$2:$U$208,B$4)","v":159},{"$f":"COUNTIF(Bahnenergebnisse!$U$2:$U$208,C$4)","v":36},{"$f":"COUNTIF(Bahnenergebnisse!$U$2:$U$208,D$4)","v":3},{"$f":"COUNTIF(Bahnenergebnisse!$U$2:$U$208,E$4)","v":4},{"$f":"COUNTIF(Bahnenergebnisse!$U$2:$U$208,F$4)","v":4},{"$f":"COUNTIF(Bahnenergebnisse!$U$2:$U$208,G$4)","v":1},{"$f":"COUNTIF(Bahnenergebnisse!$U$2:$U$208,H$4)","v":0},1.3623188405797102,0.76811594202898548]
["Niere",{"$f":"COUNTIF(Bahnenergebnisse!$V$2:$V$208,B$4)","v":96},{"$f":"COUNTIF(Bahnenergebnisse!$V$2:$V$208,C$4)","v":64},{"$f":"COUNTIF(Bahnenergebnisse!$V$2:$V$208,D$4)","v":33},{"$f":"COUNTIF(Bahnenergebnisse!$V$2:$V$208,E$4)","v":4},{"$f":"COUNTIF(Bahnenergebnisse!$V$2:$V$208,F$4)","v":5},{"$f":"COUNTIF(Bahnenergebnisse!$V$2:$V$208,G$4)","v":3},{"$f":"COUNTIF(Bahnenergebnisse!$V$2:$V$208,H$4)","v":2},1.9130434782608696,0.46376811594202899]
["Fenster",{"$f":"COUNTIF(Bahnenergebnisse!$W$2:$W$208,B$4)","v":62},{"$f":"COUNTIF(Bahnenergebnisse!$W$2:$W$208,C$4)","v":92},{"$f":"COUNTIF(Bahnenergebnisse!$W$2:$W$208,D$4)","v":27},{"$f":"COUNTIF(Bahnenergebnisse!$W$2:$W$208,E$4)","v":17},{"$f":"COUNTIF(Bahnenergebnisse!$W$2:$W$208,F$4)","v":6},{"$f":"COUNTIF(Bahnenergebnisse!$W$2:$W$208,G$4)","v":1},{"$f":"COUNTIF(Bahnenergebnisse!$W$2:$W$208,H$4)","v":2},2.1497584541062804,0.29951690821256038]
["Banane",{"$f":"COUNTIF(Bahnenergebnisse!$X$2:$X$208,B$4)","v":95},{"$f":"COUNTIF(Bahnenergebnisse!$X$2:$X$208,C$4)","v":45},{"$f":"COUNTIF(Bahnenergebnisse!$X$2:$X$208,D$4)","v":27},{"$f":"COUNTIF(Bahnenergebnisse!$X$2:$X$208,E$4)","v":21},{"$f":"COUNTIF(Bahnenergebnisse!$X$2:$X$208,F$4)","v":8},{"$f":"COUNTIF(Bahnenergebnisse!$X$2:$X$208,G$4)","v":7},{"$f":"COUNTIF(Bahnenergebnisse!$X$2:$X$208,H$4)","v":4},2.2222222222222223,0.45893719806763283]
["Salto",{"$f":"COUNTIF(Bahnenergebnisse!$Y$2:$Y$208,B$4)","v":15},{"$f":"COUNTIF(Bahnenergebnisse!$Y$2:$Y$208,C$4)","v":158},{"$f":"COUNTIF(Bahnenergebnisse!$Y$2:$Y$208,D$4)","v":26},{"$f":"COUNTIF(Bahnenergebnisse!$Y$2:$Y$208,E$4)","v":2},{"$f":"COUNTIF(Bahnenergebnisse!$Y$2:$Y$208,F$4)","v":4},{"$f":"COUNTIF(Bahnenergebnisse!$Y$2:$Y$208,G$4)","v":1},{"$f":"COUNTIF(Bahnenergebnisse!$Y$2:$Y$208,H$4)","v":1},2.1739130434782608,7.2463768115942032E-2]
["Töter",{"$f":"COUNTIF(Bahnenergebnisse!$Z$2:$Z$208,B$4)","v":59},{"$f":"COUNTIF(Bahnenergebnisse!$Z$2:$Z$208,C$4)","v":71},{"$f":"COUNTIF(Bahnenergebnisse!$Z$2:$Z$208,D$4)","v":38},{"$f":"COUNTIF(Bahnenergebnisse!$Z$2:$Z$208,E$4)","v":20},{"$f":"COUNTIF(Bahnenergebnisse!$Z$2:$Z$208,F$4)","v":9},{"$f":"COUNTIF(Bahnenergebnisse!$Z$2:$Z$208,G$4)","v":5},{"$f":"COUNTIF(Bahnenergebnisse!$Z$2:$Z$208,H$4)","v":5},2.4396135265700485,0.28502415458937197]
["Passagen",{"$f":"COUNTIF(Bahnenergebnisse!$AA$2:$AA$208,B$4)","v":90},{"$f":"COUNTIF(Bahnenergebnisse!$AA$2:$AA$208,C$4)","v":103},{"$f":"COUNTIF(Bahnenergebnisse!$AA$2:$AA$208,D$4)","v":11},{"$f":"COUNTIF(Bahnenergebnisse!$AA$2:$AA$208,E$4)","v":3},{"$f":"COUNTIF(Bahnenergebnisse!$AA$2:$AA$208,F$4)","v":0},{"$f":"COUNTIF(Bahnenergebnisse!$AA$2:$AA$208,G$4)","v":0},{"$f":"COUNTIF(Bahnenergebnisse!$AA$2:$AA$208,H$4)","v":0},1.6473429951690821,0.43478260869565216]
["Blitz",{"$f":"COUNTIF(Bahnenergebnisse!$AB$2:$AB$208,B$4)","v":55},{"$f":"COUNTIF(Bahnenergebnisse!$AB$2:$AB$208,C$4)","v":100},{"$f":"COUNTIF(Bahnenergebnisse!$AB$2:$AB$208,D$4)","v":35},{"$f":"COUNTIF(Bahnenergebnisse!$AB$2:$AB$208,E$4)","v":13},{"$f":"COUNTIF(Bahnenergebnisse!$AB$2:$AB$208,F$4)","v":2},{"$f":"COUNTIF(Bahnenergebnisse!$AB$2:$AB$208,G$4)","v":1},{"$f":"COUNTIF(Bahnenergebnisse!$AB$2:$AB$208,H$4)","v":1},2.1014492753623188,0.26570048309178745]
[]
[null,1,2,3,4,5,6,7,"Schnitt","As-Quote"]
["Bahn 1",{"$f":"COUNTIF(Bahnenergebnisse!$AD$2:$AD$208,B$24)","v":43},{"$f":"COUNTIF(Bahnenergebnisse!$AD$2:$AD$208,C$24)","v":141},{"$f":"COUNTIF(Bahnenergebnisse!$AD$2:$AD$208,D$24)","v":6},{"$f":"COUNTIF(Bahnenergebnisse!$AD$2:$AD$208,E$24)","v":0},{"$f":"COUNTIF(Bahnenergebnisse!$AD$2:$AD$208,F$24)","v":0},{"$f":"COUNTIF(Bahnenergebnisse!$AD$2:$AD$208,G$24)","v":0},{"$f":"COUNTIF(Bahnenergebnisse!$AD$2:$AD$208,H$24)","v":0},{"$f":"SUMPRODUCT(B25:H25,B$24:H$24)/SUM(B25:H25)","v":1.8052631578947369},{"$f":"B25/SUM(B25:H25)","v":0.22631578947368422}]
["Bahn 2",{"$f":"COUNTIF(Bahnenergebnisse!$AE$2:$AE$208,B$24)","v":32},{"$f":"COUNTIF(Bahnenergebnisse!$AE$2:$AE$208,C$24)","v":113},{"$f":"COUNTIF(Bahnenergebnisse!$AE$2:$AE$208,D$24)","v":35},{"$f":"COUNTIF(Bahnenergebnisse!$AE$2:$AE$208,E$24)","v":8},{"$f":"COUNTIF(Bahnenergebnisse!$AE$2:$AE$208,F$24)","v":2},{"$f":"COUNTIF(Bahnenergebnisse!$AE$2:$AE$208,G$24)","v":0},{"$f":"COUNTIF(Bahnenergebnisse!$AE$2:$AE$208,H$24)","v":0},{"$f":"SUMPRODUCT(B26:H26,B$24:H$24)/SUM(B26:H26)","v":2.1315789473684212},0.16842105263157894]
["Bahn 3",{"$f":"COUNTIF(Bahnenergebnisse!$AF$2:$AF$208,B$24)","v":84},{"$f":"COUNTIF(Bahnenergebnisse!$AF$2:$AF$208,C$24)","v":82},{"$f":"COUNTIF(Bahnenergebnisse!$AF$2:$AF$208,D$24)","v":15},{"$f":"COUNTIF(Bahnenergebnisse!$AF$2:$AF$208,E$24)","v":5},{"$f":"COUNTIF(Bahnenergebnisse!$AF$2:$AF$208,F$24)","v":2},{"$f":"COUNTIF(Bahnenergebnisse!$AF$2:$AF$208,G$24)","v":0},{"$f":"COUNTIF(Bahnenergebnisse!$AF$2:$AF$208,H$24)","v":2},1.7736842105263158,0.44210526315789472]
["Bahn 4",{"$f":"COUNTIF(Bahnenergebnisse!$AG$2:$AG$208,B$24)","v":22},{"$f":"COUNTIF(Bahnenergebnisse!$AG$2:$AG$208,C$24)","v":85},{"$f":"COUNTIF(Bahnenergebnisse!$AG$2:$AG$208,D$24)","v":39},{"$f":"COUNTIF(Bahnenergebnisse!$AG$2:$AG$208,E$24)","v":20},{"$f":"COUNTIF(Bahnenergebnisse!$AG$2:$AG$208,F$24)","v":9},{"$f":"COUNTIF(Bahnenergebnisse!$AG$2:$AG$208,G$24)","v":6},{"$f":"COUNTIF(Bahnenergebnisse!$AG$2:$AG$208,H$24)","v":9},2.8052631578947369,0.11578947368421053]
["Bahn 5",{"$f":"COUNTIF(Bahnenergebnisse!$AH$2:$AH$208,B$24)","v":59},{"$f":"COUNTIF(Bahnenergebnisse!$AH$2:$AH$208,C$24)","v":114},{"$f":"COUNTIF(Bahnenergebnisse!$AH$2:$AH$208,D$24)","v":10},{"$f":"COUNTIF(Bahnenergebnisse!$AH$2:$AH$208,E$24)","v":5},{"$f":"COUNTIF(Bahnenergebnisse!$AH$2:$AH$208,F$24)","v":0},{"$f":"COUNTIF(Bahnenergebnisse!$AH$2:$AH$208,G$24)","v":0},{"$f":"COUNTIF(Bahnenergebnisse!$AH$2:$AH$208,H$24)","v":2},1.8473684210526315,0.31052631578947371]
["Bahn 6",{"$f":"COUNTIF(Bahnenergebnisse!$AI$2:$AI$208,B$24)","v":11},{"$f":"COUNTIF(Bahnenergebnisse!$AI$2:$AI$208,C$24)","v":158},{"$f":"COUNTIF(Bahnenergebnisse!$AI$2:$AI$208,D$24)","v":18},{"$f":"COUNTIF(Bahnenergebnisse!$AI$2:$AI$208,E$24)","v":2},{"$f":"COUNTIF(Bahnenergebnisse!$AI$2:$AI$208,F$24)","v":0},{"$f":"COUNTIF(Bahnenergebnisse!$AI$2:$AI$208,G$24)","v":0},{"$f":"COUNTIF(Bahnenergebnisse!$AI$2:$AI$208,H$24)","v":1},2.0842105263157893,5.7894736842105263E-2]
["Bahn 7",{"$f":"COUNTIF(Bahnenergebnisse!$AJ$2:$AJ$208,B$24)","v":133},{"$f":"COUNTIF(Bahnenergebnisse!$AJ$2:$AJ$208,C$24)","v":49},{"$f":"COUNTIF(Bahnenergebnisse!$AJ$2:$AJ$208,D$24)","v":8},{"$f":"COUNTIF(Bahnenergebnisse!$AJ$2:$AJ$208,E$24)","v":0},{"$f":"COUNTIF(Bahnenergebnisse!$AJ$2:$AJ$208,F$24)","v":0},{"$f":"COUNTIF(Bahnenergebnisse!$AJ$2:$AJ$208,G$24)","v":0},{"$f":"COUNTIF(Bahnenergebnisse!$AJ$2:$AJ$208,H$24)","v":0},1.3421052631578947,0.7]
["Bahn 8",{"$f":"COUNTIF(Bahnenergebnisse!$AK$2:$AK$208,B$24)","v":24},{"$f":"COUNTIF(Bahnenergebnisse!$AK$2:$AK$208,C$24)","v":145},{"$f":"COUNTIF(Bahnenergebnisse!$AK$2:$AK$208,D$24)","v":14},{"$f":"COUNTIF(Bahnenergebnisse!$AK$2:$AK$208,E$24)","v":5},{"$f":"COUNTIF(Bahnenergebnisse!$AK$2:$AK$208,F$24)","v":2},{"$f":"COUNTIF(Bahnenergebnisse!$AK$2:$AK$208,G$24)","v":0},{"$f":"COUNTIF(Bahnenergebnisse!$AK$2:$AK$208,H$24)","v":0},2.0315789473684212,0.12631578947368421]
["Bahn 9",{"$f":"COUNTIF(Bahnenergebnisse!$AL$2:$AL$208,B$24)","v":20},{"$f":"COUNTIF(Bahnenergebnisse!$AL$2:$AL$208,C$24)","v":115},{"$f":"COUNTIF(Bahnenergebnisse!$AL$2:$AL$208,D$24)","v":34},{"$f":"COUNTIF(Bahnenergebnisse!$AL$2:$AL$208,E$24)","v":12},{"$f":"COUNTIF(Bahnenergebnisse!$AL$2:$AL$208,F$24)","v":7},{"$f":"COUNTIF(Bahnenergebnisse!$AL$2:$AL$208,G$24)","v":2},{"$f":"COUNTIF(Bahnenergebnisse!$AL$2:$AL$208,H$24)","v":0},2.3526315789473684,0.10526315789473684]
["Bahn 10",{"$f":"COUNTIF(Bahnenergebnisse!$AM$2:$AM$208,B$24)","v":32},{"$f":"COUNTIF(Bahnenergebnisse!$AM$2:$AM$208,C$24)","v":147},{"$f":"COUNTIF(Bahnenergebnisse!$AM$2:$AM$208,D$24)","v":9},{"$f":"COUNTIF(Bahnenergebnisse!$AM$2:$AM$208,E$24)","v":2},{"$f":"COUNTIF(Bahnenergebnisse!$AM$2:$AM$208,F$24)","v":0},{"$f":"COUNTIF(Bahnenergebnisse!$AM$2:$AM$208,G$24)","v":0},{"$f":"COUNTIF(Bahnenergebnisse!$AM$2:$AM$208,H$24)","v":0},1.9,0.16842105263157894]
["Bahn 11",{"$f":"COUNTIF(Bahnenergebnisse!$AN$2:$AN$208,B$24)","v":173},{"$f":"COUNTIF(Bahnenergebnisse!$AN$2:$AN$208,C$24)","v":15},{"$f":"COUNTIF(Bahnenergebnisse!$AN$2:$AN$208,D$24)","v":2},{"$f":"COUNTIF(Bahnenergebnisse!$AN$2:$AN$208,E$24)","v":0},{"$f":"COUNTIF(Bahnenergebnisse!$AN$2:$AN$208,F$24)","v":0},{"$f":"COUNTIF(Bahnenergebnisse!$AN$2:$AN$208,G$24)","v":0},{"$f":"COUNTIF(Bahnenergebnisse!$AN$2:$AN$208,H$24)","v":0},1.1000000000000001,0.91052631578947374]
["Bahn 12",{"$f":"COUNTIF(Bahnenergebnisse!$AO$2:$AO$208,B$24)","v":73},{"$f":"COUNTIF(Bahnenergebnisse!$AO$2:$AO$208,C$24)","v":100},{"$f":"COUNTIF(Bahnenergebnisse!$AO$2:$AO$208,D$24)","v":14},{"$f":"COUNTIF(Bahnenergebnisse!$AO$2:$AO$208,E$24)","v":1},{"$f":"COUNTIF(Bahnenergebnisse!$AO$2:$AO$208,F$24)","v":2},{"$f":"COUNTIF(Bahnenergebnisse!$AO$2:$AO$208,G$24)","v":0},{"$f":"COUNTIF(Bahnenergebnisse!$AO$2:$AO$208,H$24)","v":0},1.7315789473684211,0.38421052631578945]
["Bahn 13",{"$f":"COUNTIF(Bahnenergebnisse!$AP$2:$AP$208,B$24)","v":20},{"$f":"COUNTIF(Bahnenergebnisse!$AP$2:$AP$208,C$24)","v":158},{"$f":"COUNTIF(Bahnenergebnisse!$AP$2:$AP$208,D$24)","v":11},{"$f":"COUNTIF(Bahnenergebnisse!$AP$2:$AP$208,E$24)","v":0},{"$f":"COUNTIF(Bahnenergebnisse!$AP$2:$AP$208,F$24)","v":1},{"$f":"COUNTIF(Bahnenergebnisse!$AP$2:$AP$208,G$24)","v":0},{"$f":"COUNTIF(Bahnenergebnisse!$AP$2:$AP$208,H$24)","v":0},1.9684210526315788,0.10526315789473684]
["Bahn 14",{"$f":"COUNTIF(Bahnenergebnisse!$AQ$2:$AQ$208,B$24)","v":30},{"$f":"COUNTIF(Bahnenergebnisse!$AQ$2:$AQ$208,C$24)","v":145},{"$f":"COUNTIF(Bahnenergebnisse!$AQ$2:$AQ$208,D$24)","v":12},{"$f":"COUNTIF(Bahnenergebnisse!$AQ$2:$AQ$208,E$24)","v":3},{"$f":"COUNTIF(Bahnenergebnisse!$AQ$2:$AQ$208,F$24)","v":0},{"$f":"COUNTIF(Bahnenergebnisse!$AQ$2:$AQ$208,G$24)","v":0},{"$f":"COUNTIF(Bahnenergebnisse!$AQ$2:$AQ$208,H$24)","v":0},1.9368421052631579,0.15789473684210525]
["Bahn 15",{"$f":"COUNTIF(Bahnenergebnisse!$AR$2:$AR$208,B$24)","v":4},{"$f":"COUNTIF(Bahnenergebnisse!$AR$2:$AR$208,C$24)","v":127},{"$f":"COUNTIF(Bahnenergebnisse!$AR$2:$AR$208,D$24)","v":33},{"$f":"COUNTIF(Bahnenergebnisse!$AR$2:$AR$208,E$24)","v":14},{"$f":"COUNTIF(Bahnenergebnisse!$AR$2:$AR$208,F$24)","v":5},{"$f":"COUNTIF(Bahnenergebnisse!$AR$2:$AR$208,G$24)","v":5},{"$f":"COUNTIF(Bahnenergebnisse!$AR$2:$AR$208,H$24)","v":2},2.5368421052631578,2.1052631578947368E-2]
["Bahn 16",{"$f":"COUNTIF(Bahnenergebnisse!$AS$2:$AS$208,B$24)","v":8},{"$f":"COUNTIF(Bahnenergebnisse!$AS$2:$AS$208,C$24)","v":129},{"$f":"COUNTIF(Bahnenergebnisse!$AS$2:$AS$208,D$24)","v":37},{"$f":"COUNTIF(Bahnenergebnisse!$AS$2:$AS$208,E$24)","v":11},{"$f":"COUNTIF(Bahnenergebnisse!$AS$2:$AS$208,F$24)","v":3},{"$f":"COUNTIF(Bahnenergebnisse!$AS$2:$AS$208,G$24)","v":1},{"$f":"COUNTIF(Bahnenergebnisse!$AS$2:$AS$208,H$24)","v":1},2.3631578947368421,4.2105263157894736E-2]
["Bahn 17",{"$f":"COUNTIF(Bahnenergebnisse!$AT$2:$AT$208,B$24)","v":21},{"$f":"COUNTIF(Bahnenergebnisse!$AT$2:$AT$208,C$24)","v":150},{"$f":"COUNTIF(Bahnenergebnisse!$AT$2:$AT$208,D$24)","v":17},{"$f":"COUNTIF(Bahnenergebnisse!$AT$2:$AT$208,E$24)","v":1},{"$f":"COUNTIF(Bahnenergebnisse!$AT$2:$AT$208,F$24)","v":1},{"$f":"COUNTIF(Bahnenergebnisse!$AT$2:$AT$208,G$24)","v":0},{"$f":"COUNTIF(Bahnenergebnisse!$AT$2:$AT$208,H$24)","v":0},2.0052631578947366,0.11052631578947368]
["Bahn 18",{"$f":"COUNTIF(Bahnenergebnisse!$AU$2:$AU$208,B$24)","v":109},{"$f":"COUNTIF(Bahnenergebnisse!$AU$2:$AU$208,C$24)","v":48},{"$f":"COUNTIF(Bahnenergebnisse!$AU$2:$AU$208,D$24)","v":18},{"$f":"COUNTIF(Bahnenergebnisse!$AU$2:$AU$208,E$24)","v":4},{"$f":"COUNTIF(Bahnenergebnisse!$AU$2:$AU$208,F$24)","v":7},{"$f":"COUNTIF(Bahnenergebnisse!$AU$2:$AU$208,G$24)","v":1},{"$f":"COUNTIF(Bahnenergebnisse!$AU$2:$AU$208,H$24)","v":3},1.7736842105263158,0.5736842105263158]

{"sheet":"Verlosungen","index":8,"n_rows":39,"n_cols":4,"rows_kept":39,"cut":false,"hidden":false,"merged":[[0,0,0,2],[1,0,1,2]]}
["Sommer-Cup 2020 im Freizeittreff Herbede - verloste Preise"]
[{"$f":"CONCATENATE(SUM(D4:D39),\" Ballpreise\",\", \",COUNTIF(D4:D39,0),\" andere Preise\")","v":"12 Ballpreise, 24 andere Preise"}]
["Teilnehmer","Gewinn","Spieltag","Ball?"]
["Angela Urban","1 Minigolfball (Magdeburg 2009)","10.6.",1]
["Brigitte Börgmann","1 Flasche Rotwein","10.6.",0]
["Rolf Lenk","1 Großpackung Haribo","10.6.",0]
["Ulrich Börgmann","1 Flasche Rotwein","18.6.",0]
["Siegfried Paffrath","1 Verzehrgutschein","18.6.",0]
["Nicole Lieber","1 Minigolfball (Pingvin Turbo 80)","18.6.",1]
["Niclas Lehmann","1 Minigolfball (Graues Wölkchen)","25.6.",1]
["Uwe Kortmann","1 Set Gin-Miniaturen + 1xToffifee","25.6.",0]
["Hellmut Greiffendorf","1 Verzehrgutschein","25.6.",0]
["Frank Brunnenkant","1 Minigolfball (Deutschmann Tango)","2.7.",1]
["Barbara Schmidt","1 Flasche Holunderwein","2.7.",0]
["Brigitte Börgmann","1 Verzehrgutschein","2.7.",0]
["Dominic Urban","1 Minigolfball (3D Wolfgang Döppner)","9.7.",1]
["Barbara Schmidt","1 Glasquader \"Minigolfer\"","9.7.",0]
["Brigitte Börgmann","1 Flasche Sekt","9.7.",0]
["Brigitte Börgmann","1 Flasche Rotwein","16.7.",0]
["Sabine Scharpe","1 Minigolfball (Olten Swiss Champion)","16.7.",1]
["Ulrich Börgmann","1 Verzehrgutschein","16.7.",0]
["Ulrich Börgmann","1 Flasche Prosecco","23.7.",0]
["Hellmut Greiffendorf","1 Verzehrgutschein","23.7.",0]
["Wolfgang Battig","1 Minigolfball BOF Dennis Prip Hansen","23.7.",1]
["Michael Puschner","1 Flasche Rotwein","30.7.",0]
["Anna Kalhöfer","1 Minigolfball BOF Ruge r","30.7.",1]
["Marcus Rade","1 Verzehrgutschein","30.7.",0]
["Volker Urban","1 Minigolfball Pingvin Cobi","6.8.",1]
["Ulrich Börgmann","1 Flasche Rotwein","6.8.",0]
["Martin Kunz","1 Set Garten-Solarleuchten","6.8.",0]
["Wolfgang Battig","1 Minigolfball Pingvin Turbo 80","13.8.",1]
["Martin Kunz","1 Dose Haribo Colorado","13.8.",0]
["Peter Tabor","1 Glasquader \"Minigolfer\"","13.8.",0]
["Willi Hettrich","1 Minigolfball (BOF Romain Bausch)","20.8.",1]
["Wolfgang Battig","1 Großpackung Haribo Fantasia","20.8.",0]
["Michael Puschner","1 Verzehrgutschein","20.8.",0]
["Frank Brunnenkant","1 Minigolfball (BOF Irene Sauer)","27.8.",1]
["Peter Tabor","1 Flasche Rotwein","27.8.",0]
["Barbara Schmidt","1 Verzehrgutschein","27.8.",0]

{"sheet":"Einzelwertung6","index":9,"n_rows":63,"n_cols":10,"rows_kept":63,"cut":false,"hidden":false,"merged":[[0,0,0,9]]}
[{"$f":"CONCATENATE(\"6. Sommer-Cup - Freizeittreff Herbede - \",TEXT(Gesamtstand!$K$2,\"TT.MM.JJ\"))","v":"6. Sommer-Cup - Freizeittreff Herbede - 10.06.20"}]
["Spieler","Runde 1","Runde 2","Gesamt","bessere?","Pl. R1","Pl. R2","Pl. Ges.","gewertet","Punkte"]
["Battig, Wolfgang",25,31,{"$f":"IF(B3>0,C3+B3,\"\")","v":56},true,{"$f":"IF(B3>0,COUNTIF(B$3:B$55,\"<\"&B3)+1,\"\")","v":1},{"$f":"IF(C3>0,COUNTIF(C$3:C$55,\"<\"&C3)+1,\"\")","v":4},{"$f":"IF(AND(B3>0,C3>0),COUNTIF(D$3:D$55,\"<\"&D3)+1,\"\")","v":1},{"$f":"IF(B3>0,IF(E3,MIN(F3:H3),MAX(F3:H3)),\"\")","v":1},{"$f":"IF(B3>0,VLOOKUP(I3,Punkteschema!$A$2:$B$101,2,FALSE),\"\")","v":25}]
["Greiffendorf, Hellmut",34,29,63,true,9,1,7,1,{"$f":"IF(B4>0,VLOOKUP(I4,Punkteschema!$A$2:$B$101,2,FALSE),\"\")","v":25}]
["Urban, Volker",26,31,57,true,2,4,2,2,{"$f":"IF(B5>0,VLOOKUP(I5,Punkteschema!$A$2:$B$101,2,FALSE),\"\")","v":21}]
["Hein, Hans-Jörg",26,34,60,true,2,9,3,2,{"$f":"IF(B6>0,VLOOKUP(I6,Punkteschema!$A$2:$B$101,2,FALSE),\"\")","v":21}]
["Lieber, Nicole",30,30,60,true,6,2,3,2,{"$f":"IF(B7>0,VLOOKUP(I7,Punkteschema!$A$2:$B$101,2,FALSE),\"\")","v":21}]
["Urban, Angela",32,30,62,true,7,2,6,2,{"$f":"IF(B8>0,VLOOKUP(I8,Punkteschema!$A$2:$B$101,2,FALSE),\"\")","v":21}]
["Börgmann, Ulrich",26,42,68,true,2,14,10,2,{"$f":"IF(B9>0,VLOOKUP(I9,Punkteschema!$A$2:$B$101,2,FALSE),\"\")","v":21}]
["Puschner, Michael",28,33,61,true,5,6,5,5,{"$f":"IF(B10>0,VLOOKUP(I10,Punkteschema!$A$2:$B$101,2,FALSE),\"\")","v":15}]
["Tabor, Peter",33,33,66,true,8,6,8,6,{"$f":"IF(B11>0,VLOOKUP(I11,Punkteschema!$A$2:$B$101,2,FALSE),\"\")","v":15}]
["Rabe, Jonas",34,33,67,true,9,6,9,6,{"$f":"IF(B12>0,VLOOKUP(I12,Punkteschema!$A$2:$B$101,2,FALSE),\"\")","v":15}]
["Lenk, Rolf",34,35,69,true,9,10,11,9,{"$f":"IF(B13>0,VLOOKUP(I13,Punkteschema!$A$2:$B$101,2,FALSE),\"\")","v":10}]
["Schmidtbauer, Günter",34,35,69,true,9,10,11,9,{"$f":"IF(B14>0,VLOOKUP(I14,Punkteschema!$A$2:$B$101,2,FALSE),\"\")","v":10}]
["Börgmann, Brigitte",34,37,71,true,9,12,13,9,{"$f":"IF(B15>0,VLOOKUP(I15,Punkteschema!$A$2:$B$101,2,FALSE),\"\")","v":10}]
["Kersch, Uwe",34,37,71,true,9,12,13,9,{"$f":"IF(B16>0,VLOOKUP(I16,Punkteschema!$A$2:$B$101,2,FALSE),\"\")","v":10}]
["Schmidt, Barbara",54,45,99,true,15,15,15,15,{"$f":"IF(B17>0,VLOOKUP(I17,Punkteschema!$A$2:$B$101,2,FALSE),\"\")","v":5}]
[null,null,null,{"$f":"IF(B18>0,C18+B18,\"\")","v":""},true,{"$f":"IF(B18>0,COUNTIF(B$3:B$55,\"<\"&B18)+1,\"\")","v":""},"",{"$f":"IF(AND(B18>0,C18>0),COUNTIF(D$3:D$55,\"<\"&D18)+1,\"\")","v":""},{"$f":"IF(B18>0,IF(E18,MIN(F18:H18),MAX(F18:H18)),\"\")","v":""},{"$f":"IF(B18>0,VLOOKUP(I18,Punkteschema!$A$2:$B$101,2,FALSE),\"\")","v":""}]
[null,null,null,"",true,{"$f":"IF(B19>0,COUNTIF(B$3:B$55,\"<\"&B19)+1,\"\")","v":""},"","","",{"$f":"IF(B19>0,VLOOKUP(I19,Punkteschema!$A$2:$B$101,2,FALSE),\"\")","v":""}]
[null,null,null,"",true,"","","","",{"$f":"IF(B20>0,VLOOKUP(I20,Punkteschema!$A$2:$B$101,2,FALSE),\"\")","v":""}]
[null,null,null,"",true,"","","","",{"$f":"IF(B21>0,VLOOKUP(I21,Punkteschema!$A$2:$B$101,2,FALSE),\"\")","v":""}]
[null,null,null,"",true,"","","","",{"$f":"IF(B22>0,VLOOKUP(I22,Punkteschema!$A$2:$B$101,2,FALSE),\"\")","v":""}]
[null,null,null,"",true,"","","","",{"$f":"IF(B23>0,VLOOKUP(I23,Punkteschema!$A$2:$B$101,2,FALSE),\"\")","v":""}]
[null,null,null,"",true,"","","","",{"$f":"IF(B24>0,VLOOKUP(I24,Punkteschema!$A$2:$B$101,2,FALSE),\"\")","v":""}]
[null,null,null,"",true,"","","","",{"$f":"IF(B25>0,VLOOKUP(I25,Punkteschema!$A$2:$B$101,2,FALSE),\"\")","v":""}]
[null,null,null,"",true,"","","","",{"$f":"IF(B26>0,VLOOKUP(I26,Punkteschema!$A$2:$B$101,2,FALSE),\"\")","v":""}]
[null,null,null,"",true,"","","","",{"$f":"IF(B27>0,VLOOKUP(I27,Punkteschema!$A$2:$B$101,2,FALSE),\"\")","v":""}]
[null,null,null,"",true,"","","","",{"$f":"IF(B28>0,VLOOKUP(I28,Punkteschema!$A$2:$B$101,2,FALSE),\"\")","v":""}]
[null,null,null,"",true,"","","","",{"$f":"IF(B29>0,VLOOKUP(I29,Punkteschema!$A$2:$B$101,2,FALSE),\"\")","v":""}]
[null,null,null,"",true,"","","","",{"$f":"IF(B30>0,VLOOKUP(I30,Punkteschema!$A$2:$B$101,2,FALSE),\"\")","v":""}]
[null,null,null,"",true,"","","","",{"$f":"IF(B31>0,VLOOKUP(I31,Punkteschema!$A$2:$B$101,2,FALSE),\"\")","v":""}]
[null,null,null,"",true,"","","","",{"$f":"IF(B32>0,VLOOKUP(I32,Punkteschema!$A$2:$B$101,2,FALSE),\"\")","v":""}]
[null,null,null,"",true,"","","","",{"$f":"IF(B33>0,VLOOKUP(I33,Punkteschema!$A$2:$B$101,2,FALSE),\"\")","v":""}]
[null,null,null,"",true,"","","","",{"$f":"IF(B34>0,VLOOKUP(I34,Punkteschema!$A$2:$B$101,2,FALSE),\"\")","v":""}]
[null,null,null,"",true,"","","","",{"$f":"IF(B35>0,VLOOKUP(I35,Punkteschema!$A$2:$B$101,2,FALSE),\"\")","v":""}]
[null,null,null,"",true,"","","","",{"$f":"IF(B36>0,VLOOKUP(I36,Punkteschema!$A$2:$B$101,2,FALSE),\"\")","v":""}]
[null,null,null,"",true,"","","","",{"$f":"IF(B37>0,VLOOKUP(I37,Punkteschema!$A$2:$B$101,2,FALSE),\"\")","v":""}]
[null,null,null,"",true,"","","","",{"$f":"IF(B38>0,VLOOKUP(I38,Punkteschema!$A$2:$B$101,2,FALSE),\"\")","v":""}]
[null,null,null,"",true,"","","","",{"$f":"IF(B39>0,VLOOKUP(I39,Punkteschema!$A$2:$B$101,2,FALSE),\"\")","v":""}]
[null,null,null,"",true,"","","","",{"$f":"IF(B40>0,VLOOKUP(I40,Punkteschema!$A$2:$B$101,2,FALSE),\"\")","v":""}]
[null,null,null,"",true,"","","","",{"$f":"IF(B41>0,VLOOKUP(I41,Punkteschema!$A$2:$B$101,2,FALSE),\"\")","v":""}]
[null,null,null,"",true,"","","","",{"$f":"IF(B42>0,VLOOKUP(I42,Punkteschema!$A$2:$B$101,2,FALSE),\"\")","v":""}]
[null,null,null,"",true,"","","","",{"$f":"IF(B43>0,VLOOKUP(I43,Punkteschema!$A$2:$B$101,2,FALSE),\"\")","v":""}]
[null,null,null,"",true,"","","","",{"$f":"IF(B44>0,VLOOKUP(I44,Punkteschema!$A$2:$B$101,2,FALSE),\"\")","v":""}]
[null,null,null,"",true,"","","","",{"$f":"IF(B45>0,VLOOKUP(I45,Punkteschema!$A$2:$B$101,2,FALSE),\"\")","v":""}]
[null,null,null,"",true,"","","","",{"$f":"IF(B46>0,VLOOKUP(I46,Punkteschema!$A$2:$B$101,2,FALSE),\"\")","v":""}]
[null,null,null,"",true,"","","","",{"$f":"IF(B47>0,VLOOKUP(I47,Punkteschema!$A$2:$B$101,2,FALSE),\"\")","v":""}]
[null,null,null,"",true,"","","","",{"$f":"IF(B48>0,VLOOKUP(I48,Punkteschema!$A$2:$B$101,2,FALSE),\"\")","v":""}]
[null,null,null,"",true,"","","","",{"$f":"IF(B49>0,VLOOKUP(I49,Punkteschema!$A$2:$B$101,2,FALSE),\"\")","v":""}]
[null,null,null,"",true,"","","","",{"$f":"IF(B50>0,VLOOKUP(I50,Punkteschema!$A$2:$B$101,2,FALSE),\"\")","v":""}]
[null,null,null,"",true,"","","","",{"$f":"IF(B51>0,VLOOKUP(I51,Punkteschema!$A$2:$B$101,2,FALSE),\"\")","v":""}]
[null,null,null,"",true,"","","","",{"$f":"IF(B52>0,VLOOKUP(I52,Punkteschema!$A$2:$B$101,2,FALSE),\"\")","v":""}]
[null,null,null,"",true,{"$f":"IF(B53>0,COUNTIF(B$3:B$55,\"<\"&B53)+1,\"\")","v":""},"",{"$f":"IF(AND(B53>0,C53>0),COUNTIF(D$3:D$55,\"<\"&D53)+1,\"\")","v":""},{"$f":"IF(B53>0,IF(E53,MIN(F53:H53),MAX(F53:H53)),\"\")","v":""},{"$f":"IF(B53>0,VLOOKUP(I53,Punkteschema!$A$2:$B$101,2,FALSE),\"\")","v":""}]
[null,null,null,"",true,"","",{"$f":"IF(AND(B54>0,C54>0),COUNTIF(D$3:D$55,\"<\"&D54)+1,\"\")","v":""},{"$f":"IF(B54>0,IF(E54,MIN(F54:H54),MAX(F54:H54)),\"\")","v":""},{"$f":"IF(B54>0,VLOOKUP(I54,Punkteschema!$A$2:$B$101,2,FALSE),\"\")","v":""}]
[null,null,null,"",true,"","",{"$f":"IF(AND(B55>0,C55>0),COUNTIF(D$3:D$55,\"<\"&D55)+1,\"\")","v":""},{"$f":"IF(B55>0,IF(E55,MIN(F55:H55),MAX(F55:H55)),\"\")","v":""},{"$f":"IF(B55>0,VLOOKUP(I55,Punkteschema!$A$2:$B$101,2,FALSE),\"\")","v":""}]
[]
["OS: Urban, Volker (ASW)",null,null,null,"Runde 1:","E","<- E/B"]
["S: Battig, Wolfgang (LÜD)",null,null,null,"Runde 2:","B","<- E/B"]
["S: Puschner, Michael (HOB)"]
[]
["Verloste Preise: ","Angela Urban - 1 Minigolfball (Magdeburg 2009)"]
[null,"Brigitte Börgmann - 1 Flasche Rotwein"]
[null,"Rolf Lenk - 1 Großpackung Haribo"]

{"sheet":"Einzelwertung7","index":10,"n_rows":63,"n_cols":10,"rows_kept":63,"cut":false,"hidden":false,"merged":[[0,0,0,9]]}
[{"$f":"CONCATENATE(\"6. Sommer-Cup - Freizeittreff Herbede - \",TEXT(Gesamtstand!$L$2,\"TT.MM.JJ\"))","v":"6. Sommer-Cup - Freizeittreff Herbede - 18.06.20"}]
["Spieler","Runde 1","Runde 2","Gesamt","bessere?","Pl. R1","Pl. R2","Pl. Ges.","gewertet","Punkte"]
["Kersch, Uwe",32,30,{"$f":"IF(B3>0,C3+B3,\"\")","v":62},true,{"$f":"IF(B3>0,COUNTIF(B$3:B$55,\"<\"&B3)+1,\"\")","v":13},{"$f":"IF(C3>0,COUNTIF(C$3:C$55,\"<\"&C3)+1,\"\")","v":1},{"$f":"IF(AND(B3>0,C3>0),COUNTIF(D$3:D$55,\"<\"&D3)+1,\"\")","v":7},{"$f":"IF(B3>0,IF(E3,MIN(F3:H3),MAX(F3:H3)),\"\")","v":1},{"$f":"IF(B3>0,VLOOKUP(I3,Punkteschema!$A$2:$B$101,2,FALSE),\"\")","v":25}]
["Buchholz, Ansgar",25,34,59,true,3,9,3,3,{"$f":"IF(B4>0,VLOOKUP(I4,Punkteschema!$A$2:$B$101,2,FALSE),\"\")","v":18}]
["Kortmann, Uwe",31,31,62,true,12,3,7,3,{"$f":"IF(B5>0,VLOOKUP(I5,Punkteschema!$A$2:$B$101,2,FALSE),\"\")","v":18}]
["Schmitt, Jürgen",29,32,61,true,7,4,5,4,{"$f":"IF(B6>0,VLOOKUP(I6,Punkteschema!$A$2:$B$101,2,FALSE),\"\")","v":15}]
["Paffrath, Siegfried",26,37,63,true,4,17,11,4,{"$f":"IF(B7>0,VLOOKUP(I7,Punkteschema!$A$2:$B$101,2,FALSE),\"\")","v":15}]
["Urban, Dominic",27,35,62,true,5,11,7,5,{"$f":"IF(B8>0,VLOOKUP(I8,Punkteschema!$A$2:$B$101,2,FALSE),\"\")","v":15}]
["Lehmann, Niclas",27,36,63,true,5,15,11,5,{"$f":"IF(B9>0,VLOOKUP(I9,Punkteschema!$A$2:$B$101,2,FALSE),\"\")","v":15}]
["Lenk, Rolf",32,33,65,true,13,6,13,6,{"$f":"IF(B10>0,VLOOKUP(I10,Punkteschema!$A$2:$B$101,2,FALSE),\"\")","v":15}]
["Kunz, Martin",34,33,67,true,17,6,15,6,{"$f":"IF(B11>0,VLOOKUP(I11,Punkteschema!$A$2:$B$101,2,FALSE),\"\")","v":15}]
["Lieber, Nicole",29,32,61,false,7,4,5,7,{"$f":"IF(B12>0,VLOOKUP(I12,Punkteschema!$A$2:$B$101,2,FALSE),\"\")","v":10}]
["Hein, Hans-Jörg",29,33,62,false,7,6,7,7,{"$f":"IF(B13>0,VLOOKUP(I13,Punkteschema!$A$2:$B$101,2,FALSE),\"\")","v":10}]
["Rabe, Jonas",29,36,65,true,7,15,13,7,{"$f":"IF(B14>0,VLOOKUP(I14,Punkteschema!$A$2:$B$101,2,FALSE),\"\")","v":10}]
["Wolf, Arnold",43,34,77,true,23,9,20,9,{"$f":"IF(B15>0,VLOOKUP(I15,Punkteschema!$A$2:$B$101,2,FALSE),\"\")","v":10}]
["Battig, Wolfgang",22,35,57,false,1,11,1,11,{"$f":"IF(B16>0,VLOOKUP(I16,Punkteschema!$A$2:$B$101,2,FALSE),\"\")","v":5}]
["Urban, Volker",23,35,58,false,2,11,2,11,{"$f":"IF(B17>0,VLOOKUP(I17,Punkteschema!$A$2:$B$101,2,FALSE),\"\")","v":5}]
["Greiffendorf, Hellmut",30,30,60,false,11,1,4,11,{"$f":"IF(B18>0,VLOOKUP(I18,Punkteschema!$A$2:$B$101,2,FALSE),\"\")","v":5}]
["Börgmann, Brigitte",34,35,69,true,17,11,16,11,{"$f":"IF(B19>0,VLOOKUP(I19,Punkteschema!$A$2:$B$101,2,FALSE),\"\")","v":5}]
["Puschner, Michael",32,38,70,true,13,18,17,13,{"$f":"IF(B20>0,VLOOKUP(I20,Punkteschema!$A$2:$B$101,2,FALSE),\"\")","v":5}]
["Kortmann, Sabine",35,39,74,true,19,19,19,19,{"$f":"IF(B21>0,VLOOKUP(I21,Punkteschema!$A$2:$B$101,2,FALSE),\"\")","v":3}]
["Börgmann, Ulrich",32,41,73,false,13,20,18,20,{"$f":"IF(B22>0,VLOOKUP(I22,Punkteschema!$A$2:$B$101,2,FALSE),\"\")","v":3}]
["Tabor, Peter",36,41,77,true,20,20,20,20,{"$f":"IF(B23>0,VLOOKUP(I23,Punkteschema!$A$2:$B$101,2,FALSE),\"\")","v":3}]
["Schmidtbauer, Günter",36,44,80,true,20,23,22,20,{"$f":"IF(B24>0,VLOOKUP(I24,Punkteschema!$A$2:$B$101,2,FALSE),\"\")","v":3}]
["Wruck, Wolfgang",43,41,84,true,23,20,23,20,{"$f":"IF(B25>0,VLOOKUP(I25,Punkteschema!$A$2:$B$101,2,FALSE),\"\")","v":3}]
["Schmidt, Barbara",42,44,86,true,22,23,24,22,{"$f":"IF(B26>0,VLOOKUP(I26,Punkteschema!$A$2:$B$101,2,FALSE),\"\")","v":1}]
[null,null,null,{"$f":"IF(B27>0,C27+B27,\"\")","v":""},true,{"$f":"IF(B27>0,COUNTIF(B$3:B$55,\"<\"&B27)+1,\"\")","v":""},"",{"$f":"IF(AND(B27>0,C27>0),COUNTIF(D$3:D$55,\"<\"&D27)+1,\"\")","v":""},{"$f":"IF(B27>0,IF(E27,MIN(F27:H27),MAX(F27:H27)),\"\")","v":""},{"$f":"IF(B27>0,VLOOKUP(I27,Punkteschema!$A$2:$B$101,2,FALSE),\"\")","v":""}]
[null,null,null,"",true,"","","","",{"$f":"IF(B28>0,VLOOKUP(I28,Punkteschema!$A$2:$B$101,2,FALSE),\"\")","v":""}]
[null,null,null,"",true,"","","","",{"$f":"IF(B29>0,VLOOKUP(I29,Punkteschema!$A$2:$B$101,2,FALSE),\"\")","v":""}]
[null,null,null,"",true,"","","","",{"$f":"IF(B30>0,VLOOKUP(I30,Punkteschema!$A$2:$B$101,2,FALSE),\"\")","v":""}]
[null,null,null,"",true,"","","","",{"$f":"IF(B31>0,VLOOKUP(I31,Punkteschema!$A$2:$B$101,2,FALSE),\"\")","v":""}]
[null,null,null,"",true,"","","","",{"$f":"IF(B32>0,VLOOKUP(I32,Punkteschema!$A$2:$B$101,2,FALSE),\"\")","v":""}]
[null,null,null,"",true,"","","","",{"$f":"IF(B33>0,VLOOKUP(I33,Punkteschema!$A$2:$B$101,2,FALSE),\"\")","v":""}]
[null,null,null,"",true,"","","","",{"$f":"IF(B34>0,VLOOKUP(I34,Punkteschema!$A$2:$B$101,2,FALSE),\"\")","v":""}]
[null,null,null,"",true,"","","","",{"$f":"IF(B35>0,VLOOKUP(I35,Punkteschema!$A$2:$B$101,2,FALSE),\"\")","v":""}]
[null,null,null,"",true,"","","","",{"$f":"IF(B36>0,VLOOKUP(I36,Punkteschema!$A$2:$B$101,2,FALSE),\"\")","v":""}]
[null,null,null,"",true,"","","","",{"$f":"IF(B37>0,VLOOKUP(I37,Punkteschema!$A$2:$B$101,2,FALSE),\"\")","v":""}]
[null,null,null,"",true,"","","","",{"$f":"IF(B38>0,VLOOKUP(I38,Punkteschema!$A$2:$B$101,2,FALSE),\"\")","v":""}]
[null,null,null,"",true,"","","","",{"$f":"IF(B39>0,VLOOKUP(I39,Punkteschema!$A$2:$B$101,2,FALSE),\"\")","v":""}]
[null,null,null,"",true,"","","","",{"$f":"IF(B40>0,VLOOKUP(I40,Punkteschema!$A$2:$B$101,2,FALSE),\"\")","v":""}]
[null,null,null,"",true,"","","","",{"$f":"IF(B41>0,VLOOKUP(I41,Punkteschema!$A$2:$B$101,2,FALSE),\"\")","v":""}]
[null,null,null,"",true,"","","","",{"$f":"IF(B42>0,VLOOKUP(I42,Punkteschema!$A$2:$B$101,2,FALSE),\"\")","v":""}]
[null,null,null,"",true,"","","","",{"$f":"IF(B43>0,VLOOKUP(I43,Punkteschema!$A$2:$B$101,2,FALSE),\"\")","v":""}]
[null,null,null,"",true,"","","","",{"$f":"IF(B44>0,VLOOKUP(I44,Punkteschema!$A$2:$B$101,2,FALSE),\"\")","v":""}]
[null,null,null,"",true,"","","","",{"$f":"IF(B45>0,VLOOKUP(I45,Punkteschema!$A$2:$B$101,2,FALSE),\"\")","v":""}]
[null,null,null,"",true,"","","","",{"$f":"IF(B46>0,VLOOKUP(I46,Punkteschema!$A$2:$B$101,2,FALSE),\"\")","v":""}]
[null,null,null,"",true,"","","","",{"$f":"IF(B47>0,VLOOKUP(I47,Punkteschema!$A$2:$B$101,2,FALSE),\"\")","v":""}]
[null,null,null,"",true,"","","","",{"$f":"IF(B48>0,VLOOKUP(I48,Punkteschema!$A$2:$B$101,2,FALSE),\"\")","v":""}]
[null,null,null,"",true,"","","","",{"$f":"IF(B49>0,VLOOKUP(I49,Punkteschema!$A$2:$B$101,2,FALSE),\"\")","v":""}]
[null,null,null,"",true,"","","","",{"$f":"IF(B50>0,VLOOKUP(I50,Punkteschema!$A$2:$B$101,2,FALSE),\"\")","v":""}]
[null,null,null,"",true,"","","","",{"$f":"IF(B51>0,VLOOKUP(I51,Punkteschema!$A$2:$B$101,2,FALSE),\"\")","v":""}]
[null,null,null,"",true,"","","","",{"$f":"IF(B52>0,VLOOKUP(I52,Punkteschema!$A$2:$B$101,2,FALSE),\"\")","v":""}]
[null,null,null,"",true,{"$f":"IF(B53>0,COUNTIF(B$3:B$55,\"<\"&B53)+1,\"\")","v":""},"",{"$f":"IF(AND(B53>0,C53>0),COUNTIF(D$3:D$55,\"<\"&D53)+1,\"\")","v":""},{"$f":"IF(B53>0,IF(E53,MIN(F53:H53),MAX(F53:H53)),\"\")","v":""},{"$f":"IF(B53>0,VLOOKUP(I53,Punkteschema!$A$2:$B$101,2,FALSE),\"\")","v":""}]
[null,null,null,"",true,"","",{"$f":"IF(AND(B54>0,C54>0),COUNTIF(D$3:D$55,\"<\"&D54)+1,\"\")","v":""},{"$f":"IF(B54>0,IF(E54,MIN(F54:H54),MAX(F54:H54)),\"\")","v":""},{"$f":"IF(B54>0,VLOOKUP(I54,Punkteschema!$A$2:$B$101,2,FALSE),\"\")","v":""}]
[null,null,null,"",true,"","",{"$f":"IF(AND(B55>0,C55>0),COUNTIF(D$3:D$55,\"<\"&D55)+1,\"\")","v":""},{"$f":"IF(B55>0,IF(E55,MIN(F55:H55),MAX(F55:H55)),\"\")","v":""},{"$f":"IF(B55>0,VLOOKUP(I55,Punkteschema!$A$2:$B$101,2,FALSE),\"\")","v":""}]
[]
["OS: Paffrath, Siegfried (HEV)",null,null,null,"Runde 1:","E","<- E/B"]
["S: Urban, Volker (ASW)",null,null,null,"Runde 2:","B","<- E/B"]
["S: Buchholz, Ansgar (ASW)"]
[]
["Verloste Preise: ","Ulrich Börgmann - 1 Flasche Rotwein"]
[null,"Siegfried Paffrath - 1 Verzehrgutschein"]
[null,"Nicole Lieber - 1 Minigolfball (Pingvin Turbo 80)"]

{"sheet":"Einzelwertung8","index":11,"n_rows":63,"n_cols":10,"rows_kept":63,"cut":false,"hidden":false,"merged":[[0,0,0,9]]}
[{"$f":"CONCATENATE(\"6. Sommer-Cup - Freizeittreff Herbede - \",TEXT(Gesamtstand!$M$2,\"TT.MM.JJ\"))","v":"6. Sommer-Cup - Freizeittreff Herbede - 25.06.20"}]
["Spieler","Runde 1","Runde 2","Gesamt","bessere?","Pl. R1","Pl. R2","Pl. Ges.","gewertet","Punkte"]
["Puschner, Michael",31,27,{"$f":"IF(B3>0,C3+B3,\"\")","v":58},true,{"$f":"IF(B3>0,COUNTIF(B$3:B$55,\"<\"&B3)+1,\"\")","v":2},{"$f":"IF(C3>0,COUNTIF(C$3:C$55,\"<\"&C3)+1,\"\")","v":2},{"$f":"IF(AND(B3>0,C3>0),COUNTIF(D$3:D$55,\"<\"&D3)+1,\"\")","v":1},{"$f":"IF(B3>0,IF(E3,MIN(F3:H3),MAX(F3:H3)),\"\")","v":1},{"$f":"IF(B3>0,VLOOKUP(I3,Punkteschema!$A$2:$B$101,2,FALSE),\"\")","v":25}]
["Urban, Volker",28,31,59,true,1,11,2,1,{"$f":"IF(B4>0,VLOOKUP(I4,Punkteschema!$A$2:$B$101,2,FALSE),\"\")","v":25}]
["Wickel-Paffrath, Melanie",35,25,60,true,11,1,3,1,{"$f":"IF(B5>0,VLOOKUP(I5,Punkteschema!$A$2:$B$101,2,FALSE),\"\")","v":25}]
["Kunz, Martin",31,30,61,true,2,9,4,2,{"$f":"IF(B6>0,VLOOKUP(I6,Punkteschema!$A$2:$B$101,2,FALSE),\"\")","v":21}]
["Lehmann, Niclas",34,27,61,true,9,2,4,2,{"$f":"IF(B7>0,VLOOKUP(I7,Punkteschema!$A$2:$B$101,2,FALSE),\"\")","v":21}]
["Urban, Dominic",32,30,62,true,4,9,8,4,{"$f":"IF(B8>0,VLOOKUP(I8,Punkteschema!$A$2:$B$101,2,FALSE),\"\")","v":15}]
["Battig, Wolfgang",33,28,61,false,6,4,4,6,{"$f":"IF(B9>0,VLOOKUP(I9,Punkteschema!$A$2:$B$101,2,FALSE),\"\")","v":15}]
["Hein, Hans-Jörg",33,28,61,false,6,4,4,6,{"$f":"IF(B10>0,VLOOKUP(I10,Punkteschema!$A$2:$B$101,2,FALSE),\"\")","v":15}]
["Buchholz, Ansgar",34,29,63,true,9,6,9,6,{"$f":"IF(B11>0,VLOOKUP(I11,Punkteschema!$A$2:$B$101,2,FALSE),\"\")","v":15}]
["Rabe, Jonas",37,29,66,true,15,6,11,6,{"$f":"IF(B12>0,VLOOKUP(I12,Punkteschema!$A$2:$B$101,2,FALSE),\"\")","v":15}]
["Lenk, Rolf",33,35,68,true,6,17,12,6,{"$f":"IF(B13>0,VLOOKUP(I13,Punkteschema!$A$2:$B$101,2,FALSE),\"\")","v":15}]
["Paffrath, Siegfried",45,29,74,true,22,6,18,6,{"$f":"IF(B14>0,VLOOKUP(I14,Punkteschema!$A$2:$B$101,2,FALSE),\"\")","v":15}]
["Kortmann, Uwe",38,31,69,true,17,11,13,11,{"$f":"IF(B15>0,VLOOKUP(I15,Punkteschema!$A$2:$B$101,2,FALSE),\"\")","v":5}]
["Schmitt, Jürgen",36,33,69,true,12,14,13,12,{"$f":"IF(B16>0,VLOOKUP(I16,Punkteschema!$A$2:$B$101,2,FALSE),\"\")","v":5}]
["Kortmann, Sabine",36,37,73,true,12,20,17,12,{"$f":"IF(B17>0,VLOOKUP(I17,Punkteschema!$A$2:$B$101,2,FALSE),\"\")","v":5}]
["Börgmann, Ulrich",40,32,72,true,18,13,16,13,{"$f":"IF(B18>0,VLOOKUP(I18,Punkteschema!$A$2:$B$101,2,FALSE),\"\")","v":5}]
["Lieber, Nicole",32,33,65,false,4,14,10,14,{"$f":"IF(B19>0,VLOOKUP(I19,Punkteschema!$A$2:$B$101,2,FALSE),\"\")","v":5}]
["Schmidtbauer, Günter",37,43,80,true,15,22,21,15,{"$f":"IF(B20>0,VLOOKUP(I20,Punkteschema!$A$2:$B$101,2,FALSE),\"\")","v":5}]
["Greiffendorf, Hellmut",36,34,70,false,12,16,15,16,{"$f":"IF(B21>0,VLOOKUP(I21,Punkteschema!$A$2:$B$101,2,FALSE),\"\")","v":3}]
["Paffrath, Ben",40,35,75,true,18,17,19,17,{"$f":"IF(B22>0,VLOOKUP(I22,Punkteschema!$A$2:$B$101,2,FALSE),\"\")","v":3}]
["Urban, Angela",43,35,78,true,21,17,20,17,{"$f":"IF(B23>0,VLOOKUP(I23,Punkteschema!$A$2:$B$101,2,FALSE),\"\")","v":3}]
["Börgmann, Brigitte",42,38,80,true,20,21,21,20,{"$f":"IF(B24>0,VLOOKUP(I24,Punkteschema!$A$2:$B$101,2,FALSE),\"\")","v":3}]
[null,null,null,{"$f":"IF(B25>0,C25+B25,\"\")","v":""},true,{"$f":"IF(B25>0,COUNTIF(B$3:B$55,\"<\"&B25)+1,\"\")","v":""},"",{"$f":"IF(AND(B25>0,C25>0),COUNTIF(D$3:D$55,\"<\"&D25)+1,\"\")","v":""},{"$f":"IF(B25>0,IF(E25,MIN(F25:H25),MAX(F25:H25)),\"\")","v":""},{"$f":"IF(B25>0,VLOOKUP(I25,Punkteschema!$A$2:$B$101,2,FALSE),\"\")","v":""}]
[null,null,null,"",true,"","","","",{"$f":"IF(B26>0,VLOOKUP(I26,Punkteschema!$A$2:$B$101,2,FALSE),\"\")","v":""}]
[null,null,null,"",true,"","","","",{"$f":"IF(B27>0,VLOOKUP(I27,Punkteschema!$A$2:$B$101,2,FALSE),\"\")","v":""}]
[null,null,null,"",true,"","","","",{"$f":"IF(B28>0,VLOOKUP(I28,Punkteschema!$A$2:$B$101,2,FALSE),\"\")","v":""}]
[null,null,null,"",true,"","","","",{"$f":"IF(B29>0,VLOOKUP(I29,Punkteschema!$A$2:$B$101,2,FALSE),\"\")","v":""}]
[null,null,null,"",true,"","","","",{"$f":"IF(B30>0,VLOOKUP(I30,Punkteschema!$A$2:$B$101,2,FALSE),\"\")","v":""}]
[null,null,null,"",true,"","","","",{"$f":"IF(B31>0,VLOOKUP(I31,Punkteschema!$A$2:$B$101,2,FALSE),\"\")","v":""}]
[null,null,null,"",true,"","","","",{"$f":"IF(B32>0,VLOOKUP(I32,Punkteschema!$A$2:$B$101,2,FALSE),\"\")","v":""}]
[null,null,null,"",true,"","","","",{"$f":"IF(B33>0,VLOOKUP(I33,Punkteschema!$A$2:$B$101,2,FALSE),\"\")","v":""}]
[null,null,null,"",true,"","","","",{"$f":"IF(B34>0,VLOOKUP(I34,Punkteschema!$A$2:$B$101,2,FALSE),\"\")","v":""}]
[null,null,null,"",true,"","","","",{"$f":"IF(B35>0,VLOOKUP(I35,Punkteschema!$A$2:$B$101,2,FALSE),\"\")","v":""}]
[null,null,null,"",true,"","","","",{"$f":"IF(B36>0,VLOOKUP(I36,Punkteschema!$A$2:$B$101,2,FALSE),\"\")","v":""}]
[null,null,null,"",true,"","","","",{"$f":"IF(B37>0,VLOOKUP(I37,Punkteschema!$A$2:$B$101,2,FALSE),\"\")","v":""}]
[null,null,null,"",true,"","","","",{"$f":"IF(B38>0,VLOOKUP(I38,Punkteschema!$A$2:$B$101,2,FALSE),\"\")","v":""}]
[null,null,null,"",true,"","","","",{"$f":"IF(B39>0,VLOOKUP(I39,Punkteschema!$A$2:$B$101,2,FALSE),\"\")","v":""}]
[null,null,null,"",true,"","","","",{"$f":"IF(B40>0,VLOOKUP(I40,Punkteschema!$A$2:$B$101,2,FALSE),\"\")","v":""}]
[null,null,null,"",true,"","","","",{"$f":"IF(B41>0,VLOOKUP(I41,Punkteschema!$A$2:$B$101,2,FALSE),\"\")","v":""}]
[null,null,null,"",true,"","","","",{"$f":"IF(B42>0,VLOOKUP(I42,Punkteschema!$A$2:$B$101,2,FALSE),\"\")","v":""}]
[null,null,null,"",true,"","","","",{"$f":"IF(B43>0,VLOOKUP(I43,Punkteschema!$A$2:$B$101,2,FALSE),\"\")","v":""}]
[null,null,null,"",true,"","","","",{"$f":"IF(B44>0,VLOOKUP(I44,Punkteschema!$A$2:$B$101,2,FALSE),\"\")","v":""}]
[null,null,null,"",true,"","","","",{"$f":"IF(B45>0,VLOOKUP(I45,Punkteschema!$A$2:$B$101,2,FALSE),\"\")","v":""}]
[null,null,null,"",true,"","","","",{"$f":"IF(B46>0,VLOOKUP(I46,Punkteschema!$A$2:$B$101,2,FALSE),\"\")","v":""}]
[null,null,null,"",true,"","","","",{"$f":"IF(B47>0,VLOOKUP(I47,Punkteschema!$A$2:$B$101,2,FALSE),\"\")","v":""}]
[null,null,null,"",true,"","","","",{"$f":"IF(B48>0,VLOOKUP(I48,Punkteschema!$A$2:$B$101,2,FALSE),\"\")","v":""}]
[null,null,null,"",true,"","","","",{"$f":"IF(B49>0,VLOOKUP(I49,Punkteschema!$A$2:$B$101,2,FALSE),\"\")","v":""}]
[null,null,null,"",true,"","","","",{"$f":"IF(B50>0,VLOOKUP(I50,Punkteschema!$A$2:$B$101,2,FALSE),\"\")","v":""}]
[null,null,null,"",true,"","","","",{"$f":"IF(B51>0,VLOOKUP(I51,Punkteschema!$A$2:$B$101,2,FALSE),\"\")","v":""}]
[null,null,null,"",true,"","","","",{"$f":"IF(B52>0,VLOOKUP(I52,Punkteschema!$A$2:$B$101,2,FALSE),\"\")","v":""}]
[null,null,null,"",true,{"$f":"IF(B53>0,COUNTIF(B$3:B$55,\"<\"&B53)+1,\"\")","v":""},"",{"$f":"IF(AND(B53>0,C53>0),COUNTIF(D$3:D$55,\"<\"&D53)+1,\"\")","v":""},{"$f":"IF(B53>0,IF(E53,MIN(F53:H53),MAX(F53:H53)),\"\")","v":""},{"$f":"IF(B53>0,VLOOKUP(I53,Punkteschema!$A$2:$B$101,2,FALSE),\"\")","v":""}]
[null,null,null,"",true,"","",{"$f":"IF(AND(B54>0,C54>0),COUNTIF(D$3:D$55,\"<\"&D54)+1,\"\")","v":""},{"$f":"IF(B54>0,IF(E54,MIN(F54:H54),MAX(F54:H54)),\"\")","v":""},{"$f":"IF(B54>0,VLOOKUP(I54,Punkteschema!$A$2:$B$101,2,FALSE),\"\")","v":""}]
[null,null,null,"",true,"","",{"$f":"IF(AND(B55>0,C55>0),COUNTIF(D$3:D$55,\"<\"&D55)+1,\"\")","v":""},{"$f":"IF(B55>0,IF(E55,MIN(F55:H55),MAX(F55:H55)),\"\")","v":""},{"$f":"IF(B55>0,VLOOKUP(I55,Punkteschema!$A$2:$B$101,2,FALSE),\"\")","v":""}]
[]
["OS: Urban, Volker (ASW)",null,null,null,"Runde 1:","B","<- E/B"]
["S: Paffrath, Siegfried (HEV)",null,null,null,"Runde 2:","E","<- E/B"]
["S: Puschner, Michael (HOB)"]
[]
["Verloste Preise: ","Niclas Lehmann - 1 Minigolfball (Graues Wölkchen)"]
[null,"Uwe Kortmann - 1 Set Gin-Miniaturen + 1xToffifee"]
[null,"Hellmut Greiffendorf - 1 Verzehrgutschein"]

{"sheet":"Einzelwertung9","index":12,"n_rows":65,"n_cols":10,"rows_kept":65,"cut":false,"hidden":false,"merged":[[0,0,0,9]]}
[{"$f":"CONCATENATE(\"6. Sommer-Cup - Freizeittreff Herbede - \",TEXT(Gesamtstand!$N$2,\"TT.MM.JJ\"))","v":"6. Sommer-Cup - Freizeittreff Herbede - 02.07.20"}]
["Spieler","Runde 1","Runde 2","Gesamt","bessere?","Pl. R1","Pl. R2","Pl. Ges.","gewertet","Punkte"]
["Buchholz, Ansgar",23,null,{"$f":"IF(B3>0,C3+B3,\"\")","v":23},true,{"$f":"IF(B3>0,COUNTIF(B$3:B$55,\"<\"&B3)+1,\"\")","v":1},{"$f":"IF(C3>0,COUNTIF(C$3:C$55,\"<\"&C3)+1,\"\")","v":""},{"$f":"IF(AND(B3>0,C3>0),COUNTIF(D$3:D$55,\"<\"&D3)+1,\"\")","v":""},{"$f":"IF(B3>0,IF(E3,MIN(F3:H3),MAX(F3:H3)),\"\")","v":1},{"$f":"IF(B3>0,VLOOKUP(I3,Punkteschema!$A$2:$B$101,2,FALSE),\"\")","v":25}]
["Battig, Wolfgang",28,null,28,false,2,"","",2,{"$f":"IF(B4>0,VLOOKUP(I4,Punkteschema!$A$2:$B$101,2,FALSE),\"\")","v":21}]
["Lenk, Rolf",29,null,29,true,3,"","",3,{"$f":"IF(B5>0,VLOOKUP(I5,Punkteschema!$A$2:$B$101,2,FALSE),\"\")","v":18}]
["Lehmann, Niclas",31,null,31,true,4,"","",4,{"$f":"IF(B6>0,VLOOKUP(I6,Punkteschema!$A$2:$B$101,2,FALSE),\"\")","v":15}]
["Hein, Hans-Jörg",31,null,31,false,4,"","",4,{"$f":"IF(B7>0,VLOOKUP(I7,Punkteschema!$A$2:$B$101,2,FALSE),\"\")","v":15}]
["Kortmann, Uwe",32,null,32,true,6,"","",6,{"$f":"IF(B8>0,VLOOKUP(I8,Punkteschema!$A$2:$B$101,2,FALSE),\"\")","v":15}]
["Kortmann, Sabine",33,null,33,true,7,"","",7,{"$f":"IF(B9>0,VLOOKUP(I9,Punkteschema!$A$2:$B$101,2,FALSE),\"\")","v":10}]
["Rabe, Jonas",33,null,33,true,7,"","",7,{"$f":"IF(B10>0,VLOOKUP(I10,Punkteschema!$A$2:$B$101,2,FALSE),\"\")","v":10}]
["Börgmann, Ulrich",33,null,33,true,7,"","",7,{"$f":"IF(B11>0,VLOOKUP(I11,Punkteschema!$A$2:$B$101,2,FALSE),\"\")","v":10}]
["Lieber, Nicole",34,null,34,true,10,"","",10,{"$f":"IF(B12>0,VLOOKUP(I12,Punkteschema!$A$2:$B$101,2,FALSE),\"\")","v":10}]
["Kunz, Martin",37,null,37,true,11,"","",11,{"$f":"IF(B13>0,VLOOKUP(I13,Punkteschema!$A$2:$B$101,2,FALSE),\"\")","v":5}]
["Schmidt, Barbara",38,null,38,true,12,"","",12,{"$f":"IF(B14>0,VLOOKUP(I14,Punkteschema!$A$2:$B$101,2,FALSE),\"\")","v":5}]
["Puschner, Michael",38,null,38,false,12,"","",12,{"$f":"IF(B15>0,VLOOKUP(I15,Punkteschema!$A$2:$B$101,2,FALSE),\"\")","v":5}]
["Schmidtbauer, Günter",39,null,39,true,14,"","",14,{"$f":"IF(B16>0,VLOOKUP(I16,Punkteschema!$A$2:$B$101,2,FALSE),\"\")","v":5}]
["Greiffendorf, Hellmut",40,null,40,true,15,"","",15,{"$f":"IF(B17>0,VLOOKUP(I17,Punkteschema!$A$2:$B$101,2,FALSE),\"\")","v":5}]
["Börgmann, Brigitte",41,null,41,true,16,"","",16,{"$f":"IF(B18>0,VLOOKUP(I18,Punkteschema!$A$2:$B$101,2,FALSE),\"\")","v":3}]
["Brunnenkant, Frank",43,null,43,true,17,"","",17,{"$f":"IF(B19>0,VLOOKUP(I19,Punkteschema!$A$2:$B$101,2,FALSE),\"\")","v":3}]
[null,null,null,{"$f":"IF(B20>0,C20+B20,\"\")","v":""},true,{"$f":"IF(B20>0,COUNTIF(B$3:B$55,\"<\"&B20)+1,\"\")","v":""},{"$f":"IF(C20>0,COUNTIF(C$3:C$55,\"<\"&C20)+1,\"\")","v":""},{"$f":"IF(AND(B20>0,C20>0),COUNTIF(D$3:D$55,\"<\"&D20)+1,\"\")","v":""},{"$f":"IF(B20>0,IF(E20,MIN(F20:H20),MAX(F20:H20)),\"\")","v":""},{"$f":"IF(B20>0,VLOOKUP(I20,Punkteschema!$A$2:$B$101,2,FALSE),\"\")","v":""}]
[null,null,null,"",true,"","","","",{"$f":"IF(B21>0,VLOOKUP(I21,Punkteschema!$A$2:$B$101,2,FALSE),\"\")","v":""}]
[null,null,null,"",true,"","","","",{"$f":"IF(B22>0,VLOOKUP(I22,Punkteschema!$A$2:$B$101,2,FALSE),\"\")","v":""}]
[null,null,null,{"$f":"IF(B23>0,C23+B23,\"\")","v":""},true,{"$f":"IF(B23>0,COUNTIF(B$3:B$55,\"<\"&B23)+1,\"\")","v":""},{"$f":"IF(C23>0,COUNTIF(C$3:C$55,\"<\"&C23)+1,\"\")","v":""},{"$f":"IF(AND(B23>0,C23>0),COUNTIF(D$3:D$55,\"<\"&D23)+1,\"\")","v":""},{"$f":"IF(B23>0,IF(E23,MIN(F23:H23),MAX(F23:H23)),\"\")","v":""},{"$f":"IF(B23>0,VLOOKUP(I23,Punkteschema!$A$2:$B$101,2,FALSE),\"\")","v":""}]
[null,null,null,{"$f":"IF(B24>0,C24+B24,\"\")","v":""},true,{"$f":"IF(B24>0,COUNTIF(B$3:B$55,\"<\"&B24)+1,\"\")","v":""},"",{"$f":"IF(AND(B24>0,C24>0),COUNTIF(D$3:D$55,\"<\"&D24)+1,\"\")","v":""},{"$f":"IF(B24>0,IF(E24,MIN(F24:H24),MAX(F24:H24)),\"\")","v":""},{"$f":"IF(B24>0,VLOOKUP(I24,Punkteschema!$A$2:$B$101,2,FALSE),\"\")","v":""}]
[null,null,null,"",true,"","","","",{"$f":"IF(B25>0,VLOOKUP(I25,Punkteschema!$A$2:$B$101,2,FALSE),\"\")","v":""}]
[null,null,null,"",true,"","","","",{"$f":"IF(B26>0,VLOOKUP(I26,Punkteschema!$A$2:$B$101,2,FALSE),\"\")","v":""}]
[null,null,null,"",true,"","","","",{"$f":"IF(B27>0,VLOOKUP(I27,Punkteschema!$A$2:$B$101,2,FALSE),\"\")","v":""}]
[null,null,null,"",true,"","","","",{"$f":"IF(B28>0,VLOOKUP(I28,Punkteschema!$A$2:$B$101,2,FALSE),\"\")","v":""}]
[null,null,null,"",true,"","","","",{"$f":"IF(B29>0,VLOOKUP(I29,Punkteschema!$A$2:$B$101,2,FALSE),\"\")","v":""}]
[null,null,null,"",true,"","","","",{"$f":"IF(B30>0,VLOOKUP(I30,Punkteschema!$A$2:$B$101,2,FALSE),\"\")","v":""}]
[null,null,null,"",true,"","","","",{"$f":"IF(B31>0,VLOOKUP(I31,Punkteschema!$A$2:$B$101,2,FALSE),\"\")","v":""}]
[null,null,null,"",true,"","","","",{"$f":"IF(B32>0,VLOOKUP(I32,Punkteschema!$A$2:$B$101,2,FALSE),\"\")","v":""}]
[null,null,null,"",true,"","","","",{"$f":"IF(B33>0,VLOOKUP(I33,Punkteschema!$A$2:$B$101,2,FALSE),\"\")","v":""}]
[null,null,null,"",true,"","","","",{"$f":"IF(B34>0,VLOOKUP(I34,Punkteschema!$A$2:$B$101,2,FALSE),\"\")","v":""}]
[null,null,null,"",true,"","","","",{"$f":"IF(B35>0,VLOOKUP(I35,Punkteschema!$A$2:$B$101,2,FALSE),\"\")","v":""}]
[null,null,null,"",true,"","","","",{"$f":"IF(B36>0,VLOOKUP(I36,Punkteschema!$A$2:$B$101,2,FALSE),\"\")","v":""}]
[null,null,null,"",true,"","","","",{"$f":"IF(B37>0,VLOOKUP(I37,Punkteschema!$A$2:$B$101,2,FALSE),\"\")","v":""}]
[null,null,null,"",true,"","","","",{"$f":"IF(B38>0,VLOOKUP(I38,Punkteschema!$A$2:$B$101,2,FALSE),\"\")","v":""}]
[null,null,null,"",true,"","","","",{"$f":"IF(B39>0,VLOOKUP(I39,Punkteschema!$A$2:$B$101,2,FALSE),\"\")","v":""}]
[null,null,null,"",true,"","","","",{"$f":"IF(B40>0,VLOOKUP(I40,Punkteschema!$A$2:$B$101,2,FALSE),\"\")","v":""}]
[null,null,null,"",true,"","","","",{"$f":"IF(B41>0,VLOOKUP(I41,Punkteschema!$A$2:$B$101,2,FALSE),\"\")","v":""}]
[null,null,null,"",true,"","","","",{"$f":"IF(B42>0,VLOOKUP(I42,Punkteschema!$A$2:$B$101,2,FALSE),\"\")","v":""}]
[null,null,null,"",true,"","","","",{"$f":"IF(B43>0,VLOOKUP(I43,Punkteschema!$A$2:$B$101,2,FALSE),\"\")","v":""}]
[null,null,null,"",true,"","","","",{"$f":"IF(B44>0,VLOOKUP(I44,Punkteschema!$A$2:$B$101,2,FALSE),\"\")","v":""}]
[null,null,null,"",true,"","","","",{"$f":"IF(B45>0,VLOOKUP(I45,Punkteschema!$A$2:$B$101,2,FALSE),\"\")","v":""}]
[null,null,null,"",true,"","","","",{"$f":"IF(B46>0,VLOOKUP(I46,Punkteschema!$A$2:$B$101,2,FALSE),\"\")","v":""}]
[null,null,null,"",true,"","","","",{"$f":"IF(B47>0,VLOOKUP(I47,Punkteschema!$A$2:$B$101,2,FALSE),\"\")","v":""}]
[null,null,null,"",true,"","","","",{"$f":"IF(B48>0,VLOOKUP(I48,Punkteschema!$A$2:$B$101,2,FALSE),\"\")","v":""}]
[null,null,null,"",true,"","","","",{"$f":"IF(B49>0,VLOOKUP(I49,Punkteschema!$A$2:$B$101,2,FALSE),\"\")","v":""}]
[null,null,null,"",true,"","","","",{"$f":"IF(B50>0,VLOOKUP(I50,Punkteschema!$A$2:$B$101,2,FALSE),\"\")","v":""}]
[null,null,null,"",true,"","","","",{"$f":"IF(B51>0,VLOOKUP(I51,Punkteschema!$A$2:$B$101,2,FALSE),\"\")","v":""}]
[null,null,null,"",true,"","","","",{"$f":"IF(B52>0,VLOOKUP(I52,Punkteschema!$A$2:$B$101,2,FALSE),\"\")","v":""}]
[null,null,null,"",true,{"$f":"IF(B53>0,COUNTIF(B$3:B$55,\"<\"&B53)+1,\"\")","v":""},"",{"$f":"IF(AND(B53>0,C53>0),COUNTIF(D$3:D$55,\"<\"&D53)+1,\"\")","v":""},{"$f":"IF(B53>0,IF(E53,MIN(F53:H53),MAX(F53:H53)),\"\")","v":""},{"$f":"IF(B53>0,VLOOKUP(I53,Punkteschema!$A$2:$B$101,2,FALSE),\"\")","v":""}]
[null,null,null,"",true,"","",{"$f":"IF(AND(B54>0,C54>0),COUNTIF(D$3:D$55,\"<\"&D54)+1,\"\")","v":""},{"$f":"IF(B54>0,IF(E54,MIN(F54:H54),MAX(F54:H54)),\"\")","v":""},{"$f":"IF(B54>0,VLOOKUP(I54,Punkteschema!$A$2:$B$101,2,FALSE),\"\")","v":""}]
[null,null,null,"",true,"","",{"$f":"IF(AND(B55>0,C55>0),COUNTIF(D$3:D$55,\"<\"&D55)+1,\"\")","v":""},{"$f":"IF(B55>0,IF(E55,MIN(F55:H55),MAX(F55:H55)),\"\")","v":""},{"$f":"IF(B55>0,VLOOKUP(I55,Punkteschema!$A$2:$B$101,2,FALSE),\"\")","v":""}]
[]
["OS: Buchholz, Ansgar (ASW)",null,null,null,"Runde 1:","E","<- E/B"]
["S: Puschner, Michael (HOB)",null,null,null,"Runde 2:","B","<- E/B"]
["S: Battig, Wolfgang (LÜD)"]
[]
["Verloste Preise: ","Frank Brunnenkant - 1 Minigolfball (Deutschmann Tango)"]
[null,"Barbara Schmidt - 1 Flasche Holunderwein"]
[null,"Brigitte Börgmann - 1 Verzehrgutschein"]
[]
["Regenbedingt wurde während der Beton-Runde zuerst unter- und dann abgebrochen."]

{"sheet":"Einzelwertung10","index":13,"n_rows":63,"n_cols":10,"rows_kept":63,"cut":false,"hidden":false,"merged":[[0,0,0,9]]}
[{"$f":"CONCATENATE(\"6. Sommer-Cup - Freizeittreff Herbede - \",TEXT(Gesamtstand!$O$2,\"TT.MM.JJ\"))","v":"6. Sommer-Cup - Freizeittreff Herbede - 09.07.20"}]
["Spieler","Runde 1","Runde 2","Gesamt","bessere?","Pl. R1","Pl. R2","Pl. Ges.","gewertet","Punkte"]
["Rabe, Jonas",25,34,{"$f":"IF(B3>0,C3+B3,\"\")","v":59},true,{"$f":"IF(B3>0,COUNTIF(B$3:B$55,\"<\"&B3)+1,\"\")","v":1},{"$f":"IF(C3>0,COUNTIF(C$3:C$55,\"<\"&C3)+1,\"\")","v":3},{"$f":"IF(AND(B3>0,C3>0),COUNTIF(D$3:D$55,\"<\"&D3)+1,\"\")","v":2},{"$f":"IF(B3>0,IF(E3,MIN(F3:H3),MAX(F3:H3)),\"\")","v":1},{"$f":"IF(B3>0,VLOOKUP(I3,Punkteschema!$A$2:$B$101,2,FALSE),\"\")","v":25}]
["Urban, Volker",26,31,57,false,2,1,1,2,{"$f":"IF(B4>0,VLOOKUP(I4,Punkteschema!$A$2:$B$101,2,FALSE),\"\")","v":21}]
["Lieber, Nicole",27,33,60,true,4,2,3,2,{"$f":"IF(B5>0,VLOOKUP(I5,Punkteschema!$A$2:$B$101,2,FALSE),\"\")","v":21}]
["Kortmann, Sabine",29,34,63,true,5,3,4,3,{"$f":"IF(B6>0,VLOOKUP(I6,Punkteschema!$A$2:$B$101,2,FALSE),\"\")","v":18}]
["Börgmann, Brigitte",43,34,77,true,14,3,11,3,{"$f":"IF(B7>0,VLOOKUP(I7,Punkteschema!$A$2:$B$101,2,FALSE),\"\")","v":18}]
["Schmidtbauer, Günter",46,34,80,true,15,3,14,3,{"$f":"IF(B8>0,VLOOKUP(I8,Punkteschema!$A$2:$B$101,2,FALSE),\"\")","v":18}]
["Puschner, Michael",30,35,65,true,7,7,5,5,{"$f":"IF(B9>0,VLOOKUP(I9,Punkteschema!$A$2:$B$101,2,FALSE),\"\")","v":15}]
["Urban, Dominic",29,37,66,true,5,11,7,5,{"$f":"IF(B10>0,VLOOKUP(I10,Punkteschema!$A$2:$B$101,2,FALSE),\"\")","v":15}]
["Börgmann, Ulrich",36,35,71,true,10,7,10,7,{"$f":"IF(B11>0,VLOOKUP(I11,Punkteschema!$A$2:$B$101,2,FALSE),\"\")","v":10}]
["Kunz, Martin",33,36,69,true,8,9,8,8,{"$f":"IF(B12>0,VLOOKUP(I12,Punkteschema!$A$2:$B$101,2,FALSE),\"\")","v":10}]
["Lenk, Rolf",33,36,69,false,8,9,8,9,{"$f":"IF(B13>0,VLOOKUP(I13,Punkteschema!$A$2:$B$101,2,FALSE),\"\")","v":10}]
["Kersch, Uwe",36,41,77,true,10,14,11,10,{"$f":"IF(B14>0,VLOOKUP(I14,Punkteschema!$A$2:$B$101,2,FALSE),\"\")","v":10}]
["Urban, Angela",37,40,77,true,12,13,11,11,{"$f":"IF(B15>0,VLOOKUP(I15,Punkteschema!$A$2:$B$101,2,FALSE),\"\")","v":5}]
["Lehmann, Niclas",26,39,65,false,2,12,5,12,{"$f":"IF(B16>0,VLOOKUP(I16,Punkteschema!$A$2:$B$101,2,FALSE),\"\")","v":5}]
["Kortmann, Uwe",40,41,81,true,13,14,15,13,{"$f":"IF(B17>0,VLOOKUP(I17,Punkteschema!$A$2:$B$101,2,FALSE),\"\")","v":5}]
["Schmidt, Barbara",46,48,94,true,15,16,16,15,{"$f":"IF(B18>0,VLOOKUP(I18,Punkteschema!$A$2:$B$101,2,FALSE),\"\")","v":5}]
[null,null,null,{"$f":"IF(B19>0,C19+B19,\"\")","v":""},true,{"$f":"IF(B19>0,COUNTIF(B$3:B$55,\"<\"&B19)+1,\"\")","v":""},{"$f":"IF(C19>0,COUNTIF(C$3:C$55,\"<\"&C19)+1,\"\")","v":""},{"$f":"IF(AND(B19>0,C19>0),COUNTIF(D$3:D$55,\"<\"&D19)+1,\"\")","v":""},{"$f":"IF(B19>0,IF(E19,MIN(F19:H19),MAX(F19:H19)),\"\")","v":""},{"$f":"IF(B19>0,VLOOKUP(I19,Punkteschema!$A$2:$B$101,2,FALSE),\"\")","v":""}]
[null,null,null,"",true,"","","","",{"$f":"IF(B20>0,VLOOKUP(I20,Punkteschema!$A$2:$B$101,2,FALSE),\"\")","v":""}]
[null,null,null,"",true,"","","","",{"$f":"IF(B21>0,VLOOKUP(I21,Punkteschema!$A$2:$B$101,2,FALSE),\"\")","v":""}]
[null,null,null,{"$f":"IF(B22>0,C22+B22,\"\")","v":""},true,{"$f":"IF(B22>0,COUNTIF(B$3:B$55,\"<\"&B22)+1,\"\")","v":""},{"$f":"IF(C22>0,COUNTIF(C$3:C$55,\"<\"&C22)+1,\"\")","v":""},{"$f":"IF(AND(B22>0,C22>0),COUNTIF(D$3:D$55,\"<\"&D22)+1,\"\")","v":""},{"$f":"IF(B22>0,IF(E22,MIN(F22:H22),MAX(F22:H22)),\"\")","v":""},{"$f":"IF(B22>0,VLOOKUP(I22,Punkteschema!$A$2:$B$101,2,FALSE),\"\")","v":""}]
[null,null,null,"",true,"","","","",{"$f":"IF(B23>0,VLOOKUP(I23,Punkteschema!$A$2:$B$101,2,FALSE),\"\")","v":""}]
[null,null,null,"",true,"","","","",{"$f":"IF(B24>0,VLOOKUP(I24,Punkteschema!$A$2:$B$101,2,FALSE),\"\")","v":""}]
[null,null,null,"",true,"","","","",{"$f":"IF(B25>0,VLOOKUP(I25,Punkteschema!$A$2:$B$101,2,FALSE),\"\")","v":""}]
[null,null,null,{"$f":"IF(B26>0,C26+B26,\"\")","v":""},true,{"$f":"IF(B26>0,COUNTIF(B$3:B$55,\"<\"&B26)+1,\"\")","v":""},"",{"$f":"IF(AND(B26>0,C26>0),COUNTIF(D$3:D$55,\"<\"&D26)+1,\"\")","v":""},{"$f":"IF(B26>0,IF(E26,MIN(F26:H26),MAX(F26:H26)),\"\")","v":""},{"$f":"IF(B26>0,VLOOKUP(I26,Punkteschema!$A$2:$B$101,2,FALSE),\"\")","v":""}]
[null,null,null,"",true,"","","","",{"$f":"IF(B27>0,VLOOKUP(I27,Punkteschema!$A$2:$B$101,2,FALSE),\"\")","v":""}]
[null,null,null,"",true,"","","","",{"$f":"IF(B28>0,VLOOKUP(I28,Punkteschema!$A$2:$B$101,2,FALSE),\"\")","v":""}]
[null,null,null,"",true,"","","","",{"$f":"IF(B29>0,VLOOKUP(I29,Punkteschema!$A$2:$B$101,2,FALSE),\"\")","v":""}]
[null,null,null,"",true,"","","","",{"$f":"IF(B30>0,VLOOKUP(I30,Punkteschema!$A$2:$B$101,2,FALSE),\"\")","v":""}]
[null,null,null,"",true,"","","","",{"$f":"IF(B31>0,VLOOKUP(I31,Punkteschema!$A$2:$B$101,2,FALSE),\"\")","v":""}]
[null,null,null,"",true,"","","","",{"$f":"IF(B32>0,VLOOKUP(I32,Punkteschema!$A$2:$B$101,2,FALSE),\"\")","v":""}]
[null,null,null,"",true,"","","","",{"$f":"IF(B33>0,VLOOKUP(I33,Punkteschema!$A$2:$B$101,2,FALSE),\"\")","v":""}]
[null,null,null,"",true,"","","","",{"$f":"IF(B34>0,VLOOKUP(I34,Punkteschema!$A$2:$B$101,2,FALSE),\"\")","v":""}]
[null,null,null,"",true,"","","","",{"$f":"IF(B35>0,VLOOKUP(I35,Punkteschema!$A$2:$B$101,2,FALSE),\"\")","v":""}]
[null,null,null,"",true,"","","","",{"$f":"IF(B36>0,VLOOKUP(I36,Punkteschema!$A$2:$B$101,2,FALSE),\"\")","v":""}]
[null,null,null,"",true,"","","","",{"$f":"IF(B37>0,VLOOKUP(I37,Punkteschema!$A$2:$B$101,2,FALSE),\"\")","v":""}]
[null,null,null,"",true,"","","","",{"$f":"IF(B38>0,VLOOKUP(I38,Punkteschema!$A$2:$B$101,2,FALSE),\"\")","v":""}]
[null,null,null,"",true,"","","","",{"$f":"IF(B39>0,VLOOKUP(I39,Punkteschema!$A$2:$B$101,2,FALSE),\"\")","v":""}]
[null,null,null,"",true,"","","","",{"$f":"IF(B40>0,VLOOKUP(I40,Punkteschema!$A$2:$B$101,2,FALSE),\"\")","v":""}]
[null,null,null,"",true,"","","","",{"$f":"IF(B41>0,VLOOKUP(I41,Punkteschema!$A$2:$B$101,2,FALSE),\"\")","v":""}]
[null,null,null,"",true,"","","","",{"$f":"IF(B42>0,VLOOKUP(I42,Punkteschema!$A$2:$B$101,2,FALSE),\"\")","v":""}]
[null,null,null,"",true,"","","","",{"$f":"IF(B43>0,VLOOKUP(I43,Punkteschema!$A$2:$B$101,2,FALSE),\"\")","v":""}]
[null,null,null,"",true,"","","","",{"$f":"IF(B44>0,VLOOKUP(I44,Punkteschema!$A$2:$B$101,2,FALSE),\"\")","v":""}]
[null,null,null,"",true,"","","","",{"$f":"IF(B45>0,VLOOKUP(I45,Punkteschema!$A$2:$B$101,2,FALSE),\"\")","v":""}]
[null,null,null,"",true,"","","","",{"$f":"IF(B46>0,VLOOKUP(I46,Punkteschema!$A$2:$B$101,2,FALSE),\"\")","v":""}]
[null,null,null,"",true,"","","","",{"$f":"IF(B47>0,VLOOKUP(I47,Punkteschema!$A$2:$B$101,2,FALSE),\"\")","v":""}]
[null,null,null,"",true,"","","","",{"$f":"IF(B48>0,VLOOKUP(I48,Punkteschema!$A$2:$B$101,2,FALSE),\"\")","v":""}]
[null,null,null,"",true,"","","","",{"$f":"IF(B49>0,VLOOKUP(I49,Punkteschema!$A$2:$B$101,2,FALSE),\"\")","v":""}]
[null,null,null,"",true,"","","","",{"$f":"IF(B50>0,VLOOKUP(I50,Punkteschema!$A$2:$B$101,2,FALSE),\"\")","v":""}]
[null,null,null,"",true,"","","","",{"$f":"IF(B51>0,VLOOKUP(I51,Punkteschema!$A$2:$B$101,2,FALSE),\"\")","v":""}]
[null,null,null,"",true,"","","","",{"$f":"IF(B52>0,VLOOKUP(I52,Punkteschema!$A$2:$B$101,2,FALSE),\"\")","v":""}]
[null,null,null,"",true,{"$f":"IF(B53>0,COUNTIF(B$3:B$55,\"<\"&B53)+1,\"\")","v":""},"",{"$f":"IF(AND(B53>0,C53>0),COUNTIF(D$3:D$55,\"<\"&D53)+1,\"\")","v":""},{"$f":"IF(B53>0,IF(E53,MIN(F53:H53),MAX(F53:H53)),\"\")","v":""},{"$f":"IF(B53>0,VLOOKUP(I53,Punkteschema!$A$2:$B$101,2,FALSE),\"\")","v":""}]
[null,null,null,"",true,"","",{"$f":"IF(AND(B54>0,C54>0),COUNTIF(D$3:D$55,\"<\"&D54)+1,\"\")","v":""},{"$f":"IF(B54>0,IF(E54,MIN(F54:H54),MAX(F54:H54)),\"\")","v":""},{"$f":"IF(B54>0,VLOOKUP(I54,Punkteschema!$A$2:$B$101,2,FALSE),\"\")","v":""}]
[null,null,null,"",true,"","",{"$f":"IF(AND(B55>0,C55>0),COUNTIF(D$3:D$55,\"<\"&D55)+1,\"\")","v":""},{"$f":"IF(B55>0,IF(E55,MIN(F55:H55),MAX(F55:H55)),\"\")","v":""},{"$f":"IF(B55>0,VLOOKUP(I55,Punkteschema!$A$2:$B$101,2,FALSE),\"\")","v":""}]
[]
["OS: Urban, Volker (ASW)",null,null,null,"Runde 1:","E","<- E/B"]
["S: Puschner, Michael (HOB)",null,null,null,"Runde 2:","B","<- E/B"]
["S: Lieber, Nicole (HOB)"]
[]
["Verloste Preise: ","Dominic Urban - 1 Minigolfball (3D Wolfgang Döppner)"]
[null,"Barbara Schmidt - 1 Glasquader \"Minigolfer\""]
[null,"Brigitte Börgmann - 1 Flasche Sekt"]

{"sheet":"Einzelwertung18","index":14,"n_rows":61,"n_cols":10,"rows_kept":61,"cut":false,"hidden":true,"merged":[[0,0,0,9]]}
[{"$f":"CONCATENATE(\"6. Sommer-Cup - Freizeittreff Herbede - \",TEXT(Gesamtstand!$W$2,\"TT.MM.JJ\"))","v":"6. Sommer-Cup - Freizeittreff Herbede - 03.09.20"}]
["Spieler","Runde 1","Runde 2","Gesamt","bessere?","Pl. R1","Pl. R2","Pl. Ges.","gewertet","Punkte"]
[null,null,null,{"$f":"IF(B3>0,C3+B3,\"\")","v":""},true,{"$f":"IF(B3>0,COUNTIF(B$3:B$55,\"<\"&B3)+1,\"\")","v":""},{"$f":"IF(C3>0,COUNTIF(C$3:C$55,\"<\"&C3)+1,\"\")","v":""},{"$f":"IF(AND(B3>0,C3>0),COUNTIF(D$3:D$55,\"<\"&D3)+1,\"\")","v":""},{"$f":"IF(B3>0,IF(E3,MIN(F3:H3),MAX(F3:H3)),\"\")","v":""},{"$f":"IF(B3>0,VLOOKUP(I3,Punkteschema!$A$2:$B$101,2,FALSE),\"\")","v":""}]
[null,null,null,"",true,"","","","",{"$f":"IF(B4>0,VLOOKUP(I4,Punkteschema!$A$2:$B$101,2,FALSE),\"\")","v":""}]
[null,null,null,"",true,"","","","",{"$f":"IF(B5>0,VLOOKUP(I5,Punkteschema!$A$2:$B$101,2,FALSE),\"\")","v":""}]
[null,null,null,"",true,"","","","",{"$f":"IF(B6>0,VLOOKUP(I6,Punkteschema!$A$2:$B$101,2,FALSE),\"\")","v":""}]
[null,null,null,"",true,"","","","",{"$f":"IF(B7>0,VLOOKUP(I7,Punkteschema!$A$2:$B$101,2,FALSE),\"\")","v":""}]
[null,null,null,"",true,"","","","",{"$f":"IF(B8>0,VLOOKUP(I8,Punkteschema!$A$2:$B$101,2,FALSE),\"\")","v":""}]
[null,null,null,"",true,"","","","",{"$f":"IF(B9>0,VLOOKUP(I9,Punkteschema!$A$2:$B$101,2,FALSE),\"\")","v":""}]
[null,null,null,"",true,"","","","",{"$f":"IF(B10>0,VLOOKUP(I10,Punkteschema!$A$2:$B$101,2,FALSE),\"\")","v":""}]
[null,null,null,"",true,"","","","",{"$f":"IF(B11>0,VLOOKUP(I11,Punkteschema!$A$2:$B$101,2,FALSE),\"\")","v":""}]
[null,null,null,"",true,"","","","",{"$f":"IF(B12>0,VLOOKUP(I12,Punkteschema!$A$2:$B$101,2,FALSE),\"\")","v":""}]
[null,null,null,"",true,"","","","",{"$f":"IF(B13>0,VLOOKUP(I13,Punkteschema!$A$2:$B$101,2,FALSE),\"\")","v":""}]
[null,null,null,"",true,"","","","",{"$f":"IF(B14>0,VLOOKUP(I14,Punkteschema!$A$2:$B$101,2,FALSE),\"\")","v":""}]
[null,null,null,"",true,"","","","",{"$f":"IF(B15>0,VLOOKUP(I15,Punkteschema!$A$2:$B$101,2,FALSE),\"\")","v":""}]
[null,null,null,"",true,"","","","",{"$f":"IF(B16>0,VLOOKUP(I16,Punkteschema!$A$2:$B$101,2,FALSE),\"\")","v":""}]
[null,null,null,"",true,"","","","",{"$f":"IF(B17>0,VLOOKUP(I17,Punkteschema!$A$2:$B$101,2,FALSE),\"\")","v":""}]
[null,null,null,"",true,"","","","",{"$f":"IF(B18>0,VLOOKUP(I18,Punkteschema!$A$2:$B$101,2,FALSE),\"\")","v":""}]
[null,null,null,"",true,"","","","",{"$f":"IF(B19>0,VLOOKUP(I19,Punkteschema!$A$2:$B$101,2,FALSE),\"\")","v":""}]
[null,null,null,"",true,"","","","",{"$f":"IF(B20>0,VLOOKUP(I20,Punkteschema!$A$2:$B$101,2,FALSE),\"\")","v":""}]
[null,null,null,"",true,"","","","",{"$f":"IF(B21>0,VLOOKUP(I21,Punkteschema!$A$2:$B$101,2,FALSE),\"\")","v":""}]
[null,null,null,"",true,"","","","",{"$f":"IF(B22>0,VLOOKUP(I22,Punkteschema!$A$2:$B$101,2,FALSE),\"\")","v":""}]
[null,null,null,{"$f":"IF(B23>0,C23+B23,\"\")","v":""},true,{"$f":"IF(B23>0,COUNTIF(B$3:B$55,\"<\"&B23)+1,\"\")","v":""},{"$f":"IF(C23>0,COUNTIF(C$3:C$55,\"<\"&C23)+1,\"\")","v":""},{"$f":"IF(AND(B23>0,C23>0),COUNTIF(D$3:D$55,\"<\"&D23)+1,\"\")","v":""},{"$f":"IF(B23>0,IF(E23,MIN(F23:H23),MAX(F23:H23)),\"\")","v":""},{"$f":"IF(B23>0,VLOOKUP(I23,Punkteschema!$A$2:$B$101,2,FALSE),\"\")","v":""}]
[null,null,null,"",true,"","","","",{"$f":"IF(B24>0,VLOOKUP(I24,Punkteschema!$A$2:$B$101,2,FALSE),\"\")","v":""}]
[null,null,null,"",true,"","","","",{"$f":"IF(B25>0,VLOOKUP(I25,Punkteschema!$A$2:$B$101,2,FALSE),\"\")","v":""}]
[null,null,null,"",true,"","","","",{"$f":"IF(B26>0,VLOOKUP(I26,Punkteschema!$A$2:$B$101,2,FALSE),\"\")","v":""}]
[null,null,null,"",true,"","","","",{"$f":"IF(B27>0,VLOOKUP(I27,Punkteschema!$A$2:$B$101,2,FALSE),\"\")","v":""}]
[null,null,null,"",true,"","","","",{"$f":"IF(B28>0,VLOOKUP(I28,Punkteschema!$A$2:$B$101,2,FALSE),\"\")","v":""}]
[null,null,null,"",true,"","","","",{"$f":"IF(B29>0,VLOOKUP(I29,Punkteschema!$A$2:$B$101,2,FALSE),\"\")","v":""}]
[null,null,null,"",true,"","","","",{"$f":"IF(B30>0,VLOOKUP(I30,Punkteschema!$A$2:$B$101,2,FALSE),\"\")","v":""}]
[null,null,null,"",true,"","","","",{"$f":"IF(B31>0,VLOOKUP(I31,Punkteschema!$A$2:$B$101,2,FALSE),\"\")","v":""}]
[null,null,null,"",true,"","","","",{"$f":"IF(B32>0,VLOOKUP(I32,Punkteschema!$A$2:$B$101,2,FALSE),\"\")","v":""}]
[null,null,null,"",true,"","","","",{"$f":"IF(B33>0,VLOOKUP(I33,Punkteschema!$A$2:$B$101,2,FALSE),\"\")","v":""}]
[null,null,null,"",true,"","","","",{"$f":"IF(B34>0,VLOOKUP(I34,Punkteschema!$A$2:$B$101,2,FALSE),\"\")","v":""}]
[null,null,null,"",true,"","","","",{"$f":"IF(B35>0,VLOOKUP(I35,Punkteschema!$A$2:$B$101,2,FALSE),\"\")","v":""}]
[null,null,null,"",true,"","","","",{"$f":"IF(B36>0,VLOOKUP(I36,Punkteschema!$A$2:$B$101,2,FALSE),\"\")","v":""}]
[null,null,null,"",true,"","","","",{"$f":"IF(B37>0,VLOOKUP(I37,Punkteschema!$A$2:$B$101,2,FALSE),\"\")","v":""}]
[null,null,null,"",true,"","","","",{"$f":"IF(B38>0,VLOOKUP(I38,Punkteschema!$A$2:$B$101,2,FALSE),\"\")","v":""}]
[null,null,null,"",true,"","","","",{"$f":"IF(B39>0,VLOOKUP(I39,Punkteschema!$A$2:$B$101,2,FALSE),\"\")","v":""}]
[null,null,null,"",true,"","","","",{"$f":"IF(B40>0,VLOOKUP(I40,Punkteschema!$A$2:$B$101,2,FALSE),\"\")","v":""}]
[null,null,null,"",true,"","","","",{"$f":"IF(B41>0,VLOOKUP(I41,Punkteschema!$A$2:$B$101,2,FALSE),\"\")","v":""}]
[null,null,null,"",true,"","","","",{"$f":"IF(B42>0,VLOOKUP(I42,Punkteschema!$A$2:$B$101,2,FALSE),\"\")","v":""}]
[null,null,null,"",true,"","","","",{"$f":"IF(B43>0,VLOOKUP(I43,Punkteschema!$A$2:$B$101,2,FALSE),\"\")","v":""}]
[null,null,null,"",true,"","","","",{"$f":"IF(B44>0,VLOOKUP(I44,Punkteschema!$A$2:$B$101,2,FALSE),\"\")","v":""}]
[null,null,null,"",true,"","","","",{"$f":"IF(B45>0,VLOOKUP(I45,Punkteschema!$A$2:$B$101,2,FALSE),\"\")","v":""}]
[null,null,null,"",true,"","","","",{"$f":"IF(B46>0,VLOOKUP(I46,Punkteschema!$A$2:$B$101,2,FALSE),\"\")","v":""}]
[null,null,null,"",true,"","","","",{"$f":"IF(B47>0,VLOOKUP(I47,Punkteschema!$A$2:$B$101,2,FALSE),\"\")","v":""}]
[null,null,null,"",true,"","","","",{"$f":"IF(B48>0,VLOOKUP(I48,Punkteschema!$A$2:$B$101,2,FALSE),\"\")","v":""}]
[null,null,null,"",true,"","","","",{"$f":"IF(B49>0,VLOOKUP(I49,Punkteschema!$A$2:$B$101,2,FALSE),\"\")","v":""}]
[null,null,null,"",true,"","","","",{"$f":"IF(B50>0,VLOOKUP(I50,Punkteschema!$A$2:$B$101,2,FALSE),\"\")","v":""}]
[null,null,null,"",true,"","","","",{"$f":"IF(B51>0,VLOOKUP(I51,Punkteschema!$A$2:$B$101,2,FALSE),\"\")","v":""}]
[null,null,null,"",true,"","","","",{"$f":"IF(B52>0,VLOOKUP(I52,Punkteschema!$A$2:$B$101,2,FALSE),\"\")","v":""}]
[null,null,null,"",true,{"$f":"IF(B53>0,COUNTIF(B$3:B$55,\"<\"&B53)+1,\"\")","v":""},"",{"$f":"IF(AND(B53>0,C53>0),COUNTIF(D$3:D$55,\"<\"&D53)+1,\"\")","v":""},{"$f":"IF(B53>0,IF(E53,MIN(F53:H53),MAX(F53:H53)),\"\")","v":""},{"$f":"IF(B53>0,VLOOKUP(I53,Punkteschema!$A$2:$B$101,2,FALSE),\"\")","v":""}]
[null,null,null,"",true,"","",{"$f":"IF(AND(B54>0,C54>0),COUNTIF(D$3:D$55,\"<\"&D54)+1,\"\")","v":""},{"$f":"IF(B54>0,IF(E54,MIN(F54:H54),MAX(F54:H54)),\"\")","v":""},{"$f":"IF(B54>0,VLOOKUP(I54,Punkteschema!$A$2:$B$101,2,FALSE),\"\")","v":""}]
[null,null,null,"",true,"","",{"$f":"IF(AND(B55>0,C55>0),COUNTIF(D$3:D$55,\"<\"&D55)+1,\"\")","v":""},{"$f":"IF(B55>0,IF(E55,MIN(F55:H55),MAX(F55:H55)),\"\")","v":""},{"$f":"IF(B55>0,VLOOKUP(I55,Punkteschema!$A$2:$B$101,2,FALSE),\"\")","v":""}]
[]
["OS: ",null,null,null,"Runde 1:","E","<- E/B"]
["S: ",null,null,null,"Runde 2:","B","<- E/B"]
["S: "]
[]
["Verloste Preise: "]

{"sheet":"Einzelwertung11","index":15,"n_rows":63,"n_cols":10,"rows_kept":63,"cut":false,"hidden":false,"merged":[[0,0,0,9]]}
[{"$f":"CONCATENATE(\"6. Sommer-Cup - Freizeittreff Herbede - \",TEXT(Gesamtstand!$P$2,\"TT.MM.JJ\"))","v":"6. Sommer-Cup - Freizeittreff Herbede - 16.07.20"}]
["Spieler","Runde 1","Runde 2","Gesamt","bessere?","Pl. R1","Pl. R2","Pl. Ges.","gewertet","Punkte"]
["Urban, Dominic",24,32,{"$f":"IF(B3>0,C3+B3,\"\")","v":56},true,{"$f":"IF(B3>0,COUNTIF(B$3:B$55,\"<\"&B3)+1,\"\")","v":1},{"$f":"IF(C3>0,COUNTIF(C$3:C$55,\"<\"&C3)+1,\"\")","v":2},{"$f":"IF(AND(B3>0,C3>0),COUNTIF(D$3:D$55,\"<\"&D3)+1,\"\")","v":1},{"$f":"IF(B3>0,IF(E3,MIN(F3:H3),MAX(F3:H3)),\"\")","v":1},{"$f":"IF(B3>0,VLOOKUP(I3,Punkteschema!$A$2:$B$101,2,FALSE),\"\")","v":25}]
["Schmidtbauer, Günter",40,31,71,true,15,1,10,1,{"$f":"IF(B4>0,VLOOKUP(I4,Punkteschema!$A$2:$B$101,2,FALSE),\"\")","v":25}]
["Urban, Volker",27,32,59,false,2,2,2,2,{"$f":"IF(B5>0,VLOOKUP(I5,Punkteschema!$A$2:$B$101,2,FALSE),\"\")","v":21}]
["Lieber, Nicole",27,36,63,true,2,11,6,2,{"$f":"IF(B6>0,VLOOKUP(I6,Punkteschema!$A$2:$B$101,2,FALSE),\"\")","v":21}]
["Urban, Angela",38,32,70,true,13,2,8,2,{"$f":"IF(B7>0,VLOOKUP(I7,Punkteschema!$A$2:$B$101,2,FALSE),\"\")","v":21}]
["Puschner, Michael",28,34,62,true,4,7,3,3,{"$f":"IF(B8>0,VLOOKUP(I8,Punkteschema!$A$2:$B$101,2,FALSE),\"\")","v":18}]
["Battig, Wolfgang",28,34,62,true,4,7,3,3,{"$f":"IF(B9>0,VLOOKUP(I9,Punkteschema!$A$2:$B$101,2,FALSE),\"\")","v":18}]
["Kunz, Martin",29,33,62,true,6,5,3,3,{"$f":"IF(B10>0,VLOOKUP(I10,Punkteschema!$A$2:$B$101,2,FALSE),\"\")","v":18}]
["Kortmann, Uwe",37,33,70,true,12,5,8,5,{"$f":"IF(B11>0,VLOOKUP(I11,Punkteschema!$A$2:$B$101,2,FALSE),\"\")","v":15}]
["Kortmann, Sabine",32,39,71,true,8,12,10,8,{"$f":"IF(B12>0,VLOOKUP(I12,Punkteschema!$A$2:$B$101,2,FALSE),\"\")","v":10}]
["Börgmann, Ulrich",36,35,71,true,11,9,10,9,{"$f":"IF(B13>0,VLOOKUP(I13,Punkteschema!$A$2:$B$101,2,FALSE),\"\")","v":10}]
["Scharpe, Sabine",38,35,73,true,13,9,13,9,{"$f":"IF(B14>0,VLOOKUP(I14,Punkteschema!$A$2:$B$101,2,FALSE),\"\")","v":10}]
["Hein, Hans-Jörg",34,43,77,true,9,15,15,9,{"$f":"IF(B15>0,VLOOKUP(I15,Punkteschema!$A$2:$B$101,2,FALSE),\"\")","v":10}]
["Rabe, Jonas",30,39,69,false,7,12,7,12,{"$f":"IF(B16>0,VLOOKUP(I16,Punkteschema!$A$2:$B$101,2,FALSE),\"\")","v":5}]
["Lenk, Rolf",35,40,75,false,10,14,14,14,{"$f":"IF(B17>0,VLOOKUP(I17,Punkteschema!$A$2:$B$101,2,FALSE),\"\")","v":5}]
["Börgmann, Brigitte",40,43,83,true,15,15,16,15,{"$f":"IF(B18>0,VLOOKUP(I18,Punkteschema!$A$2:$B$101,2,FALSE),\"\")","v":5}]
["Schmidt, Barbara",49,47,96,true,17,17,17,17,{"$f":"IF(B19>0,VLOOKUP(I19,Punkteschema!$A$2:$B$101,2,FALSE),\"\")","v":3}]
[null,null,null,{"$f":"IF(B20>0,C20+B20,\"\")","v":""},true,{"$f":"IF(B20>0,COUNTIF(B$3:B$55,\"<\"&B20)+1,\"\")","v":""},{"$f":"IF(C20>0,COUNTIF(C$3:C$55,\"<\"&C20)+1,\"\")","v":""},{"$f":"IF(AND(B20>0,C20>0),COUNTIF(D$3:D$55,\"<\"&D20)+1,\"\")","v":""},{"$f":"IF(B20>0,IF(E20,MIN(F20:H20),MAX(F20:H20)),\"\")","v":""},{"$f":"IF(B20>0,VLOOKUP(I20,Punkteschema!$A$2:$B$101,2,FALSE),\"\")","v":""}]
[null,null,null,"",true,"","","","",{"$f":"IF(B21>0,VLOOKUP(I21,Punkteschema!$A$2:$B$101,2,FALSE),\"\")","v":""}]
[null,null,null,{"$f":"IF(B22>0,C22+B22,\"\")","v":""},true,{"$f":"IF(B22>0,COUNTIF(B$3:B$55,\"<\"&B22)+1,\"\")","v":""},{"$f":"IF(C22>0,COUNTIF(C$3:C$55,\"<\"&C22)+1,\"\")","v":""},{"$f":"IF(AND(B22>0,C22>0),COUNTIF(D$3:D$55,\"<\"&D22)+1,\"\")","v":""},{"$f":"IF(B22>0,IF(E22,MIN(F22:H22),MAX(F22:H22)),\"\")","v":""},{"$f":"IF(B22>0,VLOOKUP(I22,Punkteschema!$A$2:$B$101,2,FALSE),\"\")","v":""}]
[null,null,null,{"$f":"IF(B23>0,C23+B23,\"\")","v":""},true,{"$f":"IF(B23>0,COUNTIF(B$3:B$55,\"<\"&B23)+1,\"\")","v":""},"",{"$f":"IF(AND(B23>0,C23>0),COUNTIF(D$3:D$55,\"<\"&D23)+1,\"\")","v":""},{"$f":"IF(B23>0,IF(E23,MIN(F23:H23),MAX(F23:H23)),\"\")","v":""},{"$f":"IF(B23>0,VLOOKUP(I23,Punkteschema!$A$2:$B$101,2,FALSE),\"\")","v":""}]
[null,null,null,"",true,"","","","",{"$f":"IF(B24>0,VLOOKUP(I24,Punkteschema!$A$2:$B$101,2,FALSE),\"\")","v":""}]
[null,null,null,"",true,"","","","",{"$f":"IF(B25>0,VLOOKUP(I25,Punkteschema!$A$2:$B$101,2,FALSE),\"\")","v":""}]
[null,null,null,"",true,"","","","",{"$f":"IF(B26>0,VLOOKUP(I26,Punkteschema!$A$2:$B$101,2,FALSE),\"\")","v":""}]
[null,null,null,"",true,"","","","",{"$f":"IF(B27>0,VLOOKUP(I27,Punkteschema!$A$2:$B$101,2,FALSE),\"\")","v":""}]
[null,null,null,"",true,"","","","",{"$f":"IF(B28>0,VLOOKUP(I28,Punkteschema!$A$2:$B$101,2,FALSE),\"\")","v":""}]
[null,null,null,"",true,"","","","",{"$f":"IF(B29>0,VLOOKUP(I29,Punkteschema!$A$2:$B$101,2,FALSE),\"\")","v":""}]
[null,null,null,"",true,"","","","",{"$f":"IF(B30>0,VLOOKUP(I30,Punkteschema!$A$2:$B$101,2,FALSE),\"\")","v":""}]
[null,null,null,"",true,"","","","",{"$f":"IF(B31>0,VLOOKUP(I31,Punkteschema!$A$2:$B$101,2,FALSE),\"\")","v":""}]
[null,null,null,"",true,"","","","",{"$f":"IF(B32>0,VLOOKUP(I32,Punkteschema!$A$2:$B$101,2,FALSE),\"\")","v":""}]
[null,null,null,"",true,"","","","",{"$f":"IF(B33>0,VLOOKUP(I33,Punkteschema!$A$2:$B$101,2,FALSE),\"\")","v":""}]
[null,null,null,"",true,"","","","",{"$f":"IF(B34>0,VLOOKUP(I34,Punkteschema!$A$2:$B$101,2,FALSE),\"\")","v":""}]
[null,null,null,"",true,"","","","",{"$f":"IF(B35>0,VLOOKUP(I35,Punkteschema!$A$2:$B$101,2,FALSE),\"\")","v":""}]
[null,null,null,"",true,"","","","",{"$f":"IF(B36>0,VLOOKUP(I36,Punkteschema!$A$2:$B$101,2,FALSE),\"\")","v":""}]
[null,null,null,"",true,"","","","",{"$f":"IF(B37>0,VLOOKUP(I37,Punkteschema!$A$2:$B$101,2,FALSE),\"\")","v":""}]
[null,null,null,"",true,"","","","",{"$f":"IF(B38>0,VLOOKUP(I38,Punkteschema!$A$2:$B$101,2,FALSE),\"\")","v":""}]
[null,null,null,"",true,"","","","",{"$f":"IF(B39>0,VLOOKUP(I39,Punkteschema!$A$2:$B$101,2,FALSE),\"\")","v":""}]
[null,null,null,"",true,"","","","",{"$f":"IF(B40>0,VLOOKUP(I40,Punkteschema!$A$2:$B$101,2,FALSE),\"\")","v":""}]
[null,null,null,"",true,"","","","",{"$f":"IF(B41>0,VLOOKUP(I41,Punkteschema!$A$2:$B$101,2,FALSE),\"\")","v":""}]
[null,null,null,"",true,"","","","",{"$f":"IF(B42>0,VLOOKUP(I42,Punkteschema!$A$2:$B$101,2,FALSE),\"\")","v":""}]
[null,null,null,"",true,"","","","",{"$f":"IF(B43>0,VLOOKUP(I43,Punkteschema!$A$2:$B$101,2,FALSE),\"\")","v":""}]
[null,null,null,"",true,"","","","",{"$f":"IF(B44>0,VLOOKUP(I44,Punkteschema!$A$2:$B$101,2,FALSE),\"\")","v":""}]
[null,null,null,"",true,"","","","",{"$f":"IF(B45>0,VLOOKUP(I45,Punkteschema!$A$2:$B$101,2,FALSE),\"\")","v":""}]
[null,null,null,"",true,"","","","",{"$f":"IF(B46>0,VLOOKUP(I46,Punkteschema!$A$2:$B$101,2,FALSE),\"\")","v":""}]
[null,null,null,"",true,"","","","",{"$f":"IF(B47>0,VLOOKUP(I47,Punkteschema!$A$2:$B$101,2,FALSE),\"\")","v":""}]
[null,null,null,"",true,"","","","",{"$f":"IF(B48>0,VLOOKUP(I48,Punkteschema!$A$2:$B$101,2,FALSE),\"\")","v":""}]
[null,null,null,"",true,"","","","",{"$f":"IF(B49>0,VLOOKUP(I49,Punkteschema!$A$2:$B$101,2,FALSE),\"\")","v":""}]
[null,null,null,"",true,"","","","",{"$f":"IF(B50>0,VLOOKUP(I50,Punkteschema!$A$2:$B$101,2,FALSE),\"\")","v":""}]
[null,null,null,"",true,"","","","",{"$f":"IF(B51>0,VLOOKUP(I51,Punkteschema!$A$2:$B$101,2,FALSE),\"\")","v":""}]
[null,null,null,"",true,"","","","",{"$f":"IF(B52>0,VLOOKUP(I52,Punkteschema!$A$2:$B$101,2,FALSE),\"\")","v":""}]
[null,null,null,"",true,{"$f":"IF(B53>0,COUNTIF(B$3:B$55,\"<\"&B53)+1,\"\")","v":""},"",{"$f":"IF(AND(B53>0,C53>0),COUNTIF(D$3:D$55,\"<\"&D53)+1,\"\")","v":""},{"$f":"IF(B53>0,IF(E53,MIN(F53:H53),MAX(F53:H53)),\"\")","v":""},{"$f":"IF(B53>0,VLOOKUP(I53,Punkteschema!$A$2:$B$101,2,FALSE),\"\")","v":""}]
[null,null,null,"",true,"","",{"$f":"IF(AND(B54>0,C54>0),COUNTIF(D$3:D$55,\"<\"&D54)+1,\"\")","v":""},{"$f":"IF(B54>0,IF(E54,MIN(F54:H54),MAX(F54:H54)),\"\")","v":""},{"$f":"IF(B54>0,VLOOKUP(I54,Punkteschema!$A$2:$B$101,2,FALSE),\"\")","v":""}]
[null,null,null,"",true,"","",{"$f":"IF(AND(B55>0,C55>0),COUNTIF(D$3:D$55,\"<\"&D55)+1,\"\")","v":""},{"$f":"IF(B55>0,IF(E55,MIN(F55:H55),MAX(F55:H55)),\"\")","v":""},{"$f":"IF(B55>0,VLOOKUP(I55,Punkteschema!$A$2:$B$101,2,FALSE),\"\")","v":""}]
[]
["OS: Urban, Volker (ASW)",null,null,null,"Runde 1:","E","<- E/B"]
["S: Puschner, Michael (HOB)",null,null,null,"Runde 2:","B","<- E/B"]
["S: Battig, Wolfgang (LÜD)"]
[]
["Verloste Preise: ","Brigitte Börgmann - 1 Flasche Rotwein"]
[null,"Sabine Scharpe - 1 Minigolfball (Olten Swiss Champion)"]
[null,"Ulrich Börgmann - 1 Verzehrgutschein"]

{"sheet":"Einzelwertung12","index":16,"n_rows":63,"n_cols":10,"rows_kept":63,"cut":false,"hidden":false,"merged":[[0,0,0,9]]}
[{"$f":"CONCATENATE(\"6. Sommer-Cup - Freizeittreff Herbede - \",TEXT(Gesamtstand!$Q$2,\"TT.MM.JJ\"))","v":"6. Sommer-Cup - Freizeittreff Herbede - 23.07.20"}]
["Spieler","Runde 1","Runde 2","Gesamt","bessere?","Pl. R1","Pl. R2","Pl. Ges.","gewertet","Punkte"]
["Battig, Wolfgang",23,30,{"$f":"IF(B3>0,C3+B3,\"\")","v":53},false,{"$f":"IF(B3>0,COUNTIF(B$3:B$55,\"<\"&B3)+1,\"\")","v":1},{"$f":"IF(C3>0,COUNTIF(C$3:C$55,\"<\"&C3)+1,\"\")","v":1},{"$f":"IF(AND(B3>0,C3>0),COUNTIF(D$3:D$55,\"<\"&D3)+1,\"\")","v":1},{"$f":"IF(B3>0,IF(E3,MIN(F3:H3),MAX(F3:H3)),\"\")","v":1},{"$f":"IF(B3>0,VLOOKUP(I3,Punkteschema!$A$2:$B$101,2,FALSE),\"\")","v":25}]
["Kalhöfer, Anna",27,33,60,true,2,6,3,2,{"$f":"IF(B4>0,VLOOKUP(I4,Punkteschema!$A$2:$B$101,2,FALSE),\"\")","v":21}]
["Puschner, Michael",27,34,61,true,2,8,4,2,{"$f":"IF(B5>0,VLOOKUP(I5,Punkteschema!$A$2:$B$101,2,FALSE),\"\")","v":21}]
["Urban, Dominic",27,34,61,true,2,8,4,2,{"$f":"IF(B6>0,VLOOKUP(I6,Punkteschema!$A$2:$B$101,2,FALSE),\"\")","v":21}]
["Tabor, Peter",33,31,64,true,9,3,8,3,{"$f":"IF(B7>0,VLOOKUP(I7,Punkteschema!$A$2:$B$101,2,FALSE),\"\")","v":18}]
["Greiffendorf, Hellmut",35,31,66,true,11,3,9,3,{"$f":"IF(B8>0,VLOOKUP(I8,Punkteschema!$A$2:$B$101,2,FALSE),\"\")","v":18}]
["Urban, Volker",27,32,59,false,2,5,2,5,{"$f":"IF(B9>0,VLOOKUP(I9,Punkteschema!$A$2:$B$101,2,FALSE),\"\")","v":15}]
["Lenk, Rolf",28,34,62,true,6,8,6,6,{"$f":"IF(B10>0,VLOOKUP(I10,Punkteschema!$A$2:$B$101,2,FALSE),\"\")","v":15}]
["Kunz, Martin",39,33,72,true,14,6,13,6,{"$f":"IF(B11>0,VLOOKUP(I11,Punkteschema!$A$2:$B$101,2,FALSE),\"\")","v":15}]
["Lieber, Nicole",32,30,62,false,7,1,6,7,{"$f":"IF(B12>0,VLOOKUP(I12,Punkteschema!$A$2:$B$101,2,FALSE),\"\")","v":10}]
["Börgmann, Ulrich",32,37,69,true,7,13,11,7,{"$f":"IF(B13>0,VLOOKUP(I13,Punkteschema!$A$2:$B$101,2,FALSE),\"\")","v":10}]
["Kortmann, Sabine",33,34,67,true,9,8,10,8,{"$f":"IF(B14>0,VLOOKUP(I14,Punkteschema!$A$2:$B$101,2,FALSE),\"\")","v":10}]
["Rabe, Jonas",36,34,70,true,13,8,12,8,{"$f":"IF(B15>0,VLOOKUP(I15,Punkteschema!$A$2:$B$101,2,FALSE),\"\")","v":10}]
["Börgmann, Brigitte",35,41,76,true,11,16,14,11,{"$f":"IF(B16>0,VLOOKUP(I16,Punkteschema!$A$2:$B$101,2,FALSE),\"\")","v":5}]
["Schmidtbauer, Günter",41,37,78,true,16,13,15,13,{"$f":"IF(B17>0,VLOOKUP(I17,Punkteschema!$A$2:$B$101,2,FALSE),\"\")","v":5}]
["Kortmann, Uwe",40,38,78,true,15,15,15,15,{"$f":"IF(B18>0,VLOOKUP(I18,Punkteschema!$A$2:$B$101,2,FALSE),\"\")","v":5}]
["Urban, Angela",43,46,89,true,17,17,17,17,{"$f":"IF(B19>0,VLOOKUP(I19,Punkteschema!$A$2:$B$101,2,FALSE),\"\")","v":3}]
["Schmidt, Barbara",47,47,94,true,18,18,18,18,{"$f":"IF(B20>0,VLOOKUP(I20,Punkteschema!$A$2:$B$101,2,FALSE),\"\")","v":3}]
[null,null,null,{"$f":"IF(B21>0,C21+B21,\"\")","v":""},true,{"$f":"IF(B21>0,COUNTIF(B$3:B$55,\"<\"&B21)+1,\"\")","v":""},{"$f":"IF(C21>0,COUNTIF(C$3:C$55,\"<\"&C21)+1,\"\")","v":""},{"$f":"IF(AND(B21>0,C21>0),COUNTIF(D$3:D$55,\"<\"&D21)+1,\"\")","v":""},{"$f":"IF(B21>0,IF(E21,MIN(F21:H21),MAX(F21:H21)),\"\")","v":""},{"$f":"IF(B21>0,VLOOKUP(I21,Punkteschema!$A$2:$B$101,2,FALSE),\"\")","v":""}]
[null,null,null,"",true,"","","","",{"$f":"IF(B22>0,VLOOKUP(I22,Punkteschema!$A$2:$B$101,2,FALSE),\"\")","v":""}]
[null,null,null,"",true,"","","","",{"$f":"IF(B23>0,VLOOKUP(I23,Punkteschema!$A$2:$B$101,2,FALSE),\"\")","v":""}]
[null,null,null,{"$f":"IF(B24>0,C24+B24,\"\")","v":""},true,{"$f":"IF(B24>0,COUNTIF(B$3:B$55,\"<\"&B24)+1,\"\")","v":""},{"$f":"IF(C24>0,COUNTIF(C$3:C$55,\"<\"&C24)+1,\"\")","v":""},{"$f":"IF(AND(B24>0,C24>0),COUNTIF(D$3:D$55,\"<\"&D24)+1,\"\")","v":""},{"$f":"IF(B24>0,IF(E24,MIN(F24:H24),MAX(F24:H24)),\"\")","v":""},{"$f":"IF(B24>0,VLOOKUP(I24,Punkteschema!$A$2:$B$101,2,FALSE),\"\")","v":""}]
[null,null,null,"",true,"","","","",{"$f":"IF(B25>0,VLOOKUP(I25,Punkteschema!$A$2:$B$101,2,FALSE),\"\")","v":""}]
[null,null,null,"",true,"","","","",{"$f":"IF(B26>0,VLOOKUP(I26,Punkteschema!$A$2:$B$101,2,FALSE),\"\")","v":""}]
[null,null,null,"",true,"","","","",{"$f":"IF(B27>0,VLOOKUP(I27,Punkteschema!$A$2:$B$101,2,FALSE),\"\")","v":""}]
[null,null,null,{"$f":"IF(B28>0,C28+B28,\"\")","v":""},true,"","","",{"$f":"IF(B28>0,IF(E28,MIN(F28:H28),MAX(F28:H28)),\"\")","v":""},{"$f":"IF(B28>0,VLOOKUP(I28,Punkteschema!$A$2:$B$101,2,FALSE),\"\")","v":""}]
[null,null,null,"",true,"","","","",{"$f":"IF(B29>0,VLOOKUP(I29,Punkteschema!$A$2:$B$101,2,FALSE),\"\")","v":""}]
[null,null,null,"",true,"","","","",{"$f":"IF(B30>0,VLOOKUP(I30,Punkteschema!$A$2:$B$101,2,FALSE),\"\")","v":""}]
[null,null,null,"",true,"","","","",{"$f":"IF(B31>0,VLOOKUP(I31,Punkteschema!$A$2:$B$101,2,FALSE),\"\")","v":""}]
[null,null,null,"",true,"","","","",{"$f":"IF(B32>0,VLOOKUP(I32,Punkteschema!$A$2:$B$101,2,FALSE),\"\")","v":""}]
[null,null,null,"",true,"","","","",{"$f":"IF(B33>0,VLOOKUP(I33,Punkteschema!$A$2:$B$101,2,FALSE),\"\")","v":""}]
[null,null,null,"",true,"","","","",{"$f":"IF(B34>0,VLOOKUP(I34,Punkteschema!$A$2:$B$101,2,FALSE),\"\")","v":""}]
[null,null,null,"",true,{"$f":"IF(B35>0,COUNTIF(B$3:B$55,\"<\"&B35)+1,\"\")","v":""},{"$f":"IF(C35>0,COUNTIF(C$3:C$55,\"<\"&C35)+1,\"\")","v":""},{"$f":"IF(AND(B35>0,C35>0),COUNTIF(D$3:D$55,\"<\"&D35)+1,\"\")","v":""},"",{"$f":"IF(B35>0,VLOOKUP(I35,Punkteschema!$A$2:$B$101,2,FALSE),\"\")","v":""}]
[null,null,null,"",true,"","","","",{"$f":"IF(B36>0,VLOOKUP(I36,Punkteschema!$A$2:$B$101,2,FALSE),\"\")","v":""}]
[null,null,null,"",true,"","","","",{"$f":"IF(B37>0,VLOOKUP(I37,Punkteschema!$A$2:$B$101,2,FALSE),\"\")","v":""}]
[null,null,null,"",true,"","","","",{"$f":"IF(B38>0,VLOOKUP(I38,Punkteschema!$A$2:$B$101,2,FALSE),\"\")","v":""}]
[null,null,null,"",true,"","","","",{"$f":"IF(B39>0,VLOOKUP(I39,Punkteschema!$A$2:$B$101,2,FALSE),\"\")","v":""}]
[null,null,null,"",true,"","","","",{"$f":"IF(B40>0,VLOOKUP(I40,Punkteschema!$A$2:$B$101,2,FALSE),\"\")","v":""}]
[null,null,null,"",true,"","","","",{"$f":"IF(B41>0,VLOOKUP(I41,Punkteschema!$A$2:$B$101,2,FALSE),\"\")","v":""}]
[null,null,null,"",true,"","","","",{"$f":"IF(B42>0,VLOOKUP(I42,Punkteschema!$A$2:$B$101,2,FALSE),\"\")","v":""}]
[null,null,null,"",true,"","","","",{"$f":"IF(B43>0,VLOOKUP(I43,Punkteschema!$A$2:$B$101,2,FALSE),\"\")","v":""}]
[null,null,null,"",true,"","","","",{"$f":"IF(B44>0,VLOOKUP(I44,Punkteschema!$A$2:$B$101,2,FALSE),\"\")","v":""}]
[null,null,null,"",true,"","","","",{"$f":"IF(B45>0,VLOOKUP(I45,Punkteschema!$A$2:$B$101,2,FALSE),\"\")","v":""}]
[null,null,null,"",true,"","","","",{"$f":"IF(B46>0,VLOOKUP(I46,Punkteschema!$A$2:$B$101,2,FALSE),\"\")","v":""}]
[null,null,null,"",true,"","","","",{"$f":"IF(B47>0,VLOOKUP(I47,Punkteschema!$A$2:$B$101,2,FALSE),\"\")","v":""}]
[null,null,null,"",true,"","","","",{"$f":"IF(B48>0,VLOOKUP(I48,Punkteschema!$A$2:$B$101,2,FALSE),\"\")","v":""}]
[null,null,null,"",true,"","","","",{"$f":"IF(B49>0,VLOOKUP(I49,Punkteschema!$A$2:$B$101,2,FALSE),\"\")","v":""}]
[null,null,null,"",true,"","","","",{"$f":"IF(B50>0,VLOOKUP(I50,Punkteschema!$A$2:$B$101,2,FALSE),\"\")","v":""}]
[null,null,null,"",true,"","","","",{"$f":"IF(B51>0,VLOOKUP(I51,Punkteschema!$A$2:$B$101,2,FALSE),\"\")","v":""}]
[null,null,null,"",true,"","","","",{"$f":"IF(B52>0,VLOOKUP(I52,Punkteschema!$A$2:$B$101,2,FALSE),\"\")","v":""}]
[null,null,null,"",true,"","","",{"$f":"IF(B53>0,IF(E53,MIN(F53:H53),MAX(F53:H53)),\"\")","v":""},{"$f":"IF(B53>0,VLOOKUP(I53,Punkteschema!$A$2:$B$101,2,FALSE),\"\")","v":""}]
[null,null,null,"",true,"","","",{"$f":"IF(B54>0,IF(E54,MIN(F54:H54),MAX(F54:H54)),\"\")","v":""},{"$f":"IF(B54>0,VLOOKUP(I54,Punkteschema!$A$2:$B$101,2,FALSE),\"\")","v":""}]
[null,null,null,"",true,"","","",{"$f":"IF(B55>0,IF(E55,MIN(F55:H55),MAX(F55:H55)),\"\")","v":""},{"$f":"IF(B55>0,VLOOKUP(I55,Punkteschema!$A$2:$B$101,2,FALSE),\"\")","v":""}]
[]
["OS: Urban, Volker (ASW)",null,null,null,"Runde 1:","E","<- E/B"]
["S: Battig, Wolfgang (LÜD)",null,null,null,"Runde 2:","B","<- E/B"]
["S: Puschner, Michael (HOB)"]
[]
["Verloste Preise: ","Ulrich Börgmann (1 Flasche Prosecco)"]
[null,"Hellmut Greiffendorf (1 Verzehrgutschein)"]
[null,"Wolfgang Battig (1 Minigolfball BOF Dennis Prip Hansen)"]

{"sheet":"Einzelwertung13","index":17,"n_rows":63,"n_cols":10,"rows_kept":63,"cut":false,"hidden":false,"merged":[[0,0,0,9]]}
[{"$f":"CONCATENATE(\"6. Sommer-Cup - Freizeittreff Herbede - \",TEXT(Gesamtstand!$R$2,\"TT.MM.JJ\"))","v":"6. Sommer-Cup - Freizeittreff Herbede - 30.07.20"}]
["Spieler","Runde 1","Runde 2","Gesamt","bessere?","Pl. R1","Pl. R2","Pl. Ges.","gewertet","Punkte"]
["Battling, Hendrik",23,29,{"$f":"IF(B3>0,C3+B3,\"\")","v":52},true,{"$f":"IF(B3>0,COUNTIF(B$3:B$55,\"<\"&B3)+1,\"\")","v":1},{"$f":"IF(C3>0,COUNTIF(C$3:C$55,\"<\"&C3)+1,\"\")","v":2},{"$f":"IF(AND(B3>0,C3>0),COUNTIF(D$3:D$55,\"<\"&D3)+1,\"\")","v":1},{"$f":"IF(B3>0,IF(E3,MIN(F3:H3),MAX(F3:H3)),\"\")","v":1},{"$f":"IF(B3>0,VLOOKUP(I3,Punkteschema!$A$2:$B$101,2,FALSE),\"\")","v":25}]
["Buchholz, Ansgar",33,28,61,true,11,1,6,1,{"$f":"IF(B4>0,VLOOKUP(I4,Punkteschema!$A$2:$B$101,2,FALSE),\"\")","v":25}]
["Rade, Marcus",24,30,54,true,3,3,2,2,{"$f":"IF(B5>0,VLOOKUP(I5,Punkteschema!$A$2:$B$101,2,FALSE),\"\")","v":21}]
["Kunz, Martin",35,30,65,true,17,3,10,3,{"$f":"IF(B6>0,VLOOKUP(I6,Punkteschema!$A$2:$B$101,2,FALSE),\"\")","v":18}]
["Rabe, Jonas",26,34,60,true,4,14,5,4,{"$f":"IF(B7>0,VLOOKUP(I7,Punkteschema!$A$2:$B$101,2,FALSE),\"\")","v":15}]
["Puschner, Michael",27,31,58,false,5,5,4,5,{"$f":"IF(B8>0,VLOOKUP(I8,Punkteschema!$A$2:$B$101,2,FALSE),\"\")","v":15}]
["Kortmann, Sabine",34,31,65,true,13,5,10,5,{"$f":"IF(B9>0,VLOOKUP(I9,Punkteschema!$A$2:$B$101,2,FALSE),\"\")","v":15}]
["Tabor, Peter",29,32,61,true,6,7,6,6,{"$f":"IF(B10>0,VLOOKUP(I10,Punkteschema!$A$2:$B$101,2,FALSE),\"\")","v":15}]
["Kalhöfer, Anna",29,35,64,true,6,16,9,6,{"$f":"IF(B11>0,VLOOKUP(I11,Punkteschema!$A$2:$B$101,2,FALSE),\"\")","v":15}]
["Hein, Hans-Jörg",33,32,65,true,11,7,10,7,{"$f":"IF(B12>0,VLOOKUP(I12,Punkteschema!$A$2:$B$101,2,FALSE),\"\")","v":10}]
["Greiffendorf, Hellmut",34,32,66,true,13,7,13,7,{"$f":"IF(B13>0,VLOOKUP(I13,Punkteschema!$A$2:$B$101,2,FALSE),\"\")","v":10}]
["Urban, Volker",30,32,62,false,8,7,8,8,{"$f":"IF(B14>0,VLOOKUP(I14,Punkteschema!$A$2:$B$101,2,FALSE),\"\")","v":10}]
["Lieber, Nicole",31,35,66,true,9,16,13,9,{"$f":"IF(B15>0,VLOOKUP(I15,Punkteschema!$A$2:$B$101,2,FALSE),\"\")","v":10}]
["Kortmann, Uwe",32,35,67,true,10,16,15,10,{"$f":"IF(B16>0,VLOOKUP(I16,Punkteschema!$A$2:$B$101,2,FALSE),\"\")","v":10}]
["Battig, Wolfgang",23,33,56,false,1,11,3,11,{"$f":"IF(B17>0,VLOOKUP(I17,Punkteschema!$A$2:$B$101,2,FALSE),\"\")","v":5}]
["Börgmann, Ulrich",36,33,69,true,18,11,17,11,{"$f":"IF(B18>0,VLOOKUP(I18,Punkteschema!$A$2:$B$101,2,FALSE),\"\")","v":5}]
["Börgmann, Brigitte",38,33,71,true,20,11,18,11,{"$f":"IF(B19>0,VLOOKUP(I19,Punkteschema!$A$2:$B$101,2,FALSE),\"\")","v":5}]
["Lenk, Rolf",34,34,68,true,13,14,16,13,{"$f":"IF(B20>0,VLOOKUP(I20,Punkteschema!$A$2:$B$101,2,FALSE),\"\")","v":5}]
["Kersch, Uwe",34,41,75,true,13,20,19,13,{"$f":"IF(B21>0,VLOOKUP(I21,Punkteschema!$A$2:$B$101,2,FALSE),\"\")","v":5}]
["Schmidtbauer, Günter",36,51,87,true,18,21,21,18,{"$f":"IF(B22>0,VLOOKUP(I22,Punkteschema!$A$2:$B$101,2,FALSE),\"\")","v":3}]
["Scharpe, Sabine",43,37,80,true,21,19,20,19,{"$f":"IF(B23>0,VLOOKUP(I23,Punkteschema!$A$2:$B$101,2,FALSE),\"\")","v":3}]
[null,null,null,{"$f":"IF(B24>0,C24+B24,\"\")","v":""},true,{"$f":"IF(B24>0,COUNTIF(B$3:B$55,\"<\"&B24)+1,\"\")","v":""},"",{"$f":"IF(AND(B24>0,C24>0),COUNTIF(D$3:D$55,\"<\"&D24)+1,\"\")","v":""},{"$f":"IF(B24>0,IF(E24,MIN(F24:H24),MAX(F24:H24)),\"\")","v":""},{"$f":"IF(B24>0,VLOOKUP(I24,Punkteschema!$A$2:$B$101,2,FALSE),\"\")","v":""}]
[null,null,null,"",true,"","","","",{"$f":"IF(B25>0,VLOOKUP(I25,Punkteschema!$A$2:$B$101,2,FALSE),\"\")","v":""}]
[null,null,null,"",true,"","","","",{"$f":"IF(B26>0,VLOOKUP(I26,Punkteschema!$A$2:$B$101,2,FALSE),\"\")","v":""}]
[null,null,null,"",true,"","","","",{"$f":"IF(B27>0,VLOOKUP(I27,Punkteschema!$A$2:$B$101,2,FALSE),\"\")","v":""}]
[null,null,null,"",true,"","","","",{"$f":"IF(B28>0,VLOOKUP(I28,Punkteschema!$A$2:$B$101,2,FALSE),\"\")","v":""}]
[null,null,null,"",true,"","","","",{"$f":"IF(B29>0,VLOOKUP(I29,Punkteschema!$A$2:$B$101,2,FALSE),\"\")","v":""}]
[null,null,null,"",true,"","","","",{"$f":"IF(B30>0,VLOOKUP(I30,Punkteschema!$A$2:$B$101,2,FALSE),\"\")","v":""}]
[null,null,null,"",true,"","","","",{"$f":"IF(B31>0,VLOOKUP(I31,Punkteschema!$A$2:$B$101,2,FALSE),\"\")","v":""}]
[null,null,null,"",true,"","","","",{"$f":"IF(B32>0,VLOOKUP(I32,Punkteschema!$A$2:$B$101,2,FALSE),\"\")","v":""}]
[null,null,null,"",true,"","","","",{"$f":"IF(B33>0,VLOOKUP(I33,Punkteschema!$A$2:$B$101,2,FALSE),\"\")","v":""}]
[null,null,null,"",true,"","","","",{"$f":"IF(B34>0,VLOOKUP(I34,Punkteschema!$A$2:$B$101,2,FALSE),\"\")","v":""}]
[null,null,null,"",true,"","","","",{"$f":"IF(B35>0,VLOOKUP(I35,Punkteschema!$A$2:$B$101,2,FALSE),\"\")","v":""}]
[null,null,null,"",true,"","","","",{"$f":"IF(B36>0,VLOOKUP(I36,Punkteschema!$A$2:$B$101,2,FALSE),\"\")","v":""}]
[null,null,null,"",true,"","","","",{"$f":"IF(B37>0,VLOOKUP(I37,Punkteschema!$A$2:$B$101,2,FALSE),\"\")","v":""}]
[null,null,null,"",true,"","","","",{"$f":"IF(B38>0,VLOOKUP(I38,Punkteschema!$A$2:$B$101,2,FALSE),\"\")","v":""}]
[null,null,null,"",true,"","","","",{"$f":"IF(B39>0,VLOOKUP(I39,Punkteschema!$A$2:$B$101,2,FALSE),\"\")","v":""}]
[null,null,null,"",true,"","","","",{"$f":"IF(B40>0,VLOOKUP(I40,Punkteschema!$A$2:$B$101,2,FALSE),\"\")","v":""}]
[null,null,null,"",true,"","","","",{"$f":"IF(B41>0,VLOOKUP(I41,Punkteschema!$A$2:$B$101,2,FALSE),\"\")","v":""}]
[null,null,null,"",true,"","","","",{"$f":"IF(B42>0,VLOOKUP(I42,Punkteschema!$A$2:$B$101,2,FALSE),\"\")","v":""}]
[null,null,null,"",true,"","","","",{"$f":"IF(B43>0,VLOOKUP(I43,Punkteschema!$A$2:$B$101,2,FALSE),\"\")","v":""}]
[null,null,null,"",true,"","","","",{"$f":"IF(B44>0,VLOOKUP(I44,Punkteschema!$A$2:$B$101,2,FALSE),\"\")","v":""}]
[null,null,null,"",true,"","","","",{"$f":"IF(B45>0,VLOOKUP(I45,Punkteschema!$A$2:$B$101,2,FALSE),\"\")","v":""}]
[null,null,null,"",true,"","","","",{"$f":"IF(B46>0,VLOOKUP(I46,Punkteschema!$A$2:$B$101,2,FALSE),\"\")","v":""}]
[null,null,null,"",true,"","","","",{"$f":"IF(B47>0,VLOOKUP(I47,Punkteschema!$A$2:$B$101,2,FALSE),\"\")","v":""}]
[null,null,null,"",true,"","","","",{"$f":"IF(B48>0,VLOOKUP(I48,Punkteschema!$A$2:$B$101,2,FALSE),\"\")","v":""}]
[null,null,null,"",true,"","","","",{"$f":"IF(B49>0,VLOOKUP(I49,Punkteschema!$A$2:$B$101,2,FALSE),\"\")","v":""}]
[null,null,null,"",true,"","","","",{"$f":"IF(B50>0,VLOOKUP(I50,Punkteschema!$A$2:$B$101,2,FALSE),\"\")","v":""}]
[null,null,null,"",true,"","","","",{"$f":"IF(B51>0,VLOOKUP(I51,Punkteschema!$A$2:$B$101,2,FALSE),\"\")","v":""}]
[null,null,null,"",true,"","","","",{"$f":"IF(B52>0,VLOOKUP(I52,Punkteschema!$A$2:$B$101,2,FALSE),\"\")","v":""}]
[null,null,null,"",true,{"$f":"IF(B53>0,COUNTIF(B$3:B$55,\"<\"&B53)+1,\"\")","v":""},"",{"$f":"IF(AND(B53>0,C53>0),COUNTIF(D$3:D$55,\"<\"&D53)+1,\"\")","v":""},{"$f":"IF(B53>0,IF(E53,MIN(F53:H53),MAX(F53:H53)),\"\")","v":""},{"$f":"IF(B53>0,VLOOKUP(I53,Punkteschema!$A$2:$B$101,2,FALSE),\"\")","v":""}]
[null,null,null,"",true,"","",{"$f":"IF(AND(B54>0,C54>0),COUNTIF(D$3:D$55,\"<\"&D54)+1,\"\")","v":""},{"$f":"IF(B54>0,IF(E54,MIN(F54:H54),MAX(F54:H54)),\"\")","v":""},{"$f":"IF(B54>0,VLOOKUP(I54,Punkteschema!$A$2:$B$101,2,FALSE),\"\")","v":""}]
[null,null,null,"",true,"","",{"$f":"IF(AND(B55>0,C55>0),COUNTIF(D$3:D$55,\"<\"&D55)+1,\"\")","v":""},{"$f":"IF(B55>0,IF(E55,MIN(F55:H55),MAX(F55:H55)),\"\")","v":""},{"$f":"IF(B55>0,VLOOKUP(I55,Punkteschema!$A$2:$B$101,2,FALSE),\"\")","v":""}]
[]
[null,null,null,null,"Runde 1:","E","<- E/B"]
["S: Battig, Wolfgang (LÜD)",null,null,null,"Runde 2:","B","<- E/B"]
["S: Lieber, Nicole (HOB)"]
[]
["Verloste Preise: ","Michael Puschner (1 Flasche Rotwein)"]
[null,"Anna Kalhöfer (1 Minigolfball BOF Ruge r)"]
[null,"Marcus Rade (1 Verzehrgutschein)"]

{"sheet":"Einzelwertung14","index":18,"n_rows":63,"n_cols":10,"rows_kept":63,"cut":false,"hidden":false,"merged":[[0,0,0,9]]}
[{"$f":"CONCATENATE(\"6. Sommer-Cup - Freizeittreff Herbede - \",TEXT(Gesamtstand!$S$2,\"TT.MM.JJ\"))","v":"6. Sommer-Cup - Freizeittreff Herbede - 06.08.20"}]
["Spieler","Runde 1","Runde 2","Gesamt","bessere?","Pl. R1","Pl. R2","Pl. Ges.","gewertet","Punkte"]
["Lieber, Nicole",27,28,{"$f":"IF(B3>0,C3+B3,\"\")","v":55},false,{"$f":"IF(B3>0,COUNTIF(B$3:B$55,\"<\"&B3)+1,\"\")","v":2},{"$f":"IF(C3>0,COUNTIF(C$3:C$55,\"<\"&C3)+1,\"\")","v":1},{"$f":"IF(AND(B3>0,C3>0),COUNTIF(D$3:D$55,\"<\"&D3)+1,\"\")","v":1},{"$f":"IF(B3>0,IF(E3,MIN(F3:H3),MAX(F3:H3)),\"\")","v":2},{"$f":"IF(B3>0,VLOOKUP(I3,Punkteschema!$A$2:$B$101,2,FALSE),\"\")","v":21}]
["Lenk, Rolf",28,30,58,true,3,2,3,2,{"$f":"IF(B4>0,VLOOKUP(I4,Punkteschema!$A$2:$B$101,2,FALSE),\"\")","v":21}]
["Battig, Wolfgang",23,33,56,false,1,4,2,4,{"$f":"IF(B5>0,VLOOKUP(I5,Punkteschema!$A$2:$B$101,2,FALSE),\"\")","v":15}]
["Buchholz, Ansgar",31,33,64,true,6,4,5,4,{"$f":"IF(B6>0,VLOOKUP(I6,Punkteschema!$A$2:$B$101,2,FALSE),\"\")","v":15}]
["Hein, Hans-Jörg",29,38,67,true,4,11,6,4,{"$f":"IF(B7>0,VLOOKUP(I7,Punkteschema!$A$2:$B$101,2,FALSE),\"\")","v":15}]
["Urban, Volker",30,30,60,false,5,2,4,5,{"$f":"IF(B8>0,VLOOKUP(I8,Punkteschema!$A$2:$B$101,2,FALSE),\"\")","v":15}]
["Börgmann, Brigitte",32,35,67,true,8,7,6,6,{"$f":"IF(B9>0,VLOOKUP(I9,Punkteschema!$A$2:$B$101,2,FALSE),\"\")","v":15}]
["Börgmann, Ulrich",31,39,70,true,6,12,8,6,{"$f":"IF(B10>0,VLOOKUP(I10,Punkteschema!$A$2:$B$101,2,FALSE),\"\")","v":15}]
["Tabor, Peter",37,34,71,true,12,6,11,6,{"$f":"IF(B11>0,VLOOKUP(I11,Punkteschema!$A$2:$B$101,2,FALSE),\"\")","v":15}]
["Kunz, Martin",35,35,70,true,10,7,8,7,{"$f":"IF(B12>0,VLOOKUP(I12,Punkteschema!$A$2:$B$101,2,FALSE),\"\")","v":10}]
["Kersch, Uwe",39,35,74,true,13,7,12,7,{"$f":"IF(B13>0,VLOOKUP(I13,Punkteschema!$A$2:$B$101,2,FALSE),\"\")","v":10}]
["Kalhöfer, Anna",34,36,70,true,9,10,8,8,{"$f":"IF(B14>0,VLOOKUP(I14,Punkteschema!$A$2:$B$101,2,FALSE),\"\")","v":10}]
["Urban, Angela",35,39,74,true,10,12,12,10,{"$f":"IF(B15>0,VLOOKUP(I15,Punkteschema!$A$2:$B$101,2,FALSE),\"\")","v":10}]
["Schmidtbauer, Günter",48,43,91,true,14,14,14,14,{"$f":"IF(B16>0,VLOOKUP(I16,Punkteschema!$A$2:$B$101,2,FALSE),\"\")","v":5}]
["Hoffmann, Thomas",55,55,110,true,15,15,15,15,{"$f":"IF(B17>0,VLOOKUP(I17,Punkteschema!$A$2:$B$101,2,FALSE),\"\")","v":5}]
[null,null,null,{"$f":"IF(B18>0,C18+B18,\"\")","v":""},true,{"$f":"IF(B18>0,COUNTIF(B$3:B$55,\"<\"&B18)+1,\"\")","v":""},{"$f":"IF(C18>0,COUNTIF(C$3:C$55,\"<\"&C18)+1,\"\")","v":""},{"$f":"IF(AND(B18>0,C18>0),COUNTIF(D$3:D$55,\"<\"&D18)+1,\"\")","v":""},{"$f":"IF(B18>0,IF(E18,MIN(F18:H18),MAX(F18:H18)),\"\")","v":""},{"$f":"IF(B18>0,VLOOKUP(I18,Punkteschema!$A$2:$B$101,2,FALSE),\"\")","v":""}]
[null,null,null,"",true,"","","","",{"$f":"IF(B19>0,VLOOKUP(I19,Punkteschema!$A$2:$B$101,2,FALSE),\"\")","v":""}]
[null,null,null,"",true,"","","","",{"$f":"IF(B20>0,VLOOKUP(I20,Punkteschema!$A$2:$B$101,2,FALSE),\"\")","v":""}]
[null,null,null,"",true,"","","","",{"$f":"IF(B21>0,VLOOKUP(I21,Punkteschema!$A$2:$B$101,2,FALSE),\"\")","v":""}]
[null,null,null,"",true,"","","","",{"$f":"IF(B22>0,VLOOKUP(I22,Punkteschema!$A$2:$B$101,2,FALSE),\"\")","v":""}]
[null,null,null,{"$f":"IF(B23>0,C23+B23,\"\")","v":""},true,{"$f":"IF(B23>0,COUNTIF(B$3:B$55,\"<\"&B23)+1,\"\")","v":""},{"$f":"IF(C23>0,COUNTIF(C$3:C$55,\"<\"&C23)+1,\"\")","v":""},{"$f":"IF(AND(B23>0,C23>0),COUNTIF(D$3:D$55,\"<\"&D23)+1,\"\")","v":""},{"$f":"IF(B23>0,IF(E23,MIN(F23:H23),MAX(F23:H23)),\"\")","v":""},{"$f":"IF(B23>0,VLOOKUP(I23,Punkteschema!$A$2:$B$101,2,FALSE),\"\")","v":""}]
[null,null,null,{"$f":"IF(B24>0,C24+B24,\"\")","v":""},true,{"$f":"IF(B24>0,COUNTIF(B$3:B$55,\"<\"&B24)+1,\"\")","v":""},"",{"$f":"IF(AND(B24>0,C24>0),COUNTIF(D$3:D$55,\"<\"&D24)+1,\"\")","v":""},{"$f":"IF(B24>0,IF(E24,MIN(F24:H24),MAX(F24:H24)),\"\")","v":""},{"$f":"IF(B24>0,VLOOKUP(I24,Punkteschema!$A$2:$B$101,2,FALSE),\"\")","v":""}]
[null,null,null,"",true,"","","","",{"$f":"IF(B25>0,VLOOKUP(I25,Punkteschema!$A$2:$B$101,2,FALSE),\"\")","v":""}]
[null,null,null,"",true,"","","","",{"$f":"IF(B26>0,VLOOKUP(I26,Punkteschema!$A$2:$B$101,2,FALSE),\"\")","v":""}]
[null,null,null,"",true,"","","","",{"$f":"IF(B27>0,VLOOKUP(I27,Punkteschema!$A$2:$B$101,2,FALSE),\"\")","v":""}]
[null,null,null,"",true,"","","","",{"$f":"IF(B28>0,VLOOKUP(I28,Punkteschema!$A$2:$B$101,2,FALSE),\"\")","v":""}]
[null,null,null,"",true,"","","","",{"$f":"IF(B29>0,VLOOKUP(I29,Punkteschema!$A$2:$B$101,2,FALSE),\"\")","v":""}]
[null,null,null,"",true,"","","","",{"$f":"IF(B30>0,VLOOKUP(I30,Punkteschema!$A$2:$B$101,2,FALSE),\"\")","v":""}]
[null,null,null,"",true,"","","","",{"$f":"IF(B31>0,VLOOKUP(I31,Punkteschema!$A$2:$B$101,2,FALSE),\"\")","v":""}]
[null,null,null,"",true,"","","","",{"$f":"IF(B32>0,VLOOKUP(I32,Punkteschema!$A$2:$B$101,2,FALSE),\"\")","v":""}]
[null,null,null,"",true,"","","","",{"$f":"IF(B33>0,VLOOKUP(I33,Punkteschema!$A$2:$B$101,2,FALSE),\"\")","v":""}]
[null,null,null,"",true,"","","","",{"$f":"IF(B34>0,VLOOKUP(I34,Punkteschema!$A$2:$B$101,2,FALSE),\"\")","v":""}]
[null,null,null,"",true,"","","","",{"$f":"IF(B35>0,VLOOKUP(I35,Punkteschema!$A$2:$B$101,2,FALSE),\"\")","v":""}]
[null,null,null,"",true,"","","","",{"$f":"IF(B36>0,VLOOKUP(I36,Punkteschema!$A$2:$B$101,2,FALSE),\"\")","v":""}]
[null,null,null,"",true,"","","","",{"$f":"IF(B37>0,VLOOKUP(I37,Punkteschema!$A$2:$B$101,2,FALSE),\"\")","v":""}]
[null,null,null,"",true,"","","","",{"$f":"IF(B38>0,VLOOKUP(I38,Punkteschema!$A$2:$B$101,2,FALSE),\"\")","v":""}]
[null,null,null,"",true,"","","","",{"$f":"IF(B39>0,VLOOKUP(I39,Punkteschema!$A$2:$B$101,2,FALSE),\"\")","v":""}]
[null,null,null,"",true,"","","","",{"$f":"IF(B40>0,VLOOKUP(I40,Punkteschema!$A$2:$B$101,2,FALSE),\"\")","v":""}]
[null,null,null,"",true,"","","","",{"$f":"IF(B41>0,VLOOKUP(I41,Punkteschema!$A$2:$B$101,2,FALSE),\"\")","v":""}]
[null,null,null,"",true,"","","","",{"$f":"IF(B42>0,VLOOKUP(I42,Punkteschema!$A$2:$B$101,2,FALSE),\"\")","v":""}]
[null,null,null,"",true,"","","","",{"$f":"IF(B43>0,VLOOKUP(I43,Punkteschema!$A$2:$B$101,2,FALSE),\"\")","v":""}]
[null,null,null,"",true,"","","","",{"$f":"IF(B44>0,VLOOKUP(I44,Punkteschema!$A$2:$B$101,2,FALSE),\"\")","v":""}]
[null,null,null,"",true,"","","","",{"$f":"IF(B45>0,VLOOKUP(I45,Punkteschema!$A$2:$B$101,2,FALSE),\"\")","v":""}]
[null,null,null,"",true,"","","","",{"$f":"IF(B46>0,VLOOKUP(I46,Punkteschema!$A$2:$B$101,2,FALSE),\"\")","v":""}]
[null,null,null,"",true,"","","","",{"$f":"IF(B47>0,VLOOKUP(I47,Punkteschema!$A$2:$B$101,2,FALSE),\"\")","v":""}]
[null,null,null,"",true,"","","","",{"$f":"IF(B48>0,VLOOKUP(I48,Punkteschema!$A$2:$B$101,2,FALSE),\"\")","v":""}]
[null,null,null,"",true,"","","","",{"$f":"IF(B49>0,VLOOKUP(I49,Punkteschema!$A$2:$B$101,2,FALSE),\"\")","v":""}]
[null,null,null,"",true,"","","","",{"$f":"IF(B50>0,VLOOKUP(I50,Punkteschema!$A$2:$B$101,2,FALSE),\"\")","v":""}]
[null,null,null,"",true,"","","","",{"$f":"IF(B51>0,VLOOKUP(I51,Punkteschema!$A$2:$B$101,2,FALSE),\"\")","v":""}]
[null,null,null,"",true,"","","","",{"$f":"IF(B52>0,VLOOKUP(I52,Punkteschema!$A$2:$B$101,2,FALSE),\"\")","v":""}]
[null,null,null,"",true,{"$f":"IF(B53>0,COUNTIF(B$3:B$55,\"<\"&B53)+1,\"\")","v":""},"",{"$f":"IF(AND(B53>0,C53>0),COUNTIF(D$3:D$55,\"<\"&D53)+1,\"\")","v":""},{"$f":"IF(B53>0,IF(E53,MIN(F53:H53),MAX(F53:H53)),\"\")","v":""},{"$f":"IF(B53>0,VLOOKUP(I53,Punkteschema!$A$2:$B$101,2,FALSE),\"\")","v":""}]
[null,null,null,"",true,"","",{"$f":"IF(AND(B54>0,C54>0),COUNTIF(D$3:D$55,\"<\"&D54)+1,\"\")","v":""},{"$f":"IF(B54>0,IF(E54,MIN(F54:H54),MAX(F54:H54)),\"\")","v":""},{"$f":"IF(B54>0,VLOOKUP(I54,Punkteschema!$A$2:$B$101,2,FALSE),\"\")","v":""}]
[null,null,null,"",true,"","",{"$f":"IF(AND(B55>0,C55>0),COUNTIF(D$3:D$55,\"<\"&D55)+1,\"\")","v":""},{"$f":"IF(B55>0,IF(E55,MIN(F55:H55),MAX(F55:H55)),\"\")","v":""},{"$f":"IF(B55>0,VLOOKUP(I55,Punkteschema!$A$2:$B$101,2,FALSE),\"\")","v":""}]
[]
["OS: Urban, Volker (ASW)",null,null,null,"Runde 1:","E","<- E/B"]
["S: Battig, Wolfgang (LÜD)",null,null,null,"Runde 2:","B","<- E/B"]
["S: Lieber, Nicole (HOB)"]
[]
["Verloste Preise: ","Volker Urban (1 Minigolfball Pingvin Cobi)"]
[null,"Ulrich Börgmann (1 Flasche Rotwein)"]
[null,"Martin Kunz (1 Set Garten-Solarleuchten)"]

{"sheet":"Einzelwertung15","index":19,"n_rows":63,"n_cols":10,"rows_kept":63,"cut":false,"hidden":false,"merged":[[0,0,0,9]]}
[{"$f":"CONCATENATE(\"6. Sommer-Cup - Freizeittreff Herbede - \",TEXT(Gesamtstand!$T$2,\"TT.MM.JJ\"))","v":"6. Sommer-Cup - Freizeittreff Herbede - 13.08.20"}]
["Spieler","Runde 1","Runde 2","Gesamt","bessere?","Pl. R1","Pl. R2","Pl. Ges.","gewertet","Punkte"]
["Battig, Wolfgang",26,31,{"$f":"IF(B3>0,C3+B3,\"\")","v":57},false,{"$f":"IF(B3>0,COUNTIF(B$3:B$55,\"<\"&B3)+1,\"\")","v":1},{"$f":"IF(C3>0,COUNTIF(C$3:C$55,\"<\"&C3)+1,\"\")","v":1},{"$f":"IF(AND(B3>0,C3>0),COUNTIF(D$3:D$55,\"<\"&D3)+1,\"\")","v":1},{"$f":"IF(B3>0,IF(E3,MIN(F3:H3),MAX(F3:H3)),\"\")","v":1},{"$f":"IF(B3>0,VLOOKUP(I3,Punkteschema!$A$2:$B$101,2,FALSE),\"\")","v":25}]
["Urban, Volker",26,33,59,false,1,2,2,2,{"$f":"IF(B4>0,VLOOKUP(I4,Punkteschema!$A$2:$B$101,2,FALSE),\"\")","v":21}]
["Greiffendorf, Hellmut",29,34,63,true,3,3,3,3,{"$f":"IF(B5>0,VLOOKUP(I5,Punkteschema!$A$2:$B$101,2,FALSE),\"\")","v":18}]
["Hickert, Peter",33,34,67,true,9,3,6,3,{"$f":"IF(B6>0,VLOOKUP(I6,Punkteschema!$A$2:$B$101,2,FALSE),\"\")","v":18}]
["Kortmann, Sabine",30,36,66,true,4,8,4,4,{"$f":"IF(B7>0,VLOOKUP(I7,Punkteschema!$A$2:$B$101,2,FALSE),\"\")","v":15}]
["Kunz, Martin",30,37,67,true,4,11,6,4,{"$f":"IF(B8>0,VLOOKUP(I8,Punkteschema!$A$2:$B$101,2,FALSE),\"\")","v":15}]
["Rabe, Jonas",30,36,66,true,4,8,4,4,{"$f":"IF(B9>0,VLOOKUP(I9,Punkteschema!$A$2:$B$101,2,FALSE),\"\")","v":15}]
["Brunnenkant, Frank",34,35,69,true,11,5,9,5,{"$f":"IF(B10>0,VLOOKUP(I10,Punkteschema!$A$2:$B$101,2,FALSE),\"\")","v":15}]
["Lenk, Rolf",32,35,67,true,7,5,6,5,{"$f":"IF(B11>0,VLOOKUP(I11,Punkteschema!$A$2:$B$101,2,FALSE),\"\")","v":15}]
["Tabor, Peter",32,39,71,true,7,13,11,7,{"$f":"IF(B12>0,VLOOKUP(I12,Punkteschema!$A$2:$B$101,2,FALSE),\"\")","v":10}]
["Kortmann, Uwe",35,36,71,true,13,8,11,8,{"$f":"IF(B13>0,VLOOKUP(I13,Punkteschema!$A$2:$B$101,2,FALSE),\"\")","v":10}]
["Kalhöfer, Anna",33,38,71,true,9,12,11,9,{"$f":"IF(B14>0,VLOOKUP(I14,Punkteschema!$A$2:$B$101,2,FALSE),\"\")","v":10}]
["Lieber, Nicole",34,35,69,false,11,5,9,11,{"$f":"IF(B15>0,VLOOKUP(I15,Punkteschema!$A$2:$B$101,2,FALSE),\"\")","v":5}]
["Kersch, Uwe",35,42,77,true,13,14,14,13,{"$f":"IF(B16>0,VLOOKUP(I16,Punkteschema!$A$2:$B$101,2,FALSE),\"\")","v":5}]
["Schmidt, Barbara",43,44,87,true,15,15,15,15,{"$f":"IF(B17>0,VLOOKUP(I17,Punkteschema!$A$2:$B$101,2,FALSE),\"\")","v":5}]
[null,null,null,{"$f":"IF(B18>0,C18+B18,\"\")","v":""},true,{"$f":"IF(B18>0,COUNTIF(B$3:B$55,\"<\"&B18)+1,\"\")","v":""},{"$f":"IF(C18>0,COUNTIF(C$3:C$55,\"<\"&C18)+1,\"\")","v":""},{"$f":"IF(AND(B18>0,C18>0),COUNTIF(D$3:D$55,\"<\"&D18)+1,\"\")","v":""},{"$f":"IF(B18>0,IF(E18,MIN(F18:H18),MAX(F18:H18)),\"\")","v":""},{"$f":"IF(B18>0,VLOOKUP(I18,Punkteschema!$A$2:$B$101,2,FALSE),\"\")","v":""}]
[null,null,null,"",true,"","","","",{"$f":"IF(B19>0,VLOOKUP(I19,Punkteschema!$A$2:$B$101,2,FALSE),\"\")","v":""}]
[null,null,null,"",true,"","","","",{"$f":"IF(B20>0,VLOOKUP(I20,Punkteschema!$A$2:$B$101,2,FALSE),\"\")","v":""}]
[null,null,null,"",true,"","","","",{"$f":"IF(B21>0,VLOOKUP(I21,Punkteschema!$A$2:$B$101,2,FALSE),\"\")","v":""}]
[null,null,null,"",true,"","","","",{"$f":"IF(B22>0,VLOOKUP(I22,Punkteschema!$A$2:$B$101,2,FALSE),\"\")","v":""}]
[null,null,null,{"$f":"IF(B23>0,C23+B23,\"\")","v":""},true,{"$f":"IF(B23>0,COUNTIF(B$3:B$55,\"<\"&B23)+1,\"\")","v":""},"",{"$f":"IF(AND(B23>0,C23>0),COUNTIF(D$3:D$55,\"<\"&D23)+1,\"\")","v":""},{"$f":"IF(B23>0,IF(E23,MIN(F23:H23),MAX(F23:H23)),\"\")","v":""},{"$f":"IF(B23>0,VLOOKUP(I23,Punkteschema!$A$2:$B$101,2,FALSE),\"\")","v":""}]
[null,null,null,"",true,"","","","",{"$f":"IF(B24>0,VLOOKUP(I24,Punkteschema!$A$2:$B$101,2,FALSE),\"\")","v":""}]
[null,null,null,"",true,"","","","",{"$f":"IF(B25>0,VLOOKUP(I25,Punkteschema!$A$2:$B$101,2,FALSE),\"\")","v":""}]
[null,null,null,"",true,"","","","",{"$f":"IF(B26>0,VLOOKUP(I26,Punkteschema!$A$2:$B$101,2,FALSE),\"\")","v":""}]
[null,null,null,"",true,"","","","",{"$f":"IF(B27>0,VLOOKUP(I27,Punkteschema!$A$2:$B$101,2,FALSE),\"\")","v":""}]
[null,null,null,"",true,"","","","",{"$f":"IF(B28>0,VLOOKUP(I28,Punkteschema!$A$2:$B$101,2,FALSE),\"\")","v":""}]
[null,null,null,"",true,"","","","",{"$f":"IF(B29>0,VLOOKUP(I29,Punkteschema!$A$2:$B$101,2,FALSE),\"\")","v":""}]
[null,null,null,"",true,"","","","",{"$f":"IF(B30>0,VLOOKUP(I30,Punkteschema!$A$2:$B$101,2,FALSE),\"\")","v":""}]
[null,null,null,"",true,"","","","",{"$f":"IF(B31>0,VLOOKUP(I31,Punkteschema!$A$2:$B$101,2,FALSE),\"\")","v":""}]
[null,null,null,"",true,"","","","",{"$f":"IF(B32>0,VLOOKUP(I32,Punkteschema!$A$2:$B$101,2,FALSE),\"\")","v":""}]
[null,null,null,"",true,"","","","",{"$f":"IF(B33>0,VLOOKUP(I33,Punkteschema!$A$2:$B$101,2,FALSE),\"\")","v":""}]
[null,null,null,"",true,"","","","",{"$f":"IF(B34>0,VLOOKUP(I34,Punkteschema!$A$2:$B$101,2,FALSE),\"\")","v":""}]
[null,null,null,"",true,"","","","",{"$f":"IF(B35>0,VLOOKUP(I35,Punkteschema!$A$2:$B$101,2,FALSE),\"\")","v":""}]
[null,null,null,"",true,"","","","",{"$f":"IF(B36>0,VLOOKUP(I36,Punkteschema!$A$2:$B$101,2,FALSE),\"\")","v":""}]
[null,null,null,"",true,"","","","",{"$f":"IF(B37>0,VLOOKUP(I37,Punkteschema!$A$2:$B$101,2,FALSE),\"\")","v":""}]
[null,null,null,"",true,"","","","",{"$f":"IF(B38>0,VLOOKUP(I38,Punkteschema!$A$2:$B$101,2,FALSE),\"\")","v":""}]
[null,null,null,"",true,"","","","",{"$f":"IF(B39>0,VLOOKUP(I39,Punkteschema!$A$2:$B$101,2,FALSE),\"\")","v":""}]
[null,null,null,"",true,"","","","",{"$f":"IF(B40>0,VLOOKUP(I40,Punkteschema!$A$2:$B$101,2,FALSE),\"\")","v":""}]
[null,null,null,"",true,"","","","",{"$f":"IF(B41>0,VLOOKUP(I41,Punkteschema!$A$2:$B$101,2,FALSE),\"\")","v":""}]
[null,null,null,"",true,"","","","",{"$f":"IF(B42>0,VLOOKUP(I42,Punkteschema!$A$2:$B$101,2,FALSE),\"\")","v":""}]
[null,null,null,"",true,"","","","",{"$f":"IF(B43>0,VLOOKUP(I43,Punkteschema!$A$2:$B$101,2,FALSE),\"\")","v":""}]
[null,null,null,"",true,"","","","",{"$f":"IF(B44>0,VLOOKUP(I44,Punkteschema!$A$2:$B$101,2,FALSE),\"\")","v":""}]
[null,null,null,"",true,"","","","",{"$f":"IF(B45>0,VLOOKUP(I45,Punkteschema!$A$2:$B$101,2,FALSE),\"\")","v":""}]
[null,null,null,"",true,"","","","",{"$f":"IF(B46>0,VLOOKUP(I46,Punkteschema!$A$2:$B$101,2,FALSE),\"\")","v":""}]
[null,null,null,"",true,"","","","",{"$f":"IF(B47>0,VLOOKUP(I47,Punkteschema!$A$2:$B$101,2,FALSE),\"\")","v":""}]
[null,null,null,"",true,"","","","",{"$f":"IF(B48>0,VLOOKUP(I48,Punkteschema!$A$2:$B$101,2,FALSE),\"\")","v":""}]
[null,null,null,"",true,"","","","",{"$f":"IF(B49>0,VLOOKUP(I49,Punkteschema!$A$2:$B$101,2,FALSE),\"\")","v":""}]
[null,null,null,"",true,"","","","",{"$f":"IF(B50>0,VLOOKUP(I50,Punkteschema!$A$2:$B$101,2,FALSE),\"\")","v":""}]
[null,null,null,"",true,"","","","",{"$f":"IF(B51>0,VLOOKUP(I51,Punkteschema!$A$2:$B$101,2,FALSE),\"\")","v":""}]
[null,null,null,"",true,"","","","",{"$f":"IF(B52>0,VLOOKUP(I52,Punkteschema!$A$2:$B$101,2,FALSE),\"\")","v":""}]
[null,null,null,"",true,{"$f":"IF(B53>0,COUNTIF(B$3:B$55,\"<\"&B53)+1,\"\")","v":""},"",{"$f":"IF(AND(B53>0,C53>0),COUNTIF(D$3:D$55,\"<\"&D53)+1,\"\")","v":""},{"$f":"IF(B53>0,IF(E53,MIN(F53:H53),MAX(F53:H53)),\"\")","v":""},{"$f":"IF(B53>0,VLOOKUP(I53,Punkteschema!$A$2:$B$101,2,FALSE),\"\")","v":""}]
[null,null,null,"",true,"","",{"$f":"IF(AND(B54>0,C54>0),COUNTIF(D$3:D$55,\"<\"&D54)+1,\"\")","v":""},{"$f":"IF(B54>0,IF(E54,MIN(F54:H54),MAX(F54:H54)),\"\")","v":""},{"$f":"IF(B54>0,VLOOKUP(I54,Punkteschema!$A$2:$B$101,2,FALSE),\"\")","v":""}]
[null,null,null,"",true,"","",{"$f":"IF(AND(B55>0,C55>0),COUNTIF(D$3:D$55,\"<\"&D55)+1,\"\")","v":""},{"$f":"IF(B55>0,IF(E55,MIN(F55:H55),MAX(F55:H55)),\"\")","v":""},{"$f":"IF(B55>0,VLOOKUP(I55,Punkteschema!$A$2:$B$101,2,FALSE),\"\")","v":""}]
[]
["OS: Urban, Volker (ASW)",null,null,null,"Runde 1:","E","<- E/B"]
["S: Battig, Wolfgang (LÜD)",null,null,null,"Runde 2:","B","<- E/B"]
["S: Lieber, Nicole (HOB)"]
[]
["Verloste Preise: ","Wolfgang Battig - 1 Minigolfball (Pingvin Turbo 80)"]
[null,"Martin Kunz - 1 Dose Haribo Colorado"]
[null,"Peter Tabor - 1 Glasquader \"Minigolfer\""]

{"sheet":"Einzelwertung16","index":20,"n_rows":63,"n_cols":10,"rows_kept":63,"cut":false,"hidden":false,"merged":[[0,0,0,9]]}
[{"$f":"CONCATENATE(\"6. Sommer-Cup - Freizeittreff Herbede - \",TEXT(Gesamtstand!$U$2,\"TT.MM.JJ\"))","v":"6. Sommer-Cup - Freizeittreff Herbede - 20.08.20"}]
["Spieler","Runde 1","Runde 2","Gesamt","bessere?","Pl. R1","Pl. R2","Pl. Ges.","gewertet","Punkte"]
["Hein, Hans-Jörg",22,34,{"$f":"IF(B3>0,C3+B3,\"\")","v":56},true,{"$f":"IF(B3>0,COUNTIF(B$3:B$55,\"<\"&B3)+1,\"\")","v":1},{"$f":"IF(C3>0,COUNTIF(C$3:C$55,\"<\"&C3)+1,\"\")","v":7},{"$f":"IF(AND(B3>0,C3>0),COUNTIF(D$3:D$55,\"<\"&D3)+1,\"\")","v":3},{"$f":"IF(B3>0,IF(E3,MIN(F3:H3),MAX(F3:H3)),\"\")","v":1},{"$f":"IF(B3>0,VLOOKUP(I3,Punkteschema!$A$2:$B$101,2,FALSE),\"\")","v":25}]
["Hettrich, Willi",26,28,54,true,3,1,2,1,{"$f":"IF(B4>0,VLOOKUP(I4,Punkteschema!$A$2:$B$101,2,FALSE),\"\")","v":25}]
["Battig, Wolfgang",22,29,51,false,1,2,1,2,{"$f":"IF(B5>0,VLOOKUP(I5,Punkteschema!$A$2:$B$101,2,FALSE),\"\")","v":21}]
["Greiffendorf, Hellmut",26,33,59,true,3,6,6,3,{"$f":"IF(B6>0,VLOOKUP(I6,Punkteschema!$A$2:$B$101,2,FALSE),\"\")","v":18}]
["Puschner, Michael",28,30,58,true,6,3,4,3,{"$f":"IF(B7>0,VLOOKUP(I7,Punkteschema!$A$2:$B$101,2,FALSE),\"\")","v":18}]
["Kunz, Martin",33,31,64,true,10,4,8,4,{"$f":"IF(B8>0,VLOOKUP(I8,Punkteschema!$A$2:$B$101,2,FALSE),\"\")","v":15}]
["Urban, Volker",26,32,58,false,3,5,4,5,{"$f":"IF(B9>0,VLOOKUP(I9,Punkteschema!$A$2:$B$101,2,FALSE),\"\")","v":15}]
["Rabe, Jonas",32,34,66,true,8,7,9,7,{"$f":"IF(B10>0,VLOOKUP(I10,Punkteschema!$A$2:$B$101,2,FALSE),\"\")","v":10}]
["Kortmann, Uwe",32,40,72,true,8,12,10,8,{"$f":"IF(B11>0,VLOOKUP(I11,Punkteschema!$A$2:$B$101,2,FALSE),\"\")","v":10}]
["Lieber, Nicole",28,35,63,false,6,9,7,9,{"$f":"IF(B12>0,VLOOKUP(I12,Punkteschema!$A$2:$B$101,2,FALSE),\"\")","v":10}]
["Kortmann, Sabine",33,39,72,true,10,11,10,10,{"$f":"IF(B13>0,VLOOKUP(I13,Punkteschema!$A$2:$B$101,2,FALSE),\"\")","v":10}]
["Tabor, Peter",35,38,73,true,13,10,12,10,{"$f":"IF(B14>0,VLOOKUP(I14,Punkteschema!$A$2:$B$101,2,FALSE),\"\")","v":10}]
["Urban, Angela",34,43,77,true,12,13,13,12,{"$f":"IF(B15>0,VLOOKUP(I15,Punkteschema!$A$2:$B$101,2,FALSE),\"\")","v":5}]
[null,null,null,{"$f":"IF(B16>0,C16+B16,\"\")","v":""},true,{"$f":"IF(B16>0,COUNTIF(B$3:B$55,\"<\"&B16)+1,\"\")","v":""},{"$f":"IF(C16>0,COUNTIF(C$3:C$55,\"<\"&C16)+1,\"\")","v":""},{"$f":"IF(AND(B16>0,C16>0),COUNTIF(D$3:D$55,\"<\"&D16)+1,\"\")","v":""},{"$f":"IF(B16>0,IF(E16,MIN(F16:H16),MAX(F16:H16)),\"\")","v":""},{"$f":"IF(B16>0,VLOOKUP(I16,Punkteschema!$A$2:$B$101,2,FALSE),\"\")","v":""}]
[null,null,null,"",true,"","","","",{"$f":"IF(B17>0,VLOOKUP(I17,Punkteschema!$A$2:$B$101,2,FALSE),\"\")","v":""}]
[null,null,null,"",true,"","","","",{"$f":"IF(B18>0,VLOOKUP(I18,Punkteschema!$A$2:$B$101,2,FALSE),\"\")","v":""}]
[null,null,null,"",true,"","","","",{"$f":"IF(B19>0,VLOOKUP(I19,Punkteschema!$A$2:$B$101,2,FALSE),\"\")","v":""}]
[null,null,null,"",true,"","","","",{"$f":"IF(B20>0,VLOOKUP(I20,Punkteschema!$A$2:$B$101,2,FALSE),\"\")","v":""}]
[null,null,null,"",true,"","","","",{"$f":"IF(B21>0,VLOOKUP(I21,Punkteschema!$A$2:$B$101,2,FALSE),\"\")","v":""}]
[null,null,null,"",true,"","","","",{"$f":"IF(B22>0,VLOOKUP(I22,Punkteschema!$A$2:$B$101,2,FALSE),\"\")","v":""}]
[null,null,null,"",true,"","","","",{"$f":"IF(B23>0,VLOOKUP(I23,Punkteschema!$A$2:$B$101,2,FALSE),\"\")","v":""}]
[null,null,null,{"$f":"IF(B24>0,C24+B24,\"\")","v":""},true,{"$f":"IF(B24>0,COUNTIF(B$3:B$55,\"<\"&B24)+1,\"\")","v":""},{"$f":"IF(C24>0,COUNTIF(C$3:C$55,\"<\"&C24)+1,\"\")","v":""},{"$f":"IF(AND(B24>0,C24>0),COUNTIF(D$3:D$55,\"<\"&D24)+1,\"\")","v":""},{"$f":"IF(B24>0,IF(E24,MIN(F24:H24),MAX(F24:H24)),\"\")","v":""},{"$f":"IF(B24>0,VLOOKUP(I24,Punkteschema!$A$2:$B$101,2,FALSE),\"\")","v":""}]
[null,null,null,{"$f":"IF(B25>0,C25+B25,\"\")","v":""},true,{"$f":"IF(B25>0,COUNTIF(B$3:B$55,\"<\"&B25)+1,\"\")","v":""},"",{"$f":"IF(AND(B25>0,C25>0),COUNTIF(D$3:D$55,\"<\"&D25)+1,\"\")","v":""},{"$f":"IF(B25>0,IF(E25,MIN(F25:H25),MAX(F25:H25)),\"\")","v":""},{"$f":"IF(B25>0,VLOOKUP(I25,Punkteschema!$A$2:$B$101,2,FALSE),\"\")","v":""}]
[null,null,null,"",true,"","","","",{"$f":"IF(B26>0,VLOOKUP(I26,Punkteschema!$A$2:$B$101,2,FALSE),\"\")","v":""}]
[null,null,null,"",true,"","","","",{"$f":"IF(B27>0,VLOOKUP(I27,Punkteschema!$A$2:$B$101,2,FALSE),\"\")","v":""}]
[null,null,null,"",true,"","","","",{"$f":"IF(B28>0,VLOOKUP(I28,Punkteschema!$A$2:$B$101,2,FALSE),\"\")","v":""}]
[null,null,null,"",true,"","","","",{"$f":"IF(B29>0,VLOOKUP(I29,Punkteschema!$A$2:$B$101,2,FALSE),\"\")","v":""}]
[null,null,null,"",true,"","","","",{"$f":"IF(B30>0,VLOOKUP(I30,Punkteschema!$A$2:$B$101,2,FALSE),\"\")","v":""}]
[null,null,null,"",true,"","","","",{"$f":"IF(B31>0,VLOOKUP(I31,Punkteschema!$A$2:$B$101,2,FALSE),\"\")","v":""}]
[null,null,null,"",true,"","","","",{"$f":"IF(B32>0,VLOOKUP(I32,Punkteschema!$A$2:$B$101,2,FALSE),\"\")","v":""}]
[null,null,null,"",true,"","","","",{"$f":"IF(B33>0,VLOOKUP(I33,Punkteschema!$A$2:$B$101,2,FALSE),\"\")","v":""}]
[null,null,null,"",true,"","","","",{"$f":"IF(B34>0,VLOOKUP(I34,Punkteschema!$A$2:$B$101,2,FALSE),\"\")","v":""}]
[null,null,null,"",true,"","","","",{"$f":"IF(B35>0,VLOOKUP(I35,Punkteschema!$A$2:$B$101,2,FALSE),\"\")","v":""}]
[null,null,null,"",true,"","","","",{"$f":"IF(B36>0,VLOOKUP(I36,Punkteschema!$A$2:$B$101,2,FALSE),\"\")","v":""}]
[null,null,null,"",true,"","","","",{"$f":"IF(B37>0,VLOOKUP(I37,Punkteschema!$A$2:$B$101,2,FALSE),\"\")","v":""}]
[null,null,null,"",true,"","","","",{"$f":"IF(B38>0,VLOOKUP(I38,Punkteschema!$A$2:$B$101,2,FALSE),\"\")","v":""}]
[null,null,null,"",true,"","","","",{"$f":"IF(B39>0,VLOOKUP(I39,Punkteschema!$A$2:$B$101,2,FALSE),\"\")","v":""}]
[null,null,null,"",true,"","","","",{"$f":"IF(B40>0,VLOOKUP(I40,Punkteschema!$A$2:$B$101,2,FALSE),\"\")","v":""}]
[null,null,null,"",true,"","","","",{"$f":"IF(B41>0,VLOOKUP(I41,Punkteschema!$A$2:$B$101,2,FALSE),\"\")","v":""}]
[null,null,null,"",true,"","","","",{"$f":"IF(B42>0,VLOOKUP(I42,Punkteschema!$A$2:$B$101,2,FALSE),\"\")","v":""}]
[null,null,null,"",true,"","","","",{"$f":"IF(B43>0,VLOOKUP(I43,Punkteschema!$A$2:$B$101,2,FALSE),\"\")","v":""}]
[null,null,null,"",true,"","","","",{"$f":"IF(B44>0,VLOOKUP(I44,Punkteschema!$A$2:$B$101,2,FALSE),\"\")","v":""}]
[null,null,null,"",true,"","","","",{"$f":"IF(B45>0,VLOOKUP(I45,Punkteschema!$A$2:$B$101,2,FALSE),\"\")","v":""}]
[null,null,null,"",true,"","","","",{"$f":"IF(B46>0,VLOOKUP(I46,Punkteschema!$A$2:$B$101,2,FALSE),\"\")","v":""}]
[null,null,null,"",true,"","","","",{"$f":"IF(B47>0,VLOOKUP(I47,Punkteschema!$A$2:$B$101,2,FALSE),\"\")","v":""}]
[null,null,null,"",true,"","","","",{"$f":"IF(B48>0,VLOOKUP(I48,Punkteschema!$A$2:$B$101,2,FALSE),\"\")","v":""}]
[null,null,null,"",true,"","","","",{"$f":"IF(B49>0,VLOOKUP(I49,Punkteschema!$A$2:$B$101,2,FALSE),\"\")","v":""}]
[null,null,null,"",true,"","","","",{"$f":"IF(B50>0,VLOOKUP(I50,Punkteschema!$A$2:$B$101,2,FALSE),\"\")","v":""}]
[null,null,null,"",true,"","","","",{"$f":"IF(B51>0,VLOOKUP(I51,Punkteschema!$A$2:$B$101,2,FALSE),\"\")","v":""}]
[null,null,null,"",true,"","","","",{"$f":"IF(B52>0,VLOOKUP(I52,Punkteschema!$A$2:$B$101,2,FALSE),\"\")","v":""}]
[null,null,null,"",true,{"$f":"IF(B53>0,COUNTIF(B$3:B$55,\"<\"&B53)+1,\"\")","v":""},"",{"$f":"IF(AND(B53>0,C53>0),COUNTIF(D$3:D$55,\"<\"&D53)+1,\"\")","v":""},{"$f":"IF(B53>0,IF(E53,MIN(F53:H53),MAX(F53:H53)),\"\")","v":""},{"$f":"IF(B53>0,VLOOKUP(I53,Punkteschema!$A$2:$B$101,2,FALSE),\"\")","v":""}]
[null,null,null,"",true,"","",{"$f":"IF(AND(B54>0,C54>0),COUNTIF(D$3:D$55,\"<\"&D54)+1,\"\")","v":""},{"$f":"IF(B54>0,IF(E54,MIN(F54:H54),MAX(F54:H54)),\"\")","v":""},{"$f":"IF(B54>0,VLOOKUP(I54,Punkteschema!$A$2:$B$101,2,FALSE),\"\")","v":""}]
[null,null,null,"",true,"","",{"$f":"IF(AND(B55>0,C55>0),COUNTIF(D$3:D$55,\"<\"&D55)+1,\"\")","v":""},{"$f":"IF(B55>0,IF(E55,MIN(F55:H55),MAX(F55:H55)),\"\")","v":""},{"$f":"IF(B55>0,VLOOKUP(I55,Punkteschema!$A$2:$B$101,2,FALSE),\"\")","v":""}]
[]
["OS: Urban, Volker (ASW)",null,null,null,"Runde 1:","E","<- E/B"]
["S: Battig, Wolfgang (LÜD)",null,null,null,"Runde 2:","B","<- E/B"]
["S: Puschner, Michael (HOB)"]
[]
["Verloste Preise: ","Willi Hettrich - 1 Minigolfball (BOF Romain Bausch)"]
[null,"Wolfgang Battig - 1 Großpackung Haribo Fantasia"]
[null,"Michael Puschner - 1 Verzehrgutschein"]

{"sheet":"Einzelwertung17","index":21,"n_rows":63,"n_cols":10,"rows_kept":63,"cut":false,"hidden":false,"merged":[[0,0,0,9]]}
[{"$f":"CONCATENATE(\"6. Sommer-Cup - Freizeittreff Herbede - \",TEXT(Gesamtstand!$V$2,\"TT.MM.JJ\"))","v":"6. Sommer-Cup - Freizeittreff Herbede - 27.08.20"}]
["Spieler","Runde 1","Runde 2","Gesamt","bessere?","Pl. R1","Pl. R2","Pl. Ges.","gewertet","Punkte"]
["Urban, Volker",23,32,{"$f":"IF(B3>0,C3+B3,\"\")","v":55},false,{"$f":"IF(B3>0,COUNTIF(B$3:B$55,\"<\"&B3)+1,\"\")","v":1},{"$f":"IF(C3>0,COUNTIF(C$3:C$55,\"<\"&C3)+1,\"\")","v":1},{"$f":"IF(AND(B3>0,C3>0),COUNTIF(D$3:D$55,\"<\"&D3)+1,\"\")","v":1},{"$f":"IF(B3>0,IF(E3,MIN(F3:H3),MAX(F3:H3)),\"\")","v":1},{"$f":"IF(B3>0,VLOOKUP(I3,Punkteschema!$A$2:$B$101,2,FALSE),\"\")","v":25}]
["Puschner, Michael",24,32,56,false,2,1,2,2,{"$f":"IF(B4>0,VLOOKUP(I4,Punkteschema!$A$2:$B$101,2,FALSE),\"\")","v":21}]
["Hein, Hans-Jörg",24,33,57,true,2,3,3,2,{"$f":"IF(B5>0,VLOOKUP(I5,Punkteschema!$A$2:$B$101,2,FALSE),\"\")","v":21}]
["Börgmann, Ulrich",29,33,62,true,6,3,6,3,{"$f":"IF(B6>0,VLOOKUP(I6,Punkteschema!$A$2:$B$101,2,FALSE),\"\")","v":18}]
["Lenk, Rolf",38,33,71,true,13,3,11,3,{"$f":"IF(B7>0,VLOOKUP(I7,Punkteschema!$A$2:$B$101,2,FALSE),\"\")","v":18}]
["Greiffendorf, Hellmut",27,34,61,true,4,6,4,4,{"$f":"IF(B8>0,VLOOKUP(I8,Punkteschema!$A$2:$B$101,2,FALSE),\"\")","v":15}]
["Tabor, Peter",27,34,61,true,4,6,4,4,{"$f":"IF(B9>0,VLOOKUP(I9,Punkteschema!$A$2:$B$101,2,FALSE),\"\")","v":15}]
["Rabe, Jonas",29,35,64,true,6,9,7,6,{"$f":"IF(B10>0,VLOOKUP(I10,Punkteschema!$A$2:$B$101,2,FALSE),\"\")","v":15}]
["Schmidt, Barbara",39,34,73,true,14,6,12,6,{"$f":"IF(B11>0,VLOOKUP(I11,Punkteschema!$A$2:$B$101,2,FALSE),\"\")","v":15}]
["Brunnenkant, Frank",32,37,69,true,9,11,10,9,{"$f":"IF(B12>0,VLOOKUP(I12,Punkteschema!$A$2:$B$101,2,FALSE),\"\")","v":10}]
["Lieber, Nicole",33,35,68,true,10,9,9,9,{"$f":"IF(B13>0,VLOOKUP(I13,Punkteschema!$A$2:$B$101,2,FALSE),\"\")","v":10}]
["Kunz, Martin",29,37,66,false,6,11,8,11,{"$f":"IF(B14>0,VLOOKUP(I14,Punkteschema!$A$2:$B$101,2,FALSE),\"\")","v":5}]
["Schmidtbauer, Günter",35,50,85,true,11,14,14,11,{"$f":"IF(B15>0,VLOOKUP(I15,Punkteschema!$A$2:$B$101,2,FALSE),\"\")","v":5}]
["Börgmann, Brigitte",37,38,75,true,12,13,13,12,{"$f":"IF(B16>0,VLOOKUP(I16,Punkteschema!$A$2:$B$101,2,FALSE),\"\")","v":5}]
[null,null,null,{"$f":"IF(B17>0,C17+B17,\"\")","v":""},true,{"$f":"IF(B17>0,COUNTIF(B$3:B$55,\"<\"&B17)+1,\"\")","v":""},{"$f":"IF(C17>0,COUNTIF(C$3:C$55,\"<\"&C17)+1,\"\")","v":""},{"$f":"IF(AND(B17>0,C17>0),COUNTIF(D$3:D$55,\"<\"&D17)+1,\"\")","v":""},{"$f":"IF(B17>0,IF(E17,MIN(F17:H17),MAX(F17:H17)),\"\")","v":""},{"$f":"IF(B17>0,VLOOKUP(I17,Punkteschema!$A$2:$B$101,2,FALSE),\"\")","v":""}]
[null,null,null,"",true,"","","","",{"$f":"IF(B18>0,VLOOKUP(I18,Punkteschema!$A$2:$B$101,2,FALSE),\"\")","v":""}]
[null,null,null,"",true,"","","","",{"$f":"IF(B19>0,VLOOKUP(I19,Punkteschema!$A$2:$B$101,2,FALSE),\"\")","v":""}]
[null,null,null,"",true,"","","","",{"$f":"IF(B20>0,VLOOKUP(I20,Punkteschema!$A$2:$B$101,2,FALSE),\"\")","v":""}]
[null,null,null,"",true,"","","","",{"$f":"IF(B21>0,VLOOKUP(I21,Punkteschema!$A$2:$B$101,2,FALSE),\"\")","v":""}]
[null,null,null,"",true,"","","","",{"$f":"IF(B22>0,VLOOKUP(I22,Punkteschema!$A$2:$B$101,2,FALSE),\"\")","v":""}]
[null,null,null,"",true,"","","","",{"$f":"IF(B23>0,VLOOKUP(I23,Punkteschema!$A$2:$B$101,2,FALSE),\"\")","v":""}]
[null,null,null,{"$f":"IF(B24>0,C24+B24,\"\")","v":""},true,{"$f":"IF(B24>0,COUNTIF(B$3:B$55,\"<\"&B24)+1,\"\")","v":""},{"$f":"IF(C24>0,COUNTIF(C$3:C$55,\"<\"&C24)+1,\"\")","v":""},{"$f":"IF(AND(B24>0,C24>0),COUNTIF(D$3:D$55,\"<\"&D24)+1,\"\")","v":""},{"$f":"IF(B24>0,IF(E24,MIN(F24:H24),MAX(F24:H24)),\"\")","v":""},{"$f":"IF(B24>0,VLOOKUP(I24,Punkteschema!$A$2:$B$101,2,FALSE),\"\")","v":""}]
[null,null,null,{"$f":"IF(B25>0,C25+B25,\"\")","v":""},true,{"$f":"IF(B25>0,COUNTIF(B$3:B$55,\"<\"&B25)+1,\"\")","v":""},"",{"$f":"IF(AND(B25>0,C25>0),COUNTIF(D$3:D$55,\"<\"&D25)+1,\"\")","v":""},{"$f":"IF(B25>0,IF(E25,MIN(F25:H25),MAX(F25:H25)),\"\")","v":""},{"$f":"IF(B25>0,VLOOKUP(I25,Punkteschema!$A$2:$B$101,2,FALSE),\"\")","v":""}]
[null,null,null,"",true,"","","","",{"$f":"IF(B26>0,VLOOKUP(I26,Punkteschema!$A$2:$B$101,2,FALSE),\"\")","v":""}]
[null,null,null,"",true,"","","","",{"$f":"IF(B27>0,VLOOKUP(I27,Punkteschema!$A$2:$B$101,2,FALSE),\"\")","v":""}]
[null,null,null,"",true,"","","","",{"$f":"IF(B28>0,VLOOKUP(I28,Punkteschema!$A$2:$B$101,2,FALSE),\"\")","v":""}]
[null,null,null,"",true,"","","","",{"$f":"IF(B29>0,VLOOKUP(I29,Punkteschema!$A$2:$B$101,2,FALSE),\"\")","v":""}]
[null,null,null,"",true,"","","","",{"$f":"IF(B30>0,VLOOKUP(I30,Punkteschema!$A$2:$B$101,2,FALSE),\"\")","v":""}]
[null,null,null,"",true,"","","","",{"$f":"IF(B31>0,VLOOKUP(I31,Punkteschema!$A$2:$B$101,2,FALSE),\"\")","v":""}]
[null,null,null,"",true,"","","","",{"$f":"IF(B32>0,VLOOKUP(I32,Punkteschema!$A$2:$B$101,2,FALSE),\"\")","v":""}]
[null,null,null,"",true,"","","","",{"$f":"IF(B33>0,VLOOKUP(I33,Punkteschema!$A$2:$B$101,2,FALSE),\"\")","v":""}]
[null,null,null,"",true,"","","","",{"$f":"IF(B34>0,VLOOKUP(I34,Punkteschema!$A$2:$B$101,2,FALSE),\"\")","v":""}]
[null,null,null,"",true,"","","","",{"$f":"IF(B35>0,VLOOKUP(I35,Punkteschema!$A$2:$B$101,2,FALSE),\"\")","v":""}]
[null,null,null,"",true,"","","","",{"$f":"IF(B36>0,VLOOKUP(I36,Punkteschema!$A$2:$B$101,2,FALSE),\"\")","v":""}]
[null,null,null,"",true,"","","","",{"$f":"IF(B37>0,VLOOKUP(I37,Punkteschema!$A$2:$B$101,2,FALSE),\"\")","v":""}]
[null,null,null,"",true,"","","","",{"$f":"IF(B38>0,VLOOKUP(I38,Punkteschema!$A$2:$B$101,2,FALSE),\"\")","v":""}]
[null,null,null,"",true,"","","","",{"$f":"IF(B39>0,VLOOKUP(I39,Punkteschema!$A$2:$B$101,2,FALSE),\"\")","v":""}]
[null,null,null,"",true,"","","","",{"$f":"IF(B40>0,VLOOKUP(I40,Punkteschema!$A$2:$B$101,2,FALSE),\"\")","v":""}]
[null,null,null,"",true,"","","","",{"$f":"IF(B41>0,VLOOKUP(I41,Punkteschema!$A$2:$B$101,2,FALSE),\"\")","v":""}]
[null,null,null,"",true,"","","","",{"$f":"IF(B42>0,VLOOKUP(I42,Punkteschema!$A$2:$B$101,2,FALSE),\"\")","v":""}]
[null,null,null,"",true,"","","","",{"$f":"IF(B43>0,VLOOKUP(I43,Punkteschema!$A$2:$B$101,2,FALSE),\"\")","v":""}]
[null,null,null,"",true,"","","","",{"$f":"IF(B44>0,VLOOKUP(I44,Punkteschema!$A$2:$B$101,2,FALSE),\"\")","v":""}]
[null,null,null,"",true,"","","","",{"$f":"IF(B45>0,VLOOKUP(I45,Punkteschema!$A$2:$B$101,2,FALSE),\"\")","v":""}]
[null,null,null,"",true,"","","","",{"$f":"IF(B46>0,VLOOKUP(I46,Punkteschema!$A$2:$B$101,2,FALSE),\"\")","v":""}]
[null,null,null,"",true,"","","","",{"$f":"IF(B47>0,VLOOKUP(I47,Punkteschema!$A$2:$B$101,2,FALSE),\"\")","v":""}]
[null,null,null,"",true,"","","","",{"$f":"IF(B48>0,VLOOKUP(I48,Punkteschema!$A$2:$B$101,2,FALSE),\"\")","v":""}]
[null,null,null,"",true,"","","","",{"$f":"IF(B49>0,VLOOKUP(I49,Punkteschema!$A$2:$B$101,2,FALSE),\"\")","v":""}]
[null,null,null,"",true,"","","","",{"$f":"IF(B50>0,VLOOKUP(I50,Punkteschema!$A$2:$B$101,2,FALSE),\"\")","v":""}]
[null,null,null,"",true,"","","","",{"$f":"IF(B51>0,VLOOKUP(I51,Punkteschema!$A$2:$B$101,2,FALSE),\"\")","v":""}]
[null,null,null,"",true,"","","","",{"$f":"IF(B52>0,VLOOKUP(I52,Punkteschema!$A$2:$B$101,2,FALSE),\"\")","v":""}]
[null,null,null,"",true,{"$f":"IF(B53>0,COUNTIF(B$3:B$55,\"<\"&B53)+1,\"\")","v":""},"",{"$f":"IF(AND(B53>0,C53>0),COUNTIF(D$3:D$55,\"<\"&D53)+1,\"\")","v":""},{"$f":"IF(B53>0,IF(E53,MIN(F53:H53),MAX(F53:H53)),\"\")","v":""},{"$f":"IF(B53>0,VLOOKUP(I53,Punkteschema!$A$2:$B$101,2,FALSE),\"\")","v":""}]
[null,null,null,"",true,"","",{"$f":"IF(AND(B54>0,C54>0),COUNTIF(D$3:D$55,\"<\"&D54)+1,\"\")","v":""},{"$f":"IF(B54>0,IF(E54,MIN(F54:H54),MAX(F54:H54)),\"\")","v":""},{"$f":"IF(B54>0,VLOOKUP(I54,Punkteschema!$A$2:$B$101,2,FALSE),\"\")","v":""}]
[null,null,null,"",true,"","",{"$f":"IF(AND(B55>0,C55>0),COUNTIF(D$3:D$55,\"<\"&D55)+1,\"\")","v":""},{"$f":"IF(B55>0,IF(E55,MIN(F55:H55),MAX(F55:H55)),\"\")","v":""},{"$f":"IF(B55>0,VLOOKUP(I55,Punkteschema!$A$2:$B$101,2,FALSE),\"\")","v":""}]
[]
["OS: Urban, Volker (ASW)",null,null,null,"Runde 1:","E","<- E/B"]
["S: Lieber, Nicole (HOB)",null,null,null,"Runde 2:","B","<- E/B"]
["S: Puschner, Michael (HOB)"]
[]
["Verloste Preise: ","Frank Brunnenkant - 1 Minigolfball (BOF Irene Sauer)"]
[null,"Peter Tabor - 1 Flasche Rotwein"]
[null,"Barbara Schmidt - 1 Verzehrgutschein"]

{"sheet":"Bahnenergebnisse","index":22,"n_rows":208,"n_cols":48,"rows_kept":208,"cut":false,"hidden":false,"merged":[]}
["Datum","Spieler","R1","R2","R1","R2","L1","L2","Sys1","Sys2","E1","E2","E3","E4","E5","E6","E7","E8","E9","E10","E11","E12","E13","E14","E15","E16","E17","E18","E_Sum","B1","B2","B3","B4","B5","B6","B7","B8","B9","B10","B11","B12","B13","B14","B15","B16","B17","B18","B_Sum"]
["2020-06-10","Battig, Wolfgang",{"$f":"IF(ISBLANK(E2),\"\",MID(E2,1,1)+MID(E2,2,1)+MID(E2,3,1)+MID(E2,4,1)+MID(E2,5,1)+MID(E2,6,1)+MID(E2,7,1)+MID(E2,8,1)+MID(E2,9,1)+MID(E2,10,1)+MID(E2,11,1)+MID(E2,12,1)+MID(E2,13,1)+MID(E2,14,1)+MID(E2,15,1)+MID(E2,16,1)+MID(E2,17,1)+MID(E2,18,1))","v":25},{"$f":"IF(ISBLANK(F2),\"\",MID(F2,1,1)+MID(F2,2,1)+MID(F2,3,1)+MID(F2,4,1)+MID(F2,5,1)+MID(F2,6,1)+MID(F2,7,1)+MID(F2,8,1)+MID(F2,9,1)+MID(F2,10,1)+MID(F2,11,1)+MID(F2,12,1)+MID(F2,13,1)+MID(F2,14,1)+MID(F2,15,1)+MID(F2,16,1)+MID(F2,17,1)+MID(F2,18,1))","v":31},"112111112121212122","222222112211222221",{"$f":"LEN(E2)","v":18},{"$f":"LEN(F2)","v":18},"E","B",{"$f":"IF($I2=MID(K$1,1,1),IF(ISBLANK($E2),\"\",VALUE(MID($E2,VALUE(MID(K$1,2,LEN(K$1)-1)),1))),IF($J2=MID(K$1,1,1),IF(ISBLANK($F2),\"\",VALUE(MID($F2,VALUE(MID(K$1,2,LEN(K$1)-1)),1)))))","v":1},1,2,1,1,1,1,1,2,1,2,1,2,1,2,1,{"$f":"IF($I2=MID(AA$1,1,1),IF(ISBLANK($E2),\"\",VALUE(MID($E2,VALUE(MID(AA$1,2,LEN(AA$1)-1)),1))),IF($J2=MID(AA$1,1,1),IF(ISBLANK($F2),\"\",VALUE(MID($F2,VALUE(MID(AA$1,2,LEN(AA$1)-1)),1)))))","v":2},2,{"$f":"IF(SUM(K2:AB2)>0,SUM(K2:AB2),0)","v":25},{"$f":"IF($I2=MID(AD$1,1,1),IF(ISBLANK($E2),\"\",VALUE(MID($E2,VALUE(MID(AD$1,2,LEN(AD$1)-1)),1))),IF($J2=MID(AD$1,1,1),IF(ISBLANK($F2),\"\",VALUE(MID($F2,VALUE(MID(AD$1,2,LEN(AD$1)-1)),1)))))","v":2},2,2,2,2,2,1,1,2,2,1,1,2,2,2,2,2,1,{"$f":"IF(SUM(AD2:AU2)>0,SUM(AD2:AU2),0)","v":31}]
["2020-06-10","Greiffendorf, Hellmut",34,{"$f":"IF(ISBLANK(F3),\"\",MID(F3,1,1)+MID(F3,2,1)+MID(F3,3,1)+MID(F3,4,1)+MID(F3,5,1)+MID(F3,6,1)+MID(F3,7,1)+MID(F3,8,1)+MID(F3,9,1)+MID(F3,10,1)+MID(F3,11,1)+MID(F3,12,1)+MID(F3,13,1)+MID(F3,14,1)+MID(F3,15,1)+MID(F3,16,1)+MID(F3,17,1)+MID(F3,18,1))","v":29},"141111211212522421","222112221211222121",{"$f":"LEN(E3)","v":18},{"$f":"LEN(F3)","v":18},"E","B",1,4,1,1,1,1,2,1,1,2,1,2,5,2,2,4,2,1,{"$f":"IF(SUM(K3:AB3)>0,SUM(K3:AB3),0)","v":34},2,2,2,1,1,2,2,2,1,2,1,1,2,2,2,1,2,1,{"$f":"IF(SUM(AD3:AU3)>0,SUM(AD3:AU3),0)","v":29}]
["2020-06-10","Urban, Volker",26,{"$f":"IF(ISBLANK(F4),\"\",MID(F4,1,1)+MID(F4,2,1)+MID(F4,3,1)+MID(F4,4,1)+MID(F4,5,1)+MID(F4,6,1)+MID(F4,7,1)+MID(F4,8,1)+MID(F4,9,1)+MID(F4,10,1)+MID(F4,11,1)+MID(F4,12,1)+MID(F4,13,1)+MID(F4,14,1)+MID(F4,15,1)+MID(F4,16,1)+MID(F4,17,1)+MID(F4,18,1))","v":31},"112111112211122222","222212133112211221",18,18,"E","B",1,1,2,1,1,1,1,1,2,2,1,1,1,2,2,2,2,2,26,2,2,2,2,1,2,1,3,3,1,1,2,2,1,1,2,2,1,31]
["2020-06-10","Hein, Hans-Jörg",26,34,"211111131211222121","231321122112224122",18,18,"E","B",2,1,1,1,1,1,1,3,1,2,1,1,2,2,2,1,2,1,26,2,3,1,3,2,1,1,2,2,1,1,2,2,2,4,1,2,2,34]
["2020-06-10","Lieber, Nicole",30,30,"111211121111252124","121222122211222221",18,18,"E","B",1,1,1,2,1,1,1,2,1,1,1,1,2,5,2,1,2,4,30,1,2,1,2,2,2,1,2,2,2,1,1,2,2,2,2,2,1,30]
["2020-06-10","Urban, Angela",32,30,"222132212211322112","231122122211222121",18,18,"E","B",2,2,2,1,3,2,2,1,2,2,1,1,3,2,2,1,1,2,32,2,3,1,1,2,2,1,2,2,2,1,1,2,2,2,1,2,1,30]
["2020-06-10","Börgmann, Ulrich",26,42,"121121211112232111","234422322212222322",18,18,"E","B",1,2,1,1,2,1,2,1,1,1,1,2,2,3,2,1,1,1,26,2,3,4,4,2,2,3,2,2,2,1,2,2,2,2,3,2,2,42]
["2020-06-10","Puschner, Michael",28,33,"112111122223112122","222322122211212222",18,18,"E","B",1,1,2,1,1,1,1,2,2,2,2,3,1,1,2,1,2,2,28,2,2,2,3,2,2,1,2,2,2,1,1,2,1,2,2,2,2,33]
["2020-06-10","Tabor, Peter",33,33,"222211212211123332","211221123211225221",18,18,"E","B",2,2,2,2,1,1,2,1,2,2,1,1,1,2,3,3,3,2,33,2,1,1,2,2,1,1,2,3,2,1,1,2,2,5,2,2,1,33]
["2020-06-10","Rabe, Jonas",34,33,"221122122223212223","122312123212212222",18,18,"E","B",2,2,1,1,2,2,1,2,2,2,2,3,2,1,2,2,2,3,34,1,2,2,3,1,2,1,2,3,2,1,2,2,1,2,2,2,2,33]
["2020-06-10","Lenk, Rolf",34,35,"111221412213212215","122322222221222231",18,18,"E","B",1,1,1,2,2,1,4,1,2,2,1,3,2,1,2,2,1,5,34,1,2,2,3,2,2,2,2,2,2,2,1,2,2,2,2,3,1,35]
["2020-06-10","Schmidtbauer, Günter",34,35,"251224112112312121","122223222211223231",18,18,"E","B",2,5,1,2,2,4,1,1,2,1,1,2,3,1,2,1,2,1,34,1,2,2,2,2,3,2,2,2,2,1,1,2,2,3,2,3,1,35]
["2020-06-10","Börgmann, Brigitte",34,37,"152213132212212121","232422122112222223",18,18,"E","B",1,5,2,2,1,3,1,3,2,2,1,2,2,1,2,1,2,1,34,2,3,2,4,2,2,1,2,2,1,1,2,2,2,2,2,2,3,37]
["2020-06-10","Kersch, Uwe",34,37,"212114112212432113","222722122112212222",18,18,"E","B",2,1,2,1,1,4,1,1,2,2,1,2,4,3,2,1,1,3,34,2,2,2,7,2,2,1,2,{"$f":"IF($I15=MID(AL$1,1,1),IF(ISBLANK($E15),\"\",VALUE(MID($E15,VALUE(MID(AL$1,2,LEN(AL$1)-1)),1))),IF($J15=MID(AL$1,1,1),IF(ISBLANK($F15),\"\",VALUE(MID($F15,VALUE(MID(AL$1,2,LEN(AL$1)-1)),1)))))","v":2},1,1,2,2,1,2,2,2,2,37]
["2020-06-10","Schmidt, Barbara",54,45,"372244231227135114","223522125215232222",18,18,"E","B",3,7,2,2,4,4,2,3,1,2,2,7,1,3,5,1,1,4,54,{"$f":"IF($I16=MID(AD$1,1,1),IF(ISBLANK($E16),\"\",VALUE(MID($E16,VALUE(MID(AD$1,2,LEN(AD$1)-1)),1))),IF($J16=MID(AD$1,1,1),IF(ISBLANK($F16),\"\",VALUE(MID($F16,VALUE(MID(AD$1,2,LEN(AD$1)-1)),1)))))","v":2},2,3,5,2,2,1,2,5,2,1,5,2,3,2,2,2,2,45]
["2020-06-18","Lehmann, Niclas",{"$f":"IF(ISBLANK(E17),\"\",MID(E17,1,1)+MID(E17,2,1)+MID(E17,3,1)+MID(E17,4,1)+MID(E17,5,1)+MID(E17,6,1)+MID(E17,7,1)+MID(E17,8,1)+MID(E17,9,1)+MID(E17,10,1)+MID(E17,11,1)+MID(E17,12,1)+MID(E17,13,1)+MID(E17,14,1)+MID(E17,15,1)+MID(E17,16,1)+MID(E17,17,1)+MID(E17,18,1))","v":27},{"$f":"IF(ISBLANK(F17),\"\",MID(F17,1,1)+MID(F17,2,1)+MID(F17,3,1)+MID(F17,4,1)+MID(F17,5,1)+MID(F17,6,1)+MID(F17,7,1)+MID(F17,8,1)+MID(F17,9,1)+MID(F17,10,1)+MID(F17,11,1)+MID(F17,12,1)+MID(F17,13,1)+MID(F17,14,1)+MID(F17,15,1)+MID(F17,16,1)+MID(F17,17,1)+MID(F17,18,1))","v":36},"211221112211122212","331222123212124311",{"$f":"LEN(E17)","v":18},{"$f":"LEN(F17)","v":18},"E","B",2,1,1,2,2,1,1,1,2,2,1,1,1,2,2,{"$f":"IF($I17=MID(Z$1,1,1),IF(ISBLANK($E17),\"\",VALUE(MID($E17,VALUE(MID(Z$1,2,LEN(Z$1)-1)),1))),IF($J17=MID(Z$1,1,1),IF(ISBLANK($F17),\"\",VALUE(MID($F17,VALUE(MID(Z$1,2,LEN(Z$1)-1)),1)))))","v":2},1,2,27,3,3,1,2,2,2,1,2,3,2,1,2,1,2,4,3,1,1,36]
["2020-06-18","Schmitt, Jürgen",29,32,"111211121115322211","211212112212223223",18,18,"E","B",{"$f":"IF($I18=MID(K$1,1,1),IF(ISBLANK($E18),\"\",VALUE(MID($E18,VALUE(MID(K$1,2,LEN(K$1)-1)),1))),IF($J18=MID(K$1,1,1),IF(ISBLANK($F18),\"\",VALUE(MID($F18,VALUE(MID(K$1,2,LEN(K$1)-1)),1)))))","v":1},1,1,2,1,1,1,2,1,1,1,5,3,2,2,2,1,1,29,2,1,1,2,1,2,1,1,2,2,1,2,2,2,3,2,2,3,32]
["2020-06-18","Wruck, Wolfgang",43,41,"162111132216262213","323223225311223221",18,18,"E","B",1,6,2,1,1,1,1,3,2,2,1,6,2,6,2,2,1,3,43,3,2,3,2,2,3,2,2,5,3,1,1,2,2,3,2,2,1,41]
["2020-06-18","Wolf, Arnold",43,34,"151241512222112623","121422123211222222",18,18,"E","B",1,5,1,2,4,1,5,1,2,2,2,2,1,1,2,6,2,3,43,1,2,1,4,2,2,1,2,3,2,1,1,2,2,2,2,2,2,34]
["2020-06-18","Lieber, Nicole",29,32,"111231211112122322","221112122222222222",18,18,"E","B",1,1,1,2,3,1,2,1,1,1,1,2,1,2,2,3,2,2,29,2,2,1,1,1,2,1,2,2,2,2,2,2,2,2,2,2,2,32]
["2020-06-18","Urban, Volker",23,35,"111112111211112122","112222224212212223",18,18,"E","B",1,1,1,1,1,2,1,1,1,2,1,1,1,1,2,1,2,2,23,1,1,2,2,2,2,2,2,4,2,1,2,2,1,2,2,2,3,35]
["2020-06-18","Urban, Dominic",27,35,"211223111111113113","232222223111222222",18,18,"E","B",2,1,1,2,2,3,1,1,1,1,1,1,1,1,3,1,1,3,27,2,3,2,2,2,2,2,2,3,1,1,1,2,2,2,2,2,2,35]
["2020-06-18","Börgmann, Ulrich",32,41,"111123122221262111","212322324212223224",18,18,"E","B",1,1,1,1,2,3,1,2,2,2,2,1,2,6,2,1,1,1,32,2,1,2,3,2,2,3,2,4,2,1,2,2,2,3,2,2,4,41]
["2020-06-18","Börgmann, Brigitte",34,35,"122221211112322324","241212224211222221",18,18,"E","B",1,2,2,2,2,1,2,1,1,1,1,2,3,2,2,3,2,4,34,2,4,1,2,1,2,2,2,4,2,1,1,2,2,2,2,2,1,35]
["2020-06-18","Lenk, Rolf",32,33,"122211112225112114","231222122112123321",18,18,"E","B",1,2,2,2,1,1,1,1,2,2,2,5,1,1,2,1,1,4,32,2,3,1,2,2,2,1,2,2,1,1,2,1,2,3,3,2,1,33]
["2020-06-18","Greiffendorf, Hellmut",30,30,"213211111212311232","122212122211221321",18,18,"E","B",2,1,3,2,1,1,1,1,1,2,1,2,3,1,1,2,3,2,30,1,2,2,2,1,2,1,2,2,2,1,1,2,2,1,3,2,1,30]
["2020-06-18","Battig, Wolfgang",22,35,"111111112112211112","222222222212223221",18,18,"E","B",1,1,1,1,1,1,1,1,2,1,1,2,2,1,1,1,1,2,22,2,2,2,2,2,2,2,2,2,2,1,2,2,2,3,2,2,1,35]
["2020-06-18","Schmidt, Barbara",42,44,"371221322512122213","212211252212226443",18,18,"E","B",3,7,1,2,2,1,3,2,2,5,1,2,1,2,2,2,1,3,42,2,1,2,2,1,1,2,5,{"$f":"IF($I29=MID(AL$1,1,1),IF(ISBLANK($E29),\"\",VALUE(MID($E29,VALUE(MID(AL$1,2,LEN(AL$1)-1)),1))),IF($J29=MID(AL$1,1,1),IF(ISBLANK($F29),\"\",VALUE(MID($F29,VALUE(MID(AL$1,2,LEN(AL$1)-1)),1)))))","v":2},2,1,2,2,2,6,4,4,3,44]
["2020-06-18","Rabe, Jonas",29,36,"211121311211112422","221231122212232521",18,18,"E","B",2,1,1,1,2,1,3,1,1,2,1,1,1,1,2,4,2,2,29,{"$f":"IF($I30=MID(AD$1,1,1),IF(ISBLANK($E30),\"\",VALUE(MID($E30,VALUE(MID(AD$1,2,LEN(AD$1)-1)),1))),IF($J30=MID(AD$1,1,1),IF(ISBLANK($F30),\"\",VALUE(MID($F30,VALUE(MID(AD$1,2,LEN(AD$1)-1)),1)))))","v":2},2,1,2,3,1,1,2,2,2,1,2,2,3,2,5,2,1,36]
["2020-06-18","Tabor, Peter",36,41,"152221112111242332","222212232212226332",18,18,"E","B",1,5,2,2,2,1,1,1,2,1,1,1,2,4,2,3,3,2,36,2,2,2,2,1,2,2,3,2,2,1,2,2,2,6,3,3,2,41]
["2020-06-18","Kersch, Uwe",32,30,"242124112112122112","121122212212312221",18,18,"E","B",2,4,2,1,2,4,1,1,2,1,1,2,1,2,2,1,1,2,32,1,2,1,1,2,2,2,1,2,2,1,2,3,1,2,2,2,1,30]
["2020-06-18","Puschner, Michael",32,38,"122211512211113312","132422122232222222",18,18,"E","B",1,2,2,2,1,1,5,1,2,2,1,1,1,1,3,3,1,2,32,1,3,2,4,2,2,1,2,2,2,3,2,2,2,2,2,2,2,38]
["2020-06-18","Schmidtbauer, Günter",36,44,"231221222222212323","223542124213224221",18,18,"E","B",{"$f":"IF($I34=MID(K$1,1,1),IF(ISBLANK($E34),\"\",VALUE(MID($E34,VALUE(MID(K$1,2,LEN(K$1)-1)),1))),IF($J34=MID(K$1,1,1),IF(ISBLANK($F34),\"\",VALUE(MID($F34,VALUE(MID(K$1,2,LEN(K$1)-1)),1)))))","v":2},3,1,2,2,1,2,2,2,2,2,2,2,1,2,3,2,3,36,2,2,3,5,4,2,1,2,4,2,1,3,2,2,4,2,2,1,44]
["2020-06-18","Kortmann, Uwe",31,31,"121211212121232232","222222112212122221",18,18,"E","B",1,2,1,2,1,1,2,1,2,1,2,1,2,3,2,2,3,2,31,2,2,2,2,2,2,1,1,2,2,1,2,1,2,2,2,2,1,31]
["2020-06-18","Kortmann, Sabine",35,39,"112212112323222422","221422232212216221",18,18,"E","B",1,1,2,2,1,2,1,1,2,3,2,3,2,2,2,4,2,2,35,2,2,1,4,2,2,2,3,2,2,1,2,2,1,6,2,2,1,39]
["2020-06-18","Paffrath, Siegfried",26,37,"111111111112422212","122412222212215321",18,18,"E","B",1,1,1,1,1,1,1,1,1,1,1,2,4,2,2,2,{"$f":"IF($I37=MID(AA$1,1,1),IF(ISBLANK($E37),\"\",VALUE(MID($E37,VALUE(MID(AA$1,2,LEN(AA$1)-1)),1))),IF($J37=MID(AA$1,1,1),IF(ISBLANK($F37),\"\",VALUE(MID($F37,VALUE(MID(AA$1,2,LEN(AA$1)-1)),1)))))","v":1},2,26,1,2,2,4,1,2,2,2,2,2,1,2,2,1,5,3,2,1,37]
["2020-06-18","Buchholz, Ansgar",25,34,"122111111112212221","222222124112222221",18,18,"E","B",1,2,2,1,1,1,1,1,1,1,1,2,2,1,2,2,2,1,25,2,2,2,2,2,2,1,2,4,1,1,2,2,2,2,2,2,1,34]
["2020-06-18","Hein, Hans-Jörg",29,33,"121211112211342112","221212122112222323",18,18,"E","B",1,2,1,2,1,1,1,1,2,2,1,1,3,4,2,1,1,2,29,2,2,1,2,1,2,1,2,2,1,1,2,2,2,2,3,2,3,33]
["2020-06-18","Kunz, Martin",34,33,"142211212212223222","221222132212222221",18,18,"E","B",1,4,2,2,1,1,2,1,2,2,1,2,2,2,3,2,2,2,34,2,2,1,2,2,2,1,3,2,2,1,2,2,2,2,2,2,1,33]
["2020-06-25","Lenk, Rolf",33,35,"111421122212222322","131221212211542122",18,18,"E","B",1,1,1,4,2,1,1,2,2,2,1,2,2,2,2,3,2,2,33,1,3,1,2,2,1,2,1,2,2,1,1,5,4,2,1,2,2,35]
["2020-06-25","Schmidtbauer, Günter",37,43,"221323322311222231","422221112221364323",18,18,"B","E",{"$f":"IF($I42=MID(K$1,1,1),IF(ISBLANK($E42),\"\",VALUE(MID($E42,VALUE(MID(K$1,2,LEN(K$1)-1)),1))),IF($J42=MID(K$1,1,1),IF(ISBLANK($F42),\"\",VALUE(MID($F42,VALUE(MID(K$1,2,LEN(K$1)-1)),1)))))","v":4},2,2,2,2,1,1,1,2,2,2,1,3,6,4,3,2,3,43,2,2,1,3,2,3,3,2,2,3,1,1,2,2,2,2,3,1,37]
["2020-06-25","Urban, Dominic",32,30,"221212122211222223","111117112211112222",18,18,"B","E",{"$f":"IF($I43=MID(K$1,1,1),IF(ISBLANK($E43),\"\",VALUE(MID($E43,VALUE(MID(K$1,2,LEN(K$1)-1)),1))),IF($J43=MID(K$1,1,1),IF(ISBLANK($F43),\"\",VALUE(MID($F43,VALUE(MID(K$1,2,LEN(K$1)-1)),1)))))","v":1},1,1,1,1,7,1,1,2,2,1,1,1,1,2,2,2,2,30,2,2,1,2,1,2,1,2,{"$f":"IF($I43=MID(AL$1,1,1),IF(ISBLANK($E43),\"\",VALUE(MID($E43,VALUE(MID(AL$1,2,LEN(AL$1)-1)),1))),IF($J43=MID(AL$1,1,1),IF(ISBLANK($F43),\"\",VALUE(MID($F43,VALUE(MID(AL$1,2,LEN(AL$1)-1)),1)))))","v":2},2,1,1,2,2,2,2,2,3,32]
["2020-06-25","Lehmann, Niclas",34,27,"231222222212123221","121123111113112212",18,18,"B","E",1,2,1,1,2,3,1,1,1,1,1,3,1,1,2,2,1,2,27,{"$f":"IF($I44=MID(AD$1,1,1),IF(ISBLANK($E44),\"\",VALUE(MID($E44,VALUE(MID(AD$1,2,LEN(AD$1)-1)),1))),IF($J44=MID(AD$1,1,1),IF(ISBLANK($F44),\"\",VALUE(MID($F44,VALUE(MID(AD$1,2,LEN(AD$1)-1)),1)))))","v":2},3,1,2,2,2,2,2,2,2,1,2,1,2,3,2,2,1,34]
["2020-06-25","Kunz, Martin",31,30,"113113112213222221","211211321213112321",18,18,"B","E",2,1,1,2,1,1,3,2,1,2,1,3,1,1,2,3,2,1,30,1,1,3,1,1,3,1,1,2,2,1,3,2,2,2,2,2,1,31]
["2020-06-25","Lieber, Nicole",32,33,"131322122212122221","231212111211213324",18,18,"B","E",2,3,1,2,1,2,1,1,1,2,1,1,2,1,3,3,2,4,33,1,3,1,3,2,2,1,2,2,2,1,2,1,2,2,2,2,1,32]
["2020-06-25","Kortmann, Uwe",38,31,"242322221111222225","131211112212532111",18,18,"B","E",1,3,1,2,1,1,1,1,2,2,1,2,5,3,2,1,1,1,31,2,4,2,3,2,2,2,2,1,1,1,1,2,2,2,2,2,5,38]
["2020-06-25","Puschner, Michael",31,27,"221122113222212221","211111112212212114",18,18,"B","E",2,1,1,1,1,1,1,1,2,2,1,2,2,1,2,1,1,4,27,2,2,1,1,2,2,1,1,3,2,2,2,2,1,2,2,2,1,31]
["2020-06-25","Kortmann, Sabine",36,37,"131242122312223221","162221112212322223",18,18,"B","E",1,6,2,2,2,1,1,1,2,2,1,2,3,2,2,2,2,3,37,1,3,1,2,4,2,1,2,2,3,1,2,2,2,3,2,2,1,36]
["2020-06-25","Battig, Wolfgang",33,28,"211322122212222231","222221121112212112",18,18,"B","E",2,2,2,2,2,1,1,2,1,1,1,2,2,1,2,1,1,2,28,2,1,1,3,2,2,1,2,2,2,1,2,2,2,2,2,3,1,33]
["2020-06-25","Börgmann, Brigitte",{"$f":"IF(ISBLANK(E51),\"\",MID(E51,1,1)+MID(E51,2,1)+MID(E51,3,1)+MID(E51,4,1)+MID(E51,5,1)+MID(E51,6,1)+MID(E51,7,1)+MID(E51,8,1)+MID(E51,9,1)+MID(E51,10,1)+MID(E51,11,1)+MID(E51,12,1)+MID(E51,13,1)+MID(E51,14,1)+MID(E51,15,1)+MID(E51,16,1)+MID(E51,17,1)+MID(E51,18,1))","v":42},{"$f":"IF(ISBLANK(F51),\"\",MID(F51,1,1)+MID(F51,2,1)+MID(F51,3,1)+MID(F51,4,1)+MID(F51,5,1)+MID(F51,6,1)+MID(F51,7,1)+MID(F51,8,1)+MID(F51,9,1)+MID(F51,10,1)+MID(F51,11,1)+MID(F51,12,1)+MID(F51,13,1)+MID(F51,14,1)+MID(F51,15,1)+MID(F51,16,1)+MID(F51,17,1)+MID(F51,18,1))","v":38},"322612223213222322","122221252222122323",{"$f":"LEN(E51)","v":18},{"$f":"LEN(F51)","v":18},"B","E",1,2,2,2,2,1,2,5,2,2,2,2,1,2,2,3,2,3,38,3,2,2,6,1,2,2,2,3,2,1,3,2,2,2,3,2,2,42]
["2020-06-25","Hein, Hans-Jörg",33,28,"211232122211223222","111212122111212142",18,18,"B","E",1,1,1,2,1,2,1,2,2,1,1,1,2,1,2,1,4,2,28,2,1,1,2,3,2,1,2,2,2,1,1,2,2,3,2,2,2,33]
["2020-06-25","Paffrath, Siegfried",45,29,"223422125211223425","1412111112122412112",18,19,"B","E",1,4,1,2,1,1,1,1,1,2,1,2,2,4,1,2,1,1,29,2,2,3,4,2,2,1,2,5,2,1,1,2,2,3,4,2,5,45]
["2020-06-25","Urban, Volker",28,31,"112212112212222211","112211122112162221",18,18,"B","E",1,1,2,2,1,1,1,2,2,1,1,2,1,6,2,2,2,1,31,1,1,2,2,1,2,1,1,2,2,1,2,2,2,2,2,1,1,28]
["2020-06-25","Börgmann, Ulrich",40,32,"124522122112132234","121221212212243121",18,18,"B","E",1,2,1,2,2,1,2,1,2,2,1,2,2,4,3,1,2,1,32,1,2,4,5,2,2,1,2,2,1,1,2,1,3,2,2,3,4,40]
["2020-06-25","Greiffendorf, Hellmut",36,34,"211422123212212521","141111211213212721",18,18,"B","E",1,4,1,1,1,1,2,1,1,2,1,3,2,1,2,7,2,1,34,2,1,1,4,2,2,1,2,3,2,1,2,2,1,2,5,2,1,36]
["2020-06-25","Urban, Angela",43,35,"221742123211243222","151211211212413313",18,18,"B","E",1,5,1,2,1,1,2,1,1,2,1,2,4,1,3,3,{"$f":"IF($I57=MID(AA$1,1,1),IF(ISBLANK($E57),\"\",VALUE(MID($E57,VALUE(MID(AA$1,2,LEN(AA$1)-1)),1))),IF($J57=MID(AA$1,1,1),IF(ISBLANK($F57),\"\",VALUE(MID($F57,VALUE(MID(AA$1,2,LEN(AA$1)-1)),1)))))","v":1},3,35,2,2,1,7,4,2,1,2,{"$f":"IF($I57=MID(AL$1,1,1),IF(ISBLANK($E57),\"\",VALUE(MID($E57,VALUE(MID(AL$1,2,LEN(AL$1)-1)),1))),IF($J57=MID(AL$1,1,1),IF(ISBLANK($F57),\"\",VALUE(MID($F57,VALUE(MID(AL$1,2,LEN(AL$1)-1)),1)))))","v":3},2,1,1,2,4,3,2,2,2,43]
["2020-06-25","Rabe, Jonas",37,29,"211423223211123223","222213111112222121",18,18,"B","E",2,2,2,2,1,3,1,1,1,1,1,2,2,2,2,1,2,1,29,{"$f":"IF($I58=MID(AD$1,1,1),IF(ISBLANK($E58),\"\",VALUE(MID($E58,VALUE(MID(AD$1,2,LEN(AD$1)-1)),1))),IF($J58=MID(AD$1,1,1),IF(ISBLANK($F58),\"\",VALUE(MID($F58,VALUE(MID(AD$1,2,LEN(AD$1)-1)),1)))))","v":2},1,1,4,2,3,2,2,3,2,1,1,1,2,3,2,2,3,37]
["2020-06-25","Paffrath, Ben",40,35,"222532323212223121","112231122221232422",18,18,"B","E",{"$f":"IF($I59=MID(K$1,1,1),IF(ISBLANK($E59),\"\",VALUE(MID($E59,VALUE(MID(K$1,2,LEN(K$1)-1)),1))),IF($J59=MID(K$1,1,1),IF(ISBLANK($F59),\"\",VALUE(MID($F59,VALUE(MID(K$1,2,LEN(K$1)-1)),1)))))","v":1},1,2,2,3,1,1,2,2,2,2,1,2,3,2,4,2,2,35,2,2,2,5,3,2,3,2,3,2,1,2,2,2,3,1,2,1,40]
["2020-06-25","Wickel-Paffrath, Melanie",35,25,"231312122213222222","112112112111212212",18,18,"B","E",1,1,2,1,1,2,1,1,2,1,1,1,2,1,2,2,1,2,25,2,3,1,3,1,2,1,2,2,2,1,3,2,2,2,2,2,2,35]
["2020-06-25","Schmitt, Jürgen",36,33,"225122122111126221","122111242213212222",18,18,"B","E",1,2,2,1,1,1,2,4,2,2,1,3,2,1,2,2,2,2,33,2,2,5,1,2,2,1,2,2,1,1,1,1,2,6,2,2,1,36]
["2020-06-25","Buchholz, Ansgar",34,29,"211223124212222311","112212112112341211",18,18,"B","E",1,1,2,2,1,2,1,1,2,1,1,2,3,4,1,2,1,1,29,2,1,1,2,2,3,1,2,4,2,1,2,2,2,2,3,1,1,34]
["2020-07-02","Kortmann, Uwe",{"$f":"IF(ISBLANK(E63),\"\",MID(E63,1,1)+MID(E63,2,1)+MID(E63,3,1)+MID(E63,4,1)+MID(E63,5,1)+MID(E63,6,1)+MID(E63,7,1)+MID(E63,8,1)+MID(E63,9,1)+MID(E63,10,1)+MID(E63,11,1)+MID(E63,12,1)+MID(E63,13,1)+MID(E63,14,1)+MID(E63,15,1)+MID(E63,16,1)+MID(E63,17,1)+MID(E63,18,1))","v":32},{"$f":"IF(ISBLANK(F63),\"\",MID(F63,1,1)+MID(F63,2,1)+MID(F63,3,1)+MID(F63,4,1)+MID(F63,5,1)+MID(F63,6,1)+MID(F63,7,1)+MID(F63,8,1)+MID(F63,9,1)+MID(F63,10,1)+MID(F63,11,1)+MID(F63,12,1)+MID(F63,13,1)+MID(F63,14,1)+MID(F63,15,1)+MID(F63,16,1)+MID(F63,17,1)+MID(F63,18,1))","v":""},"122121112113313412",null,{"$f":"LEN(E63)","v":18},{"$f":"LEN(F63)","v":0},"E","B",1,2,2,1,2,1,1,1,2,1,1,3,3,1,3,4,1,2,32,"","","","","","","","","","","","","","","","","","",0]
["2020-07-02","Kortmann, Sabine",{"$f":"IF(ISBLANK(E64),\"\",MID(E64,1,1)+MID(E64,2,1)+MID(E64,3,1)+MID(E64,4,1)+MID(E64,5,1)+MID(E64,6,1)+MID(E64,7,1)+MID(E64,8,1)+MID(E64,9,1)+MID(E64,10,1)+MID(E64,11,1)+MID(E64,12,1)+MID(E64,13,1)+MID(E64,14,1)+MID(E64,15,1)+MID(E64,16,1)+MID(E64,17,1)+MID(E64,18,1))","v":33},{"$f":"IF(ISBLANK(F64),\"\",MID(F64,1,1)+MID(F64,2,1)+MID(F64,3,1)+MID(F64,4,1)+MID(F64,5,1)+MID(F64,6,1)+MID(F64,7,1)+MID(F64,8,1)+MID(F64,9,1)+MID(F64,10,1)+MID(F64,11,1)+MID(F64,12,1)+MID(F64,13,1)+MID(F64,14,1)+MID(F64,15,1)+MID(F64,16,1)+MID(F64,17,1)+MID(F64,18,1))","v":""},"132121312212212322",null,{"$f":"LEN(E64)","v":18},{"$f":"LEN(F64)","v":0},"E","B",1,3,2,1,2,1,3,1,2,2,1,2,2,1,2,3,2,2,33,"","","","","","","","","","","","","","","","","","",0]
["2020-07-02","Rabe, Jonas",33,"","132211312213222221",null,18,0,"E","B",1,3,2,2,1,1,3,1,2,2,1,3,2,2,2,2,2,1,33,"","","","","","","","","","","","","","","","","","",0]
["2020-07-02","Lieber, Nicole",34,"","111211111113253522",null,18,0,"E","B",1,1,1,2,1,1,1,1,1,1,1,3,2,5,3,5,2,2,34,"","","","","","","","","","","","","","","","","","",0]
["2020-07-02","Greiffendorf, Hellmut",40,"","312221111112572422",null,18,0,"E","B",3,1,2,2,2,1,1,1,1,1,1,2,5,7,2,4,2,2,{"$f":"IF(SUM(K67:AB67)>0,SUM(K67:AB67),0)","v":40},"","","","","","","","","","","","","","","","","","",{"$f":"IF(SUM(AD67:AU67)>0,SUM(AD67:AU67),0)","v":0}]
["2020-07-02","Battig, Wolfgang",28,"","222221111111112322",null,18,0,"E","B",2,2,2,2,2,1,1,1,1,1,1,1,1,1,2,3,2,2,28,"","","","","","","","","","","","","","","","","","",0]
["2020-07-02","Schmidt, Barbara",38,"","172121211212233133",null,18,0,"E","B",1,7,2,1,2,1,2,1,1,2,1,2,2,3,3,1,3,3,38,"","","","","","","","","","","","","","","","","","",0]
["2020-07-02","Buchholz, Ansgar",23,"","211211112111112121",null,18,0,"E","B",2,1,1,2,1,1,1,1,2,1,1,1,1,1,2,1,2,1,23,"","","","","","","","","","","","","","","","","","",0]
["2020-07-02","Puschner, Michael",38,"","312221112212242712",null,18,0,"E","B",3,1,2,2,2,1,1,1,2,2,1,2,2,4,2,7,1,2,38,"","","","","","","","",{"$f":"IF($I71=MID(AL$1,1,1),IF(ISBLANK($E71),\"\",VALUE(MID($E71,VALUE(MID(AL$1,2,LEN(AL$1)-1)),1))),IF($J71=MID(AL$1,1,1),IF(ISBLANK($F71),\"\",VALUE(MID($F71,VALUE(MID(AL$1,2,LEN(AL$1)-1)),1)))))","v":""},"","","","","","","","","",0]
["2020-07-02","Lenk, Rolf",29,"","112211111213322212",null,18,0,"E","B",1,1,2,2,1,1,1,1,1,2,1,3,3,2,2,2,1,2,29,{"$f":"IF($I72=MID(AD$1,1,1),IF(ISBLANK($E72),\"\",VALUE(MID($E72,VALUE(MID(AD$1,2,LEN(AD$1)-1)),1))),IF($J72=MID(AD$1,1,1),IF(ISBLANK($F72),\"\",VALUE(MID($F72,VALUE(MID(AD$1,2,LEN(AD$1)-1)),1)))))","v":""},"","","","","","","","","","","","","","","","","",0]
["2020-07-02","Börgmann, Brigitte",41,"","142221712121252222",null,18,0,"E","B",1,4,2,2,2,1,7,1,2,1,2,1,2,5,2,2,2,2,41,"","","","","","","","","","","","","","","","","","",0]
["2020-07-02","Börgmann, Ulrich",33,"","172241111111212122",null,18,0,"E","B",1,7,2,2,4,1,1,1,1,1,1,1,2,1,2,{"$f":"IF($I74=MID(Z$1,1,1),IF(ISBLANK($E74),\"\",VALUE(MID($E74,VALUE(MID(Z$1,2,LEN(Z$1)-1)),1))),IF($J74=MID(Z$1,1,1),IF(ISBLANK($F74),\"\",VALUE(MID($F74,VALUE(MID(Z$1,2,LEN(Z$1)-1)),1)))))","v":1},2,2,33,"","","","","","","","","","","","","","","","","","",0]
["2020-07-02","Lehmann, Niclas",31,"","311222121111212422",null,18,0,"E","B",{"$f":"IF($I75=MID(K$1,1,1),IF(ISBLANK($E75),\"\",VALUE(MID($E75,VALUE(MID(K$1,2,LEN(K$1)-1)),1))),IF($J75=MID(K$1,1,1),IF(ISBLANK($F75),\"\",VALUE(MID($F75,VALUE(MID(K$1,2,LEN(K$1)-1)),1)))))","v":3},1,1,2,2,2,1,2,1,1,1,1,2,1,2,4,2,2,31,"","","","","","","","","","","","","","","","","","",0]
["2020-07-02","Schmidtbauer, Günter",39,"","221121112313723232",null,18,0,"E","B",2,2,1,1,2,1,1,1,2,3,1,3,7,2,3,2,3,2,39,"","","","","","","","","","","","","","","","","","",0]
["2020-07-02","Brunnenkant, Frank",43,"","242212222422162223",null,18,0,"E","B",2,4,2,2,1,2,2,2,2,4,2,2,1,6,2,2,2,3,43,"","","","","","","","","","","","","","","","","","",0]
["2020-07-02","Kunz, Martin",37,"","342212322211322212",null,18,0,"E","B",3,4,2,2,1,2,3,2,2,2,1,1,3,2,2,2,1,2,37,"","","","","","","","","","","","","","","","","","",0]
["2020-07-02","Hein, Hans-Jörg",31,"","313121111211142222",null,18,0,"E","B",3,1,3,1,2,1,1,1,1,2,1,1,1,4,2,2,2,2,31,"","","","","","","","","","","","","","","","","","",0]
["2020-07-09","Lenk, Rolf",33,36,"212112111234222321","232312122211212324",18,18,"E","B",2,1,2,1,1,2,1,1,1,2,3,4,2,2,2,3,2,1,33,2,3,2,3,1,2,1,2,2,2,1,1,2,1,2,3,2,4,36]
["2020-07-09","Lehmann, Niclas",26,39,"121211211111222122","222712222213122222",18,18,"E","B",1,2,1,2,1,1,2,1,1,1,1,1,2,2,2,1,2,2,26,2,2,2,7,1,2,2,2,2,2,1,3,1,2,2,2,2,2,39]
["2020-07-09","Schmidt, Barbara",46,48,"122231411252273323","232722214322224224",18,18,"E","B",1,2,2,2,3,1,4,1,1,2,5,2,2,7,3,3,2,3,46,2,3,2,7,2,2,2,1,4,3,2,2,2,2,4,2,2,4,48]
["2020-07-09","Kersch, Uwe",36,41,"212121122221342233","222512142211325222",18,18,"E","B",2,1,2,1,2,1,1,2,2,2,2,1,3,4,2,2,3,3,36,2,2,2,5,1,2,1,4,2,2,1,1,3,2,5,2,2,2,41]
["2020-07-09","Schmidtbauer, Günter",46,34,"112213712151442522","121221121212227221",18,18,"E","B",1,1,2,2,1,3,7,1,2,1,5,1,4,4,2,5,2,2,46,1,2,1,2,2,1,1,2,1,2,1,2,2,2,7,2,2,1,34]
["2020-07-09","Lieber, Nicole",27,33,"231221111111211312","222322122211222311",18,18,"E","B",2,3,1,2,2,1,1,1,1,1,1,1,2,1,1,3,1,2,27,2,2,2,3,2,2,1,2,{"$f":"IF($I85=MID(AL$1,1,1),IF(ISBLANK($E85),\"\",VALUE(MID($E85,VALUE(MID(AL$1,2,LEN(AL$1)-1)),1))),IF($J85=MID(AL$1,1,1),IF(ISBLANK($F85),\"\",VALUE(MID($F85,VALUE(MID(AL$1,2,LEN(AL$1)-1)),1)))))","v":2},2,1,1,2,2,2,3,1,1,33]
["2020-07-09","Puschner, Michael",30,35,"242111122211212221","122222223212124221",18,18,"E","B",2,4,2,1,1,1,1,2,2,2,1,1,2,1,2,2,2,1,30,{"$f":"IF($I86=MID(AD$1,1,1),IF(ISBLANK($E86),\"\",VALUE(MID($E86,VALUE(MID(AD$1,2,LEN(AD$1)-1)),1))),IF($J86=MID(AD$1,1,1),IF(ISBLANK($F86),\"\",VALUE(MID($F86,VALUE(MID(AD$1,2,LEN(AD$1)-1)),1)))))","v":1},2,2,2,2,2,2,2,3,2,1,2,1,2,4,2,2,1,35]
["2020-07-09","Rabe, Jonas",25,34,"212212121211211111","231322122122222221",18,18,"E","B",2,1,2,2,1,2,1,2,1,2,1,1,2,1,1,1,1,1,25,2,3,1,3,2,2,1,2,2,1,2,2,2,2,2,2,2,1,34]
["2020-07-09","Urban, Dominic",29,37,"111321112211222141","231212123222223223",18,18,"E","B",1,1,1,3,2,1,1,1,2,2,1,1,2,2,2,1,4,1,29,2,3,1,2,1,2,1,2,3,2,2,2,2,2,3,2,2,3,37]
["2020-07-09","Urban, Angela",37,40,"212212312216212232","232272122211223222",18,18,"E","B",2,1,2,2,1,2,3,1,2,2,1,6,2,1,2,2,3,2,37,2,3,2,2,7,2,1,2,2,2,1,1,2,2,3,2,2,2,40]
["2020-07-09","Urban, Volker",26,31,"111121112212112213","222212121211213222",18,18,"E","B",1,1,1,1,2,1,1,1,2,2,1,2,1,1,2,2,1,3,26,2,2,2,2,1,2,1,2,1,2,1,1,2,1,3,2,2,2,31]
["2020-07-09","Börgmann, Ulrich",36,35,"252117111111232113","122322122222222222",18,18,"E","B",{"$f":"IF($I91=MID(K$1,1,1),IF(ISBLANK($E91),\"\",VALUE(MID($E91,VALUE(MID(K$1,2,LEN(K$1)-1)),1))),IF($J91=MID(K$1,1,1),IF(ISBLANK($F91),\"\",VALUE(MID($F91,VALUE(MID(K$1,2,LEN(K$1)-1)),1)))))","v":2},5,2,1,1,7,1,1,1,1,1,1,2,3,2,1,1,3,36,1,2,2,3,2,2,1,2,2,2,2,2,2,2,2,2,2,2,35]
["2020-07-09","Börgmann, Brigitte",43,34,"132223512146212222","221322222211213222",18,18,"E","B",1,3,2,2,2,3,5,1,2,1,4,6,2,1,2,2,2,2,43,2,2,1,3,2,2,2,2,2,2,1,1,2,1,3,2,2,2,34]
["2020-07-09","Kortmann, Uwe",40,41,"272221112211342322","232312223212216223",18,18,"E","B",2,7,2,2,2,1,1,1,2,2,1,1,3,4,2,3,2,2,40,2,3,2,3,1,2,2,2,3,2,1,2,2,1,6,2,2,3,41]
["2020-07-09","Kortmann, Sabine",29,34,"111221112312112223","221122222112223322",18,18,"E","B",1,1,1,2,2,1,1,1,2,3,1,2,1,1,2,2,{"$f":"IF($I94=MID(AA$1,1,1),IF(ISBLANK($E94),\"\",VALUE(MID($E94,VALUE(MID(AA$1,2,LEN(AA$1)-1)),1))),IF($J94=MID(AA$1,1,1),IF(ISBLANK($F94),\"\",VALUE(MID($F94,VALUE(MID(AA$1,2,LEN(AA$1)-1)),1)))))","v":2},3,29,2,2,1,1,2,2,2,2,2,1,1,2,2,2,3,3,2,2,34]
["2020-07-09","Kunz, Martin",33,36,"231221211212233212","222221122213322223",18,18,"E","B",2,3,1,2,2,1,2,1,1,2,1,2,2,3,3,2,1,2,33,2,2,2,2,2,1,1,2,2,2,1,3,3,2,2,2,2,3,36]
["2020-07-16","Lenk, Rolf",35,40,"143221212211213412","211412215215232321",18,18,"E","B",1,4,3,2,2,1,2,1,2,2,1,1,2,1,3,4,1,2,35,2,1,1,4,1,2,2,1,5,2,1,5,2,3,2,3,2,1,40]
["2020-07-16","Rabe, Jonas",30,39,"112221311211232212","321332122312222413",18,18,"E","B",1,1,2,2,2,1,3,1,1,2,1,1,2,3,2,2,1,2,30,3,2,1,3,3,2,1,2,2,3,1,2,2,2,2,4,1,3,39]
["2020-07-16","Schmidtbauer, Günter",40,31,"222212411227322122","211132123211222221",18,18,"E","B",2,2,2,2,1,2,4,1,1,2,2,7,3,2,2,1,2,2,40,2,1,1,1,3,2,1,2,3,2,1,1,2,2,2,2,2,1,31]
["2020-07-16","Urban, Angela",38,32,"322242132211212323","222222111211332221",18,18,"E","B",3,2,2,2,4,2,1,3,2,2,1,1,2,1,2,3,2,3,38,2,2,2,2,2,2,1,1,{"$f":"IF($I99=MID(AL$1,1,1),IF(ISBLANK($E99),\"\",VALUE(MID($E99,VALUE(MID(AL$1,2,LEN(AL$1)-1)),1))),IF($J99=MID(AL$1,1,1),IF(ISBLANK($F99),\"\",VALUE(MID($F99,VALUE(MID(AL$1,2,LEN(AL$1)-1)),1)))))","v":1},2,1,1,3,3,2,2,2,1,32]
["2020-07-16","Urban, Dominic",24,32,"111111121212111312","221312113212222221",18,18,"E","B",1,1,1,1,1,1,1,2,1,2,1,2,1,1,1,3,1,2,24,{"$f":"IF($I100=MID(AD$1,1,1),IF(ISBLANK($E100),\"\",VALUE(MID($E100,VALUE(MID(AD$1,2,LEN(AD$1)-1)),1))),IF($J100=MID(AD$1,1,1),IF(ISBLANK($F100),\"\",VALUE(MID($F100,VALUE(MID(AD$1,2,LEN(AD$1)-1)),1)))))","v":2},2,1,3,1,2,1,1,3,2,1,2,2,2,2,2,2,1,32]
["2020-07-16","Urban, Volker",27,32,"132221111111231112","221222112221223221",18,18,"E","B",1,3,2,2,2,1,1,1,1,1,1,1,2,3,1,1,1,2,27,2,2,1,2,2,2,1,1,2,2,2,1,2,2,3,2,2,1,32]
["2020-07-16","Schmidt, Barbara",49,47,"232221422214357322","257233221122232251",18,18,"E","B",2,3,2,2,2,1,4,2,2,2,1,4,3,5,7,3,2,2,49,2,5,7,2,3,3,2,2,1,1,2,2,2,3,2,2,5,1,47]
["2020-07-16","Lieber, Nicole",27,36,"212111121121212222","225122221212222213",18,18,"E","B",2,1,2,1,1,1,1,2,1,1,2,1,2,1,2,2,2,2,27,2,2,5,1,2,2,2,2,1,2,1,2,2,2,2,2,1,3,36]
["2020-07-16","Scharpe, Sabine",38,35,"123211152212412215","122212125211222322",18,18,"E","B",1,2,3,2,1,1,1,5,2,2,1,2,4,1,2,2,1,5,38,1,2,2,2,1,2,1,2,5,2,1,1,2,2,2,3,2,2,35]
["2020-07-16","Puschner, Michael",28,34,"211212111211212322","232511122212212221",18,18,"E","B",2,1,1,2,1,2,1,1,1,2,1,1,2,1,2,3,2,2,28,2,3,2,5,1,1,1,2,2,2,1,2,2,1,2,2,2,1,34]
["2020-07-16","Battig, Wolfgang",28,34,"122212121111212312","132222123212222221",18,18,"E","B",1,2,2,2,1,2,1,2,1,1,1,1,2,1,2,3,1,2,28,1,3,2,2,2,2,1,2,3,2,1,2,2,2,2,2,2,1,34]
["2020-07-16","Kortmann, Uwe",37,33,"242221112211432322","221322122212222221",18,18,"E","B",{"$f":"IF($I107=MID(K$1,1,1),IF(ISBLANK($E107),\"\",VALUE(MID($E107,VALUE(MID(K$1,2,LEN(K$1)-1)),1))),IF($J107=MID(K$1,1,1),IF(ISBLANK($F107),\"\",VALUE(MID($F107,VALUE(MID(K$1,2,LEN(K$1)-1)),1)))))","v":2},4,2,2,2,1,1,1,2,2,1,1,4,3,2,3,2,2,37,2,2,1,3,2,2,1,2,2,2,1,2,2,2,2,2,2,1,33]
["2020-07-16","Kortmann, Sabine",32,39,"121232121113312222","232223223213222321",18,18,"E","B",1,2,1,2,3,2,1,2,1,1,1,3,3,1,2,2,2,2,32,2,3,2,2,2,3,2,2,3,2,1,3,2,2,2,3,2,1,39]
["2020-07-16","Börgmann, Brigitte",40,43,"323221122141223612","242622224112322312",18,18,"E","B",3,2,3,2,2,1,1,2,2,1,4,1,2,2,3,6,1,2,40,2,4,2,6,2,2,2,2,4,1,1,2,3,2,2,3,1,2,43]
["2020-07-16","Börgmann, Ulrich",36,35,"112234112222412123","222322132212222221",18,18,"E","B",1,1,2,2,3,4,1,1,2,2,2,2,4,1,2,1,2,3,36,2,2,2,3,2,2,1,3,2,2,1,2,2,2,2,2,2,1,35]
["2020-07-16","Hein, Hans-Jörg",34,43,"132211411212222322","233312222212224622",18,18,"E","B",1,3,2,2,1,1,4,1,1,2,1,2,2,2,2,3,2,2,34,2,3,3,3,1,2,2,2,2,2,1,2,2,2,4,6,2,2,43]
["2020-07-16","Kunz, Martin",29,33,"111231112212312221","133123222211221221",18,18,"E","B",1,1,1,2,3,1,1,1,2,2,1,2,3,1,2,2,2,1,29,1,3,3,1,2,3,2,2,2,2,1,1,2,2,1,2,2,1,33]
["2020-07-23","Börgmann, Brigitte",35,41,"212221132222412312","223222222213232315",18,18,"E","B",2,1,2,2,2,1,1,3,2,2,2,2,4,1,2,3,1,2,35,2,2,3,2,2,2,2,2,{"$f":"IF($I113=MID(AL$1,1,1),IF(ISBLANK($E113),\"\",VALUE(MID($E113,VALUE(MID(AL$1,2,LEN(AL$1)-1)),1))),IF($J113=MID(AL$1,1,1),IF(ISBLANK($F113),\"\",VALUE(MID($F113,VALUE(MID(AL$1,2,LEN(AL$1)-1)),1)))))","v":2},2,1,3,2,3,2,3,1,5,41]
["2020-07-23","Börgmann, Ulrich",32,37,"121214112221232122","122722122211223221",18,18,"E","B",1,2,1,2,1,4,1,1,2,2,2,1,2,3,2,1,{"$f":"IF($I114=MID(AA$1,1,1),IF(ISBLANK($E114),\"\",VALUE(MID($E114,VALUE(MID(AA$1,2,LEN(AA$1)-1)),1))),IF($J114=MID(AA$1,1,1),IF(ISBLANK($F114),\"\",VALUE(MID($F114,VALUE(MID(AA$1,2,LEN(AA$1)-1)),1)))))","v":2},2,32,{"$f":"IF($I114=MID(AD$1,1,1),IF(ISBLANK($E114),\"\",VALUE(MID($E114,VALUE(MID(AD$1,2,LEN(AD$1)-1)),1))),IF($J114=MID(AD$1,1,1),IF(ISBLANK($F114),\"\",VALUE(MID($F114,VALUE(MID(AD$1,2,LEN(AD$1)-1)),1)))))","v":1},2,2,7,2,2,1,2,2,2,1,1,2,2,3,2,2,1,37]
["2020-07-23","Lenk, Rolf",28,34,"311111112221113321","222212322212212321",18,18,"E","B",3,1,1,1,1,1,1,1,2,2,2,1,1,1,3,3,2,1,28,2,2,2,2,1,2,3,2,2,2,1,2,2,1,2,3,2,1,34]
["2020-07-23","Schmidtbauer, Günter",41,37,"153213212113112723","221232122232222331",18,18,"E","B",1,5,3,2,1,3,2,1,2,1,1,3,1,1,2,7,2,3,41,2,2,1,2,3,2,1,2,2,2,3,2,2,2,2,3,3,1,37]
["2020-07-23","Schmidt, Barbara",47,47,"141252221112662513","242723224212224312",18,18,"E","B",1,4,1,2,5,2,2,2,1,1,1,2,6,6,2,5,1,3,47,2,4,2,7,2,3,2,2,4,2,1,2,2,2,4,3,1,2,47]
["2020-07-23","Tabor, Peter",33,31,"132221111312312313","211512122111222221",18,18,"E","B",1,3,2,2,2,1,1,1,1,3,1,2,3,1,2,3,1,3,33,2,1,1,5,1,2,1,2,2,1,1,1,2,2,2,2,2,1,31]
["2020-07-23","Lieber, Nicole",32,30,"111211112213232413","221212122211123221",18,18,"E","B",1,1,1,2,1,1,1,1,2,2,1,3,2,3,2,4,1,3,32,2,2,1,2,1,2,1,2,2,2,1,1,1,2,3,2,2,1,30]
["2020-07-23","Puschner, Michael",27,34,"111231121212212112","211322242212122221",18,18,"E","B",1,1,1,2,3,1,1,2,1,2,1,2,2,1,2,1,1,2,27,2,1,1,3,2,2,2,4,2,2,1,2,1,2,2,2,2,1,34]
["2020-07-23","Battig, Wolfgang",23,30,"311111111221112111","112222112211123222",18,18,"E","B",3,1,1,1,1,1,1,1,1,2,2,1,1,1,2,1,1,1,23,1,1,2,2,2,2,1,1,2,2,1,1,1,2,3,2,2,2,30]
["2020-07-23","Kalhöfer, Anna",27,33,"212211111222112212","221222121211322223",18,18,"E","B",2,1,2,2,1,1,1,1,1,2,2,2,1,1,2,{"$f":"IF($I122=MID(Z$1,1,1),IF(ISBLANK($E122),\"\",VALUE(MID($E122,VALUE(MID(Z$1,2,LEN(Z$1)-1)),1))),IF($J122=MID(Z$1,1,1),IF(ISBLANK($F122),\"\",VALUE(MID($F122,VALUE(MID(Z$1,2,LEN(Z$1)-1)),1)))))","v":2},1,2,27,2,2,1,2,2,2,1,2,1,2,1,1,3,2,2,2,2,3,33]
["2020-07-23","Rabe, Jonas",36,34,"211122112111453413","212422122112223221",18,18,"E","B",{"$f":"IF($I123=MID(K$1,1,1),IF(ISBLANK($E123),\"\",VALUE(MID($E123,VALUE(MID(K$1,2,LEN(K$1)-1)),1))),IF($J123=MID(K$1,1,1),IF(ISBLANK($F123),\"\",VALUE(MID($F123,VALUE(MID(K$1,2,LEN(K$1)-1)),1)))))","v":2},1,1,1,2,2,1,1,2,1,1,1,4,5,3,4,1,3,36,2,1,2,4,2,2,1,2,2,1,1,2,2,2,3,2,2,1,34]
["2020-07-23","Urban, Angela",43,46,"122224112312772112","232222146122213335",18,18,"E","B",1,2,2,2,2,4,1,1,2,3,1,2,7,7,2,1,1,2,43,2,3,2,2,2,2,1,4,6,1,2,2,2,1,3,3,3,5,46]
["2020-07-23","Urban, Dominic",27,34,"221111112212232111","222223123211222221",18,18,"E","B",2,2,1,1,1,1,1,1,2,2,1,2,2,3,2,1,1,1,27,2,2,2,2,2,3,1,2,3,2,1,1,2,2,2,2,2,1,34]
["2020-07-23","Urban, Volker",27,32,"211211112212123121","221112125112222221",18,18,"E","B",2,1,1,2,1,1,1,1,2,2,1,2,1,2,3,1,2,1,27,2,2,1,1,1,2,1,2,5,1,1,2,2,2,2,2,2,1,32]
["2020-07-23","Kunz, Martin",39,33,"121112132215312344","221212122212222322",18,18,"E","B",1,2,1,1,1,2,1,3,2,2,1,5,3,1,2,3,4,4,39,2,2,1,2,1,2,1,2,{"$f":"IF($I127=MID(AL$1,1,1),IF(ISBLANK($E127),\"\",VALUE(MID($E127,VALUE(MID(AL$1,2,LEN(AL$1)-1)),1))),IF($J127=MID(AL$1,1,1),IF(ISBLANK($F127),\"\",VALUE(MID($F127,VALUE(MID(AL$1,2,LEN(AL$1)-1)),1)))))","v":2},2,1,2,2,2,2,3,2,2,33]
["2020-07-23","Kortmann, Sabine",{"$f":"IF(ISBLANK(E128),\"\",MID(E128,1,1)+MID(E128,2,1)+MID(E128,3,1)+MID(E128,4,1)+MID(E128,5,1)+MID(E128,6,1)+MID(E128,7,1)+MID(E128,8,1)+MID(E128,9,1)+MID(E128,10,1)+MID(E128,11,1)+MID(E128,12,1)+MID(E128,13,1)+MID(E128,14,1)+MID(E128,15,1)+MID(E128,16,1)+MID(E128,17,1)+MID(E128,18,1))","v":33},{"$f":"IF(ISBLANK(F128),\"\",MID(F128,1,1)+MID(F128,2,1)+MID(F128,3,1)+MID(F128,4,1)+MID(F128,5,1)+MID(F128,6,1)+MID(F128,7,1)+MID(F128,8,1)+MID(F128,9,1)+MID(F128,10,1)+MID(F128,11,1)+MID(F128,12,1)+MID(F128,13,1)+MID(F128,14,1)+MID(F128,15,1)+MID(F128,16,1)+MID(F128,17,1)+MID(F128,18,1))","v":34},"212213111112222522","222222222112212232",{"$f":"LEN(E128)","v":18},{"$f":"LEN(F128)","v":18},"E","B",2,1,2,2,1,3,1,1,1,1,1,2,2,2,2,5,2,2,33,{"$f":"IF($I128=MID(AD$1,1,1),IF(ISBLANK($E128),\"\",VALUE(MID($E128,VALUE(MID(AD$1,2,LEN(AD$1)-1)),1))),IF($J128=MID(AD$1,1,1),IF(ISBLANK($F128),\"\",VALUE(MID($F128,VALUE(MID(AD$1,2,LEN(AD$1)-1)),1)))))","v":2},2,2,2,2,2,2,2,2,1,1,2,2,1,2,2,3,2,34]
["2020-07-23","Kortmann, Uwe",40,38,"211225312212145312","221214212221223126",18,18,"E","B",2,1,1,2,2,5,3,1,2,2,1,2,1,4,5,3,1,2,40,2,2,1,2,1,4,2,1,2,2,2,1,2,2,3,1,2,6,38]
["2020-07-23","Greiffendorf, Hellmut",35,31,"153212122221412112","212311122112223221",18,18,"E","B",1,5,3,2,1,2,1,2,2,2,2,1,4,1,2,1,1,2,35,2,1,2,3,1,1,1,2,2,1,1,2,2,2,3,2,2,1,31]
["2020-07-30","Lieber, Nicole",31,35,"211211112111133621","221712113212212221",18,18,"E","B",2,1,1,2,1,1,1,1,2,1,1,1,1,3,3,6,2,1,{"$f":"IF(SUM(K131:AB131)>0,SUM(K131:AB131),0)","v":31},2,2,1,7,1,2,1,1,3,2,1,2,2,1,2,2,2,1,{"$f":"IF(SUM(AD131:AU131)>0,SUM(AD131:AU131),0)","v":35}]
["2020-07-30","Lenk, Rolf",34,34,"131131212223312114","124222122212222122",18,18,"E","B",1,3,1,1,3,1,2,1,2,2,2,3,3,1,2,1,1,4,34,1,2,4,2,2,2,1,2,2,2,1,2,2,2,2,1,2,2,34]
["2020-07-30","Schmidtbauer, Günter",36,51,"133211112213512421","232723226312225223",18,18,"E","B",1,3,3,2,1,1,1,1,2,2,1,3,5,1,2,4,2,1,36,2,3,2,7,2,3,2,2,6,3,1,2,2,2,5,2,2,3,51]
["2020-07-30","Rabe, Jonas",26,34,"121111112113112312","221222122212223321",18,18,"E","B",1,2,1,1,1,1,1,1,2,1,1,3,1,1,2,3,1,2,26,2,2,1,2,2,2,1,2,2,2,1,2,2,2,3,3,2,1,34]
["2020-07-30","Puschner, Michael",27,31,"131211111112212114","221222121212222221",18,18,"E","B",1,3,1,2,1,1,1,1,1,1,1,2,2,1,2,1,1,4,27,2,2,1,2,2,2,1,2,1,2,1,2,2,2,2,2,2,1,31]
["2020-07-30","Urban, Volker",30,32,"111213112112232213","221312123111222312",18,18,"E","B",1,1,1,2,1,3,1,1,2,1,1,2,2,3,2,2,1,3,30,2,2,1,3,1,2,1,2,3,1,1,1,2,2,2,3,1,2,32]
["2020-07-30","Battig, Wolfgang",23,33,"111121111111112321","222112122311223321",18,18,"E","B",1,1,1,1,2,1,1,1,1,1,1,1,1,1,2,3,2,1,23,2,2,2,1,1,2,1,2,2,3,1,1,2,2,3,3,2,1,33]
["2020-07-30","Kersch, Uwe",34,41,"161221112113223122","227612221213212221",18,18,"E","B",1,6,1,2,2,1,1,1,2,1,1,3,2,2,3,1,2,2,34,2,2,7,6,1,2,2,2,1,2,1,3,2,1,2,2,2,1,41]
["2020-07-30","Scharpe, Sabine",43,37,"171211212213242227","121322134211222332",18,18,"E","B",{"$f":"IF($I139=MID(K$1,1,1),IF(ISBLANK($E139),\"\",VALUE(MID($E139,VALUE(MID(K$1,2,LEN(K$1)-1)),1))),IF($J139=MID(K$1,1,1),IF(ISBLANK($F139),\"\",VALUE(MID($F139,VALUE(MID(K$1,2,LEN(K$1)-1)),1)))))","v":1},7,1,2,1,1,2,1,2,2,1,3,2,4,2,2,2,7,43,1,2,1,3,2,2,1,3,4,2,1,1,2,2,2,3,3,2,37]
["2020-07-30","Tabor, Peter",29,32,"112112211111122522","221314112211222221",18,18,"E","B",1,1,2,1,1,2,2,1,1,1,1,1,1,2,2,5,2,2,29,2,2,1,3,1,4,1,1,2,2,1,1,2,2,2,2,2,1,32]
["2020-07-30","Kalhöfer, Anna",29,35,"121123151111122211","222122222222222411",18,18,"E","B",1,2,1,1,2,3,1,5,1,1,1,1,1,2,2,2,1,1,29,2,2,2,1,2,2,2,2,{"$f":"IF($I141=MID(AL$1,1,1),IF(ISBLANK($E141),\"\",VALUE(MID($E141,VALUE(MID(AL$1,2,LEN(AL$1)-1)),1))),IF($J141=MID(AL$1,1,1),IF(ISBLANK($F141),\"\",VALUE(MID($F141,VALUE(MID(AL$1,2,LEN(AL$1)-1)),1)))))","v":2},2,2,2,2,2,2,4,1,1,35]
["2020-07-30","Börgmann, Brigitte",38,33,"162211221113422322","222422111212222221",18,18,"E","B",1,6,2,2,1,1,2,2,1,1,1,3,4,2,2,3,{"$f":"IF($I142=MID(AA$1,1,1),IF(ISBLANK($E142),\"\",VALUE(MID($E142,VALUE(MID(AA$1,2,LEN(AA$1)-1)),1))),IF($J142=MID(AA$1,1,1),IF(ISBLANK($F142),\"\",VALUE(MID($F142,VALUE(MID(AA$1,2,LEN(AA$1)-1)),1)))))","v":2},2,38,{"$f":"IF($I142=MID(AD$1,1,1),IF(ISBLANK($E142),\"\",VALUE(MID($E142,VALUE(MID(AD$1,2,LEN(AD$1)-1)),1))),IF($J142=MID(AD$1,1,1),IF(ISBLANK($F142),\"\",VALUE(MID($F142,VALUE(MID(AD$1,2,LEN(AD$1)-1)),1)))))","v":2},2,2,4,2,2,1,1,1,2,1,2,2,2,2,2,2,1,33]
["2020-07-30","Börgmann, Ulrich",36,33,"112211122221272412","123222123211222221",18,18,"E","B",1,1,2,2,1,1,1,2,2,2,2,1,2,7,2,4,1,2,36,1,2,3,2,2,2,1,2,3,2,1,1,2,2,2,2,2,1,33]
["2020-07-30","Buchholz, Ansgar",33,28,"231214122212221221","211212122111222221",18,18,"E","B",2,3,1,2,1,4,1,2,2,2,1,2,2,2,1,2,2,1,33,2,1,1,2,1,2,1,2,2,1,1,1,2,2,2,2,2,1,28]
["2020-07-30","Kunz, Martin",35,30,"121222112222413223","112222122211213221",18,18,"E","B",1,2,1,2,2,2,1,1,2,2,2,2,4,1,3,2,2,3,35,1,1,2,2,2,2,1,2,2,2,1,1,2,1,3,2,2,1,30]
["2020-07-30","Hein, Hans-Jörg",33,32,"141211511212122222","211322132212212311",18,18,"E","B",1,4,1,2,1,1,5,1,1,2,1,2,1,2,2,2,2,2,33,2,1,1,3,2,2,1,3,2,2,1,2,2,1,2,3,1,1,32]
["2020-07-30","Kortmann, Sabine",34,31,"112221212213132512","221222122212212221",18,18,"E","B",1,1,2,2,2,1,2,1,2,2,1,3,1,3,2,5,1,2,34,2,2,1,2,2,2,1,2,2,2,1,2,2,1,2,2,2,1,31]
["2020-07-30","Kortmann, Uwe",32,35,"111111112213113614","212522122212222221",18,18,"E","B",1,1,1,1,1,1,1,1,2,2,1,3,1,1,3,6,1,4,32,2,1,2,5,2,2,1,2,2,2,1,2,2,2,2,2,2,1,35]
["2020-07-30","Greiffendorf, Hellmut",34,32,"131211311221132432","113412232211112221",18,18,"E","B",1,3,1,2,1,1,3,1,1,2,2,1,1,3,2,4,3,2,34,1,1,3,4,1,2,2,3,2,2,1,1,1,1,2,2,2,1,32]
["2020-07-30","Battling, Hendrik",23,29,"111211112111111222","123212121211222211",18,18,"E","B",1,1,1,2,1,1,1,1,2,1,1,1,1,1,1,2,2,2,23,1,2,3,2,1,2,1,2,1,2,1,1,2,2,2,2,1,1,29]
["2020-07-30","Rade, Marcus",24,30,"111111121212222111","221312122211222211",18,18,"E","B",1,1,1,1,1,1,1,2,1,2,1,2,2,2,2,1,1,1,24,2,2,1,3,1,2,1,2,2,2,1,1,2,2,2,2,1,1,30]
["2020-08-06","Battig, Wolfgang",23,33,"111211111111112411","122322122212222221",18,18,"E","B",1,1,1,2,1,1,1,1,1,1,1,1,1,1,2,4,1,1,23,1,2,2,3,2,2,1,2,2,2,1,2,2,2,2,2,2,1,33]
["2020-08-06","Lenk, Rolf",28,30,"211112111251212112","121242122111222211",18,18,"E","B",2,1,1,1,1,2,1,1,1,2,5,1,2,1,2,1,1,2,28,1,2,1,2,4,2,1,2,2,1,1,1,2,2,2,2,1,1,30]
["2020-08-06","Tabor, Peter",37,34,"112222112213126422","211213122212322331",18,18,"E","B",1,1,2,2,2,2,1,1,2,2,1,3,1,2,6,4,2,2,37,2,1,1,2,1,3,1,2,2,2,1,2,3,2,2,3,3,1,34]
["2020-08-06","Kersch, Uwe",39,35,"122111141111552226","222221141212123223",18,18,"E","B",{"$f":"IF($I155=MID(K$1,1,1),IF(ISBLANK($E155),\"\",VALUE(MID($E155,VALUE(MID(K$1,2,LEN(K$1)-1)),1))),IF($J155=MID(K$1,1,1),IF(ISBLANK($F155),\"\",VALUE(MID($F155,VALUE(MID(K$1,2,LEN(K$1)-1)),1)))))","v":1},2,2,1,1,1,1,4,1,1,1,1,5,5,2,2,2,6,39,2,2,2,2,2,1,1,4,{"$f":"IF($I155=MID(AL$1,1,1),IF(ISBLANK($E155),\"\",VALUE(MID($E155,VALUE(MID(AL$1,2,LEN(AL$1)-1)),1))),IF($J155=MID(AL$1,1,1),IF(ISBLANK($F155),\"\",VALUE(MID($F155,VALUE(MID(AL$1,2,LEN(AL$1)-1)),1)))))","v":1},2,1,2,1,2,3,2,2,3,35]
["2020-08-06","Hein, Hans-Jörg",29,38,"112211111111223323","224213115212222222",18,18,"E","B",1,1,2,2,1,1,1,1,1,1,1,1,2,2,3,3,2,3,29,{"$f":"IF($I156=MID(AD$1,1,1),IF(ISBLANK($E156),\"\",VALUE(MID($E156,VALUE(MID(AD$1,2,LEN(AD$1)-1)),1))),IF($J156=MID(AD$1,1,1),IF(ISBLANK($F156),\"\",VALUE(MID($F156,VALUE(MID(AD$1,2,LEN(AD$1)-1)),1)))))","v":2},2,4,2,1,3,1,1,5,2,1,2,2,2,2,2,2,2,38]
["2020-08-06","Urban, Angela",35,39,"212341111215112214","222623122213222221",18,18,"E","B",2,1,2,3,4,1,1,1,1,2,1,5,1,1,2,2,1,4,35,2,2,2,6,2,3,1,2,2,2,1,3,2,2,2,2,2,1,39]
["2020-08-06","Urban, Volker",30,30,"132211112111142222","222222122111212221",18,18,"E","B",1,3,2,2,1,1,1,1,2,1,1,1,1,4,2,2,2,2,30,2,2,2,2,2,2,1,2,2,1,1,1,2,1,2,2,2,1,30]
["2020-08-06","Hoffmann, Thomas",55,55,"271237712461212214","223627143224222227",18,18,"E","B",2,7,1,2,3,7,7,1,2,4,6,1,2,1,2,2,1,4,55,2,2,3,6,2,7,1,4,3,2,2,4,2,2,2,2,2,7,55]
["2020-08-06","Börgmann, Brigitte",32,35,"122123211211332212","222222224112222221",18,18,"E","B",1,2,2,1,2,3,2,1,1,2,1,1,3,3,2,2,1,2,32,2,2,2,2,2,2,2,2,4,1,1,2,2,2,2,2,2,1,35]
["2020-08-06","Börgmann, Ulrich",31,39,"112212151221122212","221322122112224325",18,18,"E","B",1,1,2,2,1,2,1,5,1,2,2,1,1,2,2,2,1,2,31,2,2,1,3,2,2,1,2,2,1,1,2,2,2,4,3,2,5,39]
["2020-08-06","Kalhöfer, Anna",34,36,"111113212212443212","222612121213222221",18,18,"E","B",1,1,1,1,1,3,2,1,2,2,1,2,4,4,3,2,{"$f":"IF($I162=MID(AA$1,1,1),IF(ISBLANK($E162),\"\",VALUE(MID($E162,VALUE(MID(AA$1,2,LEN(AA$1)-1)),1))),IF($J162=MID(AA$1,1,1),IF(ISBLANK($F162),\"\",VALUE(MID($F162,VALUE(MID(AA$1,2,LEN(AA$1)-1)),1)))))","v":1},2,34,2,2,2,6,1,2,1,2,1,2,1,3,2,2,2,2,2,1,36]
["2020-08-06","Kunz, Martin",35,35,"231211431213212222","121222222211325221",18,18,"E","B",2,3,1,2,1,1,4,3,1,2,1,3,2,1,2,2,2,2,35,1,2,1,2,2,2,2,2,2,2,1,1,3,2,5,2,2,1,35]
["2020-08-06","Lieber, Nicole",27,28,"312221111112112221","211212121212222211",18,18,"E","B",3,1,2,2,2,1,1,1,1,1,1,2,1,1,2,2,2,1,27,2,1,1,2,1,2,1,2,1,2,1,2,2,2,2,2,1,1,28]
["2020-08-06","Schmidtbauer, Günter",48,43,"162217132215212721","222442121211224227",18,18,"E","B",1,6,2,2,1,7,1,3,2,2,1,5,2,1,2,7,2,1,48,2,2,2,4,4,2,1,2,1,2,1,1,2,2,4,2,2,7,43]
["2020-08-06","Buchholz, Ansgar",31,33,"311241122211212221","231212113213222221",18,18,"E","B",3,1,1,2,4,1,1,2,2,2,1,1,2,1,2,2,2,1,31,2,3,1,2,1,2,1,1,3,2,1,3,2,2,2,2,2,1,33]
["2020-08-13","Lenk, Rolf",32,35,"111222112111245221","221212132411222421",18,18,"E","B",1,1,1,2,2,2,1,1,2,1,1,1,2,4,5,2,2,1,32,2,2,1,2,1,2,1,3,2,4,1,1,2,2,2,4,2,1,35]
["2020-08-13","Battig, Wolfgang",26,31,"212212111111112411","121212222212222212",18,18,"E","B",2,1,2,2,1,2,1,1,1,1,1,1,1,1,2,4,1,1,26,1,2,1,2,1,2,2,2,2,2,1,2,2,2,2,2,1,2,31]
["2020-08-13","Rabe, Jonas",30,36,"222211111211152122","222122113212324321",18,18,"E","B",2,2,2,2,1,1,1,1,1,2,1,1,1,5,2,1,2,2,30,2,2,2,1,2,2,1,1,{"$f":"IF($I169=MID(AL$1,1,1),IF(ISBLANK($E169),\"\",VALUE(MID($E169,VALUE(MID(AL$1,2,LEN(AL$1)-1)),1))),IF($J169=MID(AL$1,1,1),IF(ISBLANK($F169),\"\",VALUE(MID($F169,VALUE(MID(AL$1,2,LEN(AL$1)-1)),1)))))","v":3},2,1,2,3,2,4,3,2,1,36]
["2020-08-13","Lieber, Nicole",34,35,"321211111213162123","221312122211224232",18,18,"E","B",3,2,1,2,1,1,1,1,1,2,1,3,1,6,2,{"$f":"IF($I170=MID(Z$1,1,1),IF(ISBLANK($E170),\"\",VALUE(MID($E170,VALUE(MID(Z$1,2,LEN(Z$1)-1)),1))),IF($J170=MID(Z$1,1,1),IF(ISBLANK($F170),\"\",VALUE(MID($F170,VALUE(MID(Z$1,2,LEN(Z$1)-1)),1)))))","v":1},2,3,34,{"$f":"IF($I170=MID(AD$1,1,1),IF(ISBLANK($E170),\"\",VALUE(MID($E170,VALUE(MID(AD$1,2,LEN(AD$1)-1)),1))),IF($J170=MID(AD$1,1,1),IF(ISBLANK($F170),\"\",VALUE(MID($F170,VALUE(MID(AD$1,2,LEN(AD$1)-1)),1)))))","v":2},2,1,3,1,2,1,2,2,2,1,1,2,2,4,2,3,2,35]
["2020-08-13","Schmidt, Barbara",43,44,"161111512252142512","132722223212242322",18,18,"E","B",{"$f":"IF($I171=MID(K$1,1,1),IF(ISBLANK($E171),\"\",VALUE(MID($E171,VALUE(MID(K$1,2,LEN(K$1)-1)),1))),IF($J171=MID(K$1,1,1),IF(ISBLANK($F171),\"\",VALUE(MID($F171,VALUE(MID(K$1,2,LEN(K$1)-1)),1)))))","v":1},6,1,1,1,1,5,1,2,2,5,2,1,4,2,5,1,2,43,1,3,2,7,2,2,2,2,3,2,1,2,2,4,2,3,2,2,44]
["2020-08-13","Tabor, Peter",32,39,"123211122111512123","212222122111227423",18,18,"E","B",1,2,3,2,1,1,1,2,2,1,1,1,5,1,2,1,2,3,32,2,1,2,2,2,2,1,2,2,1,1,1,2,2,7,4,2,3,39]
["2020-08-13","Hickert, Peter",33,34,"222111122213233131","222222123212123221",18,18,"E","B",2,2,2,1,1,1,1,2,2,2,1,3,2,3,3,1,3,1,33,2,2,2,2,2,2,1,2,3,2,1,2,1,2,3,2,2,1,34]
["2020-08-13","Brunnenkant, Frank",34,35,"221222122221132412","223222121212232222",18,18,"E","B",2,2,1,2,2,2,1,2,2,2,2,1,1,3,2,4,1,2,34,2,2,3,2,2,2,1,2,1,2,1,2,2,3,2,2,2,2,35]
["2020-08-13","Kortmann, Uwe",35,36,"222131112113232233","221412134211222222",18,18,"E","B",2,2,2,1,3,1,1,1,2,1,1,3,2,3,2,2,3,3,35,2,2,1,4,1,2,1,3,4,2,1,1,2,2,2,2,2,2,36]
["2020-08-13","Kortmann, Sabine",30,36,"211211122211322411","241222132212222321",18,18,"E","B",2,1,1,2,1,1,1,2,2,2,1,1,3,2,2,4,1,1,30,2,4,1,2,2,2,1,3,2,2,1,2,2,2,2,3,2,1,36]
["2020-08-13","Urban, Volker",26,33,"112211111211141122","221322122211123231",18,18,"E","B",1,1,2,2,1,1,1,1,1,2,1,1,1,4,1,1,2,2,26,2,2,1,3,2,2,1,2,2,2,1,1,1,2,3,2,3,1,33]
["2020-08-13","Kersch, Uwe",35,42,"311211132221242223","322423222213222422",18,18,"E","B",3,1,1,2,1,1,1,3,2,2,2,1,2,4,2,2,2,3,35,3,2,2,4,2,3,2,2,2,2,1,3,2,2,2,4,2,2,42]
["2020-08-13","Kunz, Martin",30,37,"121322112221212212","222322122213122521",18,18,"E","B",1,2,1,3,2,2,1,1,2,2,2,1,2,1,2,2,1,2,30,2,2,2,3,2,2,1,2,2,2,1,3,1,2,2,5,2,1,37]
["2020-08-13","Greiffendorf, Hellmut",29,34,"211213121111321312","232322112211224211",18,18,"E","B",2,1,1,2,1,3,1,2,1,1,1,1,3,2,1,3,1,2,29,2,3,2,3,2,2,1,1,2,2,1,1,2,2,4,2,1,1,34]
["2020-08-13","Kalhöfer, Anna",33,38,"321221111213212422","231332112212232323",18,18,"E","B",3,2,1,2,2,1,1,1,1,2,1,3,2,1,2,4,2,2,33,2,3,1,3,3,2,1,1,2,2,1,2,2,3,2,3,2,3,38]
["2020-08-20","Kunz, Martin",33,31,"261122111211232212","131322122111222221",18,18,"E","B",2,6,1,1,2,2,1,1,1,2,1,1,2,3,2,2,1,2,33,1,3,1,3,2,2,1,2,2,1,1,1,2,2,2,2,2,1,31]
["2020-08-20","Greiffendorf, Hellmut",26,33,"111211112111241212","211132122211322421",18,18,"E","B",1,1,1,2,1,1,1,1,2,1,1,1,2,4,1,2,1,2,26,2,1,1,1,3,2,1,2,{"$f":"IF($I183=MID(AL$1,1,1),IF(ISBLANK($E183),\"\",VALUE(MID($E183,VALUE(MID(AL$1,2,LEN(AL$1)-1)),1))),IF($J183=MID(AL$1,1,1),IF(ISBLANK($F183),\"\",VALUE(MID($F183,VALUE(MID(AL$1,2,LEN(AL$1)-1)),1)))))","v":2},2,1,1,3,2,2,4,2,1,33]
["2020-08-20","Tabor, Peter",35,38,"142233221111322212","322412122111224422",18,18,"E","B",1,4,2,2,3,3,2,2,1,1,1,1,3,2,2,2,1,2,35,{"$f":"IF($I184=MID(AD$1,1,1),IF(ISBLANK($E184),\"\",VALUE(MID($E184,VALUE(MID(AD$1,2,LEN(AD$1)-1)),1))),IF($J184=MID(AD$1,1,1),IF(ISBLANK($F184),\"\",VALUE(MID($F184,VALUE(MID(AD$1,2,LEN(AD$1)-1)),1)))))","v":3},2,2,4,1,2,1,2,2,1,1,1,2,2,4,4,2,2,38]
["2020-08-20","Hettrich, Willi",26,28,"122121111213211211","211122122211222112",18,18,"E","B",1,2,2,1,2,1,1,1,1,2,1,3,2,1,1,2,1,1,26,2,1,1,1,2,2,1,2,2,2,1,1,2,2,2,1,1,2,28]
["2020-08-20","Lieber, Nicole",28,35,"221221111221412111","221322122212222232",18,18,"E","B",2,2,1,2,2,1,1,1,1,2,2,1,4,1,2,1,1,1,28,2,2,1,3,2,2,1,2,2,2,1,2,2,2,2,2,3,2,35]
["2020-08-20","Kortmann, Uwe",32,40,"112321112211244121","242432222221222222",18,18,"E","B",{"$f":"IF($I187=MID(K$1,1,1),IF(ISBLANK($E187),\"\",VALUE(MID($E187,VALUE(MID(K$1,2,LEN(K$1)-1)),1))),IF($J187=MID(K$1,1,1),IF(ISBLANK($F187),\"\",VALUE(MID($F187,VALUE(MID(K$1,2,LEN(K$1)-1)),1)))))","v":1},1,2,3,2,1,1,1,2,2,1,1,2,4,4,1,2,1,32,2,4,2,4,3,2,2,2,2,2,2,1,2,2,2,2,2,2,40]
["2020-08-20","Kortmann, Sabine",33,39,"121112122231112721","242522321212222221",18,18,"E","B",1,2,1,1,1,2,1,2,2,2,3,1,1,1,2,7,2,1,33,2,4,2,5,2,2,3,2,1,2,1,2,2,2,2,2,2,1,39]
["2020-08-20","Battig, Wolfgang",22,29,"111111112111112212","131122122211212221",18,18,"E","B",1,1,1,1,1,1,1,1,2,1,1,1,1,1,2,2,1,2,22,1,3,1,1,2,2,1,2,2,2,1,1,2,1,2,2,2,1,29]
["2020-08-20","Puschner, Michael",28,30,"112211112114112213","121222122112222221",18,18,"E","B",1,1,2,2,1,1,1,1,2,1,1,4,1,1,2,2,{"$f":"IF($I190=MID(AA$1,1,1),IF(ISBLANK($E190),\"\",VALUE(MID($E190,VALUE(MID(AA$1,2,LEN(AA$1)-1)),1))),IF($J190=MID(AA$1,1,1),IF(ISBLANK($F190),\"\",VALUE(MID($F190,VALUE(MID(AA$1,2,LEN(AA$1)-1)),1)))))","v":1},3,28,1,2,1,2,2,2,1,2,2,1,1,2,2,2,2,2,2,1,30]
["2020-08-20","Urban, Angela",34,43,"112231111132442122","211372133221222225",18,18,"E","B",1,1,2,2,3,1,1,1,1,1,3,2,4,4,2,1,2,2,34,2,1,1,3,7,2,1,3,3,2,2,1,2,2,2,2,2,5,43]
["2020-08-20","Rabe, Jonas",{"$f":"IF(ISBLANK(E192),\"\",MID(E192,1,1)+MID(E192,2,1)+MID(E192,3,1)+MID(E192,4,1)+MID(E192,5,1)+MID(E192,6,1)+MID(E192,7,1)+MID(E192,8,1)+MID(E192,9,1)+MID(E192,10,1)+MID(E192,11,1)+MID(E192,12,1)+MID(E192,13,1)+MID(E192,14,1)+MID(E192,15,1)+MID(E192,16,1)+MID(E192,17,1)+MID(E192,18,1))","v":32},{"$f":"IF(ISBLANK(F192),\"\",MID(F192,1,1)+MID(F192,2,1)+MID(F192,3,1)+MID(F192,4,1)+MID(F192,5,1)+MID(F192,6,1)+MID(F192,7,1)+MID(F192,8,1)+MID(F192,9,1)+MID(F192,10,1)+MID(F192,11,1)+MID(F192,12,1)+MID(F192,13,1)+MID(F192,14,1)+MID(F192,15,1)+MID(F192,16,1)+MID(F192,17,1)+MID(F192,18,1))","v":34},"212113112142112322","121123322212222231",{"$f":"LEN(E192)","v":18},{"$f":"LEN(F192)","v":18},"E","B",2,1,2,1,1,3,1,1,2,1,4,2,1,1,2,3,2,2,32,1,2,1,1,2,3,3,2,2,2,1,2,2,2,2,2,3,1,34]
["2020-08-20","Hein, Hans-Jörg",22,34,"111211311111112111","224212123112212222",18,18,"E","B",1,1,1,2,1,1,3,1,1,1,1,1,1,1,2,1,1,1,22,2,2,4,2,1,2,1,2,3,1,1,2,2,1,2,2,2,2,34]
["2020-08-20","Urban, Volker",26,32,"111111111111222611","231222121211212331",18,18,"E","B",1,1,1,1,1,1,1,1,1,1,1,1,2,2,2,6,1,1,26,2,3,1,2,2,2,1,2,1,2,1,1,2,1,2,3,3,1,32]
["2020-08-27","Schmidtbauer, Günter",35,50,"122223112143212222","233122153211233727",18,18,"E","B",1,2,2,2,2,3,1,1,2,1,4,3,2,1,2,2,2,2,{"$f":"IF(SUM(K195:AB195)>0,SUM(K195:AB195),0)","v":35},2,3,3,1,2,2,1,5,3,2,1,1,2,3,3,7,2,7,{"$f":"IF(SUM(AD195:AU195)>0,SUM(AD195:AU195),0)","v":50}]
["2020-08-27","Kunz, Martin",29,37,"141121131112212212","222112223212122325",18,18,"E","B",1,4,1,1,2,1,1,3,1,1,1,2,2,1,2,2,1,2,29,2,2,2,1,1,2,2,2,3,2,1,2,1,2,2,3,2,5,37]
["2020-08-27","Börgmann, Brigitte",37,38,"142122131214213322","222222232212222323",18,18,"E","B",1,4,2,1,2,2,1,3,1,2,1,4,2,1,3,3,2,2,37,2,2,2,2,2,2,2,3,{"$f":"IF($I197=MID(AL$1,1,1),IF(ISBLANK($E197),\"\",VALUE(MID($E197,VALUE(MID(AL$1,2,LEN(AL$1)-1)),1))),IF($J197=MID(AL$1,1,1),IF(ISBLANK($F197),\"\",VALUE(MID($F197,VALUE(MID(AL$1,2,LEN(AL$1)-1)),1)))))","v":2},2,1,2,2,2,2,3,2,3,38]
["2020-08-27","Börgmann, Ulrich",29,33,"112213112211312221","112222323211222221",18,18,"E","B",1,1,2,2,1,3,1,1,2,2,1,1,3,1,2,2,2,1,29,{"$f":"IF($I198=MID(AD$1,1,1),IF(ISBLANK($E198),\"\",VALUE(MID($E198,VALUE(MID(AD$1,2,LEN(AD$1)-1)),1))),IF($J198=MID(AD$1,1,1),IF(ISBLANK($F198),\"\",VALUE(MID($F198,VALUE(MID(AD$1,2,LEN(AD$1)-1)),1)))))","v":1},1,2,2,2,2,3,2,3,2,1,1,2,2,2,2,2,1,33]
["2020-08-27","Urban, Volker",23,32,"112121112211111121","241112122211212421",18,18,"E","B",1,1,2,1,2,1,1,1,2,2,1,1,1,1,1,1,2,1,23,2,4,1,1,1,2,1,2,2,2,1,1,2,1,2,4,2,1,32]
["2020-08-27","Rabe, Jonas",29,35,"132122122111232111","222222123212322212",18,18,"E","B",1,3,2,1,2,2,1,2,2,1,1,1,2,3,2,1,1,1,29,2,2,2,2,2,2,1,2,3,2,1,2,3,2,2,2,1,2,35]
["2020-08-27","Lenk, Rolf",38,33,"341221212111325124","223211121312232221",18,18,"E","B",3,4,1,2,2,1,2,1,2,1,1,1,3,2,5,1,2,4,38,2,2,3,2,1,1,1,2,1,3,1,2,2,3,2,2,2,1,33]
["2020-08-27","Greiffendorf, Hellmut",27,34,"111211112121152211","132322122212222221",18,18,"E","B",1,1,1,2,1,1,1,1,2,1,2,1,1,5,2,2,1,1,27,1,3,2,3,2,2,1,2,2,2,1,2,2,2,2,2,2,1,34]
["2020-08-27","Lieber, Nicole",33,35,"121211422211412123","212223122412222221",18,18,"E","B",{"$f":"IF($I203=MID(K$1,1,1),IF(ISBLANK($E203),\"\",VALUE(MID($E203,VALUE(MID(K$1,2,LEN(K$1)-1)),1))),IF($J203=MID(K$1,1,1),IF(ISBLANK($F203),\"\",VALUE(MID($F203,VALUE(MID(K$1,2,LEN(K$1)-1)),1)))))","v":1},2,1,2,1,1,4,2,2,2,1,1,4,1,2,1,2,3,33,2,1,2,2,2,3,1,2,2,4,1,2,2,2,2,2,2,1,35]
["2020-08-27","Puschner, Michael",24,32,"112211112111112113","221212122212232221",18,18,"E","B",1,1,2,2,1,1,1,1,2,1,1,1,1,1,2,1,1,3,24,2,2,1,2,1,2,1,2,2,2,1,2,2,3,2,2,2,1,32]
["2020-08-27","Schmidt, Barbara",39,34,"171111112213432521","222222222212221222",18,18,"E","B",1,7,1,1,1,1,1,1,2,2,1,3,4,3,2,5,2,1,39,2,2,2,2,2,2,2,2,2,2,1,2,2,2,1,2,2,2,34]
["2020-08-27","Tabor, Peter",27,34,"112211211221212311","121422132211122421",18,18,"E","B",1,1,2,2,1,1,2,1,1,2,2,1,2,1,2,3,1,1,27,1,2,1,4,2,2,1,3,2,2,1,1,1,2,2,4,2,1,34]
["2020-08-27","Hein, Hans-Jörg",24,33,"111111211111212411","121412112312214212",18,18,"E","B",1,1,1,1,1,1,2,1,1,1,1,1,2,1,2,4,1,1,24,1,2,1,4,1,2,1,1,2,3,1,2,2,1,4,2,1,2,33]
["2020-08-27","Brunnenkant, Frank",32,37,"111113131211232521","252222122211222331",18,18,"E","B",1,1,1,1,1,3,1,3,1,2,1,1,2,3,2,5,2,1,32,2,5,2,2,2,2,1,2,2,2,1,1,2,2,2,3,3,1,37]

{"sheet":"Statistik","index":23,"n_rows":25,"n_cols":13,"rows_kept":25,"cut":false,"hidden":false,"merged":[[0,0,0,5],[0,7,0,12]]}
["Battig, Wolfgang",null,null,null,null,null,null,"Urban, Volker"]
[]
[null,null,null,null,"Eternit","Beton",null,null,null,null,null,"Eternit","Beton"]
[null,"Runden",null,null,{"$f":"COUNTIF(E8:E25,\">0\")","v":10},{"$f":"COUNTIF(F8:F25,\">0\")","v":9},null,null,"Runden",null,null,{"$f":"COUNTIF(L8:L25,\">0\")","v":11},{"$f":"COUNTIF(M8:M25,\">0\")","v":11}]
[null,"Schnitt",null,null,{"$f":"IF(E4>0,SUM(E8:E25)/E4,\"\")","v":24.8},{"$f":"IF(E4>0,SUM(F8:F25)/F4,\"\")","v":32.111111111111114},null,null,"Schnitt",null,null,{"$f":"IF(L4>0,SUM(L8:L25)/L4,\"\")","v":26.818181818181817},{"$f":"IF(L4>0,SUM(M8:M25)/M4,\"\")","v":31.636363636363637}]
[]
["Spieltag","Datum","R1","R2","Eternit","Beton",null,"Spieltag","Datum","R1","R2","Eternit","Beton"]
[null,{"$f":"Gesamtstand!$F$2","v":"2020-05-07"},{"$f":"Einzelwertung1!F57","v":"E"},{"$f":"Einzelwertung1!F58","v":"B"},{"$f":"SUMIF(Einzelwertung1!$A$3:$A$99,$A$1,IF($C8=\"E\",Einzelwertung1!$B$3:$B$99,Einzelwertung1!$C$3:$C$99))","v":0},{"$f":"SUMIF(Einzelwertung1!$A$3:$A$99,$A$1,IF($C8=\"B\",Einzelwertung1!$B$3:$B$99,Einzelwertung1!$C$3:$C$99))","v":0},null,null,{"$f":"Gesamtstand!$F$2","v":"2020-05-07"},{"$f":"Einzelwertung1!F57","v":"E"},{"$f":"Einzelwertung1!F58","v":"B"},{"$f":"SUMIF(Einzelwertung1!$A$3:$A$99,$H$1,IF($J8=\"E\",Einzelwertung1!$B$3:$B$99,Einzelwertung1!$C$3:$C$99))","v":0},{"$f":"SUMIF(Einzelwertung1!$A$3:$A$99,$H$1,IF($J8=\"B\",Einzelwertung1!$B$3:$B$99,Einzelwertung1!$C$3:$C$99))","v":0}]
[null,{"$f":"Gesamtstand!$G$2","v":"2020-05-14"},{"$f":"Einzelwertung2!F57","v":"E"},{"$f":"Einzelwertung2!F58","v":"B"},{"$f":"SUMIF(Einzelwertung2!$A$3:$A$99,$A$1,IF($C9=\"E\",Einzelwertung2!$B$3:$B$99,Einzelwertung2!$C$3:$C$99))","v":0},{"$f":"SUMIF(Einzelwertung2!$A$3:$A$99,$A$1,IF($C9=\"B\",Einzelwertung2!$B$3:$B$99,Einzelwertung2!$C$3:$C$99))","v":0},null,null,{"$f":"Gesamtstand!$G$2","v":"2020-05-14"},{"$f":"Einzelwertung2!F57","v":"E"},{"$f":"Einzelwertung2!F58","v":"B"},{"$f":"SUMIF(Einzelwertung2!$A$3:$A$99,$H$1,IF($J9=\"E\",Einzelwertung2!$B$3:$B$99,Einzelwertung2!$C$3:$C$99))","v":0},{"$f":"SUMIF(Einzelwertung2!$A$3:$A$99,$H$1,IF($J9=\"B\",Einzelwertung2!$B$3:$B$99,Einzelwertung2!$C$3:$C$99))","v":0}]
[null,{"$f":"Gesamtstand!$H$2","v":"2020-05-20"},{"$f":"Einzelwertung3!F57","v":"E"},{"$f":"Einzelwertung3!F58","v":"B"},{"$f":"SUMIF(Einzelwertung3!$A$3:$A$99,$A$1,IF($C10=\"E\",Einzelwertung3!$B$3:$B$99,Einzelwertung3!$C$3:$C$99))","v":0},{"$f":"SUMIF(Einzelwertung3!$A$3:$A$99,$A$1,IF($C10=\"B\",Einzelwertung3!$B$3:$B$99,Einzelwertung3!$C$3:$C$99))","v":0},null,null,{"$f":"Gesamtstand!$H$2","v":"2020-05-20"},{"$f":"Einzelwertung3!F57","v":"E"},{"$f":"Einzelwertung3!F58","v":"B"},{"$f":"SUMIF(Einzelwertung3!$A$3:$A$99,$H$1,IF($J10=\"E\",Einzelwertung3!$B$3:$B$99,Einzelwertung3!$C$3:$C$99))","v":0},{"$f":"SUMIF(Einzelwertung3!$A$3:$A$99,$H$1,IF($J10=\"B\",Einzelwertung3!$B$3:$B$99,Einzelwertung3!$C$3:$C$99))","v":0}]
[null,{"$f":"Gesamtstand!$I$2","v":"2020-05-28"},{"$f":"Einzelwertung4!F57","v":"E"},{"$f":"Einzelwertung4!F58","v":"B"},{"$f":"SUMIF(Einzelwertung4!$A$3:$A$99,$A$1,IF($C11=\"E\",Einzelwertung4!$B$3:$B$99,Einzelwertung4!$C$3:$C$99))","v":0},{"$f":"SUMIF(Einzelwertung4!$A$3:$A$99,$A$1,IF($C11=\"B\",Einzelwertung4!$B$3:$B$99,Einzelwertung4!$C$3:$C$99))","v":0},null,null,{"$f":"Gesamtstand!$I$2","v":"2020-05-28"},{"$f":"Einzelwertung4!F57","v":"E"},{"$f":"Einzelwertung4!F58","v":"B"},{"$f":"SUMIF(Einzelwertung4!$A$3:$A$99,$H$1,IF($J11=\"E\",Einzelwertung4!$B$3:$B$99,Einzelwertung4!$C$3:$C$99))","v":0},{"$f":"SUMIF(Einzelwertung4!$A$3:$A$99,$H$1,IF($J11=\"B\",Einzelwertung4!$B$3:$B$99,Einzelwertung4!$C$3:$C$99))","v":0}]
[null,{"$f":"Gesamtstand!$J$2","v":"2020-06-04"},{"$f":"Einzelwertung5!F57","v":"E"},{"$f":"Einzelwertung5!F58","v":"B"},{"$f":"SUMIF(Einzelwertung5!$A$3:$A$99,$A$1,IF($C12=\"E\",Einzelwertung5!$B$3:$B$99,Einzelwertung5!$C$3:$C$99))","v":0},{"$f":"SUMIF(Einzelwertung5!$A$3:$A$99,$A$1,IF($C12=\"B\",Einzelwertung5!$B$3:$B$99,Einzelwertung5!$C$3:$C$99))","v":0},null,null,{"$f":"Gesamtstand!$J$2","v":"2020-06-04"},{"$f":"Einzelwertung5!F57","v":"E"},{"$f":"Einzelwertung5!F58","v":"B"},{"$f":"SUMIF(Einzelwertung5!$A$3:$A$99,$H$1,IF($J12=\"E\",Einzelwertung5!$B$3:$B$99,Einzelwertung5!$C$3:$C$99))","v":0},{"$f":"SUMIF(Einzelwertung5!$A$3:$A$99,$H$1,IF($J12=\"B\",Einzelwertung5!$B$3:$B$99,Einzelwertung5!$C$3:$C$99))","v":0}]
[{"$f":"+A12+1","v":1},{"$f":"Gesamtstand!$K$2","v":"2020-06-10"},{"$f":"Einzelwertung6!F57","v":"E"},{"$f":"Einzelwertung6!F58","v":"B"},{"$f":"SUMIF(Einzelwertung6!$A$3:$A$99,$A$1,IF($C13=\"E\",Einzelwertung6!$B$3:$B$99,Einzelwertung6!$C$3:$C$99))","v":25},{"$f":"SUMIF(Einzelwertung6!$A$3:$A$99,$A$1,IF($C13=\"B\",Einzelwertung6!$B$3:$B$99,Einzelwertung6!$C$3:$C$99))","v":31},null,{"$f":"+H12+1","v":1},{"$f":"Gesamtstand!$K$2","v":"2020-06-10"},{"$f":"Einzelwertung6!F57","v":"E"},{"$f":"Einzelwertung6!F58","v":"B"},{"$f":"SUMIF(Einzelwertung6!$A$3:$A$99,$H$1,IF($J13=\"E\",Einzelwertung6!$B$3:$B$99,Einzelwertung6!$C$3:$C$99))","v":26},{"$f":"SUMIF(Einzelwertung6!$A$3:$A$99,$H$1,IF($J13=\"B\",Einzelwertung6!$B$3:$B$99,Einzelwertung6!$C$3:$C$99))","v":31}]
[2,{"$f":"Gesamtstand!$L$2","v":"2020-06-18"},{"$f":"Einzelwertung7!F57","v":"E"},{"$f":"Einzelwertung7!F58","v":"B"},{"$f":"SUMIF(Einzelwertung7!$A$3:$A$99,$A$1,IF($C14=\"E\",Einzelwertung7!$B$3:$B$99,Einzelwertung7!$C$3:$C$99))","v":22},{"$f":"SUMIF(Einzelwertung7!$A$3:$A$99,$A$1,IF($C14=\"B\",Einzelwertung7!$B$3:$B$99,Einzelwertung7!$C$3:$C$99))","v":35},null,2,{"$f":"Gesamtstand!$L$2","v":"2020-06-18"},{"$f":"Einzelwertung7!F57","v":"E"},{"$f":"Einzelwertung7!F58","v":"B"},{"$f":"SUMIF(Einzelwertung7!$A$3:$A$99,$H$1,IF($J14=\"E\",Einzelwertung7!$B$3:$B$99,Einzelwertung7!$C$3:$C$99))","v":23},{"$f":"SUMIF(Einzelwertung7!$A$3:$A$99,$H$1,IF($J14=\"B\",Einzelwertung7!$B$3:$B$99,Einzelwertung7!$C$3:$C$99))","v":35}]
[3,{"$f":"Gesamtstand!$M$2","v":"2020-06-25"},{"$f":"Einzelwertung8!F57","v":"B"},{"$f":"Einzelwertung8!F58","v":"E"},{"$f":"SUMIF(Einzelwertung8!$A$3:$A$99,$A$1,IF($C15=\"E\",Einzelwertung8!$B$3:$B$99,Einzelwertung8!$C$3:$C$99))","v":28},{"$f":"SUMIF(Einzelwertung8!$A$3:$A$99,$A$1,IF($C15=\"B\",Einzelwertung8!$B$3:$B$99,Einzelwertung8!$C$3:$C$99))","v":33},null,3,{"$f":"Gesamtstand!$M$2","v":"2020-06-25"},{"$f":"Einzelwertung8!F57","v":"B"},{"$f":"Einzelwertung8!F58","v":"E"},{"$f":"SUMIF(Einzelwertung8!$A$3:$A$99,$H$1,IF($J15=\"E\",Einzelwertung8!$B$3:$B$99,Einzelwertung8!$C$3:$C$99))","v":31},{"$f":"SUMIF(Einzelwertung8!$A$3:$A$99,$H$1,IF($J15=\"B\",Einzelwertung8!$B$3:$B$99,Einzelwertung8!$C$3:$C$99))","v":28}]
[4,{"$f":"Gesamtstand!$N$2","v":"2020-07-02"},{"$f":"Einzelwertung9!F57","v":"E"},{"$f":"Einzelwertung9!F58","v":"B"},{"$f":"SUMIF(Einzelwertung9!$A$3:$A$99,$A$1,IF($C16=\"E\",Einzelwertung9!$B$3:$B$99,Einzelwertung9!$C$3:$C$99))","v":28},{"$f":"SUMIF(Einzelwertung9!$A$3:$A$99,$A$1,IF($C16=\"B\",Einzelwertung9!$B$3:$B$99,Einzelwertung9!$C$3:$C$99))","v":0},null,4,{"$f":"Gesamtstand!$N$2","v":"2020-07-02"},{"$f":"Einzelwertung9!F57","v":"E"},{"$f":"Einzelwertung9!F58","v":"B"},{"$f":"SUMIF(Einzelwertung9!$A$3:$A$99,$H$1,IF($J16=\"E\",Einzelwertung9!$B$3:$B$99,Einzelwertung9!$C$3:$C$99))","v":0},{"$f":"SUMIF(Einzelwertung9!$A$3:$A$99,$H$1,IF($J16=\"B\",Einzelwertung9!$B$3:$B$99,Einzelwertung9!$C$3:$C$99))","v":0}]
[5,{"$f":"Gesamtstand!$O$2","v":"2020-07-09"},{"$f":"Einzelwertung10!F57","v":"E"},{"$f":"Einzelwertung10!F58","v":"B"},{"$f":"SUMIF(Einzelwertung10!$A$3:$A$99,$A$1,IF($C17=\"E\",Einzelwertung10!$B$3:$B$99,Einzelwertung10!$C$3:$C$99))","v":0},{"$f":"SUMIF(Einzelwertung10!$A$3:$A$99,$A$1,IF($C17=\"B\",Einzelwertung10!$B$3:$B$99,Einzelwertung10!$C$3:$C$99))","v":0},null,5,{"$f":"Gesamtstand!$O$2","v":"2020-07-09"},{"$f":"Einzelwertung10!F57","v":"E"},{"$f":"Einzelwertung10!F58","v":"B"},{"$f":"SUMIF(Einzelwertung10!$A$3:$A$99,$H$1,IF($J17=\"E\",Einzelwertung10!$B$3:$B$99,Einzelwertung10!$C$3:$C$99))","v":26},{"$f":"SUMIF(Einzelwertung10!$A$3:$A$99,$H$1,IF($J17=\"B\",Einzelwertung10!$B$3:$B$99,Einzelwertung10!$C$3:$C$99))","v":31}]
[6,{"$f":"Gesamtstand!$P$2","v":"2020-07-16"},{"$f":"Einzelwertung11!F57","v":"E"},{"$f":"Einzelwertung11!F58","v":"B"},{"$f":"SUMIF(Einzelwertung11!$A$3:$A$99,$A$1,IF($C18=\"E\",Einzelwertung11!$B$3:$B$99,Einzelwertung11!$C$3:$C$99))","v":28},{"$f":"SUMIF(Einzelwertung11!$A$3:$A$99,$A$1,IF($C18=\"B\",Einzelwertung11!$B$3:$B$99,Einzelwertung11!$C$3:$C$99))","v":34},null,6,{"$f":"Gesamtstand!$P$2","v":"2020-07-16"},{"$f":"Einzelwertung11!F57","v":"E"},{"$f":"Einzelwertung11!F58","v":"B"},{"$f":"SUMIF(Einzelwertung11!$A$3:$A$99,$H$1,IF($J18=\"E\",Einzelwertung11!$B$3:$B$99,Einzelwertung11!$C$3:$C$99))","v":27},{"$f":"SUMIF(Einzelwertung11!$A$3:$A$99,$H$1,IF($J18=\"B\",Einzelwertung11!$B$3:$B$99,Einzelwertung11!$C$3:$C$99))","v":32}]
[7,{"$f":"Gesamtstand!$Q$2","v":"2020-07-23"},{"$f":"Einzelwertung12!F57","v":"E"},{"$f":"Einzelwertung12!F58","v":"B"},{"$f":"SUMIF(Einzelwertung12!$A$3:$A$99,$A$1,IF($C19=\"E\",Einzelwertung12!$B$3:$B$99,Einzelwertung12!$C$3:$C$99))","v":23},{"$f":"SUMIF(Einzelwertung12!$A$3:$A$99,$A$1,IF($C19=\"B\",Einzelwertung12!$B$3:$B$99,Einzelwertung12!$C$3:$C$99))","v":30},null,7,{"$f":"Gesamtstand!$Q$2","v":"2020-07-23"},{"$f":"Einzelwertung12!F57","v":"E"},{"$f":"Einzelwertung12!F58","v":"B"},{"$f":"SUMIF(Einzelwertung12!$A$3:$A$99,$H$1,IF($J19=\"E\",Einzelwertung12!$B$3:$B$99,Einzelwertung12!$C$3:$C$99))","v":27},{"$f":"SUMIF(Einzelwertung12!$A$3:$A$99,$H$1,IF($J19=\"B\",Einzelwertung12!$B$3:$B$99,Einzelwertung12!$C$3:$C$99))","v":32}]
[8,{"$f":"Gesamtstand!$R$2","v":"2020-07-30"},{"$f":"Einzelwertung13!F57","v":"E"},{"$f":"Einzelwertung13!F58","v":"B"},{"$f":"SUMIF(Einzelwertung13!$A$3:$A$99,$A$1,IF($C20=\"E\",Einzelwertung13!$B$3:$B$99,Einzelwertung13!$C$3:$C$99))","v":23},{"$f":"SUMIF(Einzelwertung13!$A$3:$A$99,$A$1,IF($C20=\"B\",Einzelwertung13!$B$3:$B$99,Einzelwertung13!$C$3:$C$99))","v":33},null,8,{"$f":"Gesamtstand!$R$2","v":"2020-07-30"},{"$f":"Einzelwertung13!F57","v":"E"},{"$f":"Einzelwertung13!F58","v":"B"},{"$f":"SUMIF(Einzelwertung13!$A$3:$A$99,$H$1,IF($J20=\"E\",Einzelwertung13!$B$3:$B$99,Einzelwertung13!$C$3:$C$99))","v":30},{"$f":"SUMIF(Einzelwertung13!$A$3:$A$99,$H$1,IF($J20=\"B\",Einzelwertung13!$B$3:$B$99,Einzelwertung13!$C$3:$C$99))","v":32}]
[9,{"$f":"Gesamtstand!$S$2","v":"2020-08-06"},{"$f":"Einzelwertung14!F57","v":"E"},{"$f":"Einzelwertung14!F58","v":"B"},{"$f":"SUMIF(Einzelwertung14!$A$3:$A$99,$A$1,IF($C21=\"E\",Einzelwertung14!$B$3:$B$99,Einzelwertung14!$C$3:$C$99))","v":23},{"$f":"SUMIF(Einzelwertung14!$A$3:$A$99,$A$1,IF($C21=\"B\",Einzelwertung14!$B$3:$B$99,Einzelwertung14!$C$3:$C$99))","v":33},null,9,{"$f":"Gesamtstand!$S$2","v":"2020-08-06"},{"$f":"Einzelwertung14!F57","v":"E"},{"$f":"Einzelwertung14!F58","v":"B"},{"$f":"SUMIF(Einzelwertung14!$A$3:$A$99,$H$1,IF($J21=\"E\",Einzelwertung14!$B$3:$B$99,Einzelwertung14!$C$3:$C$99))","v":30},{"$f":"SUMIF(Einzelwertung14!$A$3:$A$99,$H$1,IF($J21=\"B\",Einzelwertung14!$B$3:$B$99,Einzelwertung14!$C$3:$C$99))","v":30}]
[10,{"$f":"Gesamtstand!$T$2","v":"2020-08-13"},{"$f":"Einzelwertung15!F57","v":"E"},{"$f":"Einzelwertung15!F58","v":"B"},{"$f":"SUMIF(Einzelwertung15!$A$3:$A$99,$A$1,IF($C22=\"E\",Einzelwertung15!$B$3:$B$99,Einzelwertung15!$C$3:$C$99))","v":26},{"$f":"SUMIF(Einzelwertung15!$A$3:$A$99,$A$1,IF($C22=\"B\",Einzelwertung15!$B$3:$B$99,Einzelwertung15!$C$3:$C$99))","v":31},null,10,{"$f":"Gesamtstand!$T$2","v":"2020-08-13"},{"$f":"Einzelwertung15!F57","v":"E"},{"$f":"Einzelwertung15!F58","v":"B"},{"$f":"SUMIF(Einzelwertung15!$A$3:$A$99,$H$1,IF($J22=\"E\",Einzelwertung15!$B$3:$B$99,Einzelwertung15!$C$3:$C$99))","v":26},{"$f":"SUMIF(Einzelwertung15!$A$3:$A$99,$H$1,IF($J22=\"B\",Einzelwertung15!$B$3:$B$99,Einzelwertung15!$C$3:$C$99))","v":33}]
[11,{"$f":"Gesamtstand!$U$2","v":"2020-08-20"},{"$f":"Einzelwertung16!F57","v":"E"},{"$f":"Einzelwertung16!F58","v":"B"},{"$f":"SUMIF(Einzelwertung16!$A$3:$A$99,$A$1,IF($C23=\"E\",Einzelwertung16!$B$3:$B$99,Einzelwertung16!$C$3:$C$99))","v":22},{"$f":"SUMIF(Einzelwertung16!$A$3:$A$99,$A$1,IF($C23=\"B\",Einzelwertung16!$B$3:$B$99,Einzelwertung16!$C$3:$C$99))","v":29},null,11,{"$f":"Gesamtstand!$U$2","v":"2020-08-20"},{"$f":"Einzelwertung16!F57","v":"E"},{"$f":"Einzelwertung16!F58","v":"B"},{"$f":"SUMIF(Einzelwertung16!$A$3:$A$99,$H$1,IF($J23=\"E\",Einzelwertung16!$B$3:$B$99,Einzelwertung16!$C$3:$C$99))","v":26},{"$f":"SUMIF(Einzelwertung16!$A$3:$A$99,$H$1,IF($J23=\"B\",Einzelwertung16!$B$3:$B$99,Einzelwertung16!$C$3:$C$99))","v":32}]
[12,{"$f":"Gesamtstand!$V$2","v":"2020-08-27"},{"$f":"Einzelwertung17!F57","v":"E"},{"$f":"Einzelwertung17!F58","v":"B"},{"$f":"SUMIF(Einzelwertung17!$A$3:$A$99,$A$1,IF($C24=\"E\",Einzelwertung17!$B$3:$B$99,Einzelwertung17!$C$3:$C$99))","v":0},{"$f":"SUMIF(Einzelwertung17!$A$3:$A$99,$A$1,IF($C24=\"B\",Einzelwertung17!$B$3:$B$99,Einzelwertung17!$C$3:$C$99))","v":0},null,12,{"$f":"Gesamtstand!$V$2","v":"2020-08-27"},{"$f":"Einzelwertung17!F57","v":"E"},{"$f":"Einzelwertung17!F58","v":"B"},{"$f":"SUMIF(Einzelwertung17!$A$3:$A$99,$H$1,IF($J24=\"E\",Einzelwertung17!$B$3:$B$99,Einzelwertung17!$C$3:$C$99))","v":23},{"$f":"SUMIF(Einzelwertung17!$A$3:$A$99,$H$1,IF($J24=\"B\",Einzelwertung17!$B$3:$B$99,Einzelwertung17!$C$3:$C$99))","v":32}]
[null,{"$f":"Gesamtstand!$W$2","v":"2020-09-03"},{"$f":"Einzelwertung18!F57","v":"E"},{"$f":"Einzelwertung18!F58","v":"B"},{"$f":"SUMIF(Einzelwertung18!$A$3:$A$99,$A$1,IF($C25=\"E\",Einzelwertung18!$B$3:$B$99,Einzelwertung18!$C$3:$C$99))","v":0},{"$f":"SUMIF(Einzelwertung18!$A$3:$A$99,$A$1,IF($C25=\"B\",Einzelwertung18!$B$3:$B$99,Einzelwertung18!$C$3:$C$99))","v":0},null,null,{"$f":"Gesamtstand!$W$2","v":"2020-09-03"},{"$f":"Einzelwertung18!F57","v":"E"},{"$f":"Einzelwertung18!F58","v":"B"},{"$f":"SUMIF(Einzelwertung18!$A$3:$A$99,$H$1,IF($J25=\"E\",Einzelwertung18!$B$3:$B$99,Einzelwertung18!$C$3:$C$99))","v":0},{"$f":"SUMIF(Einzelwertung18!$A$3:$A$99,$H$1,IF($J25=\"B\",Einzelwertung18!$B$3:$B$99,Einzelwertung18!$C$3:$C$99))","v":0}]

{"sheet":"Teilnehmer","index":24,"n_rows":97,"n_cols":9,"rows_kept":97,"cut":false,"hidden":true,"merged":[[0,0,0,4]]}
["Sommer-Cup im Freizeittreff Herbede - Teilnehmerliste",null,null,null,null,null,null,"aus players.data:"]
["Spieler","Verein","Passnr.","Kat.","fehlt?",null,"Kat.","Verein","Kat. Ok"]
["Arens, Ingo",{"$f":"VLOOKUP(H3,Vereine!$A$2:$B$29,2,FALSE)","v":"HAG"},27450,"SM1",{"$f":"COUNTIF(Gesamtstand!$B$3:$B$104,$A3)=0","v":true},null,{"$f":"VLOOKUP($C3,bangolf_players!$B$2:$G$4680,6,FALSE)","v":"SM1"},{"$f":"VLOOKUP($C3,bangolf_players!$B$2:$G$4680,4,FALSE)","v":"SGC Hagen"},{"$f":"G3=D3","v":true}]
["Battling, Hendrik",{"$f":"VLOOKUP(H4,Vereine!$A$2:$B$29,2,FALSE)","v":"ASW"},37799,"H",{"$f":"COUNTIF(Gesamtstand!$B$3:$B$104,$A4)=0","v":false},null,{"$f":"VLOOKUP($C4,bangolf_players!$B$2:$G$4680,6,FALSE)","v":"H"},{"$f":"VLOOKUP($C4,bangolf_players!$B$2:$G$4680,4,FALSE)","v":"MGC \"AS\" Witten 1963"},{"$f":"G4=D4","v":true}]
["Battig, Wolfgang",{"$f":"VLOOKUP(H5,Vereine!$A$2:$B$29,2,FALSE)","v":"Lüd."},23741,"SM1",{"$f":"COUNTIF(Gesamtstand!$B$3:$B$104,$A5)=0","v":false},null,{"$f":"VLOOKUP($C5,bangolf_players!$B$2:$G$4680,6,FALSE)","v":"SM1"},{"$f":"VLOOKUP($C5,bangolf_players!$B$2:$G$4680,4,FALSE)","v":"MC 62 Lüdenscheid"},{"$f":"G5=D5","v":true}]
["Baumgart, Thorben",{"$f":"VLOOKUP(H6,Vereine!$A$2:$B$29,2,FALSE)","v":"NEH"},37760,"H",{"$f":"COUNTIF(Gesamtstand!$B$3:$B$104,$A6)=0","v":true},null,{"$f":"VLOOKUP($C6,bangolf_players!$B$2:$G$4680,6,FALSE)","v":"H"},{"$f":"VLOOKUP($C6,bangolf_players!$B$2:$G$4680,4,FALSE)","v":"MSK Neheim-Hüsten"},true]
["Behrens, Stephan",{"$f":"VLOOKUP(H7,Vereine!$A$2:$B$29,2,FALSE)","v":"NIE"},34186,"H",{"$f":"COUNTIF(Gesamtstand!$B$3:$B$104,$A7)=0","v":true},null,{"$f":"VLOOKUP($C7,bangolf_players!$B$2:$G$4680,6,FALSE)","v":"H"},{"$f":"VLOOKUP($C7,bangolf_players!$B$2:$G$4680,4,FALSE)","v":"Niendorfer MC v. 1963"},true]
["Blasek, Nicole",{"$f":"VLOOKUP(H8,Vereine!$A$2:$B$29,2,FALSE)","v":"KÖL"},35663,"SW1",{"$f":"COUNTIF(Gesamtstand!$B$3:$B$104,$A8)=0","v":true},null,{"$f":"VLOOKUP($C8,bangolf_players!$B$2:$G$4680,6,FALSE)","v":"SW1"},{"$f":"VLOOKUP($C8,bangolf_players!$B$2:$G$4680,4,FALSE)","v":"1. MGC Köln 1961"},true]
["Blümer, Severin",{"$f":"VLOOKUP(H9,Vereine!$A$2:$B$29,2,FALSE)","v":"Arheilg."},66049,"H",{"$f":"COUNTIF(Gesamtstand!$B$3:$B$104,$A9)=0","v":true},null,{"$f":"VLOOKUP($C9,bangolf_players!$B$2:$G$4680,6,FALSE)","v":"H"},{"$f":"VLOOKUP($C9,bangolf_players!$B$2:$G$4680,4,FALSE)","v":"SG Arheilgen Abt. Bahnengolf"},true]
["Börgmann, Brigitte",{"$f":"VLOOKUP(H10,Vereine!$A$2:$B$29,2,FALSE)","v":"Hobby"},"Hobby6","SW1",{"$f":"COUNTIF(Gesamtstand!$B$3:$B$104,$A10)=0","v":false},null,{"$f":"VLOOKUP($C10,bangolf_players!$B$2:$G$4680,6,FALSE)","v":"SW1"},{"$f":"VLOOKUP($C10,bangolf_players!$B$2:$G$4680,4,FALSE)","v":"Hobby"},true]
["Börgmann, Ulrich",{"$f":"VLOOKUP(H11,Vereine!$A$2:$B$29,2,FALSE)","v":"Hobby"},"Hobby15","SM1",{"$f":"COUNTIF(Gesamtstand!$B$3:$B$104,$A11)=0","v":false},null,{"$f":"VLOOKUP($C11,bangolf_players!$B$2:$G$4680,6,FALSE)","v":"SM1"},{"$f":"VLOOKUP($C11,bangolf_players!$B$2:$G$4680,4,FALSE)","v":"Hobby"},true]
["Breitbarth, Frank",{"$f":"VLOOKUP(H12,Vereine!$A$2:$B$29,2,FALSE)","v":"Oly"},67219,"SM1",{"$f":"COUNTIF(Gesamtstand!$B$3:$B$104,$A12)=0","v":true},null,{"$f":"VLOOKUP($C12,bangolf_players!$B$2:$G$4680,6,FALSE)","v":"SM1"},{"$f":"VLOOKUP($C12,bangolf_players!$B$2:$G$4680,4,FALSE)","v":"SC Olympia Dortmund"},true]
["Buchholz, Ansgar",{"$f":"VLOOKUP(H13,Vereine!$A$2:$B$29,2,FALSE)","v":"ASW"},31513,"SM1",{"$f":"COUNTIF(Gesamtstand!$B$3:$B$104,$A13)=0","v":false},null,{"$f":"VLOOKUP($C13,bangolf_players!$B$2:$G$4680,6,FALSE)","v":"SM1"},{"$f":"VLOOKUP($C13,bangolf_players!$B$2:$G$4680,4,FALSE)","v":"MGC \"AS\" Witten 1963"},true]
["Brunnenkant, Frank",{"$f":"VLOOKUP(H14,Vereine!$A$2:$B$29,2,FALSE)","v":"Hobby"},"Hobby38","SM1",{"$f":"COUNTIF(Gesamtstand!$B$3:$B$104,$A14)=0","v":false},null,{"$f":"VLOOKUP($C14,bangolf_players!$B$2:$G$4680,6,FALSE)","v":"SM1"},{"$f":"VLOOKUP($C14,bangolf_players!$B$2:$G$4680,4,FALSE)","v":"Hobby"},true]
["Dammann, Reinhold",{"$f":"VLOOKUP(H15,Vereine!$A$2:$B$29,2,FALSE)","v":"ASW"},25732,"SM2",{"$f":"COUNTIF(Gesamtstand!$B$3:$B$104,$A15)=0","v":true},null,{"$f":"VLOOKUP($C15,bangolf_players!$B$2:$G$4680,6,FALSE)","v":"SM2"},{"$f":"VLOOKUP($C15,bangolf_players!$B$2:$G$4680,4,FALSE)","v":"MGC \"AS\" Witten 1963"},true]
["Dietzel, Gerhard",{"$f":"VLOOKUP(H16,Vereine!$A$2:$B$29,2,FALSE)","v":"FEL"},5745,"SM2",{"$f":"COUNTIF(Gesamtstand!$B$3:$B$104,$A16)=0","v":true},null,{"$f":"VLOOKUP($C16,bangolf_players!$B$2:$G$4680,6,FALSE)","v":"SM2"},{"$f":"VLOOKUP($C16,bangolf_players!$B$2:$G$4680,4,FALSE)","v":"MGC Felderbachtal 1964"},true]
["Dreischer, Burkhard",{"$f":"VLOOKUP(H17,Vereine!$A$2:$B$29,2,FALSE)","v":"Oly"},23778,"SM2",{"$f":"COUNTIF(Gesamtstand!$B$3:$B$104,$A17)=0","v":false},null,{"$f":"VLOOKUP($C17,bangolf_players!$B$2:$G$4680,6,FALSE)","v":"SM2"},{"$f":"VLOOKUP($C17,bangolf_players!$B$2:$G$4680,4,FALSE)","v":"SC Olympia Dortmund"},true]
["Fritzenkötter, Dietmar",{"$f":"VLOOKUP(H18,Vereine!$A$2:$B$29,2,FALSE)","v":"CAS"},37088,"SM2",{"$f":"COUNTIF(Gesamtstand!$B$3:$B$104,$A18)=0","v":true},null,{"$f":"VLOOKUP($C18,bangolf_players!$B$2:$G$4680,6,FALSE)","v":"SM2"},{"$f":"VLOOKUP($C18,bangolf_players!$B$2:$G$4680,4,FALSE)","v":"BGSV Castrop 1961"},{"$f":"G18=D18","v":true}]
["Fritzenkötter, Margot",{"$f":"VLOOKUP(H19,Vereine!$A$2:$B$29,2,FALSE)","v":"CAS"},37089,"SW2",{"$f":"COUNTIF(Gesamtstand!$B$3:$B$104,$A19)=0","v":true},null,{"$f":"VLOOKUP($C19,bangolf_players!$B$2:$G$4680,6,FALSE)","v":"SW2"},{"$f":"VLOOKUP($C19,bangolf_players!$B$2:$G$4680,4,FALSE)","v":"BGSV Castrop 1961"},true]
["Frost, Uwe",{"$f":"VLOOKUP(H20,Vereine!$A$2:$B$29,2,FALSE)","v":"Hobby"},"Hobby28","SM2",{"$f":"COUNTIF(Gesamtstand!$B$3:$B$104,$A20)=0","v":true},null,{"$f":"VLOOKUP($C20,bangolf_players!$B$2:$G$4680,6,FALSE)","v":"SM2"},{"$f":"VLOOKUP($C20,bangolf_players!$B$2:$G$4680,4,FALSE)","v":"Hobby"},true]
["Gattner, Karsten",{"$f":"VLOOKUP(H21,Vereine!$A$2:$B$29,2,FALSE)","v":"Hobby"},"Hobby16","SM1",{"$f":"COUNTIF(Gesamtstand!$B$3:$B$104,$A21)=0","v":true},null,{"$f":"VLOOKUP($C21,bangolf_players!$B$2:$G$4680,6,FALSE)","v":"SM1"},{"$f":"VLOOKUP($C21,bangolf_players!$B$2:$G$4680,4,FALSE)","v":"Hobby"},true]
["Ginschel, Rudolf",{"$f":"VLOOKUP(H22,Vereine!$A$2:$B$29,2,FALSE)","v":"BMC"},66864,"SM2",{"$f":"COUNTIF(Gesamtstand!$B$3:$B$104,$A22)=0","v":true},null,{"$f":"VLOOKUP($C22,bangolf_players!$B$2:$G$4680,6,FALSE)","v":"SM2"},{"$f":"VLOOKUP($C22,bangolf_players!$B$2:$G$4680,4,FALSE)","v":"Bochumer Minigolf-Club 1960"},true]
["Goldau, Thorsten",{"$f":"VLOOKUP(H23,Vereine!$A$2:$B$29,2,FALSE)","v":"Hobby"},"Hobby5","H",{"$f":"COUNTIF(Gesamtstand!$B$3:$B$104,$A23)=0","v":true},null,{"$f":"VLOOKUP($C23,bangolf_players!$B$2:$G$4680,6,FALSE)","v":"H"},{"$f":"VLOOKUP($C23,bangolf_players!$B$2:$G$4680,4,FALSE)","v":"Hobby"},{"$f":"G23=D23","v":true}]
["Greiffendorf, Hellmut",{"$f":"VLOOKUP(H24,Vereine!$A$2:$B$29,2,FALSE)","v":"ASW"},3800,"SM2",{"$f":"COUNTIF(Gesamtstand!$B$3:$B$104,$A24)=0","v":false},null,{"$f":"VLOOKUP($C24,bangolf_players!$B$2:$G$4680,6,FALSE)","v":"SM2"},{"$f":"VLOOKUP($C24,bangolf_players!$B$2:$G$4680,4,FALSE)","v":"MGC \"AS\" Witten 1963"},true]
["Grügelsberg, Jürgen",{"$f":"VLOOKUP(H25,Vereine!$A$2:$B$29,2,FALSE)","v":"ASW"},3802,"SM2",{"$f":"COUNTIF(Gesamtstand!$B$3:$B$104,$A25)=0","v":true},null,{"$f":"VLOOKUP($C25,bangolf_players!$B$2:$G$4680,6,FALSE)","v":"SM2"},{"$f":"VLOOKUP($C25,bangolf_players!$B$2:$G$4680,4,FALSE)","v":"MGC \"AS\" Witten 1963"},{"$f":"G25=D25","v":true}]
["Grügelsberg, Marianne",{"$f":"VLOOKUP(H26,Vereine!$A$2:$B$29,2,FALSE)","v":"ASW"},3126,"SW2",{"$f":"COUNTIF(Gesamtstand!$B$3:$B$104,$A26)=0","v":true},null,{"$f":"VLOOKUP($C26,bangolf_players!$B$2:$G$4680,6,FALSE)","v":"SW2"},{"$f":"VLOOKUP($C26,bangolf_players!$B$2:$G$4680,4,FALSE)","v":"MGC \"AS\" Witten 1963"},true]
["Gust, Klaus",{"$f":"VLOOKUP(H27,Vereine!$A$2:$B$29,2,FALSE)","v":"FEL"},6740,"SM2",{"$f":"COUNTIF(Gesamtstand!$B$3:$B$104,$A27)=0","v":true},null,{"$f":"VLOOKUP($C27,bangolf_players!$B$2:$G$4680,6,FALSE)","v":"SM2"},{"$f":"VLOOKUP($C27,bangolf_players!$B$2:$G$4680,4,FALSE)","v":"MGC Felderbachtal 1964"},true]
["Hein, Hans-Jörg",{"$f":"VLOOKUP(H28,Vereine!$A$2:$B$29,2,FALSE)","v":"ASW"},27863,"SM1",{"$f":"COUNTIF(Gesamtstand!$B$3:$B$104,$A28)=0","v":false},null,{"$f":"VLOOKUP($C28,bangolf_players!$B$2:$G$4680,6,FALSE)","v":"SM1"},{"$f":"VLOOKUP($C28,bangolf_players!$B$2:$G$4680,4,FALSE)","v":"MGC \"AS\" Witten 1963"},true]
["Hensel, Tobias",{"$f":"VLOOKUP(H29,Vereine!$A$2:$B$29,2,FALSE)","v":"Ennep."},37011,"H",{"$f":"COUNTIF(Gesamtstand!$B$3:$B$104,$A29)=0","v":true},null,{"$f":"VLOOKUP($C29,bangolf_players!$B$2:$G$4680,6,FALSE)","v":"H"},{"$f":"VLOOKUP($C29,bangolf_players!$B$2:$G$4680,4,FALSE)","v":"BSC Ennepetal"},true]
["Henseler, Rainer",{"$f":"VLOOKUP(H30,Vereine!$A$2:$B$29,2,FALSE)","v":"Paderb."},65852,"SM2",{"$f":"COUNTIF(Gesamtstand!$B$3:$B$104,$A30)=0","v":true},null,{"$f":"VLOOKUP($C30,bangolf_players!$B$2:$G$4680,6,FALSE)","v":"SM2"},{"$f":"VLOOKUP($C30,bangolf_players!$B$2:$G$4680,4,FALSE)","v":"1. MGC Paderborn"},true]
["Hesse, Peter",{"$f":"VLOOKUP(H31,Vereine!$A$2:$B$29,2,FALSE)","v":"Hobby"},"Hobby1","SM2",{"$f":"COUNTIF(Gesamtstand!$B$3:$B$104,$A31)=0","v":true},null,{"$f":"VLOOKUP($C31,bangolf_players!$B$2:$G$4680,6,FALSE)","v":"SM2"},{"$f":"VLOOKUP($C31,bangolf_players!$B$2:$G$4680,4,FALSE)","v":"Hobby"},true]
["Hettrich, Willi",{"$f":"VLOOKUP(H32,Vereine!$A$2:$B$29,2,FALSE)","v":"CAS"},35236,"SM2",{"$f":"COUNTIF(Gesamtstand!$B$3:$B$104,$A32)=0","v":false},null,{"$f":"VLOOKUP($C32,bangolf_players!$B$2:$G$4680,6,FALSE)","v":"SM2"},{"$f":"VLOOKUP($C32,bangolf_players!$B$2:$G$4680,4,FALSE)","v":"BGSV Castrop 1961"},true]
["Hickert, Peter","ASW",46250,"SM2",{"$f":"COUNTIF(Gesamtstand!$B$3:$B$104,$A33)=0","v":false},null,{"$f":"VLOOKUP($C33,bangolf_players!$B$2:$G$4680,6,FALSE)","v":"SM2"},{"$f":"VLOOKUP($C33,bangolf_players!$B$2:$G$4680,4,FALSE)","v":"MGC \"AS\" Witten 1963"},{"$f":"G33=D33","v":true}]
["Hoffmann, Thomas",{"$f":"VLOOKUP(H34,Vereine!$A$2:$B$29,2,FALSE)","v":"Hobby"},"Hobby29","SM2",{"$f":"COUNTIF(Gesamtstand!$B$3:$B$104,$A34)=0","v":false},null,{"$f":"VLOOKUP($C34,bangolf_players!$B$2:$G$4680,6,FALSE)","v":"SM2"},{"$f":"VLOOKUP($C34,bangolf_players!$B$2:$G$4680,4,FALSE)","v":"Hobby"},true]
["Hünnebeck, Petra",{"$f":"VLOOKUP(H35,Vereine!$A$2:$B$29,2,FALSE)","v":"Hobby"},"Hobby25","D",{"$f":"COUNTIF(Gesamtstand!$B$3:$B$104,$A35)=0","v":true},null,{"$f":"VLOOKUP($C35,bangolf_players!$B$2:$G$4680,6,FALSE)","v":"D"},{"$f":"VLOOKUP($C35,bangolf_players!$B$2:$G$4680,4,FALSE)","v":"Hobby"},true]
["Janz, Angela",{"$f":"VLOOKUP(H36,Vereine!$A$2:$B$29,2,FALSE)","v":"Hobby"},"Hobby26","SW2",{"$f":"COUNTIF(Gesamtstand!$B$3:$B$104,$A36)=0","v":true},null,{"$f":"VLOOKUP($C36,bangolf_players!$B$2:$G$4680,6,FALSE)","v":"SW2"},{"$f":"VLOOKUP($C36,bangolf_players!$B$2:$G$4680,4,FALSE)","v":"Hobby"},true]
["Jezierski, Marie-Luise",{"$f":"VLOOKUP(H37,Vereine!$A$2:$B$29,2,FALSE)","v":"ASW"},61958,"SW2",{"$f":"COUNTIF(Gesamtstand!$B$3:$B$104,$A37)=0","v":true},null,{"$f":"VLOOKUP($C37,bangolf_players!$B$2:$G$4680,6,FALSE)","v":"SW2"},{"$f":"VLOOKUP($C37,bangolf_players!$B$2:$G$4680,4,FALSE)","v":"MGC \"AS\" Witten 1963"},true]
["Kalhöfer, Anna",{"$f":"VLOOKUP(H38,Vereine!$A$2:$B$29,2,FALSE)","v":"ASW"},4222,"SW2",{"$f":"COUNTIF(Gesamtstand!$B$3:$B$104,$A38)=0","v":false},null,{"$f":"VLOOKUP($C38,bangolf_players!$B$2:$G$4680,6,FALSE)","v":"SW2"},{"$f":"VLOOKUP($C38,bangolf_players!$B$2:$G$4680,4,FALSE)","v":"MGC \"AS\" Witten 1963"},{"$f":"G38=D38","v":true}]
["Kersch, Uwe",{"$f":"VLOOKUP(H39,Vereine!$A$2:$B$29,2,FALSE)","v":"HEV"},67352,"SM2",{"$f":"COUNTIF(Gesamtstand!$B$3:$B$104,$A39)=0","v":false},null,{"$f":"VLOOKUP($C39,bangolf_players!$B$2:$G$4680,6,FALSE)","v":"SM2"},{"$f":"VLOOKUP($C39,bangolf_players!$B$2:$G$4680,4,FALSE)","v":"MGC Heven"},{"$f":"G39=D39","v":true}]
["Keruth, Ellen",{"$f":"VLOOKUP(H40,Vereine!$A$2:$B$29,2,FALSE)","v":"Hobby"},"Hobby17","SW2",{"$f":"COUNTIF(Gesamtstand!$B$3:$B$104,$A40)=0","v":true},null,{"$f":"VLOOKUP($C40,bangolf_players!$B$2:$G$4680,6,FALSE)","v":"SW2"},{"$f":"VLOOKUP($C40,bangolf_players!$B$2:$G$4680,4,FALSE)","v":"Hobby"},true]
["Keuth, Marita",{"$f":"VLOOKUP(H41,Vereine!$A$2:$B$29,2,FALSE)","v":"HEV"},67351,"SW1",{"$f":"COUNTIF(Gesamtstand!$B$3:$B$104,$A41)=0","v":true},null,{"$f":"VLOOKUP($C41,bangolf_players!$B$2:$G$4680,6,FALSE)","v":"SW1"},{"$f":"VLOOKUP($C41,bangolf_players!$B$2:$G$4680,4,FALSE)","v":"MGC Heven"},{"$f":"G41=D41","v":true}]
["Klein, Sabine",{"$f":"VLOOKUP(H42,Vereine!$A$2:$B$29,2,FALSE)","v":"BÜT"},36474,"SW1",{"$f":"COUNTIF(Gesamtstand!$B$3:$B$104,$A42)=0","v":true},null,{"$f":"VLOOKUP($C42,bangolf_players!$B$2:$G$4680,6,FALSE)","v":"SW1"},{"$f":"VLOOKUP($C42,bangolf_players!$B$2:$G$4680,4,FALSE)","v":"HMC Büttgen"},true]
["Klein, Theo",{"$f":"VLOOKUP(H43,Vereine!$A$2:$B$29,2,FALSE)","v":"Halver"},40219,"SM2",{"$f":"COUNTIF(Gesamtstand!$B$3:$B$104,$A43)=0","v":true},null,{"$f":"VLOOKUP($C43,bangolf_players!$B$2:$G$4680,6,FALSE)","v":"SM2"},{"$f":"VLOOKUP($C43,bangolf_players!$B$2:$G$4680,4,FALSE)","v":"SSC Halver"},true]
["Koch, Ursula",{"$f":"VLOOKUP(H44,Vereine!$A$2:$B$29,2,FALSE)","v":"Hobby"},"Hobby18","SW2",{"$f":"COUNTIF(Gesamtstand!$B$3:$B$104,$A44)=0","v":true},null,{"$f":"VLOOKUP($C44,bangolf_players!$B$2:$G$4680,6,FALSE)","v":"SW2"},{"$f":"VLOOKUP($C44,bangolf_players!$B$2:$G$4680,4,FALSE)","v":"Hobby"},true]
["Kortmann, Sabine",{"$f":"VLOOKUP(H45,Vereine!$A$2:$B$29,2,FALSE)","v":"Hobby"},"Hobby31","SW1",{"$f":"COUNTIF(Gesamtstand!$B$3:$B$104,$A45)=0","v":false},null,{"$f":"VLOOKUP($C45,bangolf_players!$B$2:$G$4680,6,FALSE)","v":"SW1"},{"$f":"VLOOKUP($C45,bangolf_players!$B$2:$G$4680,4,FALSE)","v":"Hobby"},{"$f":"G45=D45","v":true}]
["Kortmann, Uwe",{"$f":"VLOOKUP(H46,Vereine!$A$2:$B$29,2,FALSE)","v":"Hobby"},"Hobby32","SM1",{"$f":"COUNTIF(Gesamtstand!$B$3:$B$104,$A46)=0","v":false},null,{"$f":"VLOOKUP($C46,bangolf_players!$B$2:$G$4680,6,FALSE)","v":"SM1"},{"$f":"VLOOKUP($C46,bangolf_players!$B$2:$G$4680,4,FALSE)","v":"Hobby"},true]
["Kottek, Sabine",{"$f":"VLOOKUP(H47,Vereine!$A$2:$B$29,2,FALSE)","v":"HEV"},67152,"D",{"$f":"COUNTIF(Gesamtstand!$B$3:$B$104,$A47)=0","v":true},null,{"$f":"VLOOKUP($C47,bangolf_players!$B$2:$G$4680,6,FALSE)","v":"D"},{"$f":"VLOOKUP($C47,bangolf_players!$B$2:$G$4680,4,FALSE)","v":"MGC Heven"},true]
["Kube, Sebastian",{"$f":"VLOOKUP(H48,Vereine!$A$2:$B$29,2,FALSE)","v":"Do-Bre"},35655,"H",{"$f":"COUNTIF(Gesamtstand!$B$3:$B$104,$A48)=0","v":true},null,{"$f":"VLOOKUP($C48,bangolf_players!$B$2:$G$4680,6,FALSE)","v":"H"},{"$f":"VLOOKUP($C48,bangolf_players!$B$2:$G$4680,4,FALSE)","v":"MGC Dormagen-Brechten"},true]
["Kunz, Martin",{"$f":"VLOOKUP(H49,Vereine!$A$2:$B$29,2,FALSE)","v":"Hobby"},"Hobby40","SM1",{"$f":"COUNTIF(Gesamtstand!$B$3:$B$104,$A49)=0","v":false},null,{"$f":"VLOOKUP($C49,bangolf_players!$B$2:$G$4680,6,FALSE)","v":"SM1"},{"$f":"VLOOKUP($C49,bangolf_players!$B$2:$G$4680,4,FALSE)","v":"Hobby"},{"$f":"G49=D49","v":true}]
["Kuschel, Raphael",{"$f":"VLOOKUP(H50,Vereine!$A$2:$B$29,2,FALSE)","v":"Do-Bre"},66103,"H",{"$f":"COUNTIF(Gesamtstand!$B$3:$B$104,$A50)=0","v":true},null,{"$f":"VLOOKUP($C50,bangolf_players!$B$2:$G$4680,6,FALSE)","v":"H"},{"$f":"VLOOKUP($C50,bangolf_players!$B$2:$G$4680,4,FALSE)","v":"MGC Dormagen-Brechten"},{"$f":"G50=D50","v":true}]
["Lange, Phillipp",{"$f":"VLOOKUP(H51,Vereine!$A$2:$B$29,2,FALSE)","v":"CAS"},37204,"H",{"$f":"COUNTIF(Gesamtstand!$B$3:$B$104,$A51)=0","v":true},null,{"$f":"VLOOKUP($C51,bangolf_players!$B$2:$G$4680,6,FALSE)","v":"H"},{"$f":"VLOOKUP($C51,bangolf_players!$B$2:$G$4680,4,FALSE)","v":"BGSV Castrop 1961"},true]
["Lange, Wilfried",{"$f":"VLOOKUP(H52,Vereine!$A$2:$B$29,2,FALSE)","v":"CAS"},66415,"SM2",{"$f":"COUNTIF(Gesamtstand!$B$3:$B$104,$A52)=0","v":true},null,{"$f":"VLOOKUP($C52,bangolf_players!$B$2:$G$4680,6,FALSE)","v":"SM2"},{"$f":"VLOOKUP($C52,bangolf_players!$B$2:$G$4680,4,FALSE)","v":"BGSV Castrop 1961"},true]
["Lehmann, Niclas",{"$f":"VLOOKUP(H53,Vereine!$A$2:$B$29,2,FALSE)","v":"Oly"},67372,"H",{"$f":"COUNTIF(Gesamtstand!$B$3:$B$104,$A53)=0","v":false},null,{"$f":"VLOOKUP($C53,bangolf_players!$B$2:$G$4680,6,FALSE)","v":"H"},{"$f":"VLOOKUP($C53,bangolf_players!$B$2:$G$4680,4,FALSE)","v":"SC Olympia Dortmund"},true]
["Leibrandt, Saddrik",{"$f":"VLOOKUP(H54,Vereine!$A$2:$B$29,2,FALSE)","v":"Hobby"},"Hobby27","H",{"$f":"COUNTIF(Gesamtstand!$B$3:$B$104,$A54)=0","v":true},null,{"$f":"VLOOKUP($C54,bangolf_players!$B$2:$G$4680,6,FALSE)","v":"H"},{"$f":"VLOOKUP($C54,bangolf_players!$B$2:$G$4680,4,FALSE)","v":"Hobby"},true]
["Lenk, Rolf",{"$f":"VLOOKUP(H55,Vereine!$A$2:$B$29,2,FALSE)","v":"ASW"},61716,"SM2",{"$f":"COUNTIF(Gesamtstand!$B$3:$B$104,$A55)=0","v":false},null,{"$f":"VLOOKUP($C55,bangolf_players!$B$2:$G$4680,6,FALSE)","v":"SM2"},{"$f":"VLOOKUP($C55,bangolf_players!$B$2:$G$4680,4,FALSE)","v":"MGC \"AS\" Witten 1963"},{"$f":"G55=D55","v":true}]
["Lieber, Nicole",{"$f":"VLOOKUP(H56,Vereine!$A$2:$B$29,2,FALSE)","v":"Hobby"},"Hobby7","D",{"$f":"COUNTIF(Gesamtstand!$B$3:$B$104,$A56)=0","v":false},null,{"$f":"VLOOKUP($C56,bangolf_players!$B$2:$G$4680,6,FALSE)","v":"D"},{"$f":"VLOOKUP($C56,bangolf_players!$B$2:$G$4680,4,FALSE)","v":"Hobby"},true]
["Lütje, Ursula",{"$f":"VLOOKUP(H57,Vereine!$A$2:$B$29,2,FALSE)","v":"Hobby"},"Hobby14","SW2",{"$f":"COUNTIF(Gesamtstand!$B$3:$B$104,$A57)=0","v":true},null,{"$f":"VLOOKUP($C57,bangolf_players!$B$2:$G$4680,6,FALSE)","v":"SW2"},{"$f":"VLOOKUP($C57,bangolf_players!$B$2:$G$4680,4,FALSE)","v":"Hobby"},true]
["Lütje, Walter",{"$f":"VLOOKUP(H58,Vereine!$A$2:$B$29,2,FALSE)","v":"Hobby"},"Hobby13","SM2",{"$f":"COUNTIF(Gesamtstand!$B$3:$B$104,$A58)=0","v":true},null,{"$f":"VLOOKUP($C58,bangolf_players!$B$2:$G$4680,6,FALSE)","v":"SM2"},{"$f":"VLOOKUP($C58,bangolf_players!$B$2:$G$4680,4,FALSE)","v":"Hobby"},true]
["Matthies, Angelika",{"$f":"VLOOKUP(H59,Vereine!$A$2:$B$29,2,FALSE)","v":"ASW"},65803,"SW2",{"$f":"COUNTIF(Gesamtstand!$B$3:$B$104,$A59)=0","v":true},null,{"$f":"VLOOKUP($C59,bangolf_players!$B$2:$G$4680,6,FALSE)","v":"SW2"},{"$f":"VLOOKUP($C59,bangolf_players!$B$2:$G$4680,4,FALSE)","v":"MGC \"AS\" Witten 1963"},true]
["Matthies, Bernd",{"$f":"VLOOKUP(H60,Vereine!$A$2:$B$29,2,FALSE)","v":"ASW"},65804,"SM2",{"$f":"COUNTIF(Gesamtstand!$B$3:$B$104,$A60)=0","v":true},null,{"$f":"VLOOKUP($C60,bangolf_players!$B$2:$G$4680,6,FALSE)","v":"SM2"},{"$f":"VLOOKUP($C60,bangolf_players!$B$2:$G$4680,4,FALSE)","v":"MGC \"AS\" Witten 1963"},true]
["Mühling, Dirk",{"$f":"VLOOKUP(H61,Vereine!$A$2:$B$29,2,FALSE)","v":"HEV"},49369,"SM2",{"$f":"COUNTIF(Gesamtstand!$B$3:$B$104,$A61)=0","v":true},null,{"$f":"VLOOKUP($C61,bangolf_players!$B$2:$G$4680,6,FALSE)","v":"SM2"},{"$f":"VLOOKUP($C61,bangolf_players!$B$2:$G$4680,4,FALSE)","v":"MGC Heven"},true]
["Neufeld, Marvin",{"$f":"VLOOKUP(H62,Vereine!$A$2:$B$29,2,FALSE)","v":"BMC"},37047,"H",{"$f":"COUNTIF(Gesamtstand!$B$3:$B$104,$A62)=0","v":true},null,{"$f":"VLOOKUP($C62,bangolf_players!$B$2:$G$4680,6,FALSE)","v":"H"},{"$f":"VLOOKUP($C62,bangolf_players!$B$2:$G$4680,4,FALSE)","v":"Bochumer Minigolf-Club 1960"},true]
["Niederdräing, Dieter",{"$f":"VLOOKUP(H63,Vereine!$A$2:$B$29,2,FALSE)","v":"FEL"},11191,"SM2",{"$f":"COUNTIF(Gesamtstand!$B$3:$B$104,$A63)=0","v":true},null,{"$f":"VLOOKUP($C63,bangolf_players!$B$2:$G$4680,6,FALSE)","v":"SM2"},{"$f":"VLOOKUP($C63,bangolf_players!$B$2:$G$4680,4,FALSE)","v":"MGC Felderbachtal 1964"},true]
["Nopens, Christian",{"$f":"VLOOKUP(H64,Vereine!$A$2:$B$29,2,FALSE)","v":"Hobby"},"Hobby22","SM1",{"$f":"COUNTIF(Gesamtstand!$B$3:$B$104,$A64)=0","v":true},null,{"$f":"VLOOKUP($C64,bangolf_players!$B$2:$G$4680,6,FALSE)","v":"SM1"},{"$f":"VLOOKUP($C64,bangolf_players!$B$2:$G$4680,4,FALSE)","v":"Hobby"},true]
["Nopens, Ute",{"$f":"VLOOKUP(H65,Vereine!$A$2:$B$29,2,FALSE)","v":"Hobby"},"Hobby23","SW1",{"$f":"COUNTIF(Gesamtstand!$B$3:$B$104,$A65)=0","v":true},null,{"$f":"VLOOKUP($C65,bangolf_players!$B$2:$G$4680,6,FALSE)","v":"SW1"},{"$f":"VLOOKUP($C65,bangolf_players!$B$2:$G$4680,4,FALSE)","v":"Hobby"},{"$f":"G65=D65","v":true}]
["Paffrath, Ben",{"$f":"VLOOKUP(H66,Vereine!$A$2:$B$29,2,FALSE)","v":"HEV"},66565,"JM",{"$f":"COUNTIF(Gesamtstand!$B$3:$B$104,$A66)=0","v":false},null,{"$f":"VLOOKUP($C66,bangolf_players!$B$2:$G$4680,6,FALSE)","v":"JM"},{"$f":"VLOOKUP($C66,bangolf_players!$B$2:$G$4680,4,FALSE)","v":"MGC Heven"},{"$f":"G66=D66","v":true}]
["Paffrath, Siegfried",{"$f":"VLOOKUP(H67,Vereine!$A$2:$B$29,2,FALSE)","v":"HEV"},33511,"SM2",{"$f":"COUNTIF(Gesamtstand!$B$3:$B$104,$A67)=0","v":false},null,{"$f":"VLOOKUP($C67,bangolf_players!$B$2:$G$4680,6,FALSE)","v":"SM2"},{"$f":"VLOOKUP($C67,bangolf_players!$B$2:$G$4680,4,FALSE)","v":"MGC Heven"},true]
["Petersen, Robin",{"$f":"VLOOKUP(H68,Vereine!$A$2:$B$29,2,FALSE)","v":"Oly"},67371,"H",{"$f":"COUNTIF(Gesamtstand!$B$3:$B$104,$A68)=0","v":true},null,{"$f":"VLOOKUP($C68,bangolf_players!$B$2:$G$4680,6,FALSE)","v":"H"},{"$f":"VLOOKUP($C68,bangolf_players!$B$2:$G$4680,4,FALSE)","v":"SC Olympia Dortmund"},true]
["Preißinger, Bernd",{"$f":"VLOOKUP(H69,Vereine!$A$2:$B$29,2,FALSE)","v":"Hobby"},"Hobby3","SM2",{"$f":"COUNTIF(Gesamtstand!$B$3:$B$104,$A69)=0","v":true},null,{"$f":"VLOOKUP($C69,bangolf_players!$B$2:$G$4680,6,FALSE)","v":"SM2"},{"$f":"VLOOKUP($C69,bangolf_players!$B$2:$G$4680,4,FALSE)","v":"Hobby"},true]
["Presser, Wolfgang",{"$f":"VLOOKUP(H70,Vereine!$A$2:$B$29,2,FALSE)","v":"HEV"},67151,"SM1",{"$f":"COUNTIF(Gesamtstand!$B$3:$B$104,$A70)=0","v":true},null,{"$f":"VLOOKUP($C70,bangolf_players!$B$2:$G$4680,6,FALSE)","v":"SM1"},{"$f":"VLOOKUP($C70,bangolf_players!$B$2:$G$4680,4,FALSE)","v":"MGC Heven"},true]
["Puschner, Endres",{"$f":"VLOOKUP(H71,Vereine!$A$2:$B$29,2,FALSE)","v":"Hobby"},"Hobby20","H",{"$f":"COUNTIF(Gesamtstand!$B$3:$B$104,$A71)=0","v":true},null,{"$f":"VLOOKUP($C71,bangolf_players!$B$2:$G$4680,6,FALSE)","v":"H"},{"$f":"VLOOKUP($C71,bangolf_players!$B$2:$G$4680,4,FALSE)","v":"Hobby"},{"$f":"G71=D71","v":true}]
["Puschner, Michael",{"$f":"VLOOKUP(H72,Vereine!$A$2:$B$29,2,FALSE)","v":"Hobby"},"Hobby11","SM2",{"$f":"COUNTIF(Gesamtstand!$B$3:$B$104,$A72)=0","v":false},null,{"$f":"VLOOKUP($C72,bangolf_players!$B$2:$G$4680,6,FALSE)","v":"SM2"},{"$f":"VLOOKUP($C72,bangolf_players!$B$2:$G$4680,4,FALSE)","v":"Hobby"},true]
["Puschner, Silke",{"$f":"VLOOKUP(H73,Vereine!$A$2:$B$29,2,FALSE)","v":"Hobby"},"Hobby19","SW2",{"$f":"COUNTIF(Gesamtstand!$B$3:$B$104,$A73)=0","v":true},null,{"$f":"VLOOKUP($C73,bangolf_players!$B$2:$G$4680,6,FALSE)","v":"SW2"},{"$f":"VLOOKUP($C73,bangolf_players!$B$2:$G$4680,4,FALSE)","v":"Hobby"},true]
["Rabe, Jonas",{"$f":"VLOOKUP(H74,Vereine!$A$2:$B$29,2,FALSE)","v":"Hobby"},"Hobby41","SCHM",{"$f":"COUNTIF(Gesamtstand!$B$3:$B$104,$A74)=0","v":false},null,{"$f":"VLOOKUP($C74,bangolf_players!$B$2:$G$4680,6,FALSE)","v":"SCHM"},{"$f":"VLOOKUP($C74,bangolf_players!$B$2:$G$4680,4,FALSE)","v":"Hobby"},{"$f":"G74=D74","v":true}]
["Rade, Marcus",{"$f":"VLOOKUP(H75,Vereine!$A$2:$B$29,2,FALSE)","v":"ASW"},38625,"H",{"$f":"COUNTIF(Gesamtstand!$B$3:$B$104,$A75)=0","v":false},null,{"$f":"VLOOKUP($C75,bangolf_players!$B$2:$G$4680,6,FALSE)","v":"H"},{"$f":"VLOOKUP($C75,bangolf_players!$B$2:$G$4680,4,FALSE)","v":"MGC \"AS\" Witten 1963"},true]
["Reese, Andreas",{"$f":"VLOOKUP(H76,Vereine!$A$2:$B$29,2,FALSE)","v":"NEH"},50224,"SM1",{"$f":"COUNTIF(Gesamtstand!$B$3:$B$104,$A76)=0","v":true},null,{"$f":"VLOOKUP($C76,bangolf_players!$B$2:$G$4680,6,FALSE)","v":"SM1"},{"$f":"VLOOKUP($C76,bangolf_players!$B$2:$G$4680,4,FALSE)","v":"MSK Neheim-Hüsten"},true]
["Richter, Mike",{"$f":"VLOOKUP(H77,Vereine!$A$2:$B$29,2,FALSE)","v":"Eiben."},34904,"H",{"$f":"COUNTIF(Gesamtstand!$B$3:$B$104,$A77)=0","v":true},null,{"$f":"VLOOKUP($C77,bangolf_players!$B$2:$G$4680,6,FALSE)","v":"H"},{"$f":"VLOOKUP($C77,bangolf_players!$B$2:$G$4680,4,FALSE)","v":"MGV Eibenstock"},true]
["Scharpe, Sabine",{"$f":"VLOOKUP(H78,Vereine!$A$2:$B$29,2,FALSE)","v":"BMC"},67147,"SW1",{"$f":"COUNTIF(Gesamtstand!$B$3:$B$104,$A78)=0","v":false},null,{"$f":"VLOOKUP($C78,bangolf_players!$B$2:$G$4680,6,FALSE)","v":"SW1"},{"$f":"VLOOKUP($C78,bangolf_players!$B$2:$G$4680,4,FALSE)","v":"Bochumer Minigolf-Club 1960"},true]
["Schmidt, Barbara",{"$f":"VLOOKUP(H79,Vereine!$A$2:$B$29,2,FALSE)","v":"Hobby"},3202768,"SW2",{"$f":"COUNTIF(Gesamtstand!$B$3:$B$104,$A79)=0","v":false},null,{"$f":"VLOOKUP($C79,bangolf_players!$B$2:$G$4680,6,FALSE)","v":"SW2"},{"$f":"VLOOKUP($C79,bangolf_players!$B$2:$G$4680,4,FALSE)","v":"Hobby"},{"$f":"G79=D79","v":true}]
["Schmidtbauer, Günter",{"$f":"VLOOKUP(H80,Vereine!$A$2:$B$29,2,FALSE)","v":"Hobby"},"Hobby4","SM2",{"$f":"COUNTIF(Gesamtstand!$B$3:$B$104,$A80)=0","v":false},null,{"$f":"VLOOKUP($C80,bangolf_players!$B$2:$G$4680,6,FALSE)","v":"SM2"},{"$f":"VLOOKUP($C80,bangolf_players!$B$2:$G$4680,4,FALSE)","v":"Hobby"},true]
["Schmitt, Jürgen",{"$f":"VLOOKUP(H81,Vereine!$A$2:$B$29,2,FALSE)","v":"ASW"},44955,"SM1",{"$f":"COUNTIF(Gesamtstand!$B$3:$B$104,$A81)=0","v":false},null,{"$f":"VLOOKUP($C81,bangolf_players!$B$2:$G$4680,6,FALSE)","v":"SM1"},{"$f":"VLOOKUP($C81,bangolf_players!$B$2:$G$4680,4,FALSE)","v":"MGC \"AS\" Witten 1963"},true]
["Schmitz, Ingeborg",{"$f":"VLOOKUP(H82,Vereine!$A$2:$B$29,2,FALSE)","v":"BMC"},37171,"SW2",{"$f":"COUNTIF(Gesamtstand!$B$3:$B$104,$A82)=0","v":false},null,{"$f":"VLOOKUP($C82,bangolf_players!$B$2:$G$4680,6,FALSE)","v":"SW2"},{"$f":"VLOOKUP($C82,bangolf_players!$B$2:$G$4680,4,FALSE)","v":"Bochumer Minigolf-Club 1960"},{"$f":"G82=D82","v":true}]
["Seifert, Noah",{"$f":"VLOOKUP(H83,Vereine!$A$2:$B$29,2,FALSE)","v":"Wesel"},66364,"H",{"$f":"COUNTIF(Gesamtstand!$B$3:$B$104,$A83)=0","v":true},null,{"$f":"VLOOKUP($C83,bangolf_players!$B$2:$G$4680,6,FALSE)","v":"H"},{"$f":"VLOOKUP($C83,bangolf_players!$B$2:$G$4680,4,FALSE)","v":"1. MSC Wesel 6.6.1966"},true]
["Seifert, Stefan",{"$f":"VLOOKUP(H84,Vereine!$A$2:$B$29,2,FALSE)","v":"Wesel"},66472,"SM1",{"$f":"COUNTIF(Gesamtstand!$B$3:$B$104,$A84)=0","v":true},null,{"$f":"VLOOKUP($C84,bangolf_players!$B$2:$G$4680,6,FALSE)","v":"SM1"},{"$f":"VLOOKUP($C84,bangolf_players!$B$2:$G$4680,4,FALSE)","v":"1. MSC Wesel 6.6.1966"},true]
["Skischalli, Frank",{"$f":"VLOOKUP(H85,Vereine!$A$2:$B$29,2,FALSE)","v":"Hobby"},"Hobby10","H",{"$f":"COUNTIF(Gesamtstand!$B$3:$B$104,$A85)=0","v":true},null,{"$f":"VLOOKUP($C85,bangolf_players!$B$2:$G$4680,6,FALSE)","v":"H"},{"$f":"VLOOKUP($C85,bangolf_players!$B$2:$G$4680,4,FALSE)","v":"Hobby"},true]
["Springob, René",{"$f":"VLOOKUP(H86,Vereine!$A$2:$B$29,2,FALSE)","v":"NEH"},38477,"H",{"$f":"COUNTIF(Gesamtstand!$B$3:$B$104,$A86)=0","v":true},null,{"$f":"VLOOKUP($C86,bangolf_players!$B$2:$G$4680,6,FALSE)","v":"H"},{"$f":"VLOOKUP($C86,bangolf_players!$B$2:$G$4680,4,FALSE)","v":"MSK Neheim-Hüsten"},true]
["Tabor, Peter",{"$f":"VLOOKUP(H87,Vereine!$A$2:$B$29,2,FALSE)","v":"ASW"},65804,"SM2",{"$f":"COUNTIF(Gesamtstand!$B$3:$B$104,$A87)=0","v":false},null,{"$f":"VLOOKUP($C87,bangolf_players!$B$2:$G$4680,6,FALSE)","v":"SM2"},{"$f":"VLOOKUP($C87,bangolf_players!$B$2:$G$4680,4,FALSE)","v":"MGC \"AS\" Witten 1963"},true]
["Tockner, Franz",{"$f":"VLOOKUP(H88,Vereine!$A$2:$B$29,2,FALSE)","v":"ASW"},5438,"SM2",{"$f":"COUNTIF(Gesamtstand!$B$3:$B$104,$A88)=0","v":true},null,{"$f":"VLOOKUP($C88,bangolf_players!$B$2:$G$4680,6,FALSE)","v":"SM2"},{"$f":"VLOOKUP($C88,bangolf_players!$B$2:$G$4680,4,FALSE)","v":"MGC \"AS\" Witten 1963"},true]
["Urban, Angela",{"$f":"VLOOKUP(H89,Vereine!$A$2:$B$29,2,FALSE)","v":"ASW"},35605,"SW1",{"$f":"COUNTIF(Gesamtstand!$B$3:$B$104,$A89)=0","v":false},null,{"$f":"VLOOKUP($C89,bangolf_players!$B$2:$G$4680,6,FALSE)","v":"SW1"},{"$f":"VLOOKUP($C89,bangolf_players!$B$2:$G$4680,4,FALSE)","v":"MGC \"AS\" Witten 1963"},true]
["Urban, Dominic",{"$f":"VLOOKUP(H90,Vereine!$A$2:$B$29,2,FALSE)","v":"ASW"},66186,"JM",{"$f":"COUNTIF(Gesamtstand!$B$3:$B$104,$A90)=0","v":false},null,{"$f":"VLOOKUP($C90,bangolf_players!$B$2:$G$4680,6,FALSE)","v":"JM"},{"$f":"VLOOKUP($C90,bangolf_players!$B$2:$G$4680,4,FALSE)","v":"MGC \"AS\" Witten 1963"},true]
["Urban, Volker",{"$f":"VLOOKUP(H91,Vereine!$A$2:$B$29,2,FALSE)","v":"ASW"},35604,"SM1",{"$f":"COUNTIF(Gesamtstand!$B$3:$B$104,$A91)=0","v":false},null,{"$f":"VLOOKUP($C91,bangolf_players!$B$2:$G$4680,6,FALSE)","v":"SM1"},{"$f":"VLOOKUP($C91,bangolf_players!$B$2:$G$4680,4,FALSE)","v":"MGC \"AS\" Witten 1963"},true]
["Wickel-Paffrath, Melanie",{"$f":"VLOOKUP(H92,Vereine!$A$2:$B$29,2,FALSE)","v":"HEV"},33510,"D",{"$f":"COUNTIF(Gesamtstand!$B$3:$B$104,$A92)=0","v":false},null,{"$f":"VLOOKUP($C92,bangolf_players!$B$2:$G$4680,6,FALSE)","v":"D"},{"$f":"VLOOKUP($C92,bangolf_players!$B$2:$G$4680,4,FALSE)","v":"MGC Heven"},{"$f":"G92=D92","v":true}]
["Wilhelms, Ralf",{"$f":"VLOOKUP(H93,Vereine!$A$2:$B$29,2,FALSE)","v":"Ennep."},44805,"SM1",{"$f":"COUNTIF(Gesamtstand!$B$3:$B$104,$A93)=0","v":true},null,{"$f":"VLOOKUP($C93,bangolf_players!$B$2:$G$4680,6,FALSE)","v":"SM1"},{"$f":"VLOOKUP($C93,bangolf_players!$B$2:$G$4680,4,FALSE)","v":"BSC Ennepetal"},true]
["Wilke, Andreas",{"$f":"VLOOKUP(H94,Vereine!$A$2:$B$29,2,FALSE)","v":"Hobby"},"Hobby39","SM1",{"$f":"COUNTIF(Gesamtstand!$B$3:$B$104,$A94)=0","v":false},null,{"$f":"VLOOKUP($C94,bangolf_players!$B$2:$G$4680,6,FALSE)","v":"SM1"},{"$f":"VLOOKUP($C94,bangolf_players!$B$2:$G$4680,4,FALSE)","v":"Hobby"},true]
["Wolf, Arnold",{"$f":"VLOOKUP(H95,Vereine!$A$2:$B$29,2,FALSE)","v":"LIP"},66409,"SM2",{"$f":"COUNTIF(Gesamtstand!$B$3:$B$104,$A95)=0","v":false},null,{"$f":"VLOOKUP($C95,bangolf_players!$B$2:$G$4680,6,FALSE)","v":"SM2"},{"$f":"VLOOKUP($C95,bangolf_players!$B$2:$G$4680,4,FALSE)","v":"SC Bastion Rot Weiß Lippstadt"},true]
["Wortmann, Torben",{"$f":"VLOOKUP(H96,Vereine!$A$2:$B$29,2,FALSE)","v":"Hobby"},"Hobby42","H",{"$f":"COUNTIF(Gesamtstand!$B$3:$B$104,$A96)=0","v":true},null,{"$f":"VLOOKUP($C96,bangolf_players!$B$2:$G$4680,6,FALSE)","v":"H"},{"$f":"VLOOKUP($C96,bangolf_players!$B$2:$G$4680,4,FALSE)","v":"Hobby"},{"$f":"G96=D96","v":true}]
["Wruck, Wolfgang",{"$f":"VLOOKUP(H97,Vereine!$A$2:$B$29,2,FALSE)","v":"LIP"},66408,"SM1",{"$f":"COUNTIF(Gesamtstand!$B$3:$B$104,$A97)=0","v":false},null,{"$f":"VLOOKUP($C97,bangolf_players!$B$2:$G$4680,6,FALSE)","v":"SM1"},{"$f":"VLOOKUP($C97,bangolf_players!$B$2:$G$4680,4,FALSE)","v":"SC Bastion Rot Weiß Lippstadt"},true]

{"sheet":"bangolf_players","index":25,"n_rows":4048,"n_cols":7,"rows_kept":4048,"cut":false,"hidden":true,"merged":[]}
["Kat","PassNr","Vorname","Nachname","VereinName","Kennung","Kat"]
["hv",25891,"Lothar","Abele","1. MGC Metzingen",{"$f":"CONCATENATE(VLOOKUP(A2,bangolf_kategorien!$A$2:$B$11,2,FALSE),\": \",D2,\", \",C2)","v":"SM2: Abele, Lothar"},{"$f":"VLOOKUP(A2,bangolf_kategorien!$A$2:$B$11,2,FALSE)","v":"SM2"}]
["dv",869,"Birgit","Abeling-Betzien","BGC Diepholz",{"$f":"CONCATENATE(VLOOKUP(A3,bangolf_kategorien!$A$2:$B$11,2,FALSE),\": \",D3,\", \",C3)","v":"SW2: Abeling-Betzien, Birgit"},{"$f":"VLOOKUP(A3,bangolf_kategorien!$A$2:$B$11,2,FALSE)","v":"SW2"}]
["hv",33312,"Edgar","Abelmann","1. BGC Hannover",{"$f":"CONCATENATE(VLOOKUP(A4,bangolf_kategorien!$A$2:$B$11,2,FALSE),\": \",D4,\", \",C4)","v":"SM2: Abelmann, Edgar"},{"$f":"VLOOKUP(A4,bangolf_kategorien!$A$2:$B$11,2,FALSE)","v":"SM2"}]
["ob",27712,"Thomas","Abendroth","Reinickendorfer MGC",{"$f":"CONCATENATE(VLOOKUP(A5,bangolf_kategorien!$A$2:$B$11,2,FALSE),\": \",D5,\", \",C5)","v":"SM1: Abendroth, Thomas"},{"$f":"VLOOKUP(A5,bangolf_kategorien!$A$2:$B$11,2,FALSE)","v":"SM1"}]
["ob",43272,"Hendrik","Ackermann","1. MGC Ludwigshafen",{"$f":"CONCATENATE(VLOOKUP(A6,bangolf_kategorien!$A$2:$B$11,2,FALSE),\": \",D6,\", \",C6)","v":"SM1: Ackermann, Hendrik"},{"$f":"VLOOKUP(A6,bangolf_kategorien!$A$2:$B$11,2,FALSE)","v":"SM1"}]
["dv",36901,"Gabriele","Adam","MGC Felderbachtal 1964",{"$f":"CONCATENATE(VLOOKUP(A7,bangolf_kategorien!$A$2:$B$11,2,FALSE),\": \",D7,\", \",C7)","v":"SW2: Adam, Gabriele"},{"$f":"VLOOKUP(A7,bangolf_kategorien!$A$2:$B$11,2,FALSE)","v":"SW2"}]
["hv",36366,"Herbert","Adam","MGC Felderbachtal 1964",{"$f":"CONCATENATE(VLOOKUP(A8,bangolf_kategorien!$A$2:$B$11,2,FALSE),\": \",D8,\", \",C8)","v":"SM2: Adam, Herbert"},{"$f":"VLOOKUP(A8,bangolf_kategorien!$A$2:$B$11,2,FALSE)","v":"SM2"}]
["hs",34631,"Jan Sebastian","Adam","VfL Lüneburg Abt. Bahnengolf",{"$f":"CONCATENATE(VLOOKUP(A9,bangolf_kategorien!$A$2:$B$11,2,FALSE),\": \",D9,\", \",C9)","v":"H: Adam, Jan Sebastian"},{"$f":"VLOOKUP(A9,bangolf_kategorien!$A$2:$B$11,2,FALSE)","v":"H"}]
["ds",67154,"Jessica","Adam","VfL Lüneburg Abt. Bahnengolf",{"$f":"CONCATENATE(VLOOKUP(A10,bangolf_kategorien!$A$2:$B$11,2,FALSE),\": \",D10,\", \",C10)","v":"D: Adam, Jessica"},{"$f":"VLOOKUP(A10,bangolf_kategorien!$A$2:$B$11,2,FALSE)","v":"D"}]
["dv",37108,"Astrid","Adamczyk","MGC Bad Homburg vdH",{"$f":"CONCATENATE(VLOOKUP(A11,bangolf_kategorien!$A$2:$B$11,2,FALSE),\": \",D11,\", \",C11)","v":"SW2: Adamczyk, Astrid"},{"$f":"VLOOKUP(A11,bangolf_kategorien!$A$2:$B$11,2,FALSE)","v":"SW2"}]
["ds",35408,"Jasmin","Adamczyk","MGC Bad Homburg vdH",{"$f":"CONCATENATE(VLOOKUP(A12,bangolf_kategorien!$A$2:$B$11,2,FALSE),\": \",D12,\", \",C12)","v":"D: Adamczyk, Jasmin"},{"$f":"VLOOKUP(A12,bangolf_kategorien!$A$2:$B$11,2,FALSE)","v":"D"}]
["hv",35377,"Michael","Adamczyk","MGC Bad Homburg vdH",{"$f":"CONCATENATE(VLOOKUP(A13,bangolf_kategorien!$A$2:$B$11,2,FALSE),\": \",D13,\", \",C13)","v":"SM2: Adamczyk, Michael"},{"$f":"VLOOKUP(A13,bangolf_kategorien!$A$2:$B$11,2,FALSE)","v":"SM2"}]
["hv",35715,"Bernd","Adamski","MGC Rot-Weiß Wanne-Eickel",{"$f":"CONCATENATE(VLOOKUP(A14,bangolf_kategorien!$A$2:$B$11,2,FALSE),\": \",D14,\", \",C14)","v":"SM2: Adamski, Bernd"},{"$f":"VLOOKUP(A14,bangolf_kategorien!$A$2:$B$11,2,FALSE)","v":"SM2"}]
["ob",46986,"Jürgen","Adenau","1.KGC Mönchengladbach",{"$f":"CONCATENATE(VLOOKUP(A15,bangolf_kategorien!$A$2:$B$11,2,FALSE),\": \",D15,\", \",C15)","v":"SM1: Adenau, Jürgen"},{"$f":"VLOOKUP(A15,bangolf_kategorien!$A$2:$B$11,2,FALSE)","v":"SM1"}]
["hs",29794,"Markus","Affeld","MSC Herscheid 1963",{"$f":"CONCATENATE(VLOOKUP(A16,bangolf_kategorien!$A$2:$B$11,2,FALSE),\": \",D16,\", \",C16)","v":"H: Affeld, Markus"},{"$f":"VLOOKUP(A16,bangolf_kategorien!$A$2:$B$11,2,FALSE)","v":"H"}]
["hs",24649,"Alan","Ahmed","MGC Bad Oldesloe",{"$f":"CONCATENATE(VLOOKUP(A17,bangolf_kategorien!$A$2:$B$11,2,FALSE),\": \",D17,\", \",C17)","v":"H: Ahmed, Alan"},{"$f":"VLOOKUP(A17,bangolf_kategorien!$A$2:$B$11,2,FALSE)","v":"H"}]
["ob",3108935,"Michel","Ahnert","Hobby",{"$f":"CONCATENATE(VLOOKUP(A18,bangolf_kategorien!$A$2:$B$11,2,FALSE),\": \",D18,\", \",C18)","v":"SM1: Ahnert, Michel"},{"$f":"VLOOKUP(A18,bangolf_kategorien!$A$2:$B$11,2,FALSE)","v":"SM1"}]
["hs",36151,"Pasi","Aho","BGC Neutraubling",{"$f":"CONCATENATE(VLOOKUP(A19,bangolf_kategorien!$A$2:$B$11,2,FALSE),\": \",D19,\", \",C19)","v":"H: Aho, Pasi"},{"$f":"VLOOKUP(A19,bangolf_kategorien!$A$2:$B$11,2,FALSE)","v":"H"}]
["og",37046,"Mabel","Ahrentropp","HMC Büttgen",{"$f":"CONCATENATE(VLOOKUP(A20,bangolf_kategorien!$A$2:$B$11,2,FALSE),\": \",D20,\", \",C20)","v":"SW1: Ahrentropp, Mabel"},{"$f":"VLOOKUP(A20,bangolf_kategorien!$A$2:$B$11,2,FALSE)","v":"SW1"}]
["ds",66842,"Catharina","Aichele","MGC Monrepos",{"$f":"CONCATENATE(VLOOKUP(A21,bangolf_kategorien!$A$2:$B$11,2,FALSE),\": \",D21,\", \",C21)","v":"D: Aichele, Catharina"},{"$f":"VLOOKUP(A21,bangolf_kategorien!$A$2:$B$11,2,FALSE)","v":"D"}]
["ob",66843,"Rainer","Aichele","1. MGC Hechingen",{"$f":"CONCATENATE(VLOOKUP(A22,bangolf_kategorien!$A$2:$B$11,2,FALSE),\": \",D22,\", \",C22)","v":"SM1: Aichele, Rainer"},{"$f":"VLOOKUP(A22,bangolf_kategorien!$A$2:$B$11,2,FALSE)","v":"SM1"}]
["hs",27728,"Sascha","Albrecht","1. MGC 1970 Göttingen",{"$f":"CONCATENATE(VLOOKUP(A23,bangolf_kategorien!$A$2:$B$11,2,FALSE),\": \",D23,\", \",C23)","v":"H: Albrecht, Sascha"},{"$f":"VLOOKUP(A23,bangolf_kategorien!$A$2:$B$11,2,FALSE)","v":"H"}]
["ds",66650,"Nassim","Alizadeh","Miniaturgolf Sportclub Schriesheim",{"$f":"CONCATENATE(VLOOKUP(A24,bangolf_kategorien!$A$2:$B$11,2,FALSE),\": \",D24,\", \",C24)","v":"D: Alizadeh, Nassim"},{"$f":"VLOOKUP(A24,bangolf_kategorien!$A$2:$B$11,2,FALSE)","v":"D"}]
["ob",67317,"Jürgen","Allmacher","MGC Traben-Trarbach",{"$f":"CONCATENATE(VLOOKUP(A25,bangolf_kategorien!$A$2:$B$11,2,FALSE),\": \",D25,\", \",C25)","v":"SM1: Allmacher, Jürgen"},{"$f":"VLOOKUP(A25,bangolf_kategorien!$A$2:$B$11,2,FALSE)","v":"SM1"}]
["pa",67318,"Leon","Allmacher","MGC Traben-Trarbach",{"$f":"CONCATENATE(VLOOKUP(A26,bangolf_kategorien!$A$2:$B$11,2,FALSE),\": \",D26,\", \",C26)","v":"SCHM: Allmacher, Leon"},{"$f":"VLOOKUP(A26,bangolf_kategorien!$A$2:$B$11,2,FALSE)","v":"SCHM"}]
["og",33902,"Bianca","Allmüller","BGV Backumer Tal Herten",{"$f":"CONCATENATE(VLOOKUP(A27,bangolf_kategorien!$A$2:$B$11,2,FALSE),\": \",D27,\", \",C27)","v":"SW1: Allmüller, Bianca"},{"$f":"VLOOKUP(A27,bangolf_kategorien!$A$2:$B$11,2,FALSE)","v":"SW1"}]
["ob",33903,"Markus","Allmüller","BGV Backumer Tal Herten",{"$f":"CONCATENATE(VLOOKUP(A28,bangolf_kategorien!$A$2:$B$11,2,FALSE),\": \",D28,\", \",C28)","v":"SM1: Allmüller, Markus"},{"$f":"VLOOKUP(A28,bangolf_kategorien!$A$2:$B$11,2,FALSE)","v":"SM1"}]
["ob",29237,"Peter","Amberger","BGC Neutraubling",{"$f":"CONCATENATE(VLOOKUP(A29,bangolf_kategorien!$A$2:$B$11,2,FALSE),\": \",D29,\", \",C29)","v":"SM1: Amberger, Peter"},{"$f":"VLOOKUP(A29,bangolf_kategorien!$A$2:$B$11,2,FALSE)","v":"SM1"}]
["ob",67242,"Tobias","Amely","MSC Bad Godesberg",{"$f":"CONCATENATE(VLOOKUP(A30,bangolf_kategorien!$A$2:$B$11,2,FALSE),\": \",D30,\", \",C30)","v":"SM1: Amely, Tobias"},{"$f":"VLOOKUP(A30,bangolf_kategorien!$A$2:$B$11,2,FALSE)","v":"SM1"}]
["hv",5720,"Wolfgang","Ament","SV 1890 Dreieichenhain, Abt. Bahnengolf",{"$f":"CONCATENATE(VLOOKUP(A31,bangolf_kategorien!$A$2:$B$11,2,FALSE),\": \",D31,\", \",C31)","v":"SM2: Ament, Wolfgang"},{"$f":"VLOOKUP(A31,bangolf_kategorien!$A$2:$B$11,2,FALSE)","v":"SM2"}]
["ob",44990,"Alexander","Anders","BGSV Castrop 1961",{"$f":"CONCATENATE(VLOOKUP(A32,bangolf_kategorien!$A$2:$B$11,2,FALSE),\": \",D32,\", \",C32)","v":"SM1: Anders, Alexander"},{"$f":"VLOOKUP(A32,bangolf_kategorien!$A$2:$B$11,2,FALSE)","v":"SM1"}]
["hs",50612,"Oliver","Anders","MGC Dortmund Syburg",{"$f":"CONCATENATE(VLOOKUP(A33,bangolf_kategorien!$A$2:$B$11,2,FALSE),\": \",D33,\", \",C33)","v":"H: Anders, Oliver"},{"$f":"VLOOKUP(A33,bangolf_kategorien!$A$2:$B$11,2,FALSE)","v":"H"}]
["ob",66492,"Uwe","Andrejewski","1. MGC Gelsenkirchen",{"$f":"CONCATENATE(VLOOKUP(A34,bangolf_kategorien!$A$2:$B$11,2,FALSE),\": \",D34,\", \",C34)","v":"SM1: Andrejewski, Uwe"},{"$f":"VLOOKUP(A34,bangolf_kategorien!$A$2:$B$11,2,FALSE)","v":"SM1"}]
["ob",66109,"Andre","Andresen","BGC Kiel West",{"$f":"CONCATENATE(VLOOKUP(A35,bangolf_kategorien!$A$2:$B$11,2,FALSE),\": \",D35,\", \",C35)","v":"SM1: Andresen, Andre"},{"$f":"VLOOKUP(A35,bangolf_kategorien!$A$2:$B$11,2,FALSE)","v":"SM1"}]
["hv",37496,"Klaus-Dieter","Andresen","MGC Harrislee-Wassersleben",{"$f":"CONCATENATE(VLOOKUP(A36,bangolf_kategorien!$A$2:$B$11,2,FALSE),\": \",D36,\", \",C36)","v":"SM2: Andresen, Klaus-Dieter"},{"$f":"VLOOKUP(A36,bangolf_kategorien!$A$2:$B$11,2,FALSE)","v":"SM2"}]
["hv",66201,"Bernd","Andrzejak","MGC Rot-Weiß Wanne-Eickel",{"$f":"CONCATENATE(VLOOKUP(A37,bangolf_kategorien!$A$2:$B$11,2,FALSE),\": \",D37,\", \",C37)","v":"SM2: Andrzejak, Bernd"},{"$f":"VLOOKUP(A37,bangolf_kategorien!$A$2:$B$11,2,FALSE)","v":"SM2"}]
["hv",67210,"Karl-Heinz","Angabreit","BGC Uerdingen",{"$f":"CONCATENATE(VLOOKUP(A38,bangolf_kategorien!$A$2:$B$11,2,FALSE),\": \",D38,\", \",C38)","v":"SM2: Angabreit, Karl-Heinz"},{"$f":"VLOOKUP(A38,bangolf_kategorien!$A$2:$B$11,2,FALSE)","v":"SM2"}]
["pa",67183,"Robin","Antholz","MSG Kempten",{"$f":"CONCATENATE(VLOOKUP(A39,bangolf_kategorien!$A$2:$B$11,2,FALSE),\": \",D39,\", \",C39)","v":"SCHM: Antholz, Robin"},{"$f":"VLOOKUP(A39,bangolf_kategorien!$A$2:$B$11,2,FALSE)","v":"SCHM"}]
["hv",45031,"Erwin","Antor","MGC Bad Waldsee 1990",{"$f":"CONCATENATE(VLOOKUP(A40,bangolf_kategorien!$A$2:$B$11,2,FALSE),\": \",D40,\", \",C40)","v":"SM2: Antor, Erwin"},{"$f":"VLOOKUP(A40,bangolf_kategorien!$A$2:$B$11,2,FALSE)","v":"SM2"}]
["dv",3202728,"Renate","Apel","Hobby",{"$f":"CONCATENATE(VLOOKUP(A41,bangolf_kategorien!$A$2:$B$11,2,FALSE),\": \",D41,\", \",C41)","v":"SW2: Apel, Renate"},{"$f":"VLOOKUP(A41,bangolf_kategorien!$A$2:$B$11,2,FALSE)","v":"SW2"}]
["ob",27278,"Udo","Apelmeier","BV Sennestadt",{"$f":"CONCATENATE(VLOOKUP(A42,bangolf_kategorien!$A$2:$B$11,2,FALSE),\": \",D42,\", \",C42)","v":"SM1: Apelmeier, Udo"},{"$f":"VLOOKUP(A42,bangolf_kategorien!$A$2:$B$11,2,FALSE)","v":"SM1"}]
["hv",45054,"Willi","Appel","Miniaturgolf Sportclub Schriesheim",{"$f":"CONCATENATE(VLOOKUP(A43,bangolf_kategorien!$A$2:$B$11,2,FALSE),\": \",D43,\", \",C43)","v":"SM2: Appel, Willi"},{"$f":"VLOOKUP(A43,bangolf_kategorien!$A$2:$B$11,2,FALSE)","v":"SM2"}]
["hs",29034,"André","Appelmann","1. MGC Epe 1978",{"$f":"CONCATENATE(VLOOKUP(A44,bangolf_kategorien!$A$2:$B$11,2,FALSE),\": \",D44,\", \",C44)","v":"H: Appelmann, André"},{"$f":"VLOOKUP(A44,bangolf_kategorien!$A$2:$B$11,2,FALSE)","v":"H"}]
["ds",36479,"Laura","Appelmann","1. MGC Epe 1978",{"$f":"CONCATENATE(VLOOKUP(A45,bangolf_kategorien!$A$2:$B$11,2,FALSE),\": \",D45,\", \",C45)","v":"D: Appelmann, Laura"},{"$f":"VLOOKUP(A45,bangolf_kategorien!$A$2:$B$11,2,FALSE)","v":"D"}]
["og",67250,"Angelina","Arendt","BGSV Castrop 1961",{"$f":"CONCATENATE(VLOOKUP(A46,bangolf_kategorien!$A$2:$B$11,2,FALSE),\": \",D46,\", \",C46)","v":"SW1: Arendt, Angelina"},{"$f":"VLOOKUP(A46,bangolf_kategorien!$A$2:$B$11,2,FALSE)","v":"SW1"}]
["hs",47183,"Sascha","Arendt","BGSV Castrop 1961",{"$f":"CONCATENATE(VLOOKUP(A47,bangolf_kategorien!$A$2:$B$11,2,FALSE),\": \",D47,\", \",C47)","v":"H: Arendt, Sascha"},{"$f":"VLOOKUP(A47,bangolf_kategorien!$A$2:$B$11,2,FALSE)","v":"H"}]
["ob",1013864,"Ingo","Arens","Hobby",{"$f":"CONCATENATE(VLOOKUP(A48,bangolf_kategorien!$A$2:$B$11,2,FALSE),\": \",D48,\", \",C48)","v":"SM1: Arens, Ingo"},{"$f":"VLOOKUP(A48,bangolf_kategorien!$A$2:$B$11,2,FALSE)","v":"SM1"}]
["ob",27450,"Ingo","Arens","SGC Hagen",{"$f":"CONCATENATE(VLOOKUP(A49,bangolf_kategorien!$A$2:$B$11,2,FALSE),\": \",D49,\", \",C49)","v":"SM1: Arens, Ingo"},{"$f":"VLOOKUP(A49,bangolf_kategorien!$A$2:$B$11,2,FALSE)","v":"SM1"}]
["hs",26327,"Christoph","Arenz","MSC Bad Godesberg",{"$f":"CONCATENATE(VLOOKUP(A50,bangolf_kategorien!$A$2:$B$11,2,FALSE),\": \",D50,\", \",C50)","v":"H: Arenz, Christoph"},{"$f":"VLOOKUP(A50,bangolf_kategorien!$A$2:$B$11,2,FALSE)","v":"H"}]
["hv",4769,"Heinz Josef","Arenz","MSC Bad Godesberg",{"$f":"CONCATENATE(VLOOKUP(A51,bangolf_kategorien!$A$2:$B$11,2,FALSE),\": \",D51,\", \",C51)","v":"SM2: Arenz, Heinz Josef"},{"$f":"VLOOKUP(A51,bangolf_kategorien!$A$2:$B$11,2,FALSE)","v":"SM2"}]
["hv",37811,"Helmut","Arlt","SV Glückauf 1901 Gebhardshagen",{"$f":"CONCATENATE(VLOOKUP(A52,bangolf_kategorien!$A$2:$B$11,2,FALSE),\": \",D52,\", \",C52)","v":"SM2: Arlt, Helmut"},{"$f":"VLOOKUP(A52,bangolf_kategorien!$A$2:$B$11,2,FALSE)","v":"SM2"}]
["hv",60227,"Gerhard","Arndt","VfL Lohbrügge Abt. Bahnengolf",{"$f":"CONCATENATE(VLOOKUP(A53,bangolf_kategorien!$A$2:$B$11,2,FALSE),\": \",D53,\", \",C53)","v":"SM2: Arndt, Gerhard"},{"$f":"VLOOKUP(A53,bangolf_kategorien!$A$2:$B$11,2,FALSE)","v":"SM2"}]
["dv",35778,"Franziska","Arnold","BGSV Aßlar 1987",{"$f":"CONCATENATE(VLOOKUP(A54,bangolf_kategorien!$A$2:$B$11,2,FALSE),\": \",D54,\", \",C54)","v":"SW2: Arnold, Franziska"},{"$f":"VLOOKUP(A54,bangolf_kategorien!$A$2:$B$11,2,FALSE)","v":"SW2"}]
["hv",35779,"Günter","Arnold","BGSV Aßlar 1987",{"$f":"CONCATENATE(VLOOKUP(A55,bangolf_kategorien!$A$2:$B$11,2,FALSE),\": \",D55,\", \",C55)","v":"SM2: Arnold, Günter"},{"$f":"VLOOKUP(A55,bangolf_kategorien!$A$2:$B$11,2,FALSE)","v":"SM2"}]
["hv",18435,"Klaus","Arnold","HMC Büttgen",{"$f":"CONCATENATE(VLOOKUP(A56,bangolf_kategorien!$A$2:$B$11,2,FALSE),\": \",D56,\", \",C56)","v":"SM2: Arnold, Klaus"},{"$f":"VLOOKUP(A56,bangolf_kategorien!$A$2:$B$11,2,FALSE)","v":"SM2"}]
["hv",60125,"Kurt","Arnold","MGC Murnau am Staffelsee",{"$f":"CONCATENATE(VLOOKUP(A57,bangolf_kategorien!$A$2:$B$11,2,FALSE),\": \",D57,\", \",C57)","v":"SM2: Arnold, Kurt"},{"$f":"VLOOKUP(A57,bangolf_kategorien!$A$2:$B$11,2,FALSE)","v":"SM2"}]
["hs",35780,"Mark","Arnold","SG Arheilgen Abt. Bahnengolf",{"$f":"CONCATENATE(VLOOKUP(A58,bangolf_kategorien!$A$2:$B$11,2,FALSE),\": \",D58,\", \",C58)","v":"H: Arnold, Mark"},{"$f":"VLOOKUP(A58,bangolf_kategorien!$A$2:$B$11,2,FALSE)","v":"H"}]
["ob",36179,"Marco","Arnsberg","MV Lankwitzer Dragons",{"$f":"CONCATENATE(VLOOKUP(A59,bangolf_kategorien!$A$2:$B$11,2,FALSE),\": \",D59,\", \",C59)","v":"SM1: Arnsberg, Marco"},{"$f":"VLOOKUP(A59,bangolf_kategorien!$A$2:$B$11,2,FALSE)","v":"SM1"}]
["hv",66447,"Stefan","Arweiler","Freizeit Club Bliesen",{"$f":"CONCATENATE(VLOOKUP(A60,bangolf_kategorien!$A$2:$B$11,2,FALSE),\": \",D60,\", \",C60)","v":"SM2: Arweiler, Stefan"},{"$f":"VLOOKUP(A60,bangolf_kategorien!$A$2:$B$11,2,FALSE)","v":"SM2"}]
["ob",33616,"Jörg","Asmuß","MGC Brunsbüttel",{"$f":"CONCATENATE(VLOOKUP(A61,bangolf_kategorien!$A$2:$B$11,2,FALSE),\": \",D61,\", \",C61)","v":"SM1: Asmuß, Jörg"},{"$f":"VLOOKUP(A61,bangolf_kategorien!$A$2:$B$11,2,FALSE)","v":"SM1"}]
["ob",23975,"Bernd","Aßmuth","Bochumer Minigolf-Club 1960",{"$f":"CONCATENATE(VLOOKUP(A62,bangolf_kategorien!$A$2:$B$11,2,FALSE),\": \",D62,\", \",C62)","v":"SM1: Aßmuth, Bernd"},{"$f":"VLOOKUP(A62,bangolf_kategorien!$A$2:$B$11,2,FALSE)","v":"SM1"}]
["hs",67563,"Daniel","Atzert","MGC Bad Homburg vdH",{"$f":"CONCATENATE(VLOOKUP(A63,bangolf_kategorien!$A$2:$B$11,2,FALSE),\": \",D63,\", \",C63)","v":"H: Atzert, Daniel"},{"$f":"VLOOKUP(A63,bangolf_kategorien!$A$2:$B$11,2,FALSE)","v":"H"}]
["hv",32897,"Manfred","Außerwinkler","1. BGC Hannover",{"$f":"CONCATENATE(VLOOKUP(A64,bangolf_kategorien!$A$2:$B$11,2,FALSE),\": \",D64,\", \",C64)","v":"SM2: Außerwinkler, Manfred"},{"$f":"VLOOKUP(A64,bangolf_kategorien!$A$2:$B$11,2,FALSE)","v":"SM2"}]
["ob",29208,"Thomas","Aussieker","BGSV Castrop 1961",{"$f":"CONCATENATE(VLOOKUP(A65,bangolf_kategorien!$A$2:$B$11,2,FALSE),\": \",D65,\", \",C65)","v":"SM1: Aussieker, Thomas"},{"$f":"VLOOKUP(A65,bangolf_kategorien!$A$2:$B$11,2,FALSE)","v":"SM1"}]
["hv",67205,"Jürgen","Aust","VfM Bottrop",{"$f":"CONCATENATE(VLOOKUP(A66,bangolf_kategorien!$A$2:$B$11,2,FALSE),\": \",D66,\", \",C66)","v":"SM2: Aust, Jürgen"},{"$f":"VLOOKUP(A66,bangolf_kategorien!$A$2:$B$11,2,FALSE)","v":"SM2"}]
["og",66405,"Manuela","Aust","BSC Ennepetal",{"$f":"CONCATENATE(VLOOKUP(A67,bangolf_kategorien!$A$2:$B$11,2,FALSE),\": \",D67,\", \",C67)","v":"SW1: Aust, Manuela"},{"$f":"VLOOKUP(A67,bangolf_kategorien!$A$2:$B$11,2,FALSE)","v":"SW1"}]
["dv",67206,"Petra","Aust","VfM Bottrop",{"$f":"CONCATENATE(VLOOKUP(A68,bangolf_kategorien!$A$2:$B$11,2,FALSE),\": \",D68,\", \",C68)","v":"SW2: Aust, Petra"},{"$f":"VLOOKUP(A68,bangolf_kategorien!$A$2:$B$11,2,FALSE)","v":"SW2"}]
["dv",49267,"Claudia","Axer","Kölner Miniatur Golf Club",{"$f":"CONCATENATE(VLOOKUP(A69,bangolf_kategorien!$A$2:$B$11,2,FALSE),\": \",D69,\", \",C69)","v":"SW2: Axer, Claudia"},{"$f":"VLOOKUP(A69,bangolf_kategorien!$A$2:$B$11,2,FALSE)","v":"SW2"}]
["hv",49266,"Reiner","Axer","Kölner Miniatur Golf Club",{"$f":"CONCATENATE(VLOOKUP(A70,bangolf_kategorien!$A$2:$B$11,2,FALSE),\": \",D70,\", \",C70)","v":"SM2: Axer, Reiner"},{"$f":"VLOOKUP(A70,bangolf_kategorien!$A$2:$B$11,2,FALSE)","v":"SM2"}]
["hs",15754,"Sascha","Axer","Kölner Miniatur Golf Club",{"$f":"CONCATENATE(VLOOKUP(A71,bangolf_kategorien!$A$2:$B$11,2,FALSE),\": \",D71,\", \",C71)","v":"H: Axer, Sascha"},{"$f":"VLOOKUP(A71,bangolf_kategorien!$A$2:$B$11,2,FALSE)","v":"H"}]
["ob",29229,"Manfred","Axtner","CGC Illertal Kellmünz",{"$f":"CONCATENATE(VLOOKUP(A72,bangolf_kategorien!$A$2:$B$11,2,FALSE),\": \",D72,\", \",C72)","v":"SM1: Axtner, Manfred"},{"$f":"VLOOKUP(A72,bangolf_kategorien!$A$2:$B$11,2,FALSE)","v":"SM1"}]
["hv",19768,"Stjepan","Babic","BIG ASPERG",{"$f":"CONCATENATE(VLOOKUP(A73,bangolf_kategorien!$A$2:$B$11,2,FALSE),\": \",D73,\", \",C73)","v":"SM2: Babic, Stjepan"},{"$f":"VLOOKUP(A73,bangolf_kategorien!$A$2:$B$11,2,FALSE)","v":"SM2"}]
["ob",67453,"Manfred","Bach","BGC Schloß Paffendorf",{"$f":"CONCATENATE(VLOOKUP(A74,bangolf_kategorien!$A$2:$B$11,2,FALSE),\": \",D74,\", \",C74)","v":"SM1: Bach, Manfred"},{"$f":"VLOOKUP(A74,bangolf_kategorien!$A$2:$B$11,2,FALSE)","v":"SM1"}]
["hv",4444,"Peter","Bach","MGC Oberkochen",{"$f":"CONCATENATE(VLOOKUP(A75,bangolf_kategorien!$A$2:$B$11,2,FALSE),\": \",D75,\", \",C75)","v":"SM2: Bach, Peter"},{"$f":"VLOOKUP(A75,bangolf_kategorien!$A$2:$B$11,2,FALSE)","v":"SM2"}]
["ob",29939,"Peter","Bachmann","1. MGC 1970 Göttingen",{"$f":"CONCATENATE(VLOOKUP(A76,bangolf_kategorien!$A$2:$B$11,2,FALSE),\": \",D76,\", \",C76)","v":"SM1: Bachmann, Peter"},{"$f":"VLOOKUP(A76,bangolf_kategorien!$A$2:$B$11,2,FALSE)","v":"SM1"}]
["og",43674,"Sabine","Bachmann","1. MGC 1970 Göttingen",{"$f":"CONCATENATE(VLOOKUP(A77,bangolf_kategorien!$A$2:$B$11,2,FALSE),\": \",D77,\", \",C77)","v":"SW1: Bachmann, Sabine"},{"$f":"VLOOKUP(A77,bangolf_kategorien!$A$2:$B$11,2,FALSE)","v":"SW1"}]
["dv",35587,"Elfriede","Bader","MGC Murnau am Staffelsee",{"$f":"CONCATENATE(VLOOKUP(A78,bangolf_kategorien!$A$2:$B$11,2,FALSE),\": \",D78,\", \",C78)","v":"SW2: Bader, Elfriede"},{"$f":"VLOOKUP(A78,bangolf_kategorien!$A$2:$B$11,2,FALSE)","v":"SW2"}]
["hv",35588,"Robert","Bader","MGC Murnau am Staffelsee",{"$f":"CONCATENATE(VLOOKUP(A79,bangolf_kategorien!$A$2:$B$11,2,FALSE),\": \",D79,\", \",C79)","v":"SM2: Bader, Robert"},{"$f":"VLOOKUP(A79,bangolf_kategorien!$A$2:$B$11,2,FALSE)","v":"SM2"}]
["hv",43414,"Gerhard","Badtke","BGC Bad Nenndorf",{"$f":"CONCATENATE(VLOOKUP(A80,bangolf_kategorien!$A$2:$B$11,2,FALSE),\": \",D80,\", \",C80)","v":"SM2: Badtke, Gerhard"},{"$f":"VLOOKUP(A80,bangolf_kategorien!$A$2:$B$11,2,FALSE)","v":"SM2"}]
["dv",46800,"Monika","Badtke","BGC Bad Nenndorf",{"$f":"CONCATENATE(VLOOKUP(A81,bangolf_kategorien!$A$2:$B$11,2,FALSE),\": \",D81,\", \",C81)","v":"SW2: Badtke, Monika"},{"$f":"VLOOKUP(A81,bangolf_kategorien!$A$2:$B$11,2,FALSE)","v":"SW2"}]
["ob",37761,"Torsten","Badziong","MGC Freizeitzentrum Biebertal",{"$f":"CONCATENATE(VLOOKUP(A82,bangolf_kategorien!$A$2:$B$11,2,FALSE),\": \",D82,\", \",C82)","v":"SM1: Badziong, Torsten"},{"$f":"VLOOKUP(A82,bangolf_kategorien!$A$2:$B$11,2,FALSE)","v":"SM1"}]
["hv",37355,"Uwe","Baer","1. BGC Wesseling 1975",{"$f":"CONCATENATE(VLOOKUP(A83,bangolf_kategorien!$A$2:$B$11,2,FALSE),\": \",D83,\", \",C83)","v":"SM2: Baer, Uwe"},{"$f":"VLOOKUP(A83,bangolf_kategorien!$A$2:$B$11,2,FALSE)","v":"SM2"}]
["ob",44139,"Thomas","Bahr","BGSV Castrop 1961",{"$f":"CONCATENATE(VLOOKUP(A84,bangolf_kategorien!$A$2:$B$11,2,FALSE),\": \",D84,\", \",C84)","v":"SM1: Bahr, Thomas"},{"$f":"VLOOKUP(A84,bangolf_kategorien!$A$2:$B$11,2,FALSE)","v":"SM1"}]
["hs",46033,"Sascha","Bähr","Niendorfer MC v. 1963",{"$f":"CONCATENATE(VLOOKUP(A85,bangolf_kategorien!$A$2:$B$11,2,FALSE),\": \",D85,\", \",C85)","v":"H: Bähr, Sascha"},{"$f":"VLOOKUP(A85,bangolf_kategorien!$A$2:$B$11,2,FALSE)","v":"H"}]
["hv",29699,"Hans","Baier","MGC Oberkochen",{"$f":"CONCATENATE(VLOOKUP(A86,bangolf_kategorien!$A$2:$B$11,2,FALSE),\": \",D86,\", \",C86)","v":"SM2: Baier, Hans"},{"$f":"VLOOKUP(A86,bangolf_kategorien!$A$2:$B$11,2,FALSE)","v":"SM2"}]
["dv",37653,"Andrea","Baierl","MGC Ingolstadt",{"$f":"CONCATENATE(VLOOKUP(A87,bangolf_kategorien!$A$2:$B$11,2,FALSE),\": \",D87,\", \",C87)","v":"SW2: Baierl, Andrea"},{"$f":"VLOOKUP(A87,bangolf_kategorien!$A$2:$B$11,2,FALSE)","v":"SW2"}]
["hv",37654,"Dieter","Baierl","MGC Ingolstadt",{"$f":"CONCATENATE(VLOOKUP(A88,bangolf_kategorien!$A$2:$B$11,2,FALSE),\": \",D88,\", \",C88)","v":"SM2: Baierl, Dieter"},{"$f":"VLOOKUP(A88,bangolf_kategorien!$A$2:$B$11,2,FALSE)","v":"SM2"}]
["pa",67478,"Ghulam Dastgeer","Baig","MGC Wetzlar",{"$f":"CONCATENATE(VLOOKUP(A89,bangolf_kategorien!$A$2:$B$11,2,FALSE),\": \",D89,\", \",C89)","v":"SCHM: Baig, Ghulam Dastgeer"},{"$f":"VLOOKUP(A89,bangolf_kategorien!$A$2:$B$11,2,FALSE)","v":"SCHM"}]
["ob",48505,"Varyam-Mirza","Baig","MGC Wetzlar",{"$f":"CONCATENATE(VLOOKUP(A90,bangolf_kategorien!$A$2:$B$11,2,FALSE),\": \",D90,\", \",C90)","v":"SM1: Baig, Varyam-Mirza"},{"$f":"VLOOKUP(A90,bangolf_kategorien!$A$2:$B$11,2,FALSE)","v":"SM1"}]
["hv",4489,"Karl-Heinz","Bailer","MGC 85 Bönnigheim",{"$f":"CONCATENATE(VLOOKUP(A91,bangolf_kategorien!$A$2:$B$11,2,FALSE),\": \",D91,\", \",C91)","v":"SM2: Bailer, Karl-Heinz"},{"$f":"VLOOKUP(A91,bangolf_kategorien!$A$2:$B$11,2,FALSE)","v":"SM2"}]
["hv",33109,"Heinz","Balbach","MGC Unterschneidheim",{"$f":"CONCATENATE(VLOOKUP(A92,bangolf_kategorien!$A$2:$B$11,2,FALSE),\": \",D92,\", \",C92)","v":"SM2: Balbach, Heinz"},{"$f":"VLOOKUP(A92,bangolf_kategorien!$A$2:$B$11,2,FALSE)","v":"SM2"}]
["hv",67268,"Thomas","Baldauf","BSG Pneumant Fürstenwalde, Abt. Minigolf",{"$f":"CONCATENATE(VLOOKUP(A93,bangolf_kategorien!$A$2:$B$11,2,FALSE),\": \",D93,\", \",C93)","v":"SM2: Baldauf, Thomas"},{"$f":"VLOOKUP(A93,bangolf_kategorien!$A$2:$B$11,2,FALSE)","v":"SM2"}]
["og",3106833,"Susanne","Balewski","Hobby",{"$f":"CONCATENATE(VLOOKUP(A94,bangolf_kategorien!$A$2:$B$11,2,FALSE),\": \",D94,\", \",C94)","v":"SW1: Balewski, Susanne"},{"$f":"VLOOKUP(A94,bangolf_kategorien!$A$2:$B$11,2,FALSE)","v":"SW1"}]
["ob",66669,"Thomas","Balf","BGC Uerdingen",{"$f":"CONCATENATE(VLOOKUP(A95,bangolf_kategorien!$A$2:$B$11,2,FALSE),\": \",D95,\", \",C95)","v":"SM1: Balf, Thomas"},{"$f":"VLOOKUP(A95,bangolf_kategorien!$A$2:$B$11,2,FALSE)","v":"SM1"}]
["hs",67281,"Kreon","Balis","1. Münchener MGC",{"$f":"CONCATENATE(VLOOKUP(A96,bangolf_kategorien!$A$2:$B$11,2,FALSE),\": \",D96,\", \",C96)","v":"H: Balis, Kreon"},{"$f":"VLOOKUP(A96,bangolf_kategorien!$A$2:$B$11,2,FALSE)","v":"H"}]
["hs",33514,"Christian","Balleininger","1. MGC Bamberg",{"$f":"CONCATENATE(VLOOKUP(A97,bangolf_kategorien!$A$2:$B$11,2,FALSE),\": \",D97,\", \",C97)","v":"H: Balleininger, Christian"},{"$f":"VLOOKUP(A97,bangolf_kategorien!$A$2:$B$11,2,FALSE)","v":"H"}]
["hv",5910,"Lyo","Balleininger","1. MGC Bamberg",{"$f":"CONCATENATE(VLOOKUP(A98,bangolf_kategorien!$A$2:$B$11,2,FALSE),\": \",D98,\", \",C98)","v":"SM2: Balleininger, Lyo"},{"$f":"VLOOKUP(A98,bangolf_kategorien!$A$2:$B$11,2,FALSE)","v":"SM2"}]
["ds",40906,"Yvonne","Baltes","MSC Bad Godesberg",{"$f":"CONCATENATE(VLOOKUP(A99,bangolf_kategorien!$A$2:$B$11,2,FALSE),\": \",D99,\", \",C99)","v":"D: Baltes, Yvonne"},{"$f":"VLOOKUP(A99,bangolf_kategorien!$A$2:$B$11,2,FALSE)","v":"D"}]
["hv",3194199,"Andreas","Baltruschat","Hobby",{"$f":"CONCATENATE(VLOOKUP(A100,bangolf_kategorien!$A$2:$B$11,2,FALSE),\": \",D100,\", \",C100)","v":"SM2: Baltruschat, Andreas"},{"$f":"VLOOKUP(A100,bangolf_kategorien!$A$2:$B$11,2,FALSE)","v":"SM2"}]
["hv",3354,"Hans","Balzer","1. Porzer MGC Grün-Weiß 1969",{"$f":"CONCATENATE(VLOOKUP(A101,bangolf_kategorien!$A$2:$B$11,2,FALSE),\": \",D101,\", \",C101)","v":"SM2: Balzer, Hans"},{"$f":"VLOOKUP(A101,bangolf_kategorien!$A$2:$B$11,2,FALSE)","v":"SM2"}]
["og",46565,"Iris","Balzer","1. Porzer MGC Grün-Weiß 1969",{"$f":"CONCATENATE(VLOOKUP(A102,bangolf_kategorien!$A$2:$B$11,2,FALSE),\": \",D102,\", \",C102)","v":"SW1: Balzer, Iris"},{"$f":"VLOOKUP(A102,bangolf_kategorien!$A$2:$B$11,2,FALSE)","v":"SW1"}]
["hv",5073,"Max","Balzereit","BSC Ennepetal",{"$f":"CONCATENATE(VLOOKUP(A103,bangolf_kategorien!$A$2:$B$11,2,FALSE),\": \",D103,\", \",C103)","v":"SM2: Balzereit, Max"},{"$f":"VLOOKUP(A103,bangolf_kategorien!$A$2:$B$11,2,FALSE)","v":"SM2"}]
["hs",38190,"Dennis","Bamberg","1. MGC Saar 68 St. Ingbert",{"$f":"CONCATENATE(VLOOKUP(A104,bangolf_kategorien!$A$2:$B$11,2,FALSE),\": \",D104,\", \",C104)","v":"H: Bamberg, Dennis"},{"$f":"VLOOKUP(A104,bangolf_kategorien!$A$2:$B$11,2,FALSE)","v":"H"}]
["og",25993,"Gabriele","Bamberg","1. MGC Mainz",{"$f":"CONCATENATE(VLOOKUP(A105,bangolf_kategorien!$A$2:$B$11,2,FALSE),\": \",D105,\", \",C105)","v":"SW1: Bamberg, Gabriele"},{"$f":"VLOOKUP(A105,bangolf_kategorien!$A$2:$B$11,2,FALSE)","v":"SW1"}]
["ob",42482,"Michael","Bamberg","1. MGC Mainz",{"$f":"CONCATENATE(VLOOKUP(A106,bangolf_kategorien!$A$2:$B$11,2,FALSE),\": \",D106,\", \",C106)","v":"SM1: Bamberg, Michael"},{"$f":"VLOOKUP(A106,bangolf_kategorien!$A$2:$B$11,2,FALSE)","v":"SM1"}]
["ds",67555,"Dana","Bär","MGC Brunsbüttel",{"$f":"CONCATENATE(VLOOKUP(A107,bangolf_kategorien!$A$2:$B$11,2,FALSE),\": \",D107,\", \",C107)","v":"D: Bär, Dana"},{"$f":"VLOOKUP(A107,bangolf_kategorien!$A$2:$B$11,2,FALSE)","v":"D"}]
["hs",48318,"Tobias","Bär","MGC Bad Hersfeld",{"$f":"CONCATENATE(VLOOKUP(A108,bangolf_kategorien!$A$2:$B$11,2,FALSE),\": \",D108,\", \",C108)","v":"H: Bär, Tobias"},{"$f":"VLOOKUP(A108,bangolf_kategorien!$A$2:$B$11,2,FALSE)","v":"H"}]
["og",38333,"Claudia","Barber","MSV Würzburg-Löwenbrücke",{"$f":"CONCATENATE(VLOOKUP(A109,bangolf_kategorien!$A$2:$B$11,2,FALSE),\": \",D109,\", \",C109)","v":"SW1: Barber, Claudia"},{"$f":"VLOOKUP(A109,bangolf_kategorien!$A$2:$B$11,2,FALSE)","v":"SW1"}]
["ob",43841,"Jens","Bardenhagen","MGC Brunsbüttel",{"$f":"CONCATENATE(VLOOKUP(A110,bangolf_kategorien!$A$2:$B$11,2,FALSE),\": \",D110,\", \",C110)","v":"SM1: Bardenhagen, Jens"},{"$f":"VLOOKUP(A110,bangolf_kategorien!$A$2:$B$11,2,FALSE)","v":"SM1"}]
["hv",25214,"Stefan","Bärenz","SV 1890 Dreieichenhain, Abt. Bahnengolf",{"$f":"CONCATENATE(VLOOKUP(A111,bangolf_kategorien!$A$2:$B$11,2,FALSE),\": \",D111,\", \",C111)","v":"SM2: Bärenz, Stefan"},{"$f":"VLOOKUP(A111,bangolf_kategorien!$A$2:$B$11,2,FALSE)","v":"SM2"}]
["hv",37576,"Bernd","Bargenda","MGC Harrislee-Wassersleben",{"$f":"CONCATENATE(VLOOKUP(A112,bangolf_kategorien!$A$2:$B$11,2,FALSE),\": \",D112,\", \",C112)","v":"SM2: Bargenda, Bernd"},{"$f":"VLOOKUP(A112,bangolf_kategorien!$A$2:$B$11,2,FALSE)","v":"SM2"}]
["ob",67241,"Heinz","Bark","SC Olympia Dortmund",{"$f":"CONCATENATE(VLOOKUP(A113,bangolf_kategorien!$A$2:$B$11,2,FALSE),\": \",D113,\", \",C113)","v":"SM1: Bark, Heinz"},{"$f":"VLOOKUP(A113,bangolf_kategorien!$A$2:$B$11,2,FALSE)","v":"SM1"}]
["ob",38123,"Mario","Barke","1. Essener CGC \"Blau-Gold\"",{"$f":"CONCATENATE(VLOOKUP(A114,bangolf_kategorien!$A$2:$B$11,2,FALSE),\": \",D114,\", \",C114)","v":"SM1: Barke, Mario"},{"$f":"VLOOKUP(A114,bangolf_kategorien!$A$2:$B$11,2,FALSE)","v":"SM1"}]
["ob",36967,"Thomas","Barke","1. Essener CGC \"Blau-Gold\"",{"$f":"CONCATENATE(VLOOKUP(A115,bangolf_kategorien!$A$2:$B$11,2,FALSE),\": \",D115,\", \",C115)","v":"SM1: Barke, Thomas"},{"$f":"VLOOKUP(A115,bangolf_kategorien!$A$2:$B$11,2,FALSE)","v":"SM1"}]
["hs",29656,"René","Barlog","Bochumer Minigolf-Club 1960",{"$f":"CONCATENATE(VLOOKUP(A116,bangolf_kategorien!$A$2:$B$11,2,FALSE),\": \",D116,\", \",C116)","v":"H: Barlog, René"},{"$f":"VLOOKUP(A116,bangolf_kategorien!$A$2:$B$11,2,FALSE)","v":"H"}]
["hv",66068,"Hermann","Barnstorf","1. BGC Celle von 1964",{"$f":"CONCATENATE(VLOOKUP(A117,bangolf_kategorien!$A$2:$B$11,2,FALSE),\": \",D117,\", \",C117)","v":"SM2: Barnstorf, Hermann"},{"$f":"VLOOKUP(A117,bangolf_kategorien!$A$2:$B$11,2,FALSE)","v":"SM2"}]
["hs",38086,"Daniel","Bärsch","1. BGC Leipzig",{"$f":"CONCATENATE(VLOOKUP(A118,bangolf_kategorien!$A$2:$B$11,2,FALSE),\": \",D118,\", \",C118)","v":"H: Bärsch, Daniel"},{"$f":"VLOOKUP(A118,bangolf_kategorien!$A$2:$B$11,2,FALSE)","v":"H"}]
["hv",67323,"Michael","Bartel","Osnabrücker M.-C. von 1963",{"$f":"CONCATENATE(VLOOKUP(A119,bangolf_kategorien!$A$2:$B$11,2,FALSE),\": \",D119,\", \",C119)","v":"SM2: Bartel, Michael"},{"$f":"VLOOKUP(A119,bangolf_kategorien!$A$2:$B$11,2,FALSE)","v":"SM2"}]
["ob",36395,"Harald","Barth","1. BGC Wesseling 1975",{"$f":"CONCATENATE(VLOOKUP(A120,bangolf_kategorien!$A$2:$B$11,2,FALSE),\": \",D120,\", \",C120)","v":"SM1: Barth, Harald"},{"$f":"VLOOKUP(A120,bangolf_kategorien!$A$2:$B$11,2,FALSE)","v":"SM1"}]
["og",50563,"Susanne","Barth","MSC Bad Godesberg",{"$f":"CONCATENATE(VLOOKUP(A121,bangolf_kategorien!$A$2:$B$11,2,FALSE),\": \",D121,\", \",C121)","v":"SW1: Barth, Susanne"},{"$f":"VLOOKUP(A121,bangolf_kategorien!$A$2:$B$11,2,FALSE)","v":"SW1"}]
["hs",66777,"Patrick","Bartholomä","1. MGC Kassel 1964",{"$f":"CONCATENATE(VLOOKUP(A122,bangolf_kategorien!$A$2:$B$11,2,FALSE),\": \",D122,\", \",C122)","v":"H: Bartholomä, Patrick"},{"$f":"VLOOKUP(A122,bangolf_kategorien!$A$2:$B$11,2,FALSE)","v":"H"}]
["hs",66896,"Pierre","Bartholomä","1. MGC Kassel 1964",{"$f":"CONCATENATE(VLOOKUP(A123,bangolf_kategorien!$A$2:$B$11,2,FALSE),\": \",D123,\", \",C123)","v":"H: Bartholomä, Pierre"},{"$f":"VLOOKUP(A123,bangolf_kategorien!$A$2:$B$11,2,FALSE)","v":"H"}]
["ob",41145,"Volker","Bartmann","1. Essener CGC \"Blau-Gold\"",{"$f":"CONCATENATE(VLOOKUP(A124,bangolf_kategorien!$A$2:$B$11,2,FALSE),\": \",D124,\", \",C124)","v":"SM1: Bartmann, Volker"},{"$f":"VLOOKUP(A124,bangolf_kategorien!$A$2:$B$11,2,FALSE)","v":"SM1"}]
["hv",67404,"Paul","Bartsch","BV Sennestadt",{"$f":"CONCATENATE(VLOOKUP(A125,bangolf_kategorien!$A$2:$B$11,2,FALSE),\": \",D125,\", \",C125)","v":"SM2: Bartsch, Paul"},{"$f":"VLOOKUP(A125,bangolf_kategorien!$A$2:$B$11,2,FALSE)","v":"SM2"}]
["hv",46055,"Andreas","Barz","MGC Olympia Kiel",{"$f":"CONCATENATE(VLOOKUP(A126,bangolf_kategorien!$A$2:$B$11,2,FALSE),\": \",D126,\", \",C126)","v":"SM2: Barz, Andreas"},{"$f":"VLOOKUP(A126,bangolf_kategorien!$A$2:$B$11,2,FALSE)","v":"SM2"}]
["og",38102,"Birgit","Barz","VfM Berlin",{"$f":"CONCATENATE(VLOOKUP(A127,bangolf_kategorien!$A$2:$B$11,2,FALSE),\": \",D127,\", \",C127)","v":"SW1: Barz, Birgit"},{"$f":"VLOOKUP(A127,bangolf_kategorien!$A$2:$B$11,2,FALSE)","v":"SW1"}]
["hs",38103,"Patrick","Barz","1. MGC 1970 Göttingen",{"$f":"CONCATENATE(VLOOKUP(A128,bangolf_kategorien!$A$2:$B$11,2,FALSE),\": \",D128,\", \",C128)","v":"H: Barz, Patrick"},{"$f":"VLOOKUP(A128,bangolf_kategorien!$A$2:$B$11,2,FALSE)","v":"H"}]
["ob",38104,"Ralf","Barz","VfM Berlin",{"$f":"CONCATENATE(VLOOKUP(A129,bangolf_kategorien!$A$2:$B$11,2,FALSE),\": \",D129,\", \",C129)","v":"SM1: Barz, Ralf"},{"$f":"VLOOKUP(A129,bangolf_kategorien!$A$2:$B$11,2,FALSE)","v":"SM1"}]
["ds",37582,"Ann-Kathrin","Bastian","BGC Bildstock",{"$f":"CONCATENATE(VLOOKUP(A130,bangolf_kategorien!$A$2:$B$11,2,FALSE),\": \",D130,\", \",C130)","v":"D: Bastian, Ann-Kathrin"},{"$f":"VLOOKUP(A130,bangolf_kategorien!$A$2:$B$11,2,FALSE)","v":"D"}]
["og",37583,"Claudia","Bastian","BGC Bildstock",{"$f":"CONCATENATE(VLOOKUP(A131,bangolf_kategorien!$A$2:$B$11,2,FALSE),\": \",D131,\", \",C131)","v":"SW1: Bastian, Claudia"},{"$f":"VLOOKUP(A131,bangolf_kategorien!$A$2:$B$11,2,FALSE)","v":"SW1"}]
["hv",46910,"Richard","Bätge","SV Glückauf 1901 Gebhardshagen",{"$f":"CONCATENATE(VLOOKUP(A132,bangolf_kategorien!$A$2:$B$11,2,FALSE),\": \",D132,\", \",C132)","v":"SM2: Bätge, Richard"},{"$f":"VLOOKUP(A132,bangolf_kategorien!$A$2:$B$11,2,FALSE)","v":"SM2"}]
["hs",65848,"Adrian","Batschkus","1. Münchener MGC",{"$f":"CONCATENATE(VLOOKUP(A133,bangolf_kategorien!$A$2:$B$11,2,FALSE),\": \",D133,\", \",C133)","v":"H: Batschkus, Adrian"},{"$f":"VLOOKUP(A133,bangolf_kategorien!$A$2:$B$11,2,FALSE)","v":"H"}]
["pa",66273,"Quirin","Batschkus","1. Münchener MGC",{"$f":"CONCATENATE(VLOOKUP(A134,bangolf_kategorien!$A$2:$B$11,2,FALSE),\": \",D134,\", \",C134)","v":"SCHM: Batschkus, Quirin"},{"$f":"VLOOKUP(A134,bangolf_kategorien!$A$2:$B$11,2,FALSE)","v":"SCHM"}]
["ob",23741,"Wolfgang","Battig","MC 62 Lüdenscheid",{"$f":"CONCATENATE(VLOOKUP(A135,bangolf_kategorien!$A$2:$B$11,2,FALSE),\": \",D135,\", \",C135)","v":"SM1: Battig, Wolfgang"},{"$f":"VLOOKUP(A135,bangolf_kategorien!$A$2:$B$11,2,FALSE)","v":"SM1"}]
["hs",37799,"Jan Hendrik","Battling","MGC \"AS\" Witten 1963",{"$f":"CONCATENATE(VLOOKUP(A136,bangolf_kategorien!$A$2:$B$11,2,FALSE),\": \",D136,\", \",C136)","v":"H: Battling, Jan Hendrik"},{"$f":"VLOOKUP(A136,bangolf_kategorien!$A$2:$B$11,2,FALSE)","v":"H"}]
["ob",34490,"Thomas","Bätz","MSC Bad Godesberg",{"$f":"CONCATENATE(VLOOKUP(A137,bangolf_kategorien!$A$2:$B$11,2,FALSE),\": \",D137,\", \",C137)","v":"SM1: Bätz, Thomas"},{"$f":"VLOOKUP(A137,bangolf_kategorien!$A$2:$B$11,2,FALSE)","v":"SM1"}]
["ds",67282,"Daniela","Bauer","MSK Olching",{"$f":"CONCATENATE(VLOOKUP(A138,bangolf_kategorien!$A$2:$B$11,2,FALSE),\": \",D138,\", \",C138)","v":"D: Bauer, Daniela"},{"$f":"VLOOKUP(A138,bangolf_kategorien!$A$2:$B$11,2,FALSE)","v":"D"}]
["ob",40471,"Helmut","Bauer","1. MGC München-Feldmoching",{"$f":"CONCATENATE(VLOOKUP(A139,bangolf_kategorien!$A$2:$B$11,2,FALSE),\": \",D139,\", \",C139)","v":"SM1: Bauer, Helmut"},{"$f":"VLOOKUP(A139,bangolf_kategorien!$A$2:$B$11,2,FALSE)","v":"SM1"}]
["ob",40864,"Martin","Bauer","BGC Bildstock",{"$f":"CONCATENATE(VLOOKUP(A140,bangolf_kategorien!$A$2:$B$11,2,FALSE),\": \",D140,\", \",C140)","v":"SM1: Bauer, Martin"},{"$f":"VLOOKUP(A140,bangolf_kategorien!$A$2:$B$11,2,FALSE)","v":"SM1"}]
["fa",67283,"Selina","Bauer","MSK Olching",{"$f":"CONCATENATE(VLOOKUP(A141,bangolf_kategorien!$A$2:$B$11,2,FALSE),\": \",D141,\", \",C141)","v":"SCHW: Bauer, Selina"},{"$f":"VLOOKUP(A141,bangolf_kategorien!$A$2:$B$11,2,FALSE)","v":"SCHW"}]
["ob",46532,"Siegfried","Bauer","BGC Bad Berneck",{"$f":"CONCATENATE(VLOOKUP(A142,bangolf_kategorien!$A$2:$B$11,2,FALSE),\": \",D142,\", \",C142)","v":"SM1: Bauer, Siegfried"},{"$f":"VLOOKUP(A142,bangolf_kategorien!$A$2:$B$11,2,FALSE)","v":"SM1"}]
["hs",67284,"Thorsten","Bauer","MSK Olching",{"$f":"CONCATENATE(VLOOKUP(A143,bangolf_kategorien!$A$2:$B$11,2,FALSE),\": \",D143,\", \",C143)","v":"H: Bauer, Thorsten"},{"$f":"VLOOKUP(A143,bangolf_kategorien!$A$2:$B$11,2,FALSE)","v":"H"}]
["hv",5751,"Helmut","Bauerfeld","Freizeit Club Bliesen",{"$f":"CONCATENATE(VLOOKUP(A144,bangolf_kategorien!$A$2:$B$11,2,FALSE),\": \",D144,\", \",C144)","v":"SM2: Bauerfeld, Helmut"},{"$f":"VLOOKUP(A144,bangolf_kategorien!$A$2:$B$11,2,FALSE)","v":"SM2"}]
["og",36137,"Barbara","Bauermeister","MGC Murnau am Staffelsee",{"$f":"CONCATENATE(VLOOKUP(A145,bangolf_kategorien!$A$2:$B$11,2,FALSE),\": \",D145,\", \",C145)","v":"SW1: Bauermeister, Barbara"},{"$f":"VLOOKUP(A145,bangolf_kategorien!$A$2:$B$11,2,FALSE)","v":"SW1"}]
["ob",28605,"Stephan","Bauermeister","MGC Murnau am Staffelsee",{"$f":"CONCATENATE(VLOOKUP(A146,bangolf_kategorien!$A$2:$B$11,2,FALSE),\": \",D146,\", \",C146)","v":"SM1: Bauermeister, Stephan"},{"$f":"VLOOKUP(A146,bangolf_kategorien!$A$2:$B$11,2,FALSE)","v":"SM1"}]
["ob",46616,"Marcus","Bauhofer","BGC Heilbronn",{"$f":"CONCATENATE(VLOOKUP(A147,bangolf_kategorien!$A$2:$B$11,2,FALSE),\": \",D147,\", \",C147)","v":"SM1: Bauhofer, Marcus"},{"$f":"VLOOKUP(A147,bangolf_kategorien!$A$2:$B$11,2,FALSE)","v":"SM1"}]
["hs",3108930,"Andre","Baumann","Hobby",{"$f":"CONCATENATE(VLOOKUP(A148,bangolf_kategorien!$A$2:$B$11,2,FALSE),\": \",D148,\", \",C148)","v":"H: Baumann, Andre"},{"$f":"VLOOKUP(A148,bangolf_kategorien!$A$2:$B$11,2,FALSE)","v":"H"}]
["ob",65195,"Harald","Baumann","MGF Waldshut 74",{"$f":"CONCATENATE(VLOOKUP(A149,bangolf_kategorien!$A$2:$B$11,2,FALSE),\": \",D149,\", \",C149)","v":"SM1: Baumann, Harald"},{"$f":"VLOOKUP(A149,bangolf_kategorien!$A$2:$B$11,2,FALSE)","v":"SM1"}]
["hs",26398,"Daniel","Baumer","1. MGC München-Feldmoching",{"$f":"CONCATENATE(VLOOKUP(A150,bangolf_kategorien!$A$2:$B$11,2,FALSE),\": \",D150,\", \",C150)","v":"H: Baumer, Daniel"},{"$f":"VLOOKUP(A150,bangolf_kategorien!$A$2:$B$11,2,FALSE)","v":"H"}]
["hv",3998,"Klaus","Baumer","BGC Illertissen",{"$f":"CONCATENATE(VLOOKUP(A151,bangolf_kategorien!$A$2:$B$11,2,FALSE),\": \",D151,\", \",C151)","v":"SM2: Baumer, Klaus"},{"$f":"VLOOKUP(A151,bangolf_kategorien!$A$2:$B$11,2,FALSE)","v":"SM2"}]
["dv",47033,"Ruth","Baumer","BGC Illertissen",{"$f":"CONCATENATE(VLOOKUP(A152,bangolf_kategorien!$A$2:$B$11,2,FALSE),\": \",D152,\", \",C152)","v":"SW2: Baumer, Ruth"},{"$f":"VLOOKUP(A152,bangolf_kategorien!$A$2:$B$11,2,FALSE)","v":"SW2"}]
["ob",29220,"Dirk","Baumgart","MSK Neheim-Hüsten",{"$f":"CONCATENATE(VLOOKUP(A153,bangolf_kategorien!$A$2:$B$11,2,FALSE),\": \",D153,\", \",C153)","v":"SM1: Baumgart, Dirk"},{"$f":"VLOOKUP(A153,bangolf_kategorien!$A$2:$B$11,2,FALSE)","v":"SM1"}]
["hs",37760,"Thorben","Baumgart","MSK Neheim-Hüsten",{"$f":"CONCATENATE(VLOOKUP(A154,bangolf_kategorien!$A$2:$B$11,2,FALSE),\": \",D154,\", \",C154)","v":"H: Baumgart, Thorben"},{"$f":"VLOOKUP(A154,bangolf_kategorien!$A$2:$B$11,2,FALSE)","v":"H"}]
["hs",38226,"Wolfgang","Bäurle","1. FMGC Lichtenfels 1961",{"$f":"CONCATENATE(VLOOKUP(A155,bangolf_kategorien!$A$2:$B$11,2,FALSE),\": \",D155,\", \",C155)","v":"H: Bäurle, Wolfgang"},{"$f":"VLOOKUP(A155,bangolf_kategorien!$A$2:$B$11,2,FALSE)","v":"H"}]
["hv",5942,"Hubert","Bayer","1. BGC Landshut",{"$f":"CONCATENATE(VLOOKUP(A156,bangolf_kategorien!$A$2:$B$11,2,FALSE),\": \",D156,\", \",C156)","v":"SM2: Bayer, Hubert"},{"$f":"VLOOKUP(A156,bangolf_kategorien!$A$2:$B$11,2,FALSE)","v":"SM2"}]
["ob",38632,"Jimmy","Bayer","MGC Murnau am Staffelsee",{"$f":"CONCATENATE(VLOOKUP(A157,bangolf_kategorien!$A$2:$B$11,2,FALSE),\": \",D157,\", \",C157)","v":"SM1: Bayer, Jimmy"},{"$f":"VLOOKUP(A157,bangolf_kategorien!$A$2:$B$11,2,FALSE)","v":"SM1"}]
["pa",67374,"Tobias","Bayer","BIG ASPERG",{"$f":"CONCATENATE(VLOOKUP(A158,bangolf_kategorien!$A$2:$B$11,2,FALSE),\": \",D158,\", \",C158)","v":"SCHM: Bayer, Tobias"},{"$f":"VLOOKUP(A158,bangolf_kategorien!$A$2:$B$11,2,FALSE)","v":"SCHM"}]
["hv",67061,"Willi","Bayer","BIG ASPERG",{"$f":"CONCATENATE(VLOOKUP(A159,bangolf_kategorien!$A$2:$B$11,2,FALSE),\": \",D159,\", \",C159)","v":"SM2: Bayer, Willi"},{"$f":"VLOOKUP(A159,bangolf_kategorien!$A$2:$B$11,2,FALSE)","v":"SM2"}]
["ob",66645,"Wolfgang","Bayer","MGC Murnau am Staffelsee",{"$f":"CONCATENATE(VLOOKUP(A160,bangolf_kategorien!$A$2:$B$11,2,FALSE),\": \",D160,\", \",C160)","v":"SM1: Bayer, Wolfgang"},{"$f":"VLOOKUP(A160,bangolf_kategorien!$A$2:$B$11,2,FALSE)","v":"SM1"}]
["hv",66112,"Erich","Beausencourt","Minigolf-Club Diessen",{"$f":"CONCATENATE(VLOOKUP(A161,bangolf_kategorien!$A$2:$B$11,2,FALSE),\": \",D161,\", \",C161)","v":"SM2: Beausencourt, Erich"},{"$f":"VLOOKUP(A161,bangolf_kategorien!$A$2:$B$11,2,FALSE)","v":"SM2"}]
["og",66500,"Andrea","Becher","1. BGC Landshut",{"$f":"CONCATENATE(VLOOKUP(A162,bangolf_kategorien!$A$2:$B$11,2,FALSE),\": \",D162,\", \",C162)","v":"SW1: Becher, Andrea"},{"$f":"VLOOKUP(A162,bangolf_kategorien!$A$2:$B$11,2,FALSE)","v":"SW1"}]
["hv",46021,"Bernhard","Beck","1. KC Homburg-Saar 1967",{"$f":"CONCATENATE(VLOOKUP(A163,bangolf_kategorien!$A$2:$B$11,2,FALSE),\": \",D163,\", \",C163)","v":"SM2: Beck, Bernhard"},{"$f":"VLOOKUP(A163,bangolf_kategorien!$A$2:$B$11,2,FALSE)","v":"SM2"}]
["hs",66892,"Christian","Beck","1. BGC Landshut",{"$f":"CONCATENATE(VLOOKUP(A164,bangolf_kategorien!$A$2:$B$11,2,FALSE),\": \",D164,\", \",C164)","v":"H: Beck, Christian"},{"$f":"VLOOKUP(A164,bangolf_kategorien!$A$2:$B$11,2,FALSE)","v":"H"}]
["ob",40688,"Oliver","Beck","MSV Bad Kreuznach",{"$f":"CONCATENATE(VLOOKUP(A165,bangolf_kategorien!$A$2:$B$11,2,FALSE),\": \",D165,\", \",C165)","v":"SM1: Beck, Oliver"},{"$f":"VLOOKUP(A165,bangolf_kategorien!$A$2:$B$11,2,FALSE)","v":"SM1"}]
["hj",67204,"Simon","Beck","1. BGC Leipzig",{"$f":"CONCATENATE(VLOOKUP(A166,bangolf_kategorien!$A$2:$B$11,2,FALSE),\": \",D166,\", \",C166)","v":"JM: Beck, Simon"},{"$f":"VLOOKUP(A166,bangolf_kategorien!$A$2:$B$11,2,FALSE)","v":"JM"}]
["ds",38593,"Anna Lisa","Becker","1. MGC Saar 68 St. Ingbert",{"$f":"CONCATENATE(VLOOKUP(A167,bangolf_kategorien!$A$2:$B$11,2,FALSE),\": \",D167,\", \",C167)","v":"D: Becker, Anna Lisa"},{"$f":"VLOOKUP(A167,bangolf_kategorien!$A$2:$B$11,2,FALSE)","v":"D"}]
["ds",67092,"Cecina","Becker","SG  Weiterstadt 1886",{"$f":"CONCATENATE(VLOOKUP(A168,bangolf_kategorien!$A$2:$B$11,2,FALSE),\": \",D168,\", \",C168)","v":"D: Becker, Cecina"},{"$f":"VLOOKUP(A168,bangolf_kategorien!$A$2:$B$11,2,FALSE)","v":"D"}]
["hs",67566,"Christian","Becker","BSC Ennepetal",{"$f":"CONCATENATE(VLOOKUP(A169,bangolf_kategorien!$A$2:$B$11,2,FALSE),\": \",D169,\", \",C169)","v":"H: Becker, Christian"},{"$f":"VLOOKUP(A169,bangolf_kategorien!$A$2:$B$11,2,FALSE)","v":"H"}]
["ds",35103,"Daniela","Becker","MGC Heven",{"$f":"CONCATENATE(VLOOKUP(A170,bangolf_kategorien!$A$2:$B$11,2,FALSE),\": \",D170,\", \",C170)","v":"D: Becker, Daniela"},{"$f":"VLOOKUP(A170,bangolf_kategorien!$A$2:$B$11,2,FALSE)","v":"D"}]
["dv",4101,"Erika","Becker","MGC Dortmund Syburg",{"$f":"CONCATENATE(VLOOKUP(A171,bangolf_kategorien!$A$2:$B$11,2,FALSE),\": \",D171,\", \",C171)","v":"SW2: Becker, Erika"},{"$f":"VLOOKUP(A171,bangolf_kategorien!$A$2:$B$11,2,FALSE)","v":"SW2"}]
["hs",37559,"Florian","Becker","MSK Neheim-Hüsten",{"$f":"CONCATENATE(VLOOKUP(A172,bangolf_kategorien!$A$2:$B$11,2,FALSE),\": \",D172,\", \",C172)","v":"H: Becker, Florian"},{"$f":"VLOOKUP(A172,bangolf_kategorien!$A$2:$B$11,2,FALSE)","v":"H"}]
["ob",26506,"Gerd","Becker","MGC Dortmund Syburg",{"$f":"CONCATENATE(VLOOKUP(A173,bangolf_kategorien!$A$2:$B$11,2,FALSE),\": \",D173,\", \",C173)","v":"SM1: Becker, Gerd"},{"$f":"VLOOKUP(A173,bangolf_kategorien!$A$2:$B$11,2,FALSE)","v":"SM1"}]
["hv",12781,"Hans-Dieter","Becker","MSK Neheim-Hüsten",{"$f":"CONCATENATE(VLOOKUP(A174,bangolf_kategorien!$A$2:$B$11,2,FALSE),\": \",D174,\", \",C174)","v":"SM2: Becker, Hans-Dieter"},{"$f":"VLOOKUP(A174,bangolf_kategorien!$A$2:$B$11,2,FALSE)","v":"SM2"}]
["hv",66583,"Heinz","Becker","MGC Bad Soden-Salmünster",{"$f":"CONCATENATE(VLOOKUP(A175,bangolf_kategorien!$A$2:$B$11,2,FALSE),\": \",D175,\", \",C175)","v":"SM2: Becker, Heinz"},{"$f":"VLOOKUP(A175,bangolf_kategorien!$A$2:$B$11,2,FALSE)","v":"SM2"}]
["hs",38570,"Jan","Becker","SG Arheilgen Abt. Bahnengolf",{"$f":"CONCATENATE(VLOOKUP(A176,bangolf_kategorien!$A$2:$B$11,2,FALSE),\": \",D176,\", \",C176)","v":"H: Becker, Jan"},{"$f":"VLOOKUP(A176,bangolf_kategorien!$A$2:$B$11,2,FALSE)","v":"H"}]
["ob",67480,"Jochen","Becker","Reinickendorfer MGC",{"$f":"CONCATENATE(VLOOKUP(A177,bangolf_kategorien!$A$2:$B$11,2,FALSE),\": \",D177,\", \",C177)","v":"SM1: Becker, Jochen"},{"$f":"VLOOKUP(A177,bangolf_kategorien!$A$2:$B$11,2,FALSE)","v":"SM1"}]
["og",44303,"Karin","Becker","SG Arheilgen Abt. Bahnengolf",{"$f":"CONCATENATE(VLOOKUP(A178,bangolf_kategorien!$A$2:$B$11,2,FALSE),\": \",D178,\", \",C178)","v":"SW1: Becker, Karin"},{"$f":"VLOOKUP(A178,bangolf_kategorien!$A$2:$B$11,2,FALSE)","v":"SW1"}]
["hs",66162,"Lars","Becker","SG Arheilgen Abt. Bahnengolf",{"$f":"CONCATENATE(VLOOKUP(A179,bangolf_kategorien!$A$2:$B$11,2,FALSE),\": \",D179,\", \",C179)","v":"H: Becker, Lars"},{"$f":"VLOOKUP(A179,bangolf_kategorien!$A$2:$B$11,2,FALSE)","v":"H"}]
["ob",33442,"Martin","Becker","Reinickendorfer MGC",{"$f":"CONCATENATE(VLOOKUP(A180,bangolf_kategorien!$A$2:$B$11,2,FALSE),\": \",D180,\", \",C180)","v":"SM1: Becker, Martin"},{"$f":"VLOOKUP(A180,bangolf_kategorien!$A$2:$B$11,2,FALSE)","v":"SM1"}]
["ob",37225,"Michael","Becker","SG  Weiterstadt 1886",{"$f":"CONCATENATE(VLOOKUP(A181,bangolf_kategorien!$A$2:$B$11,2,FALSE),\": \",D181,\", \",C181)","v":"SM1: Becker, Michael"},{"$f":"VLOOKUP(A181,bangolf_kategorien!$A$2:$B$11,2,FALSE)","v":"SM1"}]
["hv",40005,"Michael","Becker","SGC Hagen",{"$f":"CONCATENATE(VLOOKUP(A182,bangolf_kategorien!$A$2:$B$11,2,FALSE),\": \",D182,\", \",C182)","v":"SM2: Becker, Michael"},{"$f":"VLOOKUP(A182,bangolf_kategorien!$A$2:$B$11,2,FALSE)","v":"SM2"}]
["ob",44304,"Norbert","Becker","SG Arheilgen Abt. Bahnengolf",{"$f":"CONCATENATE(VLOOKUP(A183,bangolf_kategorien!$A$2:$B$11,2,FALSE),\": \",D183,\", \",C183)","v":"SM1: Becker, Norbert"},{"$f":"VLOOKUP(A183,bangolf_kategorien!$A$2:$B$11,2,FALSE)","v":"SM1"}]
["dv",66584,"Renate","Becker","MGC Bad Soden-Salmünster",{"$f":"CONCATENATE(VLOOKUP(A184,bangolf_kategorien!$A$2:$B$11,2,FALSE),\": \",D184,\", \",C184)","v":"SW2: Becker, Renate"},{"$f":"VLOOKUP(A184,bangolf_kategorien!$A$2:$B$11,2,FALSE)","v":"SW2"}]
["hv",3194221,"Rolf","Becker","Hobby",{"$f":"CONCATENATE(VLOOKUP(A185,bangolf_kategorien!$A$2:$B$11,2,FALSE),\": \",D185,\", \",C185)","v":"SM2: Becker, Rolf"},{"$f":"VLOOKUP(A185,bangolf_kategorien!$A$2:$B$11,2,FALSE)","v":"SM2"}]
["hs",35385,"Timo","Becker","MGC Schwaikheim",{"$f":"CONCATENATE(VLOOKUP(A186,bangolf_kategorien!$A$2:$B$11,2,FALSE),\": \",D186,\", \",C186)","v":"H: Becker, Timo"},{"$f":"VLOOKUP(A186,bangolf_kategorien!$A$2:$B$11,2,FALSE)","v":"H"}]
["dv",25999,"Ursula","Becker","1. MGC Mannheim 1968",{"$f":"CONCATENATE(VLOOKUP(A187,bangolf_kategorien!$A$2:$B$11,2,FALSE),\": \",D187,\", \",C187)","v":"SW2: Becker, Ursula"},{"$f":"VLOOKUP(A187,bangolf_kategorien!$A$2:$B$11,2,FALSE)","v":"SW2"}]
["hv",35612,"Walter","Becker","1. MGC Ludwigshafen",{"$f":"CONCATENATE(VLOOKUP(A188,bangolf_kategorien!$A$2:$B$11,2,FALSE),\": \",D188,\", \",C188)","v":"SM2: Becker, Walter"},{"$f":"VLOOKUP(A188,bangolf_kategorien!$A$2:$B$11,2,FALSE)","v":"SM2"}]
["hv",3591,"Werner","Becker","BSV Inzlingen 1979",{"$f":"CONCATENATE(VLOOKUP(A189,bangolf_kategorien!$A$2:$B$11,2,FALSE),\": \",D189,\", \",C189)","v":"SM2: Becker, Werner"},{"$f":"VLOOKUP(A189,bangolf_kategorien!$A$2:$B$11,2,FALSE)","v":"SM2"}]
["hv",65404,"Martin","Beckert","MSV 05 Bad Münder / Springe",{"$f":"CONCATENATE(VLOOKUP(A190,bangolf_kategorien!$A$2:$B$11,2,FALSE),\": \",D190,\", \",C190)","v":"SM2: Beckert, Martin"},{"$f":"VLOOKUP(A190,bangolf_kategorien!$A$2:$B$11,2,FALSE)","v":"SM2"}]
["ob",26620,"Thomas","Beckmann","MSK Neheim-Hüsten",{"$f":"CONCATENATE(VLOOKUP(A191,bangolf_kategorien!$A$2:$B$11,2,FALSE),\": \",D191,\", \",C191)","v":"SM1: Beckmann, Thomas"},{"$f":"VLOOKUP(A191,bangolf_kategorien!$A$2:$B$11,2,FALSE)","v":"SM1"}]
["hv",37899,"Joachim","Bednar","1. MGC Mannheim 1968",{"$f":"CONCATENATE(VLOOKUP(A192,bangolf_kategorien!$A$2:$B$11,2,FALSE),\": \",D192,\", \",C192)","v":"SM2: Bednar, Joachim"},{"$f":"VLOOKUP(A192,bangolf_kategorien!$A$2:$B$11,2,FALSE)","v":"SM2"}]
["og",3202284,"Friederike","Behnen","Hobby",{"$f":"CONCATENATE(VLOOKUP(A193,bangolf_kategorien!$A$2:$B$11,2,FALSE),\": \",D193,\", \",C193)","v":"SW1: Behnen, Friederike"},{"$f":"VLOOKUP(A193,bangolf_kategorien!$A$2:$B$11,2,FALSE)","v":"SW1"}]
["dv",65677,"Christiane","Behrens","BGC Goslar",{"$f":"CONCATENATE(VLOOKUP(A194,bangolf_kategorien!$A$2:$B$11,2,FALSE),\": \",D194,\", \",C194)","v":"SW2: Behrens, Christiane"},{"$f":"VLOOKUP(A194,bangolf_kategorien!$A$2:$B$11,2,FALSE)","v":"SW2"}]
["hv",65678,"Friedhelm","Behrens","BGC Goslar",{"$f":"CONCATENATE(VLOOKUP(A195,bangolf_kategorien!$A$2:$B$11,2,FALSE),\": \",D195,\", \",C195)","v":"SM2: Behrens, Friedhelm"},{"$f":"VLOOKUP(A195,bangolf_kategorien!$A$2:$B$11,2,FALSE)","v":"SM2"}]
["hj",67123,"Julien","Behrens","BGC Goslar",{"$f":"CONCATENATE(VLOOKUP(A196,bangolf_kategorien!$A$2:$B$11,2,FALSE),\": \",D196,\", \",C196)","v":"JM: Behrens, Julien"},{"$f":"VLOOKUP(A196,bangolf_kategorien!$A$2:$B$11,2,FALSE)","v":"JM"}]
["dv",3186085,"Marina","Behrens","Hobby",{"$f":"CONCATENATE(VLOOKUP(A197,bangolf_kategorien!$A$2:$B$11,2,FALSE),\": \",D197,\", \",C197)","v":"SW2: Behrens, Marina"},{"$f":"VLOOKUP(A197,bangolf_kategorien!$A$2:$B$11,2,FALSE)","v":"SW2"}]
["hs",34186,"Stephan","Behrens","Niendorfer MC v. 1963",{"$f":"CONCATENATE(VLOOKUP(A198,bangolf_kategorien!$A$2:$B$11,2,FALSE),\": \",D198,\", \",C198)","v":"H: Behrens, Stephan"},{"$f":"VLOOKUP(A198,bangolf_kategorien!$A$2:$B$11,2,FALSE)","v":"H"}]
["og",65679,"Susanne","Behrens","BGC Goslar",{"$f":"CONCATENATE(VLOOKUP(A199,bangolf_kategorien!$A$2:$B$11,2,FALSE),\": \",D199,\", \",C199)","v":"SW1: Behrens, Susanne"},{"$f":"VLOOKUP(A199,bangolf_kategorien!$A$2:$B$11,2,FALSE)","v":"SW1"}]
["hv",37706,"Wolfgang","Behrens","Minigolfclub Karlshagen",{"$f":"CONCATENATE(VLOOKUP(A200,bangolf_kategorien!$A$2:$B$11,2,FALSE),\": \",D200,\", \",C200)","v":"SM2: Behrens, Wolfgang"},{"$f":"VLOOKUP(A200,bangolf_kategorien!$A$2:$B$11,2,FALSE)","v":"SM2"}]
["hv",66569,"Christian","Beier","MC \"Möve\" Cuxhaven-Sahlenburg",{"$f":"CONCATENATE(VLOOKUP(A201,bangolf_kategorien!$A$2:$B$11,2,FALSE),\": \",D201,\", \",C201)","v":"SM2: Beier, Christian"},{"$f":"VLOOKUP(A201,bangolf_kategorien!$A$2:$B$11,2,FALSE)","v":"SM2"}]
["ob",42529,"Harald","Beier","1. MGC Mitterteich-Großbüchlberg",{"$f":"CONCATENATE(VLOOKUP(A202,bangolf_kategorien!$A$2:$B$11,2,FALSE),\": \",D202,\", \",C202)","v":"SM1: Beier, Harald"},{"$f":"VLOOKUP(A202,bangolf_kategorien!$A$2:$B$11,2,FALSE)","v":"SM1"}]
["hv",42528,"Jürgen","Beier","1. MGC Mitterteich-Großbüchlberg",{"$f":"CONCATENATE(VLOOKUP(A203,bangolf_kategorien!$A$2:$B$11,2,FALSE),\": \",D203,\", \",C203)","v":"SM2: Beier, Jürgen"},{"$f":"VLOOKUP(A203,bangolf_kategorien!$A$2:$B$11,2,FALSE)","v":"SM2"}]
["dv",4750,"Sylvia","Beierle","2. MGC Worms",{"$f":"CONCATENATE(VLOOKUP(A204,bangolf_kategorien!$A$2:$B$11,2,FALSE),\": \",D204,\", \",C204)","v":"SW2: Beierle, Sylvia"},{"$f":"VLOOKUP(A204,bangolf_kategorien!$A$2:$B$11,2,FALSE)","v":"SW2"}]
["ds",67528,"Sophie","Beining","Osnabrücker M.-C. von 1963",{"$f":"CONCATENATE(VLOOKUP(A205,bangolf_kategorien!$A$2:$B$11,2,FALSE),\": \",D205,\", \",C205)","v":"D: Beining, Sophie"},{"$f":"VLOOKUP(A205,bangolf_kategorien!$A$2:$B$11,2,FALSE)","v":"D"}]
["hv",60102,"Helmut","Beißwenger","Hamburger MC von 1965",{"$f":"CONCATENATE(VLOOKUP(A206,bangolf_kategorien!$A$2:$B$11,2,FALSE),\": \",D206,\", \",C206)","v":"SM2: Beißwenger, Helmut"},{"$f":"VLOOKUP(A206,bangolf_kategorien!$A$2:$B$11,2,FALSE)","v":"SM2"}]
["hs",28085,"Mario","Bell","MGC Bad Bodendorf",{"$f":"CONCATENATE(VLOOKUP(A207,bangolf_kategorien!$A$2:$B$11,2,FALSE),\": \",D207,\", \",C207)","v":"H: Bell, Mario"},{"$f":"VLOOKUP(A207,bangolf_kategorien!$A$2:$B$11,2,FALSE)","v":"H"}]
["hv",36192,"Hans-Jürgen","Bellanger","1. MGC Mannheim 1968",{"$f":"CONCATENATE(VLOOKUP(A208,bangolf_kategorien!$A$2:$B$11,2,FALSE),\": \",D208,\", \",C208)","v":"SM2: Bellanger, Hans-Jürgen"},{"$f":"VLOOKUP(A208,bangolf_kategorien!$A$2:$B$11,2,FALSE)","v":"SM2"}]
["dv",36191,"Martina","Bellanger","1. MGC Mannheim 1968",{"$f":"CONCATENATE(VLOOKUP(A209,bangolf_kategorien!$A$2:$B$11,2,FALSE),\": \",D209,\", \",C209)","v":"SW2: Bellanger, Martina"},{"$f":"VLOOKUP(A209,bangolf_kategorien!$A$2:$B$11,2,FALSE)","v":"SW2"}]
["hs",37097,"Gerrit","Below","MGC Olympia Kiel",{"$f":"CONCATENATE(VLOOKUP(A210,bangolf_kategorien!$A$2:$B$11,2,FALSE),\": \",D210,\", \",C210)","v":"H: Below, Gerrit"},{"$f":"VLOOKUP(A210,bangolf_kategorien!$A$2:$B$11,2,FALSE)","v":"H"}]
["hs",33091,"Marvin","Below","MGC Olympia Kiel",{"$f":"CONCATENATE(VLOOKUP(A211,bangolf_kategorien!$A$2:$B$11,2,FALSE),\": \",D211,\", \",C211)","v":"H: Below, Marvin"},{"$f":"VLOOKUP(A211,bangolf_kategorien!$A$2:$B$11,2,FALSE)","v":"H"}]
["ob",42124,"Ralf","Belz","MGC Dormagen-Brechten",{"$f":"CONCATENATE(VLOOKUP(A212,bangolf_kategorien!$A$2:$B$11,2,FALSE),\": \",D212,\", \",C212)","v":"SM1: Belz, Ralf"},{"$f":"VLOOKUP(A212,bangolf_kategorien!$A$2:$B$11,2,FALSE)","v":"SM1"}]
["hv",35698,"Wilfried","Bemelmanns","MGC Dormagen-Brechten",{"$f":"CONCATENATE(VLOOKUP(A213,bangolf_kategorien!$A$2:$B$11,2,FALSE),\": \",D213,\", \",C213)","v":"SM2: Bemelmanns, Wilfried"},{"$f":"VLOOKUP(A213,bangolf_kategorien!$A$2:$B$11,2,FALSE)","v":"SM2"}]
["hv",6059,"Lutz","Bemmann","BSV AOK Leipzig",{"$f":"CONCATENATE(VLOOKUP(A214,bangolf_kategorien!$A$2:$B$11,2,FALSE),\": \",D214,\", \",C214)","v":"SM2: Bemmann, Lutz"},{"$f":"VLOOKUP(A214,bangolf_kategorien!$A$2:$B$11,2,FALSE)","v":"SM2"}]
["hv",183,"Erwin","Beneking","VfB Osnabrück",{"$f":"CONCATENATE(VLOOKUP(A215,bangolf_kategorien!$A$2:$B$11,2,FALSE),\": \",D215,\", \",C215)","v":"SM2: Beneking, Erwin"},{"$f":"VLOOKUP(A215,bangolf_kategorien!$A$2:$B$11,2,FALSE)","v":"SM2"}]
["ds",35539,"Jasmin","Beneking","MSK Neheim-Hüsten",{"$f":"CONCATENATE(VLOOKUP(A216,bangolf_kategorien!$A$2:$B$11,2,FALSE),\": \",D216,\", \",C216)","v":"D: Beneking, Jasmin"},{"$f":"VLOOKUP(A216,bangolf_kategorien!$A$2:$B$11,2,FALSE)","v":"D"}]
["ds",37425,"Katharina","Benkert","MGC Ostheim / Rhön",{"$f":"CONCATENATE(VLOOKUP(A217,bangolf_kategorien!$A$2:$B$11,2,FALSE),\": \",D217,\", \",C217)","v":"D: Benkert, Katharina"},{"$f":"VLOOKUP(A217,bangolf_kategorien!$A$2:$B$11,2,FALSE)","v":"D"}]
["hs",33623,"Marius","Benkert","MGC Ostheim / Rhön",{"$f":"CONCATENATE(VLOOKUP(A218,bangolf_kategorien!$A$2:$B$11,2,FALSE),\": \",D218,\", \",C218)","v":"H: Benkert, Marius"},{"$f":"VLOOKUP(A218,bangolf_kategorien!$A$2:$B$11,2,FALSE)","v":"H"}]
["hv",66790,"Holger","Benn","VfL Lohbrügge Abt. Bahnengolf",{"$f":"CONCATENATE(VLOOKUP(A219,bangolf_kategorien!$A$2:$B$11,2,FALSE),\": \",D219,\", \",C219)","v":"SM2: Benn, Holger"},{"$f":"VLOOKUP(A219,bangolf_kategorien!$A$2:$B$11,2,FALSE)","v":"SM2"}]
["hv",27563,"Harald","Benner","MSC Herscheid 1963",{"$f":"CONCATENATE(VLOOKUP(A220,bangolf_kategorien!$A$2:$B$11,2,FALSE),\": \",D220,\", \",C220)","v":"SM2: Benner, Harald"},{"$f":"VLOOKUP(A220,bangolf_kategorien!$A$2:$B$11,2,FALSE)","v":"SM2"}]
["hs",37894,"Adam","Ber","Minigolfclub Karlshagen",{"$f":"CONCATENATE(VLOOKUP(A221,bangolf_kategorien!$A$2:$B$11,2,FALSE),\": \",D221,\", \",C221)","v":"H: Ber, Adam"},{"$f":"VLOOKUP(A221,bangolf_kategorien!$A$2:$B$11,2,FALSE)","v":"H"}]
["dv",37872,"Elvira","Ber","Minigolfclub Karlshagen",{"$f":"CONCATENATE(VLOOKUP(A222,bangolf_kategorien!$A$2:$B$11,2,FALSE),\": \",D222,\", \",C222)","v":"SW2: Ber, Elvira"},{"$f":"VLOOKUP(A222,bangolf_kategorien!$A$2:$B$11,2,FALSE)","v":"SW2"}]
["ds",38210,"Jessica","Ber","Minigolfclub Karlshagen",{"$f":"CONCATENATE(VLOOKUP(A223,bangolf_kategorien!$A$2:$B$11,2,FALSE),\": \",D223,\", \",C223)","v":"D: Ber, Jessica"},{"$f":"VLOOKUP(A223,bangolf_kategorien!$A$2:$B$11,2,FALSE)","v":"D"}]
["hv",37630,"Peter","Ber","Minigolfclub Karlshagen",{"$f":"CONCATENATE(VLOOKUP(A224,bangolf_kategorien!$A$2:$B$11,2,FALSE),\": \",D224,\", \",C224)","v":"SM2: Ber, Peter"},{"$f":"VLOOKUP(A224,bangolf_kategorien!$A$2:$B$11,2,FALSE)","v":"SM2"}]
["hs",2083,"Peter","Ber Jun.","Minigolfclub Karlshagen",{"$f":"CONCATENATE(VLOOKUP(A225,bangolf_kategorien!$A$2:$B$11,2,FALSE),\": \",D225,\", \",C225)","v":"H: Ber Jun., Peter"},{"$f":"VLOOKUP(A225,bangolf_kategorien!$A$2:$B$11,2,FALSE)","v":"H"}]
["pa",67461,"Linus","Bergau","1. BGC Celle von 1964",{"$f":"CONCATENATE(VLOOKUP(A226,bangolf_kategorien!$A$2:$B$11,2,FALSE),\": \",D226,\", \",C226)","v":"SCHM: Bergau, Linus"},{"$f":"VLOOKUP(A226,bangolf_kategorien!$A$2:$B$11,2,FALSE)","v":"SCHM"}]
["ds",67460,"Sandra","Bergau","1. BGC Celle von 1964",{"$f":"CONCATENATE(VLOOKUP(A227,bangolf_kategorien!$A$2:$B$11,2,FALSE),\": \",D227,\", \",C227)","v":"D: Bergau, Sandra"},{"$f":"VLOOKUP(A227,bangolf_kategorien!$A$2:$B$11,2,FALSE)","v":"D"}]
["hs",67459,"Sebastian","Bergau","1. BGC Celle von 1964",{"$f":"CONCATENATE(VLOOKUP(A228,bangolf_kategorien!$A$2:$B$11,2,FALSE),\": \",D228,\", \",C228)","v":"H: Bergau, Sebastian"},{"$f":"VLOOKUP(A228,bangolf_kategorien!$A$2:$B$11,2,FALSE)","v":"H"}]
["ob",37997,"Gerhard","Bergauer","BGSC Bochum 1978",{"$f":"CONCATENATE(VLOOKUP(A229,bangolf_kategorien!$A$2:$B$11,2,FALSE),\": \",D229,\", \",C229)","v":"SM1: Bergauer, Gerhard"},{"$f":"VLOOKUP(A229,bangolf_kategorien!$A$2:$B$11,2,FALSE)","v":"SM1"}]
["ob",46384,"Martin","Berger","VfM Berlin",{"$f":"CONCATENATE(VLOOKUP(A230,bangolf_kategorien!$A$2:$B$11,2,FALSE),\": \",D230,\", \",C230)","v":"SM1: Berger, Martin"},{"$f":"VLOOKUP(A230,bangolf_kategorien!$A$2:$B$11,2,FALSE)","v":"SM1"}]
["hs",66786,"Dominik","Berghof","SV Lurup Abt. Bahnengolf",{"$f":"CONCATENATE(VLOOKUP(A231,bangolf_kategorien!$A$2:$B$11,2,FALSE),\": \",D231,\", \",C231)","v":"H: Berghof, Dominik"},{"$f":"VLOOKUP(A231,bangolf_kategorien!$A$2:$B$11,2,FALSE)","v":"H"}]
["hv",38591,"Günter","Bergmaier","MGC Bad Feilnbach",{"$f":"CONCATENATE(VLOOKUP(A232,bangolf_kategorien!$A$2:$B$11,2,FALSE),\": \",D232,\", \",C232)","v":"SM2: Bergmaier, Günter"},{"$f":"VLOOKUP(A232,bangolf_kategorien!$A$2:$B$11,2,FALSE)","v":"SM2"}]
["hs",34067,"Lars","Bergmann","SSC Halver",{"$f":"CONCATENATE(VLOOKUP(A233,bangolf_kategorien!$A$2:$B$11,2,FALSE),\": \",D233,\", \",C233)","v":"H: Bergmann, Lars"},{"$f":"VLOOKUP(A233,bangolf_kategorien!$A$2:$B$11,2,FALSE)","v":"H"}]
["ob",66013,"Uwe","Bergmann","MGC Millennium Lorsch",{"$f":"CONCATENATE(VLOOKUP(A234,bangolf_kategorien!$A$2:$B$11,2,FALSE),\": \",D234,\", \",C234)","v":"SM1: Bergmann, Uwe"},{"$f":"VLOOKUP(A234,bangolf_kategorien!$A$2:$B$11,2,FALSE)","v":"SM1"}]
["dv",5537,"Waltraut","Bergmann","BGC Heilbronn",{"$f":"CONCATENATE(VLOOKUP(A235,bangolf_kategorien!$A$2:$B$11,2,FALSE),\": \",D235,\", \",C235)","v":"SW2: Bergmann, Waltraut"},{"$f":"VLOOKUP(A235,bangolf_kategorien!$A$2:$B$11,2,FALSE)","v":"SW2"}]
["ob",40559,"Reiner","Bergsmann","MGC Sulzfeld",{"$f":"CONCATENATE(VLOOKUP(A236,bangolf_kategorien!$A$2:$B$11,2,FALSE),\": \",D236,\", \",C236)","v":"SM1: Bergsmann, Reiner"},{"$f":"VLOOKUP(A236,bangolf_kategorien!$A$2:$B$11,2,FALSE)","v":"SM1"}]
["ob",29362,"Patrick","Beringhausen","1. MGC Mainz",{"$f":"CONCATENATE(VLOOKUP(A237,bangolf_kategorien!$A$2:$B$11,2,FALSE),\": \",D237,\", \",C237)","v":"SM1: Beringhausen, Patrick"},{"$f":"VLOOKUP(A237,bangolf_kategorien!$A$2:$B$11,2,FALSE)","v":"SM1"}]
["hv",6581,"Franz-Josef","Berkenkopf","MSK Neheim-Hüsten",{"$f":"CONCATENATE(VLOOKUP(A238,bangolf_kategorien!$A$2:$B$11,2,FALSE),\": \",D238,\", \",C238)","v":"SM2: Berkenkopf, Franz-Josef"},{"$f":"VLOOKUP(A238,bangolf_kategorien!$A$2:$B$11,2,FALSE)","v":"SM2"}]
["ob",3194219,"Manfred","Bernard","Hobby",{"$f":"CONCATENATE(VLOOKUP(A239,bangolf_kategorien!$A$2:$B$11,2,FALSE),\": \",D239,\", \",C239)","v":"SM1: Bernard, Manfred"},{"$f":"VLOOKUP(A239,bangolf_kategorien!$A$2:$B$11,2,FALSE)","v":"SM1"}]
["og",48006,"Susanne","Berneit","MSC Bensheim-Auerbach",{"$f":"CONCATENATE(VLOOKUP(A240,bangolf_kategorien!$A$2:$B$11,2,FALSE),\": \",D240,\", \",C240)","v":"SW1: Berneit, Susanne"},{"$f":"VLOOKUP(A240,bangolf_kategorien!$A$2:$B$11,2,FALSE)","v":"SW1"}]
["ob",42851,"Frank","Bernhard","SSC Attendorn",{"$f":"CONCATENATE(VLOOKUP(A241,bangolf_kategorien!$A$2:$B$11,2,FALSE),\": \",D241,\", \",C241)","v":"SM1: Bernhard, Frank"},{"$f":"VLOOKUP(A241,bangolf_kategorien!$A$2:$B$11,2,FALSE)","v":"SM1"}]
["ds",66512,"Erika","Bernhardt","1. MGC Tuttlingen",{"$f":"CONCATENATE(VLOOKUP(A242,bangolf_kategorien!$A$2:$B$11,2,FALSE),\": \",D242,\", \",C242)","v":"D: Bernhardt, Erika"},{"$f":"VLOOKUP(A242,bangolf_kategorien!$A$2:$B$11,2,FALSE)","v":"D"}]
["hv",23895,"Hans-Jürgen","Berschansky","TSV Salzgitter Abt. Bahnengolf",{"$f":"CONCATENATE(VLOOKUP(A243,bangolf_kategorien!$A$2:$B$11,2,FALSE),\": \",D243,\", \",C243)","v":"SM2: Berschansky, Hans-Jürgen"},{"$f":"VLOOKUP(A243,bangolf_kategorien!$A$2:$B$11,2,FALSE)","v":"SM2"}]
["ds",52088,"Yvonne","Berthel-Kolbe","1. MGC Kassel 1964",{"$f":"CONCATENATE(VLOOKUP(A244,bangolf_kategorien!$A$2:$B$11,2,FALSE),\": \",D244,\", \",C244)","v":"D: Berthel-Kolbe, Yvonne"},{"$f":"VLOOKUP(A244,bangolf_kategorien!$A$2:$B$11,2,FALSE)","v":"D"}]
["ob",44982,"Christian","Beschorner","MGC Freizeitzentrum Biebertal",{"$f":"CONCATENATE(VLOOKUP(A245,bangolf_kategorien!$A$2:$B$11,2,FALSE),\": \",D245,\", \",C245)","v":"SM1: Beschorner, Christian"},{"$f":"VLOOKUP(A245,bangolf_kategorien!$A$2:$B$11,2,FALSE)","v":"SM1"}]
["ob",30217,"Roland","Best","1. NMC Kelheim",{"$f":"CONCATENATE(VLOOKUP(A246,bangolf_kategorien!$A$2:$B$11,2,FALSE),\": \",D246,\", \",C246)","v":"SM1: Best, Roland"},{"$f":"VLOOKUP(A246,bangolf_kategorien!$A$2:$B$11,2,FALSE)","v":"SM1"}]
["og",67391,"Lucie","Betsch","BGS Hardenberg-Pötter",{"$f":"CONCATENATE(VLOOKUP(A247,bangolf_kategorien!$A$2:$B$11,2,FALSE),\": \",D247,\", \",C247)","v":"SW1: Betsch, Lucie"},{"$f":"VLOOKUP(A247,bangolf_kategorien!$A$2:$B$11,2,FALSE)","v":"SW1"}]
["ob",3194207,"Thomas","Bettenhäuser","Hobby",{"$f":"CONCATENATE(VLOOKUP(A248,bangolf_kategorien!$A$2:$B$11,2,FALSE),\": \",D248,\", \",C248)","v":"SM1: Bettenhäuser, Thomas"},{"$f":"VLOOKUP(A248,bangolf_kategorien!$A$2:$B$11,2,FALSE)","v":"SM1"}]
["ob",29631,"Marco","Bettger","1. MSC Wesel 6.6.1966",{"$f":"CONCATENATE(VLOOKUP(A249,bangolf_kategorien!$A$2:$B$11,2,FALSE),\": \",D249,\", \",C249)","v":"SM1: Bettger, Marco"},{"$f":"VLOOKUP(A249,bangolf_kategorien!$A$2:$B$11,2,FALSE)","v":"SM1"}]
["hv",41029,"Norbert","Betz","BGC Bad Berneck",{"$f":"CONCATENATE(VLOOKUP(A250,bangolf_kategorien!$A$2:$B$11,2,FALSE),\": \",D250,\", \",C250)","v":"SM2: Betz, Norbert"},{"$f":"VLOOKUP(A250,bangolf_kategorien!$A$2:$B$11,2,FALSE)","v":"SM2"}]
["hv",31966,"Horst","Betzholz","1. CKF Dudweiler",{"$f":"CONCATENATE(VLOOKUP(A251,bangolf_kategorien!$A$2:$B$11,2,FALSE),\": \",D251,\", \",C251)","v":"SM2: Betzholz, Horst"},{"$f":"VLOOKUP(A251,bangolf_kategorien!$A$2:$B$11,2,FALSE)","v":"SM2"}]
["ds",25369,"Nicole","Betzholz","1. CKF Dudweiler",{"$f":"CONCATENATE(VLOOKUP(A252,bangolf_kategorien!$A$2:$B$11,2,FALSE),\": \",D252,\", \",C252)","v":"D: Betzholz, Nicole"},{"$f":"VLOOKUP(A252,bangolf_kategorien!$A$2:$B$11,2,FALSE)","v":"D"}]
["hs",32105,"André","Betzien","BGC Diepholz",{"$f":"CONCATENATE(VLOOKUP(A253,bangolf_kategorien!$A$2:$B$11,2,FALSE),\": \",D253,\", \",C253)","v":"H: Betzien, André"},{"$f":"VLOOKUP(A253,bangolf_kategorien!$A$2:$B$11,2,FALSE)","v":"H"}]
["hv",5612,"Boto von","Beuningen","VfL Lohbrügge Abt. Bahnengolf",{"$f":"CONCATENATE(VLOOKUP(A254,bangolf_kategorien!$A$2:$B$11,2,FALSE),\": \",D254,\", \",C254)","v":"SM2: Beuningen, Boto von"},{"$f":"VLOOKUP(A254,bangolf_kategorien!$A$2:$B$11,2,FALSE)","v":"SM2"}]
["ob",27202,"Jürgen","Beutin","1. MGC Ludwigshafen",{"$f":"CONCATENATE(VLOOKUP(A255,bangolf_kategorien!$A$2:$B$11,2,FALSE),\": \",D255,\", \",C255)","v":"SM1: Beutin, Jürgen"},{"$f":"VLOOKUP(A255,bangolf_kategorien!$A$2:$B$11,2,FALSE)","v":"SM1"}]
["hs",47156,"Bernd","Beutler","BGSV Castrop 1961",{"$f":"CONCATENATE(VLOOKUP(A256,bangolf_kategorien!$A$2:$B$11,2,FALSE),\": \",D256,\", \",C256)","v":"H: Beutler, Bernd"},{"$f":"VLOOKUP(A256,bangolf_kategorien!$A$2:$B$11,2,FALSE)","v":"H"}]
["dv",18418,"Cordula","Beutner","MGF Steinbruch Kempten",{"$f":"CONCATENATE(VLOOKUP(A257,bangolf_kategorien!$A$2:$B$11,2,FALSE),\": \",D257,\", \",C257)","v":"SW2: Beutner, Cordula"},{"$f":"VLOOKUP(A257,bangolf_kategorien!$A$2:$B$11,2,FALSE)","v":"SW2"}]
["hv",46243,"Hartmut","Bever","1. MGC Gelsenkirchen",{"$f":"CONCATENATE(VLOOKUP(A258,bangolf_kategorien!$A$2:$B$11,2,FALSE),\": \",D258,\", \",C258)","v":"SM2: Bever, Hartmut"},{"$f":"VLOOKUP(A258,bangolf_kategorien!$A$2:$B$11,2,FALSE)","v":"SM2"}]
["ob",67192,"Frank","Beyer","1. MGC Kassel 1964",{"$f":"CONCATENATE(VLOOKUP(A259,bangolf_kategorien!$A$2:$B$11,2,FALSE),\": \",D259,\", \",C259)","v":"SM1: Beyer, Frank"},{"$f":"VLOOKUP(A259,bangolf_kategorien!$A$2:$B$11,2,FALSE)","v":"SM1"}]
["hj",67193,"Lukas","Beyer","1. MGC Kassel 1964",{"$f":"CONCATENATE(VLOOKUP(A260,bangolf_kategorien!$A$2:$B$11,2,FALSE),\": \",D260,\", \",C260)","v":"JM: Beyer, Lukas"},{"$f":"VLOOKUP(A260,bangolf_kategorien!$A$2:$B$11,2,FALSE)","v":"JM"}]
["ds",3319851,"Sophia","Beyer","Hobby",{"$f":"CONCATENATE(VLOOKUP(A261,bangolf_kategorien!$A$2:$B$11,2,FALSE),\": \",D261,\", \",C261)","v":"D: Beyer, Sophia"},{"$f":"VLOOKUP(A261,bangolf_kategorien!$A$2:$B$11,2,FALSE)","v":"D"}]
["og",3202319,"Grit","Bhandari","Hobby",{"$f":"CONCATENATE(VLOOKUP(A262,bangolf_kategorien!$A$2:$B$11,2,FALSE),\": \",D262,\", \",C262)","v":"SW1: Bhandari, Grit"},{"$f":"VLOOKUP(A262,bangolf_kategorien!$A$2:$B$11,2,FALSE)","v":"SW1"}]
["hv",65844,"Siegfried","Biastoch","BGV Backumer Tal Herten",{"$f":"CONCATENATE(VLOOKUP(A263,bangolf_kategorien!$A$2:$B$11,2,FALSE),\": \",D263,\", \",C263)","v":"SM2: Biastoch, Siegfried"},{"$f":"VLOOKUP(A263,bangolf_kategorien!$A$2:$B$11,2,FALSE)","v":"SM2"}]
["hv",66914,"Detlef","Bieber","1. BGC Celle von 1964",{"$f":"CONCATENATE(VLOOKUP(A264,bangolf_kategorien!$A$2:$B$11,2,FALSE),\": \",D264,\", \",C264)","v":"SM2: Bieber, Detlef"},{"$f":"VLOOKUP(A264,bangolf_kategorien!$A$2:$B$11,2,FALSE)","v":"SM2"}]
["hs",40050,"Maik","Biedron","MC \"Möve\" Cuxhaven-Sahlenburg",{"$f":"CONCATENATE(VLOOKUP(A265,bangolf_kategorien!$A$2:$B$11,2,FALSE),\": \",D265,\", \",C265)","v":"H: Biedron, Maik"},{"$f":"VLOOKUP(A265,bangolf_kategorien!$A$2:$B$11,2,FALSE)","v":"H"}]
["og",67574,"Elke","Bieger","MGC Bad Soden-Salmünster",{"$f":"CONCATENATE(VLOOKUP(A266,bangolf_kategorien!$A$2:$B$11,2,FALSE),\": \",D266,\", \",C266)","v":"SW1: Bieger, Elke"},{"$f":"VLOOKUP(A266,bangolf_kategorien!$A$2:$B$11,2,FALSE)","v":"SW1"}]
["hs",65854,"Malte","Biegler","1. MGC Mainz",{"$f":"CONCATENATE(VLOOKUP(A267,bangolf_kategorien!$A$2:$B$11,2,FALSE),\": \",D267,\", \",C267)","v":"H: Biegler, Malte"},{"$f":"VLOOKUP(A267,bangolf_kategorien!$A$2:$B$11,2,FALSE)","v":"H"}]
["hj",65855,"Ole","Biegler","1. MGC Mainz",{"$f":"CONCATENATE(VLOOKUP(A268,bangolf_kategorien!$A$2:$B$11,2,FALSE),\": \",D268,\", \",C268)","v":"JM: Biegler, Ole"},{"$f":"VLOOKUP(A268,bangolf_kategorien!$A$2:$B$11,2,FALSE)","v":"JM"}]
["ob",33681,"Thomas","Biehl","BGC Schweinfurt",{"$f":"CONCATENATE(VLOOKUP(A269,bangolf_kategorien!$A$2:$B$11,2,FALSE),\": \",D269,\", \",C269)","v":"SM1: Biehl, Thomas"},{"$f":"VLOOKUP(A269,bangolf_kategorien!$A$2:$B$11,2,FALSE)","v":"SM1"}]
["ob",35862,"Frank","Bielak","BSC Ennepetal",{"$f":"CONCATENATE(VLOOKUP(A270,bangolf_kategorien!$A$2:$B$11,2,FALSE),\": \",D270,\", \",C270)","v":"SM1: Bielak, Frank"},{"$f":"VLOOKUP(A270,bangolf_kategorien!$A$2:$B$11,2,FALSE)","v":"SM1"}]
["hs",67244,"Swen","Bielmann","1. MGC Gelsenkirchen",{"$f":"CONCATENATE(VLOOKUP(A271,bangolf_kategorien!$A$2:$B$11,2,FALSE),\": \",D271,\", \",C271)","v":"H: Bielmann, Swen"},{"$f":"VLOOKUP(A271,bangolf_kategorien!$A$2:$B$11,2,FALSE)","v":"H"}]
["hv",63302,"Kurt","Bien","1. MGC Ludwigshafen",{"$f":"CONCATENATE(VLOOKUP(A272,bangolf_kategorien!$A$2:$B$11,2,FALSE),\": \",D272,\", \",C272)","v":"SM2: Bien, Kurt"},{"$f":"VLOOKUP(A272,bangolf_kategorien!$A$2:$B$11,2,FALSE)","v":"SM2"}]
["ob",28606,"Florian","Bieringer","MGC Murnau am Staffelsee",{"$f":"CONCATENATE(VLOOKUP(A273,bangolf_kategorien!$A$2:$B$11,2,FALSE),\": \",D273,\", \",C273)","v":"SM1: Bieringer, Florian"},{"$f":"VLOOKUP(A273,bangolf_kategorien!$A$2:$B$11,2,FALSE)","v":"SM1"}]
["hs",33608,"Christoph","Biermann","MC Tigers Künsebeck",{"$f":"CONCATENATE(VLOOKUP(A274,bangolf_kategorien!$A$2:$B$11,2,FALSE),\": \",D274,\", \",C274)","v":"H: Biermann, Christoph"},{"$f":"VLOOKUP(A274,bangolf_kategorien!$A$2:$B$11,2,FALSE)","v":"H"}]
["og",66651,"Christine","Biller","BGC Neutraubling",{"$f":"CONCATENATE(VLOOKUP(A275,bangolf_kategorien!$A$2:$B$11,2,FALSE),\": \",D275,\", \",C275)","v":"SW1: Biller, Christine"},{"$f":"VLOOKUP(A275,bangolf_kategorien!$A$2:$B$11,2,FALSE)","v":"SW1"}]
["ob",46401,"Manfred","Biller","BGC Neutraubling",{"$f":"CONCATENATE(VLOOKUP(A276,bangolf_kategorien!$A$2:$B$11,2,FALSE),\": \",D276,\", \",C276)","v":"SM1: Biller, Manfred"},{"$f":"VLOOKUP(A276,bangolf_kategorien!$A$2:$B$11,2,FALSE)","v":"SM1"}]
["hs",67486,"Mario","Biller","MGC Brunsbüttel",{"$f":"CONCATENATE(VLOOKUP(A277,bangolf_kategorien!$A$2:$B$11,2,FALSE),\": \",D277,\", \",C277)","v":"H: Biller, Mario"},{"$f":"VLOOKUP(A277,bangolf_kategorien!$A$2:$B$11,2,FALSE)","v":"H"}]
["hv",67098,"Manfred","Binder","MGC Harrislee-Wassersleben",{"$f":"CONCATENATE(VLOOKUP(A278,bangolf_kategorien!$A$2:$B$11,2,FALSE),\": \",D278,\", \",C278)","v":"SM2: Binder, Manfred"},{"$f":"VLOOKUP(A278,bangolf_kategorien!$A$2:$B$11,2,FALSE)","v":"SM2"}]
["ds",31142,"Nicole","Birkelbach","1. MGC 1970 Göttingen",{"$f":"CONCATENATE(VLOOKUP(A279,bangolf_kategorien!$A$2:$B$11,2,FALSE),\": \",D279,\", \",C279)","v":"D: Birkelbach, Nicole"},{"$f":"VLOOKUP(A279,bangolf_kategorien!$A$2:$B$11,2,FALSE)","v":"D"}]
["ob",65516,"Frank","Bischoff","BSV Inzlingen 1979",{"$f":"CONCATENATE(VLOOKUP(A280,bangolf_kategorien!$A$2:$B$11,2,FALSE),\": \",D280,\", \",C280)","v":"SM1: Bischoff, Frank"},{"$f":"VLOOKUP(A280,bangolf_kategorien!$A$2:$B$11,2,FALSE)","v":"SM1"}]
["ob",35522,"Nicolai","Bischoff","Hamburger MC von 1965",{"$f":"CONCATENATE(VLOOKUP(A281,bangolf_kategorien!$A$2:$B$11,2,FALSE),\": \",D281,\", \",C281)","v":"SM1: Bischoff, Nicolai"},{"$f":"VLOOKUP(A281,bangolf_kategorien!$A$2:$B$11,2,FALSE)","v":"SM1"}]
["ob",48247,"Frank","Bissinger","MGC Monrepos",{"$f":"CONCATENATE(VLOOKUP(A282,bangolf_kategorien!$A$2:$B$11,2,FALSE),\": \",D282,\", \",C282)","v":"SM1: Bissinger, Frank"},{"$f":"VLOOKUP(A282,bangolf_kategorien!$A$2:$B$11,2,FALSE)","v":"SM1"}]
["og",67004,"Vera","Bissinger","MGC Monrepos",{"$f":"CONCATENATE(VLOOKUP(A283,bangolf_kategorien!$A$2:$B$11,2,FALSE),\": \",D283,\", \",C283)","v":"SW1: Bissinger, Vera"},{"$f":"VLOOKUP(A283,bangolf_kategorien!$A$2:$B$11,2,FALSE)","v":"SW1"}]
["ob",46690,"Christian","Bittner","MGC Murnau am Staffelsee",{"$f":"CONCATENATE(VLOOKUP(A284,bangolf_kategorien!$A$2:$B$11,2,FALSE),\": \",D284,\", \",C284)","v":"SM1: Bittner, Christian"},{"$f":"VLOOKUP(A284,bangolf_kategorien!$A$2:$B$11,2,FALSE)","v":"SM1"}]
["hs",30713,"Martin","Bittner","MGC Murnau am Staffelsee",{"$f":"CONCATENATE(VLOOKUP(A285,bangolf_kategorien!$A$2:$B$11,2,FALSE),\": \",D285,\", \",C285)","v":"H: Bittner, Martin"},{"$f":"VLOOKUP(A285,bangolf_kategorien!$A$2:$B$11,2,FALSE)","v":"H"}]
["ob",31649,"Peter Klaus","Bittner","BGSV Bad Homburg",{"$f":"CONCATENATE(VLOOKUP(A286,bangolf_kategorien!$A$2:$B$11,2,FALSE),\": \",D286,\", \",C286)","v":"SM1: Bittner, Peter Klaus"},{"$f":"VLOOKUP(A286,bangolf_kategorien!$A$2:$B$11,2,FALSE)","v":"SM1"}]
["hs",36974,"Alexander","Blanckarts","1. BGC Hannover",{"$f":"CONCATENATE(VLOOKUP(A287,bangolf_kategorien!$A$2:$B$11,2,FALSE),\": \",D287,\", \",C287)","v":"H: Blanckarts, Alexander"},{"$f":"VLOOKUP(A287,bangolf_kategorien!$A$2:$B$11,2,FALSE)","v":"H"}]
["ds",67532,"Lara","Blanckarts","1. BGC Hannover",{"$f":"CONCATENATE(VLOOKUP(A288,bangolf_kategorien!$A$2:$B$11,2,FALSE),\": \",D288,\", \",C288)","v":"D: Blanckarts, Lara"},{"$f":"VLOOKUP(A288,bangolf_kategorien!$A$2:$B$11,2,FALSE)","v":"D"}]
["og",35663,"Nicole","Blasek","1. MGC Köln 1961",{"$f":"CONCATENATE(VLOOKUP(A289,bangolf_kategorien!$A$2:$B$11,2,FALSE),\": \",D289,\", \",C289)","v":"SW1: Blasek, Nicole"},{"$f":"VLOOKUP(A289,bangolf_kategorien!$A$2:$B$11,2,FALSE)","v":"SW1"}]
["pa",66906,"Leon","Bläsing","BGS Hardenberg-Pötter",{"$f":"CONCATENATE(VLOOKUP(A290,bangolf_kategorien!$A$2:$B$11,2,FALSE),\": \",D290,\", \",C290)","v":"SCHM: Bläsing, Leon"},{"$f":"VLOOKUP(A290,bangolf_kategorien!$A$2:$B$11,2,FALSE)","v":"SCHM"}]
["hs",66402,"Marc","Bläsing","BGS Hardenberg-Pötter",{"$f":"CONCATENATE(VLOOKUP(A291,bangolf_kategorien!$A$2:$B$11,2,FALSE),\": \",D291,\", \",C291)","v":"H: Bläsing, Marc"},{"$f":"VLOOKUP(A291,bangolf_kategorien!$A$2:$B$11,2,FALSE)","v":"H"}]
["ds",66403,"Julia","Bläsing-Drechsel","BGS Hardenberg-Pötter",{"$f":"CONCATENATE(VLOOKUP(A292,bangolf_kategorien!$A$2:$B$11,2,FALSE),\": \",D292,\", \",C292)","v":"D: Bläsing-Drechsel, Julia"},{"$f":"VLOOKUP(A292,bangolf_kategorien!$A$2:$B$11,2,FALSE)","v":"D"}]
["dv",52084,"Gabriele","Blechert","MGC Olympia Kiel",{"$f":"CONCATENATE(VLOOKUP(A293,bangolf_kategorien!$A$2:$B$11,2,FALSE),\": \",D293,\", \",C293)","v":"SW2: Blechert, Gabriele"},{"$f":"VLOOKUP(A293,bangolf_kategorien!$A$2:$B$11,2,FALSE)","v":"SW2"}]
["ds",33127,"Gesa","Blechert","MGC Olympia Kiel",{"$f":"CONCATENATE(VLOOKUP(A294,bangolf_kategorien!$A$2:$B$11,2,FALSE),\": \",D294,\", \",C294)","v":"D: Blechert, Gesa"},{"$f":"VLOOKUP(A294,bangolf_kategorien!$A$2:$B$11,2,FALSE)","v":"D"}]
["hv",42234,"Gerhard","Blechschmidt","1. NMC Kelheim",{"$f":"CONCATENATE(VLOOKUP(A295,bangolf_kategorien!$A$2:$B$11,2,FALSE),\": \",D295,\", \",C295)","v":"SM2: Blechschmidt, Gerhard"},{"$f":"VLOOKUP(A295,bangolf_kategorien!$A$2:$B$11,2,FALSE)","v":"SM2"}]
["dv",42233,"Renate","Blechschmidt","1. NMC Kelheim",{"$f":"CONCATENATE(VLOOKUP(A296,bangolf_kategorien!$A$2:$B$11,2,FALSE),\": \",D296,\", \",C296)","v":"SW2: Blechschmidt, Renate"},{"$f":"VLOOKUP(A296,bangolf_kategorien!$A$2:$B$11,2,FALSE)","v":"SW2"}]
["dv",3211950,"Angelika","Bleibinger","Hobby",{"$f":"CONCATENATE(VLOOKUP(A297,bangolf_kategorien!$A$2:$B$11,2,FALSE),\": \",D297,\", \",C297)","v":"SW2: Bleibinger, Angelika"},{"$f":"VLOOKUP(A297,bangolf_kategorien!$A$2:$B$11,2,FALSE)","v":"SW2"}]
["ds",31333,"Stefanie","Blendermann","1. MGC Mainz",{"$f":"CONCATENATE(VLOOKUP(A298,bangolf_kategorien!$A$2:$B$11,2,FALSE),\": \",D298,\", \",C298)","v":"D: Blendermann, Stefanie"},{"$f":"VLOOKUP(A298,bangolf_kategorien!$A$2:$B$11,2,FALSE)","v":"D"}]
["dv",28041,"Daniela","Bless","BSV 82 Ohlsbach",{"$f":"CONCATENATE(VLOOKUP(A299,bangolf_kategorien!$A$2:$B$11,2,FALSE),\": \",D299,\", \",C299)","v":"SW2: Bless, Daniela"},{"$f":"VLOOKUP(A299,bangolf_kategorien!$A$2:$B$11,2,FALSE)","v":"SW2"}]
["hv",28040,"Werner","Bless","BSV 82 Ohlsbach",{"$f":"CONCATENATE(VLOOKUP(A300,bangolf_kategorien!$A$2:$B$11,2,FALSE),\": \",D300,\", \",C300)","v":"SM2: Bless, Werner"},{"$f":"VLOOKUP(A300,bangolf_kategorien!$A$2:$B$11,2,FALSE)","v":"SM2"}]
["ob",47493,"Achim","Blessing","MGC Schwaikheim",{"$f":"CONCATENATE(VLOOKUP(A301,bangolf_kategorien!$A$2:$B$11,2,FALSE),\": \",D301,\", \",C301)","v":"SM1: Blessing, Achim"},{"$f":"VLOOKUP(A301,bangolf_kategorien!$A$2:$B$11,2,FALSE)","v":"SM1"}]
["dv",37104,"Rosemarie","Blöcker","MSK Neheim-Hüsten",{"$f":"CONCATENATE(VLOOKUP(A302,bangolf_kategorien!$A$2:$B$11,2,FALSE),\": \",D302,\", \",C302)","v":"SW2: Blöcker, Rosemarie"},{"$f":"VLOOKUP(A302,bangolf_kategorien!$A$2:$B$11,2,FALSE)","v":"SW2"}]
["hs",37103,"Tim","Blöcker","MSK Neheim-Hüsten",{"$f":"CONCATENATE(VLOOKUP(A303,bangolf_kategorien!$A$2:$B$11,2,FALSE),\": \",D303,\", \",C303)","v":"H: Blöcker, Tim"},{"$f":"VLOOKUP(A303,bangolf_kategorien!$A$2:$B$11,2,FALSE)","v":"H"}]
["ob",34063,"Bernhard","Blöckl","1. MGC München-Feldmoching",{"$f":"CONCATENATE(VLOOKUP(A304,bangolf_kategorien!$A$2:$B$11,2,FALSE),\": \",D304,\", \",C304)","v":"SM1: Blöckl, Bernhard"},{"$f":"VLOOKUP(A304,bangolf_kategorien!$A$2:$B$11,2,FALSE)","v":"SM1"}]
["ds",50681,"Bettina","Blömker","BGV Bergisch Land 1962 / 63",{"$f":"CONCATENATE(VLOOKUP(A305,bangolf_kategorien!$A$2:$B$11,2,FALSE),\": \",D305,\", \",C305)","v":"D: Blömker, Bettina"},{"$f":"VLOOKUP(A305,bangolf_kategorien!$A$2:$B$11,2,FALSE)","v":"D"}]
["ob",2275,"Detlev","Blume","MSV 05 Bad Münder / Springe",{"$f":"CONCATENATE(VLOOKUP(A306,bangolf_kategorien!$A$2:$B$11,2,FALSE),\": \",D306,\", \",C306)","v":"SM1: Blume, Detlev"},{"$f":"VLOOKUP(A306,bangolf_kategorien!$A$2:$B$11,2,FALSE)","v":"SM1"}]
["hs",66049,"Severin","Blümer","SG Arheilgen Abt. Bahnengolf",{"$f":"CONCATENATE(VLOOKUP(A307,bangolf_kategorien!$A$2:$B$11,2,FALSE),\": \",D307,\", \",C307)","v":"H: Blümer, Severin"},{"$f":"VLOOKUP(A307,bangolf_kategorien!$A$2:$B$11,2,FALSE)","v":"H"}]
["hv",66391,"Hardy","Blumhoff","SV 1890 Dreieichenhain, Abt. Bahnengolf",{"$f":"CONCATENATE(VLOOKUP(A308,bangolf_kategorien!$A$2:$B$11,2,FALSE),\": \",D308,\", \",C308)","v":"SM2: Blumhoff, Hardy"},{"$f":"VLOOKUP(A308,bangolf_kategorien!$A$2:$B$11,2,FALSE)","v":"SM2"}]
["ob",43555,"Jens","Bock","SV Lurup Abt. Bahnengolf",{"$f":"CONCATENATE(VLOOKUP(A309,bangolf_kategorien!$A$2:$B$11,2,FALSE),\": \",D309,\", \",C309)","v":"SM1: Bock, Jens"},{"$f":"VLOOKUP(A309,bangolf_kategorien!$A$2:$B$11,2,FALSE)","v":"SM1"}]
["hs",38640,"Christian","Bode","1. BGC Hannover",{"$f":"CONCATENATE(VLOOKUP(A310,bangolf_kategorien!$A$2:$B$11,2,FALSE),\": \",D310,\", \",C310)","v":"H: Bode, Christian"},{"$f":"VLOOKUP(A310,bangolf_kategorien!$A$2:$B$11,2,FALSE)","v":"H"}]
["ob",43782,"Hans-Jochen","Boenisch","BGC Northeim",{"$f":"CONCATENATE(VLOOKUP(A311,bangolf_kategorien!$A$2:$B$11,2,FALSE),\": \",D311,\", \",C311)","v":"SM1: Boenisch, Hans-Jochen"},{"$f":"VLOOKUP(A311,bangolf_kategorien!$A$2:$B$11,2,FALSE)","v":"SM1"}]
["hv",21681,"Volker","Bogdahn","MC 62 Lüdenscheid",{"$f":"CONCATENATE(VLOOKUP(A312,bangolf_kategorien!$A$2:$B$11,2,FALSE),\": \",D312,\", \",C312)","v":"SM2: Bogdahn, Volker"},{"$f":"VLOOKUP(A312,bangolf_kategorien!$A$2:$B$11,2,FALSE)","v":"SM2"}]
["ob",67113,"Ulrich","Bohle","1. MGC Gelsenkirchen",{"$f":"CONCATENATE(VLOOKUP(A313,bangolf_kategorien!$A$2:$B$11,2,FALSE),\": \",D313,\", \",C313)","v":"SM1: Bohle, Ulrich"},{"$f":"VLOOKUP(A313,bangolf_kategorien!$A$2:$B$11,2,FALSE)","v":"SM1"}]
["hv",67172,"Hans-Dieter","Bohleber","BSV 82 Ohlsbach",{"$f":"CONCATENATE(VLOOKUP(A314,bangolf_kategorien!$A$2:$B$11,2,FALSE),\": \",D314,\", \",C314)","v":"SM2: Bohleber, Hans-Dieter"},{"$f":"VLOOKUP(A314,bangolf_kategorien!$A$2:$B$11,2,FALSE)","v":"SM2"}]
["hv",18421,"Ernst","Böhm","MGC Murnau am Staffelsee",{"$f":"CONCATENATE(VLOOKUP(A315,bangolf_kategorien!$A$2:$B$11,2,FALSE),\": \",D315,\", \",C315)","v":"SM2: Böhm, Ernst"},{"$f":"VLOOKUP(A315,bangolf_kategorien!$A$2:$B$11,2,FALSE)","v":"SM2"}]
["hv",4126,"Uwe","Bohnenkämper","MGC Wuppertal-Ronsdorf 1967",{"$f":"CONCATENATE(VLOOKUP(A316,bangolf_kategorien!$A$2:$B$11,2,FALSE),\": \",D316,\", \",C316)","v":"SM2: Bohnenkämper, Uwe"},{"$f":"VLOOKUP(A316,bangolf_kategorien!$A$2:$B$11,2,FALSE)","v":"SM2"}]
["hv",5964,"Wolfgang","Bojack","MSV Würzburg-Löwenbrücke",{"$f":"CONCATENATE(VLOOKUP(A317,bangolf_kategorien!$A$2:$B$11,2,FALSE),\": \",D317,\", \",C317)","v":"SM2: Bojack, Wolfgang"},{"$f":"VLOOKUP(A317,bangolf_kategorien!$A$2:$B$11,2,FALSE)","v":"SM2"}]
["ob",66315,"Richard","Bölle","Kölner Miniatur Golf Club",{"$f":"CONCATENATE(VLOOKUP(A318,bangolf_kategorien!$A$2:$B$11,2,FALSE),\": \",D318,\", \",C318)","v":"SM1: Bölle, Richard"},{"$f":"VLOOKUP(A318,bangolf_kategorien!$A$2:$B$11,2,FALSE)","v":"SM1"}]
["ds",40384,"Anne","Bollrich","MGC Dormagen-Brechten",{"$f":"CONCATENATE(VLOOKUP(A319,bangolf_kategorien!$A$2:$B$11,2,FALSE),\": \",D319,\", \",C319)","v":"D: Bollrich, Anne"},{"$f":"VLOOKUP(A319,bangolf_kategorien!$A$2:$B$11,2,FALSE)","v":"D"}]
["ob",38537,"Jens","Bollrich","1. BGC Leipzig",{"$f":"CONCATENATE(VLOOKUP(A320,bangolf_kategorien!$A$2:$B$11,2,FALSE),\": \",D320,\", \",C320)","v":"SM1: Bollrich, Jens"},{"$f":"VLOOKUP(A320,bangolf_kategorien!$A$2:$B$11,2,FALSE)","v":"SM1"}]
["og",65740,"Margit","Bollrich","1. BGC Leipzig",{"$f":"CONCATENATE(VLOOKUP(A321,bangolf_kategorien!$A$2:$B$11,2,FALSE),\": \",D321,\", \",C321)","v":"SW1: Bollrich, Margit"},{"$f":"VLOOKUP(A321,bangolf_kategorien!$A$2:$B$11,2,FALSE)","v":"SW1"}]
["dv",25578,"Kornelia","Boltze","1. BGC Rodalben 1977",{"$f":"CONCATENATE(VLOOKUP(A322,bangolf_kategorien!$A$2:$B$11,2,FALSE),\": \",D322,\", \",C322)","v":"SW2: Boltze, Kornelia"},{"$f":"VLOOKUP(A322,bangolf_kategorien!$A$2:$B$11,2,FALSE)","v":"SW2"}]
["hs",36329,"Tobias","Boltze","1. BGC Rodalben 1977",{"$f":"CONCATENATE(VLOOKUP(A323,bangolf_kategorien!$A$2:$B$11,2,FALSE),\": \",D323,\", \",C323)","v":"H: Boltze, Tobias"},{"$f":"VLOOKUP(A323,bangolf_kategorien!$A$2:$B$11,2,FALSE)","v":"H"}]
["hv",25581,"Uwe","Boltze","1. BGC Rodalben 1977",{"$f":"CONCATENATE(VLOOKUP(A324,bangolf_kategorien!$A$2:$B$11,2,FALSE),\": \",D324,\", \",C324)","v":"SM2: Boltze, Uwe"},{"$f":"VLOOKUP(A324,bangolf_kategorien!$A$2:$B$11,2,FALSE)","v":"SM2"}]
["hv",38176,"Wolfgang","Bomblies","MGC \"AS\" Witten 1963",{"$f":"CONCATENATE(VLOOKUP(A325,bangolf_kategorien!$A$2:$B$11,2,FALSE),\": \",D325,\", \",C325)","v":"SM2: Bomblies, Wolfgang"},{"$f":"VLOOKUP(A325,bangolf_kategorien!$A$2:$B$11,2,FALSE)","v":"SM2"}]
["ds",67592,"Janina","Bommer","BGSC Bochum 1978",{"$f":"CONCATENATE(VLOOKUP(A326,bangolf_kategorien!$A$2:$B$11,2,FALSE),\": \",D326,\", \",C326)","v":"D: Bommer, Janina"},{"$f":"VLOOKUP(A326,bangolf_kategorien!$A$2:$B$11,2,FALSE)","v":"D"}]
["ob",67484,"Michael","Bommer","BGSC Bochum 1978",{"$f":"CONCATENATE(VLOOKUP(A327,bangolf_kategorien!$A$2:$B$11,2,FALSE),\": \",D327,\", \",C327)","v":"SM1: Bommer, Michael"},{"$f":"VLOOKUP(A327,bangolf_kategorien!$A$2:$B$11,2,FALSE)","v":"SM1"}]
["hv",36836,"Bernhard","Bonder","1. BGC Paderborn",{"$f":"CONCATENATE(VLOOKUP(A328,bangolf_kategorien!$A$2:$B$11,2,FALSE),\": \",D328,\", \",C328)","v":"SM2: Bonder, Bernhard"},{"$f":"VLOOKUP(A328,bangolf_kategorien!$A$2:$B$11,2,FALSE)","v":"SM2"}]
["hj",67118,"Luc","Bonder","1. BGC Paderborn",{"$f":"CONCATENATE(VLOOKUP(A329,bangolf_kategorien!$A$2:$B$11,2,FALSE),\": \",D329,\", \",C329)","v":"JM: Bonder, Luc"},{"$f":"VLOOKUP(A329,bangolf_kategorien!$A$2:$B$11,2,FALSE)","v":"JM"}]
["ob",21702,"Frank","Bonenberger","1. MGC Ludwigshafen",{"$f":"CONCATENATE(VLOOKUP(A330,bangolf_kategorien!$A$2:$B$11,2,FALSE),\": \",D330,\", \",C330)","v":"SM1: Bonenberger, Frank"},{"$f":"VLOOKUP(A330,bangolf_kategorien!$A$2:$B$11,2,FALSE)","v":"SM1"}]
["ob",41704,"Pascal","Bonrath","MGC Wuppertal-Ronsdorf 1967",{"$f":"CONCATENATE(VLOOKUP(A331,bangolf_kategorien!$A$2:$B$11,2,FALSE),\": \",D331,\", \",C331)","v":"SM1: Bonrath, Pascal"},{"$f":"VLOOKUP(A331,bangolf_kategorien!$A$2:$B$11,2,FALSE)","v":"SM1"}]
["og",41663,"Heidi","Bönsch","KGC Bad Urach",{"$f":"CONCATENATE(VLOOKUP(A332,bangolf_kategorien!$A$2:$B$11,2,FALSE),\": \",D332,\", \",C332)","v":"SW1: Bönsch, Heidi"},{"$f":"VLOOKUP(A332,bangolf_kategorien!$A$2:$B$11,2,FALSE)","v":"SW1"}]
["ob",41667,"Jürgen","Bönsch","KGC Bad Urach",{"$f":"CONCATENATE(VLOOKUP(A333,bangolf_kategorien!$A$2:$B$11,2,FALSE),\": \",D333,\", \",C333)","v":"SM1: Bönsch, Jürgen"},{"$f":"VLOOKUP(A333,bangolf_kategorien!$A$2:$B$11,2,FALSE)","v":"SM1"}]
["hs",36323,"Patrick","Bönsch","KGC Bad Urach",{"$f":"CONCATENATE(VLOOKUP(A334,bangolf_kategorien!$A$2:$B$11,2,FALSE),\": \",D334,\", \",C334)","v":"H: Bönsch, Patrick"},{"$f":"VLOOKUP(A334,bangolf_kategorien!$A$2:$B$11,2,FALSE)","v":"H"}]
["hv",41671,"Roland","Bönsch","KGC Bad Urach",{"$f":"CONCATENATE(VLOOKUP(A335,bangolf_kategorien!$A$2:$B$11,2,FALSE),\": \",D335,\", \",C335)","v":"SM2: Bönsch, Roland"},{"$f":"VLOOKUP(A335,bangolf_kategorien!$A$2:$B$11,2,FALSE)","v":"SM2"}]
["dv",37249,"Cornelia","Boock","MSC Bensheim-Auerbach",{"$f":"CONCATENATE(VLOOKUP(A336,bangolf_kategorien!$A$2:$B$11,2,FALSE),\": \",D336,\", \",C336)","v":"SW2: Boock, Cornelia"},{"$f":"VLOOKUP(A336,bangolf_kategorien!$A$2:$B$11,2,FALSE)","v":"SW2"}]
["hs",46859,"Thomas","Boock","MGC Olympia Kiel",{"$f":"CONCATENATE(VLOOKUP(A337,bangolf_kategorien!$A$2:$B$11,2,FALSE),\": \",D337,\", \",C337)","v":"H: Boock, Thomas"},{"$f":"VLOOKUP(A337,bangolf_kategorien!$A$2:$B$11,2,FALSE)","v":"H"}]
["dv",17898,"Charlotte","Boos","2. MGC Worms",{"$f":"CONCATENATE(VLOOKUP(A338,bangolf_kategorien!$A$2:$B$11,2,FALSE),\": \",D338,\", \",C338)","v":"SW2: Boos, Charlotte"},{"$f":"VLOOKUP(A338,bangolf_kategorien!$A$2:$B$11,2,FALSE)","v":"SW2"}]
["ob",66945,"Jens","Börger","VfB Osnabrück",{"$f":"CONCATENATE(VLOOKUP(A339,bangolf_kategorien!$A$2:$B$11,2,FALSE),\": \",D339,\", \",C339)","v":"SM1: Börger, Jens"},{"$f":"VLOOKUP(A339,bangolf_kategorien!$A$2:$B$11,2,FALSE)","v":"SM1"}]
["hj",66946,"Pascal","Börger","VfB Osnabrück",{"$f":"CONCATENATE(VLOOKUP(A340,bangolf_kategorien!$A$2:$B$11,2,FALSE),\": \",D340,\", \",C340)","v":"JM: Börger, Pascal"},{"$f":"VLOOKUP(A340,bangolf_kategorien!$A$2:$B$11,2,FALSE)","v":"JM"}]
["og",67470,"Marion","Borgers","1. Essener CGC \"Blau-Gold\"",{"$f":"CONCATENATE(VLOOKUP(A341,bangolf_kategorien!$A$2:$B$11,2,FALSE),\": \",D341,\", \",C341)","v":"SW1: Borgers, Marion"},{"$f":"VLOOKUP(A341,bangolf_kategorien!$A$2:$B$11,2,FALSE)","v":"SW1"}]
["hs",43756,"Jens","Borggraefe","1. MGC Ludwigshafen",{"$f":"CONCATENATE(VLOOKUP(A342,bangolf_kategorien!$A$2:$B$11,2,FALSE),\": \",D342,\", \",C342)","v":"H: Borggraefe, Jens"},{"$f":"VLOOKUP(A342,bangolf_kategorien!$A$2:$B$11,2,FALSE)","v":"H"}]
["ds",36624,"Martina","Borggraefe","MSK Neheim-Hüsten",{"$f":"CONCATENATE(VLOOKUP(A343,bangolf_kategorien!$A$2:$B$11,2,FALSE),\": \",D343,\", \",C343)","v":"D: Borggraefe, Martina"},{"$f":"VLOOKUP(A343,bangolf_kategorien!$A$2:$B$11,2,FALSE)","v":"D"}]
["dv",34108,"Elisabeth","Bork","1. MSC Wesel 6.6.1966",{"$f":"CONCATENATE(VLOOKUP(A344,bangolf_kategorien!$A$2:$B$11,2,FALSE),\": \",D344,\", \",C344)","v":"SW2: Bork, Elisabeth"},{"$f":"VLOOKUP(A344,bangolf_kategorien!$A$2:$B$11,2,FALSE)","v":"SW2"}]
["hv",10087,"Gert","Bork","1. MSC Wesel 6.6.1966",{"$f":"CONCATENATE(VLOOKUP(A345,bangolf_kategorien!$A$2:$B$11,2,FALSE),\": \",D345,\", \",C345)","v":"SM2: Bork, Gert"},{"$f":"VLOOKUP(A345,bangolf_kategorien!$A$2:$B$11,2,FALSE)","v":"SM2"}]
["ob",25918,"Thomas","Born","BSC Ennepetal",{"$f":"CONCATENATE(VLOOKUP(A346,bangolf_kategorien!$A$2:$B$11,2,FALSE),\": \",D346,\", \",C346)","v":"SM1: Born, Thomas"},{"$f":"VLOOKUP(A346,bangolf_kategorien!$A$2:$B$11,2,FALSE)","v":"SM1"}]
["ds",27803,"Bianca","Bornhöft","MGC Olympia Kiel",{"$f":"CONCATENATE(VLOOKUP(A347,bangolf_kategorien!$A$2:$B$11,2,FALSE),\": \",D347,\", \",C347)","v":"D: Bornhöft, Bianca"},{"$f":"VLOOKUP(A347,bangolf_kategorien!$A$2:$B$11,2,FALSE)","v":"D"}]
["dv",38241,"Margit","Bornkessel","SV Lurup Abt. Bahnengolf",{"$f":"CONCATENATE(VLOOKUP(A348,bangolf_kategorien!$A$2:$B$11,2,FALSE),\": \",D348,\", \",C348)","v":"SW2: Bornkessel, Margit"},{"$f":"VLOOKUP(A348,bangolf_kategorien!$A$2:$B$11,2,FALSE)","v":"SW2"}]
["og",49092,"Elke","Bort","BGC Heilbronn",{"$f":"CONCATENATE(VLOOKUP(A349,bangolf_kategorien!$A$2:$B$11,2,FALSE),\": \",D349,\", \",C349)","v":"SW1: Bort, Elke"},{"$f":"VLOOKUP(A349,bangolf_kategorien!$A$2:$B$11,2,FALSE)","v":"SW1"}]
["hs",23605,"Marcel","Bort","BGC Heilbronn",{"$f":"CONCATENATE(VLOOKUP(A350,bangolf_kategorien!$A$2:$B$11,2,FALSE),\": \",D350,\", \",C350)","v":"H: Bort, Marcel"},{"$f":"VLOOKUP(A350,bangolf_kategorien!$A$2:$B$11,2,FALSE)","v":"H"}]
["hv",49091,"Thomas","Bort","BGC Heilbronn",{"$f":"CONCATENATE(VLOOKUP(A351,bangolf_kategorien!$A$2:$B$11,2,FALSE),\": \",D351,\", \",C351)","v":"SM2: Bort, Thomas"},{"$f":"VLOOKUP(A351,bangolf_kategorien!$A$2:$B$11,2,FALSE)","v":"SM2"}]
["hv",38178,"Wilfried","Bosen","1. MGSV Netphen",{"$f":"CONCATENATE(VLOOKUP(A352,bangolf_kategorien!$A$2:$B$11,2,FALSE),\": \",D352,\", \",C352)","v":"SM2: Bosen, Wilfried"},{"$f":"VLOOKUP(A352,bangolf_kategorien!$A$2:$B$11,2,FALSE)","v":"SM2"}]
["hv",66066,"Joachim","Bosse","MGC Bad Salzuflen",{"$f":"CONCATENATE(VLOOKUP(A353,bangolf_kategorien!$A$2:$B$11,2,FALSE),\": \",D353,\", \",C353)","v":"SM2: Bosse, Joachim"},{"$f":"VLOOKUP(A353,bangolf_kategorien!$A$2:$B$11,2,FALSE)","v":"SM2"}]
["hv",36834,"Dieter","Bothe","SV Glückauf 1901 Gebhardshagen",{"$f":"CONCATENATE(VLOOKUP(A354,bangolf_kategorien!$A$2:$B$11,2,FALSE),\": \",D354,\", \",C354)","v":"SM2: Bothe, Dieter"},{"$f":"VLOOKUP(A354,bangolf_kategorien!$A$2:$B$11,2,FALSE)","v":"SM2"}]
["hs",45560,"Patrick","Bothmann","MGC Dormagen-Brechten",{"$f":"CONCATENATE(VLOOKUP(A355,bangolf_kategorien!$A$2:$B$11,2,FALSE),\": \",D355,\", \",C355)","v":"H: Bothmann, Patrick"},{"$f":"VLOOKUP(A355,bangolf_kategorien!$A$2:$B$11,2,FALSE)","v":"H"}]
["ob",46348,"Andreas","Bott","MGC Sulzfeld",{"$f":"CONCATENATE(VLOOKUP(A356,bangolf_kategorien!$A$2:$B$11,2,FALSE),\": \",D356,\", \",C356)","v":"SM1: Bott, Andreas"},{"$f":"VLOOKUP(A356,bangolf_kategorien!$A$2:$B$11,2,FALSE)","v":"SM1"}]
["hs",32231,"Steven","Böttcher","1. MGC 1970 Göttingen",{"$f":"CONCATENATE(VLOOKUP(A357,bangolf_kategorien!$A$2:$B$11,2,FALSE),\": \",D357,\", \",C357)","v":"H: Böttcher, Steven"},{"$f":"VLOOKUP(A357,bangolf_kategorien!$A$2:$B$11,2,FALSE)","v":"H"}]
["hv",3602,"Wilhelm","Böttcher","VfB Osnabrück",{"$f":"CONCATENATE(VLOOKUP(A358,bangolf_kategorien!$A$2:$B$11,2,FALSE),\": \",D358,\", \",C358)","v":"SM2: Böttcher, Wilhelm"},{"$f":"VLOOKUP(A358,bangolf_kategorien!$A$2:$B$11,2,FALSE)","v":"SM2"}]
["hv",67134,"Saban","Bozkurt","MGC Heringen 1997",{"$f":"CONCATENATE(VLOOKUP(A359,bangolf_kategorien!$A$2:$B$11,2,FALSE),\": \",D359,\", \",C359)","v":"SM2: Bozkurt, Saban"},{"$f":"VLOOKUP(A359,bangolf_kategorien!$A$2:$B$11,2,FALSE)","v":"SM2"}]
["hv",47419,"Roland","Brack","BSV 82 Ohlsbach",{"$f":"CONCATENATE(VLOOKUP(A360,bangolf_kategorien!$A$2:$B$11,2,FALSE),\": \",D360,\", \",C360)","v":"SM2: Brack, Roland"},{"$f":"VLOOKUP(A360,bangolf_kategorien!$A$2:$B$11,2,FALSE)","v":"SM2"}]
["hj",66229,"Jannick","Bracken","MGC Wertheim 91",{"$f":"CONCATENATE(VLOOKUP(A361,bangolf_kategorien!$A$2:$B$11,2,FALSE),\": \",D361,\", \",C361)","v":"JM: Bracken, Jannick"},{"$f":"VLOOKUP(A361,bangolf_kategorien!$A$2:$B$11,2,FALSE)","v":"JM"}]
["hs",38110,"Cedric","Brakhage","1. MGC Paderborn",{"$f":"CONCATENATE(VLOOKUP(A362,bangolf_kategorien!$A$2:$B$11,2,FALSE),\": \",D362,\", \",C362)","v":"H: Brakhage, Cedric"},{"$f":"VLOOKUP(A362,bangolf_kategorien!$A$2:$B$11,2,FALSE)","v":"H"}]
["hs",45769,"Markus","Brand","MGC Traben-Trarbach",{"$f":"CONCATENATE(VLOOKUP(A363,bangolf_kategorien!$A$2:$B$11,2,FALSE),\": \",D363,\", \",C363)","v":"H: Brand, Markus"},{"$f":"VLOOKUP(A363,bangolf_kategorien!$A$2:$B$11,2,FALSE)","v":"H"}]
["dv",4611,"Ursula","Brand","1. BGC Paderborn",{"$f":"CONCATENATE(VLOOKUP(A364,bangolf_kategorien!$A$2:$B$11,2,FALSE),\": \",D364,\", \",C364)","v":"SW2: Brand, Ursula"},{"$f":"VLOOKUP(A364,bangolf_kategorien!$A$2:$B$11,2,FALSE)","v":"SW2"}]
["hv",62193,"Wilhelm","Brand","1. BGC Paderborn",{"$f":"CONCATENATE(VLOOKUP(A365,bangolf_kategorien!$A$2:$B$11,2,FALSE),\": \",D365,\", \",C365)","v":"SM2: Brand, Wilhelm"},{"$f":"VLOOKUP(A365,bangolf_kategorien!$A$2:$B$11,2,FALSE)","v":"SM2"}]
["hv",29046,"Peter","Brandis","TSV Kücknitz Abt. Bahnengolf",{"$f":"CONCATENATE(VLOOKUP(A366,bangolf_kategorien!$A$2:$B$11,2,FALSE),\": \",D366,\", \",C366)","v":"SM2: Brandis, Peter"},{"$f":"VLOOKUP(A366,bangolf_kategorien!$A$2:$B$11,2,FALSE)","v":"SM2"}]
["hv",605,"Michael","Brandl","BGC Heilbronn",{"$f":"CONCATENATE(VLOOKUP(A367,bangolf_kategorien!$A$2:$B$11,2,FALSE),\": \",D367,\", \",C367)","v":"SM2: Brandl, Michael"},{"$f":"VLOOKUP(A367,bangolf_kategorien!$A$2:$B$11,2,FALSE)","v":"SM2"}]
["ob",29239,"Michael","Brandner","CGC Illertal Kellmünz",{"$f":"CONCATENATE(VLOOKUP(A368,bangolf_kategorien!$A$2:$B$11,2,FALSE),\": \",D368,\", \",C368)","v":"SM1: Brandner, Michael"},{"$f":"VLOOKUP(A368,bangolf_kategorien!$A$2:$B$11,2,FALSE)","v":"SM1"}]
["ob",65833,"Uwe","Brandstettner","BGC Goslar",{"$f":"CONCATENATE(VLOOKUP(A369,bangolf_kategorien!$A$2:$B$11,2,FALSE),\": \",D369,\", \",C369)","v":"SM1: Brandstettner, Uwe"},{"$f":"VLOOKUP(A369,bangolf_kategorien!$A$2:$B$11,2,FALSE)","v":"SM1"}]
["hv",5165,"Hans-Jürgen","Brandt","BGSV Kerpen",{"$f":"CONCATENATE(VLOOKUP(A370,bangolf_kategorien!$A$2:$B$11,2,FALSE),\": \",D370,\", \",C370)","v":"SM2: Brandt, Hans-Jürgen"},{"$f":"VLOOKUP(A370,bangolf_kategorien!$A$2:$B$11,2,FALSE)","v":"SM2"}]
["og",489,"Judith","Brandt","CGC Rauschenberg",{"$f":"CONCATENATE(VLOOKUP(A371,bangolf_kategorien!$A$2:$B$11,2,FALSE),\": \",D371,\", \",C371)","v":"SW1: Brandt, Judith"},{"$f":"VLOOKUP(A371,bangolf_kategorien!$A$2:$B$11,2,FALSE)","v":"SW1"}]
["ob",28747,"Ralph","Brandt","Preetzer TSV von 1861 Abt. Minigolf",{"$f":"CONCATENATE(VLOOKUP(A372,bangolf_kategorien!$A$2:$B$11,2,FALSE),\": \",D372,\", \",C372)","v":"SM1: Brandt, Ralph"},{"$f":"VLOOKUP(A372,bangolf_kategorien!$A$2:$B$11,2,FALSE)","v":"SM1"}]
["hv",24151,"Tobias","Brandt","CGC Rauschenberg",{"$f":"CONCATENATE(VLOOKUP(A373,bangolf_kategorien!$A$2:$B$11,2,FALSE),\": \",D373,\", \",C373)","v":"SM2: Brandt, Tobias"},{"$f":"VLOOKUP(A373,bangolf_kategorien!$A$2:$B$11,2,FALSE)","v":"SM2"}]
["og",65644,"Carola","Braschler","1. MGC Hechingen",{"$f":"CONCATENATE(VLOOKUP(A374,bangolf_kategorien!$A$2:$B$11,2,FALSE),\": \",D374,\", \",C374)","v":"SW1: Braschler, Carola"},{"$f":"VLOOKUP(A374,bangolf_kategorien!$A$2:$B$11,2,FALSE)","v":"SW1"}]
["hs",65645,"Felix","Braschler","1. MGC Hechingen",{"$f":"CONCATENATE(VLOOKUP(A375,bangolf_kategorien!$A$2:$B$11,2,FALSE),\": \",D375,\", \",C375)","v":"H: Braschler, Felix"},{"$f":"VLOOKUP(A375,bangolf_kategorien!$A$2:$B$11,2,FALSE)","v":"H"}]
["ob",33954,"Andreas","Brassait","SC Gut Heil Neumünster",{"$f":"CONCATENATE(VLOOKUP(A376,bangolf_kategorien!$A$2:$B$11,2,FALSE),\": \",D376,\", \",C376)","v":"SM1: Brassait, Andreas"},{"$f":"VLOOKUP(A376,bangolf_kategorien!$A$2:$B$11,2,FALSE)","v":"SM1"}]
["hv",67410,"Dankmar","Braucks","MSF Brilon",{"$f":"CONCATENATE(VLOOKUP(A377,bangolf_kategorien!$A$2:$B$11,2,FALSE),\": \",D377,\", \",C377)","v":"SM2: Braucks, Dankmar"},{"$f":"VLOOKUP(A377,bangolf_kategorien!$A$2:$B$11,2,FALSE)","v":"SM2"}]
["hs",32390,"Daniel","Bräuer","MGC Marl 1960",{"$f":"CONCATENATE(VLOOKUP(A378,bangolf_kategorien!$A$2:$B$11,2,FALSE),\": \",D378,\", \",C378)","v":"H: Bräuer, Daniel"},{"$f":"VLOOKUP(A378,bangolf_kategorien!$A$2:$B$11,2,FALSE)","v":"H"}]
["ds",51380,"Diana","Bräuer","MGC Marl 1960",{"$f":"CONCATENATE(VLOOKUP(A379,bangolf_kategorien!$A$2:$B$11,2,FALSE),\": \",D379,\", \",C379)","v":"D: Bräuer, Diana"},{"$f":"VLOOKUP(A379,bangolf_kategorien!$A$2:$B$11,2,FALSE)","v":"D"}]
["hs",37085,"Florian","Bräuer","MGC Marl 1960",{"$f":"CONCATENATE(VLOOKUP(A380,bangolf_kategorien!$A$2:$B$11,2,FALSE),\": \",D380,\", \",C380)","v":"H: Bräuer, Florian"},{"$f":"VLOOKUP(A380,bangolf_kategorien!$A$2:$B$11,2,FALSE)","v":"H"}]
["hs",30395,"Markus","Bräuer","MGC Marl 1960",{"$f":"CONCATENATE(VLOOKUP(A381,bangolf_kategorien!$A$2:$B$11,2,FALSE),\": \",D381,\", \",C381)","v":"H: Bräuer, Markus"},{"$f":"VLOOKUP(A381,bangolf_kategorien!$A$2:$B$11,2,FALSE)","v":"H"}]
["dv",37557,"Ute","Bräuer","MGC Marl 1960",{"$f":"CONCATENATE(VLOOKUP(A382,bangolf_kategorien!$A$2:$B$11,2,FALSE),\": \",D382,\", \",C382)","v":"SW2: Bräuer, Ute"},{"$f":"VLOOKUP(A382,bangolf_kategorien!$A$2:$B$11,2,FALSE)","v":"SW2"}]
["dv",44704,"Brigitte","Braun","1. BGC München",{"$f":"CONCATENATE(VLOOKUP(A383,bangolf_kategorien!$A$2:$B$11,2,FALSE),\": \",D383,\", \",C383)","v":"SW2: Braun, Brigitte"},{"$f":"VLOOKUP(A383,bangolf_kategorien!$A$2:$B$11,2,FALSE)","v":"SW2"}]
["ob",67188,"Dierk","Braun","BGSC \"Gut Schlag\" Gladbeck",{"$f":"CONCATENATE(VLOOKUP(A384,bangolf_kategorien!$A$2:$B$11,2,FALSE),\": \",D384,\", \",C384)","v":"SM1: Braun, Dierk"},{"$f":"VLOOKUP(A384,bangolf_kategorien!$A$2:$B$11,2,FALSE)","v":"SM1"}]
["og",35365,"Elisabeth","Braun","1. MGC Mannheim 1968",{"$f":"CONCATENATE(VLOOKUP(A385,bangolf_kategorien!$A$2:$B$11,2,FALSE),\": \",D385,\", \",C385)","v":"SW1: Braun, Elisabeth"},{"$f":"VLOOKUP(A385,bangolf_kategorien!$A$2:$B$11,2,FALSE)","v":"SW1"}]
["hv",20894,"Friedrich","Braun","1. BGC München",{"$f":"CONCATENATE(VLOOKUP(A386,bangolf_kategorien!$A$2:$B$11,2,FALSE),\": \",D386,\", \",C386)","v":"SM2: Braun, Friedrich"},{"$f":"VLOOKUP(A386,bangolf_kategorien!$A$2:$B$11,2,FALSE)","v":"SM2"}]
["dv",65752,"Gabriele","Braun","MSK Olching",{"$f":"CONCATENATE(VLOOKUP(A387,bangolf_kategorien!$A$2:$B$11,2,FALSE),\": \",D387,\", \",C387)","v":"SW2: Braun, Gabriele"},{"$f":"VLOOKUP(A387,bangolf_kategorien!$A$2:$B$11,2,FALSE)","v":"SW2"}]
["hv",66847,"Gerd","Braun","BGC Uerdingen",{"$f":"CONCATENATE(VLOOKUP(A388,bangolf_kategorien!$A$2:$B$11,2,FALSE),\": \",D388,\", \",C388)","v":"SM2: Braun, Gerd"},{"$f":"VLOOKUP(A388,bangolf_kategorien!$A$2:$B$11,2,FALSE)","v":"SM2"}]
["dj",65866,"Jette","Braun","MGC Olympia Kiel",{"$f":"CONCATENATE(VLOOKUP(A389,bangolf_kategorien!$A$2:$B$11,2,FALSE),\": \",D389,\", \",C389)","v":"JW: Braun, Jette"},{"$f":"VLOOKUP(A389,bangolf_kategorien!$A$2:$B$11,2,FALSE)","v":"JW"}]
["ob",29547,"Thorsten","Braun","MGC Olympia Kiel",{"$f":"CONCATENATE(VLOOKUP(A390,bangolf_kategorien!$A$2:$B$11,2,FALSE),\": \",D390,\", \",C390)","v":"SM1: Braun, Thorsten"},{"$f":"VLOOKUP(A390,bangolf_kategorien!$A$2:$B$11,2,FALSE)","v":"SM1"}]
["ob",41465,"Wolfram","Braun","1. MGC 1970 Göttingen",{"$f":"CONCATENATE(VLOOKUP(A391,bangolf_kategorien!$A$2:$B$11,2,FALSE),\": \",D391,\", \",C391)","v":"SM1: Braun, Wolfram"},{"$f":"VLOOKUP(A391,bangolf_kategorien!$A$2:$B$11,2,FALSE)","v":"SM1"}]
["hs",16823,"Achim","Braungart Zink","SG Arheilgen Abt. Bahnengolf",{"$f":"CONCATENATE(VLOOKUP(A392,bangolf_kategorien!$A$2:$B$11,2,FALSE),\": \",D392,\", \",C392)","v":"H: Braungart Zink, Achim"},{"$f":"VLOOKUP(A392,bangolf_kategorien!$A$2:$B$11,2,FALSE)","v":"H"}]
["dv",50717,"Ursula","Braungart Zink","Minigolfunion Neviges-Odenthal 1968",{"$f":"CONCATENATE(VLOOKUP(A393,bangolf_kategorien!$A$2:$B$11,2,FALSE),\": \",D393,\", \",C393)","v":"SW2: Braungart Zink, Ursula"},{"$f":"VLOOKUP(A393,bangolf_kategorien!$A$2:$B$11,2,FALSE)","v":"SW2"}]
["ob",66418,"Bert","Brause","SC Olympia Dortmund",{"$f":"CONCATENATE(VLOOKUP(A394,bangolf_kategorien!$A$2:$B$11,2,FALSE),\": \",D394,\", \",C394)","v":"SM1: Brause, Bert"},{"$f":"VLOOKUP(A394,bangolf_kategorien!$A$2:$B$11,2,FALSE)","v":"SM1"}]
["ob",46813,"Manfred","Brechelt","1. MGC 1970 Göttingen",{"$f":"CONCATENATE(VLOOKUP(A395,bangolf_kategorien!$A$2:$B$11,2,FALSE),\": \",D395,\", \",C395)","v":"SM1: Brechelt, Manfred"},{"$f":"VLOOKUP(A395,bangolf_kategorien!$A$2:$B$11,2,FALSE)","v":"SM1"}]
["hs",34812,"Benjamin","Brechtel","MGC Ravensburg-Weingarten",{"$f":"CONCATENATE(VLOOKUP(A396,bangolf_kategorien!$A$2:$B$11,2,FALSE),\": \",D396,\", \",C396)","v":"H: Brechtel, Benjamin"},{"$f":"VLOOKUP(A396,bangolf_kategorien!$A$2:$B$11,2,FALSE)","v":"H"}]
["hv",26565,"Kurt","Breckenkamp","MC Tigers Künsebeck",{"$f":"CONCATENATE(VLOOKUP(A397,bangolf_kategorien!$A$2:$B$11,2,FALSE),\": \",D397,\", \",C397)","v":"SM2: Breckenkamp, Kurt"},{"$f":"VLOOKUP(A397,bangolf_kategorien!$A$2:$B$11,2,FALSE)","v":"SM2"}]
["ob",44743,"Stefan","Bredel","MSV Würzburg-Löwenbrücke",{"$f":"CONCATENATE(VLOOKUP(A398,bangolf_kategorien!$A$2:$B$11,2,FALSE),\": \",D398,\", \",C398)","v":"SM1: Bredel, Stefan"},{"$f":"VLOOKUP(A398,bangolf_kategorien!$A$2:$B$11,2,FALSE)","v":"SM1"}]
["ds",38567,"Anika","Breidenbach","MGC Bergisch Gladbach Gierath",{"$f":"CONCATENATE(VLOOKUP(A399,bangolf_kategorien!$A$2:$B$11,2,FALSE),\": \",D399,\", \",C399)","v":"D: Breidenbach, Anika"},{"$f":"VLOOKUP(A399,bangolf_kategorien!$A$2:$B$11,2,FALSE)","v":"D"}]
["dv",50409,"Maritta","Breier","MGV Ansbach",{"$f":"CONCATENATE(VLOOKUP(A400,bangolf_kategorien!$A$2:$B$11,2,FALSE),\": \",D400,\", \",C400)","v":"SW2: Breier, Maritta"},{"$f":"VLOOKUP(A400,bangolf_kategorien!$A$2:$B$11,2,FALSE)","v":"SW2"}]
["hv",37260,"Jürgen","Breitbach","BGC Dormagen",{"$f":"CONCATENATE(VLOOKUP(A401,bangolf_kategorien!$A$2:$B$11,2,FALSE),\": \",D401,\", \",C401)","v":"SM2: Breitbach, Jürgen"},{"$f":"VLOOKUP(A401,bangolf_kategorien!$A$2:$B$11,2,FALSE)","v":"SM2"}]
["og",37867,"Lydia","Breitbach","BGC Dormagen",{"$f":"CONCATENATE(VLOOKUP(A402,bangolf_kategorien!$A$2:$B$11,2,FALSE),\": \",D402,\", \",C402)","v":"SW1: Breitbach, Lydia"},{"$f":"VLOOKUP(A402,bangolf_kategorien!$A$2:$B$11,2,FALSE)","v":"SW1"}]
["ob",67219,"Frank","Breitbarth","SC Olympia Dortmund",{"$f":"CONCATENATE(VLOOKUP(A403,bangolf_kategorien!$A$2:$B$11,2,FALSE),\": \",D403,\", \",C403)","v":"SM1: Breitbarth, Frank"},{"$f":"VLOOKUP(A403,bangolf_kategorien!$A$2:$B$11,2,FALSE)","v":"SM1"}]
["ob",67185,"Johannes","Breitfeld","MSG Kempten",{"$f":"CONCATENATE(VLOOKUP(A404,bangolf_kategorien!$A$2:$B$11,2,FALSE),\": \",D404,\", \",C404)","v":"SM1: Breitfeld, Johannes"},{"$f":"VLOOKUP(A404,bangolf_kategorien!$A$2:$B$11,2,FALSE)","v":"SM1"}]
["ob",36420,"Thomas","Breitkopf","MGSC Wernau",{"$f":"CONCATENATE(VLOOKUP(A405,bangolf_kategorien!$A$2:$B$11,2,FALSE),\": \",D405,\", \",C405)","v":"SM1: Breitkopf, Thomas"},{"$f":"VLOOKUP(A405,bangolf_kategorien!$A$2:$B$11,2,FALSE)","v":"SM1"}]
["hs",36939,"Alexander","Breitling","BGC Bad Berneck",{"$f":"CONCATENATE(VLOOKUP(A406,bangolf_kategorien!$A$2:$B$11,2,FALSE),\": \",D406,\", \",C406)","v":"H: Breitling, Alexander"},{"$f":"VLOOKUP(A406,bangolf_kategorien!$A$2:$B$11,2,FALSE)","v":"H"}]
["ob",31619,"Dieter","Breitling","BGC Bad Berneck",{"$f":"CONCATENATE(VLOOKUP(A407,bangolf_kategorien!$A$2:$B$11,2,FALSE),\": \",D407,\", \",C407)","v":"SM1: Breitling, Dieter"},{"$f":"VLOOKUP(A407,bangolf_kategorien!$A$2:$B$11,2,FALSE)","v":"SM1"}]
["hj",66723,"Luca","Breme","BGC Neutraubling",{"$f":"CONCATENATE(VLOOKUP(A408,bangolf_kategorien!$A$2:$B$11,2,FALSE),\": \",D408,\", \",C408)","v":"JM: Breme, Luca"},{"$f":"VLOOKUP(A408,bangolf_kategorien!$A$2:$B$11,2,FALSE)","v":"JM"}]
["hj",66722,"Sami","Breme","BGC Neutraubling",{"$f":"CONCATENATE(VLOOKUP(A409,bangolf_kategorien!$A$2:$B$11,2,FALSE),\": \",D409,\", \",C409)","v":"JM: Breme, Sami"},{"$f":"VLOOKUP(A409,bangolf_kategorien!$A$2:$B$11,2,FALSE)","v":"JM"}]
["ob",36697,"H. Bernd","Bremer","1.KGC Mönchengladbach",{"$f":"CONCATENATE(VLOOKUP(A410,bangolf_kategorien!$A$2:$B$11,2,FALSE),\": \",D410,\", \",C410)","v":"SM1: Bremer, H. Bernd"},{"$f":"VLOOKUP(A410,bangolf_kategorien!$A$2:$B$11,2,FALSE)","v":"SM1"}]
["hj",66903,"H. Paul","Bremer","BGSV Kerpen",{"$f":"CONCATENATE(VLOOKUP(A411,bangolf_kategorien!$A$2:$B$11,2,FALSE),\": \",D411,\", \",C411)","v":"JM: Bremer, H. Paul"},{"$f":"VLOOKUP(A411,bangolf_kategorien!$A$2:$B$11,2,FALSE)","v":"JM"}]
["ob",31074,"Stephan","Bremicker","MGC Dormagen-Brechten",{"$f":"CONCATENATE(VLOOKUP(A412,bangolf_kategorien!$A$2:$B$11,2,FALSE),\": \",D412,\", \",C412)","v":"SM1: Bremicker, Stephan"},{"$f":"VLOOKUP(A412,bangolf_kategorien!$A$2:$B$11,2,FALSE)","v":"SM1"}]
["og",42970,"Susanne","Bremicker","MGC Dormagen-Brechten",{"$f":"CONCATENATE(VLOOKUP(A413,bangolf_kategorien!$A$2:$B$11,2,FALSE),\": \",D413,\", \",C413)","v":"SW1: Bremicker, Susanne"},{"$f":"VLOOKUP(A413,bangolf_kategorien!$A$2:$B$11,2,FALSE)","v":"SW1"}]
["ob",66531,"Robert","Brendel","1. MGC Bamberg",{"$f":"CONCATENATE(VLOOKUP(A414,bangolf_kategorien!$A$2:$B$11,2,FALSE),\": \",D414,\", \",C414)","v":"SM1: Brendel, Robert"},{"$f":"VLOOKUP(A414,bangolf_kategorien!$A$2:$B$11,2,FALSE)","v":"SM1"}]
["hs",3323743,"Steffen","Brendler","Hobby",{"$f":"CONCATENATE(VLOOKUP(A415,bangolf_kategorien!$A$2:$B$11,2,FALSE),\": \",D415,\", \",C415)","v":"H: Brendler, Steffen"},{"$f":"VLOOKUP(A415,bangolf_kategorien!$A$2:$B$11,2,FALSE)","v":"H"}]
["hs",87505,"Steffen","Brendler","1. MGC 1970 Göttingen",{"$f":"CONCATENATE(VLOOKUP(A416,bangolf_kategorien!$A$2:$B$11,2,FALSE),\": \",D416,\", \",C416)","v":"H: Brendler, Steffen"},{"$f":"VLOOKUP(A416,bangolf_kategorien!$A$2:$B$11,2,FALSE)","v":"H"}]
["dv",49753,"Monika","Brethack","BGC Kiel West",{"$f":"CONCATENATE(VLOOKUP(A417,bangolf_kategorien!$A$2:$B$11,2,FALSE),\": \",D417,\", \",C417)","v":"SW2: Brethack, Monika"},{"$f":"VLOOKUP(A417,bangolf_kategorien!$A$2:$B$11,2,FALSE)","v":"SW2"}]
["hv",37121,"Werner","Briese","MGC Rot-Weiß Wanne-Eickel",{"$f":"CONCATENATE(VLOOKUP(A418,bangolf_kategorien!$A$2:$B$11,2,FALSE),\": \",D418,\", \",C418)","v":"SM2: Briese, Werner"},{"$f":"VLOOKUP(A418,bangolf_kategorien!$A$2:$B$11,2,FALSE)","v":"SM2"}]
["hs",3194205,"Daniel","Brille","Hobby",{"$f":"CONCATENATE(VLOOKUP(A419,bangolf_kategorien!$A$2:$B$11,2,FALSE),\": \",D419,\", \",C419)","v":"H: Brille, Daniel"},{"$f":"VLOOKUP(A419,bangolf_kategorien!$A$2:$B$11,2,FALSE)","v":"H"}]
["hs",35751,"Thorsten","Brille","BGV Backumer Tal Herten",{"$f":"CONCATENATE(VLOOKUP(A420,bangolf_kategorien!$A$2:$B$11,2,FALSE),\": \",D420,\", \",C420)","v":"H: Brille, Thorsten"},{"$f":"VLOOKUP(A420,bangolf_kategorien!$A$2:$B$11,2,FALSE)","v":"H"}]
["ob",67448,"Christoph","Brinkmann","VfL Lohbrügge Abt. Bahnengolf",{"$f":"CONCATENATE(VLOOKUP(A421,bangolf_kategorien!$A$2:$B$11,2,FALSE),\": \",D421,\", \",C421)","v":"SM1: Brinkmann, Christoph"},{"$f":"VLOOKUP(A421,bangolf_kategorien!$A$2:$B$11,2,FALSE)","v":"SM1"}]
["hv",44142,"Karl-Heinz","Britte","MGC Heven",{"$f":"CONCATENATE(VLOOKUP(A422,bangolf_kategorien!$A$2:$B$11,2,FALSE),\": \",D422,\", \",C422)","v":"SM2: Britte, Karl-Heinz"},{"$f":"VLOOKUP(A422,bangolf_kategorien!$A$2:$B$11,2,FALSE)","v":"SM2"}]
["hs",36204,"Gerrit","Britz","1. KC Homburg-Saar 1967",{"$f":"CONCATENATE(VLOOKUP(A423,bangolf_kategorien!$A$2:$B$11,2,FALSE),\": \",D423,\", \",C423)","v":"H: Britz, Gerrit"},{"$f":"VLOOKUP(A423,bangolf_kategorien!$A$2:$B$11,2,FALSE)","v":"H"}]
["ob",38336,"Carsten","Brocks","BGS Hardenberg-Pötter",{"$f":"CONCATENATE(VLOOKUP(A424,bangolf_kategorien!$A$2:$B$11,2,FALSE),\": \",D424,\", \",C424)","v":"SM1: Brocks, Carsten"},{"$f":"VLOOKUP(A424,bangolf_kategorien!$A$2:$B$11,2,FALSE)","v":"SM1"}]
["hs",38492,"Marcel","Brocks","BGS Hardenberg-Pötter",{"$f":"CONCATENATE(VLOOKUP(A425,bangolf_kategorien!$A$2:$B$11,2,FALSE),\": \",D425,\", \",C425)","v":"H: Brocks, Marcel"},{"$f":"VLOOKUP(A425,bangolf_kategorien!$A$2:$B$11,2,FALSE)","v":"H"}]
["ob",38316,"Ralf","Brocks","BGS Hardenberg-Pötter",{"$f":"CONCATENATE(VLOOKUP(A426,bangolf_kategorien!$A$2:$B$11,2,FALSE),\": \",D426,\", \",C426)","v":"SM1: Brocks, Ralf"},{"$f":"VLOOKUP(A426,bangolf_kategorien!$A$2:$B$11,2,FALSE)","v":"SM1"}]
["ob",66518,"Knut","Brodersen","MGC Brunsbüttel",{"$f":"CONCATENATE(VLOOKUP(A427,bangolf_kategorien!$A$2:$B$11,2,FALSE),\": \",D427,\", \",C427)","v":"SM1: Brodersen, Knut"},{"$f":"VLOOKUP(A427,bangolf_kategorien!$A$2:$B$11,2,FALSE)","v":"SM1"}]
["hv",3185,"Josef","Brodesser","Kölner Miniatur Golf Club",{"$f":"CONCATENATE(VLOOKUP(A428,bangolf_kategorien!$A$2:$B$11,2,FALSE),\": \",D428,\", \",C428)","v":"SM2: Brodesser, Josef"},{"$f":"VLOOKUP(A428,bangolf_kategorien!$A$2:$B$11,2,FALSE)","v":"SM2"}]
["og",66101,"Bettina","Brökemeier","MGC Bad Salzuflen",{"$f":"CONCATENATE(VLOOKUP(A429,bangolf_kategorien!$A$2:$B$11,2,FALSE),\": \",D429,\", \",C429)","v":"SW1: Brökemeier, Bettina"},{"$f":"VLOOKUP(A429,bangolf_kategorien!$A$2:$B$11,2,FALSE)","v":"SW1"}]
["hs",33081,"Michael","Bromberger","Minigolf Wölfe Rheinstetten 02",{"$f":"CONCATENATE(VLOOKUP(A430,bangolf_kategorien!$A$2:$B$11,2,FALSE),\": \",D430,\", \",C430)","v":"H: Bromberger, Michael"},{"$f":"VLOOKUP(A430,bangolf_kategorien!$A$2:$B$11,2,FALSE)","v":"H"}]
["ob",29739,"Jörg","Brommer","TG Höchberg von 1862 Bahnengolf",{"$f":"CONCATENATE(VLOOKUP(A431,bangolf_kategorien!$A$2:$B$11,2,FALSE),\": \",D431,\", \",C431)","v":"SM1: Brommer, Jörg"},{"$f":"VLOOKUP(A431,bangolf_kategorien!$A$2:$B$11,2,FALSE)","v":"SM1"}]
["og",37051,"Viola","Bronsart","TV Trappenkamp - Minigolf -",{"$f":"CONCATENATE(VLOOKUP(A432,bangolf_kategorien!$A$2:$B$11,2,FALSE),\": \",D432,\", \",C432)","v":"SW1: Bronsart, Viola"},{"$f":"VLOOKUP(A432,bangolf_kategorien!$A$2:$B$11,2,FALSE)","v":"SW1"}]
["hs",36780,"Christopher","Brown","1. MGV Spandau Berlin",{"$f":"CONCATENATE(VLOOKUP(A433,bangolf_kategorien!$A$2:$B$11,2,FALSE),\": \",D433,\", \",C433)","v":"H: Brown, Christopher"},{"$f":"VLOOKUP(A433,bangolf_kategorien!$A$2:$B$11,2,FALSE)","v":"H"}]
["og",3106819,"Fleur","Brozek","Hobby",{"$f":"CONCATENATE(VLOOKUP(A434,bangolf_kategorien!$A$2:$B$11,2,FALSE),\": \",D434,\", \",C434)","v":"SW1: Brozek, Fleur"},{"$f":"VLOOKUP(A434,bangolf_kategorien!$A$2:$B$11,2,FALSE)","v":"SW1"}]
["ob",29085,"Lars","Brüchert","1. MGC Mainz",{"$f":"CONCATENATE(VLOOKUP(A435,bangolf_kategorien!$A$2:$B$11,2,FALSE),\": \",D435,\", \",C435)","v":"SM1: Brüchert, Lars"},{"$f":"VLOOKUP(A435,bangolf_kategorien!$A$2:$B$11,2,FALSE)","v":"SM1"}]
["dv",67301,"Doris","Brüchner","1. MGC Mitterteich-Großbüchlberg",{"$f":"CONCATENATE(VLOOKUP(A436,bangolf_kategorien!$A$2:$B$11,2,FALSE),\": \",D436,\", \",C436)","v":"SW2: Brüchner, Doris"},{"$f":"VLOOKUP(A436,bangolf_kategorien!$A$2:$B$11,2,FALSE)","v":"SW2"}]
["hv",67300,"Peter","Brüchner","1. MGC Mitterteich-Großbüchlberg",{"$f":"CONCATENATE(VLOOKUP(A437,bangolf_kategorien!$A$2:$B$11,2,FALSE),\": \",D437,\", \",C437)","v":"SM2: Brüchner, Peter"},{"$f":"VLOOKUP(A437,bangolf_kategorien!$A$2:$B$11,2,FALSE)","v":"SM2"}]
["hv",3313805,"Roland","Bruckner","Hobby",{"$f":"CONCATENATE(VLOOKUP(A438,bangolf_kategorien!$A$2:$B$11,2,FALSE),\": \",D438,\", \",C438)","v":"SM2: Bruckner, Roland"},{"$f":"VLOOKUP(A438,bangolf_kategorien!$A$2:$B$11,2,FALSE)","v":"SM2"}]
["hs",67303,"Rouven","Bruelheide","MGC Bad Salzuflen",{"$f":"CONCATENATE(VLOOKUP(A439,bangolf_kategorien!$A$2:$B$11,2,FALSE),\": \",D439,\", \",C439)","v":"H: Bruelheide, Rouven"},{"$f":"VLOOKUP(A439,bangolf_kategorien!$A$2:$B$11,2,FALSE)","v":"H"}]
["hs",38227,"Thorsten","Brunckhorst","MGC Unterschneidheim",{"$f":"CONCATENATE(VLOOKUP(A440,bangolf_kategorien!$A$2:$B$11,2,FALSE),\": \",D440,\", \",C440)","v":"H: Brunckhorst, Thorsten"},{"$f":"VLOOKUP(A440,bangolf_kategorien!$A$2:$B$11,2,FALSE)","v":"H"}]
["ob",31524,"Christoph","Brune","MGC Dortmund Syburg",{"$f":"CONCATENATE(VLOOKUP(A441,bangolf_kategorien!$A$2:$B$11,2,FALSE),\": \",D441,\", \",C441)","v":"SM1: Brune, Christoph"},{"$f":"VLOOKUP(A441,bangolf_kategorien!$A$2:$B$11,2,FALSE)","v":"SM1"}]
["hs",66534,"Julian","Brune","MGC Dortmund Syburg",{"$f":"CONCATENATE(VLOOKUP(A442,bangolf_kategorien!$A$2:$B$11,2,FALSE),\": \",D442,\", \",C442)","v":"H: Brune, Julian"},{"$f":"VLOOKUP(A442,bangolf_kategorien!$A$2:$B$11,2,FALSE)","v":"H"}]
["ob",26815,"Lutz","Brune","1. MGC Ludwigshafen",{"$f":"CONCATENATE(VLOOKUP(A443,bangolf_kategorien!$A$2:$B$11,2,FALSE),\": \",D443,\", \",C443)","v":"SM1: Brune, Lutz"},{"$f":"VLOOKUP(A443,bangolf_kategorien!$A$2:$B$11,2,FALSE)","v":"SM1"}]
["hv",61504,"Günther","Brunner","MPF Hardt",{"$f":"CONCATENATE(VLOOKUP(A444,bangolf_kategorien!$A$2:$B$11,2,FALSE),\": \",D444,\", \",C444)","v":"SM2: Brunner, Günther"},{"$f":"VLOOKUP(A444,bangolf_kategorien!$A$2:$B$11,2,FALSE)","v":"SM2"}]
["ob",46236,"Ralf","Brunner","MSC Bad Godesberg",{"$f":"CONCATENATE(VLOOKUP(A445,bangolf_kategorien!$A$2:$B$11,2,FALSE),\": \",D445,\", \",C445)","v":"SM1: Brunner, Ralf"},{"$f":"VLOOKUP(A445,bangolf_kategorien!$A$2:$B$11,2,FALSE)","v":"SM1"}]
["hv",17490,"Otto","Brust","1. MGC Ludwigshafen",{"$f":"CONCATENATE(VLOOKUP(A446,bangolf_kategorien!$A$2:$B$11,2,FALSE),\": \",D446,\", \",C446)","v":"SM2: Brust, Otto"},{"$f":"VLOOKUP(A446,bangolf_kategorien!$A$2:$B$11,2,FALSE)","v":"SM2"}]
["ds",67103,"Julia","Bublitz","BGSC Bochum 1978",{"$f":"CONCATENATE(VLOOKUP(A447,bangolf_kategorien!$A$2:$B$11,2,FALSE),\": \",D447,\", \",C447)","v":"D: Bublitz, Julia"},{"$f":"VLOOKUP(A447,bangolf_kategorien!$A$2:$B$11,2,FALSE)","v":"D"}]
["ob",42777,"Marcus","Bublitz","1. MGC Ludwigshafen",{"$f":"CONCATENATE(VLOOKUP(A448,bangolf_kategorien!$A$2:$B$11,2,FALSE),\": \",D448,\", \",C448)","v":"SM1: Bublitz, Marcus"},{"$f":"VLOOKUP(A448,bangolf_kategorien!$A$2:$B$11,2,FALSE)","v":"SM1"}]
["hs",34566,"Wolf","Bublitz","BGSC Bochum 1978",{"$f":"CONCATENATE(VLOOKUP(A449,bangolf_kategorien!$A$2:$B$11,2,FALSE),\": \",D449,\", \",C449)","v":"H: Bublitz, Wolf"},{"$f":"VLOOKUP(A449,bangolf_kategorien!$A$2:$B$11,2,FALSE)","v":"H"}]
["hs",36012,"Sascha","Büchele","MGC Schwaikheim",{"$f":"CONCATENATE(VLOOKUP(A450,bangolf_kategorien!$A$2:$B$11,2,FALSE),\": \",D450,\", \",C450)","v":"H: Büchele, Sascha"},{"$f":"VLOOKUP(A450,bangolf_kategorien!$A$2:$B$11,2,FALSE)","v":"H"}]
["hv",22165,"Harald","Buchert","MSC Bensheim-Auerbach",{"$f":"CONCATENATE(VLOOKUP(A451,bangolf_kategorien!$A$2:$B$11,2,FALSE),\": \",D451,\", \",C451)","v":"SM2: Buchert, Harald"},{"$f":"VLOOKUP(A451,bangolf_kategorien!$A$2:$B$11,2,FALSE)","v":"SM2"}]
["ds",51756,"Sandra","Buchert","MSC Bensheim-Auerbach",{"$f":"CONCATENATE(VLOOKUP(A452,bangolf_kategorien!$A$2:$B$11,2,FALSE),\": \",D452,\", \",C452)","v":"D: Buchert, Sandra"},{"$f":"VLOOKUP(A452,bangolf_kategorien!$A$2:$B$11,2,FALSE)","v":"D"}]
["ob",31513,"Ansgar","Buchholz","MGC \"AS\" Witten 1963",{"$f":"CONCATENATE(VLOOKUP(A453,bangolf_kategorien!$A$2:$B$11,2,FALSE),\": \",D453,\", \",C453)","v":"SM1: Buchholz, Ansgar"},{"$f":"VLOOKUP(A453,bangolf_kategorien!$A$2:$B$11,2,FALSE)","v":"SM1"}]
["ds",31317,"Jennifer","Buchholz","TV Trappenkamp - Minigolf -",{"$f":"CONCATENATE(VLOOKUP(A454,bangolf_kategorien!$A$2:$B$11,2,FALSE),\": \",D454,\", \",C454)","v":"D: Buchholz, Jennifer"},{"$f":"VLOOKUP(A454,bangolf_kategorien!$A$2:$B$11,2,FALSE)","v":"D"}]
["hv",41296,"Uwe","Buchholz","Preetzer TSV von 1861 Abt. Minigolf",{"$f":"CONCATENATE(VLOOKUP(A455,bangolf_kategorien!$A$2:$B$11,2,FALSE),\": \",D455,\", \",C455)","v":"SM2: Buchholz, Uwe"},{"$f":"VLOOKUP(A455,bangolf_kategorien!$A$2:$B$11,2,FALSE)","v":"SM2"}]
["hv",41297,"Werner","Buchholz","TV Trappenkamp - Minigolf -",{"$f":"CONCATENATE(VLOOKUP(A456,bangolf_kategorien!$A$2:$B$11,2,FALSE),\": \",D456,\", \",C456)","v":"SM2: Buchholz, Werner"},{"$f":"VLOOKUP(A456,bangolf_kategorien!$A$2:$B$11,2,FALSE)","v":"SM2"}]
["hv",65819,"Horst","Buchner","BSC Ennepetal",{"$f":"CONCATENATE(VLOOKUP(A457,bangolf_kategorien!$A$2:$B$11,2,FALSE),\": \",D457,\", \",C457)","v":"SM2: Buchner, Horst"},{"$f":"VLOOKUP(A457,bangolf_kategorien!$A$2:$B$11,2,FALSE)","v":"SM2"}]
["pa",67399,"Carl","Buchwieser","MSK Olching",{"$f":"CONCATENATE(VLOOKUP(A458,bangolf_kategorien!$A$2:$B$11,2,FALSE),\": \",D458,\", \",C458)","v":"SCHM: Buchwieser, Carl"},{"$f":"VLOOKUP(A458,bangolf_kategorien!$A$2:$B$11,2,FALSE)","v":"SCHM"}]
["pa",67229,"Luis","Buchwieser","MSK Olching",{"$f":"CONCATENATE(VLOOKUP(A459,bangolf_kategorien!$A$2:$B$11,2,FALSE),\": \",D459,\", \",C459)","v":"SCHM: Buchwieser, Luis"},{"$f":"VLOOKUP(A459,bangolf_kategorien!$A$2:$B$11,2,FALSE)","v":"SCHM"}]
["hv",38056,"Felix","Buckentin","MGC Ingolstadt",{"$f":"CONCATENATE(VLOOKUP(A460,bangolf_kategorien!$A$2:$B$11,2,FALSE),\": \",D460,\", \",C460)","v":"SM2: Buckentin, Felix"},{"$f":"VLOOKUP(A460,bangolf_kategorien!$A$2:$B$11,2,FALSE)","v":"SM2"}]
["ob",29327,"Markus","Büdenbender","1. MSC Wesel 6.6.1966",{"$f":"CONCATENATE(VLOOKUP(A461,bangolf_kategorien!$A$2:$B$11,2,FALSE),\": \",D461,\", \",C461)","v":"SM1: Büdenbender, Markus"},{"$f":"VLOOKUP(A461,bangolf_kategorien!$A$2:$B$11,2,FALSE)","v":"SM1"}]
["hv",34106,"Dietmar","Bühner","MGC Nümbrecht",{"$f":"CONCATENATE(VLOOKUP(A462,bangolf_kategorien!$A$2:$B$11,2,FALSE),\": \",D462,\", \",C462)","v":"SM2: Bühner, Dietmar"},{"$f":"VLOOKUP(A462,bangolf_kategorien!$A$2:$B$11,2,FALSE)","v":"SM2"}]
["ds",32844,"Ricarda","Bundtzen","1. Essener CGC \"Blau-Gold\"",{"$f":"CONCATENATE(VLOOKUP(A463,bangolf_kategorien!$A$2:$B$11,2,FALSE),\": \",D463,\", \",C463)","v":"D: Bundtzen, Ricarda"},{"$f":"VLOOKUP(A463,bangolf_kategorien!$A$2:$B$11,2,FALSE)","v":"D"}]
["hs",34974,"Paul","Bunse","1. BGC Paderborn",{"$f":"CONCATENATE(VLOOKUP(A464,bangolf_kategorien!$A$2:$B$11,2,FALSE),\": \",D464,\", \",C464)","v":"H: Bunse, Paul"},{"$f":"VLOOKUP(A464,bangolf_kategorien!$A$2:$B$11,2,FALSE)","v":"H"}]
["ob",44445,"Oliver","Burde","VfM Bottrop",{"$f":"CONCATENATE(VLOOKUP(A465,bangolf_kategorien!$A$2:$B$11,2,FALSE),\": \",D465,\", \",C465)","v":"SM1: Burde, Oliver"},{"$f":"VLOOKUP(A465,bangolf_kategorien!$A$2:$B$11,2,FALSE)","v":"SM1"}]
["hs",38584,"Yannick","Burdorf","MC Tigers Künsebeck",{"$f":"CONCATENATE(VLOOKUP(A466,bangolf_kategorien!$A$2:$B$11,2,FALSE),\": \",D466,\", \",C466)","v":"H: Burdorf, Yannick"},{"$f":"VLOOKUP(A466,bangolf_kategorien!$A$2:$B$11,2,FALSE)","v":"H"}]
["hv",5758,"Jürgen","Burgard","Freizeit Club Bliesen",{"$f":"CONCATENATE(VLOOKUP(A467,bangolf_kategorien!$A$2:$B$11,2,FALSE),\": \",D467,\", \",C467)","v":"SM2: Burgard, Jürgen"},{"$f":"VLOOKUP(A467,bangolf_kategorien!$A$2:$B$11,2,FALSE)","v":"SM2"}]
["hj",38436,"Norman","Burgdorf","1. BGC Wolfsburg",{"$f":"CONCATENATE(VLOOKUP(A468,bangolf_kategorien!$A$2:$B$11,2,FALSE),\": \",D468,\", \",C468)","v":"JM: Burgdorf, Norman"},{"$f":"VLOOKUP(A468,bangolf_kategorien!$A$2:$B$11,2,FALSE)","v":"JM"}]
["ob",40281,"Harald","Burger","1. MGC Ludwigshafen",{"$f":"CONCATENATE(VLOOKUP(A469,bangolf_kategorien!$A$2:$B$11,2,FALSE),\": \",D469,\", \",C469)","v":"SM1: Burger, Harald"},{"$f":"VLOOKUP(A469,bangolf_kategorien!$A$2:$B$11,2,FALSE)","v":"SM1"}]
["ob",45219,"Michael","Burk","MGC Millennium Lorsch",{"$f":"CONCATENATE(VLOOKUP(A470,bangolf_kategorien!$A$2:$B$11,2,FALSE),\": \",D470,\", \",C470)","v":"SM1: Burk, Michael"},{"$f":"VLOOKUP(A470,bangolf_kategorien!$A$2:$B$11,2,FALSE)","v":"SM1"}]
["hv",65508,"Dieter","Burkart","BSV Inzlingen 1979",{"$f":"CONCATENATE(VLOOKUP(A471,bangolf_kategorien!$A$2:$B$11,2,FALSE),\": \",D471,\", \",C471)","v":"SM2: Burkart, Dieter"},{"$f":"VLOOKUP(A471,bangolf_kategorien!$A$2:$B$11,2,FALSE)","v":"SM2"}]
["pa",67576,"Kevin","Burkert","Hamburger MC von 1965",{"$f":"CONCATENATE(VLOOKUP(A472,bangolf_kategorien!$A$2:$B$11,2,FALSE),\": \",D472,\", \",C472)","v":"SCHM: Burkert, Kevin"},{"$f":"VLOOKUP(A472,bangolf_kategorien!$A$2:$B$11,2,FALSE)","v":"SCHM"}]
["ob",1951,"Michael","Burkert","MGF Magdeburg 1995",{"$f":"CONCATENATE(VLOOKUP(A473,bangolf_kategorien!$A$2:$B$11,2,FALSE),\": \",D473,\", \",C473)","v":"SM1: Burkert, Michael"},{"$f":"VLOOKUP(A473,bangolf_kategorien!$A$2:$B$11,2,FALSE)","v":"SM1"}]
["ob",67575,"Peter","Burkert","Hamburger MC von 1965",{"$f":"CONCATENATE(VLOOKUP(A474,bangolf_kategorien!$A$2:$B$11,2,FALSE),\": \",D474,\", \",C474)","v":"SM1: Burkert, Peter"},{"$f":"VLOOKUP(A474,bangolf_kategorien!$A$2:$B$11,2,FALSE)","v":"SM1"}]
["dv",34305,"Renate","Burkert","MGV Bremen",{"$f":"CONCATENATE(VLOOKUP(A475,bangolf_kategorien!$A$2:$B$11,2,FALSE),\": \",D475,\", \",C475)","v":"SW2: Burkert, Renate"},{"$f":"VLOOKUP(A475,bangolf_kategorien!$A$2:$B$11,2,FALSE)","v":"SW2"}]
["og",38135,"Sabine Monika","Burkert","MGF Magdeburg 1995",{"$f":"CONCATENATE(VLOOKUP(A476,bangolf_kategorien!$A$2:$B$11,2,FALSE),\": \",D476,\", \",C476)","v":"SW1: Burkert, Sabine Monika"},{"$f":"VLOOKUP(A476,bangolf_kategorien!$A$2:$B$11,2,FALSE)","v":"SW1"}]
["hv",43821,"Peter","Burkhart","MSV Bad Kreuznach",{"$f":"CONCATENATE(VLOOKUP(A477,bangolf_kategorien!$A$2:$B$11,2,FALSE),\": \",D477,\", \",C477)","v":"SM2: Burkhart, Peter"},{"$f":"VLOOKUP(A477,bangolf_kategorien!$A$2:$B$11,2,FALSE)","v":"SM2"}]
["dv",44916,"Roswitha","Burkhart","MSV Bad Kreuznach",{"$f":"CONCATENATE(VLOOKUP(A478,bangolf_kategorien!$A$2:$B$11,2,FALSE),\": \",D478,\", \",C478)","v":"SW2: Burkhart, Roswitha"},{"$f":"VLOOKUP(A478,bangolf_kategorien!$A$2:$B$11,2,FALSE)","v":"SW2"}]
["ob",29268,"Manfred","Burmeister","MGC Brunsbüttel",{"$f":"CONCATENATE(VLOOKUP(A479,bangolf_kategorien!$A$2:$B$11,2,FALSE),\": \",D479,\", \",C479)","v":"SM1: Burmeister, Manfred"},{"$f":"VLOOKUP(A479,bangolf_kategorien!$A$2:$B$11,2,FALSE)","v":"SM1"}]
["hv",19315,"Wolfgang","Burmester","MGC Bad Oldesloe",{"$f":"CONCATENATE(VLOOKUP(A480,bangolf_kategorien!$A$2:$B$11,2,FALSE),\": \",D480,\", \",C480)","v":"SM2: Burmester, Wolfgang"},{"$f":"VLOOKUP(A480,bangolf_kategorien!$A$2:$B$11,2,FALSE)","v":"SM2"}]
["dj",913,"Christin Sophie","Busch","BGC Goslar",{"$f":"CONCATENATE(VLOOKUP(A481,bangolf_kategorien!$A$2:$B$11,2,FALSE),\": \",D481,\", \",C481)","v":"JW: Busch, Christin Sophie"},{"$f":"VLOOKUP(A481,bangolf_kategorien!$A$2:$B$11,2,FALSE)","v":"JW"}]
["ob",46026,"Michael","Busch","1. BGC Wolfsburg",{"$f":"CONCATENATE(VLOOKUP(A482,bangolf_kategorien!$A$2:$B$11,2,FALSE),\": \",D482,\", \",C482)","v":"SM1: Busch, Michael"},{"$f":"VLOOKUP(A482,bangolf_kategorien!$A$2:$B$11,2,FALSE)","v":"SM1"}]
["ds",45253,"Simona","Busch","BGC Goslar",{"$f":"CONCATENATE(VLOOKUP(A483,bangolf_kategorien!$A$2:$B$11,2,FALSE),\": \",D483,\", \",C483)","v":"D: Busch, Simona"},{"$f":"VLOOKUP(A483,bangolf_kategorien!$A$2:$B$11,2,FALSE)","v":"D"}]
["hv",10586,"Philip","Busche","1. MGC 1970 Göttingen",{"$f":"CONCATENATE(VLOOKUP(A484,bangolf_kategorien!$A$2:$B$11,2,FALSE),\": \",D484,\", \",C484)","v":"SM2: Busche, Philip"},{"$f":"VLOOKUP(A484,bangolf_kategorien!$A$2:$B$11,2,FALSE)","v":"SM2"}]
["dv",67451,"Petra","Büschenfeldt","VfL Lohbrügge Abt. Bahnengolf",{"$f":"CONCATENATE(VLOOKUP(A485,bangolf_kategorien!$A$2:$B$11,2,FALSE),\": \",D485,\", \",C485)","v":"SW2: Büschenfeldt, Petra"},{"$f":"VLOOKUP(A485,bangolf_kategorien!$A$2:$B$11,2,FALSE)","v":"SW2"}]
["hv",3990,"Rolf","Büscher","MGC Heven",{"$f":"CONCATENATE(VLOOKUP(A486,bangolf_kategorien!$A$2:$B$11,2,FALSE),\": \",D486,\", \",C486)","v":"SM2: Büscher, Rolf"},{"$f":"VLOOKUP(A486,bangolf_kategorien!$A$2:$B$11,2,FALSE)","v":"SM2"}]
["hs",66814,"Daniel","Buser","MGC Unterschneidheim",{"$f":"CONCATENATE(VLOOKUP(A487,bangolf_kategorien!$A$2:$B$11,2,FALSE),\": \",D487,\", \",C487)","v":"H: Buser, Daniel"},{"$f":"VLOOKUP(A487,bangolf_kategorien!$A$2:$B$11,2,FALSE)","v":"H"}]
["ob",66328,"Peter","Büsgen","Kölner Miniatur Golf Club",{"$f":"CONCATENATE(VLOOKUP(A488,bangolf_kategorien!$A$2:$B$11,2,FALSE),\": \",D488,\", \",C488)","v":"SM1: Büsgen, Peter"},{"$f":"VLOOKUP(A488,bangolf_kategorien!$A$2:$B$11,2,FALSE)","v":"SM1"}]
["hs",33860,"Pascal","Buske","MC Tigers Künsebeck",{"$f":"CONCATENATE(VLOOKUP(A489,bangolf_kategorien!$A$2:$B$11,2,FALSE),\": \",D489,\", \",C489)","v":"H: Buske, Pascal"},{"$f":"VLOOKUP(A489,bangolf_kategorien!$A$2:$B$11,2,FALSE)","v":"H"}]
["hs",33859,"Patrick","Buske","MC Tigers Künsebeck",{"$f":"CONCATENATE(VLOOKUP(A490,bangolf_kategorien!$A$2:$B$11,2,FALSE),\": \",D490,\", \",C490)","v":"H: Buske, Patrick"},{"$f":"VLOOKUP(A490,bangolf_kategorien!$A$2:$B$11,2,FALSE)","v":"H"}]
["ob",35144,"Jürgen","Butkereit","MGC Traben-Trarbach",{"$f":"CONCATENATE(VLOOKUP(A491,bangolf_kategorien!$A$2:$B$11,2,FALSE),\": \",D491,\", \",C491)","v":"SM1: Butkereit, Jürgen"},{"$f":"VLOOKUP(A491,bangolf_kategorien!$A$2:$B$11,2,FALSE)","v":"SM1"}]
["hv",37600,"Erwin","Butscher","BGC Dormagen",{"$f":"CONCATENATE(VLOOKUP(A492,bangolf_kategorien!$A$2:$B$11,2,FALSE),\": \",D492,\", \",C492)","v":"SM2: Butscher, Erwin"},{"$f":"VLOOKUP(A492,bangolf_kategorien!$A$2:$B$11,2,FALSE)","v":"SM2"}]
["hs",33659,"Alexander","Büttner","MGF Hammer",{"$f":"CONCATENATE(VLOOKUP(A493,bangolf_kategorien!$A$2:$B$11,2,FALSE),\": \",D493,\", \",C493)","v":"H: Büttner, Alexander"},{"$f":"VLOOKUP(A493,bangolf_kategorien!$A$2:$B$11,2,FALSE)","v":"H"}]
["hs",40888,"Torben","Bychowski","MC Flora Elmshorn",{"$f":"CONCATENATE(VLOOKUP(A494,bangolf_kategorien!$A$2:$B$11,2,FALSE),\": \",D494,\", \",C494)","v":"H: Bychowski, Torben"},{"$f":"VLOOKUP(A494,bangolf_kategorien!$A$2:$B$11,2,FALSE)","v":"H"}]
["hv",5015,"Raffaele","Canceniella","Miniaturgolf Sportclub Schriesheim",{"$f":"CONCATENATE(VLOOKUP(A495,bangolf_kategorien!$A$2:$B$11,2,FALSE),\": \",D495,\", \",C495)","v":"SM2: Canceniella, Raffaele"},{"$f":"VLOOKUP(A495,bangolf_kategorien!$A$2:$B$11,2,FALSE)","v":"SM2"}]
["ob",67441,"Franco","Cappelletti","1. MGC Mainz",{"$f":"CONCATENATE(VLOOKUP(A496,bangolf_kategorien!$A$2:$B$11,2,FALSE),\": \",D496,\", \",C496)","v":"SM1: Cappelletti, Franco"},{"$f":"VLOOKUP(A496,bangolf_kategorien!$A$2:$B$11,2,FALSE)","v":"SM1"}]
["hv",37789,"Gerhard","Caspar","1. MGC Mainz",{"$f":"CONCATENATE(VLOOKUP(A497,bangolf_kategorien!$A$2:$B$11,2,FALSE),\": \",D497,\", \",C497)","v":"SM2: Caspar, Gerhard"},{"$f":"VLOOKUP(A497,bangolf_kategorien!$A$2:$B$11,2,FALSE)","v":"SM2"}]
["og",67171,"Marina","Casu","MGC Ingolstadt",{"$f":"CONCATENATE(VLOOKUP(A498,bangolf_kategorien!$A$2:$B$11,2,FALSE),\": \",D498,\", \",C498)","v":"SW1: Casu, Marina"},{"$f":"VLOOKUP(A498,bangolf_kategorien!$A$2:$B$11,2,FALSE)","v":"SW1"}]
["ob",66852,"Andree","Cech","BGSV Aßlar 1987",{"$f":"CONCATENATE(VLOOKUP(A499,bangolf_kategorien!$A$2:$B$11,2,FALSE),\": \",D499,\", \",C499)","v":"SM1: Cech, Andree"},{"$f":"VLOOKUP(A499,bangolf_kategorien!$A$2:$B$11,2,FALSE)","v":"SM1"}]
["hs",67048,"Marc","Cervinca","1. BGC Bad Füssing",{"$f":"CONCATENATE(VLOOKUP(A500,bangolf_kategorien!$A$2:$B$11,2,FALSE),\": \",D500,\", \",C500)","v":"H: Cervinca, Marc"},{"$f":"VLOOKUP(A500,bangolf_kategorien!$A$2:$B$11,2,FALSE)","v":"H"}]
["hv",66543,"Bernd","Chabowski","MGV Bremen",{"$f":"CONCATENATE(VLOOKUP(A501,bangolf_kategorien!$A$2:$B$11,2,FALSE),\": \",D501,\", \",C501)","v":"SM2: Chabowski, Bernd"},{"$f":"VLOOKUP(A501,bangolf_kategorien!$A$2:$B$11,2,FALSE)","v":"SM2"}]
["hs",67482,"Jakub","Ches","MGC Harrislee-Wassersleben",{"$f":"CONCATENATE(VLOOKUP(A502,bangolf_kategorien!$A$2:$B$11,2,FALSE),\": \",D502,\", \",C502)","v":"H: Ches, Jakub"},{"$f":"VLOOKUP(A502,bangolf_kategorien!$A$2:$B$11,2,FALSE)","v":"H"}]
["ob",44409,"Daniel","Christ","MGC Olympia Kiel",{"$f":"CONCATENATE(VLOOKUP(A503,bangolf_kategorien!$A$2:$B$11,2,FALSE),\": \",D503,\", \",C503)","v":"SM1: Christ, Daniel"},{"$f":"VLOOKUP(A503,bangolf_kategorien!$A$2:$B$11,2,FALSE)","v":"SM1"}]
["hv",46852,"Michael","Christ","MGC Brunsbüttel",{"$f":"CONCATENATE(VLOOKUP(A504,bangolf_kategorien!$A$2:$B$11,2,FALSE),\": \",D504,\", \",C504)","v":"SM2: Christ, Michael"},{"$f":"VLOOKUP(A504,bangolf_kategorien!$A$2:$B$11,2,FALSE)","v":"SM2"}]
["ob",40415,"Oliver","Christ","Niendorfer MC v. 1963",{"$f":"CONCATENATE(VLOOKUP(A505,bangolf_kategorien!$A$2:$B$11,2,FALSE),\": \",D505,\", \",C505)","v":"SM1: Christ, Oliver"},{"$f":"VLOOKUP(A505,bangolf_kategorien!$A$2:$B$11,2,FALSE)","v":"SM1"}]
["ds",35102,"Ramona","Christiansen","MC Flora Elmshorn",{"$f":"CONCATENATE(VLOOKUP(A506,bangolf_kategorien!$A$2:$B$11,2,FALSE),\": \",D506,\", \",C506)","v":"D: Christiansen, Ramona"},{"$f":"VLOOKUP(A506,bangolf_kategorien!$A$2:$B$11,2,FALSE)","v":"D"}]
["dv",65895,"Steffi","Christmann","BGC Bildstock",{"$f":"CONCATENATE(VLOOKUP(A507,bangolf_kategorien!$A$2:$B$11,2,FALSE),\": \",D507,\", \",C507)","v":"SW2: Christmann, Steffi"},{"$f":"VLOOKUP(A507,bangolf_kategorien!$A$2:$B$11,2,FALSE)","v":"SW2"}]
["hv",65894,"Thomas","Christmann","BGC Bildstock",{"$f":"CONCATENATE(VLOOKUP(A508,bangolf_kategorien!$A$2:$B$11,2,FALSE),\": \",D508,\", \",C508)","v":"SM2: Christmann, Thomas"},{"$f":"VLOOKUP(A508,bangolf_kategorien!$A$2:$B$11,2,FALSE)","v":"SM2"}]
["hv",36650,"Gerhard","Chrobock","MGC Einbeck",{"$f":"CONCATENATE(VLOOKUP(A509,bangolf_kategorien!$A$2:$B$11,2,FALSE),\": \",D509,\", \",C509)","v":"SM2: Chrobock, Gerhard"},{"$f":"VLOOKUP(A509,bangolf_kategorien!$A$2:$B$11,2,FALSE)","v":"SM2"}]
["dv",67385,"Marion","Ciachera","1. Minigolf-Club Rheinhausen",{"$f":"CONCATENATE(VLOOKUP(A510,bangolf_kategorien!$A$2:$B$11,2,FALSE),\": \",D510,\", \",C510)","v":"SW2: Ciachera, Marion"},{"$f":"VLOOKUP(A510,bangolf_kategorien!$A$2:$B$11,2,FALSE)","v":"SW2"}]
["hv",66086,"Edmund","Cieslik","1. BGC Celle von 1964",{"$f":"CONCATENATE(VLOOKUP(A511,bangolf_kategorien!$A$2:$B$11,2,FALSE),\": \",D511,\", \",C511)","v":"SM2: Cieslik, Edmund"},{"$f":"VLOOKUP(A511,bangolf_kategorien!$A$2:$B$11,2,FALSE)","v":"SM2"}]
["dv",12431,"Marlies","Citi","KGC  Waldstadion Frankfurt am Main",{"$f":"CONCATENATE(VLOOKUP(A512,bangolf_kategorien!$A$2:$B$11,2,FALSE),\": \",D512,\", \",C512)","v":"SW2: Citi, Marlies"},{"$f":"VLOOKUP(A512,bangolf_kategorien!$A$2:$B$11,2,FALSE)","v":"SW2"}]
["ob",40407,"Tim","Clasen","1. BGC Wolfsburg",{"$f":"CONCATENATE(VLOOKUP(A513,bangolf_kategorien!$A$2:$B$11,2,FALSE),\": \",D513,\", \",C513)","v":"SM1: Clasen, Tim"},{"$f":"VLOOKUP(A513,bangolf_kategorien!$A$2:$B$11,2,FALSE)","v":"SM1"}]
["dj",66680,"Aylin","Clemens","MGC Marl 1960",{"$f":"CONCATENATE(VLOOKUP(A514,bangolf_kategorien!$A$2:$B$11,2,FALSE),\": \",D514,\", \",C514)","v":"JW: Clemens, Aylin"},{"$f":"VLOOKUP(A514,bangolf_kategorien!$A$2:$B$11,2,FALSE)","v":"JW"}]
["og",45741,"Isabella","Clemens","MGC Marl 1960",{"$f":"CONCATENATE(VLOOKUP(A515,bangolf_kategorien!$A$2:$B$11,2,FALSE),\": \",D515,\", \",C515)","v":"SW1: Clemens, Isabella"},{"$f":"VLOOKUP(A515,bangolf_kategorien!$A$2:$B$11,2,FALSE)","v":"SW1"}]
["hs",48980,"Jan","Clemens","MGC Marl 1960",{"$f":"CONCATENATE(VLOOKUP(A516,bangolf_kategorien!$A$2:$B$11,2,FALSE),\": \",D516,\", \",C516)","v":"H: Clemens, Jan"},{"$f":"VLOOKUP(A516,bangolf_kategorien!$A$2:$B$11,2,FALSE)","v":"H"}]
["fa",66681,"Leni","Clemens","MGC Marl 1960",{"$f":"CONCATENATE(VLOOKUP(A517,bangolf_kategorien!$A$2:$B$11,2,FALSE),\": \",D517,\", \",C517)","v":"SCHW: Clemens, Leni"},{"$f":"VLOOKUP(A517,bangolf_kategorien!$A$2:$B$11,2,FALSE)","v":"SCHW"}]
["dv",67129,"Gertrud","Cöln","BGC Schloß Paffendorf",{"$f":"CONCATENATE(VLOOKUP(A518,bangolf_kategorien!$A$2:$B$11,2,FALSE),\": \",D518,\", \",C518)","v":"SW2: Cöln, Gertrud"},{"$f":"VLOOKUP(A518,bangolf_kategorien!$A$2:$B$11,2,FALSE)","v":"SW2"}]
["hv",66336,"Herbert","Cöln","BGC Schloß Paffendorf",{"$f":"CONCATENATE(VLOOKUP(A519,bangolf_kategorien!$A$2:$B$11,2,FALSE),\": \",D519,\", \",C519)","v":"SM2: Cöln, Herbert"},{"$f":"VLOOKUP(A519,bangolf_kategorien!$A$2:$B$11,2,FALSE)","v":"SM2"}]
["ob",66491,"Marco","Corinth","1. MGC Gelsenkirchen",{"$f":"CONCATENATE(VLOOKUP(A520,bangolf_kategorien!$A$2:$B$11,2,FALSE),\": \",D520,\", \",C520)","v":"SM1: Corinth, Marco"},{"$f":"VLOOKUP(A520,bangolf_kategorien!$A$2:$B$11,2,FALSE)","v":"SM1"}]
["hs",36820,"Daniel","Cortese","1. MGC Paderborn",{"$f":"CONCATENATE(VLOOKUP(A521,bangolf_kategorien!$A$2:$B$11,2,FALSE),\": \",D521,\", \",C521)","v":"H: Cortese, Daniel"},{"$f":"VLOOKUP(A521,bangolf_kategorien!$A$2:$B$11,2,FALSE)","v":"H"}]
["dv",34693,"Annegret","Crass","HMC Büttgen",{"$f":"CONCATENATE(VLOOKUP(A522,bangolf_kategorien!$A$2:$B$11,2,FALSE),\": \",D522,\", \",C522)","v":"SW2: Crass, Annegret"},{"$f":"VLOOKUP(A522,bangolf_kategorien!$A$2:$B$11,2,FALSE)","v":"SW2"}]
["ds",34137,"Claudia","Crass","MGC Dortmund Syburg",{"$f":"CONCATENATE(VLOOKUP(A523,bangolf_kategorien!$A$2:$B$11,2,FALSE),\": \",D523,\", \",C523)","v":"D: Crass, Claudia"},{"$f":"VLOOKUP(A523,bangolf_kategorien!$A$2:$B$11,2,FALSE)","v":"D"}]
["hv",34521,"Dieter","Crass","HMC Büttgen",{"$f":"CONCATENATE(VLOOKUP(A524,bangolf_kategorien!$A$2:$B$11,2,FALSE),\": \",D524,\", \",C524)","v":"SM2: Crass, Dieter"},{"$f":"VLOOKUP(A524,bangolf_kategorien!$A$2:$B$11,2,FALSE)","v":"SM2"}]
["hs",65843,"Yannick","Crettat","MGC Bad Homburg vdH",{"$f":"CONCATENATE(VLOOKUP(A525,bangolf_kategorien!$A$2:$B$11,2,FALSE),\": \",D525,\", \",C525)","v":"H: Crettat, Yannick"},{"$f":"VLOOKUP(A525,bangolf_kategorien!$A$2:$B$11,2,FALSE)","v":"H"}]
["ob",44877,"Harm","Croppenstedt","Tempelhofer MV Berlin",{"$f":"CONCATENATE(VLOOKUP(A526,bangolf_kategorien!$A$2:$B$11,2,FALSE),\": \",D526,\", \",C526)","v":"SM1: Croppenstedt, Harm"},{"$f":"VLOOKUP(A526,bangolf_kategorien!$A$2:$B$11,2,FALSE)","v":"SM1"}]
["dv",44760,"Ursula","Crößmann","1. MGC Ludwigshafen",{"$f":"CONCATENATE(VLOOKUP(A527,bangolf_kategorien!$A$2:$B$11,2,FALSE),\": \",D527,\", \",C527)","v":"SW2: Crößmann, Ursula"},{"$f":"VLOOKUP(A527,bangolf_kategorien!$A$2:$B$11,2,FALSE)","v":"SW2"}]
["ob",49136,"Michael","Czernoch","MSC Blau-Weiß 2003 München",{"$f":"CONCATENATE(VLOOKUP(A528,bangolf_kategorien!$A$2:$B$11,2,FALSE),\": \",D528,\", \",C528)","v":"SM1: Czernoch, Michael"},{"$f":"VLOOKUP(A528,bangolf_kategorien!$A$2:$B$11,2,FALSE)","v":"SM1"}]
["hv",21335,"Hans-Dirk","Czerwek","MSC Bensheim-Auerbach",{"$f":"CONCATENATE(VLOOKUP(A529,bangolf_kategorien!$A$2:$B$11,2,FALSE),\": \",D529,\", \",C529)","v":"SM2: Czerwek, Hans-Dirk"},{"$f":"VLOOKUP(A529,bangolf_kategorien!$A$2:$B$11,2,FALSE)","v":"SM2"}]
["ob",67526,"Achim","Czerwinski","MGC Dortmund Syburg",{"$f":"CONCATENATE(VLOOKUP(A530,bangolf_kategorien!$A$2:$B$11,2,FALSE),\": \",D530,\", \",C530)","v":"SM1: Czerwinski, Achim"},{"$f":"VLOOKUP(A530,bangolf_kategorien!$A$2:$B$11,2,FALSE)","v":"SM1"}]
["ds",31967,"Tanja","Czeslik","1. MGC Saar 68 St. Ingbert",{"$f":"CONCATENATE(VLOOKUP(A531,bangolf_kategorien!$A$2:$B$11,2,FALSE),\": \",D531,\", \",C531)","v":"D: Czeslik, Tanja"},{"$f":"VLOOKUP(A531,bangolf_kategorien!$A$2:$B$11,2,FALSE)","v":"D"}]
["hs",38448,"Tim","Dachwald","SV Lurup Abt. Bahnengolf",{"$f":"CONCATENATE(VLOOKUP(A532,bangolf_kategorien!$A$2:$B$11,2,FALSE),\": \",D532,\", \",C532)","v":"H: Dachwald, Tim"},{"$f":"VLOOKUP(A532,bangolf_kategorien!$A$2:$B$11,2,FALSE)","v":"H"}]
["ob",49479,"Andreas","Dageförde","1. MGC Metzingen",{"$f":"CONCATENATE(VLOOKUP(A533,bangolf_kategorien!$A$2:$B$11,2,FALSE),\": \",D533,\", \",C533)","v":"SM1: Dageförde, Andreas"},{"$f":"VLOOKUP(A533,bangolf_kategorien!$A$2:$B$11,2,FALSE)","v":"SM1"}]
["ds",37817,"Denise","Dahl","Cobigolf-Verein Hamm 2019",{"$f":"CONCATENATE(VLOOKUP(A534,bangolf_kategorien!$A$2:$B$11,2,FALSE),\": \",D534,\", \",C534)","v":"D: Dahl, Denise"},{"$f":"VLOOKUP(A534,bangolf_kategorien!$A$2:$B$11,2,FALSE)","v":"D"}]
["ob",9710,"Roland","Dahl","1. KC Homburg-Saar 1967",{"$f":"CONCATENATE(VLOOKUP(A535,bangolf_kategorien!$A$2:$B$11,2,FALSE),\": \",D535,\", \",C535)","v":"SM1: Dahl, Roland"},{"$f":"VLOOKUP(A535,bangolf_kategorien!$A$2:$B$11,2,FALSE)","v":"SM1"}]
["hv",66399,"Matthias","Dahrendorf","SV Lurup Abt. Bahnengolf",{"$f":"CONCATENATE(VLOOKUP(A536,bangolf_kategorien!$A$2:$B$11,2,FALSE),\": \",D536,\", \",C536)","v":"SM2: Dahrendorf, Matthias"},{"$f":"VLOOKUP(A536,bangolf_kategorien!$A$2:$B$11,2,FALSE)","v":"SM2"}]
["dv",66398,"Petra","Dahrendorf","SV Lurup Abt. Bahnengolf",{"$f":"CONCATENATE(VLOOKUP(A537,bangolf_kategorien!$A$2:$B$11,2,FALSE),\": \",D537,\", \",C537)","v":"SW2: Dahrendorf, Petra"},{"$f":"VLOOKUP(A537,bangolf_kategorien!$A$2:$B$11,2,FALSE)","v":"SW2"}]
["pa",67263,"Mazen","Dallah","TSV Kücknitz Abt. Bahnengolf",{"$f":"CONCATENATE(VLOOKUP(A538,bangolf_kategorien!$A$2:$B$11,2,FALSE),\": \",D538,\", \",C538)","v":"SCHM: Dallah, Mazen"},{"$f":"VLOOKUP(A538,bangolf_kategorien!$A$2:$B$11,2,FALSE)","v":"SCHM"}]
["hs",66729,"Christian","Damaschke","MGV Bremen",{"$f":"CONCATENATE(VLOOKUP(A539,bangolf_kategorien!$A$2:$B$11,2,FALSE),\": \",D539,\", \",C539)","v":"H: Damaschke, Christian"},{"$f":"VLOOKUP(A539,bangolf_kategorien!$A$2:$B$11,2,FALSE)","v":"H"}]
["hv",25732,"Reinhold","Dammann","MGC \"AS\" Witten 1963",{"$f":"CONCATENATE(VLOOKUP(A540,bangolf_kategorien!$A$2:$B$11,2,FALSE),\": \",D540,\", \",C540)","v":"SM2: Dammann, Reinhold"},{"$f":"VLOOKUP(A540,bangolf_kategorien!$A$2:$B$11,2,FALSE)","v":"SM2"}]
["ob",30625,"Andreas","Dams","MGC Felderbachtal 1964",{"$f":"CONCATENATE(VLOOKUP(A541,bangolf_kategorien!$A$2:$B$11,2,FALSE),\": \",D541,\", \",C541)","v":"SM1: Dams, Andreas"},{"$f":"VLOOKUP(A541,bangolf_kategorien!$A$2:$B$11,2,FALSE)","v":"SM1"}]
["og",65441,"Tanja","Dams","MGC Felderbachtal 1964",{"$f":"CONCATENATE(VLOOKUP(A542,bangolf_kategorien!$A$2:$B$11,2,FALSE),\": \",D542,\", \",C542)","v":"SW1: Dams, Tanja"},{"$f":"VLOOKUP(A542,bangolf_kategorien!$A$2:$B$11,2,FALSE)","v":"SW1"}]
["hv",45297,"Michael","Dassek","SC Olympia Dortmund",{"$f":"CONCATENATE(VLOOKUP(A543,bangolf_kategorien!$A$2:$B$11,2,FALSE),\": \",D543,\", \",C543)","v":"SM2: Dassek, Michael"},{"$f":"VLOOKUP(A543,bangolf_kategorien!$A$2:$B$11,2,FALSE)","v":"SM2"}]
["ob",33194,"Jürgen","Daub","Miniaturgolf Sportclub Schriesheim",{"$f":"CONCATENATE(VLOOKUP(A544,bangolf_kategorien!$A$2:$B$11,2,FALSE),\": \",D544,\", \",C544)","v":"SM1: Daub, Jürgen"},{"$f":"VLOOKUP(A544,bangolf_kategorien!$A$2:$B$11,2,FALSE)","v":"SM1"}]
["hs",66244,"Jan","Daubertshäuser","SSC Halver",{"$f":"CONCATENATE(VLOOKUP(A545,bangolf_kategorien!$A$2:$B$11,2,FALSE),\": \",D545,\", \",C545)","v":"H: Daubertshäuser, Jan"},{"$f":"VLOOKUP(A545,bangolf_kategorien!$A$2:$B$11,2,FALSE)","v":"H"}]
["dv",5325,"Christa","Daukant","MSV Bad Kreuznach",{"$f":"CONCATENATE(VLOOKUP(A546,bangolf_kategorien!$A$2:$B$11,2,FALSE),\": \",D546,\", \",C546)","v":"SW2: Daukant, Christa"},{"$f":"VLOOKUP(A546,bangolf_kategorien!$A$2:$B$11,2,FALSE)","v":"SW2"}]
["hs",67052,"Max Werner","Daumann","1. FMGC Lichtenfels 1961",{"$f":"CONCATENATE(VLOOKUP(A547,bangolf_kategorien!$A$2:$B$11,2,FALSE),\": \",D547,\", \",C547)","v":"H: Daumann, Max Werner"},{"$f":"VLOOKUP(A547,bangolf_kategorien!$A$2:$B$11,2,FALSE)","v":"H"}]
["hs",33904,"Thomas","Dautert","BGV Backumer Tal Herten",{"$f":"CONCATENATE(VLOOKUP(A548,bangolf_kategorien!$A$2:$B$11,2,FALSE),\": \",D548,\", \",C548)","v":"H: Dautert, Thomas"},{"$f":"VLOOKUP(A548,bangolf_kategorien!$A$2:$B$11,2,FALSE)","v":"H"}]
["hv",35731,"Patrick","Debes","MPF Hardt",{"$f":"CONCATENATE(VLOOKUP(A549,bangolf_kategorien!$A$2:$B$11,2,FALSE),\": \",D549,\", \",C549)","v":"SM2: Debes, Patrick"},{"$f":"VLOOKUP(A549,bangolf_kategorien!$A$2:$B$11,2,FALSE)","v":"SM2"}]
["dv",40091,"Monika","Deck","SG Arheilgen Abt. Bahnengolf",{"$f":"CONCATENATE(VLOOKUP(A550,bangolf_kategorien!$A$2:$B$11,2,FALSE),\": \",D550,\", \",C550)","v":"SW2: Deck, Monika"},{"$f":"VLOOKUP(A550,bangolf_kategorien!$A$2:$B$11,2,FALSE)","v":"SW2"}]
["ds",36109,"Sabine","Deck","SG Arheilgen Abt. Bahnengolf",{"$f":"CONCATENATE(VLOOKUP(A551,bangolf_kategorien!$A$2:$B$11,2,FALSE),\": \",D551,\", \",C551)","v":"D: Deck, Sabine"},{"$f":"VLOOKUP(A551,bangolf_kategorien!$A$2:$B$11,2,FALSE)","v":"D"}]
["ob",48691,"Jochen","Dedeleit","MGC Friedrichshafen",{"$f":"CONCATENATE(VLOOKUP(A552,bangolf_kategorien!$A$2:$B$11,2,FALSE),\": \",D552,\", \",C552)","v":"SM1: Dedeleit, Jochen"},{"$f":"VLOOKUP(A552,bangolf_kategorien!$A$2:$B$11,2,FALSE)","v":"SM1"}]
["hs",37856,"Martin","Deeg","MGC Unterschneidheim",{"$f":"CONCATENATE(VLOOKUP(A553,bangolf_kategorien!$A$2:$B$11,2,FALSE),\": \",D553,\", \",C553)","v":"H: Deeg, Martin"},{"$f":"VLOOKUP(A553,bangolf_kategorien!$A$2:$B$11,2,FALSE)","v":"H"}]
["ob",43691,"Thomas","Deepen","BGC Goslar",{"$f":"CONCATENATE(VLOOKUP(A554,bangolf_kategorien!$A$2:$B$11,2,FALSE),\": \",D554,\", \",C554)","v":"SM1: Deepen, Thomas"},{"$f":"VLOOKUP(A554,bangolf_kategorien!$A$2:$B$11,2,FALSE)","v":"SM1"}]
["hv",33673,"Joachim","Dehne","1. BGC Paderborn",{"$f":"CONCATENATE(VLOOKUP(A555,bangolf_kategorien!$A$2:$B$11,2,FALSE),\": \",D555,\", \",C555)","v":"SM2: Dehne, Joachim"},{"$f":"VLOOKUP(A555,bangolf_kategorien!$A$2:$B$11,2,FALSE)","v":"SM2"}]
["hs",66969,"Benjamin","Deicke","1. BGC Hannover",{"$f":"CONCATENATE(VLOOKUP(A556,bangolf_kategorien!$A$2:$B$11,2,FALSE),\": \",D556,\", \",C556)","v":"H: Deicke, Benjamin"},{"$f":"VLOOKUP(A556,bangolf_kategorien!$A$2:$B$11,2,FALSE)","v":"H"}]
["ob",40916,"Stefan","Deider","Reinickendorfer MGC",{"$f":"CONCATENATE(VLOOKUP(A557,bangolf_kategorien!$A$2:$B$11,2,FALSE),\": \",D557,\", \",C557)","v":"SM1: Deider, Stefan"},{"$f":"VLOOKUP(A557,bangolf_kategorien!$A$2:$B$11,2,FALSE)","v":"SM1"}]
["hv",4752,"Ottmar","Deißner","1. MGC Mannheim 1968",{"$f":"CONCATENATE(VLOOKUP(A558,bangolf_kategorien!$A$2:$B$11,2,FALSE),\": \",D558,\", \",C558)","v":"SM2: Deißner, Ottmar"},{"$f":"VLOOKUP(A558,bangolf_kategorien!$A$2:$B$11,2,FALSE)","v":"SM2"}]
["hs",64989,"Rene","Dejoks","BGC Diepholz",{"$f":"CONCATENATE(VLOOKUP(A559,bangolf_kategorien!$A$2:$B$11,2,FALSE),\": \",D559,\", \",C559)","v":"H: Dejoks, Rene"},{"$f":"VLOOKUP(A559,bangolf_kategorien!$A$2:$B$11,2,FALSE)","v":"H"}]
["og",66055,"Barbara","Delasbe","MSG Kempten",{"$f":"CONCATENATE(VLOOKUP(A560,bangolf_kategorien!$A$2:$B$11,2,FALSE),\": \",D560,\", \",C560)","v":"SW1: Delasbe, Barbara"},{"$f":"VLOOKUP(A560,bangolf_kategorien!$A$2:$B$11,2,FALSE)","v":"SW1"}]
["ob",66016,"Christian","Delasbe","MSG Kempten",{"$f":"CONCATENATE(VLOOKUP(A561,bangolf_kategorien!$A$2:$B$11,2,FALSE),\": \",D561,\", \",C561)","v":"SM1: Delasbe, Christian"},{"$f":"VLOOKUP(A561,bangolf_kategorien!$A$2:$B$11,2,FALSE)","v":"SM1"}]
["hv",6264,"Karl-Heinz","Dellinger","MSC Bensheim-Auerbach",{"$f":"CONCATENATE(VLOOKUP(A562,bangolf_kategorien!$A$2:$B$11,2,FALSE),\": \",D562,\", \",C562)","v":"SM2: Dellinger, Karl-Heinz"},{"$f":"VLOOKUP(A562,bangolf_kategorien!$A$2:$B$11,2,FALSE)","v":"SM2"}]
["ds",38260,"Annika","Dellmann","MSK Neheim-Hüsten",{"$f":"CONCATENATE(VLOOKUP(A563,bangolf_kategorien!$A$2:$B$11,2,FALSE),\": \",D563,\", \",C563)","v":"D: Dellmann, Annika"},{"$f":"VLOOKUP(A563,bangolf_kategorien!$A$2:$B$11,2,FALSE)","v":"D"}]
["hv",21501,"Christoph","Dellmann","MSK Neheim-Hüsten",{"$f":"CONCATENATE(VLOOKUP(A564,bangolf_kategorien!$A$2:$B$11,2,FALSE),\": \",D564,\", \",C564)","v":"SM2: Dellmann, Christoph"},{"$f":"VLOOKUP(A564,bangolf_kategorien!$A$2:$B$11,2,FALSE)","v":"SM2"}]
["ob",66452,"Marko","Depke","MGC Bad Salzuflen",{"$f":"CONCATENATE(VLOOKUP(A565,bangolf_kategorien!$A$2:$B$11,2,FALSE),\": \",D565,\", \",C565)","v":"SM1: Depke, Marko"},{"$f":"VLOOKUP(A565,bangolf_kategorien!$A$2:$B$11,2,FALSE)","v":"SM1"}]
["hv",10759,"Wolfgang","Detering","MGC Bad Salzuflen",{"$f":"CONCATENATE(VLOOKUP(A566,bangolf_kategorien!$A$2:$B$11,2,FALSE),\": \",D566,\", \",C566)","v":"SM2: Detering, Wolfgang"},{"$f":"VLOOKUP(A566,bangolf_kategorien!$A$2:$B$11,2,FALSE)","v":"SM2"}]
["hv",32810,"Heinz-Werner","Detlof","1. BGC Hannover",{"$f":"CONCATENATE(VLOOKUP(A567,bangolf_kategorien!$A$2:$B$11,2,FALSE),\": \",D567,\", \",C567)","v":"SM2: Detlof, Heinz-Werner"},{"$f":"VLOOKUP(A567,bangolf_kategorien!$A$2:$B$11,2,FALSE)","v":"SM2"}]
["dv",33311,"Maren","Detlof","1. BGC Hannover",{"$f":"CONCATENATE(VLOOKUP(A568,bangolf_kategorien!$A$2:$B$11,2,FALSE),\": \",D568,\", \",C568)","v":"SW2: Detlof, Maren"},{"$f":"VLOOKUP(A568,bangolf_kategorien!$A$2:$B$11,2,FALSE)","v":"SW2"}]
["ob",196,"Peter","Dettmer","VfB Osnabrück",{"$f":"CONCATENATE(VLOOKUP(A569,bangolf_kategorien!$A$2:$B$11,2,FALSE),\": \",D569,\", \",C569)","v":"SM1: Dettmer, Peter"},{"$f":"VLOOKUP(A569,bangolf_kategorien!$A$2:$B$11,2,FALSE)","v":"SM1"}]
["hj",66085,"Erik","Dettmer-Melendez","VfB Osnabrück",{"$f":"CONCATENATE(VLOOKUP(A570,bangolf_kategorien!$A$2:$B$11,2,FALSE),\": \",D570,\", \",C570)","v":"JM: Dettmer-Melendez, Erik"},{"$f":"VLOOKUP(A570,bangolf_kategorien!$A$2:$B$11,2,FALSE)","v":"JM"}]
["hs",38478,"Philip","Deutschmann","VfB Osnabrück",{"$f":"CONCATENATE(VLOOKUP(A571,bangolf_kategorien!$A$2:$B$11,2,FALSE),\": \",D571,\", \",C571)","v":"H: Deutschmann, Philip"},{"$f":"VLOOKUP(A571,bangolf_kategorien!$A$2:$B$11,2,FALSE)","v":"H"}]
["ob",42308,"Uwe","Dewor","KGC Bad Urach",{"$f":"CONCATENATE(VLOOKUP(A572,bangolf_kategorien!$A$2:$B$11,2,FALSE),\": \",D572,\", \",C572)","v":"SM1: Dewor, Uwe"},{"$f":"VLOOKUP(A572,bangolf_kategorien!$A$2:$B$11,2,FALSE)","v":"SM1"}]
["hv",67349,"Alfons","Dhombruch","1. MGC Ludwigshafen",{"$f":"CONCATENATE(VLOOKUP(A573,bangolf_kategorien!$A$2:$B$11,2,FALSE),\": \",D573,\", \",C573)","v":"SM2: Dhombruch, Alfons"},{"$f":"VLOOKUP(A573,bangolf_kategorien!$A$2:$B$11,2,FALSE)","v":"SM2"}]
["dv",67350,"Verena","Dhombruch","1. MGC Ludwigshafen",{"$f":"CONCATENATE(VLOOKUP(A574,bangolf_kategorien!$A$2:$B$11,2,FALSE),\": \",D574,\", \",C574)","v":"SW2: Dhombruch, Verena"},{"$f":"VLOOKUP(A574,bangolf_kategorien!$A$2:$B$11,2,FALSE)","v":"SW2"}]
["hs",67573,"Christian","Di Meglio","MGC Bad Soden-Salmünster",{"$f":"CONCATENATE(VLOOKUP(A575,bangolf_kategorien!$A$2:$B$11,2,FALSE),\": \",D575,\", \",C575)","v":"H: Di Meglio, Christian"},{"$f":"VLOOKUP(A575,bangolf_kategorien!$A$2:$B$11,2,FALSE)","v":"H"}]
["hs",67084,"Stefan","Dickert","1. CGC Rot-Weiß Groß-Umstadt",{"$f":"CONCATENATE(VLOOKUP(A576,bangolf_kategorien!$A$2:$B$11,2,FALSE),\": \",D576,\", \",C576)","v":"H: Dickert, Stefan"},{"$f":"VLOOKUP(A576,bangolf_kategorien!$A$2:$B$11,2,FALSE)","v":"H"}]
["hj",38141,"Robin","Dickes","MSK Neheim-Hüsten",{"$f":"CONCATENATE(VLOOKUP(A577,bangolf_kategorien!$A$2:$B$11,2,FALSE),\": \",D577,\", \",C577)","v":"JM: Dickes, Robin"},{"$f":"VLOOKUP(A577,bangolf_kategorien!$A$2:$B$11,2,FALSE)","v":"JM"}]
["ob",50770,"Michael","Diedrich","1. MGC Gelsenkirchen",{"$f":"CONCATENATE(VLOOKUP(A578,bangolf_kategorien!$A$2:$B$11,2,FALSE),\": \",D578,\", \",C578)","v":"SM1: Diedrich, Michael"},{"$f":"VLOOKUP(A578,bangolf_kategorien!$A$2:$B$11,2,FALSE)","v":"SM1"}]
["hv",28955,"Rainer","Diehl","MSC Bensheim-Auerbach",{"$f":"CONCATENATE(VLOOKUP(A579,bangolf_kategorien!$A$2:$B$11,2,FALSE),\": \",D579,\", \",C579)","v":"SM2: Diehl, Rainer"},{"$f":"VLOOKUP(A579,bangolf_kategorien!$A$2:$B$11,2,FALSE)","v":"SM2"}]
["hv",35653,"Norbert","Diehm","2. MGC Worms",{"$f":"CONCATENATE(VLOOKUP(A580,bangolf_kategorien!$A$2:$B$11,2,FALSE),\": \",D580,\", \",C580)","v":"SM2: Diehm, Norbert"},{"$f":"VLOOKUP(A580,bangolf_kategorien!$A$2:$B$11,2,FALSE)","v":"SM2"}]
["ob",67111,"Frank","Diener","MSC Bad Godesberg",{"$f":"CONCATENATE(VLOOKUP(A581,bangolf_kategorien!$A$2:$B$11,2,FALSE),\": \",D581,\", \",C581)","v":"SM1: Diener, Frank"},{"$f":"VLOOKUP(A581,bangolf_kategorien!$A$2:$B$11,2,FALSE)","v":"SM1"}]
["hs",66031,"Julian","Diener","BGC Northeim",{"$f":"CONCATENATE(VLOOKUP(A582,bangolf_kategorien!$A$2:$B$11,2,FALSE),\": \",D582,\", \",C582)","v":"H: Diener, Julian"},{"$f":"VLOOKUP(A582,bangolf_kategorien!$A$2:$B$11,2,FALSE)","v":"H"}]
["hs",66030,"Manuel","Diener","BGC Diepholz",{"$f":"CONCATENATE(VLOOKUP(A583,bangolf_kategorien!$A$2:$B$11,2,FALSE),\": \",D583,\", \",C583)","v":"H: Diener, Manuel"},{"$f":"VLOOKUP(A583,bangolf_kategorien!$A$2:$B$11,2,FALSE)","v":"H"}]
["hj",67401,"Marcel","Dierks","MC Georgsmarienhütte",{"$f":"CONCATENATE(VLOOKUP(A584,bangolf_kategorien!$A$2:$B$11,2,FALSE),\": \",D584,\", \",C584)","v":"JM: Dierks, Marcel"},{"$f":"VLOOKUP(A584,bangolf_kategorien!$A$2:$B$11,2,FALSE)","v":"JM"}]
["pa",67290,"Fabian","Dietz","MGC Heringen 1997",{"$f":"CONCATENATE(VLOOKUP(A585,bangolf_kategorien!$A$2:$B$11,2,FALSE),\": \",D585,\", \",C585)","v":"SCHM: Dietz, Fabian"},{"$f":"VLOOKUP(A585,bangolf_kategorien!$A$2:$B$11,2,FALSE)","v":"SCHM"}]
["hv",5745,"Gerhard","Dietzel","MGC Felderbachtal 1964",{"$f":"CONCATENATE(VLOOKUP(A586,bangolf_kategorien!$A$2:$B$11,2,FALSE),\": \",D586,\", \",C586)","v":"SM2: Dietzel, Gerhard"},{"$f":"VLOOKUP(A586,bangolf_kategorien!$A$2:$B$11,2,FALSE)","v":"SM2"}]
["dv",10953,"Veronika","Dietzel","MGC Felderbachtal 1964",{"$f":"CONCATENATE(VLOOKUP(A587,bangolf_kategorien!$A$2:$B$11,2,FALSE),\": \",D587,\", \",C587)","v":"SW2: Dietzel, Veronika"},{"$f":"VLOOKUP(A587,bangolf_kategorien!$A$2:$B$11,2,FALSE)","v":"SW2"}]
["hs",37963,"Anton","Dillinger","Tempelhofer MV Berlin",{"$f":"CONCATENATE(VLOOKUP(A588,bangolf_kategorien!$A$2:$B$11,2,FALSE),\": \",D588,\", \",C588)","v":"H: Dillinger, Anton"},{"$f":"VLOOKUP(A588,bangolf_kategorien!$A$2:$B$11,2,FALSE)","v":"H"}]
["ds",36175,"Anne","Dippel","Reinickendorfer MGC",{"$f":"CONCATENATE(VLOOKUP(A589,bangolf_kategorien!$A$2:$B$11,2,FALSE),\": \",D589,\", \",C589)","v":"D: Dippel, Anne"},{"$f":"VLOOKUP(A589,bangolf_kategorien!$A$2:$B$11,2,FALSE)","v":"D"}]
["ob",34451,"Markus","Dippelhofer","1. MGC Mannheim 1968",{"$f":"CONCATENATE(VLOOKUP(A590,bangolf_kategorien!$A$2:$B$11,2,FALSE),\": \",D590,\", \",C590)","v":"SM1: Dippelhofer, Markus"},{"$f":"VLOOKUP(A590,bangolf_kategorien!$A$2:$B$11,2,FALSE)","v":"SM1"}]
["ob",45139,"René","Dippelhofer","1. MGC Mainz",{"$f":"CONCATENATE(VLOOKUP(A591,bangolf_kategorien!$A$2:$B$11,2,FALSE),\": \",D591,\", \",C591)","v":"SM1: Dippelhofer, René"},{"$f":"VLOOKUP(A591,bangolf_kategorien!$A$2:$B$11,2,FALSE)","v":"SM1"}]
["hs",45161,"Christian","Dirksmeyer","1. MGC Epe 1978",{"$f":"CONCATENATE(VLOOKUP(A592,bangolf_kategorien!$A$2:$B$11,2,FALSE),\": \",D592,\", \",C592)","v":"H: Dirksmeyer, Christian"},{"$f":"VLOOKUP(A592,bangolf_kategorien!$A$2:$B$11,2,FALSE)","v":"H"}]
["hs",63588,"Dennis","Dirlmeier","BGC Neutraubling",{"$f":"CONCATENATE(VLOOKUP(A593,bangolf_kategorien!$A$2:$B$11,2,FALSE),\": \",D593,\", \",C593)","v":"H: Dirlmeier, Dennis"},{"$f":"VLOOKUP(A593,bangolf_kategorien!$A$2:$B$11,2,FALSE)","v":"H"}]
["ob",38329,"Michael","Dittrich","MGC putter Künzell 1970",{"$f":"CONCATENATE(VLOOKUP(A594,bangolf_kategorien!$A$2:$B$11,2,FALSE),\": \",D594,\", \",C594)","v":"SM1: Dittrich, Michael"},{"$f":"VLOOKUP(A594,bangolf_kategorien!$A$2:$B$11,2,FALSE)","v":"SM1"}]
["ds",35097,"Renate","Djezri","MSV Würzburg-Löwenbrücke",{"$f":"CONCATENATE(VLOOKUP(A595,bangolf_kategorien!$A$2:$B$11,2,FALSE),\": \",D595,\", \",C595)","v":"D: Djezri, Renate"},{"$f":"VLOOKUP(A595,bangolf_kategorien!$A$2:$B$11,2,FALSE)","v":"D"}]
["pa",67227,"Derrick","Dobberstein","BGC Illertissen",{"$f":"CONCATENATE(VLOOKUP(A596,bangolf_kategorien!$A$2:$B$11,2,FALSE),\": \",D596,\", \",C596)","v":"SCHM: Dobberstein, Derrick"},{"$f":"VLOOKUP(A596,bangolf_kategorien!$A$2:$B$11,2,FALSE)","v":"SCHM"}]
["hs",51818,"Tobias","Dochat","BGV Bergisch Land 1962 / 63",{"$f":"CONCATENATE(VLOOKUP(A597,bangolf_kategorien!$A$2:$B$11,2,FALSE),\": \",D597,\", \",C597)","v":"H: Dochat, Tobias"},{"$f":"VLOOKUP(A597,bangolf_kategorien!$A$2:$B$11,2,FALSE)","v":"H"}]
["dv",3211948,"Gerlinde","Doering","Hobby",{"$f":"CONCATENATE(VLOOKUP(A598,bangolf_kategorien!$A$2:$B$11,2,FALSE),\": \",D598,\", \",C598)","v":"SW2: Doering, Gerlinde"},{"$f":"VLOOKUP(A598,bangolf_kategorien!$A$2:$B$11,2,FALSE)","v":"SW2"}]
["ds",67483,"Stefanie","Dohm","BGSC Bochum 1978",{"$f":"CONCATENATE(VLOOKUP(A599,bangolf_kategorien!$A$2:$B$11,2,FALSE),\": \",D599,\", \",C599)","v":"D: Dohm, Stefanie"},{"$f":"VLOOKUP(A599,bangolf_kategorien!$A$2:$B$11,2,FALSE)","v":"D"}]
["og",42787,"Britta","Dohmen","BGC Uerdingen",{"$f":"CONCATENATE(VLOOKUP(A600,bangolf_kategorien!$A$2:$B$11,2,FALSE),\": \",D600,\", \",C600)","v":"SW1: Dohmen, Britta"},{"$f":"VLOOKUP(A600,bangolf_kategorien!$A$2:$B$11,2,FALSE)","v":"SW1"}]
["hv",29548,"Stefan","Döhner","Preetzer TSV von 1861 Abt. Minigolf",{"$f":"CONCATENATE(VLOOKUP(A601,bangolf_kategorien!$A$2:$B$11,2,FALSE),\": \",D601,\", \",C601)","v":"SM2: Döhner, Stefan"},{"$f":"VLOOKUP(A601,bangolf_kategorien!$A$2:$B$11,2,FALSE)","v":"SM2"}]
["ob",746,"Uwe","Dohrmann","1. MGC 1970 Göttingen",{"$f":"CONCATENATE(VLOOKUP(A602,bangolf_kategorien!$A$2:$B$11,2,FALSE),\": \",D602,\", \",C602)","v":"SM1: Dohrmann, Uwe"},{"$f":"VLOOKUP(A602,bangolf_kategorien!$A$2:$B$11,2,FALSE)","v":"SM1"}]
["og",3212025,"Andrea","Doktor","Hobby",{"$f":"CONCATENATE(VLOOKUP(A603,bangolf_kategorien!$A$2:$B$11,2,FALSE),\": \",D603,\", \",C603)","v":"SW1: Doktor, Andrea"},{"$f":"VLOOKUP(A603,bangolf_kategorien!$A$2:$B$11,2,FALSE)","v":"SW1"}]
["ds",66868,"Marie-Theres","Dolch","1. CGC Rot-Weiß Groß-Umstadt",{"$f":"CONCATENATE(VLOOKUP(A604,bangolf_kategorien!$A$2:$B$11,2,FALSE),\": \",D604,\", \",C604)","v":"D: Dolch, Marie-Theres"},{"$f":"VLOOKUP(A604,bangolf_kategorien!$A$2:$B$11,2,FALSE)","v":"D"}]
["hv",30207,"Peter","Dolch","1. CGC Rot-Weiß Groß-Umstadt",{"$f":"CONCATENATE(VLOOKUP(A605,bangolf_kategorien!$A$2:$B$11,2,FALSE),\": \",D605,\", \",C605)","v":"SM2: Dolch, Peter"},{"$f":"VLOOKUP(A605,bangolf_kategorien!$A$2:$B$11,2,FALSE)","v":"SM2"}]
["hv",25887,"Dietmar","Dolde","1. MGC Metzingen",{"$f":"CONCATENATE(VLOOKUP(A606,bangolf_kategorien!$A$2:$B$11,2,FALSE),\": \",D606,\", \",C606)","v":"SM2: Dolde, Dietmar"},{"$f":"VLOOKUP(A606,bangolf_kategorien!$A$2:$B$11,2,FALSE)","v":"SM2"}]
["hv",3211957,"Peter","Doleys","Hobby",{"$f":"CONCATENATE(VLOOKUP(A607,bangolf_kategorien!$A$2:$B$11,2,FALSE),\": \",D607,\", \",C607)","v":"SM2: Doleys, Peter"},{"$f":"VLOOKUP(A607,bangolf_kategorien!$A$2:$B$11,2,FALSE)","v":"SM2"}]
["hv",36907,"Fred","Doll","1. BGC Celle von 1964",{"$f":"CONCATENATE(VLOOKUP(A608,bangolf_kategorien!$A$2:$B$11,2,FALSE),\": \",D608,\", \",C608)","v":"SM2: Doll, Fred"},{"$f":"VLOOKUP(A608,bangolf_kategorien!$A$2:$B$11,2,FALSE)","v":"SM2"}]
["og",67199,"Silke","Doll","BGSV Bad Homburg",{"$f":"CONCATENATE(VLOOKUP(A609,bangolf_kategorien!$A$2:$B$11,2,FALSE),\": \",D609,\", \",C609)","v":"SW1: Doll, Silke"},{"$f":"VLOOKUP(A609,bangolf_kategorien!$A$2:$B$11,2,FALSE)","v":"SW1"}]
["hs",49414,"Markus","Dolp","BGC Illertissen",{"$f":"CONCATENATE(VLOOKUP(A610,bangolf_kategorien!$A$2:$B$11,2,FALSE),\": \",D610,\", \",C610)","v":"H: Dolp, Markus"},{"$f":"VLOOKUP(A610,bangolf_kategorien!$A$2:$B$11,2,FALSE)","v":"H"}]
["hv",60120,"Jochen","Donath","1. Münchener MGC",{"$f":"CONCATENATE(VLOOKUP(A611,bangolf_kategorien!$A$2:$B$11,2,FALSE),\": \",D611,\", \",C611)","v":"SM2: Donath, Jochen"},{"$f":"VLOOKUP(A611,bangolf_kategorien!$A$2:$B$11,2,FALSE)","v":"SM2"}]
["dv",5240,"Brigitte","Donnig","SG  Weiterstadt 1886",{"$f":"CONCATENATE(VLOOKUP(A612,bangolf_kategorien!$A$2:$B$11,2,FALSE),\": \",D612,\", \",C612)","v":"SW2: Donnig, Brigitte"},{"$f":"VLOOKUP(A612,bangolf_kategorien!$A$2:$B$11,2,FALSE)","v":"SW2"}]
["hv",6905,"Heinz","Donsbach","MSC Bad Godesberg",{"$f":"CONCATENATE(VLOOKUP(A613,bangolf_kategorien!$A$2:$B$11,2,FALSE),\": \",D613,\", \",C613)","v":"SM2: Donsbach, Heinz"},{"$f":"VLOOKUP(A613,bangolf_kategorien!$A$2:$B$11,2,FALSE)","v":"SM2"}]
["ds",35718,"Piroschka","Dorfmeister","MGC Felderbachtal 1964",{"$f":"CONCATENATE(VLOOKUP(A614,bangolf_kategorien!$A$2:$B$11,2,FALSE),\": \",D614,\", \",C614)","v":"D: Dorfmeister, Piroschka"},{"$f":"VLOOKUP(A614,bangolf_kategorien!$A$2:$B$11,2,FALSE)","v":"D"}]
["hs",66811,"Matthias","Dörheit","Elbhavelland, Abt. Minigolfsport",{"$f":"CONCATENATE(VLOOKUP(A615,bangolf_kategorien!$A$2:$B$11,2,FALSE),\": \",D615,\", \",C615)","v":"H: Dörheit, Matthias"},{"$f":"VLOOKUP(A615,bangolf_kategorien!$A$2:$B$11,2,FALSE)","v":"H"}]
["hs",44395,"Kai","Dorner","MGC Dormagen-Brechten",{"$f":"CONCATENATE(VLOOKUP(A616,bangolf_kategorien!$A$2:$B$11,2,FALSE),\": \",D616,\", \",C616)","v":"H: Dorner, Kai"},{"$f":"VLOOKUP(A616,bangolf_kategorien!$A$2:$B$11,2,FALSE)","v":"H"}]
["ob",38011,"Jochen","Dornick","1. MGC Ludwigshafen",{"$f":"CONCATENATE(VLOOKUP(A617,bangolf_kategorien!$A$2:$B$11,2,FALSE),\": \",D617,\", \",C617)","v":"SM1: Dornick, Jochen"},{"$f":"VLOOKUP(A617,bangolf_kategorien!$A$2:$B$11,2,FALSE)","v":"SM1"}]
["hs",38012,"Kevin","Dornick","1. MGC Ludwigshafen",{"$f":"CONCATENATE(VLOOKUP(A618,bangolf_kategorien!$A$2:$B$11,2,FALSE),\": \",D618,\", \",C618)","v":"H: Dornick, Kevin"},{"$f":"VLOOKUP(A618,bangolf_kategorien!$A$2:$B$11,2,FALSE)","v":"H"}]
["og",38013,"Zita","Dornick","1. MGC Ludwigshafen",{"$f":"CONCATENATE(VLOOKUP(A619,bangolf_kategorien!$A$2:$B$11,2,FALSE),\": \",D619,\", \",C619)","v":"SW1: Dornick, Zita"},{"$f":"VLOOKUP(A619,bangolf_kategorien!$A$2:$B$11,2,FALSE)","v":"SW1"}]
["hs",66213,"Werner","Dosch","MC Ilvesheim",{"$f":"CONCATENATE(VLOOKUP(A620,bangolf_kategorien!$A$2:$B$11,2,FALSE),\": \",D620,\", \",C620)","v":"H: Dosch, Werner"},{"$f":"VLOOKUP(A620,bangolf_kategorien!$A$2:$B$11,2,FALSE)","v":"H"}]
["ob",33733,"Michael","Dostert","MSC Bad Godesberg",{"$f":"CONCATENATE(VLOOKUP(A621,bangolf_kategorien!$A$2:$B$11,2,FALSE),\": \",D621,\", \",C621)","v":"SM1: Dostert, Michael"},{"$f":"VLOOKUP(A621,bangolf_kategorien!$A$2:$B$11,2,FALSE)","v":"SM1"}]
["dv",46210,"Ulrike","Dowidat","1. MGC Köln 1961",{"$f":"CONCATENATE(VLOOKUP(A622,bangolf_kategorien!$A$2:$B$11,2,FALSE),\": \",D622,\", \",C622)","v":"SW2: Dowidat, Ulrike"},{"$f":"VLOOKUP(A622,bangolf_kategorien!$A$2:$B$11,2,FALSE)","v":"SW2"}]
["pa",67238,"Lucas","Draber","1. FMGC Lichtenfels 1961",{"$f":"CONCATENATE(VLOOKUP(A623,bangolf_kategorien!$A$2:$B$11,2,FALSE),\": \",D623,\", \",C623)","v":"SCHM: Draber, Lucas"},{"$f":"VLOOKUP(A623,bangolf_kategorien!$A$2:$B$11,2,FALSE)","v":"SCHM"}]
["hv",36775,"Horst","Drautzburg","Minigolfunion Neviges-Odenthal 1968",{"$f":"CONCATENATE(VLOOKUP(A624,bangolf_kategorien!$A$2:$B$11,2,FALSE),\": \",D624,\", \",C624)","v":"SM2: Drautzburg, Horst"},{"$f":"VLOOKUP(A624,bangolf_kategorien!$A$2:$B$11,2,FALSE)","v":"SM2"}]
["dv",66163,"Clementine","Drebert","SG  Weiterstadt 1886",{"$f":"CONCATENATE(VLOOKUP(A625,bangolf_kategorien!$A$2:$B$11,2,FALSE),\": \",D625,\", \",C625)","v":"SW2: Drebert, Clementine"},{"$f":"VLOOKUP(A625,bangolf_kategorien!$A$2:$B$11,2,FALSE)","v":"SW2"}]
["ob",37864,"Erich","Drebert","SG  Weiterstadt 1886",{"$f":"CONCATENATE(VLOOKUP(A626,bangolf_kategorien!$A$2:$B$11,2,FALSE),\": \",D626,\", \",C626)","v":"SM1: Drebert, Erich"},{"$f":"VLOOKUP(A626,bangolf_kategorien!$A$2:$B$11,2,FALSE)","v":"SM1"}]
["og",3211286,"Christine","Drees","Hobby",{"$f":"CONCATENATE(VLOOKUP(A627,bangolf_kategorien!$A$2:$B$11,2,FALSE),\": \",D627,\", \",C627)","v":"SW1: Drees, Christine"},{"$f":"VLOOKUP(A627,bangolf_kategorien!$A$2:$B$11,2,FALSE)","v":"SW1"}]
["hv",5717,"Hans","Dreger","SV 1890 Dreieichenhain, Abt. Bahnengolf",{"$f":"CONCATENATE(VLOOKUP(A628,bangolf_kategorien!$A$2:$B$11,2,FALSE),\": \",D628,\", \",C628)","v":"SM2: Dreger, Hans"},{"$f":"VLOOKUP(A628,bangolf_kategorien!$A$2:$B$11,2,FALSE)","v":"SM2"}]
["hv",23778,"Burkhard","Dreischer","SC Olympia Dortmund",{"$f":"CONCATENATE(VLOOKUP(A629,bangolf_kategorien!$A$2:$B$11,2,FALSE),\": \",D629,\", \",C629)","v":"SM2: Dreischer, Burkhard"},{"$f":"VLOOKUP(A629,bangolf_kategorien!$A$2:$B$11,2,FALSE)","v":"SM2"}]
["hv",26505,"Gerd","Drenkelforth","SC Olympia Dortmund",{"$f":"CONCATENATE(VLOOKUP(A630,bangolf_kategorien!$A$2:$B$11,2,FALSE),\": \",D630,\", \",C630)","v":"SM2: Drenkelforth, Gerd"},{"$f":"VLOOKUP(A630,bangolf_kategorien!$A$2:$B$11,2,FALSE)","v":"SM2"}]
["hv",4510,"Manfred","Drescher","MGC Wetzlar",{"$f":"CONCATENATE(VLOOKUP(A631,bangolf_kategorien!$A$2:$B$11,2,FALSE),\": \",D631,\", \",C631)","v":"SM2: Drescher, Manfred"},{"$f":"VLOOKUP(A631,bangolf_kategorien!$A$2:$B$11,2,FALSE)","v":"SM2"}]
["hv",36519,"Kurt","Dresel","MGC Ingolstadt",{"$f":"CONCATENATE(VLOOKUP(A632,bangolf_kategorien!$A$2:$B$11,2,FALSE),\": \",D632,\", \",C632)","v":"SM2: Dresel, Kurt"},{"$f":"VLOOKUP(A632,bangolf_kategorien!$A$2:$B$11,2,FALSE)","v":"SM2"}]
["hs",35132,"Daniel","Drewes","MGC putter Künzell 1970",{"$f":"CONCATENATE(VLOOKUP(A633,bangolf_kategorien!$A$2:$B$11,2,FALSE),\": \",D633,\", \",C633)","v":"H: Drewes, Daniel"},{"$f":"VLOOKUP(A633,bangolf_kategorien!$A$2:$B$11,2,FALSE)","v":"H"}]
["hv",6203,"Horst","Dreyer","VfL Lüneburg Abt. Bahnengolf",{"$f":"CONCATENATE(VLOOKUP(A634,bangolf_kategorien!$A$2:$B$11,2,FALSE),\": \",D634,\", \",C634)","v":"SM2: Dreyer, Horst"},{"$f":"VLOOKUP(A634,bangolf_kategorien!$A$2:$B$11,2,FALSE)","v":"SM2"}]
["hv",67252,"Alfons","Driemel","MGC Ravensburg-Weingarten",{"$f":"CONCATENATE(VLOOKUP(A635,bangolf_kategorien!$A$2:$B$11,2,FALSE),\": \",D635,\", \",C635)","v":"SM2: Driemel, Alfons"},{"$f":"VLOOKUP(A635,bangolf_kategorien!$A$2:$B$11,2,FALSE)","v":"SM2"}]
["ob",65719,"Andreas","Drobik","BGC Bremen",{"$f":"CONCATENATE(VLOOKUP(A636,bangolf_kategorien!$A$2:$B$11,2,FALSE),\": \",D636,\", \",C636)","v":"SM1: Drobik, Andreas"},{"$f":"VLOOKUP(A636,bangolf_kategorien!$A$2:$B$11,2,FALSE)","v":"SM1"}]
["og",65720,"Kerstin","Drobik","MGV Bremen",{"$f":"CONCATENATE(VLOOKUP(A637,bangolf_kategorien!$A$2:$B$11,2,FALSE),\": \",D637,\", \",C637)","v":"SW1: Drobik, Kerstin"},{"$f":"VLOOKUP(A637,bangolf_kategorien!$A$2:$B$11,2,FALSE)","v":"SW1"}]
["ob",66043,"Peter","Droste","BGSV Bad Homburg",{"$f":"CONCATENATE(VLOOKUP(A638,bangolf_kategorien!$A$2:$B$11,2,FALSE),\": \",D638,\", \",C638)","v":"SM1: Droste, Peter"},{"$f":"VLOOKUP(A638,bangolf_kategorien!$A$2:$B$11,2,FALSE)","v":"SM1"}]
["hv",66152,"Günter","Drostel","1. Minigolf-Club Rheinhausen",{"$f":"CONCATENATE(VLOOKUP(A639,bangolf_kategorien!$A$2:$B$11,2,FALSE),\": \",D639,\", \",C639)","v":"SM2: Drostel, Günter"},{"$f":"VLOOKUP(A639,bangolf_kategorien!$A$2:$B$11,2,FALSE)","v":"SM2"}]
["hs",36524,"Sebastian","Dudenhöffer","BSV Inzlingen 1979",{"$f":"CONCATENATE(VLOOKUP(A640,bangolf_kategorien!$A$2:$B$11,2,FALSE),\": \",D640,\", \",C640)","v":"H: Dudenhöffer, Sebastian"},{"$f":"VLOOKUP(A640,bangolf_kategorien!$A$2:$B$11,2,FALSE)","v":"H"}]
["ob",43595,"Jürgen","Duensing","BGC Diepholz",{"$f":"CONCATENATE(VLOOKUP(A641,bangolf_kategorien!$A$2:$B$11,2,FALSE),\": \",D641,\", \",C641)","v":"SM1: Duensing, Jürgen"},{"$f":"VLOOKUP(A641,bangolf_kategorien!$A$2:$B$11,2,FALSE)","v":"SM1"}]
["ob",65469,"Norbert","Dullau","1. MGC Gelsenkirchen",{"$f":"CONCATENATE(VLOOKUP(A642,bangolf_kategorien!$A$2:$B$11,2,FALSE),\": \",D642,\", \",C642)","v":"SM1: Dullau, Norbert"},{"$f":"VLOOKUP(A642,bangolf_kategorien!$A$2:$B$11,2,FALSE)","v":"SM1"}]
["hv",3826,"Winfried","Dümmler","1. KC Homburg-Saar 1967",{"$f":"CONCATENATE(VLOOKUP(A643,bangolf_kategorien!$A$2:$B$11,2,FALSE),\": \",D643,\", \",C643)","v":"SM2: Dümmler, Winfried"},{"$f":"VLOOKUP(A643,bangolf_kategorien!$A$2:$B$11,2,FALSE)","v":"SM2"}]
["hs",67108,"Michael","Dunkel","1. BGC Landshut",{"$f":"CONCATENATE(VLOOKUP(A644,bangolf_kategorien!$A$2:$B$11,2,FALSE),\": \",D644,\", \",C644)","v":"H: Dunkel, Michael"},{"$f":"VLOOKUP(A644,bangolf_kategorien!$A$2:$B$11,2,FALSE)","v":"H"}]
["ds",67477,"Christina","Dunkelmann","BGC Oberhausen",{"$f":"CONCATENATE(VLOOKUP(A645,bangolf_kategorien!$A$2:$B$11,2,FALSE),\": \",D645,\", \",C645)","v":"D: Dunkelmann, Christina"},{"$f":"VLOOKUP(A645,bangolf_kategorien!$A$2:$B$11,2,FALSE)","v":"D"}]
["dv",43951,"Heike","Dunker","SSC Halver",{"$f":"CONCATENATE(VLOOKUP(A646,bangolf_kategorien!$A$2:$B$11,2,FALSE),\": \",D646,\", \",C646)","v":"SW2: Dunker, Heike"},{"$f":"VLOOKUP(A646,bangolf_kategorien!$A$2:$B$11,2,FALSE)","v":"SW2"}]
["hv",18014,"Klaus","Dunker","SSC Halver",{"$f":"CONCATENATE(VLOOKUP(A647,bangolf_kategorien!$A$2:$B$11,2,FALSE),\": \",D647,\", \",C647)","v":"SM2: Dunker, Klaus"},{"$f":"VLOOKUP(A647,bangolf_kategorien!$A$2:$B$11,2,FALSE)","v":"SM2"}]
["hs",3121044,"Maik","Dunker","Hobby",{"$f":"CONCATENATE(VLOOKUP(A648,bangolf_kategorien!$A$2:$B$11,2,FALSE),\": \",D648,\", \",C648)","v":"H: Dunker, Maik"},{"$f":"VLOOKUP(A648,bangolf_kategorien!$A$2:$B$11,2,FALSE)","v":"H"}]
["hs",37832,"Sven","Dunker","VfB Osnabrück",{"$f":"CONCATENATE(VLOOKUP(A649,bangolf_kategorien!$A$2:$B$11,2,FALSE),\": \",D649,\", \",C649)","v":"H: Dunker, Sven"},{"$f":"VLOOKUP(A649,bangolf_kategorien!$A$2:$B$11,2,FALSE)","v":"H"}]
["hv",38529,"Ralf","Durm","BGC Bildstock",{"$f":"CONCATENATE(VLOOKUP(A650,bangolf_kategorien!$A$2:$B$11,2,FALSE),\": \",D650,\", \",C650)","v":"SM2: Durm, Ralf"},{"$f":"VLOOKUP(A650,bangolf_kategorien!$A$2:$B$11,2,FALSE)","v":"SM2"}]
["hv",61825,"Otto","Duzella","SGC Hagen",{"$f":"CONCATENATE(VLOOKUP(A651,bangolf_kategorien!$A$2:$B$11,2,FALSE),\": \",D651,\", \",C651)","v":"SM2: Duzella, Otto"},{"$f":"VLOOKUP(A651,bangolf_kategorien!$A$2:$B$11,2,FALSE)","v":"SM2"}]
["hs",36496,"Nick-Manuel","Eberle","MGC Rot-Weiß Wanne-Eickel",{"$f":"CONCATENATE(VLOOKUP(A652,bangolf_kategorien!$A$2:$B$11,2,FALSE),\": \",D652,\", \",C652)","v":"H: Eberle, Nick-Manuel"},{"$f":"VLOOKUP(A652,bangolf_kategorien!$A$2:$B$11,2,FALSE)","v":"H"}]
["hv",45272,"Alfred","Ebert","BGS Hardenberg-Pötter",{"$f":"CONCATENATE(VLOOKUP(A653,bangolf_kategorien!$A$2:$B$11,2,FALSE),\": \",D653,\", \",C653)","v":"SM2: Ebert, Alfred"},{"$f":"VLOOKUP(A653,bangolf_kategorien!$A$2:$B$11,2,FALSE)","v":"SM2"}]
["ob",26534,"Robert","Ebi","MGF Hilzingen 80",{"$f":"CONCATENATE(VLOOKUP(A654,bangolf_kategorien!$A$2:$B$11,2,FALSE),\": \",D654,\", \",C654)","v":"SM1: Ebi, Robert"},{"$f":"VLOOKUP(A654,bangolf_kategorien!$A$2:$B$11,2,FALSE)","v":"SM1"}]
["og",26302,"Sabine","Ebi","MGF Hilzingen 80",{"$f":"CONCATENATE(VLOOKUP(A655,bangolf_kategorien!$A$2:$B$11,2,FALSE),\": \",D655,\", \",C655)","v":"SW1: Ebi, Sabine"},{"$f":"VLOOKUP(A655,bangolf_kategorien!$A$2:$B$11,2,FALSE)","v":"SW1"}]
["ob",46087,"Hans-Joachim","Eckerle","1. BGC Paderborn",{"$f":"CONCATENATE(VLOOKUP(A656,bangolf_kategorien!$A$2:$B$11,2,FALSE),\": \",D656,\", \",C656)","v":"SM1: Eckerle, Hans-Joachim"},{"$f":"VLOOKUP(A656,bangolf_kategorien!$A$2:$B$11,2,FALSE)","v":"SM1"}]
["ob",3212546,"Sven","Eckermann","Hobby",{"$f":"CONCATENATE(VLOOKUP(A657,bangolf_kategorien!$A$2:$B$11,2,FALSE),\": \",D657,\", \",C657)","v":"SM1: Eckermann, Sven"},{"$f":"VLOOKUP(A657,bangolf_kategorien!$A$2:$B$11,2,FALSE)","v":"SM1"}]
["hs",36468,"Manuel","Eckert","1. KC Homburg-Saar 1967",{"$f":"CONCATENATE(VLOOKUP(A658,bangolf_kategorien!$A$2:$B$11,2,FALSE),\": \",D658,\", \",C658)","v":"H: Eckert, Manuel"},{"$f":"VLOOKUP(A658,bangolf_kategorien!$A$2:$B$11,2,FALSE)","v":"H"}]
["hv",62030,"Horst","Eckloff","MGC Olympia Kiel",{"$f":"CONCATENATE(VLOOKUP(A659,bangolf_kategorien!$A$2:$B$11,2,FALSE),\": \",D659,\", \",C659)","v":"SM2: Eckloff, Horst"},{"$f":"VLOOKUP(A659,bangolf_kategorien!$A$2:$B$11,2,FALSE)","v":"SM2"}]
["hv",66495,"Helmut","Eckstein","MGC Wolnzach",{"$f":"CONCATENATE(VLOOKUP(A660,bangolf_kategorien!$A$2:$B$11,2,FALSE),\": \",D660,\", \",C660)","v":"SM2: Eckstein, Helmut"},{"$f":"VLOOKUP(A660,bangolf_kategorien!$A$2:$B$11,2,FALSE)","v":"SM2"}]
["dv",66496,"Sonja","Eckstein","MGC Wolnzach",{"$f":"CONCATENATE(VLOOKUP(A661,bangolf_kategorien!$A$2:$B$11,2,FALSE),\": \",D661,\", \",C661)","v":"SW2: Eckstein, Sonja"},{"$f":"VLOOKUP(A661,bangolf_kategorien!$A$2:$B$11,2,FALSE)","v":"SW2"}]
["ob",27480,"Jürgen","Edelmann","BGC Heilbronn",{"$f":"CONCATENATE(VLOOKUP(A662,bangolf_kategorien!$A$2:$B$11,2,FALSE),\": \",D662,\", \",C662)","v":"SM1: Edelmann, Jürgen"},{"$f":"VLOOKUP(A662,bangolf_kategorien!$A$2:$B$11,2,FALSE)","v":"SM1"}]
["og",38404,"Gina","Edsen","MGC Harrislee-Wassersleben",{"$f":"CONCATENATE(VLOOKUP(A663,bangolf_kategorien!$A$2:$B$11,2,FALSE),\": \",D663,\", \",C663)","v":"SW1: Edsen, Gina"},{"$f":"VLOOKUP(A663,bangolf_kategorien!$A$2:$B$11,2,FALSE)","v":"SW1"}]
["og",67312,"Cornelia","Effenberger","MGC Bad Homburg vdH",{"$f":"CONCATENATE(VLOOKUP(A664,bangolf_kategorien!$A$2:$B$11,2,FALSE),\": \",D664,\", \",C664)","v":"SW1: Effenberger, Cornelia"},{"$f":"VLOOKUP(A664,bangolf_kategorien!$A$2:$B$11,2,FALSE)","v":"SW1"}]
["hv",67313,"Thomas","Effenberger","MGC Bad Homburg vdH",{"$f":"CONCATENATE(VLOOKUP(A665,bangolf_kategorien!$A$2:$B$11,2,FALSE),\": \",D665,\", \",C665)","v":"SM2: Effenberger, Thomas"},{"$f":"VLOOKUP(A665,bangolf_kategorien!$A$2:$B$11,2,FALSE)","v":"SM2"}]
["hv",4181,"Erich","Egger","MC Ilvesheim",{"$f":"CONCATENATE(VLOOKUP(A666,bangolf_kategorien!$A$2:$B$11,2,FALSE),\": \",D666,\", \",C666)","v":"SM2: Egger, Erich"},{"$f":"VLOOKUP(A666,bangolf_kategorien!$A$2:$B$11,2,FALSE)","v":"SM2"}]
["ob",46406,"Hans-Jürgen","Egger","BGC Neutraubling",{"$f":"CONCATENATE(VLOOKUP(A667,bangolf_kategorien!$A$2:$B$11,2,FALSE),\": \",D667,\", \",C667)","v":"SM1: Egger, Hans-Jürgen"},{"$f":"VLOOKUP(A667,bangolf_kategorien!$A$2:$B$11,2,FALSE)","v":"SM1"}]
["dv",18298,"Irene","Egger","MC Ilvesheim",{"$f":"CONCATENATE(VLOOKUP(A668,bangolf_kategorien!$A$2:$B$11,2,FALSE),\": \",D668,\", \",C668)","v":"SW2: Egger, Irene"},{"$f":"VLOOKUP(A668,bangolf_kategorien!$A$2:$B$11,2,FALSE)","v":"SW2"}]
["hv",48601,"Gerd","Ehlebracht","1. BGC Paderborn",{"$f":"CONCATENATE(VLOOKUP(A669,bangolf_kategorien!$A$2:$B$11,2,FALSE),\": \",D669,\", \",C669)","v":"SM2: Ehlebracht, Gerd"},{"$f":"VLOOKUP(A669,bangolf_kategorien!$A$2:$B$11,2,FALSE)","v":"SM2"}]
["ob",3106831,"Florian","Ehlers","Hobby",{"$f":"CONCATENATE(VLOOKUP(A670,bangolf_kategorien!$A$2:$B$11,2,FALSE),\": \",D670,\", \",C670)","v":"SM1: Ehlers, Florian"},{"$f":"VLOOKUP(A670,bangolf_kategorien!$A$2:$B$11,2,FALSE)","v":"SM1"}]
["hs",34426,"Sascha","Ehlers","1. MGC Peine von 1965",{"$f":"CONCATENATE(VLOOKUP(A671,bangolf_kategorien!$A$2:$B$11,2,FALSE),\": \",D671,\", \",C671)","v":"H: Ehlers, Sascha"},{"$f":"VLOOKUP(A671,bangolf_kategorien!$A$2:$B$11,2,FALSE)","v":"H"}]
["hv",33996,"Ulrich","Ehlert","HMC Büttgen",{"$f":"CONCATENATE(VLOOKUP(A672,bangolf_kategorien!$A$2:$B$11,2,FALSE),\": \",D672,\", \",C672)","v":"SM2: Ehlert, Ulrich"},{"$f":"VLOOKUP(A672,bangolf_kategorien!$A$2:$B$11,2,FALSE)","v":"SM2"}]
["hs",34006,"Christoph","Ehm","1. BGC Celle von 1964",{"$f":"CONCATENATE(VLOOKUP(A673,bangolf_kategorien!$A$2:$B$11,2,FALSE),\": \",D673,\", \",C673)","v":"H: Ehm, Christoph"},{"$f":"VLOOKUP(A673,bangolf_kategorien!$A$2:$B$11,2,FALSE)","v":"H"}]
["ds",35737,"Jasmin","Ehm","1. MGC 1970 Göttingen",{"$f":"CONCATENATE(VLOOKUP(A674,bangolf_kategorien!$A$2:$B$11,2,FALSE),\": \",D674,\", \",C674)","v":"D: Ehm, Jasmin"},{"$f":"VLOOKUP(A674,bangolf_kategorien!$A$2:$B$11,2,FALSE)","v":"D"}]
["og",46898,"Marion","Ehm","1. BGC Celle von 1964",{"$f":"CONCATENATE(VLOOKUP(A675,bangolf_kategorien!$A$2:$B$11,2,FALSE),\": \",D675,\", \",C675)","v":"SW1: Ehm, Marion"},{"$f":"VLOOKUP(A675,bangolf_kategorien!$A$2:$B$11,2,FALSE)","v":"SW1"}]
["ob",34315,"Josef","Ehrenberg","MGC \"Stahlquelle\" Bad Bocklet",{"$f":"CONCATENATE(VLOOKUP(A676,bangolf_kategorien!$A$2:$B$11,2,FALSE),\": \",D676,\", \",C676)","v":"SM1: Ehrenberg, Josef"},{"$f":"VLOOKUP(A676,bangolf_kategorien!$A$2:$B$11,2,FALSE)","v":"SM1"}]
["dv",3634,"Gerda","Ehresmann","1. MGC Ludwigshafen",{"$f":"CONCATENATE(VLOOKUP(A677,bangolf_kategorien!$A$2:$B$11,2,FALSE),\": \",D677,\", \",C677)","v":"SW2: Ehresmann, Gerda"},{"$f":"VLOOKUP(A677,bangolf_kategorien!$A$2:$B$11,2,FALSE)","v":"SW2"}]
["hv",30000,"Volkmar","Ehrhardt","1. BGC Celle von 1964",{"$f":"CONCATENATE(VLOOKUP(A678,bangolf_kategorien!$A$2:$B$11,2,FALSE),\": \",D678,\", \",C678)","v":"SM2: Ehrhardt, Volkmar"},{"$f":"VLOOKUP(A678,bangolf_kategorien!$A$2:$B$11,2,FALSE)","v":"SM2"}]
["dj",67144,"Gina","Ehrich","SV Lurup Abt. Bahnengolf",{"$f":"CONCATENATE(VLOOKUP(A679,bangolf_kategorien!$A$2:$B$11,2,FALSE),\": \",D679,\", \",C679)","v":"JW: Ehrich, Gina"},{"$f":"VLOOKUP(A679,bangolf_kategorien!$A$2:$B$11,2,FALSE)","v":"JW"}]
["ob",44758,"Marcus","Ehrlich","KGC  Waldstadion Frankfurt am Main",{"$f":"CONCATENATE(VLOOKUP(A680,bangolf_kategorien!$A$2:$B$11,2,FALSE),\": \",D680,\", \",C680)","v":"SM1: Ehrlich, Marcus"},{"$f":"VLOOKUP(A680,bangolf_kategorien!$A$2:$B$11,2,FALSE)","v":"SM1"}]
["hs",29692,"Steffen","Ehrlich","BGC Neutraubling",{"$f":"CONCATENATE(VLOOKUP(A681,bangolf_kategorien!$A$2:$B$11,2,FALSE),\": \",D681,\", \",C681)","v":"H: Ehrlich, Steffen"},{"$f":"VLOOKUP(A681,bangolf_kategorien!$A$2:$B$11,2,FALSE)","v":"H"}]
["ob",66759,"Maximilian","Ehrnstraßer","MGC Ingolstadt",{"$f":"CONCATENATE(VLOOKUP(A682,bangolf_kategorien!$A$2:$B$11,2,FALSE),\": \",D682,\", \",C682)","v":"SM1: Ehrnstraßer, Maximilian"},{"$f":"VLOOKUP(A682,bangolf_kategorien!$A$2:$B$11,2,FALSE)","v":"SM1"}]
["hv",21680,"Karl-Heinz","Eichert","1. MGC Ladenburg",{"$f":"CONCATENATE(VLOOKUP(A683,bangolf_kategorien!$A$2:$B$11,2,FALSE),\": \",D683,\", \",C683)","v":"SM2: Eichert, Karl-Heinz"},{"$f":"VLOOKUP(A683,bangolf_kategorien!$A$2:$B$11,2,FALSE)","v":"SM2"}]
["dv",66259,"Bärbel","Eichhof","MGC Bad Salzuflen",{"$f":"CONCATENATE(VLOOKUP(A684,bangolf_kategorien!$A$2:$B$11,2,FALSE),\": \",D684,\", \",C684)","v":"SW2: Eichhof, Bärbel"},{"$f":"VLOOKUP(A684,bangolf_kategorien!$A$2:$B$11,2,FALSE)","v":"SW2"}]
["hv",20044,"Herbert","Eichhorn","MSV Bad Kreuznach",{"$f":"CONCATENATE(VLOOKUP(A685,bangolf_kategorien!$A$2:$B$11,2,FALSE),\": \",D685,\", \",C685)","v":"SM2: Eichhorn, Herbert"},{"$f":"VLOOKUP(A685,bangolf_kategorien!$A$2:$B$11,2,FALSE)","v":"SM2"}]
["hv",29197,"Joachim","Eichhorn","1. MGC Mainz",{"$f":"CONCATENATE(VLOOKUP(A686,bangolf_kategorien!$A$2:$B$11,2,FALSE),\": \",D686,\", \",C686)","v":"SM2: Eichhorn, Joachim"},{"$f":"VLOOKUP(A686,bangolf_kategorien!$A$2:$B$11,2,FALSE)","v":"SM2"}]
["og",67541,"Martina","Eichner","MGC Murnau am Staffelsee",{"$f":"CONCATENATE(VLOOKUP(A687,bangolf_kategorien!$A$2:$B$11,2,FALSE),\": \",D687,\", \",C687)","v":"SW1: Eichner, Martina"},{"$f":"VLOOKUP(A687,bangolf_kategorien!$A$2:$B$11,2,FALSE)","v":"SW1"}]
["hs",36574,"Oliver","Eid","MSV Bad Kreuznach",{"$f":"CONCATENATE(VLOOKUP(A688,bangolf_kategorien!$A$2:$B$11,2,FALSE),\": \",D688,\", \",C688)","v":"H: Eid, Oliver"},{"$f":"VLOOKUP(A688,bangolf_kategorien!$A$2:$B$11,2,FALSE)","v":"H"}]
["hs",36575,"Steffen","Eid","MSV Bad Kreuznach",{"$f":"CONCATENATE(VLOOKUP(A689,bangolf_kategorien!$A$2:$B$11,2,FALSE),\": \",D689,\", \",C689)","v":"H: Eid, Steffen"},{"$f":"VLOOKUP(A689,bangolf_kategorien!$A$2:$B$11,2,FALSE)","v":"H"}]
["hs",33707,"Marco","Eigenbrod","SG Arheilgen Abt. Bahnengolf",{"$f":"CONCATENATE(VLOOKUP(A690,bangolf_kategorien!$A$2:$B$11,2,FALSE),\": \",D690,\", \",C690)","v":"H: Eigenbrod, Marco"},{"$f":"VLOOKUP(A690,bangolf_kategorien!$A$2:$B$11,2,FALSE)","v":"H"}]
["hv",49368,"Norbert","Eilert","VfM Bottrop",{"$f":"CONCATENATE(VLOOKUP(A691,bangolf_kategorien!$A$2:$B$11,2,FALSE),\": \",D691,\", \",C691)","v":"SM2: Eilert, Norbert"},{"$f":"VLOOKUP(A691,bangolf_kategorien!$A$2:$B$11,2,FALSE)","v":"SM2"}]
["dv",49367,"Sigrid","Eilert","VfM Bottrop",{"$f":"CONCATENATE(VLOOKUP(A692,bangolf_kategorien!$A$2:$B$11,2,FALSE),\": \",D692,\", \",C692)","v":"SW2: Eilert, Sigrid"},{"$f":"VLOOKUP(A692,bangolf_kategorien!$A$2:$B$11,2,FALSE)","v":"SW2"}]
["dv",31727,"Frauke","Eilts","MSK Olching",{"$f":"CONCATENATE(VLOOKUP(A693,bangolf_kategorien!$A$2:$B$11,2,FALSE),\": \",D693,\", \",C693)","v":"SW2: Eilts, Frauke"},{"$f":"VLOOKUP(A693,bangolf_kategorien!$A$2:$B$11,2,FALSE)","v":"SW2"}]
["hv",67308,"Jost-Ulrich","Eimer","MGC Nümbrecht",{"$f":"CONCATENATE(VLOOKUP(A694,bangolf_kategorien!$A$2:$B$11,2,FALSE),\": \",D694,\", \",C694)","v":"SM2: Eimer, Jost-Ulrich"},{"$f":"VLOOKUP(A694,bangolf_kategorien!$A$2:$B$11,2,FALSE)","v":"SM2"}]
["hv",48283,"Dominikus","Eisele","MGF Steinbruch Kempten",{"$f":"CONCATENATE(VLOOKUP(A695,bangolf_kategorien!$A$2:$B$11,2,FALSE),\": \",D695,\", \",C695)","v":"SM2: Eisele, Dominikus"},{"$f":"VLOOKUP(A695,bangolf_kategorien!$A$2:$B$11,2,FALSE)","v":"SM2"}]
["og",36867,"Sabine","Eisele","MGF Steinbruch Kempten",{"$f":"CONCATENATE(VLOOKUP(A696,bangolf_kategorien!$A$2:$B$11,2,FALSE),\": \",D696,\", \",C696)","v":"SW1: Eisele, Sabine"},{"$f":"VLOOKUP(A696,bangolf_kategorien!$A$2:$B$11,2,FALSE)","v":"SW1"}]
["hv",67376,"Hans","Eisen","Minigolf-Club Diessen",{"$f":"CONCATENATE(VLOOKUP(A697,bangolf_kategorien!$A$2:$B$11,2,FALSE),\": \",D697,\", \",C697)","v":"SM2: Eisen, Hans"},{"$f":"VLOOKUP(A697,bangolf_kategorien!$A$2:$B$11,2,FALSE)","v":"SM2"}]
["hs",64032,"Markus","Eisen","Minigolf-Club Diessen",{"$f":"CONCATENATE(VLOOKUP(A698,bangolf_kategorien!$A$2:$B$11,2,FALSE),\": \",D698,\", \",C698)","v":"H: Eisen, Markus"},{"$f":"VLOOKUP(A698,bangolf_kategorien!$A$2:$B$11,2,FALSE)","v":"H"}]
["ob",40364,"Peter","Eisenberger","OMGC Ingolstadt",{"$f":"CONCATENATE(VLOOKUP(A699,bangolf_kategorien!$A$2:$B$11,2,FALSE),\": \",D699,\", \",C699)","v":"SM1: Eisenberger, Peter"},{"$f":"VLOOKUP(A699,bangolf_kategorien!$A$2:$B$11,2,FALSE)","v":"SM1"}]
["ob",3326460,"Jens","Eisenmann","Hobby",{"$f":"CONCATENATE(VLOOKUP(A700,bangolf_kategorien!$A$2:$B$11,2,FALSE),\": \",D700,\", \",C700)","v":"SM1: Eisenmann, Jens"},{"$f":"VLOOKUP(A700,bangolf_kategorien!$A$2:$B$11,2,FALSE)","v":"SM1"}]
["hv",34412,"Hans-Dieter","Eiserfey","1. BGC Wesseling 1975",{"$f":"CONCATENATE(VLOOKUP(A701,bangolf_kategorien!$A$2:$B$11,2,FALSE),\": \",D701,\", \",C701)","v":"SM2: Eiserfey, Hans-Dieter"},{"$f":"VLOOKUP(A701,bangolf_kategorien!$A$2:$B$11,2,FALSE)","v":"SM2"}]
["ob",24693,"Bernd","Eisermann","MGC \"AS\" Witten 1963",{"$f":"CONCATENATE(VLOOKUP(A702,bangolf_kategorien!$A$2:$B$11,2,FALSE),\": \",D702,\", \",C702)","v":"SM1: Eisermann, Bernd"},{"$f":"VLOOKUP(A702,bangolf_kategorien!$A$2:$B$11,2,FALSE)","v":"SM1"}]
["hv",35449,"Dirk","Eisleben","BGC Schloß Paffendorf",{"$f":"CONCATENATE(VLOOKUP(A703,bangolf_kategorien!$A$2:$B$11,2,FALSE),\": \",D703,\", \",C703)","v":"SM2: Eisleben, Dirk"},{"$f":"VLOOKUP(A703,bangolf_kategorien!$A$2:$B$11,2,FALSE)","v":"SM2"}]
["dv",4338,"Elfriede","Ekholm","Miniaturgolf Sportclub Schriesheim",{"$f":"CONCATENATE(VLOOKUP(A704,bangolf_kategorien!$A$2:$B$11,2,FALSE),\": \",D704,\", \",C704)","v":"SW2: Ekholm, Elfriede"},{"$f":"VLOOKUP(A704,bangolf_kategorien!$A$2:$B$11,2,FALSE)","v":"SW2"}]
["hs",49246,"Karim","El Gharbi","MSV Bad Kreuznach",{"$f":"CONCATENATE(VLOOKUP(A705,bangolf_kategorien!$A$2:$B$11,2,FALSE),\": \",D705,\", \",C705)","v":"H: El Gharbi, Karim"},{"$f":"VLOOKUP(A705,bangolf_kategorien!$A$2:$B$11,2,FALSE)","v":"H"}]
["ds",27492,"Karin","Elbe","MGC 1978 Remseck",{"$f":"CONCATENATE(VLOOKUP(A706,bangolf_kategorien!$A$2:$B$11,2,FALSE),\": \",D706,\", \",C706)","v":"D: Elbe, Karin"},{"$f":"VLOOKUP(A706,bangolf_kategorien!$A$2:$B$11,2,FALSE)","v":"D"}]
["hs",47500,"Markus","Elbe","MGC 1978 Remseck",{"$f":"CONCATENATE(VLOOKUP(A707,bangolf_kategorien!$A$2:$B$11,2,FALSE),\": \",D707,\", \",C707)","v":"H: Elbe, Markus"},{"$f":"VLOOKUP(A707,bangolf_kategorien!$A$2:$B$11,2,FALSE)","v":"H"}]
["hs",29690,"Jörg","Elbert","MGC Rot-Weiß Wanne-Eickel",{"$f":"CONCATENATE(VLOOKUP(A708,bangolf_kategorien!$A$2:$B$11,2,FALSE),\": \",D708,\", \",C708)","v":"H: Elbert, Jörg"},{"$f":"VLOOKUP(A708,bangolf_kategorien!$A$2:$B$11,2,FALSE)","v":"H"}]
["hs",38449,"Nikolei","Elich","SV Lurup Abt. Bahnengolf",{"$f":"CONCATENATE(VLOOKUP(A709,bangolf_kategorien!$A$2:$B$11,2,FALSE),\": \",D709,\", \",C709)","v":"H: Elich, Nikolei"},{"$f":"VLOOKUP(A709,bangolf_kategorien!$A$2:$B$11,2,FALSE)","v":"H"}]
["hs",28184,"Tim","Eller","TSV Pfungstadt Abt. Bahnengolf",{"$f":"CONCATENATE(VLOOKUP(A710,bangolf_kategorien!$A$2:$B$11,2,FALSE),\": \",D710,\", \",C710)","v":"H: Eller, Tim"},{"$f":"VLOOKUP(A710,bangolf_kategorien!$A$2:$B$11,2,FALSE)","v":"H"}]
["hv",67217,"Klaus-Martin","Ellerbrock","MGC Felderbachtal 1964",{"$f":"CONCATENATE(VLOOKUP(A711,bangolf_kategorien!$A$2:$B$11,2,FALSE),\": \",D711,\", \",C711)","v":"SM2: Ellerbrock, Klaus-Martin"},{"$f":"VLOOKUP(A711,bangolf_kategorien!$A$2:$B$11,2,FALSE)","v":"SM2"}]
["ob",35197,"Harry","Ellhoff","1. MGC Peine von 1965",{"$f":"CONCATENATE(VLOOKUP(A712,bangolf_kategorien!$A$2:$B$11,2,FALSE),\": \",D712,\", \",C712)","v":"SM1: Ellhoff, Harry"},{"$f":"VLOOKUP(A712,bangolf_kategorien!$A$2:$B$11,2,FALSE)","v":"SM1"}]
["hv",37837,"Gerald","Elliot","MGC Bad Homburg vdH",{"$f":"CONCATENATE(VLOOKUP(A713,bangolf_kategorien!$A$2:$B$11,2,FALSE),\": \",D713,\", \",C713)","v":"SM2: Elliot, Gerald"},{"$f":"VLOOKUP(A713,bangolf_kategorien!$A$2:$B$11,2,FALSE)","v":"SM2"}]
["ob",48907,"Thomas","Elmer","Minigolfunion Neviges-Odenthal 1968",{"$f":"CONCATENATE(VLOOKUP(A714,bangolf_kategorien!$A$2:$B$11,2,FALSE),\": \",D714,\", \",C714)","v":"SM1: Elmer, Thomas"},{"$f":"VLOOKUP(A714,bangolf_kategorien!$A$2:$B$11,2,FALSE)","v":"SM1"}]
["ob",45330,"Robert","Elst","1. MGC Bamberg",{"$f":"CONCATENATE(VLOOKUP(A715,bangolf_kategorien!$A$2:$B$11,2,FALSE),\": \",D715,\", \",C715)","v":"SM1: Elst, Robert"},{"$f":"VLOOKUP(A715,bangolf_kategorien!$A$2:$B$11,2,FALSE)","v":"SM1"}]
["ob",67523,"Thomas","Emde","1. MGC Kassel 1964",{"$f":"CONCATENATE(VLOOKUP(A716,bangolf_kategorien!$A$2:$B$11,2,FALSE),\": \",D716,\", \",C716)","v":"SM1: Emde, Thomas"},{"$f":"VLOOKUP(A716,bangolf_kategorien!$A$2:$B$11,2,FALSE)","v":"SM1"}]
["og",66974,"Michaela","Emich","1. MC Weinheim",{"$f":"CONCATENATE(VLOOKUP(A717,bangolf_kategorien!$A$2:$B$11,2,FALSE),\": \",D717,\", \",C717)","v":"SW1: Emich, Michaela"},{"$f":"VLOOKUP(A717,bangolf_kategorien!$A$2:$B$11,2,FALSE)","v":"SW1"}]
["hv",66975,"Peter","Emich","1. MC Weinheim",{"$f":"CONCATENATE(VLOOKUP(A718,bangolf_kategorien!$A$2:$B$11,2,FALSE),\": \",D718,\", \",C718)","v":"SM2: Emich, Peter"},{"$f":"VLOOKUP(A718,bangolf_kategorien!$A$2:$B$11,2,FALSE)","v":"SM2"}]
["hs",38419,"Tim","Emmendörffer","MGC Rot-Weiß Wanne-Eickel",{"$f":"CONCATENATE(VLOOKUP(A719,bangolf_kategorien!$A$2:$B$11,2,FALSE),\": \",D719,\", \",C719)","v":"H: Emmendörffer, Tim"},{"$f":"VLOOKUP(A719,bangolf_kategorien!$A$2:$B$11,2,FALSE)","v":"H"}]
["ds",67247,"Brigitte","Emmerich","MGV Ansbach",{"$f":"CONCATENATE(VLOOKUP(A720,bangolf_kategorien!$A$2:$B$11,2,FALSE),\": \",D720,\", \",C720)","v":"D: Emmerich, Brigitte"},{"$f":"VLOOKUP(A720,bangolf_kategorien!$A$2:$B$11,2,FALSE)","v":"D"}]
["fa",67246,"Lea","Emmerich","MGV Ansbach",{"$f":"CONCATENATE(VLOOKUP(A721,bangolf_kategorien!$A$2:$B$11,2,FALSE),\": \",D721,\", \",C721)","v":"SCHW: Emmerich, Lea"},{"$f":"VLOOKUP(A721,bangolf_kategorien!$A$2:$B$11,2,FALSE)","v":"SCHW"}]
["fa",67201,"Lilly","Emmerich","BGC Bildstock",{"$f":"CONCATENATE(VLOOKUP(A722,bangolf_kategorien!$A$2:$B$11,2,FALSE),\": \",D722,\", \",C722)","v":"SCHW: Emmerich, Lilly"},{"$f":"VLOOKUP(A722,bangolf_kategorien!$A$2:$B$11,2,FALSE)","v":"SCHW"}]
["ds",67131,"Sina","Emmerich","BGC Bildstock",{"$f":"CONCATENATE(VLOOKUP(A723,bangolf_kategorien!$A$2:$B$11,2,FALSE),\": \",D723,\", \",C723)","v":"D: Emmerich, Sina"},{"$f":"VLOOKUP(A723,bangolf_kategorien!$A$2:$B$11,2,FALSE)","v":"D"}]
["hs",67329,"David","Emuze","Minigolfclub Karlshagen",{"$f":"CONCATENATE(VLOOKUP(A724,bangolf_kategorien!$A$2:$B$11,2,FALSE),\": \",D724,\", \",C724)","v":"H: Emuze, David"},{"$f":"VLOOKUP(A724,bangolf_kategorien!$A$2:$B$11,2,FALSE)","v":"H"}]
["pa",67328,"Thabo","Emuze","Minigolfclub Karlshagen",{"$f":"CONCATENATE(VLOOKUP(A725,bangolf_kategorien!$A$2:$B$11,2,FALSE),\": \",D725,\", \",C725)","v":"SCHM: Emuze, Thabo"},{"$f":"VLOOKUP(A725,bangolf_kategorien!$A$2:$B$11,2,FALSE)","v":"SCHM"}]
["dv",5082,"Hannelore","Endres","1. FMGC Lichtenfels 1961",{"$f":"CONCATENATE(VLOOKUP(A726,bangolf_kategorien!$A$2:$B$11,2,FALSE),\": \",D726,\", \",C726)","v":"SW2: Endres, Hannelore"},{"$f":"VLOOKUP(A726,bangolf_kategorien!$A$2:$B$11,2,FALSE)","v":"SW2"}]
["hv",17861,"Heinrich","Endres","1. FMGC Lichtenfels 1961",{"$f":"CONCATENATE(VLOOKUP(A727,bangolf_kategorien!$A$2:$B$11,2,FALSE),\": \",D727,\", \",C727)","v":"SM2: Endres, Heinrich"},{"$f":"VLOOKUP(A727,bangolf_kategorien!$A$2:$B$11,2,FALSE)","v":"SM2"}]
["pa",67402,"Jonas","Endter","1. BGC Leipzig",{"$f":"CONCATENATE(VLOOKUP(A728,bangolf_kategorien!$A$2:$B$11,2,FALSE),\": \",D728,\", \",C728)","v":"SCHM: Endter, Jonas"},{"$f":"VLOOKUP(A728,bangolf_kategorien!$A$2:$B$11,2,FALSE)","v":"SCHM"}]
["ob",67578,"Thomas","Engel","TSV 1848 Flöha",{"$f":"CONCATENATE(VLOOKUP(A729,bangolf_kategorien!$A$2:$B$11,2,FALSE),\": \",D729,\", \",C729)","v":"SM1: Engel, Thomas"},{"$f":"VLOOKUP(A729,bangolf_kategorien!$A$2:$B$11,2,FALSE)","v":"SM1"}]
["hv",31683,"Wolfgang","Engel","MGC Schwaikheim",{"$f":"CONCATENATE(VLOOKUP(A730,bangolf_kategorien!$A$2:$B$11,2,FALSE),\": \",D730,\", \",C730)","v":"SM2: Engel, Wolfgang"},{"$f":"VLOOKUP(A730,bangolf_kategorien!$A$2:$B$11,2,FALSE)","v":"SM2"}]
["ds",31082,"Anika","Engelbracht","SC Olympia Dortmund",{"$f":"CONCATENATE(VLOOKUP(A731,bangolf_kategorien!$A$2:$B$11,2,FALSE),\": \",D731,\", \",C731)","v":"D: Engelbracht, Anika"},{"$f":"VLOOKUP(A731,bangolf_kategorien!$A$2:$B$11,2,FALSE)","v":"D"}]
["hs",41719,"Jens","Engelbracht","SC Olympia Dortmund",{"$f":"CONCATENATE(VLOOKUP(A732,bangolf_kategorien!$A$2:$B$11,2,FALSE),\": \",D732,\", \",C732)","v":"H: Engelbracht, Jens"},{"$f":"VLOOKUP(A732,bangolf_kategorien!$A$2:$B$11,2,FALSE)","v":"H"}]
["ob",3321479,"Olaf","Engellenner","Hobby",{"$f":"CONCATENATE(VLOOKUP(A733,bangolf_kategorien!$A$2:$B$11,2,FALSE),\": \",D733,\", \",C733)","v":"SM1: Engellenner, Olaf"},{"$f":"VLOOKUP(A733,bangolf_kategorien!$A$2:$B$11,2,FALSE)","v":"SM1"}]
["hv",1359,"Uwe","Engelmann","1. MGC Peine von 1965",{"$f":"CONCATENATE(VLOOKUP(A734,bangolf_kategorien!$A$2:$B$11,2,FALSE),\": \",D734,\", \",C734)","v":"SM2: Engelmann, Uwe"},{"$f":"VLOOKUP(A734,bangolf_kategorien!$A$2:$B$11,2,FALSE)","v":"SM2"}]
["hv",61068,"Klaus","Engels","MGC Rot-Weiß Wanne-Eickel",{"$f":"CONCATENATE(VLOOKUP(A735,bangolf_kategorien!$A$2:$B$11,2,FALSE),\": \",D735,\", \",C735)","v":"SM2: Engels, Klaus"},{"$f":"VLOOKUP(A735,bangolf_kategorien!$A$2:$B$11,2,FALSE)","v":"SM2"}]
["ob",41246,"Thomas","Engesser","MGF Hilzingen 80",{"$f":"CONCATENATE(VLOOKUP(A736,bangolf_kategorien!$A$2:$B$11,2,FALSE),\": \",D736,\", \",C736)","v":"SM1: Engesser, Thomas"},{"$f":"VLOOKUP(A736,bangolf_kategorien!$A$2:$B$11,2,FALSE)","v":"SM1"}]
["ds",67260,"Nicole","Enke","BGC Goslar",{"$f":"CONCATENATE(VLOOKUP(A737,bangolf_kategorien!$A$2:$B$11,2,FALSE),\": \",D737,\", \",C737)","v":"D: Enke, Nicole"},{"$f":"VLOOKUP(A737,bangolf_kategorien!$A$2:$B$11,2,FALSE)","v":"D"}]
["ds",67259,"Solveig Manuela Akiko","Enke","BGC Goslar",{"$f":"CONCATENATE(VLOOKUP(A738,bangolf_kategorien!$A$2:$B$11,2,FALSE),\": \",D738,\", \",C738)","v":"D: Enke, Solveig Manuela Akiko"},{"$f":"VLOOKUP(A738,bangolf_kategorien!$A$2:$B$11,2,FALSE)","v":"D"}]
["hv",33460,"Heiner","Entelmann","MGV Bremen",{"$f":"CONCATENATE(VLOOKUP(A739,bangolf_kategorien!$A$2:$B$11,2,FALSE),\": \",D739,\", \",C739)","v":"SM2: Entelmann, Heiner"},{"$f":"VLOOKUP(A739,bangolf_kategorien!$A$2:$B$11,2,FALSE)","v":"SM2"}]
["ob",45061,"Sven","Eresch","Miniaturgolf Sportclub Schriesheim",{"$f":"CONCATENATE(VLOOKUP(A740,bangolf_kategorien!$A$2:$B$11,2,FALSE),\": \",D740,\", \",C740)","v":"SM1: Eresch, Sven"},{"$f":"VLOOKUP(A740,bangolf_kategorien!$A$2:$B$11,2,FALSE)","v":"SM1"}]
["hv",4408,"Wolfgang","Erfurth","TV Trappenkamp - Minigolf -",{"$f":"CONCATENATE(VLOOKUP(A741,bangolf_kategorien!$A$2:$B$11,2,FALSE),\": \",D741,\", \",C741)","v":"SM2: Erfurth, Wolfgang"},{"$f":"VLOOKUP(A741,bangolf_kategorien!$A$2:$B$11,2,FALSE)","v":"SM2"}]
["og",28046,"Isolde","Erhard","BGC Rheinau-Freistett",{"$f":"CONCATENATE(VLOOKUP(A742,bangolf_kategorien!$A$2:$B$11,2,FALSE),\": \",D742,\", \",C742)","v":"SW1: Erhard, Isolde"},{"$f":"VLOOKUP(A742,bangolf_kategorien!$A$2:$B$11,2,FALSE)","v":"SW1"}]
["hv",35788,"Wolfram","Erhard","BGC Rheinau-Freistett",{"$f":"CONCATENATE(VLOOKUP(A743,bangolf_kategorien!$A$2:$B$11,2,FALSE),\": \",D743,\", \",C743)","v":"SM2: Erhard, Wolfram"},{"$f":"VLOOKUP(A743,bangolf_kategorien!$A$2:$B$11,2,FALSE)","v":"SM2"}]
["hs",30972,"Florian","Erhart","1. BGC Landshut",{"$f":"CONCATENATE(VLOOKUP(A744,bangolf_kategorien!$A$2:$B$11,2,FALSE),\": \",D744,\", \",C744)","v":"H: Erhart, Florian"},{"$f":"VLOOKUP(A744,bangolf_kategorien!$A$2:$B$11,2,FALSE)","v":"H"}]
["ob",65947,"Matthias","Erhart","BGC Bremen",{"$f":"CONCATENATE(VLOOKUP(A745,bangolf_kategorien!$A$2:$B$11,2,FALSE),\": \",D745,\", \",C745)","v":"SM1: Erhart, Matthias"},{"$f":"VLOOKUP(A745,bangolf_kategorien!$A$2:$B$11,2,FALSE)","v":"SM1"}]
["og",3251093,"Sabine","Erhart","Hobby",{"$f":"CONCATENATE(VLOOKUP(A746,bangolf_kategorien!$A$2:$B$11,2,FALSE),\": \",D746,\", \",C746)","v":"SW1: Erhart, Sabine"},{"$f":"VLOOKUP(A746,bangolf_kategorien!$A$2:$B$11,2,FALSE)","v":"SW1"}]
["ob",28515,"Harald","Erlbruch","BGS Hardenberg-Pötter",{"$f":"CONCATENATE(VLOOKUP(A747,bangolf_kategorien!$A$2:$B$11,2,FALSE),\": \",D747,\", \",C747)","v":"SM1: Erlbruch, Harald"},{"$f":"VLOOKUP(A747,bangolf_kategorien!$A$2:$B$11,2,FALSE)","v":"SM1"}]
["dv",23579,"Monika","Erlbruch","BGSV Kerpen",{"$f":"CONCATENATE(VLOOKUP(A748,bangolf_kategorien!$A$2:$B$11,2,FALSE),\": \",D748,\", \",C748)","v":"SW2: Erlbruch, Monika"},{"$f":"VLOOKUP(A748,bangolf_kategorien!$A$2:$B$11,2,FALSE)","v":"SW2"}]
["ob",42994,"Walter","Erlbruch","BGS Hardenberg-Pötter",{"$f":"CONCATENATE(VLOOKUP(A749,bangolf_kategorien!$A$2:$B$11,2,FALSE),\": \",D749,\", \",C749)","v":"SM1: Erlbruch, Walter"},{"$f":"VLOOKUP(A749,bangolf_kategorien!$A$2:$B$11,2,FALSE)","v":"SM1"}]
["ob",65927,"Klaus","Ernst","1. BGC Wesseling 1975",{"$f":"CONCATENATE(VLOOKUP(A750,bangolf_kategorien!$A$2:$B$11,2,FALSE),\": \",D750,\", \",C750)","v":"SM1: Ernst, Klaus"},{"$f":"VLOOKUP(A750,bangolf_kategorien!$A$2:$B$11,2,FALSE)","v":"SM1"}]
["og",67163,"Petra","Ernst","1. BGC Wesseling 1975",{"$f":"CONCATENATE(VLOOKUP(A751,bangolf_kategorien!$A$2:$B$11,2,FALSE),\": \",D751,\", \",C751)","v":"SW1: Ernst, Petra"},{"$f":"VLOOKUP(A751,bangolf_kategorien!$A$2:$B$11,2,FALSE)","v":"SW1"}]
["dv",40033,"Elisabeth","Ernstberger","1. MGC Mitterteich-Großbüchlberg",{"$f":"CONCATENATE(VLOOKUP(A752,bangolf_kategorien!$A$2:$B$11,2,FALSE),\": \",D752,\", \",C752)","v":"SW2: Ernstberger, Elisabeth"},{"$f":"VLOOKUP(A752,bangolf_kategorien!$A$2:$B$11,2,FALSE)","v":"SW2"}]
["hv",42527,"Wolfgang","Ernstberger","1. MGC Mitterteich-Großbüchlberg",{"$f":"CONCATENATE(VLOOKUP(A753,bangolf_kategorien!$A$2:$B$11,2,FALSE),\": \",D753,\", \",C753)","v":"SM2: Ernstberger, Wolfgang"},{"$f":"VLOOKUP(A753,bangolf_kategorien!$A$2:$B$11,2,FALSE)","v":"SM2"}]
["hs",64551,"Daniel","Ertl","MGC Murnau am Staffelsee",{"$f":"CONCATENATE(VLOOKUP(A754,bangolf_kategorien!$A$2:$B$11,2,FALSE),\": \",D754,\", \",C754)","v":"H: Ertl, Daniel"},{"$f":"VLOOKUP(A754,bangolf_kategorien!$A$2:$B$11,2,FALSE)","v":"H"}]
["og",65623,"Johanna","Ertl","1. BGC Landshut",{"$f":"CONCATENATE(VLOOKUP(A755,bangolf_kategorien!$A$2:$B$11,2,FALSE),\": \",D755,\", \",C755)","v":"SW1: Ertl, Johanna"},{"$f":"VLOOKUP(A755,bangolf_kategorien!$A$2:$B$11,2,FALSE)","v":"SW1"}]
["ob",63843,"Reinhold","Ertl","1. BGC Landshut",{"$f":"CONCATENATE(VLOOKUP(A756,bangolf_kategorien!$A$2:$B$11,2,FALSE),\": \",D756,\", \",C756)","v":"SM1: Ertl, Reinhold"},{"$f":"VLOOKUP(A756,bangolf_kategorien!$A$2:$B$11,2,FALSE)","v":"SM1"}]
["hs",28086,"Dirk","Eschmann","1. MGC Ludwigshafen",{"$f":"CONCATENATE(VLOOKUP(A757,bangolf_kategorien!$A$2:$B$11,2,FALSE),\": \",D757,\", \",C757)","v":"H: Eschmann, Dirk"},{"$f":"VLOOKUP(A757,bangolf_kategorien!$A$2:$B$11,2,FALSE)","v":"H"}]
["hv",49300,"Jürgen","Eschmann","1. MGC Mainz",{"$f":"CONCATENATE(VLOOKUP(A758,bangolf_kategorien!$A$2:$B$11,2,FALSE),\": \",D758,\", \",C758)","v":"SM2: Eschmann, Jürgen"},{"$f":"VLOOKUP(A758,bangolf_kategorien!$A$2:$B$11,2,FALSE)","v":"SM2"}]
["ob",29883,"Gerd","Esser","1.KGC Mönchengladbach",{"$f":"CONCATENATE(VLOOKUP(A759,bangolf_kategorien!$A$2:$B$11,2,FALSE),\": \",D759,\", \",C759)","v":"SM1: Esser, Gerd"},{"$f":"VLOOKUP(A759,bangolf_kategorien!$A$2:$B$11,2,FALSE)","v":"SM1"}]
["hv",61555,"Gerhard","Essig","1. Münchener MGC",{"$f":"CONCATENATE(VLOOKUP(A760,bangolf_kategorien!$A$2:$B$11,2,FALSE),\": \",D760,\", \",C760)","v":"SM2: Essig, Gerhard"},{"$f":"VLOOKUP(A760,bangolf_kategorien!$A$2:$B$11,2,FALSE)","v":"SM2"}]
["hs",65940,"Alessandro","Essler","1. Duisburger Minigolf Club 1962",{"$f":"CONCATENATE(VLOOKUP(A761,bangolf_kategorien!$A$2:$B$11,2,FALSE),\": \",D761,\", \",C761)","v":"H: Essler, Alessandro"},{"$f":"VLOOKUP(A761,bangolf_kategorien!$A$2:$B$11,2,FALSE)","v":"H"}]
["hs",36551,"Christian","Essler","1. Duisburger Minigolf Club 1962",{"$f":"CONCATENATE(VLOOKUP(A762,bangolf_kategorien!$A$2:$B$11,2,FALSE),\": \",D762,\", \",C762)","v":"H: Essler, Christian"},{"$f":"VLOOKUP(A762,bangolf_kategorien!$A$2:$B$11,2,FALSE)","v":"H"}]
["ob",37718,"Ferdinand","Essler","1. Duisburger Minigolf Club 1962",{"$f":"CONCATENATE(VLOOKUP(A763,bangolf_kategorien!$A$2:$B$11,2,FALSE),\": \",D763,\", \",C763)","v":"SM1: Essler, Ferdinand"},{"$f":"VLOOKUP(A763,bangolf_kategorien!$A$2:$B$11,2,FALSE)","v":"SM1"}]
["og",36421,"Ingeborg","Essler","1. Duisburger Minigolf Club 1962",{"$f":"CONCATENATE(VLOOKUP(A764,bangolf_kategorien!$A$2:$B$11,2,FALSE),\": \",D764,\", \",C764)","v":"SW1: Essler, Ingeborg"},{"$f":"VLOOKUP(A764,bangolf_kategorien!$A$2:$B$11,2,FALSE)","v":"SW1"}]
["hv",60515,"Peter","Etienne","MC 62 Lüdenscheid",{"$f":"CONCATENATE(VLOOKUP(A765,bangolf_kategorien!$A$2:$B$11,2,FALSE),\": \",D765,\", \",C765)","v":"SM2: Etienne, Peter"},{"$f":"VLOOKUP(A765,bangolf_kategorien!$A$2:$B$11,2,FALSE)","v":"SM2"}]
["hv",67271,"Klaus-Dieter","Ewert","BSG Pneumant Fürstenwalde, Abt. Minigolf",{"$f":"CONCATENATE(VLOOKUP(A766,bangolf_kategorien!$A$2:$B$11,2,FALSE),\": \",D766,\", \",C766)","v":"SM2: Ewert, Klaus-Dieter"},{"$f":"VLOOKUP(A766,bangolf_kategorien!$A$2:$B$11,2,FALSE)","v":"SM2"}]
["dv",27708,"1Karin","Exel","1. Berliner Miniaturgolf-Sportclub 1960",{"$f":"CONCATENATE(VLOOKUP(A767,bangolf_kategorien!$A$2:$B$11,2,FALSE),\": \",D767,\", \",C767)","v":"SW2: Exel, 1Karin"},{"$f":"VLOOKUP(A767,bangolf_kategorien!$A$2:$B$11,2,FALSE)","v":"SW2"}]
["hv",42435,"Frank","Exner","SSC Halver",{"$f":"CONCATENATE(VLOOKUP(A768,bangolf_kategorien!$A$2:$B$11,2,FALSE),\": \",D768,\", \",C768)","v":"SM2: Exner, Frank"},{"$f":"VLOOKUP(A768,bangolf_kategorien!$A$2:$B$11,2,FALSE)","v":"SM2"}]
["dv",40821,"Karin","Exner","SSC Halver",{"$f":"CONCATENATE(VLOOKUP(A769,bangolf_kategorien!$A$2:$B$11,2,FALSE),\": \",D769,\", \",C769)","v":"SW2: Exner, Karin"},{"$f":"VLOOKUP(A769,bangolf_kategorien!$A$2:$B$11,2,FALSE)","v":"SW2"}]
["og",66174,"Petra","Exner","Elbhavelland, Abt. Minigolfsport",{"$f":"CONCATENATE(VLOOKUP(A770,bangolf_kategorien!$A$2:$B$11,2,FALSE),\": \",D770,\", \",C770)","v":"SW1: Exner, Petra"},{"$f":"VLOOKUP(A770,bangolf_kategorien!$A$2:$B$11,2,FALSE)","v":"SW1"}]
["ob",30064,"Holger","Fabry","1. MGC 1970 Göttingen",{"$f":"CONCATENATE(VLOOKUP(A771,bangolf_kategorien!$A$2:$B$11,2,FALSE),\": \",D771,\", \",C771)","v":"SM1: Fabry, Holger"},{"$f":"VLOOKUP(A771,bangolf_kategorien!$A$2:$B$11,2,FALSE)","v":"SM1"}]
["hs",33157,"Nils","Fabrytzek","BGC Goslar",{"$f":"CONCATENATE(VLOOKUP(A772,bangolf_kategorien!$A$2:$B$11,2,FALSE),\": \",D772,\", \",C772)","v":"H: Fabrytzek, Nils"},{"$f":"VLOOKUP(A772,bangolf_kategorien!$A$2:$B$11,2,FALSE)","v":"H"}]
["og",28892,"Kirsten","Fahrenkrog","Niendorfer MC v. 1963",{"$f":"CONCATENATE(VLOOKUP(A773,bangolf_kategorien!$A$2:$B$11,2,FALSE),\": \",D773,\", \",C773)","v":"SW1: Fahrenkrog, Kirsten"},{"$f":"VLOOKUP(A773,bangolf_kategorien!$A$2:$B$11,2,FALSE)","v":"SW1"}]
["hj",67070,"Florian","Fahsel","MGV Eibenstock",{"$f":"CONCATENATE(VLOOKUP(A774,bangolf_kategorien!$A$2:$B$11,2,FALSE),\": \",D774,\", \",C774)","v":"JM: Fahsel, Florian"},{"$f":"VLOOKUP(A774,bangolf_kategorien!$A$2:$B$11,2,FALSE)","v":"JM"}]
["hs",33459,"Felix","Falge","VfB Osnabrück",{"$f":"CONCATENATE(VLOOKUP(A775,bangolf_kategorien!$A$2:$B$11,2,FALSE),\": \",D775,\", \",C775)","v":"H: Falge, Felix"},{"$f":"VLOOKUP(A775,bangolf_kategorien!$A$2:$B$11,2,FALSE)","v":"H"}]
["hs",66478,"Martin","Fallenbüchel","Miniaturgolf Sportclub Schriesheim",{"$f":"CONCATENATE(VLOOKUP(A776,bangolf_kategorien!$A$2:$B$11,2,FALSE),\": \",D776,\", \",C776)","v":"H: Fallenbüchel, Martin"},{"$f":"VLOOKUP(A776,bangolf_kategorien!$A$2:$B$11,2,FALSE)","v":"H"}]
["dv",35374,"Christel","Fander","1.KGC Mönchengladbach",{"$f":"CONCATENATE(VLOOKUP(A777,bangolf_kategorien!$A$2:$B$11,2,FALSE),\": \",D777,\", \",C777)","v":"SW2: Fander, Christel"},{"$f":"VLOOKUP(A777,bangolf_kategorien!$A$2:$B$11,2,FALSE)","v":"SW2"}]
["ob",38528,"Markus","Faßbender","HMC Büttgen",{"$f":"CONCATENATE(VLOOKUP(A778,bangolf_kategorien!$A$2:$B$11,2,FALSE),\": \",D778,\", \",C778)","v":"SM1: Faßbender, Markus"},{"$f":"VLOOKUP(A778,bangolf_kategorien!$A$2:$B$11,2,FALSE)","v":"SM1"}]
["ob",40560,"Thomas","Fassl","MGC Sulzfeld",{"$f":"CONCATENATE(VLOOKUP(A779,bangolf_kategorien!$A$2:$B$11,2,FALSE),\": \",D779,\", \",C779)","v":"SM1: Fassl, Thomas"},{"$f":"VLOOKUP(A779,bangolf_kategorien!$A$2:$B$11,2,FALSE)","v":"SM1"}]
["dv",67181,"Christine","Faulhaber","Minigolf-Club Diessen",{"$f":"CONCATENATE(VLOOKUP(A780,bangolf_kategorien!$A$2:$B$11,2,FALSE),\": \",D780,\", \",C780)","v":"SW2: Faulhaber, Christine"},{"$f":"VLOOKUP(A780,bangolf_kategorien!$A$2:$B$11,2,FALSE)","v":"SW2"}]
["dv",40148,"Gabriele","Faust","MSC Bensheim-Auerbach",{"$f":"CONCATENATE(VLOOKUP(A781,bangolf_kategorien!$A$2:$B$11,2,FALSE),\": \",D781,\", \",C781)","v":"SW2: Faust, Gabriele"},{"$f":"VLOOKUP(A781,bangolf_kategorien!$A$2:$B$11,2,FALSE)","v":"SW2"}]
["og",48058,"Monika","Faust","MSC Bensheim-Auerbach",{"$f":"CONCATENATE(VLOOKUP(A782,bangolf_kategorien!$A$2:$B$11,2,FALSE),\": \",D782,\", \",C782)","v":"SW1: Faust, Monika"},{"$f":"VLOOKUP(A782,bangolf_kategorien!$A$2:$B$11,2,FALSE)","v":"SW1"}]
["hs",50859,"Sascha","Faust","MGC Rot-Weiß Wanne-Eickel",{"$f":"CONCATENATE(VLOOKUP(A783,bangolf_kategorien!$A$2:$B$11,2,FALSE),\": \",D783,\", \",C783)","v":"H: Faust, Sascha"},{"$f":"VLOOKUP(A783,bangolf_kategorien!$A$2:$B$11,2,FALSE)","v":"H"}]
["ds",67504,"Katja","Fay","SV 1890 Dreieichenhain, Abt. Bahnengolf",{"$f":"CONCATENATE(VLOOKUP(A784,bangolf_kategorien!$A$2:$B$11,2,FALSE),\": \",D784,\", \",C784)","v":"D: Fay, Katja"},{"$f":"VLOOKUP(A784,bangolf_kategorien!$A$2:$B$11,2,FALSE)","v":"D"}]
["hv",37733,"Dieter","Fechter","1. MGC Hechingen",{"$f":"CONCATENATE(VLOOKUP(A785,bangolf_kategorien!$A$2:$B$11,2,FALSE),\": \",D785,\", \",C785)","v":"SM2: Fechter, Dieter"},{"$f":"VLOOKUP(A785,bangolf_kategorien!$A$2:$B$11,2,FALSE)","v":"SM2"}]
["og",37734,"Karin","Fechter","1. MGC Hechingen",{"$f":"CONCATENATE(VLOOKUP(A786,bangolf_kategorien!$A$2:$B$11,2,FALSE),\": \",D786,\", \",C786)","v":"SW1: Fechter, Karin"},{"$f":"VLOOKUP(A786,bangolf_kategorien!$A$2:$B$11,2,FALSE)","v":"SW1"}]
["hv",40328,"Wolfgang","Federici","MGF Hilzingen 80",{"$f":"CONCATENATE(VLOOKUP(A787,bangolf_kategorien!$A$2:$B$11,2,FALSE),\": \",D787,\", \",C787)","v":"SM2: Federici, Wolfgang"},{"$f":"VLOOKUP(A787,bangolf_kategorien!$A$2:$B$11,2,FALSE)","v":"SM2"}]
["ob",34871,"Volker","Feld","1. KC Homburg-Saar 1967",{"$f":"CONCATENATE(VLOOKUP(A788,bangolf_kategorien!$A$2:$B$11,2,FALSE),\": \",D788,\", \",C788)","v":"SM1: Feld, Volker"},{"$f":"VLOOKUP(A788,bangolf_kategorien!$A$2:$B$11,2,FALSE)","v":"SM1"}]
["dv",34721,"Christa","Fellenberg","1. MGC Peine von 1965",{"$f":"CONCATENATE(VLOOKUP(A789,bangolf_kategorien!$A$2:$B$11,2,FALSE),\": \",D789,\", \",C789)","v":"SW2: Fellenberg, Christa"},{"$f":"VLOOKUP(A789,bangolf_kategorien!$A$2:$B$11,2,FALSE)","v":"SW2"}]
["ds",33711,"Kerstin","Fellenberg","1. MGC Peine von 1965",{"$f":"CONCATENATE(VLOOKUP(A790,bangolf_kategorien!$A$2:$B$11,2,FALSE),\": \",D790,\", \",C790)","v":"D: Fellenberg, Kerstin"},{"$f":"VLOOKUP(A790,bangolf_kategorien!$A$2:$B$11,2,FALSE)","v":"D"}]
["hs",33710,"Torsten","Fellenberg","TSV Salzgitter Abt. Bahnengolf",{"$f":"CONCATENATE(VLOOKUP(A791,bangolf_kategorien!$A$2:$B$11,2,FALSE),\": \",D791,\", \",C791)","v":"H: Fellenberg, Torsten"},{"$f":"VLOOKUP(A791,bangolf_kategorien!$A$2:$B$11,2,FALSE)","v":"H"}]
["ob",45697,"Thomas","Fellmann","BGV Bergisch Land 1962 / 63",{"$f":"CONCATENATE(VLOOKUP(A792,bangolf_kategorien!$A$2:$B$11,2,FALSE),\": \",D792,\", \",C792)","v":"SM1: Fellmann, Thomas"},{"$f":"VLOOKUP(A792,bangolf_kategorien!$A$2:$B$11,2,FALSE)","v":"SM1"}]
["og",38610,"Prisca","Ferstl","MGC Murnau am Staffelsee",{"$f":"CONCATENATE(VLOOKUP(A793,bangolf_kategorien!$A$2:$B$11,2,FALSE),\": \",D793,\", \",C793)","v":"SW1: Ferstl, Prisca"},{"$f":"VLOOKUP(A793,bangolf_kategorien!$A$2:$B$11,2,FALSE)","v":"SW1"}]
["og",27873,"Christine","Feucht","1. Bahnengolf-Club Singen",{"$f":"CONCATENATE(VLOOKUP(A794,bangolf_kategorien!$A$2:$B$11,2,FALSE),\": \",D794,\", \",C794)","v":"SW1: Feucht, Christine"},{"$f":"VLOOKUP(A794,bangolf_kategorien!$A$2:$B$11,2,FALSE)","v":"SW1"}]
["hv",28740,"Dieter","Fiedler","VfL Lohbrügge Abt. Bahnengolf",{"$f":"CONCATENATE(VLOOKUP(A795,bangolf_kategorien!$A$2:$B$11,2,FALSE),\": \",D795,\", \",C795)","v":"SM2: Fiedler, Dieter"},{"$f":"VLOOKUP(A795,bangolf_kategorien!$A$2:$B$11,2,FALSE)","v":"SM2"}]
["hv",67059,"Wolfgang","Fiedler","MGC Heringen 1997",{"$f":"CONCATENATE(VLOOKUP(A796,bangolf_kategorien!$A$2:$B$11,2,FALSE),\": \",D796,\", \",C796)","v":"SM2: Fiedler, Wolfgang"},{"$f":"VLOOKUP(A796,bangolf_kategorien!$A$2:$B$11,2,FALSE)","v":"SM2"}]
["hv",66695,"Andreas","Filgertshofer","Minigolf-Club Diessen",{"$f":"CONCATENATE(VLOOKUP(A797,bangolf_kategorien!$A$2:$B$11,2,FALSE),\": \",D797,\", \",C797)","v":"SM2: Filgertshofer, Andreas"},{"$f":"VLOOKUP(A797,bangolf_kategorien!$A$2:$B$11,2,FALSE)","v":"SM2"}]
["hv",4917,"Wolfgang","Findewirth","VfM Berlin",{"$f":"CONCATENATE(VLOOKUP(A798,bangolf_kategorien!$A$2:$B$11,2,FALSE),\": \",D798,\", \",C798)","v":"SM2: Findewirth, Wolfgang"},{"$f":"VLOOKUP(A798,bangolf_kategorien!$A$2:$B$11,2,FALSE)","v":"SM2"}]
["ob",48999,"Manfred","Finette","MSC Bad Godesberg",{"$f":"CONCATENATE(VLOOKUP(A799,bangolf_kategorien!$A$2:$B$11,2,FALSE),\": \",D799,\", \",C799)","v":"SM1: Finette, Manfred"},{"$f":"VLOOKUP(A799,bangolf_kategorien!$A$2:$B$11,2,FALSE)","v":"SM1"}]
["hs",33123,"Moritz","Fingerle","MSK Olching",{"$f":"CONCATENATE(VLOOKUP(A800,bangolf_kategorien!$A$2:$B$11,2,FALSE),\": \",D800,\", \",C800)","v":"H: Fingerle, Moritz"},{"$f":"VLOOKUP(A800,bangolf_kategorien!$A$2:$B$11,2,FALSE)","v":"H"}]
["ob",67531,"Christoph","Fink","BGC Schloß Paffendorf",{"$f":"CONCATENATE(VLOOKUP(A801,bangolf_kategorien!$A$2:$B$11,2,FALSE),\": \",D801,\", \",C801)","v":"SM1: Fink, Christoph"},{"$f":"VLOOKUP(A801,bangolf_kategorien!$A$2:$B$11,2,FALSE)","v":"SM1"}]
["hj",66393,"Jonas","Fink","BGV Backumer Tal Herten",{"$f":"CONCATENATE(VLOOKUP(A802,bangolf_kategorien!$A$2:$B$11,2,FALSE),\": \",D802,\", \",C802)","v":"JM: Fink, Jonas"},{"$f":"VLOOKUP(A802,bangolf_kategorien!$A$2:$B$11,2,FALSE)","v":"JM"}]
["hs",1472,"Nikolas","Finsterer-Robnik","BGC Illertissen",{"$f":"CONCATENATE(VLOOKUP(A803,bangolf_kategorien!$A$2:$B$11,2,FALSE),\": \",D803,\", \",C803)","v":"H: Finsterer-Robnik, Nikolas"},{"$f":"VLOOKUP(A803,bangolf_kategorien!$A$2:$B$11,2,FALSE)","v":"H"}]
["ob",50426,"Ralf","Fischbach","1. MGC Mainz",{"$f":"CONCATENATE(VLOOKUP(A804,bangolf_kategorien!$A$2:$B$11,2,FALSE),\": \",D804,\", \",C804)","v":"SM1: Fischbach, Ralf"},{"$f":"VLOOKUP(A804,bangolf_kategorien!$A$2:$B$11,2,FALSE)","v":"SM1"}]
["ds",38177,"Patricia","Fischbeck","1. MGV Spandau Berlin",{"$f":"CONCATENATE(VLOOKUP(A805,bangolf_kategorien!$A$2:$B$11,2,FALSE),\": \",D805,\", \",C805)","v":"D: Fischbeck, Patricia"},{"$f":"VLOOKUP(A805,bangolf_kategorien!$A$2:$B$11,2,FALSE)","v":"D"}]
["ob",3194200,"Albert","Fischer","Hobby",{"$f":"CONCATENATE(VLOOKUP(A806,bangolf_kategorien!$A$2:$B$11,2,FALSE),\": \",D806,\", \",C806)","v":"SM1: Fischer, Albert"},{"$f":"VLOOKUP(A806,bangolf_kategorien!$A$2:$B$11,2,FALSE)","v":"SM1"}]
["dj",38334,"Alexandra","Fischer","MSC Bad Godesberg",{"$f":"CONCATENATE(VLOOKUP(A807,bangolf_kategorien!$A$2:$B$11,2,FALSE),\": \",D807,\", \",C807)","v":"JW: Fischer, Alexandra"},{"$f":"VLOOKUP(A807,bangolf_kategorien!$A$2:$B$11,2,FALSE)","v":"JW"}]
["og",48906,"Annette","Fischer","Minigolfunion Neviges-Odenthal 1968",{"$f":"CONCATENATE(VLOOKUP(A808,bangolf_kategorien!$A$2:$B$11,2,FALSE),\": \",D808,\", \",C808)","v":"SW1: Fischer, Annette"},{"$f":"VLOOKUP(A808,bangolf_kategorien!$A$2:$B$11,2,FALSE)","v":"SW1"}]
["og",43588,"Astrid","Fischer","1. MGC Kassel 1964",{"$f":"CONCATENATE(VLOOKUP(A809,bangolf_kategorien!$A$2:$B$11,2,FALSE),\": \",D809,\", \",C809)","v":"SW1: Fischer, Astrid"},{"$f":"VLOOKUP(A809,bangolf_kategorien!$A$2:$B$11,2,FALSE)","v":"SW1"}]
["hs",37509,"Christoph","Fischer","Niendorfer MC v. 1963",{"$f":"CONCATENATE(VLOOKUP(A810,bangolf_kategorien!$A$2:$B$11,2,FALSE),\": \",D810,\", \",C810)","v":"H: Fischer, Christoph"},{"$f":"VLOOKUP(A810,bangolf_kategorien!$A$2:$B$11,2,FALSE)","v":"H"}]
["hs",87507,"Daniel","Fischer","BGC Schweinfurt",{"$f":"CONCATENATE(VLOOKUP(A811,bangolf_kategorien!$A$2:$B$11,2,FALSE),\": \",D811,\", \",C811)","v":"H: Fischer, Daniel"},{"$f":"VLOOKUP(A811,bangolf_kategorien!$A$2:$B$11,2,FALSE)","v":"H"}]
["hv",37510,"Dirk","Fischer","1. MGV Spandau Berlin",{"$f":"CONCATENATE(VLOOKUP(A812,bangolf_kategorien!$A$2:$B$11,2,FALSE),\": \",D812,\", \",C812)","v":"SM2: Fischer, Dirk"},{"$f":"VLOOKUP(A812,bangolf_kategorien!$A$2:$B$11,2,FALSE)","v":"SM2"}]
["hv",66628,"Dirk","Fischer","BGV Backumer Tal Herten",{"$f":"CONCATENATE(VLOOKUP(A813,bangolf_kategorien!$A$2:$B$11,2,FALSE),\": \",D813,\", \",C813)","v":"SM2: Fischer, Dirk"},{"$f":"VLOOKUP(A813,bangolf_kategorien!$A$2:$B$11,2,FALSE)","v":"SM2"}]
["ob",43000,"Frank","Fischer","MSC Bad Godesberg",{"$f":"CONCATENATE(VLOOKUP(A814,bangolf_kategorien!$A$2:$B$11,2,FALSE),\": \",D814,\", \",C814)","v":"SM1: Fischer, Frank"},{"$f":"VLOOKUP(A814,bangolf_kategorien!$A$2:$B$11,2,FALSE)","v":"SM1"}]
["ob",25512,"Gerd","Fischer","1. MGC Süßen",{"$f":"CONCATENATE(VLOOKUP(A815,bangolf_kategorien!$A$2:$B$11,2,FALSE),\": \",D815,\", \",C815)","v":"SM1: Fischer, Gerd"},{"$f":"VLOOKUP(A815,bangolf_kategorien!$A$2:$B$11,2,FALSE)","v":"SM1"}]
["dv",49978,"Heidi","Fischer","1. MGC Paderborn",{"$f":"CONCATENATE(VLOOKUP(A816,bangolf_kategorien!$A$2:$B$11,2,FALSE),\": \",D816,\", \",C816)","v":"SW2: Fischer, Heidi"},{"$f":"VLOOKUP(A816,bangolf_kategorien!$A$2:$B$11,2,FALSE)","v":"SW2"}]
["dv",6768,"Heidi","Fischer","SSV Ulm 1846 Abt. Bahnengolf",{"$f":"CONCATENATE(VLOOKUP(A817,bangolf_kategorien!$A$2:$B$11,2,FALSE),\": \",D817,\", \",C817)","v":"SW2: Fischer, Heidi"},{"$f":"VLOOKUP(A817,bangolf_kategorien!$A$2:$B$11,2,FALSE)","v":"SW2"}]
["hj",64495,"Kai-Erik","Fischer","1. MGC Kassel 1964",{"$f":"CONCATENATE(VLOOKUP(A818,bangolf_kategorien!$A$2:$B$11,2,FALSE),\": \",D818,\", \",C818)","v":"JM: Fischer, Kai-Erik"},{"$f":"VLOOKUP(A818,bangolf_kategorien!$A$2:$B$11,2,FALSE)","v":"JM"}]
["ds",37628,"Katharina","Fischer","1. Porzer MGC Grün-Weiß 1969",{"$f":"CONCATENATE(VLOOKUP(A819,bangolf_kategorien!$A$2:$B$11,2,FALSE),\": \",D819,\", \",C819)","v":"D: Fischer, Katharina"},{"$f":"VLOOKUP(A819,bangolf_kategorien!$A$2:$B$11,2,FALSE)","v":"D"}]
["hv",40638,"Manfred","Fischer","MGC Bad Feilnbach",{"$f":"CONCATENATE(VLOOKUP(A820,bangolf_kategorien!$A$2:$B$11,2,FALSE),\": \",D820,\", \",C820)","v":"SM2: Fischer, Manfred"},{"$f":"VLOOKUP(A820,bangolf_kategorien!$A$2:$B$11,2,FALSE)","v":"SM2"}]
["ob",43587,"Marcus","Fischer","1. MGC Kassel 1964",{"$f":"CONCATENATE(VLOOKUP(A821,bangolf_kategorien!$A$2:$B$11,2,FALSE),\": \",D821,\", \",C821)","v":"SM1: Fischer, Marcus"},{"$f":"VLOOKUP(A821,bangolf_kategorien!$A$2:$B$11,2,FALSE)","v":"SM1"}]
["ob",37008,"Robert","Fischer","BGSV Kerpen",{"$f":"CONCATENATE(VLOOKUP(A822,bangolf_kategorien!$A$2:$B$11,2,FALSE),\": \",D822,\", \",C822)","v":"SM1: Fischer, Robert"},{"$f":"VLOOKUP(A822,bangolf_kategorien!$A$2:$B$11,2,FALSE)","v":"SM1"}]
["og",30855,"Susanne","Fischer","MSC Bad Godesberg",{"$f":"CONCATENATE(VLOOKUP(A823,bangolf_kategorien!$A$2:$B$11,2,FALSE),\": \",D823,\", \",C823)","v":"SW1: Fischer, Susanne"},{"$f":"VLOOKUP(A823,bangolf_kategorien!$A$2:$B$11,2,FALSE)","v":"SW1"}]
["hv",49979,"Walter","Fischer","1. MGC Paderborn",{"$f":"CONCATENATE(VLOOKUP(A824,bangolf_kategorien!$A$2:$B$11,2,FALSE),\": \",D824,\", \",C824)","v":"SM2: Fischer, Walter"},{"$f":"VLOOKUP(A824,bangolf_kategorien!$A$2:$B$11,2,FALSE)","v":"SM2"}]
["ob",66775,"Winfried","Fleck","1. MGC Lohfelden 1997",{"$f":"CONCATENATE(VLOOKUP(A825,bangolf_kategorien!$A$2:$B$11,2,FALSE),\": \",D825,\", \",C825)","v":"SM1: Fleck, Winfried"},{"$f":"VLOOKUP(A825,bangolf_kategorien!$A$2:$B$11,2,FALSE)","v":"SM1"}]
["hs",66900,"Marco","Flick","Kölner Miniatur Golf Club",{"$f":"CONCATENATE(VLOOKUP(A826,bangolf_kategorien!$A$2:$B$11,2,FALSE),\": \",D826,\", \",C826)","v":"H: Flick, Marco"},{"$f":"VLOOKUP(A826,bangolf_kategorien!$A$2:$B$11,2,FALSE)","v":"H"}]
["hs",66687,"Hans","Flohe","MSC Bad Godesberg",{"$f":"CONCATENATE(VLOOKUP(A827,bangolf_kategorien!$A$2:$B$11,2,FALSE),\": \",D827,\", \",C827)","v":"H: Flohe, Hans"},{"$f":"VLOOKUP(A827,bangolf_kategorien!$A$2:$B$11,2,FALSE)","v":"H"}]
["hv",51799,"Peter","Flohrschütz","BGC Schweinfurt",{"$f":"CONCATENATE(VLOOKUP(A828,bangolf_kategorien!$A$2:$B$11,2,FALSE),\": \",D828,\", \",C828)","v":"SM2: Flohrschütz, Peter"},{"$f":"VLOOKUP(A828,bangolf_kategorien!$A$2:$B$11,2,FALSE)","v":"SM2"}]
["ob",66876,"Detlef","Flotin","BGC Dormagen",{"$f":"CONCATENATE(VLOOKUP(A829,bangolf_kategorien!$A$2:$B$11,2,FALSE),\": \",D829,\", \",C829)","v":"SM1: Flotin, Detlef"},{"$f":"VLOOKUP(A829,bangolf_kategorien!$A$2:$B$11,2,FALSE)","v":"SM1"}]
["hs",33462,"Nico Sebastian","Föllmer","BGC Bremen",{"$f":"CONCATENATE(VLOOKUP(A830,bangolf_kategorien!$A$2:$B$11,2,FALSE),\": \",D830,\", \",C830)","v":"H: Föllmer, Nico Sebastian"},{"$f":"VLOOKUP(A830,bangolf_kategorien!$A$2:$B$11,2,FALSE)","v":"H"}]
["hv",43145,"Heinz","Forkefeld","MGC Bad Salzuflen",{"$f":"CONCATENATE(VLOOKUP(A831,bangolf_kategorien!$A$2:$B$11,2,FALSE),\": \",D831,\", \",C831)","v":"SM2: Forkefeld, Heinz"},{"$f":"VLOOKUP(A831,bangolf_kategorien!$A$2:$B$11,2,FALSE)","v":"SM2"}]
["hj",38474,"Robin","Forsberg","Bochumer Minigolf-Club 1960",{"$f":"CONCATENATE(VLOOKUP(A832,bangolf_kategorien!$A$2:$B$11,2,FALSE),\": \",D832,\", \",C832)","v":"JM: Forsberg, Robin"},{"$f":"VLOOKUP(A832,bangolf_kategorien!$A$2:$B$11,2,FALSE)","v":"JM"}]
["hv",38366,"Rainer","Förster","KGC Bad Urach",{"$f":"CONCATENATE(VLOOKUP(A833,bangolf_kategorien!$A$2:$B$11,2,FALSE),\": \",D833,\", \",C833)","v":"SM2: Förster, Rainer"},{"$f":"VLOOKUP(A833,bangolf_kategorien!$A$2:$B$11,2,FALSE)","v":"SM2"}]
["hv",6770,"Jürgen","Förstner","Hamburger MC von 1965",{"$f":"CONCATENATE(VLOOKUP(A834,bangolf_kategorien!$A$2:$B$11,2,FALSE),\": \",D834,\", \",C834)","v":"SM2: Förstner, Jürgen"},{"$f":"VLOOKUP(A834,bangolf_kategorien!$A$2:$B$11,2,FALSE)","v":"SM2"}]
["ob",43512,"Volker","Frahm","MGC Bad Oldesloe",{"$f":"CONCATENATE(VLOOKUP(A835,bangolf_kategorien!$A$2:$B$11,2,FALSE),\": \",D835,\", \",C835)","v":"SM1: Frahm, Volker"},{"$f":"VLOOKUP(A835,bangolf_kategorien!$A$2:$B$11,2,FALSE)","v":"SM1"}]
["hv",21828,"Andreas","Frank","BSV 86 München",{"$f":"CONCATENATE(VLOOKUP(A836,bangolf_kategorien!$A$2:$B$11,2,FALSE),\": \",D836,\", \",C836)","v":"SM2: Frank, Andreas"},{"$f":"VLOOKUP(A836,bangolf_kategorien!$A$2:$B$11,2,FALSE)","v":"SM2"}]
["hv",67450,"Bernhard","Frank","VfL Lohbrügge Abt. Bahnengolf",{"$f":"CONCATENATE(VLOOKUP(A837,bangolf_kategorien!$A$2:$B$11,2,FALSE),\": \",D837,\", \",C837)","v":"SM2: Frank, Bernhard"},{"$f":"VLOOKUP(A837,bangolf_kategorien!$A$2:$B$11,2,FALSE)","v":"SM2"}]
["pa",66698,"Fynn","Frank","Minigolfclub Karlshagen",{"$f":"CONCATENATE(VLOOKUP(A838,bangolf_kategorien!$A$2:$B$11,2,FALSE),\": \",D838,\", \",C838)","v":"SCHM: Frank, Fynn"},{"$f":"VLOOKUP(A838,bangolf_kategorien!$A$2:$B$11,2,FALSE)","v":"SCHM"}]
["og",28168,"Petra","Frank","BSV 86 München",{"$f":"CONCATENATE(VLOOKUP(A839,bangolf_kategorien!$A$2:$B$11,2,FALSE),\": \",D839,\", \",C839)","v":"SW1: Frank, Petra"},{"$f":"VLOOKUP(A839,bangolf_kategorien!$A$2:$B$11,2,FALSE)","v":"SW1"}]
["hv",38490,"Rolf","Frank","BGSV Bad Homburg",{"$f":"CONCATENATE(VLOOKUP(A840,bangolf_kategorien!$A$2:$B$11,2,FALSE),\": \",D840,\", \",C840)","v":"SM2: Frank, Rolf"},{"$f":"VLOOKUP(A840,bangolf_kategorien!$A$2:$B$11,2,FALSE)","v":"SM2"}]
["dv",67449,"Ute","Frank","VfL Lohbrügge Abt. Bahnengolf",{"$f":"CONCATENATE(VLOOKUP(A841,bangolf_kategorien!$A$2:$B$11,2,FALSE),\": \",D841,\", \",C841)","v":"SW2: Frank, Ute"},{"$f":"VLOOKUP(A841,bangolf_kategorien!$A$2:$B$11,2,FALSE)","v":"SW2"}]
["ob",43328,"Jörg","Franke","MGC Dormagen-Brechten",{"$f":"CONCATENATE(VLOOKUP(A842,bangolf_kategorien!$A$2:$B$11,2,FALSE),\": \",D842,\", \",C842)","v":"SM1: Franke, Jörg"},{"$f":"VLOOKUP(A842,bangolf_kategorien!$A$2:$B$11,2,FALSE)","v":"SM1"}]
["dv",66522,"Ulrich","Franke","MGC Brunsbüttel",{"$f":"CONCATENATE(VLOOKUP(A843,bangolf_kategorien!$A$2:$B$11,2,FALSE),\": \",D843,\", \",C843)","v":"SW2: Franke, Ulrich"},{"$f":"VLOOKUP(A843,bangolf_kategorien!$A$2:$B$11,2,FALSE)","v":"SW2"}]
["ds",29402,"Vanessa","Franke","1. BGC Rodalben 1977",{"$f":"CONCATENATE(VLOOKUP(A844,bangolf_kategorien!$A$2:$B$11,2,FALSE),\": \",D844,\", \",C844)","v":"D: Franke, Vanessa"},{"$f":"VLOOKUP(A844,bangolf_kategorien!$A$2:$B$11,2,FALSE)","v":"D"}]
["hv",10722,"Helmut","Franz","1. MGC Süßen",{"$f":"CONCATENATE(VLOOKUP(A845,bangolf_kategorien!$A$2:$B$11,2,FALSE),\": \",D845,\", \",C845)","v":"SM2: Franz, Helmut"},{"$f":"VLOOKUP(A845,bangolf_kategorien!$A$2:$B$11,2,FALSE)","v":"SM2"}]
["hs",38052,"Maximilian","Frech","BSV Inzlingen 1979",{"$f":"CONCATENATE(VLOOKUP(A846,bangolf_kategorien!$A$2:$B$11,2,FALSE),\": \",D846,\", \",C846)","v":"H: Frech, Maximilian"},{"$f":"VLOOKUP(A846,bangolf_kategorien!$A$2:$B$11,2,FALSE)","v":"H"}]
["ob",65518,"Sven","Frech","BSV Inzlingen 1979",{"$f":"CONCATENATE(VLOOKUP(A847,bangolf_kategorien!$A$2:$B$11,2,FALSE),\": \",D847,\", \",C847)","v":"SM1: Frech, Sven"},{"$f":"VLOOKUP(A847,bangolf_kategorien!$A$2:$B$11,2,FALSE)","v":"SM1"}]
["hv",38037,"Bernd","Fregin","PTSV Hof, Abt. Minigolf",{"$f":"CONCATENATE(VLOOKUP(A848,bangolf_kategorien!$A$2:$B$11,2,FALSE),\": \",D848,\", \",C848)","v":"SM2: Fregin, Bernd"},{"$f":"VLOOKUP(A848,bangolf_kategorien!$A$2:$B$11,2,FALSE)","v":"SM2"}]
["hv",67409,"Klaus Dieter","Freimann","MSF Brilon",{"$f":"CONCATENATE(VLOOKUP(A849,bangolf_kategorien!$A$2:$B$11,2,FALSE),\": \",D849,\", \",C849)","v":"SM2: Freimann, Klaus Dieter"},{"$f":"VLOOKUP(A849,bangolf_kategorien!$A$2:$B$11,2,FALSE)","v":"SM2"}]
["hs",67435,"Patrick","Freimann","MSF Brilon",{"$f":"CONCATENATE(VLOOKUP(A850,bangolf_kategorien!$A$2:$B$11,2,FALSE),\": \",D850,\", \",C850)","v":"H: Freimann, Patrick"},{"$f":"VLOOKUP(A850,bangolf_kategorien!$A$2:$B$11,2,FALSE)","v":"H"}]
["hv",5387,"Heinz","Frenzl","1. NMC Kelheim",{"$f":"CONCATENATE(VLOOKUP(A851,bangolf_kategorien!$A$2:$B$11,2,FALSE),\": \",D851,\", \",C851)","v":"SM2: Frenzl, Heinz"},{"$f":"VLOOKUP(A851,bangolf_kategorien!$A$2:$B$11,2,FALSE)","v":"SM2"}]
["ds",37980,"Rebecca","Freßmann","1. MGC Kassel 1964",{"$f":"CONCATENATE(VLOOKUP(A852,bangolf_kategorien!$A$2:$B$11,2,FALSE),\": \",D852,\", \",C852)","v":"D: Freßmann, Rebecca"},{"$f":"VLOOKUP(A852,bangolf_kategorien!$A$2:$B$11,2,FALSE)","v":"D"}]
["hs",66261,"Maurice","Freund","SG Arheilgen Abt. Bahnengolf",{"$f":"CONCATENATE(VLOOKUP(A853,bangolf_kategorien!$A$2:$B$11,2,FALSE),\": \",D853,\", \",C853)","v":"H: Freund, Maurice"},{"$f":"VLOOKUP(A853,bangolf_kategorien!$A$2:$B$11,2,FALSE)","v":"H"}]
["hv",66629,"Wilfried","Freund","SG Arheilgen Abt. Bahnengolf",{"$f":"CONCATENATE(VLOOKUP(A854,bangolf_kategorien!$A$2:$B$11,2,FALSE),\": \",D854,\", \",C854)","v":"SM2: Freund, Wilfried"},{"$f":"VLOOKUP(A854,bangolf_kategorien!$A$2:$B$11,2,FALSE)","v":"SM2"}]
["hv",3212019,"Clemens","Freundt","Hobby",{"$f":"CONCATENATE(VLOOKUP(A855,bangolf_kategorien!$A$2:$B$11,2,FALSE),\": \",D855,\", \",C855)","v":"SM2: Freundt, Clemens"},{"$f":"VLOOKUP(A855,bangolf_kategorien!$A$2:$B$11,2,FALSE)","v":"SM2"}]
["hv",9289,"Ernst","Frick","MSC Bensheim-Auerbach",{"$f":"CONCATENATE(VLOOKUP(A856,bangolf_kategorien!$A$2:$B$11,2,FALSE),\": \",D856,\", \",C856)","v":"SM2: Frick, Ernst"},{"$f":"VLOOKUP(A856,bangolf_kategorien!$A$2:$B$11,2,FALSE)","v":"SM2"}]
["hs",33916,"René","Fricke","BGC Heilbronn",{"$f":"CONCATENATE(VLOOKUP(A857,bangolf_kategorien!$A$2:$B$11,2,FALSE),\": \",D857,\", \",C857)","v":"H: Fricke, René"},{"$f":"VLOOKUP(A857,bangolf_kategorien!$A$2:$B$11,2,FALSE)","v":"H"}]
["ob",30004,"Jörg","Fricker","SSC Attendorn",{"$f":"CONCATENATE(VLOOKUP(A858,bangolf_kategorien!$A$2:$B$11,2,FALSE),\": \",D858,\", \",C858)","v":"SM1: Fricker, Jörg"},{"$f":"VLOOKUP(A858,bangolf_kategorien!$A$2:$B$11,2,FALSE)","v":"SM1"}]
["og",66912,"Heike","Friedmann","SG  Weiterstadt 1886",{"$f":"CONCATENATE(VLOOKUP(A859,bangolf_kategorien!$A$2:$B$11,2,FALSE),\": \",D859,\", \",C859)","v":"SW1: Friedmann, Heike"},{"$f":"VLOOKUP(A859,bangolf_kategorien!$A$2:$B$11,2,FALSE)","v":"SW1"}]
["ob",66911,"Thomas","Friedmann","SG  Weiterstadt 1886",{"$f":"CONCATENATE(VLOOKUP(A860,bangolf_kategorien!$A$2:$B$11,2,FALSE),\": \",D860,\", \",C860)","v":"SM1: Friedmann, Thomas"},{"$f":"VLOOKUP(A860,bangolf_kategorien!$A$2:$B$11,2,FALSE)","v":"SM1"}]
["hv",23796,"Hans-Joachim","Friedrich","MGC Freizeitzentrum Biebertal",{"$f":"CONCATENATE(VLOOKUP(A861,bangolf_kategorien!$A$2:$B$11,2,FALSE),\": \",D861,\", \",C861)","v":"SM2: Friedrich, Hans-Joachim"},{"$f":"VLOOKUP(A861,bangolf_kategorien!$A$2:$B$11,2,FALSE)","v":"SM2"}]
["ob",30258,"Holger","Friedrich","SV Lurup Abt. Bahnengolf",{"$f":"CONCATENATE(VLOOKUP(A862,bangolf_kategorien!$A$2:$B$11,2,FALSE),\": \",D862,\", \",C862)","v":"SM1: Friedrich, Holger"},{"$f":"VLOOKUP(A862,bangolf_kategorien!$A$2:$B$11,2,FALSE)","v":"SM1"}]
["ob",37247,"Klaus","Friedrich","Biskirchener BGV",{"$f":"CONCATENATE(VLOOKUP(A863,bangolf_kategorien!$A$2:$B$11,2,FALSE),\": \",D863,\", \",C863)","v":"SM1: Friedrich, Klaus"},{"$f":"VLOOKUP(A863,bangolf_kategorien!$A$2:$B$11,2,FALSE)","v":"SM1"}]
["hv",62733,"Rolf","Friedrichs","1. BGC Hannover",{"$f":"CONCATENATE(VLOOKUP(A864,bangolf_kategorien!$A$2:$B$11,2,FALSE),\": \",D864,\", \",C864)","v":"SM2: Friedrichs, Rolf"},{"$f":"VLOOKUP(A864,bangolf_kategorien!$A$2:$B$11,2,FALSE)","v":"SM2"}]
["hv",31842,"Gerald","Friesacher","1. BGC Landshut",{"$f":"CONCATENATE(VLOOKUP(A865,bangolf_kategorien!$A$2:$B$11,2,FALSE),\": \",D865,\", \",C865)","v":"SM2: Friesacher, Gerald"},{"$f":"VLOOKUP(A865,bangolf_kategorien!$A$2:$B$11,2,FALSE)","v":"SM2"}]
["og",65964,"Barbara","Friese","BGC Uerdingen",{"$f":"CONCATENATE(VLOOKUP(A866,bangolf_kategorien!$A$2:$B$11,2,FALSE),\": \",D866,\", \",C866)","v":"SW1: Friese, Barbara"},{"$f":"VLOOKUP(A866,bangolf_kategorien!$A$2:$B$11,2,FALSE)","v":"SW1"}]
["hv",65962,"Reinhard","Friese","BGC Uerdingen",{"$f":"CONCATENATE(VLOOKUP(A867,bangolf_kategorien!$A$2:$B$11,2,FALSE),\": \",D867,\", \",C867)","v":"SM2: Friese, Reinhard"},{"$f":"VLOOKUP(A867,bangolf_kategorien!$A$2:$B$11,2,FALSE)","v":"SM2"}]
["hs",67216,"Oliver","Frings","MGC Bad Bodendorf",{"$f":"CONCATENATE(VLOOKUP(A868,bangolf_kategorien!$A$2:$B$11,2,FALSE),\": \",D868,\", \",C868)","v":"H: Frings, Oliver"},{"$f":"VLOOKUP(A868,bangolf_kategorien!$A$2:$B$11,2,FALSE)","v":"H"}]
["hv",27550,"Hans-Peter","Fritsch","MSC Bensheim-Auerbach",{"$f":"CONCATENATE(VLOOKUP(A869,bangolf_kategorien!$A$2:$B$11,2,FALSE),\": \",D869,\", \",C869)","v":"SM2: Fritsch, Hans-Peter"},{"$f":"VLOOKUP(A869,bangolf_kategorien!$A$2:$B$11,2,FALSE)","v":"SM2"}]
["hj",66642,"Martin","Fritsch","MSC Bensheim-Auerbach",{"$f":"CONCATENATE(VLOOKUP(A870,bangolf_kategorien!$A$2:$B$11,2,FALSE),\": \",D870,\", \",C870)","v":"JM: Fritsch, Martin"},{"$f":"VLOOKUP(A870,bangolf_kategorien!$A$2:$B$11,2,FALSE)","v":"JM"}]
["hs",66096,"Alexander","Fritz","1. MGC Kassel 1964",{"$f":"CONCATENATE(VLOOKUP(A871,bangolf_kategorien!$A$2:$B$11,2,FALSE),\": \",D871,\", \",C871)","v":"H: Fritz, Alexander"},{"$f":"VLOOKUP(A871,bangolf_kategorien!$A$2:$B$11,2,FALSE)","v":"H"}]
["hs",34299,"Christian","Fritz","MC \"Möve\" Cuxhaven-Sahlenburg",{"$f":"CONCATENATE(VLOOKUP(A872,bangolf_kategorien!$A$2:$B$11,2,FALSE),\": \",D872,\", \",C872)","v":"H: Fritz, Christian"},{"$f":"VLOOKUP(A872,bangolf_kategorien!$A$2:$B$11,2,FALSE)","v":"H"}]
["hs",38328,"Christian","Fritz","MGC Ostheim / Rhön",{"$f":"CONCATENATE(VLOOKUP(A873,bangolf_kategorien!$A$2:$B$11,2,FALSE),\": \",D873,\", \",C873)","v":"H: Fritz, Christian"},{"$f":"VLOOKUP(A873,bangolf_kategorien!$A$2:$B$11,2,FALSE)","v":"H"}]
["ds",49258,"Manuela","Fritz","MC \"Möve\" Cuxhaven-Sahlenburg",{"$f":"CONCATENATE(VLOOKUP(A874,bangolf_kategorien!$A$2:$B$11,2,FALSE),\": \",D874,\", \",C874)","v":"D: Fritz, Manuela"},{"$f":"VLOOKUP(A874,bangolf_kategorien!$A$2:$B$11,2,FALSE)","v":"D"}]
["hv",37088,"Dietmar","Fritzenkötter","BGSV Castrop 1961",{"$f":"CONCATENATE(VLOOKUP(A875,bangolf_kategorien!$A$2:$B$11,2,FALSE),\": \",D875,\", \",C875)","v":"SM2: Fritzenkötter, Dietmar"},{"$f":"VLOOKUP(A875,bangolf_kategorien!$A$2:$B$11,2,FALSE)","v":"SM2"}]
["dv",37089,"Margot","Fritzenkötter","BGSV Castrop 1961",{"$f":"CONCATENATE(VLOOKUP(A876,bangolf_kategorien!$A$2:$B$11,2,FALSE),\": \",D876,\", \",C876)","v":"SW2: Fritzenkötter, Margot"},{"$f":"VLOOKUP(A876,bangolf_kategorien!$A$2:$B$11,2,FALSE)","v":"SW2"}]
["hs",40034,"Thies","Fritzenkötter","BGSV Castrop 1961",{"$f":"CONCATENATE(VLOOKUP(A877,bangolf_kategorien!$A$2:$B$11,2,FALSE),\": \",D877,\", \",C877)","v":"H: Fritzenkötter, Thies"},{"$f":"VLOOKUP(A877,bangolf_kategorien!$A$2:$B$11,2,FALSE)","v":"H"}]
["ds",3210817,"Julia","Fröhling","Hobby",{"$f":"CONCATENATE(VLOOKUP(A878,bangolf_kategorien!$A$2:$B$11,2,FALSE),\": \",D878,\", \",C878)","v":"D: Fröhling, Julia"},{"$f":"VLOOKUP(A878,bangolf_kategorien!$A$2:$B$11,2,FALSE)","v":"D"}]
["hv",24461,"Joachim","Fröhner","MGC Rot-Weiß Wanne-Eickel",{"$f":"CONCATENATE(VLOOKUP(A879,bangolf_kategorien!$A$2:$B$11,2,FALSE),\": \",D879,\", \",C879)","v":"SM2: Fröhner, Joachim"},{"$f":"VLOOKUP(A879,bangolf_kategorien!$A$2:$B$11,2,FALSE)","v":"SM2"}]
["ds",87511,"Mariya","Frontzek","MGC Rot-Weiß Wanne-Eickel",{"$f":"CONCATENATE(VLOOKUP(A880,bangolf_kategorien!$A$2:$B$11,2,FALSE),\": \",D880,\", \",C880)","v":"D: Frontzek, Mariya"},{"$f":"VLOOKUP(A880,bangolf_kategorien!$A$2:$B$11,2,FALSE)","v":"D"}]
["hs",48981,"Sascha","Frontzek","MGC Rot-Weiß Wanne-Eickel",{"$f":"CONCATENATE(VLOOKUP(A881,bangolf_kategorien!$A$2:$B$11,2,FALSE),\": \",D881,\", \",C881)","v":"H: Frontzek, Sascha"},{"$f":"VLOOKUP(A881,bangolf_kategorien!$A$2:$B$11,2,FALSE)","v":"H"}]
["hs",46404,"Andreas","Fuchs","BGC Neutraubling",{"$f":"CONCATENATE(VLOOKUP(A882,bangolf_kategorien!$A$2:$B$11,2,FALSE),\": \",D882,\", \",C882)","v":"H: Fuchs, Andreas"},{"$f":"VLOOKUP(A882,bangolf_kategorien!$A$2:$B$11,2,FALSE)","v":"H"}]
["dv",5081,"Angela","Fuchs","BGC Neutraubling",{"$f":"CONCATENATE(VLOOKUP(A883,bangolf_kategorien!$A$2:$B$11,2,FALSE),\": \",D883,\", \",C883)","v":"SW2: Fuchs, Angela"},{"$f":"VLOOKUP(A883,bangolf_kategorien!$A$2:$B$11,2,FALSE)","v":"SW2"}]
["hs",49798,"Christian","Fuchs","1. NMC Kelheim",{"$f":"CONCATENATE(VLOOKUP(A884,bangolf_kategorien!$A$2:$B$11,2,FALSE),\": \",D884,\", \",C884)","v":"H: Fuchs, Christian"},{"$f":"VLOOKUP(A884,bangolf_kategorien!$A$2:$B$11,2,FALSE)","v":"H"}]
["og",42170,"Tanja","Fuchs","MC Tigers Künsebeck",{"$f":"CONCATENATE(VLOOKUP(A885,bangolf_kategorien!$A$2:$B$11,2,FALSE),\": \",D885,\", \",C885)","v":"SW1: Fuchs, Tanja"},{"$f":"VLOOKUP(A885,bangolf_kategorien!$A$2:$B$11,2,FALSE)","v":"SW1"}]
["ob",31272,"Thomas","Fuchs","MC Tigers Künsebeck",{"$f":"CONCATENATE(VLOOKUP(A886,bangolf_kategorien!$A$2:$B$11,2,FALSE),\": \",D886,\", \",C886)","v":"SM1: Fuchs, Thomas"},{"$f":"VLOOKUP(A886,bangolf_kategorien!$A$2:$B$11,2,FALSE)","v":"SM1"}]
["hj",38576,"Tobias","Fuchs","MSK Neheim-Hüsten",{"$f":"CONCATENATE(VLOOKUP(A887,bangolf_kategorien!$A$2:$B$11,2,FALSE),\": \",D887,\", \",C887)","v":"JM: Fuchs, Tobias"},{"$f":"VLOOKUP(A887,bangolf_kategorien!$A$2:$B$11,2,FALSE)","v":"JM"}]
["hs",30940,"Manuel","Fugazza","MC Ilvesheim",{"$f":"CONCATENATE(VLOOKUP(A888,bangolf_kategorien!$A$2:$B$11,2,FALSE),\": \",D888,\", \",C888)","v":"H: Fugazza, Manuel"},{"$f":"VLOOKUP(A888,bangolf_kategorien!$A$2:$B$11,2,FALSE)","v":"H"}]
["ob",66466,"Bernd","Fuhrmann","BGSC Bochum 1978",{"$f":"CONCATENATE(VLOOKUP(A889,bangolf_kategorien!$A$2:$B$11,2,FALSE),\": \",D889,\", \",C889)","v":"SM1: Fuhrmann, Bernd"},{"$f":"VLOOKUP(A889,bangolf_kategorien!$A$2:$B$11,2,FALSE)","v":"SM1"}]
["hs",27212,"Stefan","Funk","MGC Oberkochen",{"$f":"CONCATENATE(VLOOKUP(A890,bangolf_kategorien!$A$2:$B$11,2,FALSE),\": \",D890,\", \",C890)","v":"H: Funk, Stefan"},{"$f":"VLOOKUP(A890,bangolf_kategorien!$A$2:$B$11,2,FALSE)","v":"H"}]
["ob",35791,"Andreas","Fütterer","Minigolf Wölfe Rheinstetten 02",{"$f":"CONCATENATE(VLOOKUP(A891,bangolf_kategorien!$A$2:$B$11,2,FALSE),\": \",D891,\", \",C891)","v":"SM1: Fütterer, Andreas"},{"$f":"VLOOKUP(A891,bangolf_kategorien!$A$2:$B$11,2,FALSE)","v":"SM1"}]
["ob",35793,"Thomas","Fütterer","Minigolf Wölfe Rheinstetten 02",{"$f":"CONCATENATE(VLOOKUP(A892,bangolf_kategorien!$A$2:$B$11,2,FALSE),\": \",D892,\", \",C892)","v":"SM1: Fütterer, Thomas"},{"$f":"VLOOKUP(A892,bangolf_kategorien!$A$2:$B$11,2,FALSE)","v":"SM1"}]
["hv",67456,"Klaus-Jürgen","Gäbelein","BSG Pneumant Fürstenwalde, Abt. Minigolf",{"$f":"CONCATENATE(VLOOKUP(A893,bangolf_kategorien!$A$2:$B$11,2,FALSE),\": \",D893,\", \",C893)","v":"SM2: Gäbelein, Klaus-Jürgen"},{"$f":"VLOOKUP(A893,bangolf_kategorien!$A$2:$B$11,2,FALSE)","v":"SM2"}]
["hj",66611,"Simon","Gabriel","MSK Olching",{"$f":"CONCATENATE(VLOOKUP(A894,bangolf_kategorien!$A$2:$B$11,2,FALSE),\": \",D894,\", \",C894)","v":"JM: Gabriel, Simon"},{"$f":"VLOOKUP(A894,bangolf_kategorien!$A$2:$B$11,2,FALSE)","v":"JM"}]
["og",40205,"Ellen","Galleinus","MSC Herscheid 1963",{"$f":"CONCATENATE(VLOOKUP(A895,bangolf_kategorien!$A$2:$B$11,2,FALSE),\": \",D895,\", \",C895)","v":"SW1: Galleinus, Ellen"},{"$f":"VLOOKUP(A895,bangolf_kategorien!$A$2:$B$11,2,FALSE)","v":"SW1"}]
["ob",27566,"Jens","Galleinus","MSC Herscheid 1963",{"$f":"CONCATENATE(VLOOKUP(A896,bangolf_kategorien!$A$2:$B$11,2,FALSE),\": \",D896,\", \",C896)","v":"SM1: Galleinus, Jens"},{"$f":"VLOOKUP(A896,bangolf_kategorien!$A$2:$B$11,2,FALSE)","v":"SM1"}]
["hv",66073,"Jürgen","Galz","BGSV Bad Homburg",{"$f":"CONCATENATE(VLOOKUP(A897,bangolf_kategorien!$A$2:$B$11,2,FALSE),\": \",D897,\", \",C897)","v":"SM2: Galz, Jürgen"},{"$f":"VLOOKUP(A897,bangolf_kategorien!$A$2:$B$11,2,FALSE)","v":"SM2"}]
["og",67091,"Gaby","Gäng","MGF Waldshut 74",{"$f":"CONCATENATE(VLOOKUP(A898,bangolf_kategorien!$A$2:$B$11,2,FALSE),\": \",D898,\", \",C898)","v":"SW1: Gäng, Gaby"},{"$f":"VLOOKUP(A898,bangolf_kategorien!$A$2:$B$11,2,FALSE)","v":"SW1"}]
["ob",3211955,"Stefan","Ganz","Hobby",{"$f":"CONCATENATE(VLOOKUP(A899,bangolf_kategorien!$A$2:$B$11,2,FALSE),\": \",D899,\", \",C899)","v":"SM1: Ganz, Stefan"},{"$f":"VLOOKUP(A899,bangolf_kategorien!$A$2:$B$11,2,FALSE)","v":"SM1"}]
["hj",66554,"Dennis","Garbe","MSG Kempten",{"$f":"CONCATENATE(VLOOKUP(A900,bangolf_kategorien!$A$2:$B$11,2,FALSE),\": \",D900,\", \",C900)","v":"JM: Garbe, Dennis"},{"$f":"VLOOKUP(A900,bangolf_kategorien!$A$2:$B$11,2,FALSE)","v":"JM"}]
["hv",66553,"Michael","Garbe","MSG Kempten",{"$f":"CONCATENATE(VLOOKUP(A901,bangolf_kategorien!$A$2:$B$11,2,FALSE),\": \",D901,\", \",C901)","v":"SM2: Garbe, Michael"},{"$f":"VLOOKUP(A901,bangolf_kategorien!$A$2:$B$11,2,FALSE)","v":"SM2"}]
["hv",45293,"Bruno","Garbers","SC Olympia Dortmund",{"$f":"CONCATENATE(VLOOKUP(A902,bangolf_kategorien!$A$2:$B$11,2,FALSE),\": \",D902,\", \",C902)","v":"SM2: Garbers, Bruno"},{"$f":"VLOOKUP(A902,bangolf_kategorien!$A$2:$B$11,2,FALSE)","v":"SM2"}]
["hv",37874,"Joachim","Garden","MGC Rot-Weiß Wanne-Eickel",{"$f":"CONCATENATE(VLOOKUP(A903,bangolf_kategorien!$A$2:$B$11,2,FALSE),\": \",D903,\", \",C903)","v":"SM2: Garden, Joachim"},{"$f":"VLOOKUP(A903,bangolf_kategorien!$A$2:$B$11,2,FALSE)","v":"SM2"}]
["hv",3106820,"Helmut","Garke","Hobby",{"$f":"CONCATENATE(VLOOKUP(A904,bangolf_kategorien!$A$2:$B$11,2,FALSE),\": \",D904,\", \",C904)","v":"SM2: Garke, Helmut"},{"$f":"VLOOKUP(A904,bangolf_kategorien!$A$2:$B$11,2,FALSE)","v":"SM2"}]
["hs",38168,"Chris","Garte","MV Lankwitzer Dragons",{"$f":"CONCATENATE(VLOOKUP(A905,bangolf_kategorien!$A$2:$B$11,2,FALSE),\": \",D905,\", \",C905)","v":"H: Garte, Chris"},{"$f":"VLOOKUP(A905,bangolf_kategorien!$A$2:$B$11,2,FALSE)","v":"H"}]
["hv",34722,"Wolfgang","Gasch","MGV Eibenstock",{"$f":"CONCATENATE(VLOOKUP(A906,bangolf_kategorien!$A$2:$B$11,2,FALSE),\": \",D906,\", \",C906)","v":"SM2: Gasch, Wolfgang"},{"$f":"VLOOKUP(A906,bangolf_kategorien!$A$2:$B$11,2,FALSE)","v":"SM2"}]
["ds",65897,"Birgit","Gase","1. MGC Gelsenkirchen",{"$f":"CONCATENATE(VLOOKUP(A907,bangolf_kategorien!$A$2:$B$11,2,FALSE),\": \",D907,\", \",C907)","v":"D: Gase, Birgit"},{"$f":"VLOOKUP(A907,bangolf_kategorien!$A$2:$B$11,2,FALSE)","v":"D"}]
["ob",38592,"Timo","Gase","1. MGC Gelsenkirchen",{"$f":"CONCATENATE(VLOOKUP(A908,bangolf_kategorien!$A$2:$B$11,2,FALSE),\": \",D908,\", \",C908)","v":"SM1: Gase, Timo"},{"$f":"VLOOKUP(A908,bangolf_kategorien!$A$2:$B$11,2,FALSE)","v":"SM1"}]
["ob",34092,"Wolfgang","Gaute","VfL Lüneburg Abt. Bahnengolf",{"$f":"CONCATENATE(VLOOKUP(A909,bangolf_kategorien!$A$2:$B$11,2,FALSE),\": \",D909,\", \",C909)","v":"SM1: Gaute, Wolfgang"},{"$f":"VLOOKUP(A909,bangolf_kategorien!$A$2:$B$11,2,FALSE)","v":"SM1"}]
["dv",3430,"Anna","Gawlowski","MGC Marl 1960",{"$f":"CONCATENATE(VLOOKUP(A910,bangolf_kategorien!$A$2:$B$11,2,FALSE),\": \",D910,\", \",C910)","v":"SW2: Gawlowski, Anna"},{"$f":"VLOOKUP(A910,bangolf_kategorien!$A$2:$B$11,2,FALSE)","v":"SW2"}]
["hv",42043,"Kurt","Gebauer","1. MGC München-Feldmoching",{"$f":"CONCATENATE(VLOOKUP(A911,bangolf_kategorien!$A$2:$B$11,2,FALSE),\": \",D911,\", \",C911)","v":"SM2: Gebauer, Kurt"},{"$f":"VLOOKUP(A911,bangolf_kategorien!$A$2:$B$11,2,FALSE)","v":"SM2"}]
["dj",66707,"Sarah","Gefreyer","BGC Diepholz",{"$f":"CONCATENATE(VLOOKUP(A912,bangolf_kategorien!$A$2:$B$11,2,FALSE),\": \",D912,\", \",C912)","v":"JW: Gefreyer, Sarah"},{"$f":"VLOOKUP(A912,bangolf_kategorien!$A$2:$B$11,2,FALSE)","v":"JW"}]
["ob",67012,"Steffen","Gefreyer","BGC Bremen",{"$f":"CONCATENATE(VLOOKUP(A913,bangolf_kategorien!$A$2:$B$11,2,FALSE),\": \",D913,\", \",C913)","v":"SM1: Gefreyer, Steffen"},{"$f":"VLOOKUP(A913,bangolf_kategorien!$A$2:$B$11,2,FALSE)","v":"SM1"}]
["hs",3211956,"Emanuel","Gehrendorf","Hobby",{"$f":"CONCATENATE(VLOOKUP(A914,bangolf_kategorien!$A$2:$B$11,2,FALSE),\": \",D914,\", \",C914)","v":"H: Gehrendorf, Emanuel"},{"$f":"VLOOKUP(A914,bangolf_kategorien!$A$2:$B$11,2,FALSE)","v":"H"}]
["ds",65466,"Alina","Gehrke","TSV Salzgitter Abt. Bahnengolf",{"$f":"CONCATENATE(VLOOKUP(A915,bangolf_kategorien!$A$2:$B$11,2,FALSE),\": \",D915,\", \",C915)","v":"D: Gehrke, Alina"},{"$f":"VLOOKUP(A915,bangolf_kategorien!$A$2:$B$11,2,FALSE)","v":"D"}]
["og",65468,"Cornelia","Gehrke","TSV Salzgitter Abt. Bahnengolf",{"$f":"CONCATENATE(VLOOKUP(A916,bangolf_kategorien!$A$2:$B$11,2,FALSE),\": \",D916,\", \",C916)","v":"SW1: Gehrke, Cornelia"},{"$f":"VLOOKUP(A916,bangolf_kategorien!$A$2:$B$11,2,FALSE)","v":"SW1"}]
["ob",1963,"Jörg","Gehrke","TSV Salzgitter Abt. Bahnengolf",{"$f":"CONCATENATE(VLOOKUP(A917,bangolf_kategorien!$A$2:$B$11,2,FALSE),\": \",D917,\", \",C917)","v":"SM1: Gehrke, Jörg"},{"$f":"VLOOKUP(A917,bangolf_kategorien!$A$2:$B$11,2,FALSE)","v":"SM1"}]
["ob",43120,"Thorsten","Geiger","BGC Heilbronn",{"$f":"CONCATENATE(VLOOKUP(A918,bangolf_kategorien!$A$2:$B$11,2,FALSE),\": \",D918,\", \",C918)","v":"SM1: Geiger, Thorsten"},{"$f":"VLOOKUP(A918,bangolf_kategorien!$A$2:$B$11,2,FALSE)","v":"SM1"}]
["hj",67305,"Gabriel","Geishüttner","MSC Bad Godesberg",{"$f":"CONCATENATE(VLOOKUP(A919,bangolf_kategorien!$A$2:$B$11,2,FALSE),\": \",D919,\", \",C919)","v":"JM: Geishüttner, Gabriel"},{"$f":"VLOOKUP(A919,bangolf_kategorien!$A$2:$B$11,2,FALSE)","v":"JM"}]
["ob",67306,"Gerhard","Geishüttner","MGC Nümbrecht",{"$f":"CONCATENATE(VLOOKUP(A920,bangolf_kategorien!$A$2:$B$11,2,FALSE),\": \",D920,\", \",C920)","v":"SM1: Geishüttner, Gerhard"},{"$f":"VLOOKUP(A920,bangolf_kategorien!$A$2:$B$11,2,FALSE)","v":"SM1"}]
["ob",42662,"Ralf","Geissler","1. MGC Metzingen",{"$f":"CONCATENATE(VLOOKUP(A921,bangolf_kategorien!$A$2:$B$11,2,FALSE),\": \",D921,\", \",C921)","v":"SM1: Geissler, Ralf"},{"$f":"VLOOKUP(A921,bangolf_kategorien!$A$2:$B$11,2,FALSE)","v":"SM1"}]
["hs",43605,"Alexander","Geist","BGS Hardenberg-Pötter",{"$f":"CONCATENATE(VLOOKUP(A922,bangolf_kategorien!$A$2:$B$11,2,FALSE),\": \",D922,\", \",C922)","v":"H: Geist, Alexander"},{"$f":"VLOOKUP(A922,bangolf_kategorien!$A$2:$B$11,2,FALSE)","v":"H"}]
["og",24314,"Michaela","Geist","MSC Bensheim-Auerbach",{"$f":"CONCATENATE(VLOOKUP(A923,bangolf_kategorien!$A$2:$B$11,2,FALSE),\": \",D923,\", \",C923)","v":"SW1: Geist, Michaela"},{"$f":"VLOOKUP(A923,bangolf_kategorien!$A$2:$B$11,2,FALSE)","v":"SW1"}]
["ob",41874,"Rainer","Gellermann","SGC Hagen",{"$f":"CONCATENATE(VLOOKUP(A924,bangolf_kategorien!$A$2:$B$11,2,FALSE),\": \",D924,\", \",C924)","v":"SM1: Gellermann, Rainer"},{"$f":"VLOOKUP(A924,bangolf_kategorien!$A$2:$B$11,2,FALSE)","v":"SM1"}]
["og",67577,"Ute","Gellißen","1.KGC Mönchengladbach",{"$f":"CONCATENATE(VLOOKUP(A925,bangolf_kategorien!$A$2:$B$11,2,FALSE),\": \",D925,\", \",C925)","v":"SW1: Gellißen, Ute"},{"$f":"VLOOKUP(A925,bangolf_kategorien!$A$2:$B$11,2,FALSE)","v":"SW1"}]
["ob",65931,"Michael","Genzer","BGC Dormagen",{"$f":"CONCATENATE(VLOOKUP(A926,bangolf_kategorien!$A$2:$B$11,2,FALSE),\": \",D926,\", \",C926)","v":"SM1: Genzer, Michael"},{"$f":"VLOOKUP(A926,bangolf_kategorien!$A$2:$B$11,2,FALSE)","v":"SM1"}]
["ob",34839,"Holger","Georgi","Reinickendorfer MGC",{"$f":"CONCATENATE(VLOOKUP(A927,bangolf_kategorien!$A$2:$B$11,2,FALSE),\": \",D927,\", \",C927)","v":"SM1: Georgi, Holger"},{"$f":"VLOOKUP(A927,bangolf_kategorien!$A$2:$B$11,2,FALSE)","v":"SM1"}]
["hs",35794,"Martin","Gerbert","Minigolf Wölfe Rheinstetten 02",{"$f":"CONCATENATE(VLOOKUP(A928,bangolf_kategorien!$A$2:$B$11,2,FALSE),\": \",D928,\", \",C928)","v":"H: Gerbert, Martin"},{"$f":"VLOOKUP(A928,bangolf_kategorien!$A$2:$B$11,2,FALSE)","v":"H"}]
["ob",32966,"Alfred","Gerdeisen","1. BGC Garmisch-Partenkirchen",{"$f":"CONCATENATE(VLOOKUP(A929,bangolf_kategorien!$A$2:$B$11,2,FALSE),\": \",D929,\", \",C929)","v":"SM1: Gerdeisen, Alfred"},{"$f":"VLOOKUP(A929,bangolf_kategorien!$A$2:$B$11,2,FALSE)","v":"SM1"}]
["og",67498,"Irmgard","Gerdeißen","1. BGC Garmisch-Partenkirchen",{"$f":"CONCATENATE(VLOOKUP(A930,bangolf_kategorien!$A$2:$B$11,2,FALSE),\": \",D930,\", \",C930)","v":"SW1: Gerdeißen, Irmgard"},{"$f":"VLOOKUP(A930,bangolf_kategorien!$A$2:$B$11,2,FALSE)","v":"SW1"}]
["hs",34891,"Felix","Gerhardt","MGC Murnau am Staffelsee",{"$f":"CONCATENATE(VLOOKUP(A931,bangolf_kategorien!$A$2:$B$11,2,FALSE),\": \",D931,\", \",C931)","v":"H: Gerhardt, Felix"},{"$f":"VLOOKUP(A931,bangolf_kategorien!$A$2:$B$11,2,FALSE)","v":"H"}]
["hs",35437,"Markus","Gerlach","MC Tigers Künsebeck",{"$f":"CONCATENATE(VLOOKUP(A932,bangolf_kategorien!$A$2:$B$11,2,FALSE),\": \",D932,\", \",C932)","v":"H: Gerlach, Markus"},{"$f":"VLOOKUP(A932,bangolf_kategorien!$A$2:$B$11,2,FALSE)","v":"H"}]
["pa",3345920,"Phillip","Gerlach","Hobby",{"$f":"CONCATENATE(VLOOKUP(A933,bangolf_kategorien!$A$2:$B$11,2,FALSE),\": \",D933,\", \",C933)","v":"SCHM: Gerlach, Phillip"},{"$f":"VLOOKUP(A933,bangolf_kategorien!$A$2:$B$11,2,FALSE)","v":"SCHM"}]
["ob",35436,"Stefan","Gerlach","MGC Bad Salzuflen",{"$f":"CONCATENATE(VLOOKUP(A934,bangolf_kategorien!$A$2:$B$11,2,FALSE),\": \",D934,\", \",C934)","v":"SM1: Gerlach, Stefan"},{"$f":"VLOOKUP(A934,bangolf_kategorien!$A$2:$B$11,2,FALSE)","v":"SM1"}]
["hv",62148,"Karl","Gerling","BGC Hamm 1959",{"$f":"CONCATENATE(VLOOKUP(A935,bangolf_kategorien!$A$2:$B$11,2,FALSE),\": \",D935,\", \",C935)","v":"SM2: Gerling, Karl"},{"$f":"VLOOKUP(A935,bangolf_kategorien!$A$2:$B$11,2,FALSE)","v":"SM2"}]
["hv",5821,"Karl-Heinz","Gerwert","MGF Waldshut 74",{"$f":"CONCATENATE(VLOOKUP(A936,bangolf_kategorien!$A$2:$B$11,2,FALSE),\": \",D936,\", \",C936)","v":"SM2: Gerwert, Karl-Heinz"},{"$f":"VLOOKUP(A936,bangolf_kategorien!$A$2:$B$11,2,FALSE)","v":"SM2"}]
["hv",37063,"Manfred","Geschonke","MSV 05 Bad Münder / Springe",{"$f":"CONCATENATE(VLOOKUP(A937,bangolf_kategorien!$A$2:$B$11,2,FALSE),\": \",D937,\", \",C937)","v":"SM2: Geschonke, Manfred"},{"$f":"VLOOKUP(A937,bangolf_kategorien!$A$2:$B$11,2,FALSE)","v":"SM2"}]
["hs",37060,"Yannis","Geschonke","MSV 05 Bad Münder / Springe",{"$f":"CONCATENATE(VLOOKUP(A938,bangolf_kategorien!$A$2:$B$11,2,FALSE),\": \",D938,\", \",C938)","v":"H: Geschonke, Yannis"},{"$f":"VLOOKUP(A938,bangolf_kategorien!$A$2:$B$11,2,FALSE)","v":"H"}]
["hs",35329,"Kevin","Gesell","MGC Bad Feilnbach",{"$f":"CONCATENATE(VLOOKUP(A939,bangolf_kategorien!$A$2:$B$11,2,FALSE),\": \",D939,\", \",C939)","v":"H: Gesell, Kevin"},{"$f":"VLOOKUP(A939,bangolf_kategorien!$A$2:$B$11,2,FALSE)","v":"H"}]
["og",41951,"Claudia","Geßner","1. Essener CGC \"Blau-Gold\"",{"$f":"CONCATENATE(VLOOKUP(A940,bangolf_kategorien!$A$2:$B$11,2,FALSE),\": \",D940,\", \",C940)","v":"SW1: Geßner, Claudia"},{"$f":"VLOOKUP(A940,bangolf_kategorien!$A$2:$B$11,2,FALSE)","v":"SW1"}]
["ob",25206,"Thomas","Giebenhain","MSC Bensheim-Auerbach",{"$f":"CONCATENATE(VLOOKUP(A941,bangolf_kategorien!$A$2:$B$11,2,FALSE),\": \",D941,\", \",C941)","v":"SM1: Giebenhain, Thomas"},{"$f":"VLOOKUP(A941,bangolf_kategorien!$A$2:$B$11,2,FALSE)","v":"SM1"}]
["hv",50294,"Heinz-Theo","Giegel","BGV Backumer Tal Herten",{"$f":"CONCATENATE(VLOOKUP(A942,bangolf_kategorien!$A$2:$B$11,2,FALSE),\": \",D942,\", \",C942)","v":"SM2: Giegel, Heinz-Theo"},{"$f":"VLOOKUP(A942,bangolf_kategorien!$A$2:$B$11,2,FALSE)","v":"SM2"}]
["hs",30460,"Pascal","Gillen","1. KC Homburg-Saar 1967",{"$f":"CONCATENATE(VLOOKUP(A943,bangolf_kategorien!$A$2:$B$11,2,FALSE),\": \",D943,\", \",C943)","v":"H: Gillen, Pascal"},{"$f":"VLOOKUP(A943,bangolf_kategorien!$A$2:$B$11,2,FALSE)","v":"H"}]
["hs",33015,"Marco","Ginal","Miniaturgolf Sportclub Schriesheim",{"$f":"CONCATENATE(VLOOKUP(A944,bangolf_kategorien!$A$2:$B$11,2,FALSE),\": \",D944,\", \",C944)","v":"H: Ginal, Marco"},{"$f":"VLOOKUP(A944,bangolf_kategorien!$A$2:$B$11,2,FALSE)","v":"H"}]
["hv",66864,"Rudolf","Ginschel","Bochumer Minigolf-Club 1960",{"$f":"CONCATENATE(VLOOKUP(A945,bangolf_kategorien!$A$2:$B$11,2,FALSE),\": \",D945,\", \",C945)","v":"SM2: Ginschel, Rudolf"},{"$f":"VLOOKUP(A945,bangolf_kategorien!$A$2:$B$11,2,FALSE)","v":"SM2"}]
["hs",33433,"Dimitri","Gkotses","MGF Hammer",{"$f":"CONCATENATE(VLOOKUP(A946,bangolf_kategorien!$A$2:$B$11,2,FALSE),\": \",D946,\", \",C946)","v":"H: Gkotses, Dimitri"},{"$f":"VLOOKUP(A946,bangolf_kategorien!$A$2:$B$11,2,FALSE)","v":"H"}]
["hv",3105978,"Peter","Gladen","Hobby",{"$f":"CONCATENATE(VLOOKUP(A947,bangolf_kategorien!$A$2:$B$11,2,FALSE),\": \",D947,\", \",C947)","v":"SM2: Gladen, Peter"},{"$f":"VLOOKUP(A947,bangolf_kategorien!$A$2:$B$11,2,FALSE)","v":"SM2"}]
["hv",22832,"Helmut","Glaser","MGC Sulzfeld",{"$f":"CONCATENATE(VLOOKUP(A948,bangolf_kategorien!$A$2:$B$11,2,FALSE),\": \",D948,\", \",C948)","v":"SM2: Glaser, Helmut"},{"$f":"VLOOKUP(A948,bangolf_kategorien!$A$2:$B$11,2,FALSE)","v":"SM2"}]
["ob",55133,"Michael","Glaser","MGC Bad Soden-Salmünster",{"$f":"CONCATENATE(VLOOKUP(A949,bangolf_kategorien!$A$2:$B$11,2,FALSE),\": \",D949,\", \",C949)","v":"SM1: Glaser, Michael"},{"$f":"VLOOKUP(A949,bangolf_kategorien!$A$2:$B$11,2,FALSE)","v":"SM1"}]
["hs",38284,"Nils","Glaser","Miniaturgolf Sportclub Schriesheim",{"$f":"CONCATENATE(VLOOKUP(A950,bangolf_kategorien!$A$2:$B$11,2,FALSE),\": \",D950,\", \",C950)","v":"H: Glaser, Nils"},{"$f":"VLOOKUP(A950,bangolf_kategorien!$A$2:$B$11,2,FALSE)","v":"H"}]
["hs",36872,"Timo","Glaser","Miniaturgolf Sportclub Schriesheim",{"$f":"CONCATENATE(VLOOKUP(A951,bangolf_kategorien!$A$2:$B$11,2,FALSE),\": \",D951,\", \",C951)","v":"H: Glaser, Timo"},{"$f":"VLOOKUP(A951,bangolf_kategorien!$A$2:$B$11,2,FALSE)","v":"H"}]
["og",31211,"Ute","Glaser","1. CGC Blau-Gelb Grötzingen",{"$f":"CONCATENATE(VLOOKUP(A952,bangolf_kategorien!$A$2:$B$11,2,FALSE),\": \",D952,\", \",C952)","v":"SW1: Glaser, Ute"},{"$f":"VLOOKUP(A952,bangolf_kategorien!$A$2:$B$11,2,FALSE)","v":"SW1"}]
["hs",67143,"Florian","Gläser","1. MGC Lohfelden 1997",{"$f":"CONCATENATE(VLOOKUP(A953,bangolf_kategorien!$A$2:$B$11,2,FALSE),\": \",D953,\", \",C953)","v":"H: Gläser, Florian"},{"$f":"VLOOKUP(A953,bangolf_kategorien!$A$2:$B$11,2,FALSE)","v":"H"}]
["og",3299911,"Martina","Glöditzsch","Hobby",{"$f":"CONCATENATE(VLOOKUP(A954,bangolf_kategorien!$A$2:$B$11,2,FALSE),\": \",D954,\", \",C954)","v":"SW1: Glöditzsch, Martina"},{"$f":"VLOOKUP(A954,bangolf_kategorien!$A$2:$B$11,2,FALSE)","v":"SW1"}]
["hs",66799,"Felix","Glück","1. MGC Mainz",{"$f":"CONCATENATE(VLOOKUP(A955,bangolf_kategorien!$A$2:$B$11,2,FALSE),\": \",D955,\", \",C955)","v":"H: Glück, Felix"},{"$f":"VLOOKUP(A955,bangolf_kategorien!$A$2:$B$11,2,FALSE)","v":"H"}]
["hv",67146,"Günter","Göbel","MGC Felderbachtal 1964",{"$f":"CONCATENATE(VLOOKUP(A956,bangolf_kategorien!$A$2:$B$11,2,FALSE),\": \",D956,\", \",C956)","v":"SM2: Göbel, Günter"},{"$f":"VLOOKUP(A956,bangolf_kategorien!$A$2:$B$11,2,FALSE)","v":"SM2"}]
["hs",33705,"Jan","Göbel","MGC Wertheim 91",{"$f":"CONCATENATE(VLOOKUP(A957,bangolf_kategorien!$A$2:$B$11,2,FALSE),\": \",D957,\", \",C957)","v":"H: Göbel, Jan"},{"$f":"VLOOKUP(A957,bangolf_kategorien!$A$2:$B$11,2,FALSE)","v":"H"}]
["dv",67145,"Marina","Göbel","MGC Felderbachtal 1964",{"$f":"CONCATENATE(VLOOKUP(A958,bangolf_kategorien!$A$2:$B$11,2,FALSE),\": \",D958,\", \",C958)","v":"SW2: Göbel, Marina"},{"$f":"VLOOKUP(A958,bangolf_kategorien!$A$2:$B$11,2,FALSE)","v":"SW2"}]
["dj",3094055,"Jeelka","Gohde","Hobby",{"$f":"CONCATENATE(VLOOKUP(A959,bangolf_kategorien!$A$2:$B$11,2,FALSE),\": \",D959,\", \",C959)","v":"JW: Gohde, Jeelka"},{"$f":"VLOOKUP(A959,bangolf_kategorien!$A$2:$B$11,2,FALSE)","v":"JW"}]
["hv",41340,"Michael","Gohl","VfB Osnabrück",{"$f":"CONCATENATE(VLOOKUP(A960,bangolf_kategorien!$A$2:$B$11,2,FALSE),\": \",D960,\", \",C960)","v":"SM2: Gohl, Michael"},{"$f":"VLOOKUP(A960,bangolf_kategorien!$A$2:$B$11,2,FALSE)","v":"SM2"}]
["hv",19022,"Andreas","Goihl","MCE Sindelfingen",{"$f":"CONCATENATE(VLOOKUP(A961,bangolf_kategorien!$A$2:$B$11,2,FALSE),\": \",D961,\", \",C961)","v":"SM2: Goihl, Andreas"},{"$f":"VLOOKUP(A961,bangolf_kategorien!$A$2:$B$11,2,FALSE)","v":"SM2"}]
["hv",4276,"Heinz","Goitowski","MGC Bad Salzuflen",{"$f":"CONCATENATE(VLOOKUP(A962,bangolf_kategorien!$A$2:$B$11,2,FALSE),\": \",D962,\", \",C962)","v":"SM2: Goitowski, Heinz"},{"$f":"VLOOKUP(A962,bangolf_kategorien!$A$2:$B$11,2,FALSE)","v":"SM2"}]
["og",66753,"Silke","Gold","MGF Magdeburg 1995",{"$f":"CONCATENATE(VLOOKUP(A963,bangolf_kategorien!$A$2:$B$11,2,FALSE),\": \",D963,\", \",C963)","v":"SW1: Gold, Silke"},{"$f":"VLOOKUP(A963,bangolf_kategorien!$A$2:$B$11,2,FALSE)","v":"SW1"}]
["hs",67218,"Thorsten","Goldau","Bochumer Minigolf-Club 1960",{"$f":"CONCATENATE(VLOOKUP(A964,bangolf_kategorien!$A$2:$B$11,2,FALSE),\": \",D964,\", \",C964)","v":"H: Goldau, Thorsten"},{"$f":"VLOOKUP(A964,bangolf_kategorien!$A$2:$B$11,2,FALSE)","v":"H"}]
["hv",67233,"Holger","Goldenbow","MSV 05 Bad Münder / Springe",{"$f":"CONCATENATE(VLOOKUP(A965,bangolf_kategorien!$A$2:$B$11,2,FALSE),\": \",D965,\", \",C965)","v":"SM2: Goldenbow, Holger"},{"$f":"VLOOKUP(A965,bangolf_kategorien!$A$2:$B$11,2,FALSE)","v":"SM2"}]
["ob",34013,"Heiko","Golder","Reinickendorfer MGC",{"$f":"CONCATENATE(VLOOKUP(A966,bangolf_kategorien!$A$2:$B$11,2,FALSE),\": \",D966,\", \",C966)","v":"SM1: Golder, Heiko"},{"$f":"VLOOKUP(A966,bangolf_kategorien!$A$2:$B$11,2,FALSE)","v":"SM1"}]
["ob",67503,"Michael","Goldhahn","1. MGC Lohfelden 1997",{"$f":"CONCATENATE(VLOOKUP(A967,bangolf_kategorien!$A$2:$B$11,2,FALSE),\": \",D967,\", \",C967)","v":"SM1: Goldhahn, Michael"},{"$f":"VLOOKUP(A967,bangolf_kategorien!$A$2:$B$11,2,FALSE)","v":"SM1"}]
["hv",36159,"Helmut","Goldschmidt","MSV Bad Kreuznach",{"$f":"CONCATENATE(VLOOKUP(A968,bangolf_kategorien!$A$2:$B$11,2,FALSE),\": \",D968,\", \",C968)","v":"SM2: Goldschmidt, Helmut"},{"$f":"VLOOKUP(A968,bangolf_kategorien!$A$2:$B$11,2,FALSE)","v":"SM2"}]
["hv",66631,"Heribert","Golka","1. BGC Hannover",{"$f":"CONCATENATE(VLOOKUP(A969,bangolf_kategorien!$A$2:$B$11,2,FALSE),\": \",D969,\", \",C969)","v":"SM2: Golka, Heribert"},{"$f":"VLOOKUP(A969,bangolf_kategorien!$A$2:$B$11,2,FALSE)","v":"SM2"}]
["ob",66872,"Gerhard","Goller","1. FMGC Lichtenfels 1961",{"$f":"CONCATENATE(VLOOKUP(A970,bangolf_kategorien!$A$2:$B$11,2,FALSE),\": \",D970,\", \",C970)","v":"SM1: Goller, Gerhard"},{"$f":"VLOOKUP(A970,bangolf_kategorien!$A$2:$B$11,2,FALSE)","v":"SM1"}]
["pa",66763,"Michael","Goresch","1. BGC Landshut",{"$f":"CONCATENATE(VLOOKUP(A971,bangolf_kategorien!$A$2:$B$11,2,FALSE),\": \",D971,\", \",C971)","v":"SCHM: Goresch, Michael"},{"$f":"VLOOKUP(A971,bangolf_kategorien!$A$2:$B$11,2,FALSE)","v":"SCHM"}]
["hv",17705,"Erwin","Görgen","MGC Traben-Trarbach",{"$f":"CONCATENATE(VLOOKUP(A972,bangolf_kategorien!$A$2:$B$11,2,FALSE),\": \",D972,\", \",C972)","v":"SM2: Görgen, Erwin"},{"$f":"VLOOKUP(A972,bangolf_kategorien!$A$2:$B$11,2,FALSE)","v":"SM2"}]
["hs",31965,"Dennis","Gorges","1. KC Homburg-Saar 1967",{"$f":"CONCATENATE(VLOOKUP(A973,bangolf_kategorien!$A$2:$B$11,2,FALSE),\": \",D973,\", \",C973)","v":"H: Gorges, Dennis"},{"$f":"VLOOKUP(A973,bangolf_kategorien!$A$2:$B$11,2,FALSE)","v":"H"}]
["ds",67035,"Petra","Görtz","1. MGC Mainz",{"$f":"CONCATENATE(VLOOKUP(A974,bangolf_kategorien!$A$2:$B$11,2,FALSE),\": \",D974,\", \",C974)","v":"D: Görtz, Petra"},{"$f":"VLOOKUP(A974,bangolf_kategorien!$A$2:$B$11,2,FALSE)","v":"D"}]
["hs",50035,"Andreas","Görtz-Fräßle","1. MGC Mainz",{"$f":"CONCATENATE(VLOOKUP(A975,bangolf_kategorien!$A$2:$B$11,2,FALSE),\": \",D975,\", \",C975)","v":"H: Görtz-Fräßle, Andreas"},{"$f":"VLOOKUP(A975,bangolf_kategorien!$A$2:$B$11,2,FALSE)","v":"H"}]
["dv",36076,"Ellen","Gose","1. MGV Spandau Berlin",{"$f":"CONCATENATE(VLOOKUP(A976,bangolf_kategorien!$A$2:$B$11,2,FALSE),\": \",D976,\", \",C976)","v":"SW2: Gose, Ellen"},{"$f":"VLOOKUP(A976,bangolf_kategorien!$A$2:$B$11,2,FALSE)","v":"SW2"}]
["ds",65830,"Yvonne","Gose","1. MGV Spandau Berlin",{"$f":"CONCATENATE(VLOOKUP(A977,bangolf_kategorien!$A$2:$B$11,2,FALSE),\": \",D977,\", \",C977)","v":"D: Gose, Yvonne"},{"$f":"VLOOKUP(A977,bangolf_kategorien!$A$2:$B$11,2,FALSE)","v":"D"}]
["ds",37377,"Sabrina","Gothmann","1. MGC Tuttlingen",{"$f":"CONCATENATE(VLOOKUP(A978,bangolf_kategorien!$A$2:$B$11,2,FALSE),\": \",D978,\", \",C978)","v":"D: Gothmann, Sabrina"},{"$f":"VLOOKUP(A978,bangolf_kategorien!$A$2:$B$11,2,FALSE)","v":"D"}]
["hv",66227,"Wolfgang","Gotthard","1. BGC Garmisch-Partenkirchen",{"$f":"CONCATENATE(VLOOKUP(A979,bangolf_kategorien!$A$2:$B$11,2,FALSE),\": \",D979,\", \",C979)","v":"SM2: Gotthard, Wolfgang"},{"$f":"VLOOKUP(A979,bangolf_kategorien!$A$2:$B$11,2,FALSE)","v":"SM2"}]
["ds",66476,"Runa Sophia","Gottke","MGC Traben-Trarbach",{"$f":"CONCATENATE(VLOOKUP(A980,bangolf_kategorien!$A$2:$B$11,2,FALSE),\": \",D980,\", \",C980)","v":"D: Gottke, Runa Sophia"},{"$f":"VLOOKUP(A980,bangolf_kategorien!$A$2:$B$11,2,FALSE)","v":"D"}]
["hj",67425,"Leon","Göttlich","MC Ilvesheim",{"$f":"CONCATENATE(VLOOKUP(A981,bangolf_kategorien!$A$2:$B$11,2,FALSE),\": \",D981,\", \",C981)","v":"JM: Göttlich, Leon"},{"$f":"VLOOKUP(A981,bangolf_kategorien!$A$2:$B$11,2,FALSE)","v":"JM"}]
["hs",38630,"Hendrik","Göttmann","SG Arheilgen Abt. Bahnengolf",{"$f":"CONCATENATE(VLOOKUP(A982,bangolf_kategorien!$A$2:$B$11,2,FALSE),\": \",D982,\", \",C982)","v":"H: Göttmann, Hendrik"},{"$f":"VLOOKUP(A982,bangolf_kategorien!$A$2:$B$11,2,FALSE)","v":"H"}]
["hv",38631,"Holger","Göttmann","SG Arheilgen Abt. Bahnengolf",{"$f":"CONCATENATE(VLOOKUP(A983,bangolf_kategorien!$A$2:$B$11,2,FALSE),\": \",D983,\", \",C983)","v":"SM2: Göttmann, Holger"},{"$f":"VLOOKUP(A983,bangolf_kategorien!$A$2:$B$11,2,FALSE)","v":"SM2"}]
["hv",67015,"Wolfgang","Gottschling","1. CGC Blau-Gelb Grötzingen",{"$f":"CONCATENATE(VLOOKUP(A984,bangolf_kategorien!$A$2:$B$11,2,FALSE),\": \",D984,\", \",C984)","v":"SM2: Gottschling, Wolfgang"},{"$f":"VLOOKUP(A984,bangolf_kategorien!$A$2:$B$11,2,FALSE)","v":"SM2"}]
["ob",34709,"Holger","Götz","BGC Neutraubling",{"$f":"CONCATENATE(VLOOKUP(A985,bangolf_kategorien!$A$2:$B$11,2,FALSE),\": \",D985,\", \",C985)","v":"SM1: Götz, Holger"},{"$f":"VLOOKUP(A985,bangolf_kategorien!$A$2:$B$11,2,FALSE)","v":"SM1"}]
["ob",40135,"Christian","Graage","Preetzer TSV von 1861 Abt. Minigolf",{"$f":"CONCATENATE(VLOOKUP(A986,bangolf_kategorien!$A$2:$B$11,2,FALSE),\": \",D986,\", \",C986)","v":"SM1: Graage, Christian"},{"$f":"VLOOKUP(A986,bangolf_kategorien!$A$2:$B$11,2,FALSE)","v":"SM1"}]
["hv",37979,"Thomas","Gräber","1. MC Weinheim",{"$f":"CONCATENATE(VLOOKUP(A987,bangolf_kategorien!$A$2:$B$11,2,FALSE),\": \",D987,\", \",C987)","v":"SM2: Gräber, Thomas"},{"$f":"VLOOKUP(A987,bangolf_kategorien!$A$2:$B$11,2,FALSE)","v":"SM2"}]
["ob",66812,"Wolfgang","Gräble","MGF Hilzingen 80",{"$f":"CONCATENATE(VLOOKUP(A988,bangolf_kategorien!$A$2:$B$11,2,FALSE),\": \",D988,\", \",C988)","v":"SM1: Gräble, Wolfgang"},{"$f":"VLOOKUP(A988,bangolf_kategorien!$A$2:$B$11,2,FALSE)","v":"SM1"}]
["hv",5271,"Anton","Grabrucker","OMGC Ingolstadt",{"$f":"CONCATENATE(VLOOKUP(A989,bangolf_kategorien!$A$2:$B$11,2,FALSE),\": \",D989,\", \",C989)","v":"SM2: Grabrucker, Anton"},{"$f":"VLOOKUP(A989,bangolf_kategorien!$A$2:$B$11,2,FALSE)","v":"SM2"}]
["dv",9033,"Elfriede","Grabrucker","OMGC Ingolstadt",{"$f":"CONCATENATE(VLOOKUP(A990,bangolf_kategorien!$A$2:$B$11,2,FALSE),\": \",D990,\", \",C990)","v":"SW2: Grabrucker, Elfriede"},{"$f":"VLOOKUP(A990,bangolf_kategorien!$A$2:$B$11,2,FALSE)","v":"SW2"}]
["dj",63961,"Jasmin","Grabrucker","OMGC Ingolstadt",{"$f":"CONCATENATE(VLOOKUP(A991,bangolf_kategorien!$A$2:$B$11,2,FALSE),\": \",D991,\", \",C991)","v":"JW: Grabrucker, Jasmin"},{"$f":"VLOOKUP(A991,bangolf_kategorien!$A$2:$B$11,2,FALSE)","v":"JW"}]
["fa",67139,"Lena","Grabrucker","OMGC Ingolstadt",{"$f":"CONCATENATE(VLOOKUP(A992,bangolf_kategorien!$A$2:$B$11,2,FALSE),\": \",D992,\", \",C992)","v":"SCHW: Grabrucker, Lena"},{"$f":"VLOOKUP(A992,bangolf_kategorien!$A$2:$B$11,2,FALSE)","v":"SCHW"}]
["ob",28389,"Manfred","Grabrucker","OMGC Ingolstadt",{"$f":"CONCATENATE(VLOOKUP(A993,bangolf_kategorien!$A$2:$B$11,2,FALSE),\": \",D993,\", \",C993)","v":"SM1: Grabrucker, Manfred"},{"$f":"VLOOKUP(A993,bangolf_kategorien!$A$2:$B$11,2,FALSE)","v":"SM1"}]
["hs",25675,"Markus","Grabrucker","OMGC Ingolstadt",{"$f":"CONCATENATE(VLOOKUP(A994,bangolf_kategorien!$A$2:$B$11,2,FALSE),\": \",D994,\", \",C994)","v":"H: Grabrucker, Markus"},{"$f":"VLOOKUP(A994,bangolf_kategorien!$A$2:$B$11,2,FALSE)","v":"H"}]
["hs",40381,"Stefan","Grabrucker","OMGC Ingolstadt",{"$f":"CONCATENATE(VLOOKUP(A995,bangolf_kategorien!$A$2:$B$11,2,FALSE),\": \",D995,\", \",C995)","v":"H: Grabrucker, Stefan"},{"$f":"VLOOKUP(A995,bangolf_kategorien!$A$2:$B$11,2,FALSE)","v":"H"}]
["ds",30979,"Stephanie","Grabrucker","OMGC Ingolstadt",{"$f":"CONCATENATE(VLOOKUP(A996,bangolf_kategorien!$A$2:$B$11,2,FALSE),\": \",D996,\", \",C996)","v":"D: Grabrucker, Stephanie"},{"$f":"VLOOKUP(A996,bangolf_kategorien!$A$2:$B$11,2,FALSE)","v":"D"}]
["hs",37359,"Lars","Graeber","BGV Bergisch Land 1962 / 63",{"$f":"CONCATENATE(VLOOKUP(A997,bangolf_kategorien!$A$2:$B$11,2,FALSE),\": \",D997,\", \",C997)","v":"H: Graeber, Lars"},{"$f":"VLOOKUP(A997,bangolf_kategorien!$A$2:$B$11,2,FALSE)","v":"H"}]
["hv",33132,"Roger","Graf","MGC Traben-Trarbach",{"$f":"CONCATENATE(VLOOKUP(A998,bangolf_kategorien!$A$2:$B$11,2,FALSE),\": \",D998,\", \",C998)","v":"SM2: Graf, Roger"},{"$f":"VLOOKUP(A998,bangolf_kategorien!$A$2:$B$11,2,FALSE)","v":"SM2"}]
["ob",66498,"Thomas","Gräf","MGC Bad Feilnbach",{"$f":"CONCATENATE(VLOOKUP(A999,bangolf_kategorien!$A$2:$B$11,2,FALSE),\": \",D999,\", \",C999)","v":"SM1: Gräf, Thomas"},{"$f":"VLOOKUP(A999,bangolf_kategorien!$A$2:$B$11,2,FALSE)","v":"SM1"}]
["hs",34316,"Ingo","Graf von Mainberg","BGC Schweinfurt",{"$f":"CONCATENATE(VLOOKUP(A1000,bangolf_kategorien!$A$2:$B$11,2,FALSE),\": \",D1000,\", \",C1000)","v":"H: Graf von Mainberg, Ingo"},{"$f":"VLOOKUP(A1000,bangolf_kategorien!$A$2:$B$11,2,FALSE)","v":"H"}]
["ob",67471,"Olaf","Gralow","1. Essener CGC \"Blau-Gold\"",{"$f":"CONCATENATE(VLOOKUP(A1001,bangolf_kategorien!$A$2:$B$11,2,FALSE),\": \",D1001,\", \",C1001)","v":"SM1: Gralow, Olaf"},{"$f":"VLOOKUP(A1001,bangolf_kategorien!$A$2:$B$11,2,FALSE)","v":"SM1"}]
["og",67472,"Regina","Gralow","1. Essener CGC \"Blau-Gold\"",{"$f":"CONCATENATE(VLOOKUP(A1002,bangolf_kategorien!$A$2:$B$11,2,FALSE),\": \",D1002,\", \",C1002)","v":"SW1: Gralow, Regina"},{"$f":"VLOOKUP(A1002,bangolf_kategorien!$A$2:$B$11,2,FALSE)","v":"SW1"}]
["hv",34359,"Frank","Gramer","1. MGC Tuttlingen",{"$f":"CONCATENATE(VLOOKUP(A1003,bangolf_kategorien!$A$2:$B$11,2,FALSE),\": \",D1003,\", \",C1003)","v":"SM2: Gramer, Frank"},{"$f":"VLOOKUP(A1003,bangolf_kategorien!$A$2:$B$11,2,FALSE)","v":"SM2"}]
["og",1344,"Susanne","Granz","MC \"Möve\" Cuxhaven-Sahlenburg",{"$f":"CONCATENATE(VLOOKUP(A1004,bangolf_kategorien!$A$2:$B$11,2,FALSE),\": \",D1004,\", \",C1004)","v":"SW1: Granz, Susanne"},{"$f":"VLOOKUP(A1004,bangolf_kategorien!$A$2:$B$11,2,FALSE)","v":"SW1"}]
["ob",45502,"Gerno","Grapengeter","MGC Dormagen-Brechten",{"$f":"CONCATENATE(VLOOKUP(A1005,bangolf_kategorien!$A$2:$B$11,2,FALSE),\": \",D1005,\", \",C1005)","v":"SM1: Grapengeter, Gerno"},{"$f":"VLOOKUP(A1005,bangolf_kategorien!$A$2:$B$11,2,FALSE)","v":"SM1"}]
["ob",67320,"André","Gras","1. MGC Peine von 1965",{"$f":"CONCATENATE(VLOOKUP(A1006,bangolf_kategorien!$A$2:$B$11,2,FALSE),\": \",D1006,\", \",C1006)","v":"SM1: Gras, André"},{"$f":"VLOOKUP(A1006,bangolf_kategorien!$A$2:$B$11,2,FALSE)","v":"SM1"}]
["ds",66277,"Patricia","Gras","MGC Millennium Lorsch",{"$f":"CONCATENATE(VLOOKUP(A1007,bangolf_kategorien!$A$2:$B$11,2,FALSE),\": \",D1007,\", \",C1007)","v":"D: Gras, Patricia"},{"$f":"VLOOKUP(A1007,bangolf_kategorien!$A$2:$B$11,2,FALSE)","v":"D"}]
["hj",66658,"Lucas","Graumann","TSV Salzgitter Abt. Bahnengolf",{"$f":"CONCATENATE(VLOOKUP(A1008,bangolf_kategorien!$A$2:$B$11,2,FALSE),\": \",D1008,\", \",C1008)","v":"JM: Graumann, Lucas"},{"$f":"VLOOKUP(A1008,bangolf_kategorien!$A$2:$B$11,2,FALSE)","v":"JM"}]
["hs",66648,"Eicke","Greh","Reinickendorfer MGC",{"$f":"CONCATENATE(VLOOKUP(A1009,bangolf_kategorien!$A$2:$B$11,2,FALSE),\": \",D1009,\", \",C1009)","v":"H: Greh, Eicke"},{"$f":"VLOOKUP(A1009,bangolf_kategorien!$A$2:$B$11,2,FALSE)","v":"H"}]
["hv",3800,"Hellmut","Greiffendorf","MGC \"AS\" Witten 1963",{"$f":"CONCATENATE(VLOOKUP(A1010,bangolf_kategorien!$A$2:$B$11,2,FALSE),\": \",D1010,\", \",C1010)","v":"SM2: Greiffendorf, Hellmut"},{"$f":"VLOOKUP(A1010,bangolf_kategorien!$A$2:$B$11,2,FALSE)","v":"SM2"}]
["hs",30056,"Lars","Greiffendorf","1. MGC Mainz",{"$f":"CONCATENATE(VLOOKUP(A1011,bangolf_kategorien!$A$2:$B$11,2,FALSE),\": \",D1011,\", \",C1011)","v":"H: Greiffendorf, Lars"},{"$f":"VLOOKUP(A1011,bangolf_kategorien!$A$2:$B$11,2,FALSE)","v":"H"}]
["ob",31762,"Thomas","Gress","MGC Bad Hersfeld",{"$f":"CONCATENATE(VLOOKUP(A1012,bangolf_kategorien!$A$2:$B$11,2,FALSE),\": \",D1012,\", \",C1012)","v":"SM1: Gress, Thomas"},{"$f":"VLOOKUP(A1012,bangolf_kategorien!$A$2:$B$11,2,FALSE)","v":"SM1"}]
["pa",67095,"Simon","Griebat","MSK Olching",{"$f":"CONCATENATE(VLOOKUP(A1013,bangolf_kategorien!$A$2:$B$11,2,FALSE),\": \",D1013,\", \",C1013)","v":"SCHM: Griebat, Simon"},{"$f":"VLOOKUP(A1013,bangolf_kategorien!$A$2:$B$11,2,FALSE)","v":"SCHM"}]
["hv",3321481,"Dieter","Griegel","Hobby",{"$f":"CONCATENATE(VLOOKUP(A1014,bangolf_kategorien!$A$2:$B$11,2,FALSE),\": \",D1014,\", \",C1014)","v":"SM2: Griegel, Dieter"},{"$f":"VLOOKUP(A1014,bangolf_kategorien!$A$2:$B$11,2,FALSE)","v":"SM2"}]
["og",67065,"Christine","Gries","SSV Ulm 1846 Abt. Bahnengolf",{"$f":"CONCATENATE(VLOOKUP(A1015,bangolf_kategorien!$A$2:$B$11,2,FALSE),\": \",D1015,\", \",C1015)","v":"SW1: Gries, Christine"},{"$f":"VLOOKUP(A1015,bangolf_kategorien!$A$2:$B$11,2,FALSE)","v":"SW1"}]
["ob",46148,"Ottmar","Gries","SSV Ulm 1846 Abt. Bahnengolf",{"$f":"CONCATENATE(VLOOKUP(A1016,bangolf_kategorien!$A$2:$B$11,2,FALSE),\": \",D1016,\", \",C1016)","v":"SM1: Gries, Ottmar"},{"$f":"VLOOKUP(A1016,bangolf_kategorien!$A$2:$B$11,2,FALSE)","v":"SM1"}]
["hv",25960,"Bernd","Grigo","VfM Bottrop",{"$f":"CONCATENATE(VLOOKUP(A1017,bangolf_kategorien!$A$2:$B$11,2,FALSE),\": \",D1017,\", \",C1017)","v":"SM2: Grigo, Bernd"},{"$f":"VLOOKUP(A1017,bangolf_kategorien!$A$2:$B$11,2,FALSE)","v":"SM2"}]
["hs",37669,"Marcus","Grimm","BSV 86 München",{"$f":"CONCATENATE(VLOOKUP(A1018,bangolf_kategorien!$A$2:$B$11,2,FALSE),\": \",D1018,\", \",C1018)","v":"H: Grimm, Marcus"},{"$f":"VLOOKUP(A1018,bangolf_kategorien!$A$2:$B$11,2,FALSE)","v":"H"}]
["hv",65794,"Wolf-Dieter","Grimm","SV Lurup Abt. Bahnengolf",{"$f":"CONCATENATE(VLOOKUP(A1019,bangolf_kategorien!$A$2:$B$11,2,FALSE),\": \",D1019,\", \",C1019)","v":"SM2: Grimm, Wolf-Dieter"},{"$f":"VLOOKUP(A1019,bangolf_kategorien!$A$2:$B$11,2,FALSE)","v":"SM2"}]
["ob",463,"Uwe","Grimme","1. NMC Kelheim",{"$f":"CONCATENATE(VLOOKUP(A1020,bangolf_kategorien!$A$2:$B$11,2,FALSE),\": \",D1020,\", \",C1020)","v":"SM1: Grimme, Uwe"},{"$f":"VLOOKUP(A1020,bangolf_kategorien!$A$2:$B$11,2,FALSE)","v":"SM1"}]
["ob",38540,"Robert","Grobe","MGC Rot-Weiß Wanne-Eickel",{"$f":"CONCATENATE(VLOOKUP(A1021,bangolf_kategorien!$A$2:$B$11,2,FALSE),\": \",D1021,\", \",C1021)","v":"SM1: Grobe, Robert"},{"$f":"VLOOKUP(A1021,bangolf_kategorien!$A$2:$B$11,2,FALSE)","v":"SM1"}]
["ob",66339,"Thomas","Grobe","1. BGC Hannover",{"$f":"CONCATENATE(VLOOKUP(A1022,bangolf_kategorien!$A$2:$B$11,2,FALSE),\": \",D1022,\", \",C1022)","v":"SM1: Grobe, Thomas"},{"$f":"VLOOKUP(A1022,bangolf_kategorien!$A$2:$B$11,2,FALSE)","v":"SM1"}]
["ob",67029,"Bernhard","Gröbel","MSV Würzburg-Löwenbrücke",{"$f":"CONCATENATE(VLOOKUP(A1023,bangolf_kategorien!$A$2:$B$11,2,FALSE),\": \",D1023,\", \",C1023)","v":"SM1: Gröbel, Bernhard"},{"$f":"VLOOKUP(A1023,bangolf_kategorien!$A$2:$B$11,2,FALSE)","v":"SM1"}]
["hv",66416,"Ronald","Groenewoud","BGSV Castrop 1961",{"$f":"CONCATENATE(VLOOKUP(A1024,bangolf_kategorien!$A$2:$B$11,2,FALSE),\": \",D1024,\", \",C1024)","v":"SM2: Groenewoud, Ronald"},{"$f":"VLOOKUP(A1024,bangolf_kategorien!$A$2:$B$11,2,FALSE)","v":"SM2"}]
["hv",36717,"Rainer","Grohse","MGC Brunsbüttel",{"$f":"CONCATENATE(VLOOKUP(A1025,bangolf_kategorien!$A$2:$B$11,2,FALSE),\": \",D1025,\", \",C1025)","v":"SM2: Grohse, Rainer"},{"$f":"VLOOKUP(A1025,bangolf_kategorien!$A$2:$B$11,2,FALSE)","v":"SM2"}]
["hs",65954,"Frederick","Grombein","Kölner Miniatur Golf Club",{"$f":"CONCATENATE(VLOOKUP(A1026,bangolf_kategorien!$A$2:$B$11,2,FALSE),\": \",D1026,\", \",C1026)","v":"H: Grombein, Frederick"},{"$f":"VLOOKUP(A1026,bangolf_kategorien!$A$2:$B$11,2,FALSE)","v":"H"}]
["hv",66567,"Frank","Gromm","BGSC \"Gut Schlag\" Gladbeck",{"$f":"CONCATENATE(VLOOKUP(A1027,bangolf_kategorien!$A$2:$B$11,2,FALSE),\": \",D1027,\", \",C1027)","v":"SM2: Gromm, Frank"},{"$f":"VLOOKUP(A1027,bangolf_kategorien!$A$2:$B$11,2,FALSE)","v":"SM2"}]
["hs",26423,"Markus","Groneberg","VfM Berlin",{"$f":"CONCATENATE(VLOOKUP(A1028,bangolf_kategorien!$A$2:$B$11,2,FALSE),\": \",D1028,\", \",C1028)","v":"H: Groneberg, Markus"},{"$f":"VLOOKUP(A1028,bangolf_kategorien!$A$2:$B$11,2,FALSE)","v":"H"}]
["dv",65971,"Friederike","Gronski","MGC Bergisch Gladbach Gierath",{"$f":"CONCATENATE(VLOOKUP(A1029,bangolf_kategorien!$A$2:$B$11,2,FALSE),\": \",D1029,\", \",C1029)","v":"SW2: Gronski, Friederike"},{"$f":"VLOOKUP(A1029,bangolf_kategorien!$A$2:$B$11,2,FALSE)","v":"SW2"}]
["hv",65976,"Thomas","Gronski","MGC Bergisch Gladbach Gierath",{"$f":"CONCATENATE(VLOOKUP(A1030,bangolf_kategorien!$A$2:$B$11,2,FALSE),\": \",D1030,\", \",C1030)","v":"SM2: Gronski, Thomas"},{"$f":"VLOOKUP(A1030,bangolf_kategorien!$A$2:$B$11,2,FALSE)","v":"SM2"}]
["dv",22243,"Ina","Grosse","TV Trappenkamp - Minigolf -",{"$f":"CONCATENATE(VLOOKUP(A1031,bangolf_kategorien!$A$2:$B$11,2,FALSE),\": \",D1031,\", \",C1031)","v":"SW2: Grosse, Ina"},{"$f":"VLOOKUP(A1031,bangolf_kategorien!$A$2:$B$11,2,FALSE)","v":"SW2"}]
["hv",30400,"Bertold","Großmann","MGC Sulzfeld",{"$f":"CONCATENATE(VLOOKUP(A1032,bangolf_kategorien!$A$2:$B$11,2,FALSE),\": \",D1032,\", \",C1032)","v":"SM2: Großmann, Bertold"},{"$f":"VLOOKUP(A1032,bangolf_kategorien!$A$2:$B$11,2,FALSE)","v":"SM2"}]
["hs",38461,"Lennart","Großmann","1. BGC Wolfsburg",{"$f":"CONCATENATE(VLOOKUP(A1033,bangolf_kategorien!$A$2:$B$11,2,FALSE),\": \",D1033,\", \",C1033)","v":"H: Großmann, Lennart"},{"$f":"VLOOKUP(A1033,bangolf_kategorien!$A$2:$B$11,2,FALSE)","v":"H"}]
["ds",66890,"Thenea","Großmann","1. BGC Wolfsburg",{"$f":"CONCATENATE(VLOOKUP(A1034,bangolf_kategorien!$A$2:$B$11,2,FALSE),\": \",D1034,\", \",C1034)","v":"D: Großmann, Thenea"},{"$f":"VLOOKUP(A1034,bangolf_kategorien!$A$2:$B$11,2,FALSE)","v":"D"}]
["dv",37516,"Rosemarie","Groteböhmer","MSC Bad Godesberg",{"$f":"CONCATENATE(VLOOKUP(A1035,bangolf_kategorien!$A$2:$B$11,2,FALSE),\": \",D1035,\", \",C1035)","v":"SW2: Groteböhmer, Rosemarie"},{"$f":"VLOOKUP(A1035,bangolf_kategorien!$A$2:$B$11,2,FALSE)","v":"SW2"}]
["hs",29588,"Stefan","Gruber","MGC Murnau am Staffelsee",{"$f":"CONCATENATE(VLOOKUP(A1036,bangolf_kategorien!$A$2:$B$11,2,FALSE),\": \",D1036,\", \",C1036)","v":"H: Gruber, Stefan"},{"$f":"VLOOKUP(A1036,bangolf_kategorien!$A$2:$B$11,2,FALSE)","v":"H"}]
["hs",31872,"Christoph","Grübl","1. BGC Landshut",{"$f":"CONCATENATE(VLOOKUP(A1037,bangolf_kategorien!$A$2:$B$11,2,FALSE),\": \",D1037,\", \",C1037)","v":"H: Grübl, Christoph"},{"$f":"VLOOKUP(A1037,bangolf_kategorien!$A$2:$B$11,2,FALSE)","v":"H"}]
["dv",6550,"Sieglinde","Grübl","1. BGC Landshut",{"$f":"CONCATENATE(VLOOKUP(A1038,bangolf_kategorien!$A$2:$B$11,2,FALSE),\": \",D1038,\", \",C1038)","v":"SW2: Grübl, Sieglinde"},{"$f":"VLOOKUP(A1038,bangolf_kategorien!$A$2:$B$11,2,FALSE)","v":"SW2"}]
["hv",3802,"Jürgen","Grügelsberg","MGC \"AS\" Witten 1963",{"$f":"CONCATENATE(VLOOKUP(A1039,bangolf_kategorien!$A$2:$B$11,2,FALSE),\": \",D1039,\", \",C1039)","v":"SM2: Grügelsberg, Jürgen"},{"$f":"VLOOKUP(A1039,bangolf_kategorien!$A$2:$B$11,2,FALSE)","v":"SM2"}]
["dv",3126,"Marianne","Grügelsberg","MGC \"AS\" Witten 1963",{"$f":"CONCATENATE(VLOOKUP(A1040,bangolf_kategorien!$A$2:$B$11,2,FALSE),\": \",D1040,\", \",C1040)","v":"SW2: Grügelsberg, Marianne"},{"$f":"VLOOKUP(A1040,bangolf_kategorien!$A$2:$B$11,2,FALSE)","v":"SW2"}]
["og",25695,"Iris","Grün","BGC Dormagen",{"$f":"CONCATENATE(VLOOKUP(A1041,bangolf_kategorien!$A$2:$B$11,2,FALSE),\": \",D1041,\", \",C1041)","v":"SW1: Grün, Iris"},{"$f":"VLOOKUP(A1041,bangolf_kategorien!$A$2:$B$11,2,FALSE)","v":"SW1"}]
["hv",67264,"Richard","Grünberg","TSV Kücknitz Abt. Bahnengolf",{"$f":"CONCATENATE(VLOOKUP(A1042,bangolf_kategorien!$A$2:$B$11,2,FALSE),\": \",D1042,\", \",C1042)","v":"SM2: Grünberg, Richard"},{"$f":"VLOOKUP(A1042,bangolf_kategorien!$A$2:$B$11,2,FALSE)","v":"SM2"}]
["ob",35168,"Dirk","Gründer","BGSC \"Gut Schlag\" Gladbeck",{"$f":"CONCATENATE(VLOOKUP(A1043,bangolf_kategorien!$A$2:$B$11,2,FALSE),\": \",D1043,\", \",C1043)","v":"SM1: Gründer, Dirk"},{"$f":"VLOOKUP(A1043,bangolf_kategorien!$A$2:$B$11,2,FALSE)","v":"SM1"}]
["fa",67567,"Isabella","Gründer","BGSC \"Gut Schlag\" Gladbeck",{"$f":"CONCATENATE(VLOOKUP(A1044,bangolf_kategorien!$A$2:$B$11,2,FALSE),\": \",D1044,\", \",C1044)","v":"SCHW: Gründer, Isabella"},{"$f":"VLOOKUP(A1044,bangolf_kategorien!$A$2:$B$11,2,FALSE)","v":"SCHW"}]
["hv",67454,"Eric","Grundmann","BGC Schloß Paffendorf",{"$f":"CONCATENATE(VLOOKUP(A1045,bangolf_kategorien!$A$2:$B$11,2,FALSE),\": \",D1045,\", \",C1045)","v":"SM2: Grundmann, Eric"},{"$f":"VLOOKUP(A1045,bangolf_kategorien!$A$2:$B$11,2,FALSE)","v":"SM2"}]
["hs",66884,"Benedikt","Grundmüller","MGC Ingolstadt",{"$f":"CONCATENATE(VLOOKUP(A1046,bangolf_kategorien!$A$2:$B$11,2,FALSE),\": \",D1046,\", \",C1046)","v":"H: Grundmüller, Benedikt"},{"$f":"VLOOKUP(A1046,bangolf_kategorien!$A$2:$B$11,2,FALSE)","v":"H"}]
["ob",44875,"Franz","Grundmüller","MGC Ingolstadt",{"$f":"CONCATENATE(VLOOKUP(A1047,bangolf_kategorien!$A$2:$B$11,2,FALSE),\": \",D1047,\", \",C1047)","v":"SM1: Grundmüller, Franz"},{"$f":"VLOOKUP(A1047,bangolf_kategorien!$A$2:$B$11,2,FALSE)","v":"SM1"}]
["og",44874,"Sonja","Grundmüller","MGC Ingolstadt",{"$f":"CONCATENATE(VLOOKUP(A1048,bangolf_kategorien!$A$2:$B$11,2,FALSE),\": \",D1048,\", \",C1048)","v":"SW1: Grundmüller, Sonja"},{"$f":"VLOOKUP(A1048,bangolf_kategorien!$A$2:$B$11,2,FALSE)","v":"SW1"}]
["hs",66883,"Thomas","Grundmüller","MGC Ingolstadt",{"$f":"CONCATENATE(VLOOKUP(A1049,bangolf_kategorien!$A$2:$B$11,2,FALSE),\": \",D1049,\", \",C1049)","v":"H: Grundmüller, Thomas"},{"$f":"VLOOKUP(A1049,bangolf_kategorien!$A$2:$B$11,2,FALSE)","v":"H"}]
["hv",4233,"Adolf","Grüne","SV Glückauf 1901 Gebhardshagen",{"$f":"CONCATENATE(VLOOKUP(A1050,bangolf_kategorien!$A$2:$B$11,2,FALSE),\": \",D1050,\", \",C1050)","v":"SM2: Grüne, Adolf"},{"$f":"VLOOKUP(A1050,bangolf_kategorien!$A$2:$B$11,2,FALSE)","v":"SM2"}]
["ob",50093,"Frank","Grunert","TSV Salzgitter Abt. Bahnengolf",{"$f":"CONCATENATE(VLOOKUP(A1051,bangolf_kategorien!$A$2:$B$11,2,FALSE),\": \",D1051,\", \",C1051)","v":"SM1: Grunert, Frank"},{"$f":"VLOOKUP(A1051,bangolf_kategorien!$A$2:$B$11,2,FALSE)","v":"SM1"}]
["dv",44280,"Eveline","Grüning","1. Minigolf-Club Rheinhausen",{"$f":"CONCATENATE(VLOOKUP(A1052,bangolf_kategorien!$A$2:$B$11,2,FALSE),\": \",D1052,\", \",C1052)","v":"SW2: Grüning, Eveline"},{"$f":"VLOOKUP(A1052,bangolf_kategorien!$A$2:$B$11,2,FALSE)","v":"SW2"}]
["hv",46269,"Uwe","Grüning","1. Minigolf-Club Rheinhausen",{"$f":"CONCATENATE(VLOOKUP(A1053,bangolf_kategorien!$A$2:$B$11,2,FALSE),\": \",D1053,\", \",C1053)","v":"SM2: Grüning, Uwe"},{"$f":"VLOOKUP(A1053,bangolf_kategorien!$A$2:$B$11,2,FALSE)","v":"SM2"}]
["ds",65943,"Luisa-Marie","Grüninger","MGC Murnau am Staffelsee",{"$f":"CONCATENATE(VLOOKUP(A1054,bangolf_kategorien!$A$2:$B$11,2,FALSE),\": \",D1054,\", \",C1054)","v":"D: Grüninger, Luisa-Marie"},{"$f":"VLOOKUP(A1054,bangolf_kategorien!$A$2:$B$11,2,FALSE)","v":"D"}]
["hs",45426,"Christoph","Grunt","1. MGC Ludwigshafen",{"$f":"CONCATENATE(VLOOKUP(A1055,bangolf_kategorien!$A$2:$B$11,2,FALSE),\": \",D1055,\", \",C1055)","v":"H: Grunt, Christoph"},{"$f":"VLOOKUP(A1055,bangolf_kategorien!$A$2:$B$11,2,FALSE)","v":"H"}]
["hv",6487,"Manfred","Grunwald","SSC Halver",{"$f":"CONCATENATE(VLOOKUP(A1056,bangolf_kategorien!$A$2:$B$11,2,FALSE),\": \",D1056,\", \",C1056)","v":"SM2: Grunwald, Manfred"},{"$f":"VLOOKUP(A1056,bangolf_kategorien!$A$2:$B$11,2,FALSE)","v":"SM2"}]
["hv",38264,"Roland","Gruschka","MGC Schwaikheim",{"$f":"CONCATENATE(VLOOKUP(A1057,bangolf_kategorien!$A$2:$B$11,2,FALSE),\": \",D1057,\", \",C1057)","v":"SM2: Gruschka, Roland"},{"$f":"VLOOKUP(A1057,bangolf_kategorien!$A$2:$B$11,2,FALSE)","v":"SM2"}]
["og",35795,"Beatriz","Grüßinger","Minigolf Wölfe Rheinstetten 02",{"$f":"CONCATENATE(VLOOKUP(A1058,bangolf_kategorien!$A$2:$B$11,2,FALSE),\": \",D1058,\", \",C1058)","v":"SW1: Grüßinger, Beatriz"},{"$f":"VLOOKUP(A1058,bangolf_kategorien!$A$2:$B$11,2,FALSE)","v":"SW1"}]
["hv",46450,"Ulrich","Grützner","MC \"Möve\" Cuxhaven-Sahlenburg",{"$f":"CONCATENATE(VLOOKUP(A1059,bangolf_kategorien!$A$2:$B$11,2,FALSE),\": \",D1059,\", \",C1059)","v":"SM2: Grützner, Ulrich"},{"$f":"VLOOKUP(A1059,bangolf_kategorien!$A$2:$B$11,2,FALSE)","v":"SM2"}]
["ob",31639,"Andreas","Grzeski","BGSV Kerpen",{"$f":"CONCATENATE(VLOOKUP(A1060,bangolf_kategorien!$A$2:$B$11,2,FALSE),\": \",D1060,\", \",C1060)","v":"SM1: Grzeski, Andreas"},{"$f":"VLOOKUP(A1060,bangolf_kategorien!$A$2:$B$11,2,FALSE)","v":"SM1"}]
["hv",22467,"Joachim","Grzyb-Bonsack","MSK Neheim-Hüsten",{"$f":"CONCATENATE(VLOOKUP(A1061,bangolf_kategorien!$A$2:$B$11,2,FALSE),\": \",D1061,\", \",C1061)","v":"SM2: Grzyb-Bonsack, Joachim"},{"$f":"VLOOKUP(A1061,bangolf_kategorien!$A$2:$B$11,2,FALSE)","v":"SM2"}]
["hs",38611,"Julian","Guddat","BGV Bergisch Land 1962 / 63",{"$f":"CONCATENATE(VLOOKUP(A1062,bangolf_kategorien!$A$2:$B$11,2,FALSE),\": \",D1062,\", \",C1062)","v":"H: Guddat, Julian"},{"$f":"VLOOKUP(A1062,bangolf_kategorien!$A$2:$B$11,2,FALSE)","v":"H"}]
["hs",35156,"Matthias","Guhe","1.KGC Mönchengladbach",{"$f":"CONCATENATE(VLOOKUP(A1063,bangolf_kategorien!$A$2:$B$11,2,FALSE),\": \",D1063,\", \",C1063)","v":"H: Guhe, Matthias"},{"$f":"VLOOKUP(A1063,bangolf_kategorien!$A$2:$B$11,2,FALSE)","v":"H"}]
["hs",27486,"Thomas","Gulz","MGC 85 Bönnigheim",{"$f":"CONCATENATE(VLOOKUP(A1064,bangolf_kategorien!$A$2:$B$11,2,FALSE),\": \",D1064,\", \",C1064)","v":"H: Gulz, Thomas"},{"$f":"VLOOKUP(A1064,bangolf_kategorien!$A$2:$B$11,2,FALSE)","v":"H"}]
["hv",33357,"Jürgen","Gundermann","MGC Dortmund Syburg",{"$f":"CONCATENATE(VLOOKUP(A1065,bangolf_kategorien!$A$2:$B$11,2,FALSE),\": \",D1065,\", \",C1065)","v":"SM2: Gundermann, Jürgen"},{"$f":"VLOOKUP(A1065,bangolf_kategorien!$A$2:$B$11,2,FALSE)","v":"SM2"}]
["ds",50029,"Nicole","Gundert","1. MGC Mainz",{"$f":"CONCATENATE(VLOOKUP(A1066,bangolf_kategorien!$A$2:$B$11,2,FALSE),\": \",D1066,\", \",C1066)","v":"D: Gundert, Nicole"},{"$f":"VLOOKUP(A1066,bangolf_kategorien!$A$2:$B$11,2,FALSE)","v":"D"}]
["ob",67400,"Thomas","Guney","VfB Osnabrück",{"$f":"CONCATENATE(VLOOKUP(A1067,bangolf_kategorien!$A$2:$B$11,2,FALSE),\": \",D1067,\", \",C1067)","v":"SM1: Guney, Thomas"},{"$f":"VLOOKUP(A1067,bangolf_kategorien!$A$2:$B$11,2,FALSE)","v":"SM1"}]
["ob",48275,"Rudolf","Guni","MGC Murnau am Staffelsee",{"$f":"CONCATENATE(VLOOKUP(A1068,bangolf_kategorien!$A$2:$B$11,2,FALSE),\": \",D1068,\", \",C1068)","v":"SM1: Guni, Rudolf"},{"$f":"VLOOKUP(A1068,bangolf_kategorien!$A$2:$B$11,2,FALSE)","v":"SM1"}]
["hs",67195,"Jesse","Günther","1. MGC Kassel 1964",{"$f":"CONCATENATE(VLOOKUP(A1069,bangolf_kategorien!$A$2:$B$11,2,FALSE),\": \",D1069,\", \",C1069)","v":"H: Günther, Jesse"},{"$f":"VLOOKUP(A1069,bangolf_kategorien!$A$2:$B$11,2,FALSE)","v":"H"}]
["hj",66718,"Kevin","Günther","Hamburger MC von 1965",{"$f":"CONCATENATE(VLOOKUP(A1070,bangolf_kategorien!$A$2:$B$11,2,FALSE),\": \",D1070,\", \",C1070)","v":"JM: Günther, Kevin"},{"$f":"VLOOKUP(A1070,bangolf_kategorien!$A$2:$B$11,2,FALSE)","v":"JM"}]
["hv",6740,"Klaus","Gust","MGC Felderbachtal 1964",{"$f":"CONCATENATE(VLOOKUP(A1071,bangolf_kategorien!$A$2:$B$11,2,FALSE),\": \",D1071,\", \",C1071)","v":"SM2: Gust, Klaus"},{"$f":"VLOOKUP(A1071,bangolf_kategorien!$A$2:$B$11,2,FALSE)","v":"SM2"}]
["fa",67591,"Anna-Lena","Gut","MGF Waldshut 74",{"$f":"CONCATENATE(VLOOKUP(A1072,bangolf_kategorien!$A$2:$B$11,2,FALSE),\": \",D1072,\", \",C1072)","v":"SCHW: Gut, Anna-Lena"},{"$f":"VLOOKUP(A1072,bangolf_kategorien!$A$2:$B$11,2,FALSE)","v":"SCHW"}]
["ob",31177,"Oliver","Gut","MGF Waldshut 74",{"$f":"CONCATENATE(VLOOKUP(A1073,bangolf_kategorien!$A$2:$B$11,2,FALSE),\": \",D1073,\", \",C1073)","v":"SM1: Gut, Oliver"},{"$f":"VLOOKUP(A1073,bangolf_kategorien!$A$2:$B$11,2,FALSE)","v":"SM1"}]
["hs",66202,"Sebastian","Guth","1. KC Homburg-Saar 1967",{"$f":"CONCATENATE(VLOOKUP(A1074,bangolf_kategorien!$A$2:$B$11,2,FALSE),\": \",D1074,\", \",C1074)","v":"H: Guth, Sebastian"},{"$f":"VLOOKUP(A1074,bangolf_kategorien!$A$2:$B$11,2,FALSE)","v":"H"}]
["hs",32535,"Benjamin","Güth","Niendorfer MC v. 1963",{"$f":"CONCATENATE(VLOOKUP(A1075,bangolf_kategorien!$A$2:$B$11,2,FALSE),\": \",D1075,\", \",C1075)","v":"H: Güth, Benjamin"},{"$f":"VLOOKUP(A1075,bangolf_kategorien!$A$2:$B$11,2,FALSE)","v":"H"}]
["ob",43241,"Udo","Guttroff","1. MGC Metzingen",{"$f":"CONCATENATE(VLOOKUP(A1076,bangolf_kategorien!$A$2:$B$11,2,FALSE),\": \",D1076,\", \",C1076)","v":"SM1: Guttroff, Udo"},{"$f":"VLOOKUP(A1076,bangolf_kategorien!$A$2:$B$11,2,FALSE)","v":"SM1"}]
["hv",41298,"Dieter","Haag","BGC Heilbronn",{"$f":"CONCATENATE(VLOOKUP(A1077,bangolf_kategorien!$A$2:$B$11,2,FALSE),\": \",D1077,\", \",C1077)","v":"SM2: Haag, Dieter"},{"$f":"VLOOKUP(A1077,bangolf_kategorien!$A$2:$B$11,2,FALSE)","v":"SM2"}]
["og",38354,"Alexandra","Haas","BSV 82 Ohlsbach",{"$f":"CONCATENATE(VLOOKUP(A1078,bangolf_kategorien!$A$2:$B$11,2,FALSE),\": \",D1078,\", \",C1078)","v":"SW1: Haas, Alexandra"},{"$f":"VLOOKUP(A1078,bangolf_kategorien!$A$2:$B$11,2,FALSE)","v":"SW1"}]
["hv",40878,"Wolfgang","Haas","1. BGC Bad Füssing",{"$f":"CONCATENATE(VLOOKUP(A1079,bangolf_kategorien!$A$2:$B$11,2,FALSE),\": \",D1079,\", \",C1079)","v":"SM2: Haas, Wolfgang"},{"$f":"VLOOKUP(A1079,bangolf_kategorien!$A$2:$B$11,2,FALSE)","v":"SM2"}]
["pa",67101,"Ben","Haase","SV Lurup Abt. Bahnengolf",{"$f":"CONCATENATE(VLOOKUP(A1080,bangolf_kategorien!$A$2:$B$11,2,FALSE),\": \",D1080,\", \",C1080)","v":"SCHM: Haase, Ben"},{"$f":"VLOOKUP(A1080,bangolf_kategorien!$A$2:$B$11,2,FALSE)","v":"SCHM"}]
["dv",67344,"Erika","Haase","1. MGC Kassel 1964",{"$f":"CONCATENATE(VLOOKUP(A1081,bangolf_kategorien!$A$2:$B$11,2,FALSE),\": \",D1081,\", \",C1081)","v":"SW2: Haase, Erika"},{"$f":"VLOOKUP(A1081,bangolf_kategorien!$A$2:$B$11,2,FALSE)","v":"SW2"}]
["hv",41960,"Guido","Haase","1. MGC Kassel 1964",{"$f":"CONCATENATE(VLOOKUP(A1082,bangolf_kategorien!$A$2:$B$11,2,FALSE),\": \",D1082,\", \",C1082)","v":"SM2: Haase, Guido"},{"$f":"VLOOKUP(A1082,bangolf_kategorien!$A$2:$B$11,2,FALSE)","v":"SM2"}]
["ds",66539,"Felicitas","Haberl","MGC Ingolstadt",{"$f":"CONCATENATE(VLOOKUP(A1083,bangolf_kategorien!$A$2:$B$11,2,FALSE),\": \",D1083,\", \",C1083)","v":"D: Haberl, Felicitas"},{"$f":"VLOOKUP(A1083,bangolf_kategorien!$A$2:$B$11,2,FALSE)","v":"D"}]
["ds",66838,"Lena","Haberl","MGC Ingolstadt",{"$f":"CONCATENATE(VLOOKUP(A1084,bangolf_kategorien!$A$2:$B$11,2,FALSE),\": \",D1084,\", \",C1084)","v":"D: Haberl, Lena"},{"$f":"VLOOKUP(A1084,bangolf_kategorien!$A$2:$B$11,2,FALSE)","v":"D"}]
["ob",29277,"Volker","Haberl","MGC Ingolstadt",{"$f":"CONCATENATE(VLOOKUP(A1085,bangolf_kategorien!$A$2:$B$11,2,FALSE),\": \",D1085,\", \",C1085)","v":"SM1: Haberl, Volker"},{"$f":"VLOOKUP(A1085,bangolf_kategorien!$A$2:$B$11,2,FALSE)","v":"SM1"}]
["hs",67452,"Markus","Haberland","BGC Schloß Paffendorf",{"$f":"CONCATENATE(VLOOKUP(A1086,bangolf_kategorien!$A$2:$B$11,2,FALSE),\": \",D1086,\", \",C1086)","v":"H: Haberland, Markus"},{"$f":"VLOOKUP(A1086,bangolf_kategorien!$A$2:$B$11,2,FALSE)","v":"H"}]
["hv",27189,"Klaus","Hablitzel","1. MGC Tuttlingen",{"$f":"CONCATENATE(VLOOKUP(A1087,bangolf_kategorien!$A$2:$B$11,2,FALSE),\": \",D1087,\", \",C1087)","v":"SM2: Hablitzel, Klaus"},{"$f":"VLOOKUP(A1087,bangolf_kategorien!$A$2:$B$11,2,FALSE)","v":"SM2"}]
["hv",27909,"Klaus","Habrich","1. MGC Süßen",{"$f":"CONCATENATE(VLOOKUP(A1088,bangolf_kategorien!$A$2:$B$11,2,FALSE),\": \",D1088,\", \",C1088)","v":"SM2: Habrich, Klaus"},{"$f":"VLOOKUP(A1088,bangolf_kategorien!$A$2:$B$11,2,FALSE)","v":"SM2"}]
["hs",34559,"Danny","Hackel","MGC Homburger Land",{"$f":"CONCATENATE(VLOOKUP(A1089,bangolf_kategorien!$A$2:$B$11,2,FALSE),\": \",D1089,\", \",C1089)","v":"H: Hackel, Danny"},{"$f":"VLOOKUP(A1089,bangolf_kategorien!$A$2:$B$11,2,FALSE)","v":"H"}]
["hv",37074,"Günter","Hackenberg","1. MGC Kassel 1964",{"$f":"CONCATENATE(VLOOKUP(A1090,bangolf_kategorien!$A$2:$B$11,2,FALSE),\": \",D1090,\", \",C1090)","v":"SM2: Hackenberg, Günter"},{"$f":"VLOOKUP(A1090,bangolf_kategorien!$A$2:$B$11,2,FALSE)","v":"SM2"}]
["hv",37079,"Willi","Hackenberg","1. BGC Wolfsburg",{"$f":"CONCATENATE(VLOOKUP(A1091,bangolf_kategorien!$A$2:$B$11,2,FALSE),\": \",D1091,\", \",C1091)","v":"SM2: Hackenberg, Willi"},{"$f":"VLOOKUP(A1091,bangolf_kategorien!$A$2:$B$11,2,FALSE)","v":"SM2"}]
["hs",33744,"Sascha","Hackfurt","BGC Uerdingen",{"$f":"CONCATENATE(VLOOKUP(A1092,bangolf_kategorien!$A$2:$B$11,2,FALSE),\": \",D1092,\", \",C1092)","v":"H: Hackfurt, Sascha"},{"$f":"VLOOKUP(A1092,bangolf_kategorien!$A$2:$B$11,2,FALSE)","v":"H"}]
["ob",36278,"Wolfgang","Hageböck","SSC Halver",{"$f":"CONCATENATE(VLOOKUP(A1093,bangolf_kategorien!$A$2:$B$11,2,FALSE),\": \",D1093,\", \",C1093)","v":"SM1: Hageböck, Wolfgang"},{"$f":"VLOOKUP(A1093,bangolf_kategorien!$A$2:$B$11,2,FALSE)","v":"SM1"}]
["hs",67501,"Andreas","Hagel","Minigolf Wölfe Rheinstetten 02",{"$f":"CONCATENATE(VLOOKUP(A1094,bangolf_kategorien!$A$2:$B$11,2,FALSE),\": \",D1094,\", \",C1094)","v":"H: Hagel, Andreas"},{"$f":"VLOOKUP(A1094,bangolf_kategorien!$A$2:$B$11,2,FALSE)","v":"H"}]
["ob",34296,"Robert","Hägele","MGC Bad Feilnbach",{"$f":"CONCATENATE(VLOOKUP(A1095,bangolf_kategorien!$A$2:$B$11,2,FALSE),\": \",D1095,\", \",C1095)","v":"SM1: Hägele, Robert"},{"$f":"VLOOKUP(A1095,bangolf_kategorien!$A$2:$B$11,2,FALSE)","v":"SM1"}]
["hs",66990,"David","Hagemeyer","BGSV Bad Homburg",{"$f":"CONCATENATE(VLOOKUP(A1096,bangolf_kategorien!$A$2:$B$11,2,FALSE),\": \",D1096,\", \",C1096)","v":"H: Hagemeyer, David"},{"$f":"VLOOKUP(A1096,bangolf_kategorien!$A$2:$B$11,2,FALSE)","v":"H"}]
["hv",17834,"Leo","Hagenlüke","BV Sennestadt",{"$f":"CONCATENATE(VLOOKUP(A1097,bangolf_kategorien!$A$2:$B$11,2,FALSE),\": \",D1097,\", \",C1097)","v":"SM2: Hagenlüke, Leo"},{"$f":"VLOOKUP(A1097,bangolf_kategorien!$A$2:$B$11,2,FALSE)","v":"SM2"}]
["ds",48646,"Corinna","Hahn","1. MGC Ludwigshafen",{"$f":"CONCATENATE(VLOOKUP(A1098,bangolf_kategorien!$A$2:$B$11,2,FALSE),\": \",D1098,\", \",C1098)","v":"D: Hahn, Corinna"},{"$f":"VLOOKUP(A1098,bangolf_kategorien!$A$2:$B$11,2,FALSE)","v":"D"}]
["ob",44416,"Robert","Hahn","1. MGC Ludwigshafen",{"$f":"CONCATENATE(VLOOKUP(A1099,bangolf_kategorien!$A$2:$B$11,2,FALSE),\": \",D1099,\", \",C1099)","v":"SM1: Hahn, Robert"},{"$f":"VLOOKUP(A1099,bangolf_kategorien!$A$2:$B$11,2,FALSE)","v":"SM1"}]
["hs",46374,"Timon","Hahn","VfB Osnabrück",{"$f":"CONCATENATE(VLOOKUP(A1100,bangolf_kategorien!$A$2:$B$11,2,FALSE),\": \",D1100,\", \",C1100)","v":"H: Hahn, Timon"},{"$f":"VLOOKUP(A1100,bangolf_kategorien!$A$2:$B$11,2,FALSE)","v":"H"}]
["dv",65300,"Kornelia","Haid","1. MGC Hechingen",{"$f":"CONCATENATE(VLOOKUP(A1101,bangolf_kategorien!$A$2:$B$11,2,FALSE),\": \",D1101,\", \",C1101)","v":"SW2: Haid, Kornelia"},{"$f":"VLOOKUP(A1101,bangolf_kategorien!$A$2:$B$11,2,FALSE)","v":"SW2"}]
["hv",65301,"Rolf","Haid","1. MGC Hechingen",{"$f":"CONCATENATE(VLOOKUP(A1102,bangolf_kategorien!$A$2:$B$11,2,FALSE),\": \",D1102,\", \",C1102)","v":"SM2: Haid, Rolf"},{"$f":"VLOOKUP(A1102,bangolf_kategorien!$A$2:$B$11,2,FALSE)","v":"SM2"}]
["hv",20299,"Ottmar","Haidl","MCE Sindelfingen",{"$f":"CONCATENATE(VLOOKUP(A1103,bangolf_kategorien!$A$2:$B$11,2,FALSE),\": \",D1103,\", \",C1103)","v":"SM2: Haidl, Ottmar"},{"$f":"VLOOKUP(A1103,bangolf_kategorien!$A$2:$B$11,2,FALSE)","v":"SM2"}]
["dv",62626,"Christa","Hainz","BGS Hardenberg-Pötter",{"$f":"CONCATENATE(VLOOKUP(A1104,bangolf_kategorien!$A$2:$B$11,2,FALSE),\": \",D1104,\", \",C1104)","v":"SW2: Hainz, Christa"},{"$f":"VLOOKUP(A1104,bangolf_kategorien!$A$2:$B$11,2,FALSE)","v":"SW2"}]
["hv",66432,"Thomas","Hainzl","MGC Bad Feilnbach",{"$f":"CONCATENATE(VLOOKUP(A1105,bangolf_kategorien!$A$2:$B$11,2,FALSE),\": \",D1105,\", \",C1105)","v":"SM2: Hainzl, Thomas"},{"$f":"VLOOKUP(A1105,bangolf_kategorien!$A$2:$B$11,2,FALSE)","v":"SM2"}]
["hv",42187,"Siegfried","Hake","BGC Goslar",{"$f":"CONCATENATE(VLOOKUP(A1106,bangolf_kategorien!$A$2:$B$11,2,FALSE),\": \",D1106,\", \",C1106)","v":"SM2: Hake, Siegfried"},{"$f":"VLOOKUP(A1106,bangolf_kategorien!$A$2:$B$11,2,FALSE)","v":"SM2"}]
["ob",66115,"Alexander","Halbauer","MSG Kempten",{"$f":"CONCATENATE(VLOOKUP(A1107,bangolf_kategorien!$A$2:$B$11,2,FALSE),\": \",D1107,\", \",C1107)","v":"SM1: Halbauer, Alexander"},{"$f":"VLOOKUP(A1107,bangolf_kategorien!$A$2:$B$11,2,FALSE)","v":"SM1"}]
["ob",42555,"Markus","Haller","1. NMC Kelheim",{"$f":"CONCATENATE(VLOOKUP(A1108,bangolf_kategorien!$A$2:$B$11,2,FALSE),\": \",D1108,\", \",C1108)","v":"SM1: Haller, Markus"},{"$f":"VLOOKUP(A1108,bangolf_kategorien!$A$2:$B$11,2,FALSE)","v":"SM1"}]
["hs",65847,"Markus","Hallhuber","BSV Inzlingen 1979",{"$f":"CONCATENATE(VLOOKUP(A1109,bangolf_kategorien!$A$2:$B$11,2,FALSE),\": \",D1109,\", \",C1109)","v":"H: Hallhuber, Markus"},{"$f":"VLOOKUP(A1109,bangolf_kategorien!$A$2:$B$11,2,FALSE)","v":"H"}]
["ob",47240,"Martin","Halscheidt","MGC Wertheim 91",{"$f":"CONCATENATE(VLOOKUP(A1110,bangolf_kategorien!$A$2:$B$11,2,FALSE),\": \",D1110,\", \",C1110)","v":"SM1: Halscheidt, Martin"},{"$f":"VLOOKUP(A1110,bangolf_kategorien!$A$2:$B$11,2,FALSE)","v":"SM1"}]
["ob",45662,"Matthias","Halstein","BGC Bremen",{"$f":"CONCATENATE(VLOOKUP(A1111,bangolf_kategorien!$A$2:$B$11,2,FALSE),\": \",D1111,\", \",C1111)","v":"SM1: Halstein, Matthias"},{"$f":"VLOOKUP(A1111,bangolf_kategorien!$A$2:$B$11,2,FALSE)","v":"SM1"}]
["og",35765,"Marina","Hammann","MC Ilvesheim",{"$f":"CONCATENATE(VLOOKUP(A1112,bangolf_kategorien!$A$2:$B$11,2,FALSE),\": \",D1112,\", \",C1112)","v":"SW1: Hammann, Marina"},{"$f":"VLOOKUP(A1112,bangolf_kategorien!$A$2:$B$11,2,FALSE)","v":"SW1"}]
["ds",36423,"Melanie","Hammerschmidt","1. KC Homburg-Saar 1967",{"$f":"CONCATENATE(VLOOKUP(A1113,bangolf_kategorien!$A$2:$B$11,2,FALSE),\": \",D1113,\", \",C1113)","v":"D: Hammerschmidt, Melanie"},{"$f":"VLOOKUP(A1113,bangolf_kategorien!$A$2:$B$11,2,FALSE)","v":"D"}]
["og",43760,"Dagmar","Hammon","BGC Bad Berneck",{"$f":"CONCATENATE(VLOOKUP(A1114,bangolf_kategorien!$A$2:$B$11,2,FALSE),\": \",D1114,\", \",C1114)","v":"SW1: Hammon, Dagmar"},{"$f":"VLOOKUP(A1114,bangolf_kategorien!$A$2:$B$11,2,FALSE)","v":"SW1"}]
["ob",42281,"Michael","Hammon","BGC Bad Berneck",{"$f":"CONCATENATE(VLOOKUP(A1115,bangolf_kategorien!$A$2:$B$11,2,FALSE),\": \",D1115,\", \",C1115)","v":"SM1: Hammon, Michael"},{"$f":"VLOOKUP(A1115,bangolf_kategorien!$A$2:$B$11,2,FALSE)","v":"SM1"}]
["hs",36282,"Dennis","Handtke","MSK Neheim-Hüsten",{"$f":"CONCATENATE(VLOOKUP(A1116,bangolf_kategorien!$A$2:$B$11,2,FALSE),\": \",D1116,\", \",C1116)","v":"H: Handtke, Dennis"},{"$f":"VLOOKUP(A1116,bangolf_kategorien!$A$2:$B$11,2,FALSE)","v":"H"}]
["hj",67148,"Jonas","Handtke","MSK Neheim-Hüsten",{"$f":"CONCATENATE(VLOOKUP(A1117,bangolf_kategorien!$A$2:$B$11,2,FALSE),\": \",D1117,\", \",C1117)","v":"JM: Handtke, Jonas"},{"$f":"VLOOKUP(A1117,bangolf_kategorien!$A$2:$B$11,2,FALSE)","v":"JM"}]
["hv",40161,"Michael","Handtke","MSK Neheim-Hüsten",{"$f":"CONCATENATE(VLOOKUP(A1118,bangolf_kategorien!$A$2:$B$11,2,FALSE),\": \",D1118,\", \",C1118)","v":"SM2: Handtke, Michael"},{"$f":"VLOOKUP(A1118,bangolf_kategorien!$A$2:$B$11,2,FALSE)","v":"SM2"}]
["ds",38511,"Sarah","Handtke","MSK Neheim-Hüsten",{"$f":"CONCATENATE(VLOOKUP(A1119,bangolf_kategorien!$A$2:$B$11,2,FALSE),\": \",D1119,\", \",C1119)","v":"D: Handtke, Sarah"},{"$f":"VLOOKUP(A1119,bangolf_kategorien!$A$2:$B$11,2,FALSE)","v":"D"}]
["hv",63732,"Dieter","Hanisch","MGC Ingolstadt",{"$f":"CONCATENATE(VLOOKUP(A1120,bangolf_kategorien!$A$2:$B$11,2,FALSE),\": \",D1120,\", \",C1120)","v":"SM2: Hanisch, Dieter"},{"$f":"VLOOKUP(A1120,bangolf_kategorien!$A$2:$B$11,2,FALSE)","v":"SM2"}]
["hs",49941,"Sven","Hänke","MC Flora Elmshorn",{"$f":"CONCATENATE(VLOOKUP(A1121,bangolf_kategorien!$A$2:$B$11,2,FALSE),\": \",D1121,\", \",C1121)","v":"H: Hänke, Sven"},{"$f":"VLOOKUP(A1121,bangolf_kategorien!$A$2:$B$11,2,FALSE)","v":"H"}]
["hv",26439,"Rainer","Hanker","BGSC \"Gut Schlag\" Gladbeck",{"$f":"CONCATENATE(VLOOKUP(A1122,bangolf_kategorien!$A$2:$B$11,2,FALSE),\": \",D1122,\", \",C1122)","v":"SM2: Hanker, Rainer"},{"$f":"VLOOKUP(A1122,bangolf_kategorien!$A$2:$B$11,2,FALSE)","v":"SM2"}]
["hv",45588,"Johann","Hann","SSV Ulm 1846 Abt. Bahnengolf",{"$f":"CONCATENATE(VLOOKUP(A1123,bangolf_kategorien!$A$2:$B$11,2,FALSE),\": \",D1123,\", \",C1123)","v":"SM2: Hann, Johann"},{"$f":"VLOOKUP(A1123,bangolf_kategorien!$A$2:$B$11,2,FALSE)","v":"SM2"}]
["hv",61071,"Anton","Hannausek","MGC Rot-Weiß Wanne-Eickel",{"$f":"CONCATENATE(VLOOKUP(A1124,bangolf_kategorien!$A$2:$B$11,2,FALSE),\": \",D1124,\", \",C1124)","v":"SM2: Hannausek, Anton"},{"$f":"VLOOKUP(A1124,bangolf_kategorien!$A$2:$B$11,2,FALSE)","v":"SM2"}]
["hs",64724,"Andreas","Hannemann-Schmidhuber","1. BGC Landshut",{"$f":"CONCATENATE(VLOOKUP(A1125,bangolf_kategorien!$A$2:$B$11,2,FALSE),\": \",D1125,\", \",C1125)","v":"H: Hannemann-Schmidhuber, Andreas"},{"$f":"VLOOKUP(A1125,bangolf_kategorien!$A$2:$B$11,2,FALSE)","v":"H"}]
["og",64722,"Claudia","Hannemann-Schmidhuber","1. BGC Landshut",{"$f":"CONCATENATE(VLOOKUP(A1126,bangolf_kategorien!$A$2:$B$11,2,FALSE),\": \",D1126,\", \",C1126)","v":"SW1: Hannemann-Schmidhuber, Claudia"},{"$f":"VLOOKUP(A1126,bangolf_kategorien!$A$2:$B$11,2,FALSE)","v":"SW1"}]
["ob",43553,"Jörg","Hannmann","Niendorfer MC v. 1963",{"$f":"CONCATENATE(VLOOKUP(A1127,bangolf_kategorien!$A$2:$B$11,2,FALSE),\": \",D1127,\", \",C1127)","v":"SM1: Hannmann, Jörg"},{"$f":"VLOOKUP(A1127,bangolf_kategorien!$A$2:$B$11,2,FALSE)","v":"SM1"}]
["hv",45795,"Jürgen","Hansel","CGC Illertal Kellmünz",{"$f":"CONCATENATE(VLOOKUP(A1128,bangolf_kategorien!$A$2:$B$11,2,FALSE),\": \",D1128,\", \",C1128)","v":"SM2: Hansel, Jürgen"},{"$f":"VLOOKUP(A1128,bangolf_kategorien!$A$2:$B$11,2,FALSE)","v":"SM2"}]
["pa",67093,"Marc","Hansen","MGC Bad Bodendorf",{"$f":"CONCATENATE(VLOOKUP(A1129,bangolf_kategorien!$A$2:$B$11,2,FALSE),\": \",D1129,\", \",C1129)","v":"SCHM: Hansen, Marc"},{"$f":"VLOOKUP(A1129,bangolf_kategorien!$A$2:$B$11,2,FALSE)","v":"SCHM"}]
["hs",32383,"Mike","Hansen","MSC Bad Godesberg",{"$f":"CONCATENATE(VLOOKUP(A1130,bangolf_kategorien!$A$2:$B$11,2,FALSE),\": \",D1130,\", \",C1130)","v":"H: Hansen, Mike"},{"$f":"VLOOKUP(A1130,bangolf_kategorien!$A$2:$B$11,2,FALSE)","v":"H"}]
["ds",28083,"Nicole","Hansen","MGC Bad Bodendorf",{"$f":"CONCATENATE(VLOOKUP(A1131,bangolf_kategorien!$A$2:$B$11,2,FALSE),\": \",D1131,\", \",C1131)","v":"D: Hansen, Nicole"},{"$f":"VLOOKUP(A1131,bangolf_kategorien!$A$2:$B$11,2,FALSE)","v":"D"}]
["hs",38016,"Pascal","Hansen","BGS Hardenberg-Pötter",{"$f":"CONCATENATE(VLOOKUP(A1132,bangolf_kategorien!$A$2:$B$11,2,FALSE),\": \",D1132,\", \",C1132)","v":"H: Hansen, Pascal"},{"$f":"VLOOKUP(A1132,bangolf_kategorien!$A$2:$B$11,2,FALSE)","v":"H"}]
["dv",52109,"Sabine","Hansen","BGC Kiel West",{"$f":"CONCATENATE(VLOOKUP(A1133,bangolf_kategorien!$A$2:$B$11,2,FALSE),\": \",D1133,\", \",C1133)","v":"SW2: Hansen, Sabine"},{"$f":"VLOOKUP(A1133,bangolf_kategorien!$A$2:$B$11,2,FALSE)","v":"SW2"}]
["ob",11,"Svend","Hansen","MGC Bad Oldesloe",{"$f":"CONCATENATE(VLOOKUP(A1134,bangolf_kategorien!$A$2:$B$11,2,FALSE),\": \",D1134,\", \",C1134)","v":"SM1: Hansen, Svend"},{"$f":"VLOOKUP(A1134,bangolf_kategorien!$A$2:$B$11,2,FALSE)","v":"SM1"}]
["og",47253,"Angelika","Hansmeier","MGC Bad Salzuflen",{"$f":"CONCATENATE(VLOOKUP(A1135,bangolf_kategorien!$A$2:$B$11,2,FALSE),\": \",D1135,\", \",C1135)","v":"SW1: Hansmeier, Angelika"},{"$f":"VLOOKUP(A1135,bangolf_kategorien!$A$2:$B$11,2,FALSE)","v":"SW1"}]
["og",66157,"Heike","Hansper","1. MGV Spandau Berlin",{"$f":"CONCATENATE(VLOOKUP(A1136,bangolf_kategorien!$A$2:$B$11,2,FALSE),\": \",D1136,\", \",C1136)","v":"SW1: Hansper, Heike"},{"$f":"VLOOKUP(A1136,bangolf_kategorien!$A$2:$B$11,2,FALSE)","v":"SW1"}]
["ob",38421,"Thomas","Hansper","1. MGV Spandau Berlin",{"$f":"CONCATENATE(VLOOKUP(A1137,bangolf_kategorien!$A$2:$B$11,2,FALSE),\": \",D1137,\", \",C1137)","v":"SM1: Hansper, Thomas"},{"$f":"VLOOKUP(A1137,bangolf_kategorien!$A$2:$B$11,2,FALSE)","v":"SM1"}]
["hs",66853,"Martin","Hänßgen","MGF Magdeburg 1995",{"$f":"CONCATENATE(VLOOKUP(A1138,bangolf_kategorien!$A$2:$B$11,2,FALSE),\": \",D1138,\", \",C1138)","v":"H: Hänßgen, Martin"},{"$f":"VLOOKUP(A1138,bangolf_kategorien!$A$2:$B$11,2,FALSE)","v":"H"}]
["hs",22800,"Jochen","Hänßler","1. MGC Tuttlingen",{"$f":"CONCATENATE(VLOOKUP(A1139,bangolf_kategorien!$A$2:$B$11,2,FALSE),\": \",D1139,\", \",C1139)","v":"H: Hänßler, Jochen"},{"$f":"VLOOKUP(A1139,bangolf_kategorien!$A$2:$B$11,2,FALSE)","v":"H"}]
["hs",37141,"Andreas","Hardt","MV Lankwitzer Dragons",{"$f":"CONCATENATE(VLOOKUP(A1140,bangolf_kategorien!$A$2:$B$11,2,FALSE),\": \",D1140,\", \",C1140)","v":"H: Hardt, Andreas"},{"$f":"VLOOKUP(A1140,bangolf_kategorien!$A$2:$B$11,2,FALSE)","v":"H"}]
["ds",45059,"Claudia","Hardt","MV Lankwitzer Dragons",{"$f":"CONCATENATE(VLOOKUP(A1141,bangolf_kategorien!$A$2:$B$11,2,FALSE),\": \",D1141,\", \",C1141)","v":"D: Hardt, Claudia"},{"$f":"VLOOKUP(A1141,bangolf_kategorien!$A$2:$B$11,2,FALSE)","v":"D"}]
["og",50257,"Ute","Häring","SSV Ulm 1846 Abt. Bahnengolf",{"$f":"CONCATENATE(VLOOKUP(A1142,bangolf_kategorien!$A$2:$B$11,2,FALSE),\": \",D1142,\", \",C1142)","v":"SW1: Häring, Ute"},{"$f":"VLOOKUP(A1142,bangolf_kategorien!$A$2:$B$11,2,FALSE)","v":"SW1"}]
["hv",25381,"Armin","Härle","MGSC Wernau",{"$f":"CONCATENATE(VLOOKUP(A1143,bangolf_kategorien!$A$2:$B$11,2,FALSE),\": \",D1143,\", \",C1143)","v":"SM2: Härle, Armin"},{"$f":"VLOOKUP(A1143,bangolf_kategorien!$A$2:$B$11,2,FALSE)","v":"SM2"}]
["hs",36571,"Mark","Harmening","1. MGC Mainz",{"$f":"CONCATENATE(VLOOKUP(A1144,bangolf_kategorien!$A$2:$B$11,2,FALSE),\": \",D1144,\", \",C1144)","v":"H: Harmening, Mark"},{"$f":"VLOOKUP(A1144,bangolf_kategorien!$A$2:$B$11,2,FALSE)","v":"H"}]
["hv",19114,"Herbert","Harms","MGC Millennium Lorsch",{"$f":"CONCATENATE(VLOOKUP(A1145,bangolf_kategorien!$A$2:$B$11,2,FALSE),\": \",D1145,\", \",C1145)","v":"SM2: Harms, Herbert"},{"$f":"VLOOKUP(A1145,bangolf_kategorien!$A$2:$B$11,2,FALSE)","v":"SM2"}]
["dv",67457,"Else","Harnyss","BSG Pneumant Fürstenwalde, Abt. Minigolf",{"$f":"CONCATENATE(VLOOKUP(A1146,bangolf_kategorien!$A$2:$B$11,2,FALSE),\": \",D1146,\", \",C1146)","v":"SW2: Harnyss, Else"},{"$f":"VLOOKUP(A1146,bangolf_kategorien!$A$2:$B$11,2,FALSE)","v":"SW2"}]
["hs",33191,"Stefan","Härtel","VfB Osnabrück",{"$f":"CONCATENATE(VLOOKUP(A1147,bangolf_kategorien!$A$2:$B$11,2,FALSE),\": \",D1147,\", \",C1147)","v":"H: Härtel, Stefan"},{"$f":"VLOOKUP(A1147,bangolf_kategorien!$A$2:$B$11,2,FALSE)","v":"H"}]
["hv",23282,"Paul","Hartenbach","2. MGC Worms",{"$f":"CONCATENATE(VLOOKUP(A1148,bangolf_kategorien!$A$2:$B$11,2,FALSE),\": \",D1148,\", \",C1148)","v":"SM2: Hartenbach, Paul"},{"$f":"VLOOKUP(A1148,bangolf_kategorien!$A$2:$B$11,2,FALSE)","v":"SM2"}]
["hv",4021,"Gustav","Hartfuhs","BGC Illertissen",{"$f":"CONCATENATE(VLOOKUP(A1149,bangolf_kategorien!$A$2:$B$11,2,FALSE),\": \",D1149,\", \",C1149)","v":"SM2: Hartfuhs, Gustav"},{"$f":"VLOOKUP(A1149,bangolf_kategorien!$A$2:$B$11,2,FALSE)","v":"SM2"}]
["pa",67013,"Max","Hartkorn","1. CGC Blau-Gelb Grötzingen",{"$f":"CONCATENATE(VLOOKUP(A1150,bangolf_kategorien!$A$2:$B$11,2,FALSE),\": \",D1150,\", \",C1150)","v":"SCHM: Hartkorn, Max"},{"$f":"VLOOKUP(A1150,bangolf_kategorien!$A$2:$B$11,2,FALSE)","v":"SCHM"}]
["ds",67121,"Tamara","Hartkorn","1. CGC Blau-Gelb Grötzingen",{"$f":"CONCATENATE(VLOOKUP(A1151,bangolf_kategorien!$A$2:$B$11,2,FALSE),\": \",D1151,\", \",C1151)","v":"D: Hartkorn, Tamara"},{"$f":"VLOOKUP(A1151,bangolf_kategorien!$A$2:$B$11,2,FALSE)","v":"D"}]
["ob",67120,"Mario","Hartkorn-Götz","1. CGC Blau-Gelb Grötzingen",{"$f":"CONCATENATE(VLOOKUP(A1152,bangolf_kategorien!$A$2:$B$11,2,FALSE),\": \",D1152,\", \",C1152)","v":"SM1: Hartkorn-Götz, Mario"},{"$f":"VLOOKUP(A1152,bangolf_kategorien!$A$2:$B$11,2,FALSE)","v":"SM1"}]
["hv",49269,"Matthias","Hartl","MSC Bad Godesberg",{"$f":"CONCATENATE(VLOOKUP(A1153,bangolf_kategorien!$A$2:$B$11,2,FALSE),\": \",D1153,\", \",C1153)","v":"SM2: Hartl, Matthias"},{"$f":"VLOOKUP(A1153,bangolf_kategorien!$A$2:$B$11,2,FALSE)","v":"SM2"}]
["hv",3874,"Wolfgang","Härtl","PTSV Hof, Abt. Minigolf",{"$f":"CONCATENATE(VLOOKUP(A1154,bangolf_kategorien!$A$2:$B$11,2,FALSE),\": \",D1154,\", \",C1154)","v":"SM2: Härtl, Wolfgang"},{"$f":"VLOOKUP(A1154,bangolf_kategorien!$A$2:$B$11,2,FALSE)","v":"SM2"}]
["hv",44936,"Ingo","Hartlein","BGC Bad Nenndorf",{"$f":"CONCATENATE(VLOOKUP(A1155,bangolf_kategorien!$A$2:$B$11,2,FALSE),\": \",D1155,\", \",C1155)","v":"SM2: Hartlein, Ingo"},{"$f":"VLOOKUP(A1155,bangolf_kategorien!$A$2:$B$11,2,FALSE)","v":"SM2"}]
["hv",33896,"Jürgen","Hartmaier","BGC Heilbronn",{"$f":"CONCATENATE(VLOOKUP(A1156,bangolf_kategorien!$A$2:$B$11,2,FALSE),\": \",D1156,\", \",C1156)","v":"SM2: Hartmaier, Jürgen"},{"$f":"VLOOKUP(A1156,bangolf_kategorien!$A$2:$B$11,2,FALSE)","v":"SM2"}]
["ob",49,"Rolf","Hartmaier","BIG ASPERG",{"$f":"CONCATENATE(VLOOKUP(A1157,bangolf_kategorien!$A$2:$B$11,2,FALSE),\": \",D1157,\", \",C1157)","v":"SM1: Hartmaier, Rolf"},{"$f":"VLOOKUP(A1157,bangolf_kategorien!$A$2:$B$11,2,FALSE)","v":"SM1"}]
["hs",63738,"Christian","Hartmann","MSG Kempten",{"$f":"CONCATENATE(VLOOKUP(A1158,bangolf_kategorien!$A$2:$B$11,2,FALSE),\": \",D1158,\", \",C1158)","v":"H: Hartmann, Christian"},{"$f":"VLOOKUP(A1158,bangolf_kategorien!$A$2:$B$11,2,FALSE)","v":"H"}]
["hv",3106431,"Gerald","Hartmann","Hobby",{"$f":"CONCATENATE(VLOOKUP(A1159,bangolf_kategorien!$A$2:$B$11,2,FALSE),\": \",D1159,\", \",C1159)","v":"SM2: Hartmann, Gerald"},{"$f":"VLOOKUP(A1159,bangolf_kategorien!$A$2:$B$11,2,FALSE)","v":"SM2"}]
["hs",30051,"Jörg","Hartmann","Tempelhofer MV Berlin",{"$f":"CONCATENATE(VLOOKUP(A1160,bangolf_kategorien!$A$2:$B$11,2,FALSE),\": \",D1160,\", \",C1160)","v":"H: Hartmann, Jörg"},{"$f":"VLOOKUP(A1160,bangolf_kategorien!$A$2:$B$11,2,FALSE)","v":"H"}]
["hj",67106,"Leo","Hartmann","TSV Kücknitz Abt. Bahnengolf",{"$f":"CONCATENATE(VLOOKUP(A1161,bangolf_kategorien!$A$2:$B$11,2,FALSE),\": \",D1161,\", \",C1161)","v":"JM: Hartmann, Leo"},{"$f":"VLOOKUP(A1161,bangolf_kategorien!$A$2:$B$11,2,FALSE)","v":"JM"}]
["hs",36667,"Maximilian","Hartmann","BGC Illertissen",{"$f":"CONCATENATE(VLOOKUP(A1162,bangolf_kategorien!$A$2:$B$11,2,FALSE),\": \",D1162,\", \",C1162)","v":"H: Hartmann, Maximilian"},{"$f":"VLOOKUP(A1162,bangolf_kategorien!$A$2:$B$11,2,FALSE)","v":"H"}]
["hv",5033,"Peter","Hartmann","1. CGC Blau-Gelb Grötzingen",{"$f":"CONCATENATE(VLOOKUP(A1163,bangolf_kategorien!$A$2:$B$11,2,FALSE),\": \",D1163,\", \",C1163)","v":"SM2: Hartmann, Peter"},{"$f":"VLOOKUP(A1163,bangolf_kategorien!$A$2:$B$11,2,FALSE)","v":"SM2"}]
["hv",26119,"Rochus","Hartmann","BGC Bad Nenndorf",{"$f":"CONCATENATE(VLOOKUP(A1164,bangolf_kategorien!$A$2:$B$11,2,FALSE),\": \",D1164,\", \",C1164)","v":"SM2: Hartmann, Rochus"},{"$f":"VLOOKUP(A1164,bangolf_kategorien!$A$2:$B$11,2,FALSE)","v":"SM2"}]
["hv",41738,"Friedrich","Haschberger","1. BGC Landshut",{"$f":"CONCATENATE(VLOOKUP(A1165,bangolf_kategorien!$A$2:$B$11,2,FALSE),\": \",D1165,\", \",C1165)","v":"SM2: Haschberger, Friedrich"},{"$f":"VLOOKUP(A1165,bangolf_kategorien!$A$2:$B$11,2,FALSE)","v":"SM2"}]
["ob",29346,"Christoph","Hasenberg","SGC Hagen",{"$f":"CONCATENATE(VLOOKUP(A1166,bangolf_kategorien!$A$2:$B$11,2,FALSE),\": \",D1166,\", \",C1166)","v":"SM1: Hasenberg, Christoph"},{"$f":"VLOOKUP(A1166,bangolf_kategorien!$A$2:$B$11,2,FALSE)","v":"SM1"}]
["hs",38534,"Felix","Hasenberg","SGC Hagen",{"$f":"CONCATENATE(VLOOKUP(A1167,bangolf_kategorien!$A$2:$B$11,2,FALSE),\": \",D1167,\", \",C1167)","v":"H: Hasenberg, Felix"},{"$f":"VLOOKUP(A1167,bangolf_kategorien!$A$2:$B$11,2,FALSE)","v":"H"}]
["og",43147,"Heike","Hasenberg","SGC Hagen",{"$f":"CONCATENATE(VLOOKUP(A1168,bangolf_kategorien!$A$2:$B$11,2,FALSE),\": \",D1168,\", \",C1168)","v":"SW1: Hasenberg, Heike"},{"$f":"VLOOKUP(A1168,bangolf_kategorien!$A$2:$B$11,2,FALSE)","v":"SW1"}]
["hv",37054,"Dirk","Hasenclever","1. BGC Leipzig",{"$f":"CONCATENATE(VLOOKUP(A1169,bangolf_kategorien!$A$2:$B$11,2,FALSE),\": \",D1169,\", \",C1169)","v":"SM2: Hasenclever, Dirk"},{"$f":"VLOOKUP(A1169,bangolf_kategorien!$A$2:$B$11,2,FALSE)","v":"SM2"}]
["hv",35711,"Johann","Hasenfuss","SC Bad Münder Abt. Bahnengolf",{"$f":"CONCATENATE(VLOOKUP(A1170,bangolf_kategorien!$A$2:$B$11,2,FALSE),\": \",D1170,\", \",C1170)","v":"SM2: Hasenfuss, Johann"},{"$f":"VLOOKUP(A1170,bangolf_kategorien!$A$2:$B$11,2,FALSE)","v":"SM2"}]
["hs",66796,"Christian","Haß","BGC Bildstock",{"$f":"CONCATENATE(VLOOKUP(A1171,bangolf_kategorien!$A$2:$B$11,2,FALSE),\": \",D1171,\", \",C1171)","v":"H: Haß, Christian"},{"$f":"VLOOKUP(A1171,bangolf_kategorien!$A$2:$B$11,2,FALSE)","v":"H"}]
["ob",43779,"Lars","Hasse","1. MGC 1970 Göttingen",{"$f":"CONCATENATE(VLOOKUP(A1172,bangolf_kategorien!$A$2:$B$11,2,FALSE),\": \",D1172,\", \",C1172)","v":"SM1: Hasse, Lars"},{"$f":"VLOOKUP(A1172,bangolf_kategorien!$A$2:$B$11,2,FALSE)","v":"SM1"}]
["dv",34249,"Monika","Hasse","Preetzer TSV von 1861 Abt. Minigolf",{"$f":"CONCATENATE(VLOOKUP(A1173,bangolf_kategorien!$A$2:$B$11,2,FALSE),\": \",D1173,\", \",C1173)","v":"SW2: Hasse, Monika"},{"$f":"VLOOKUP(A1173,bangolf_kategorien!$A$2:$B$11,2,FALSE)","v":"SW2"}]
["hv",34250,"Rainer","Hasse","Preetzer TSV von 1861 Abt. Minigolf",{"$f":"CONCATENATE(VLOOKUP(A1174,bangolf_kategorien!$A$2:$B$11,2,FALSE),\": \",D1174,\", \",C1174)","v":"SM2: Hasse, Rainer"},{"$f":"VLOOKUP(A1174,bangolf_kategorien!$A$2:$B$11,2,FALSE)","v":"SM2"}]
["hv",5263,"Kurt","Hasselwander","MSV Bad Kreuznach",{"$f":"CONCATENATE(VLOOKUP(A1175,bangolf_kategorien!$A$2:$B$11,2,FALSE),\": \",D1175,\", \",C1175)","v":"SM2: Hasselwander, Kurt"},{"$f":"VLOOKUP(A1175,bangolf_kategorien!$A$2:$B$11,2,FALSE)","v":"SM2"}]
["dv",41949,"Agni","Hau","1. Essener CGC \"Blau-Gold\"",{"$f":"CONCATENATE(VLOOKUP(A1176,bangolf_kategorien!$A$2:$B$11,2,FALSE),\": \",D1176,\", \",C1176)","v":"SW2: Hau, Agni"},{"$f":"VLOOKUP(A1176,bangolf_kategorien!$A$2:$B$11,2,FALSE)","v":"SW2"}]
["hv",47485,"Reinhard","Haubeil","1. BGC Wesseling 1975",{"$f":"CONCATENATE(VLOOKUP(A1177,bangolf_kategorien!$A$2:$B$11,2,FALSE),\": \",D1177,\", \",C1177)","v":"SM2: Haubeil, Reinhard"},{"$f":"VLOOKUP(A1177,bangolf_kategorien!$A$2:$B$11,2,FALSE)","v":"SM2"}]
["hv",10992,"Franz","Haubner","1. NMC Kelheim",{"$f":"CONCATENATE(VLOOKUP(A1178,bangolf_kategorien!$A$2:$B$11,2,FALSE),\": \",D1178,\", \",C1178)","v":"SM2: Haubner, Franz"},{"$f":"VLOOKUP(A1178,bangolf_kategorien!$A$2:$B$11,2,FALSE)","v":"SM2"}]
["hv",1541,"Uwe","Haubold","MGV Bremen",{"$f":"CONCATENATE(VLOOKUP(A1179,bangolf_kategorien!$A$2:$B$11,2,FALSE),\": \",D1179,\", \",C1179)","v":"SM2: Haubold, Uwe"},{"$f":"VLOOKUP(A1179,bangolf_kategorien!$A$2:$B$11,2,FALSE)","v":"SM2"}]
["fa",67521,"Felicitas","Haubrock","1. MGC Kassel 1964",{"$f":"CONCATENATE(VLOOKUP(A1180,bangolf_kategorien!$A$2:$B$11,2,FALSE),\": \",D1180,\", \",C1180)","v":"SCHW: Haubrock, Felicitas"},{"$f":"VLOOKUP(A1180,bangolf_kategorien!$A$2:$B$11,2,FALSE)","v":"SCHW"}]
["hv",4204,"Karlheinz","Haucke","SC Bastion Rot Weiß Lippstadt",{"$f":"CONCATENATE(VLOOKUP(A1181,bangolf_kategorien!$A$2:$B$11,2,FALSE),\": \",D1181,\", \",C1181)","v":"SM2: Haucke, Karlheinz"},{"$f":"VLOOKUP(A1181,bangolf_kategorien!$A$2:$B$11,2,FALSE)","v":"SM2"}]
["hs",35810,"Timm","Haucke","SC Bastion Rot Weiß Lippstadt",{"$f":"CONCATENATE(VLOOKUP(A1182,bangolf_kategorien!$A$2:$B$11,2,FALSE),\": \",D1182,\", \",C1182)","v":"H: Haucke, Timm"},{"$f":"VLOOKUP(A1182,bangolf_kategorien!$A$2:$B$11,2,FALSE)","v":"H"}]
["ob",31350,"Jörg","Hauer","BGC Heilbronn",{"$f":"CONCATENATE(VLOOKUP(A1183,bangolf_kategorien!$A$2:$B$11,2,FALSE),\": \",D1183,\", \",C1183)","v":"SM1: Hauer, Jörg"},{"$f":"VLOOKUP(A1183,bangolf_kategorien!$A$2:$B$11,2,FALSE)","v":"SM1"}]
["pa",66998,"Lukas","Haupt","MGF Magdeburg 1995",{"$f":"CONCATENATE(VLOOKUP(A1184,bangolf_kategorien!$A$2:$B$11,2,FALSE),\": \",D1184,\", \",C1184)","v":"SCHM: Haupt, Lukas"},{"$f":"VLOOKUP(A1184,bangolf_kategorien!$A$2:$B$11,2,FALSE)","v":"SCHM"}]
["ds",37399,"Maike","Haupt","MGC Dormagen-Brechten",{"$f":"CONCATENATE(VLOOKUP(A1185,bangolf_kategorien!$A$2:$B$11,2,FALSE),\": \",D1185,\", \",C1185)","v":"D: Haupt, Maike"},{"$f":"VLOOKUP(A1185,bangolf_kategorien!$A$2:$B$11,2,FALSE)","v":"D"}]
["ob",37692,"Michael","Haupter","1. MGC Metzingen",{"$f":"CONCATENATE(VLOOKUP(A1186,bangolf_kategorien!$A$2:$B$11,2,FALSE),\": \",D1186,\", \",C1186)","v":"SM1: Haupter, Michael"},{"$f":"VLOOKUP(A1186,bangolf_kategorien!$A$2:$B$11,2,FALSE)","v":"SM1"}]
["dv",34570,"Karin","Hauschke","1. Minigolf-Club Rheinhausen",{"$f":"CONCATENATE(VLOOKUP(A1187,bangolf_kategorien!$A$2:$B$11,2,FALSE),\": \",D1187,\", \",C1187)","v":"SW2: Hauschke, Karin"},{"$f":"VLOOKUP(A1187,bangolf_kategorien!$A$2:$B$11,2,FALSE)","v":"SW2"}]
["hv",67383,"Alois","Hauser","BSV 82 Ohlsbach",{"$f":"CONCATENATE(VLOOKUP(A1188,bangolf_kategorien!$A$2:$B$11,2,FALSE),\": \",D1188,\", \",C1188)","v":"SM2: Hauser, Alois"},{"$f":"VLOOKUP(A1188,bangolf_kategorien!$A$2:$B$11,2,FALSE)","v":"SM2"}]
["hv",35083,"Hans","Häuserer","1. BGC Garmisch-Partenkirchen",{"$f":"CONCATENATE(VLOOKUP(A1189,bangolf_kategorien!$A$2:$B$11,2,FALSE),\": \",D1189,\", \",C1189)","v":"SM2: Häuserer, Hans"},{"$f":"VLOOKUP(A1189,bangolf_kategorien!$A$2:$B$11,2,FALSE)","v":"SM2"}]
["hs",37363,"Julian","Häusler","1. MSC Wesel 6.6.1966",{"$f":"CONCATENATE(VLOOKUP(A1190,bangolf_kategorien!$A$2:$B$11,2,FALSE),\": \",D1190,\", \",C1190)","v":"H: Häusler, Julian"},{"$f":"VLOOKUP(A1190,bangolf_kategorien!$A$2:$B$11,2,FALSE)","v":"H"}]
["ob",65456,"Gerd","Hausmann","1. MGC Ludwigshafen",{"$f":"CONCATENATE(VLOOKUP(A1191,bangolf_kategorien!$A$2:$B$11,2,FALSE),\": \",D1191,\", \",C1191)","v":"SM1: Hausmann, Gerd"},{"$f":"VLOOKUP(A1191,bangolf_kategorien!$A$2:$B$11,2,FALSE)","v":"SM1"}]
["hv",35145,"Erich","Hauth","MGC Traben-Trarbach",{"$f":"CONCATENATE(VLOOKUP(A1192,bangolf_kategorien!$A$2:$B$11,2,FALSE),\": \",D1192,\", \",C1192)","v":"SM2: Hauth, Erich"},{"$f":"VLOOKUP(A1192,bangolf_kategorien!$A$2:$B$11,2,FALSE)","v":"SM2"}]
["ds",37853,"Carina","Hebbeln","Hamburger MC von 1965",{"$f":"CONCATENATE(VLOOKUP(A1193,bangolf_kategorien!$A$2:$B$11,2,FALSE),\": \",D1193,\", \",C1193)","v":"D: Hebbeln, Carina"},{"$f":"VLOOKUP(A1193,bangolf_kategorien!$A$2:$B$11,2,FALSE)","v":"D"}]
["hs",37511,"Christian","Hebbeln","Hamburger MC von 1965",{"$f":"CONCATENATE(VLOOKUP(A1194,bangolf_kategorien!$A$2:$B$11,2,FALSE),\": \",D1194,\", \",C1194)","v":"H: Hebbeln, Christian"},{"$f":"VLOOKUP(A1194,bangolf_kategorien!$A$2:$B$11,2,FALSE)","v":"H"}]
["hv",67126,"Bernd","Heber","SV 1890 Dreieichenhain, Abt. Bahnengolf",{"$f":"CONCATENATE(VLOOKUP(A1195,bangolf_kategorien!$A$2:$B$11,2,FALSE),\": \",D1195,\", \",C1195)","v":"SM2: Heber, Bernd"},{"$f":"VLOOKUP(A1195,bangolf_kategorien!$A$2:$B$11,2,FALSE)","v":"SM2"}]
["hv",20081,"Michael","Hecken","MC Neuwied",{"$f":"CONCATENATE(VLOOKUP(A1196,bangolf_kategorien!$A$2:$B$11,2,FALSE),\": \",D1196,\", \",C1196)","v":"SM2: Hecken, Michael"},{"$f":"VLOOKUP(A1196,bangolf_kategorien!$A$2:$B$11,2,FALSE)","v":"SM2"}]
["hs",32382,"Stefan","Hecken","MC Tigers Künsebeck",{"$f":"CONCATENATE(VLOOKUP(A1197,bangolf_kategorien!$A$2:$B$11,2,FALSE),\": \",D1197,\", \",C1197)","v":"H: Hecken, Stefan"},{"$f":"VLOOKUP(A1197,bangolf_kategorien!$A$2:$B$11,2,FALSE)","v":"H"}]
["pa",66901,"Sebastian","Heckmann","1. MGC Ladenburg",{"$f":"CONCATENATE(VLOOKUP(A1198,bangolf_kategorien!$A$2:$B$11,2,FALSE),\": \",D1198,\", \",C1198)","v":"SCHM: Heckmann, Sebastian"},{"$f":"VLOOKUP(A1198,bangolf_kategorien!$A$2:$B$11,2,FALSE)","v":"SCHM"}]
["hv",36425,"Ludwig","Heer","MGC Bad Homburg vdH",{"$f":"CONCATENATE(VLOOKUP(A1199,bangolf_kategorien!$A$2:$B$11,2,FALSE),\": \",D1199,\", \",C1199)","v":"SM2: Heer, Ludwig"},{"$f":"VLOOKUP(A1199,bangolf_kategorien!$A$2:$B$11,2,FALSE)","v":"SM2"}]
["hs",36956,"Tobias","Heer","MGC Bad Homburg vdH",{"$f":"CONCATENATE(VLOOKUP(A1200,bangolf_kategorien!$A$2:$B$11,2,FALSE),\": \",D1200,\", \",C1200)","v":"H: Heer, Tobias"},{"$f":"VLOOKUP(A1200,bangolf_kategorien!$A$2:$B$11,2,FALSE)","v":"H"}]
["og",30816,"Laila","Heerich","1. MGC Kassel 1964",{"$f":"CONCATENATE(VLOOKUP(A1201,bangolf_kategorien!$A$2:$B$11,2,FALSE),\": \",D1201,\", \",C1201)","v":"SW1: Heerich, Laila"},{"$f":"VLOOKUP(A1201,bangolf_kategorien!$A$2:$B$11,2,FALSE)","v":"SW1"}]
["hv",21948,"Ralph","Heerich","1. MGC Kassel 1964",{"$f":"CONCATENATE(VLOOKUP(A1202,bangolf_kategorien!$A$2:$B$11,2,FALSE),\": \",D1202,\", \",C1202)","v":"SM2: Heerich, Ralph"},{"$f":"VLOOKUP(A1202,bangolf_kategorien!$A$2:$B$11,2,FALSE)","v":"SM2"}]
["hs",67587,"Dominik","Heering","SSC Halver",{"$f":"CONCATENATE(VLOOKUP(A1203,bangolf_kategorien!$A$2:$B$11,2,FALSE),\": \",D1203,\", \",C1203)","v":"H: Heering, Dominik"},{"$f":"VLOOKUP(A1203,bangolf_kategorien!$A$2:$B$11,2,FALSE)","v":"H"}]
["hv",51888,"Hans-Joachim","Heese","MGC Freizeitzentrum Biebertal",{"$f":"CONCATENATE(VLOOKUP(A1204,bangolf_kategorien!$A$2:$B$11,2,FALSE),\": \",D1204,\", \",C1204)","v":"SM2: Heese, Hans-Joachim"},{"$f":"VLOOKUP(A1204,bangolf_kategorien!$A$2:$B$11,2,FALSE)","v":"SM2"}]
["hv",26259,"Karl-Heinz","Hefner","MGC Ostheim / Rhön",{"$f":"CONCATENATE(VLOOKUP(A1205,bangolf_kategorien!$A$2:$B$11,2,FALSE),\": \",D1205,\", \",C1205)","v":"SM2: Hefner, Karl-Heinz"},{"$f":"VLOOKUP(A1205,bangolf_kategorien!$A$2:$B$11,2,FALSE)","v":"SM2"}]
["hs",36131,"Marcel","Heger","1. CGC Blau-Gelb Grötzingen",{"$f":"CONCATENATE(VLOOKUP(A1206,bangolf_kategorien!$A$2:$B$11,2,FALSE),\": \",D1206,\", \",C1206)","v":"H: Heger, Marcel"},{"$f":"VLOOKUP(A1206,bangolf_kategorien!$A$2:$B$11,2,FALSE)","v":"H"}]
["ob",65149,"Thomas","Heger","MGC Heringen 1997",{"$f":"CONCATENATE(VLOOKUP(A1207,bangolf_kategorien!$A$2:$B$11,2,FALSE),\": \",D1207,\", \",C1207)","v":"SM1: Heger, Thomas"},{"$f":"VLOOKUP(A1207,bangolf_kategorien!$A$2:$B$11,2,FALSE)","v":"SM1"}]
["ob",46457,"Falk","Heidecke","MC \"Möve\" Cuxhaven-Sahlenburg",{"$f":"CONCATENATE(VLOOKUP(A1208,bangolf_kategorien!$A$2:$B$11,2,FALSE),\": \",D1208,\", \",C1208)","v":"SM1: Heidecke, Falk"},{"$f":"VLOOKUP(A1208,bangolf_kategorien!$A$2:$B$11,2,FALSE)","v":"SM1"}]
["hv",67562,"Karl-Heinz","Heidemann","VfM Bottrop",{"$f":"CONCATENATE(VLOOKUP(A1209,bangolf_kategorien!$A$2:$B$11,2,FALSE),\": \",D1209,\", \",C1209)","v":"SM2: Heidemann, Karl-Heinz"},{"$f":"VLOOKUP(A1209,bangolf_kategorien!$A$2:$B$11,2,FALSE)","v":"SM2"}]
["dv",67561,"Margarete","Heidemann","VfM Bottrop",{"$f":"CONCATENATE(VLOOKUP(A1210,bangolf_kategorien!$A$2:$B$11,2,FALSE),\": \",D1210,\", \",C1210)","v":"SW2: Heidemann, Margarete"},{"$f":"VLOOKUP(A1210,bangolf_kategorien!$A$2:$B$11,2,FALSE)","v":"SW2"}]
["dv",28904,"Ursula","Heiliger","1. BGC Wolfsburg",{"$f":"CONCATENATE(VLOOKUP(A1211,bangolf_kategorien!$A$2:$B$11,2,FALSE),\": \",D1211,\", \",C1211)","v":"SW2: Heiliger, Ursula"},{"$f":"VLOOKUP(A1211,bangolf_kategorien!$A$2:$B$11,2,FALSE)","v":"SW2"}]
["hv",18150,"Horst","Heilmann","BGSC Bochum 1978",{"$f":"CONCATENATE(VLOOKUP(A1212,bangolf_kategorien!$A$2:$B$11,2,FALSE),\": \",D1212,\", \",C1212)","v":"SM2: Heilmann, Horst"},{"$f":"VLOOKUP(A1212,bangolf_kategorien!$A$2:$B$11,2,FALSE)","v":"SM2"}]
["hs",23436,"Dirk","Hein","Tempelhofer MV Berlin",{"$f":"CONCATENATE(VLOOKUP(A1213,bangolf_kategorien!$A$2:$B$11,2,FALSE),\": \",D1213,\", \",C1213)","v":"H: Hein, Dirk"},{"$f":"VLOOKUP(A1213,bangolf_kategorien!$A$2:$B$11,2,FALSE)","v":"H"}]
["ob",27863,"Hans-Jörg","Hein","MGC \"AS\" Witten 1963",{"$f":"CONCATENATE(VLOOKUP(A1214,bangolf_kategorien!$A$2:$B$11,2,FALSE),\": \",D1214,\", \",C1214)","v":"SM1: Hein, Hans-Jörg"},{"$f":"VLOOKUP(A1214,bangolf_kategorien!$A$2:$B$11,2,FALSE)","v":"SM1"}]
["dv",24422,"Helga","Hein","1. NMC Kelheim",{"$f":"CONCATENATE(VLOOKUP(A1215,bangolf_kategorien!$A$2:$B$11,2,FALSE),\": \",D1215,\", \",C1215)","v":"SW2: Hein, Helga"},{"$f":"VLOOKUP(A1215,bangolf_kategorien!$A$2:$B$11,2,FALSE)","v":"SW2"}]
["ob",29808,"Karsten","Hein","BGV Bergisch Land 1962 / 63",{"$f":"CONCATENATE(VLOOKUP(A1216,bangolf_kategorien!$A$2:$B$11,2,FALSE),\": \",D1216,\", \",C1216)","v":"SM1: Hein, Karsten"},{"$f":"VLOOKUP(A1216,bangolf_kategorien!$A$2:$B$11,2,FALSE)","v":"SM1"}]
["hv",36223,"Lothar","Heine","1. MSC Wesel 6.6.1966",{"$f":"CONCATENATE(VLOOKUP(A1217,bangolf_kategorien!$A$2:$B$11,2,FALSE),\": \",D1217,\", \",C1217)","v":"SM2: Heine, Lothar"},{"$f":"VLOOKUP(A1217,bangolf_kategorien!$A$2:$B$11,2,FALSE)","v":"SM2"}]
["hv",1723,"Peter","Heine","1. BGC Hannover",{"$f":"CONCATENATE(VLOOKUP(A1218,bangolf_kategorien!$A$2:$B$11,2,FALSE),\": \",D1218,\", \",C1218)","v":"SM2: Heine, Peter"},{"$f":"VLOOKUP(A1218,bangolf_kategorien!$A$2:$B$11,2,FALSE)","v":"SM2"}]
["hs",40930,"Sebastian","Heine","MGC Dormagen-Brechten",{"$f":"CONCATENATE(VLOOKUP(A1219,bangolf_kategorien!$A$2:$B$11,2,FALSE),\": \",D1219,\", \",C1219)","v":"H: Heine, Sebastian"},{"$f":"VLOOKUP(A1219,bangolf_kategorien!$A$2:$B$11,2,FALSE)","v":"H"}]
["hs",33352,"Andreas","Heinel","MSK Olching",{"$f":"CONCATENATE(VLOOKUP(A1220,bangolf_kategorien!$A$2:$B$11,2,FALSE),\": \",D1220,\", \",C1220)","v":"H: Heinel, Andreas"},{"$f":"VLOOKUP(A1220,bangolf_kategorien!$A$2:$B$11,2,FALSE)","v":"H"}]
["ds",35309,"Marina","Heinel","1. FMGC Lichtenfels 1961",{"$f":"CONCATENATE(VLOOKUP(A1221,bangolf_kategorien!$A$2:$B$11,2,FALSE),\": \",D1221,\", \",C1221)","v":"D: Heinel, Marina"},{"$f":"VLOOKUP(A1221,bangolf_kategorien!$A$2:$B$11,2,FALSE)","v":"D"}]
["hv",31397,"Hans-Werner","Heinisch","BGC Bad Nenndorf",{"$f":"CONCATENATE(VLOOKUP(A1222,bangolf_kategorien!$A$2:$B$11,2,FALSE),\": \",D1222,\", \",C1222)","v":"SM2: Heinisch, Hans-Werner"},{"$f":"VLOOKUP(A1222,bangolf_kategorien!$A$2:$B$11,2,FALSE)","v":"SM2"}]
["hj",66117,"Justin","Heinisch","BGC Bad Nenndorf",{"$f":"CONCATENATE(VLOOKUP(A1223,bangolf_kategorien!$A$2:$B$11,2,FALSE),\": \",D1223,\", \",C1223)","v":"JM: Heinisch, Justin"},{"$f":"VLOOKUP(A1223,bangolf_kategorien!$A$2:$B$11,2,FALSE)","v":"JM"}]
["ob",41617,"Marco","Heinisch","BGC Bad Nenndorf",{"$f":"CONCATENATE(VLOOKUP(A1224,bangolf_kategorien!$A$2:$B$11,2,FALSE),\": \",D1224,\", \",C1224)","v":"SM1: Heinisch, Marco"},{"$f":"VLOOKUP(A1224,bangolf_kategorien!$A$2:$B$11,2,FALSE)","v":"SM1"}]
["ds",35094,"Stefanie","Heinisch","BGC Bad Nenndorf",{"$f":"CONCATENATE(VLOOKUP(A1225,bangolf_kategorien!$A$2:$B$11,2,FALSE),\": \",D1225,\", \",C1225)","v":"D: Heinisch, Stefanie"},{"$f":"VLOOKUP(A1225,bangolf_kategorien!$A$2:$B$11,2,FALSE)","v":"D"}]
["pa",66118,"Vincent","Heinisch","BGC Bad Nenndorf",{"$f":"CONCATENATE(VLOOKUP(A1226,bangolf_kategorien!$A$2:$B$11,2,FALSE),\": \",D1226,\", \",C1226)","v":"SCHM: Heinisch, Vincent"},{"$f":"VLOOKUP(A1226,bangolf_kategorien!$A$2:$B$11,2,FALSE)","v":"SCHM"}]
["hv",63138,"Helmut","Heinrich","MSV Bad Kreuznach",{"$f":"CONCATENATE(VLOOKUP(A1227,bangolf_kategorien!$A$2:$B$11,2,FALSE),\": \",D1227,\", \",C1227)","v":"SM2: Heinrich, Helmut"},{"$f":"VLOOKUP(A1227,bangolf_kategorien!$A$2:$B$11,2,FALSE)","v":"SM2"}]
["ds",31244,"Sabrina","Heinrich","MGC Traben-Trarbach",{"$f":"CONCATENATE(VLOOKUP(A1228,bangolf_kategorien!$A$2:$B$11,2,FALSE),\": \",D1228,\", \",C1228)","v":"D: Heinrich, Sabrina"},{"$f":"VLOOKUP(A1228,bangolf_kategorien!$A$2:$B$11,2,FALSE)","v":"D"}]
["ob",3119659,"Uwe","Heinrich","Hobby",{"$f":"CONCATENATE(VLOOKUP(A1229,bangolf_kategorien!$A$2:$B$11,2,FALSE),\": \",D1229,\", \",C1229)","v":"SM1: Heinrich, Uwe"},{"$f":"VLOOKUP(A1229,bangolf_kategorien!$A$2:$B$11,2,FALSE)","v":"SM1"}]
["hv",5129,"Werner","Heinrich","1. MSC Wesel 6.6.1966",{"$f":"CONCATENATE(VLOOKUP(A1230,bangolf_kategorien!$A$2:$B$11,2,FALSE),\": \",D1230,\", \",C1230)","v":"SM2: Heinrich, Werner"},{"$f":"VLOOKUP(A1230,bangolf_kategorien!$A$2:$B$11,2,FALSE)","v":"SM2"}]
["ob",67325,"Michael","Heinrichs","BSC Ennepetal",{"$f":"CONCATENATE(VLOOKUP(A1231,bangolf_kategorien!$A$2:$B$11,2,FALSE),\": \",D1231,\", \",C1231)","v":"SM1: Heinrichs, Michael"},{"$f":"VLOOKUP(A1231,bangolf_kategorien!$A$2:$B$11,2,FALSE)","v":"SM1"}]
["hs",48909,"Tobias","Heintze","1. Minigolf-Club Rheinhausen",{"$f":"CONCATENATE(VLOOKUP(A1232,bangolf_kategorien!$A$2:$B$11,2,FALSE),\": \",D1232,\", \",C1232)","v":"H: Heintze, Tobias"},{"$f":"VLOOKUP(A1232,bangolf_kategorien!$A$2:$B$11,2,FALSE)","v":"H"}]
["hv",65896,"Klaus","Heinz","1. MGC Gelsenkirchen",{"$f":"CONCATENATE(VLOOKUP(A1233,bangolf_kategorien!$A$2:$B$11,2,FALSE),\": \",D1233,\", \",C1233)","v":"SM2: Heinz, Klaus"},{"$f":"VLOOKUP(A1233,bangolf_kategorien!$A$2:$B$11,2,FALSE)","v":"SM2"}]
["ds",30057,"Doris","Heinze","BSV AOK Leipzig",{"$f":"CONCATENATE(VLOOKUP(A1234,bangolf_kategorien!$A$2:$B$11,2,FALSE),\": \",D1234,\", \",C1234)","v":"D: Heinze, Doris"},{"$f":"VLOOKUP(A1234,bangolf_kategorien!$A$2:$B$11,2,FALSE)","v":"D"}]
["ob",42001,"Thomas","Heinzelmann","BG Pfullingen",{"$f":"CONCATENATE(VLOOKUP(A1235,bangolf_kategorien!$A$2:$B$11,2,FALSE),\": \",D1235,\", \",C1235)","v":"SM1: Heinzelmann, Thomas"},{"$f":"VLOOKUP(A1235,bangolf_kategorien!$A$2:$B$11,2,FALSE)","v":"SM1"}]
["hs",37194,"Ingmar","Heipel","SG Arheilgen Abt. Bahnengolf",{"$f":"CONCATENATE(VLOOKUP(A1236,bangolf_kategorien!$A$2:$B$11,2,FALSE),\": \",D1236,\", \",C1236)","v":"H: Heipel, Ingmar"},{"$f":"VLOOKUP(A1236,bangolf_kategorien!$A$2:$B$11,2,FALSE)","v":"H"}]
["og",50371,"Stefanie","Heise","MGC Bad Salzuflen",{"$f":"CONCATENATE(VLOOKUP(A1237,bangolf_kategorien!$A$2:$B$11,2,FALSE),\": \",D1237,\", \",C1237)","v":"SW1: Heise, Stefanie"},{"$f":"VLOOKUP(A1237,bangolf_kategorien!$A$2:$B$11,2,FALSE)","v":"SW1"}]
["dv",44731,"Regina","Heisel","BGC Diepholz",{"$f":"CONCATENATE(VLOOKUP(A1238,bangolf_kategorien!$A$2:$B$11,2,FALSE),\": \",D1238,\", \",C1238)","v":"SW2: Heisel, Regina"},{"$f":"VLOOKUP(A1238,bangolf_kategorien!$A$2:$B$11,2,FALSE)","v":"SW2"}]
["hs",44726,"Thomas","Heisel","BGC Diepholz",{"$f":"CONCATENATE(VLOOKUP(A1239,bangolf_kategorien!$A$2:$B$11,2,FALSE),\": \",D1239,\", \",C1239)","v":"H: Heisel, Thomas"},{"$f":"VLOOKUP(A1239,bangolf_kategorien!$A$2:$B$11,2,FALSE)","v":"H"}]
["pa",66918,"Phil Joel","Heiß","BSC Ennepetal",{"$f":"CONCATENATE(VLOOKUP(A1240,bangolf_kategorien!$A$2:$B$11,2,FALSE),\": \",D1240,\", \",C1240)","v":"SCHM: Heiß, Phil Joel"},{"$f":"VLOOKUP(A1240,bangolf_kategorien!$A$2:$B$11,2,FALSE)","v":"SCHM"}]
["hv",36965,"Dieter","Heisterklaus","MSK Neheim-Hüsten",{"$f":"CONCATENATE(VLOOKUP(A1241,bangolf_kategorien!$A$2:$B$11,2,FALSE),\": \",D1241,\", \",C1241)","v":"SM2: Heisterklaus, Dieter"},{"$f":"VLOOKUP(A1241,bangolf_kategorien!$A$2:$B$11,2,FALSE)","v":"SM2"}]
["hv",67053,"Johann","Hejosch","BV Sennestadt",{"$f":"CONCATENATE(VLOOKUP(A1242,bangolf_kategorien!$A$2:$B$11,2,FALSE),\": \",D1242,\", \",C1242)","v":"SM2: Hejosch, Johann"},{"$f":"VLOOKUP(A1242,bangolf_kategorien!$A$2:$B$11,2,FALSE)","v":"SM2"}]
["dv",66236,"Barbara","Helfmann","MGC Bergisch Gladbach Gierath",{"$f":"CONCATENATE(VLOOKUP(A1243,bangolf_kategorien!$A$2:$B$11,2,FALSE),\": \",D1243,\", \",C1243)","v":"SW2: Helfmann, Barbara"},{"$f":"VLOOKUP(A1243,bangolf_kategorien!$A$2:$B$11,2,FALSE)","v":"SW2"}]
["hs",49900,"Sven","Helldörfer","MGC Murnau am Staffelsee",{"$f":"CONCATENATE(VLOOKUP(A1244,bangolf_kategorien!$A$2:$B$11,2,FALSE),\": \",D1244,\", \",C1244)","v":"H: Helldörfer, Sven"},{"$f":"VLOOKUP(A1244,bangolf_kategorien!$A$2:$B$11,2,FALSE)","v":"H"}]
["dv",46285,"Gabriele","Heller","BGSV Kerpen",{"$f":"CONCATENATE(VLOOKUP(A1245,bangolf_kategorien!$A$2:$B$11,2,FALSE),\": \",D1245,\", \",C1245)","v":"SW2: Heller, Gabriele"},{"$f":"VLOOKUP(A1245,bangolf_kategorien!$A$2:$B$11,2,FALSE)","v":"SW2"}]
["hv",5340,"Hans-Peter","Heller","BGSV Kerpen",{"$f":"CONCATENATE(VLOOKUP(A1246,bangolf_kategorien!$A$2:$B$11,2,FALSE),\": \",D1246,\", \",C1246)","v":"SM2: Heller, Hans-Peter"},{"$f":"VLOOKUP(A1246,bangolf_kategorien!$A$2:$B$11,2,FALSE)","v":"SM2"}]
["hv",34374,"Herbert","Heller","MGC Ostheim / Rhön",{"$f":"CONCATENATE(VLOOKUP(A1247,bangolf_kategorien!$A$2:$B$11,2,FALSE),\": \",D1247,\", \",C1247)","v":"SM2: Heller, Herbert"},{"$f":"VLOOKUP(A1247,bangolf_kategorien!$A$2:$B$11,2,FALSE)","v":"SM2"}]
["hv",30650,"Oswald","Heller","MGC Murnau am Staffelsee",{"$f":"CONCATENATE(VLOOKUP(A1248,bangolf_kategorien!$A$2:$B$11,2,FALSE),\": \",D1248,\", \",C1248)","v":"SM2: Heller, Oswald"},{"$f":"VLOOKUP(A1248,bangolf_kategorien!$A$2:$B$11,2,FALSE)","v":"SM2"}]
["hs",3353098,"Christian","Hellmann","Hobby",{"$f":"CONCATENATE(VLOOKUP(A1249,bangolf_kategorien!$A$2:$B$11,2,FALSE),\": \",D1249,\", \",C1249)","v":"H: Hellmann, Christian"},{"$f":"VLOOKUP(A1249,bangolf_kategorien!$A$2:$B$11,2,FALSE)","v":"H"}]
["hs",37321,"Christian","Hellmann","1. MSC Wesel 6.6.1966",{"$f":"CONCATENATE(VLOOKUP(A1250,bangolf_kategorien!$A$2:$B$11,2,FALSE),\": \",D1250,\", \",C1250)","v":"H: Hellmann, Christian"},{"$f":"VLOOKUP(A1250,bangolf_kategorien!$A$2:$B$11,2,FALSE)","v":"H"}]
["ds",3353099,"Jacqueline","Hellmann","Hobby",{"$f":"CONCATENATE(VLOOKUP(A1251,bangolf_kategorien!$A$2:$B$11,2,FALSE),\": \",D1251,\", \",C1251)","v":"D: Hellmann, Jacqueline"},{"$f":"VLOOKUP(A1251,bangolf_kategorien!$A$2:$B$11,2,FALSE)","v":"D"}]
["ds",67022,"Jacqueline","Hellmann","BGC Uerdingen",{"$f":"CONCATENATE(VLOOKUP(A1252,bangolf_kategorien!$A$2:$B$11,2,FALSE),\": \",D1252,\", \",C1252)","v":"D: Hellmann, Jacqueline"},{"$f":"VLOOKUP(A1252,bangolf_kategorien!$A$2:$B$11,2,FALSE)","v":"D"}]
["og",46744,"Elvira","Hellmich","VfM Bottrop",{"$f":"CONCATENATE(VLOOKUP(A1253,bangolf_kategorien!$A$2:$B$11,2,FALSE),\": \",D1253,\", \",C1253)","v":"SW1: Hellmich, Elvira"},{"$f":"VLOOKUP(A1253,bangolf_kategorien!$A$2:$B$11,2,FALSE)","v":"SW1"}]
["ob",27801,"Uwe","Hellmich","VfM Bottrop",{"$f":"CONCATENATE(VLOOKUP(A1254,bangolf_kategorien!$A$2:$B$11,2,FALSE),\": \",D1254,\", \",C1254)","v":"SM1: Hellmich, Uwe"},{"$f":"VLOOKUP(A1254,bangolf_kategorien!$A$2:$B$11,2,FALSE)","v":"SM1"}]
["ob",44381,"Markus","Hellwig","MGC Dormagen-Brechten",{"$f":"CONCATENATE(VLOOKUP(A1255,bangolf_kategorien!$A$2:$B$11,2,FALSE),\": \",D1255,\", \",C1255)","v":"SM1: Hellwig, Markus"},{"$f":"VLOOKUP(A1255,bangolf_kategorien!$A$2:$B$11,2,FALSE)","v":"SM1"}]
["ob",32968,"Martin","Hellwig","Cobigolf-Verein Hamm 2019",{"$f":"CONCATENATE(VLOOKUP(A1256,bangolf_kategorien!$A$2:$B$11,2,FALSE),\": \",D1256,\", \",C1256)","v":"SM1: Hellwig, Martin"},{"$f":"VLOOKUP(A1256,bangolf_kategorien!$A$2:$B$11,2,FALSE)","v":"SM1"}]
["og",596,"Anja","Helmes","1. BGC Wesseling 1975",{"$f":"CONCATENATE(VLOOKUP(A1257,bangolf_kategorien!$A$2:$B$11,2,FALSE),\": \",D1257,\", \",C1257)","v":"SW1: Helmes, Anja"},{"$f":"VLOOKUP(A1257,bangolf_kategorien!$A$2:$B$11,2,FALSE)","v":"SW1"}]
["hv",6117,"Willi","Helmschmidt","MGC Ingolstadt",{"$f":"CONCATENATE(VLOOKUP(A1258,bangolf_kategorien!$A$2:$B$11,2,FALSE),\": \",D1258,\", \",C1258)","v":"SM2: Helmschmidt, Willi"},{"$f":"VLOOKUP(A1258,bangolf_kategorien!$A$2:$B$11,2,FALSE)","v":"SM2"}]
["hs",67551,"René","Hemgesberg","BGS Hardenberg-Pötter",{"$f":"CONCATENATE(VLOOKUP(A1259,bangolf_kategorien!$A$2:$B$11,2,FALSE),\": \",D1259,\", \",C1259)","v":"H: Hemgesberg, René"},{"$f":"VLOOKUP(A1259,bangolf_kategorien!$A$2:$B$11,2,FALSE)","v":"H"}]
["ob",66740,"Andreas","Hemmelmann","MGC Wertheim 91",{"$f":"CONCATENATE(VLOOKUP(A1260,bangolf_kategorien!$A$2:$B$11,2,FALSE),\": \",D1260,\", \",C1260)","v":"SM1: Hemmelmann, Andreas"},{"$f":"VLOOKUP(A1260,bangolf_kategorien!$A$2:$B$11,2,FALSE)","v":"SM1"}]
["hs",29993,"Martin","Hemmerling","TSV Pfungstadt Abt. Bahnengolf",{"$f":"CONCATENATE(VLOOKUP(A1261,bangolf_kategorien!$A$2:$B$11,2,FALSE),\": \",D1261,\", \",C1261)","v":"H: Hemmerling, Martin"},{"$f":"VLOOKUP(A1261,bangolf_kategorien!$A$2:$B$11,2,FALSE)","v":"H"}]
["hs",34042,"Ulli","Hengstberger","SSV Ulm 1846 Abt. Bahnengolf",{"$f":"CONCATENATE(VLOOKUP(A1262,bangolf_kategorien!$A$2:$B$11,2,FALSE),\": \",D1262,\", \",C1262)","v":"H: Hengstberger, Ulli"},{"$f":"VLOOKUP(A1262,bangolf_kategorien!$A$2:$B$11,2,FALSE)","v":"H"}]
["og",41231,"Claudia","Hengstler","1. Bahnengolf-Club Singen",{"$f":"CONCATENATE(VLOOKUP(A1263,bangolf_kategorien!$A$2:$B$11,2,FALSE),\": \",D1263,\", \",C1263)","v":"SW1: Hengstler, Claudia"},{"$f":"VLOOKUP(A1263,bangolf_kategorien!$A$2:$B$11,2,FALSE)","v":"SW1"}]
["ob",22909,"Ulrich","Hengstler","1. Bahnengolf-Club Singen",{"$f":"CONCATENATE(VLOOKUP(A1264,bangolf_kategorien!$A$2:$B$11,2,FALSE),\": \",D1264,\", \",C1264)","v":"SM1: Hengstler, Ulrich"},{"$f":"VLOOKUP(A1264,bangolf_kategorien!$A$2:$B$11,2,FALSE)","v":"SM1"}]
["hs",34712,"Björn","Henke","MGC Freizeitzentrum Biebertal",{"$f":"CONCATENATE(VLOOKUP(A1265,bangolf_kategorien!$A$2:$B$11,2,FALSE),\": \",D1265,\", \",C1265)","v":"H: Henke, Björn"},{"$f":"VLOOKUP(A1265,bangolf_kategorien!$A$2:$B$11,2,FALSE)","v":"H"}]
["hv",67274,"Eberhard","Henkel","BSG Pneumant Fürstenwalde, Abt. Minigolf",{"$f":"CONCATENATE(VLOOKUP(A1266,bangolf_kategorien!$A$2:$B$11,2,FALSE),\": \",D1266,\", \",C1266)","v":"SM2: Henkel, Eberhard"},{"$f":"VLOOKUP(A1266,bangolf_kategorien!$A$2:$B$11,2,FALSE)","v":"SM2"}]
["hv",2061,"Helmut","Henkel","SC Bad Münder Abt. Bahnengolf",{"$f":"CONCATENATE(VLOOKUP(A1267,bangolf_kategorien!$A$2:$B$11,2,FALSE),\": \",D1267,\", \",C1267)","v":"SM2: Henkel, Helmut"},{"$f":"VLOOKUP(A1267,bangolf_kategorien!$A$2:$B$11,2,FALSE)","v":"SM2"}]
["hv",34118,"Klaus-Dieter","Henkel","MSV 05 Bad Münder / Springe",{"$f":"CONCATENATE(VLOOKUP(A1268,bangolf_kategorien!$A$2:$B$11,2,FALSE),\": \",D1268,\", \",C1268)","v":"SM2: Henkel, Klaus-Dieter"},{"$f":"VLOOKUP(A1268,bangolf_kategorien!$A$2:$B$11,2,FALSE)","v":"SM2"}]
["hv",3106616,"Helmut","Henne","Hobby",{"$f":"CONCATENATE(VLOOKUP(A1269,bangolf_kategorien!$A$2:$B$11,2,FALSE),\": \",D1269,\", \",C1269)","v":"SM2: Henne, Helmut"},{"$f":"VLOOKUP(A1269,bangolf_kategorien!$A$2:$B$11,2,FALSE)","v":"SM2"}]
["ob",50094,"Holger","Hennies","BGC Bad Nenndorf",{"$f":"CONCATENATE(VLOOKUP(A1270,bangolf_kategorien!$A$2:$B$11,2,FALSE),\": \",D1270,\", \",C1270)","v":"SM1: Hennies, Holger"},{"$f":"VLOOKUP(A1270,bangolf_kategorien!$A$2:$B$11,2,FALSE)","v":"SM1"}]
["ds",66516,"Simone","Hennig-Becker","TSV Pfungstadt Abt. Bahnengolf",{"$f":"CONCATENATE(VLOOKUP(A1271,bangolf_kategorien!$A$2:$B$11,2,FALSE),\": \",D1271,\", \",C1271)","v":"D: Hennig-Becker, Simone"},{"$f":"VLOOKUP(A1271,bangolf_kategorien!$A$2:$B$11,2,FALSE)","v":"D"}]
["dv",36074,"Petra","Henschke","1. MGV Spandau Berlin",{"$f":"CONCATENATE(VLOOKUP(A1272,bangolf_kategorien!$A$2:$B$11,2,FALSE),\": \",D1272,\", \",C1272)","v":"SW2: Henschke, Petra"},{"$f":"VLOOKUP(A1272,bangolf_kategorien!$A$2:$B$11,2,FALSE)","v":"SW2"}]
["hs",29252,"Danny","Hense","SG Arheilgen Abt. Bahnengolf",{"$f":"CONCATENATE(VLOOKUP(A1273,bangolf_kategorien!$A$2:$B$11,2,FALSE),\": \",D1273,\", \",C1273)","v":"H: Hense, Danny"},{"$f":"VLOOKUP(A1273,bangolf_kategorien!$A$2:$B$11,2,FALSE)","v":"H"}]
["dv",62945,"Ingrid","Hense","1. MGC Metzingen",{"$f":"CONCATENATE(VLOOKUP(A1274,bangolf_kategorien!$A$2:$B$11,2,FALSE),\": \",D1274,\", \",C1274)","v":"SW2: Hense, Ingrid"},{"$f":"VLOOKUP(A1274,bangolf_kategorien!$A$2:$B$11,2,FALSE)","v":"SW2"}]
["hv",62946,"Josef","Hense","1. MGC Metzingen",{"$f":"CONCATENATE(VLOOKUP(A1275,bangolf_kategorien!$A$2:$B$11,2,FALSE),\": \",D1275,\", \",C1275)","v":"SM2: Hense, Josef"},{"$f":"VLOOKUP(A1275,bangolf_kategorien!$A$2:$B$11,2,FALSE)","v":"SM2"}]
["fa",66533,"Annika Sophia","Hensel","BSC Ennepetal",{"$f":"CONCATENATE(VLOOKUP(A1276,bangolf_kategorien!$A$2:$B$11,2,FALSE),\": \",D1276,\", \",C1276)","v":"SCHW: Hensel, Annika Sophia"},{"$f":"VLOOKUP(A1276,bangolf_kategorien!$A$2:$B$11,2,FALSE)","v":"SCHW"}]
["hs",40199,"Florian","Hensel","BSC Ennepetal",{"$f":"CONCATENATE(VLOOKUP(A1277,bangolf_kategorien!$A$2:$B$11,2,FALSE),\": \",D1277,\", \",C1277)","v":"H: Hensel, Florian"},{"$f":"VLOOKUP(A1277,bangolf_kategorien!$A$2:$B$11,2,FALSE)","v":"H"}]
["og",48052,"Heike","Hensel","BSC Ennepetal",{"$f":"CONCATENATE(VLOOKUP(A1278,bangolf_kategorien!$A$2:$B$11,2,FALSE),\": \",D1278,\", \",C1278)","v":"SW1: Hensel, Heike"},{"$f":"VLOOKUP(A1278,bangolf_kategorien!$A$2:$B$11,2,FALSE)","v":"SW1"}]
["hs",66136,"Julian","Hensel","BSC Ennepetal",{"$f":"CONCATENATE(VLOOKUP(A1279,bangolf_kategorien!$A$2:$B$11,2,FALSE),\": \",D1279,\", \",C1279)","v":"H: Hensel, Julian"},{"$f":"VLOOKUP(A1279,bangolf_kategorien!$A$2:$B$11,2,FALSE)","v":"H"}]
["ob",46247,"Peter","Hensel","BSC Ennepetal",{"$f":"CONCATENATE(VLOOKUP(A1280,bangolf_kategorien!$A$2:$B$11,2,FALSE),\": \",D1280,\", \",C1280)","v":"SM1: Hensel, Peter"},{"$f":"VLOOKUP(A1280,bangolf_kategorien!$A$2:$B$11,2,FALSE)","v":"SM1"}]
["hs",37011,"Tobias","Hensel","BSC Ennepetal",{"$f":"CONCATENATE(VLOOKUP(A1281,bangolf_kategorien!$A$2:$B$11,2,FALSE),\": \",D1281,\", \",C1281)","v":"H: Hensel, Tobias"},{"$f":"VLOOKUP(A1281,bangolf_kategorien!$A$2:$B$11,2,FALSE)","v":"H"}]
["hv",65852,"Rainer","Henseler","1. MGC Paderborn",{"$f":"CONCATENATE(VLOOKUP(A1282,bangolf_kategorien!$A$2:$B$11,2,FALSE),\": \",D1282,\", \",C1282)","v":"SM2: Henseler, Rainer"},{"$f":"VLOOKUP(A1282,bangolf_kategorien!$A$2:$B$11,2,FALSE)","v":"SM2"}]
["ob",40589,"Steffen","Hentschel","VfM Berlin",{"$f":"CONCATENATE(VLOOKUP(A1283,bangolf_kategorien!$A$2:$B$11,2,FALSE),\": \",D1283,\", \",C1283)","v":"SM1: Hentschel, Steffen"},{"$f":"VLOOKUP(A1283,bangolf_kategorien!$A$2:$B$11,2,FALSE)","v":"SM1"}]
["ob",26232,"Andreas","Henze","1. MGC 1970 Göttingen",{"$f":"CONCATENATE(VLOOKUP(A1284,bangolf_kategorien!$A$2:$B$11,2,FALSE),\": \",D1284,\", \",C1284)","v":"SM1: Henze, Andreas"},{"$f":"VLOOKUP(A1284,bangolf_kategorien!$A$2:$B$11,2,FALSE)","v":"SM1"}]
["hv",3564,"Karl","Herbich","MSK Olching",{"$f":"CONCATENATE(VLOOKUP(A1285,bangolf_kategorien!$A$2:$B$11,2,FALSE),\": \",D1285,\", \",C1285)","v":"SM2: Herbich, Karl"},{"$f":"VLOOKUP(A1285,bangolf_kategorien!$A$2:$B$11,2,FALSE)","v":"SM2"}]
["ob",34669,"Jan","Herbig","MC Ilvesheim",{"$f":"CONCATENATE(VLOOKUP(A1286,bangolf_kategorien!$A$2:$B$11,2,FALSE),\": \",D1286,\", \",C1286)","v":"SM1: Herbig, Jan"},{"$f":"VLOOKUP(A1286,bangolf_kategorien!$A$2:$B$11,2,FALSE)","v":"SM1"}]
["hv",3106611,"Frank","Herdemann","Hobby",{"$f":"CONCATENATE(VLOOKUP(A1287,bangolf_kategorien!$A$2:$B$11,2,FALSE),\": \",D1287,\", \",C1287)","v":"SM2: Herdemann, Frank"},{"$f":"VLOOKUP(A1287,bangolf_kategorien!$A$2:$B$11,2,FALSE)","v":"SM2"}]
["hv",18029,"Lothar","Herfurt","1. MGV Spandau Berlin",{"$f":"CONCATENATE(VLOOKUP(A1288,bangolf_kategorien!$A$2:$B$11,2,FALSE),\": \",D1288,\", \",C1288)","v":"SM2: Herfurt, Lothar"},{"$f":"VLOOKUP(A1288,bangolf_kategorien!$A$2:$B$11,2,FALSE)","v":"SM2"}]
["hs",38180,"Albert","Hergesell","Reinickendorfer MGC",{"$f":"CONCATENATE(VLOOKUP(A1289,bangolf_kategorien!$A$2:$B$11,2,FALSE),\": \",D1289,\", \",C1289)","v":"H: Hergesell, Albert"},{"$f":"VLOOKUP(A1289,bangolf_kategorien!$A$2:$B$11,2,FALSE)","v":"H"}]
["ob",38653,"Dirk","Hergesell","1. MGV Spandau Berlin",{"$f":"CONCATENATE(VLOOKUP(A1290,bangolf_kategorien!$A$2:$B$11,2,FALSE),\": \",D1290,\", \",C1290)","v":"SM1: Hergesell, Dirk"},{"$f":"VLOOKUP(A1290,bangolf_kategorien!$A$2:$B$11,2,FALSE)","v":"SM1"}]
["hv",67590,"Hans-Jürgen","Herhold","BGC Oberhausen",{"$f":"CONCATENATE(VLOOKUP(A1291,bangolf_kategorien!$A$2:$B$11,2,FALSE),\": \",D1291,\", \",C1291)","v":"SM2: Herhold, Hans-Jürgen"},{"$f":"VLOOKUP(A1291,bangolf_kategorien!$A$2:$B$11,2,FALSE)","v":"SM2"}]
["hs",31267,"Alexander","Hermann","1. MGC Mainz",{"$f":"CONCATENATE(VLOOKUP(A1292,bangolf_kategorien!$A$2:$B$11,2,FALSE),\": \",D1292,\", \",C1292)","v":"H: Hermann, Alexander"},{"$f":"VLOOKUP(A1292,bangolf_kategorien!$A$2:$B$11,2,FALSE)","v":"H"}]
["pa",67319,"David","Hermann","1. MGC Mainz",{"$f":"CONCATENATE(VLOOKUP(A1293,bangolf_kategorien!$A$2:$B$11,2,FALSE),\": \",D1293,\", \",C1293)","v":"SCHM: Hermann, David"},{"$f":"VLOOKUP(A1293,bangolf_kategorien!$A$2:$B$11,2,FALSE)","v":"SCHM"}]
["hv",6621,"Gerhard","Hermann","MGC Monrepos",{"$f":"CONCATENATE(VLOOKUP(A1294,bangolf_kategorien!$A$2:$B$11,2,FALSE),\": \",D1294,\", \",C1294)","v":"SM2: Hermann, Gerhard"},{"$f":"VLOOKUP(A1294,bangolf_kategorien!$A$2:$B$11,2,FALSE)","v":"SM2"}]
["hs",31268,"Max","Hermann","1. MGC Mainz",{"$f":"CONCATENATE(VLOOKUP(A1295,bangolf_kategorien!$A$2:$B$11,2,FALSE),\": \",D1295,\", \",C1295)","v":"H: Hermann, Max"},{"$f":"VLOOKUP(A1295,bangolf_kategorien!$A$2:$B$11,2,FALSE)","v":"H"}]
["hv",3326897,"Manfred","Herrmann","Hobby",{"$f":"CONCATENATE(VLOOKUP(A1296,bangolf_kategorien!$A$2:$B$11,2,FALSE),\": \",D1296,\", \",C1296)","v":"SM2: Herrmann, Manfred"},{"$f":"VLOOKUP(A1296,bangolf_kategorien!$A$2:$B$11,2,FALSE)","v":"SM2"}]
["ob",29935,"Marc","Herrmann","1. MGC 1970 Göttingen",{"$f":"CONCATENATE(VLOOKUP(A1297,bangolf_kategorien!$A$2:$B$11,2,FALSE),\": \",D1297,\", \",C1297)","v":"SM1: Herrmann, Marc"},{"$f":"VLOOKUP(A1297,bangolf_kategorien!$A$2:$B$11,2,FALSE)","v":"SM1"}]
["hv",28696,"Otmar","Herrmann","MGC Traben-Trarbach",{"$f":"CONCATENATE(VLOOKUP(A1298,bangolf_kategorien!$A$2:$B$11,2,FALSE),\": \",D1298,\", \",C1298)","v":"SM2: Herrmann, Otmar"},{"$f":"VLOOKUP(A1298,bangolf_kategorien!$A$2:$B$11,2,FALSE)","v":"SM2"}]
["hv",62403,"Achim","Hertzberg","MGC Dortmund Syburg",{"$f":"CONCATENATE(VLOOKUP(A1299,bangolf_kategorien!$A$2:$B$11,2,FALSE),\": \",D1299,\", \",C1299)","v":"SM2: Hertzberg, Achim"},{"$f":"VLOOKUP(A1299,bangolf_kategorien!$A$2:$B$11,2,FALSE)","v":"SM2"}]
["dv",6270,"Doris","Hertzberg","MGC Dortmund Syburg",{"$f":"CONCATENATE(VLOOKUP(A1300,bangolf_kategorien!$A$2:$B$11,2,FALSE),\": \",D1300,\", \",C1300)","v":"SW2: Hertzberg, Doris"},{"$f":"VLOOKUP(A1300,bangolf_kategorien!$A$2:$B$11,2,FALSE)","v":"SW2"}]
["ob",67127,"Frank","Herwig","1. MGC 1970 Göttingen",{"$f":"CONCATENATE(VLOOKUP(A1301,bangolf_kategorien!$A$2:$B$11,2,FALSE),\": \",D1301,\", \",C1301)","v":"SM1: Herwig, Frank"},{"$f":"VLOOKUP(A1301,bangolf_kategorien!$A$2:$B$11,2,FALSE)","v":"SM1"}]
["og",66935,"Heidi","Herz","1. MSC Hamburg-Neu Wulmstorf",{"$f":"CONCATENATE(VLOOKUP(A1302,bangolf_kategorien!$A$2:$B$11,2,FALSE),\": \",D1302,\", \",C1302)","v":"SW1: Herz, Heidi"},{"$f":"VLOOKUP(A1302,bangolf_kategorien!$A$2:$B$11,2,FALSE)","v":"SW1"}]
["ob",67197,"Christof","Herzberger","BGSV Bad Homburg",{"$f":"CONCATENATE(VLOOKUP(A1303,bangolf_kategorien!$A$2:$B$11,2,FALSE),\": \",D1303,\", \",C1303)","v":"SM1: Herzberger, Christof"},{"$f":"VLOOKUP(A1303,bangolf_kategorien!$A$2:$B$11,2,FALSE)","v":"SM1"}]
["ds",67379,"Eileen","Herzberger","BGSV Bad Homburg",{"$f":"CONCATENATE(VLOOKUP(A1304,bangolf_kategorien!$A$2:$B$11,2,FALSE),\": \",D1304,\", \",C1304)","v":"D: Herzberger, Eileen"},{"$f":"VLOOKUP(A1304,bangolf_kategorien!$A$2:$B$11,2,FALSE)","v":"D"}]
["pa",67198,"Philipp","Herzberger","BGSV Bad Homburg",{"$f":"CONCATENATE(VLOOKUP(A1305,bangolf_kategorien!$A$2:$B$11,2,FALSE),\": \",D1305,\", \",C1305)","v":"SCHM: Herzberger, Philipp"},{"$f":"VLOOKUP(A1305,bangolf_kategorien!$A$2:$B$11,2,FALSE)","v":"SCHM"}]
["ob",31952,"Sven","Herzberger","TG Höchberg von 1862 Bahnengolf",{"$f":"CONCATENATE(VLOOKUP(A1306,bangolf_kategorien!$A$2:$B$11,2,FALSE),\": \",D1306,\", \",C1306)","v":"SM1: Herzberger, Sven"},{"$f":"VLOOKUP(A1306,bangolf_kategorien!$A$2:$B$11,2,FALSE)","v":"SM1"}]
["hs",66284,"Tim","Herzer","SC Olympia Dortmund",{"$f":"CONCATENATE(VLOOKUP(A1307,bangolf_kategorien!$A$2:$B$11,2,FALSE),\": \",D1307,\", \",C1307)","v":"H: Herzer, Tim"},{"$f":"VLOOKUP(A1307,bangolf_kategorien!$A$2:$B$11,2,FALSE)","v":"H"}]
["hs",38197,"Frederik","Herzic","1. MGC Metzingen",{"$f":"CONCATENATE(VLOOKUP(A1308,bangolf_kategorien!$A$2:$B$11,2,FALSE),\": \",D1308,\", \",C1308)","v":"H: Herzic, Frederik"},{"$f":"VLOOKUP(A1308,bangolf_kategorien!$A$2:$B$11,2,FALSE)","v":"H"}]
["ob",50402,"Hagen","Herzog","MGF Magdeburg 1995",{"$f":"CONCATENATE(VLOOKUP(A1309,bangolf_kategorien!$A$2:$B$11,2,FALSE),\": \",D1309,\", \",C1309)","v":"SM1: Herzog, Hagen"},{"$f":"VLOOKUP(A1309,bangolf_kategorien!$A$2:$B$11,2,FALSE)","v":"SM1"}]
["ob",46823,"Ralf","Herzog","TSV Pfungstadt Abt. Bahnengolf",{"$f":"CONCATENATE(VLOOKUP(A1310,bangolf_kategorien!$A$2:$B$11,2,FALSE),\": \",D1310,\", \",C1310)","v":"SM1: Herzog, Ralf"},{"$f":"VLOOKUP(A1310,bangolf_kategorien!$A$2:$B$11,2,FALSE)","v":"SM1"}]
["dv",34103,"Sigrid","Hesker","MGC Bergisch Gladbach Gierath",{"$f":"CONCATENATE(VLOOKUP(A1311,bangolf_kategorien!$A$2:$B$11,2,FALSE),\": \",D1311,\", \",C1311)","v":"SW2: Hesker, Sigrid"},{"$f":"VLOOKUP(A1311,bangolf_kategorien!$A$2:$B$11,2,FALSE)","v":"SW2"}]
["ob",67488,"Bernd","Hess","MGF Steinbruch Kempten",{"$f":"CONCATENATE(VLOOKUP(A1312,bangolf_kategorien!$A$2:$B$11,2,FALSE),\": \",D1312,\", \",C1312)","v":"SM1: Hess, Bernd"},{"$f":"VLOOKUP(A1312,bangolf_kategorien!$A$2:$B$11,2,FALSE)","v":"SM1"}]
["hs",33843,"Danny","Hess","1. MGC Mainz",{"$f":"CONCATENATE(VLOOKUP(A1313,bangolf_kategorien!$A$2:$B$11,2,FALSE),\": \",D1313,\", \",C1313)","v":"H: Hess, Danny"},{"$f":"VLOOKUP(A1313,bangolf_kategorien!$A$2:$B$11,2,FALSE)","v":"H"}]
["hv",17936,"Erich","Hess","SG Arheilgen Abt. Bahnengolf",{"$f":"CONCATENATE(VLOOKUP(A1314,bangolf_kategorien!$A$2:$B$11,2,FALSE),\": \",D1314,\", \",C1314)","v":"SM2: Hess, Erich"},{"$f":"VLOOKUP(A1314,bangolf_kategorien!$A$2:$B$11,2,FALSE)","v":"SM2"}]
["ob",44929,"Rainer","Hess","SG Arheilgen Abt. Bahnengolf",{"$f":"CONCATENATE(VLOOKUP(A1315,bangolf_kategorien!$A$2:$B$11,2,FALSE),\": \",D1315,\", \",C1315)","v":"SM1: Hess, Rainer"},{"$f":"VLOOKUP(A1315,bangolf_kategorien!$A$2:$B$11,2,FALSE)","v":"SM1"}]
["dv",3600,"Renate","Hess","SG Arheilgen Abt. Bahnengolf",{"$f":"CONCATENATE(VLOOKUP(A1316,bangolf_kategorien!$A$2:$B$11,2,FALSE),\": \",D1316,\", \",C1316)","v":"SW2: Hess, Renate"},{"$f":"VLOOKUP(A1316,bangolf_kategorien!$A$2:$B$11,2,FALSE)","v":"SW2"}]
["hv",3863,"Dietmar","Hesse","BGC Goslar",{"$f":"CONCATENATE(VLOOKUP(A1317,bangolf_kategorien!$A$2:$B$11,2,FALSE),\": \",D1317,\", \",C1317)","v":"SM2: Hesse, Dietmar"},{"$f":"VLOOKUP(A1317,bangolf_kategorien!$A$2:$B$11,2,FALSE)","v":"SM2"}]
["dv",29405,"Karin","Hesse","BGC Goslar",{"$f":"CONCATENATE(VLOOKUP(A1318,bangolf_kategorien!$A$2:$B$11,2,FALSE),\": \",D1318,\", \",C1318)","v":"SW2: Hesse, Karin"},{"$f":"VLOOKUP(A1318,bangolf_kategorien!$A$2:$B$11,2,FALSE)","v":"SW2"}]
["og",34749,"Sandra","Hess-Struchen","SG Arheilgen Abt. Bahnengolf",{"$f":"CONCATENATE(VLOOKUP(A1319,bangolf_kategorien!$A$2:$B$11,2,FALSE),\": \",D1319,\", \",C1319)","v":"SW1: Hess-Struchen, Sandra"},{"$f":"VLOOKUP(A1319,bangolf_kategorien!$A$2:$B$11,2,FALSE)","v":"SW1"}]
["hs",35237,"Robin","Hettrich","MGC Dormagen-Brechten",{"$f":"CONCATENATE(VLOOKUP(A1320,bangolf_kategorien!$A$2:$B$11,2,FALSE),\": \",D1320,\", \",C1320)","v":"H: Hettrich, Robin"},{"$f":"VLOOKUP(A1320,bangolf_kategorien!$A$2:$B$11,2,FALSE)","v":"H"}]
["hv",35236,"Willi","Hettrich","BGSV Castrop 1961",{"$f":"CONCATENATE(VLOOKUP(A1321,bangolf_kategorien!$A$2:$B$11,2,FALSE),\": \",D1321,\", \",C1321)","v":"SM2: Hettrich, Willi"},{"$f":"VLOOKUP(A1321,bangolf_kategorien!$A$2:$B$11,2,FALSE)","v":"SM2"}]
["og",19478,"Andrea","Heublein","1. FMGC Lichtenfels 1961",{"$f":"CONCATENATE(VLOOKUP(A1322,bangolf_kategorien!$A$2:$B$11,2,FALSE),\": \",D1322,\", \",C1322)","v":"SW1: Heublein, Andrea"},{"$f":"VLOOKUP(A1322,bangolf_kategorien!$A$2:$B$11,2,FALSE)","v":"SW1"}]
["hs",38602,"Bernd","Heublein","1. FMGC Lichtenfels 1961",{"$f":"CONCATENATE(VLOOKUP(A1323,bangolf_kategorien!$A$2:$B$11,2,FALSE),\": \",D1323,\", \",C1323)","v":"H: Heublein, Bernd"},{"$f":"VLOOKUP(A1323,bangolf_kategorien!$A$2:$B$11,2,FALSE)","v":"H"}]
["og",30655,"Silvia","Heublein","1. MGC 1970 Göttingen",{"$f":"CONCATENATE(VLOOKUP(A1324,bangolf_kategorien!$A$2:$B$11,2,FALSE),\": \",D1324,\", \",C1324)","v":"SW1: Heublein, Silvia"},{"$f":"VLOOKUP(A1324,bangolf_kategorien!$A$2:$B$11,2,FALSE)","v":"SW1"}]
["hs",37959,"Florian","Heuer","Preetzer TSV von 1861 Abt. Minigolf",{"$f":"CONCATENATE(VLOOKUP(A1325,bangolf_kategorien!$A$2:$B$11,2,FALSE),\": \",D1325,\", \",C1325)","v":"H: Heuer, Florian"},{"$f":"VLOOKUP(A1325,bangolf_kategorien!$A$2:$B$11,2,FALSE)","v":"H"}]
["ds",67422,"Melanie","Heuger","PTSV Hof, Abt. Minigolf",{"$f":"CONCATENATE(VLOOKUP(A1326,bangolf_kategorien!$A$2:$B$11,2,FALSE),\": \",D1326,\", \",C1326)","v":"D: Heuger, Melanie"},{"$f":"VLOOKUP(A1326,bangolf_kategorien!$A$2:$B$11,2,FALSE)","v":"D"}]
["hs",66345,"Andreas","Heuser","MGC Bad Bodendorf",{"$f":"CONCATENATE(VLOOKUP(A1327,bangolf_kategorien!$A$2:$B$11,2,FALSE),\": \",D1327,\", \",C1327)","v":"H: Heuser, Andreas"},{"$f":"VLOOKUP(A1327,bangolf_kategorien!$A$2:$B$11,2,FALSE)","v":"H"}]
["hv",33308,"Helmut","Hewel","1. MGC Saar 68 St. Ingbert",{"$f":"CONCATENATE(VLOOKUP(A1328,bangolf_kategorien!$A$2:$B$11,2,FALSE),\": \",D1328,\", \",C1328)","v":"SM2: Hewel, Helmut"},{"$f":"VLOOKUP(A1328,bangolf_kategorien!$A$2:$B$11,2,FALSE)","v":"SM2"}]
["dv",33309,"Marliese","Hewel","1. MGC Saar 68 St. Ingbert",{"$f":"CONCATENATE(VLOOKUP(A1329,bangolf_kategorien!$A$2:$B$11,2,FALSE),\": \",D1329,\", \",C1329)","v":"SW2: Hewel, Marliese"},{"$f":"VLOOKUP(A1329,bangolf_kategorien!$A$2:$B$11,2,FALSE)","v":"SW2"}]
["hs",32292,"Wolfgang","Hewel","1. MGC Saar 68 St. Ingbert",{"$f":"CONCATENATE(VLOOKUP(A1330,bangolf_kategorien!$A$2:$B$11,2,FALSE),\": \",D1330,\", \",C1330)","v":"H: Hewel, Wolfgang"},{"$f":"VLOOKUP(A1330,bangolf_kategorien!$A$2:$B$11,2,FALSE)","v":"H"}]
["hs",33530,"Marcus","Hey","OMGC Ingolstadt",{"$f":"CONCATENATE(VLOOKUP(A1331,bangolf_kategorien!$A$2:$B$11,2,FALSE),\": \",D1331,\", \",C1331)","v":"H: Hey, Marcus"},{"$f":"VLOOKUP(A1331,bangolf_kategorien!$A$2:$B$11,2,FALSE)","v":"H"}]
["hv",5326,"Rudolf","Heydenreich","MGC Traben-Trarbach",{"$f":"CONCATENATE(VLOOKUP(A1332,bangolf_kategorien!$A$2:$B$11,2,FALSE),\": \",D1332,\", \",C1332)","v":"SM2: Heydenreich, Rudolf"},{"$f":"VLOOKUP(A1332,bangolf_kategorien!$A$2:$B$11,2,FALSE)","v":"SM2"}]
["dv",6367,"Angelika","Heyder","MGC Murnau am Staffelsee",{"$f":"CONCATENATE(VLOOKUP(A1333,bangolf_kategorien!$A$2:$B$11,2,FALSE),\": \",D1333,\", \",C1333)","v":"SW2: Heyder, Angelika"},{"$f":"VLOOKUP(A1333,bangolf_kategorien!$A$2:$B$11,2,FALSE)","v":"SW2"}]
["hs",49901,"Christian","Heyder","BGC Bad Berneck",{"$f":"CONCATENATE(VLOOKUP(A1334,bangolf_kategorien!$A$2:$B$11,2,FALSE),\": \",D1334,\", \",C1334)","v":"H: Heyder, Christian"},{"$f":"VLOOKUP(A1334,bangolf_kategorien!$A$2:$B$11,2,FALSE)","v":"H"}]
["ob",44771,"Lars","Heydt","MGC Olympia Kiel",{"$f":"CONCATENATE(VLOOKUP(A1335,bangolf_kategorien!$A$2:$B$11,2,FALSE),\": \",D1335,\", \",C1335)","v":"SM1: Heydt, Lars"},{"$f":"VLOOKUP(A1335,bangolf_kategorien!$A$2:$B$11,2,FALSE)","v":"SM1"}]
["ob",40457,"Torsten","Heydt","MGC Olympia Kiel",{"$f":"CONCATENATE(VLOOKUP(A1336,bangolf_kategorien!$A$2:$B$11,2,FALSE),\": \",D1336,\", \",C1336)","v":"SM1: Heydt, Torsten"},{"$f":"VLOOKUP(A1336,bangolf_kategorien!$A$2:$B$11,2,FALSE)","v":"SM1"}]
["ob",37254,"Hans Bernd","Heyer","MGC Bergisch Gladbach Gierath",{"$f":"CONCATENATE(VLOOKUP(A1337,bangolf_kategorien!$A$2:$B$11,2,FALSE),\": \",D1337,\", \",C1337)","v":"SM1: Heyer, Hans Bernd"},{"$f":"VLOOKUP(A1337,bangolf_kategorien!$A$2:$B$11,2,FALSE)","v":"SM1"}]
["hv",20291,"Peter","Heynen","1. BGC Celle von 1964",{"$f":"CONCATENATE(VLOOKUP(A1338,bangolf_kategorien!$A$2:$B$11,2,FALSE),\": \",D1338,\", \",C1338)","v":"SM2: Heynen, Peter"},{"$f":"VLOOKUP(A1338,bangolf_kategorien!$A$2:$B$11,2,FALSE)","v":"SM2"}]
["hv",46250,"Peter","Hickert","MGC \"AS\" Witten 1963",{"$f":"CONCATENATE(VLOOKUP(A1339,bangolf_kategorien!$A$2:$B$11,2,FALSE),\": \",D1339,\", \",C1339)","v":"SM2: Hickert, Peter"},{"$f":"VLOOKUP(A1339,bangolf_kategorien!$A$2:$B$11,2,FALSE)","v":"SM2"}]
["dv",67054,"Ursula","Hiebsch","BV Sennestadt",{"$f":"CONCATENATE(VLOOKUP(A1340,bangolf_kategorien!$A$2:$B$11,2,FALSE),\": \",D1340,\", \",C1340)","v":"SW2: Hiebsch, Ursula"},{"$f":"VLOOKUP(A1340,bangolf_kategorien!$A$2:$B$11,2,FALSE)","v":"SW2"}]
["hv",5839,"Georg","Hilbert","1. MGC Epe 1978",{"$f":"CONCATENATE(VLOOKUP(A1341,bangolf_kategorien!$A$2:$B$11,2,FALSE),\": \",D1341,\", \",C1341)","v":"SM2: Hilbert, Georg"},{"$f":"VLOOKUP(A1341,bangolf_kategorien!$A$2:$B$11,2,FALSE)","v":"SM2"}]
["ob",38437,"Andreas","Hildebrandt","SV Glückauf 1901 Gebhardshagen",{"$f":"CONCATENATE(VLOOKUP(A1342,bangolf_kategorien!$A$2:$B$11,2,FALSE),\": \",D1342,\", \",C1342)","v":"SM1: Hildebrandt, Andreas"},{"$f":"VLOOKUP(A1342,bangolf_kategorien!$A$2:$B$11,2,FALSE)","v":"SM1"}]
["hj",66659,"Justin","Hildebrandt","BGS Hardenberg-Pötter",{"$f":"CONCATENATE(VLOOKUP(A1343,bangolf_kategorien!$A$2:$B$11,2,FALSE),\": \",D1343,\", \",C1343)","v":"JM: Hildebrandt, Justin"},{"$f":"VLOOKUP(A1343,bangolf_kategorien!$A$2:$B$11,2,FALSE)","v":"JM"}]
["hv",5040,"Hans-Georg","Hildenbrand","BSV 82 Ohlsbach",{"$f":"CONCATENATE(VLOOKUP(A1344,bangolf_kategorien!$A$2:$B$11,2,FALSE),\": \",D1344,\", \",C1344)","v":"SM2: Hildenbrand, Hans-Georg"},{"$f":"VLOOKUP(A1344,bangolf_kategorien!$A$2:$B$11,2,FALSE)","v":"SM2"}]
["hs",27536,"Christian","Hilgenberg","1. MGC Kassel 1964",{"$f":"CONCATENATE(VLOOKUP(A1345,bangolf_kategorien!$A$2:$B$11,2,FALSE),\": \",D1345,\", \",C1345)","v":"H: Hilgenberg, Christian"},{"$f":"VLOOKUP(A1345,bangolf_kategorien!$A$2:$B$11,2,FALSE)","v":"H"}]
["dv",5289,"Ursula","Hillebrecht","1. MGC 1970 Göttingen",{"$f":"CONCATENATE(VLOOKUP(A1346,bangolf_kategorien!$A$2:$B$11,2,FALSE),\": \",D1346,\", \",C1346)","v":"SW2: Hillebrecht, Ursula"},{"$f":"VLOOKUP(A1346,bangolf_kategorien!$A$2:$B$11,2,FALSE)","v":"SW2"}]
["og",17179,"Tatjana","Hillen","Hobby",{"$f":"CONCATENATE(VLOOKUP(A1347,bangolf_kategorien!$A$2:$B$11,2,FALSE),\": \",D1347,\", \",C1347)","v":"SW1: Hillen, Tatjana"},{"$f":"VLOOKUP(A1347,bangolf_kategorien!$A$2:$B$11,2,FALSE)","v":"SW1"}]
["ob",3194201,"André","Hilpert","Hobby",{"$f":"CONCATENATE(VLOOKUP(A1348,bangolf_kategorien!$A$2:$B$11,2,FALSE),\": \",D1348,\", \",C1348)","v":"SM1: Hilpert, André"},{"$f":"VLOOKUP(A1348,bangolf_kategorien!$A$2:$B$11,2,FALSE)","v":"SM1"}]
["hv",50172,"Reinhold","Hilß","1. MC Weinheim",{"$f":"CONCATENATE(VLOOKUP(A1349,bangolf_kategorien!$A$2:$B$11,2,FALSE),\": \",D1349,\", \",C1349)","v":"SM2: Hilß, Reinhold"},{"$f":"VLOOKUP(A1349,bangolf_kategorien!$A$2:$B$11,2,FALSE)","v":"SM2"}]
["ob",45368,"Klaus","Hiltner","MSG Kempten",{"$f":"CONCATENATE(VLOOKUP(A1350,bangolf_kategorien!$A$2:$B$11,2,FALSE),\": \",D1350,\", \",C1350)","v":"SM1: Hiltner, Klaus"},{"$f":"VLOOKUP(A1350,bangolf_kategorien!$A$2:$B$11,2,FALSE)","v":"SM1"}]
["hj",67203,"Eyk Sven","Hinke","1. BGC Leipzig",{"$f":"CONCATENATE(VLOOKUP(A1351,bangolf_kategorien!$A$2:$B$11,2,FALSE),\": \",D1351,\", \",C1351)","v":"JM: Hinke, Eyk Sven"},{"$f":"VLOOKUP(A1351,bangolf_kategorien!$A$2:$B$11,2,FALSE)","v":"JM"}]
["hv",26579,"Holger","Hinsel","MSF Brilon",{"$f":"CONCATENATE(VLOOKUP(A1352,bangolf_kategorien!$A$2:$B$11,2,FALSE),\": \",D1352,\", \",C1352)","v":"SM2: Hinsel, Holger"},{"$f":"VLOOKUP(A1352,bangolf_kategorien!$A$2:$B$11,2,FALSE)","v":"SM2"}]
["hj",66442,"Raphael","Hintermeier","BGC Neutraubling",{"$f":"CONCATENATE(VLOOKUP(A1353,bangolf_kategorien!$A$2:$B$11,2,FALSE),\": \",D1353,\", \",C1353)","v":"JM: Hintermeier, Raphael"},{"$f":"VLOOKUP(A1353,bangolf_kategorien!$A$2:$B$11,2,FALSE)","v":"JM"}]
["ob",49154,"Paul","Hirle","MSC Blau-Weiß 2003 München",{"$f":"CONCATENATE(VLOOKUP(A1354,bangolf_kategorien!$A$2:$B$11,2,FALSE),\": \",D1354,\", \",C1354)","v":"SM1: Hirle, Paul"},{"$f":"VLOOKUP(A1354,bangolf_kategorien!$A$2:$B$11,2,FALSE)","v":"SM1"}]
["hj",87512,"Jonathan","Hirsch","Hamburger MC von 1965",{"$f":"CONCATENATE(VLOOKUP(A1355,bangolf_kategorien!$A$2:$B$11,2,FALSE),\": \",D1355,\", \",C1355)","v":"JM: Hirsch, Jonathan"},{"$f":"VLOOKUP(A1355,bangolf_kategorien!$A$2:$B$11,2,FALSE)","v":"JM"}]
["pa",87513,"Theodor","Hirsch","Hamburger MC von 1965",{"$f":"CONCATENATE(VLOOKUP(A1356,bangolf_kategorien!$A$2:$B$11,2,FALSE),\": \",D1356,\", \",C1356)","v":"SCHM: Hirsch, Theodor"},{"$f":"VLOOKUP(A1356,bangolf_kategorien!$A$2:$B$11,2,FALSE)","v":"SCHM"}]
["ob",38170,"Peter","Hisserich","MGC Bad Homburg vdH",{"$f":"CONCATENATE(VLOOKUP(A1357,bangolf_kategorien!$A$2:$B$11,2,FALSE),\": \",D1357,\", \",C1357)","v":"SM1: Hisserich, Peter"},{"$f":"VLOOKUP(A1357,bangolf_kategorien!$A$2:$B$11,2,FALSE)","v":"SM1"}]
["hv",3127,"Bruno","Hoch","BGSV Kerpen",{"$f":"CONCATENATE(VLOOKUP(A1358,bangolf_kategorien!$A$2:$B$11,2,FALSE),\": \",D1358,\", \",C1358)","v":"SM2: Hoch, Bruno"},{"$f":"VLOOKUP(A1358,bangolf_kategorien!$A$2:$B$11,2,FALSE)","v":"SM2"}]
["ob",25846,"Raimund","Hoch","BGSV Kerpen",{"$f":"CONCATENATE(VLOOKUP(A1359,bangolf_kategorien!$A$2:$B$11,2,FALSE),\": \",D1359,\", \",C1359)","v":"SM1: Hoch, Raimund"},{"$f":"VLOOKUP(A1359,bangolf_kategorien!$A$2:$B$11,2,FALSE)","v":"SM1"}]
["ds",37644,"Rebecca","Hoch","MGC Dormagen-Brechten",{"$f":"CONCATENATE(VLOOKUP(A1360,bangolf_kategorien!$A$2:$B$11,2,FALSE),\": \",D1360,\", \",C1360)","v":"D: Hoch, Rebecca"},{"$f":"VLOOKUP(A1360,bangolf_kategorien!$A$2:$B$11,2,FALSE)","v":"D"}]
["hj",67336,"Markus","Höcherl","MGC Murnau am Staffelsee",{"$f":"CONCATENATE(VLOOKUP(A1361,bangolf_kategorien!$A$2:$B$11,2,FALSE),\": \",D1361,\", \",C1361)","v":"JM: Höcherl, Markus"},{"$f":"VLOOKUP(A1361,bangolf_kategorien!$A$2:$B$11,2,FALSE)","v":"JM"}]
["hs",3326008,"Florian","Hock","Hobby",{"$f":"CONCATENATE(VLOOKUP(A1362,bangolf_kategorien!$A$2:$B$11,2,FALSE),\": \",D1362,\", \",C1362)","v":"H: Hock, Florian"},{"$f":"VLOOKUP(A1362,bangolf_kategorien!$A$2:$B$11,2,FALSE)","v":"H"}]
["dv",49067,"Hildegard","Hoefig","HMC Büttgen",{"$f":"CONCATENATE(VLOOKUP(A1363,bangolf_kategorien!$A$2:$B$11,2,FALSE),\": \",D1363,\", \",C1363)","v":"SW2: Hoefig, Hildegard"},{"$f":"VLOOKUP(A1363,bangolf_kategorien!$A$2:$B$11,2,FALSE)","v":"SW2"}]
["ob",49074,"Michael","Hoefig","HMC Büttgen",{"$f":"CONCATENATE(VLOOKUP(A1364,bangolf_kategorien!$A$2:$B$11,2,FALSE),\": \",D1364,\", \",C1364)","v":"SM1: Hoefig, Michael"},{"$f":"VLOOKUP(A1364,bangolf_kategorien!$A$2:$B$11,2,FALSE)","v":"SM1"}]
["hv",27994,"Heinz","Höferlin","BSV Inzlingen 1979",{"$f":"CONCATENATE(VLOOKUP(A1365,bangolf_kategorien!$A$2:$B$11,2,FALSE),\": \",D1365,\", \",C1365)","v":"SM2: Höferlin, Heinz"},{"$f":"VLOOKUP(A1365,bangolf_kategorien!$A$2:$B$11,2,FALSE)","v":"SM2"}]
["ob",42242,"Carsten","Hoffmann","MSC Herscheid 1963",{"$f":"CONCATENATE(VLOOKUP(A1366,bangolf_kategorien!$A$2:$B$11,2,FALSE),\": \",D1366,\", \",C1366)","v":"SM1: Hoffmann, Carsten"},{"$f":"VLOOKUP(A1366,bangolf_kategorien!$A$2:$B$11,2,FALSE)","v":"SM1"}]
["hv",5093,"Helmut","Hoffmann","MSC Bad Godesberg",{"$f":"CONCATENATE(VLOOKUP(A1367,bangolf_kategorien!$A$2:$B$11,2,FALSE),\": \",D1367,\", \",C1367)","v":"SM2: Hoffmann, Helmut"},{"$f":"VLOOKUP(A1367,bangolf_kategorien!$A$2:$B$11,2,FALSE)","v":"SM2"}]
["hv",60566,"Helmut-Karl","Hoffmann","MGC Bergisch Gladbach Gierath",{"$f":"CONCATENATE(VLOOKUP(A1368,bangolf_kategorien!$A$2:$B$11,2,FALSE),\": \",D1368,\", \",C1368)","v":"SM2: Hoffmann, Helmut-Karl"},{"$f":"VLOOKUP(A1368,bangolf_kategorien!$A$2:$B$11,2,FALSE)","v":"SM2"}]
["hv",40278,"Joachim","Hoffmann","MGC Bergisch Gladbach Gierath",{"$f":"CONCATENATE(VLOOKUP(A1369,bangolf_kategorien!$A$2:$B$11,2,FALSE),\": \",D1369,\", \",C1369)","v":"SM2: Hoffmann, Joachim"},{"$f":"VLOOKUP(A1369,bangolf_kategorien!$A$2:$B$11,2,FALSE)","v":"SM2"}]
["ob",40282,"Jörg","Hoffmann","MGC Bergisch Gladbach Gierath",{"$f":"CONCATENATE(VLOOKUP(A1370,bangolf_kategorien!$A$2:$B$11,2,FALSE),\": \",D1370,\", \",C1370)","v":"SM1: Hoffmann, Jörg"},{"$f":"VLOOKUP(A1370,bangolf_kategorien!$A$2:$B$11,2,FALSE)","v":"SM1"}]
["hv",3253,"Klaus-Peter","Hoffmann","MGV Bremen",{"$f":"CONCATENATE(VLOOKUP(A1371,bangolf_kategorien!$A$2:$B$11,2,FALSE),\": \",D1371,\", \",C1371)","v":"SM2: Hoffmann, Klaus-Peter"},{"$f":"VLOOKUP(A1371,bangolf_kategorien!$A$2:$B$11,2,FALSE)","v":"SM2"}]
["ob",42946,"Martin","Hoffmann","1. Porzer MGC Grün-Weiß 1969",{"$f":"CONCATENATE(VLOOKUP(A1372,bangolf_kategorien!$A$2:$B$11,2,FALSE),\": \",D1372,\", \",C1372)","v":"SM1: Hoffmann, Martin"},{"$f":"VLOOKUP(A1372,bangolf_kategorien!$A$2:$B$11,2,FALSE)","v":"SM1"}]
["hs",36636,"Thomas","Höfler","1. KC Homburg-Saar 1967",{"$f":"CONCATENATE(VLOOKUP(A1373,bangolf_kategorien!$A$2:$B$11,2,FALSE),\": \",D1373,\", \",C1373)","v":"H: Höfler, Thomas"},{"$f":"VLOOKUP(A1373,bangolf_kategorien!$A$2:$B$11,2,FALSE)","v":"H"}]
["hs",35619,"Benjamin","Hofmann","1. MGSV Netphen",{"$f":"CONCATENATE(VLOOKUP(A1374,bangolf_kategorien!$A$2:$B$11,2,FALSE),\": \",D1374,\", \",C1374)","v":"H: Hofmann, Benjamin"},{"$f":"VLOOKUP(A1374,bangolf_kategorien!$A$2:$B$11,2,FALSE)","v":"H"}]
["hs",66001,"Fabian","Hofmann","ASV Pegnitz, Abt. Minigolf",{"$f":"CONCATENATE(VLOOKUP(A1375,bangolf_kategorien!$A$2:$B$11,2,FALSE),\": \",D1375,\", \",C1375)","v":"H: Hofmann, Fabian"},{"$f":"VLOOKUP(A1375,bangolf_kategorien!$A$2:$B$11,2,FALSE)","v":"H"}]
["ob",66263,"Klaus","Hofmann","ASV Pegnitz, Abt. Minigolf",{"$f":"CONCATENATE(VLOOKUP(A1376,bangolf_kategorien!$A$2:$B$11,2,FALSE),\": \",D1376,\", \",C1376)","v":"SM1: Hofmann, Klaus"},{"$f":"VLOOKUP(A1376,bangolf_kategorien!$A$2:$B$11,2,FALSE)","v":"SM1"}]
["hs",30938,"Michael","Hofmann","MC Ilvesheim",{"$f":"CONCATENATE(VLOOKUP(A1377,bangolf_kategorien!$A$2:$B$11,2,FALSE),\": \",D1377,\", \",C1377)","v":"H: Hofmann, Michael"},{"$f":"VLOOKUP(A1377,bangolf_kategorien!$A$2:$B$11,2,FALSE)","v":"H"}]
["hs",3114571,"Rainer","Hofmann","Hobby",{"$f":"CONCATENATE(VLOOKUP(A1378,bangolf_kategorien!$A$2:$B$11,2,FALSE),\": \",D1378,\", \",C1378)","v":"H: Hofmann, Rainer"},{"$f":"VLOOKUP(A1378,bangolf_kategorien!$A$2:$B$11,2,FALSE)","v":"H"}]
["hs",66000,"Yannick","Hofmann","ASV Pegnitz, Abt. Minigolf",{"$f":"CONCATENATE(VLOOKUP(A1379,bangolf_kategorien!$A$2:$B$11,2,FALSE),\": \",D1379,\", \",C1379)","v":"H: Hofmann, Yannick"},{"$f":"VLOOKUP(A1379,bangolf_kategorien!$A$2:$B$11,2,FALSE)","v":"H"}]
["hv",65213,"Jean-Daniel","Hofstetter","MGF Waldshut 74",{"$f":"CONCATENATE(VLOOKUP(A1380,bangolf_kategorien!$A$2:$B$11,2,FALSE),\": \",D1380,\", \",C1380)","v":"SM2: Hofstetter, Jean-Daniel"},{"$f":"VLOOKUP(A1380,bangolf_kategorien!$A$2:$B$11,2,FALSE)","v":"SM2"}]
["dj",65319,"Annalena","Hohenadler","MGC Bad Feilnbach",{"$f":"CONCATENATE(VLOOKUP(A1381,bangolf_kategorien!$A$2:$B$11,2,FALSE),\": \",D1381,\", \",C1381)","v":"JW: Hohenadler, Annalena"},{"$f":"VLOOKUP(A1381,bangolf_kategorien!$A$2:$B$11,2,FALSE)","v":"JW"}]
["ob",40858,"Markus","Hohenadler","MGC Bad Feilnbach",{"$f":"CONCATENATE(VLOOKUP(A1382,bangolf_kategorien!$A$2:$B$11,2,FALSE),\": \",D1382,\", \",C1382)","v":"SM1: Hohenadler, Markus"},{"$f":"VLOOKUP(A1382,bangolf_kategorien!$A$2:$B$11,2,FALSE)","v":"SM1"}]
["ds",34294,"Tamara","Hohenadler","MGC Bad Feilnbach",{"$f":"CONCATENATE(VLOOKUP(A1383,bangolf_kategorien!$A$2:$B$11,2,FALSE),\": \",D1383,\", \",C1383)","v":"D: Hohenadler, Tamara"},{"$f":"VLOOKUP(A1383,bangolf_kategorien!$A$2:$B$11,2,FALSE)","v":"D"}]
["og",66093,"Christine","Hohmann","1. BGC Hannover",{"$f":"CONCATENATE(VLOOKUP(A1384,bangolf_kategorien!$A$2:$B$11,2,FALSE),\": \",D1384,\", \",C1384)","v":"SW1: Hohmann, Christine"},{"$f":"VLOOKUP(A1384,bangolf_kategorien!$A$2:$B$11,2,FALSE)","v":"SW1"}]
["hv",4513,"Edgard","Höhmann","1. MGC Kassel 1964",{"$f":"CONCATENATE(VLOOKUP(A1385,bangolf_kategorien!$A$2:$B$11,2,FALSE),\": \",D1385,\", \",C1385)","v":"SM2: Höhmann, Edgard"},{"$f":"VLOOKUP(A1385,bangolf_kategorien!$A$2:$B$11,2,FALSE)","v":"SM2"}]
["hv",6522,"Holger","Hohnke","MGC Olympia Kiel",{"$f":"CONCATENATE(VLOOKUP(A1386,bangolf_kategorien!$A$2:$B$11,2,FALSE),\": \",D1386,\", \",C1386)","v":"SM2: Hohnke, Holger"},{"$f":"VLOOKUP(A1386,bangolf_kategorien!$A$2:$B$11,2,FALSE)","v":"SM2"}]
["hs",36460,"Hans-Joachim","Höhnke","MV Lankwitzer Dragons",{"$f":"CONCATENATE(VLOOKUP(A1387,bangolf_kategorien!$A$2:$B$11,2,FALSE),\": \",D1387,\", \",C1387)","v":"H: Höhnke, Hans-Joachim"},{"$f":"VLOOKUP(A1387,bangolf_kategorien!$A$2:$B$11,2,FALSE)","v":"H"}]
["dj",66955,"Carlotta","Höing","VfB Osnabrück",{"$f":"CONCATENATE(VLOOKUP(A1388,bangolf_kategorien!$A$2:$B$11,2,FALSE),\": \",D1388,\", \",C1388)","v":"JW: Höing, Carlotta"},{"$f":"VLOOKUP(A1388,bangolf_kategorien!$A$2:$B$11,2,FALSE)","v":"JW"}]
["ob",66694,"Georg","Hoiss","Minigolf-Club Diessen",{"$f":"CONCATENATE(VLOOKUP(A1389,bangolf_kategorien!$A$2:$B$11,2,FALSE),\": \",D1389,\", \",C1389)","v":"SM1: Hoiss, Georg"},{"$f":"VLOOKUP(A1389,bangolf_kategorien!$A$2:$B$11,2,FALSE)","v":"SM1"}]
["ds",66922,"Martina","Hoiss","Minigolf-Club Diessen",{"$f":"CONCATENATE(VLOOKUP(A1390,bangolf_kategorien!$A$2:$B$11,2,FALSE),\": \",D1390,\", \",C1390)","v":"D: Hoiss, Martina"},{"$f":"VLOOKUP(A1390,bangolf_kategorien!$A$2:$B$11,2,FALSE)","v":"D"}]
["og",38118,"Claudia","Holderberg","BGSC Bochum 1978",{"$f":"CONCATENATE(VLOOKUP(A1391,bangolf_kategorien!$A$2:$B$11,2,FALSE),\": \",D1391,\", \",C1391)","v":"SW1: Holderberg, Claudia"},{"$f":"VLOOKUP(A1391,bangolf_kategorien!$A$2:$B$11,2,FALSE)","v":"SW1"}]
["hv",38119,"Hans-Peter","Holderberg","BGSC Bochum 1978",{"$f":"CONCATENATE(VLOOKUP(A1392,bangolf_kategorien!$A$2:$B$11,2,FALSE),\": \",D1392,\", \",C1392)","v":"SM2: Holderberg, Hans-Peter"},{"$f":"VLOOKUP(A1392,bangolf_kategorien!$A$2:$B$11,2,FALSE)","v":"SM2"}]
["ds",67165,"Birte","Hollensteiner","BV Sennestadt",{"$f":"CONCATENATE(VLOOKUP(A1393,bangolf_kategorien!$A$2:$B$11,2,FALSE),\": \",D1393,\", \",C1393)","v":"D: Hollensteiner, Birte"},{"$f":"VLOOKUP(A1393,bangolf_kategorien!$A$2:$B$11,2,FALSE)","v":"D"}]
["hv",66869,"Dieter","Hollwedel","MGV Bremen",{"$f":"CONCATENATE(VLOOKUP(A1394,bangolf_kategorien!$A$2:$B$11,2,FALSE),\": \",D1394,\", \",C1394)","v":"SM2: Hollwedel, Dieter"},{"$f":"VLOOKUP(A1394,bangolf_kategorien!$A$2:$B$11,2,FALSE)","v":"SM2"}]
["ob",42793,"Edgar","Holtz","1. Minigolf-Club Rheinhausen",{"$f":"CONCATENATE(VLOOKUP(A1395,bangolf_kategorien!$A$2:$B$11,2,FALSE),\": \",D1395,\", \",C1395)","v":"SM1: Holtz, Edgar"},{"$f":"VLOOKUP(A1395,bangolf_kategorien!$A$2:$B$11,2,FALSE)","v":"SM1"}]
["hs",37720,"Frederik","Holtz","1. Minigolf-Club Rheinhausen",{"$f":"CONCATENATE(VLOOKUP(A1396,bangolf_kategorien!$A$2:$B$11,2,FALSE),\": \",D1396,\", \",C1396)","v":"H: Holtz, Frederik"},{"$f":"VLOOKUP(A1396,bangolf_kategorien!$A$2:$B$11,2,FALSE)","v":"H"}]
["hv",38028,"Peter","Holtz","1. Minigolf-Club Rheinhausen",{"$f":"CONCATENATE(VLOOKUP(A1397,bangolf_kategorien!$A$2:$B$11,2,FALSE),\": \",D1397,\", \",C1397)","v":"SM2: Holtz, Peter"},{"$f":"VLOOKUP(A1397,bangolf_kategorien!$A$2:$B$11,2,FALSE)","v":"SM2"}]
["hv",66728,"Florian","Holtzmann","1. MGC Köln 1961",{"$f":"CONCATENATE(VLOOKUP(A1398,bangolf_kategorien!$A$2:$B$11,2,FALSE),\": \",D1398,\", \",C1398)","v":"SM2: Holtzmann, Florian"},{"$f":"VLOOKUP(A1398,bangolf_kategorien!$A$2:$B$11,2,FALSE)","v":"SM2"}]
["dv",67584,"Ursula","Holtzmann","1. MGC Köln 1961",{"$f":"CONCATENATE(VLOOKUP(A1399,bangolf_kategorien!$A$2:$B$11,2,FALSE),\": \",D1399,\", \",C1399)","v":"SW2: Holtzmann, Ursula"},{"$f":"VLOOKUP(A1399,bangolf_kategorien!$A$2:$B$11,2,FALSE)","v":"SW2"}]
["hv",67439,"Ulrich","Holz","PTSV Hof, Abt. Minigolf",{"$f":"CONCATENATE(VLOOKUP(A1400,bangolf_kategorien!$A$2:$B$11,2,FALSE),\": \",D1400,\", \",C1400)","v":"SM2: Holz, Ulrich"},{"$f":"VLOOKUP(A1400,bangolf_kategorien!$A$2:$B$11,2,FALSE)","v":"SM2"}]
["hs",66732,"Sascha","Holzenthal","1. MGC Mainz",{"$f":"CONCATENATE(VLOOKUP(A1401,bangolf_kategorien!$A$2:$B$11,2,FALSE),\": \",D1401,\", \",C1401)","v":"H: Holzenthal, Sascha"},{"$f":"VLOOKUP(A1401,bangolf_kategorien!$A$2:$B$11,2,FALSE)","v":"H"}]
["hv",5746,"Lothar","Homey","1. Essener CGC \"Blau-Gold\"",{"$f":"CONCATENATE(VLOOKUP(A1402,bangolf_kategorien!$A$2:$B$11,2,FALSE),\": \",D1402,\", \",C1402)","v":"SM2: Homey, Lothar"},{"$f":"VLOOKUP(A1402,bangolf_kategorien!$A$2:$B$11,2,FALSE)","v":"SM2"}]
["hv",67033,"Wolfgang","Hommel","MGC Olympia Kiel",{"$f":"CONCATENATE(VLOOKUP(A1403,bangolf_kategorien!$A$2:$B$11,2,FALSE),\": \",D1403,\", \",C1403)","v":"SM2: Hommel, Wolfgang"},{"$f":"VLOOKUP(A1403,bangolf_kategorien!$A$2:$B$11,2,FALSE)","v":"SM2"}]
["ob",37494,"Frank","Honerkamp","Bochumer Minigolf-Club 1960",{"$f":"CONCATENATE(VLOOKUP(A1404,bangolf_kategorien!$A$2:$B$11,2,FALSE),\": \",D1404,\", \",C1404)","v":"SM1: Honerkamp, Frank"},{"$f":"VLOOKUP(A1404,bangolf_kategorien!$A$2:$B$11,2,FALSE)","v":"SM1"}]
["hs",63702,"Marcel","Hönicke","MGC \"Stahlquelle\" Bad Bocklet",{"$f":"CONCATENATE(VLOOKUP(A1405,bangolf_kategorien!$A$2:$B$11,2,FALSE),\": \",D1405,\", \",C1405)","v":"H: Hönicke, Marcel"},{"$f":"VLOOKUP(A1405,bangolf_kategorien!$A$2:$B$11,2,FALSE)","v":"H"}]
["ob",66357,"Marco","Hönicke","MGC \"Stahlquelle\" Bad Bocklet",{"$f":"CONCATENATE(VLOOKUP(A1406,bangolf_kategorien!$A$2:$B$11,2,FALSE),\": \",D1406,\", \",C1406)","v":"SM1: Hönicke, Marco"},{"$f":"VLOOKUP(A1406,bangolf_kategorien!$A$2:$B$11,2,FALSE)","v":"SM1"}]
["hs",63691,"Ronny","Hönicke","MGC \"Stahlquelle\" Bad Bocklet",{"$f":"CONCATENATE(VLOOKUP(A1407,bangolf_kategorien!$A$2:$B$11,2,FALSE),\": \",D1407,\", \",C1407)","v":"H: Hönicke, Ronny"},{"$f":"VLOOKUP(A1407,bangolf_kategorien!$A$2:$B$11,2,FALSE)","v":"H"}]
["hv",49860,"Ludger","Honnacker","MGC Felderbachtal 1964",{"$f":"CONCATENATE(VLOOKUP(A1408,bangolf_kategorien!$A$2:$B$11,2,FALSE),\": \",D1408,\", \",C1408)","v":"SM2: Honnacker, Ludger"},{"$f":"VLOOKUP(A1408,bangolf_kategorien!$A$2:$B$11,2,FALSE)","v":"SM2"}]
["hv",23187,"Peter","Honnef","1. MGC Ludwigshafen",{"$f":"CONCATENATE(VLOOKUP(A1409,bangolf_kategorien!$A$2:$B$11,2,FALSE),\": \",D1409,\", \",C1409)","v":"SM2: Honnef, Peter"},{"$f":"VLOOKUP(A1409,bangolf_kategorien!$A$2:$B$11,2,FALSE)","v":"SM2"}]
["hv",36467,"Karl Heinz","Hönscheid","1. BGC Wesseling 1975",{"$f":"CONCATENATE(VLOOKUP(A1410,bangolf_kategorien!$A$2:$B$11,2,FALSE),\": \",D1410,\", \",C1410)","v":"SM2: Hönscheid, Karl Heinz"},{"$f":"VLOOKUP(A1410,bangolf_kategorien!$A$2:$B$11,2,FALSE)","v":"SM2"}]
["hj",66979,"Luca","Hoock","1. MGC Ludwigshafen",{"$f":"CONCATENATE(VLOOKUP(A1411,bangolf_kategorien!$A$2:$B$11,2,FALSE),\": \",D1411,\", \",C1411)","v":"JM: Hoock, Luca"},{"$f":"VLOOKUP(A1411,bangolf_kategorien!$A$2:$B$11,2,FALSE)","v":"JM"}]
["hs",30377,"Björn","Hoogen","VfB Osnabrück",{"$f":"CONCATENATE(VLOOKUP(A1412,bangolf_kategorien!$A$2:$B$11,2,FALSE),\": \",D1412,\", \",C1412)","v":"H: Hoogen, Björn"},{"$f":"VLOOKUP(A1412,bangolf_kategorien!$A$2:$B$11,2,FALSE)","v":"H"}]
["pa",67430,"Hendrik","Hoogen","VfB Osnabrück",{"$f":"CONCATENATE(VLOOKUP(A1413,bangolf_kategorien!$A$2:$B$11,2,FALSE),\": \",D1413,\", \",C1413)","v":"SCHM: Hoogen, Hendrik"},{"$f":"VLOOKUP(A1413,bangolf_kategorien!$A$2:$B$11,2,FALSE)","v":"SCHM"}]
["hs",48944,"Ingo","Hoogen","VfB Osnabrück",{"$f":"CONCATENATE(VLOOKUP(A1414,bangolf_kategorien!$A$2:$B$11,2,FALSE),\": \",D1414,\", \",C1414)","v":"H: Hoogen, Ingo"},{"$f":"VLOOKUP(A1414,bangolf_kategorien!$A$2:$B$11,2,FALSE)","v":"H"}]
["dj",66793,"Lena","Hoogen","VfB Osnabrück",{"$f":"CONCATENATE(VLOOKUP(A1415,bangolf_kategorien!$A$2:$B$11,2,FALSE),\": \",D1415,\", \",C1415)","v":"JW: Hoogen, Lena"},{"$f":"VLOOKUP(A1415,bangolf_kategorien!$A$2:$B$11,2,FALSE)","v":"JW"}]
["hs",36777,"Sven","Hoogen","VfB Osnabrück",{"$f":"CONCATENATE(VLOOKUP(A1416,bangolf_kategorien!$A$2:$B$11,2,FALSE),\": \",D1416,\", \",C1416)","v":"H: Hoogen, Sven"},{"$f":"VLOOKUP(A1416,bangolf_kategorien!$A$2:$B$11,2,FALSE)","v":"H"}]
["hv",40538,"Wilfried","Hoose","BGS Hardenberg-Pötter",{"$f":"CONCATENATE(VLOOKUP(A1417,bangolf_kategorien!$A$2:$B$11,2,FALSE),\": \",D1417,\", \",C1417)","v":"SM2: Hoose, Wilfried"},{"$f":"VLOOKUP(A1417,bangolf_kategorien!$A$2:$B$11,2,FALSE)","v":"SM2"}]
["ob",30608,"Bernhard","Höötmann","1. BGC Hannover",{"$f":"CONCATENATE(VLOOKUP(A1418,bangolf_kategorien!$A$2:$B$11,2,FALSE),\": \",D1418,\", \",C1418)","v":"SM1: Höötmann, Bernhard"},{"$f":"VLOOKUP(A1418,bangolf_kategorien!$A$2:$B$11,2,FALSE)","v":"SM1"}]
["ob",35130,"Carsten","Höpfner","BGC Northeim",{"$f":"CONCATENATE(VLOOKUP(A1419,bangolf_kategorien!$A$2:$B$11,2,FALSE),\": \",D1419,\", \",C1419)","v":"SM1: Höpfner, Carsten"},{"$f":"VLOOKUP(A1419,bangolf_kategorien!$A$2:$B$11,2,FALSE)","v":"SM1"}]
["ob",40166,"Mario","Höpfner","TSV Kücknitz Abt. Bahnengolf",{"$f":"CONCATENATE(VLOOKUP(A1420,bangolf_kategorien!$A$2:$B$11,2,FALSE),\": \",D1420,\", \",C1420)","v":"SM1: Höpfner, Mario"},{"$f":"VLOOKUP(A1420,bangolf_kategorien!$A$2:$B$11,2,FALSE)","v":"SM1"}]
["hv",46612,"Peter","Höpner","BGS Hardenberg-Pötter",{"$f":"CONCATENATE(VLOOKUP(A1421,bangolf_kategorien!$A$2:$B$11,2,FALSE),\": \",D1421,\", \",C1421)","v":"SM2: Höpner, Peter"},{"$f":"VLOOKUP(A1421,bangolf_kategorien!$A$2:$B$11,2,FALSE)","v":"SM2"}]
["ob",67299,"Daniel","Hoppe","Cobigolf-Verein Hamm 2019",{"$f":"CONCATENATE(VLOOKUP(A1422,bangolf_kategorien!$A$2:$B$11,2,FALSE),\": \",D1422,\", \",C1422)","v":"SM1: Hoppe, Daniel"},{"$f":"VLOOKUP(A1422,bangolf_kategorien!$A$2:$B$11,2,FALSE)","v":"SM1"}]
["hv",37753,"Manfred","Hoppe","MGF Magdeburg 1995",{"$f":"CONCATENATE(VLOOKUP(A1423,bangolf_kategorien!$A$2:$B$11,2,FALSE),\": \",D1423,\", \",C1423)","v":"SM2: Hoppe, Manfred"},{"$f":"VLOOKUP(A1423,bangolf_kategorien!$A$2:$B$11,2,FALSE)","v":"SM2"}]
["ob",37752,"Mike","Hoppe","MGF Magdeburg 1995",{"$f":"CONCATENATE(VLOOKUP(A1424,bangolf_kategorien!$A$2:$B$11,2,FALSE),\": \",D1424,\", \",C1424)","v":"SM1: Hoppe, Mike"},{"$f":"VLOOKUP(A1424,bangolf_kategorien!$A$2:$B$11,2,FALSE)","v":"SM1"}]
["ob",43419,"Mario","Hopperdietzel","1. MGC Mitterteich-Großbüchlberg",{"$f":"CONCATENATE(VLOOKUP(A1425,bangolf_kategorien!$A$2:$B$11,2,FALSE),\": \",D1425,\", \",C1425)","v":"SM1: Hopperdietzel, Mario"},{"$f":"VLOOKUP(A1425,bangolf_kategorien!$A$2:$B$11,2,FALSE)","v":"SM1"}]
["hv",42335,"Alexander","Horbas","MGC Ingolstadt",{"$f":"CONCATENATE(VLOOKUP(A1426,bangolf_kategorien!$A$2:$B$11,2,FALSE),\": \",D1426,\", \",C1426)","v":"SM2: Horbas, Alexander"},{"$f":"VLOOKUP(A1426,bangolf_kategorien!$A$2:$B$11,2,FALSE)","v":"SM2"}]
["hj",67186,"Benedikt","Hörburger","MSG Kempten",{"$f":"CONCATENATE(VLOOKUP(A1427,bangolf_kategorien!$A$2:$B$11,2,FALSE),\": \",D1427,\", \",C1427)","v":"JM: Hörburger, Benedikt"},{"$f":"VLOOKUP(A1427,bangolf_kategorien!$A$2:$B$11,2,FALSE)","v":"JM"}]
["og",38145,"Claudia","Horeis","MGC Bergisch Gladbach Gierath",{"$f":"CONCATENATE(VLOOKUP(A1428,bangolf_kategorien!$A$2:$B$11,2,FALSE),\": \",D1428,\", \",C1428)","v":"SW1: Horeis, Claudia"},{"$f":"VLOOKUP(A1428,bangolf_kategorien!$A$2:$B$11,2,FALSE)","v":"SW1"}]
["hv",38146,"Kai","Horeis","MGC Bergisch Gladbach Gierath",{"$f":"CONCATENATE(VLOOKUP(A1429,bangolf_kategorien!$A$2:$B$11,2,FALSE),\": \",D1429,\", \",C1429)","v":"SM2: Horeis, Kai"},{"$f":"VLOOKUP(A1429,bangolf_kategorien!$A$2:$B$11,2,FALSE)","v":"SM2"}]
["hs",27888,"Armin","Hörl","MGF Hammer",{"$f":"CONCATENATE(VLOOKUP(A1430,bangolf_kategorien!$A$2:$B$11,2,FALSE),\": \",D1430,\", \",C1430)","v":"H: Hörl, Armin"},{"$f":"VLOOKUP(A1430,bangolf_kategorien!$A$2:$B$11,2,FALSE)","v":"H"}]
["dv",66341,"Angelika","Horn","1. MGC Peine von 1965",{"$f":"CONCATENATE(VLOOKUP(A1431,bangolf_kategorien!$A$2:$B$11,2,FALSE),\": \",D1431,\", \",C1431)","v":"SW2: Horn, Angelika"},{"$f":"VLOOKUP(A1431,bangolf_kategorien!$A$2:$B$11,2,FALSE)","v":"SW2"}]
["hv",50002,"Dennis","Horn","BGC Diepholz",{"$f":"CONCATENATE(VLOOKUP(A1432,bangolf_kategorien!$A$2:$B$11,2,FALSE),\": \",D1432,\", \",C1432)","v":"SM2: Horn, Dennis"},{"$f":"VLOOKUP(A1432,bangolf_kategorien!$A$2:$B$11,2,FALSE)","v":"SM2"}]
["ob",66342,"Dieter","Horn","1. MGC Peine von 1965",{"$f":"CONCATENATE(VLOOKUP(A1433,bangolf_kategorien!$A$2:$B$11,2,FALSE),\": \",D1433,\", \",C1433)","v":"SM1: Horn, Dieter"},{"$f":"VLOOKUP(A1433,bangolf_kategorien!$A$2:$B$11,2,FALSE)","v":"SM1"}]
["hs",38030,"Kilian","Horn","MSV Bad Kreuznach",{"$f":"CONCATENATE(VLOOKUP(A1434,bangolf_kategorien!$A$2:$B$11,2,FALSE),\": \",D1434,\", \",C1434)","v":"H: Horn, Kilian"},{"$f":"VLOOKUP(A1434,bangolf_kategorien!$A$2:$B$11,2,FALSE)","v":"H"}]
["ob",45305,"Frank","Hornberger","SV Lurup Abt. Bahnengolf",{"$f":"CONCATENATE(VLOOKUP(A1435,bangolf_kategorien!$A$2:$B$11,2,FALSE),\": \",D1435,\", \",C1435)","v":"SM1: Hornberger, Frank"},{"$f":"VLOOKUP(A1435,bangolf_kategorien!$A$2:$B$11,2,FALSE)","v":"SM1"}]
["hv",60777,"Edwin","Hörnlen","MGSC Wernau",{"$f":"CONCATENATE(VLOOKUP(A1436,bangolf_kategorien!$A$2:$B$11,2,FALSE),\": \",D1436,\", \",C1436)","v":"SM2: Hörnlen, Edwin"},{"$f":"VLOOKUP(A1436,bangolf_kategorien!$A$2:$B$11,2,FALSE)","v":"SM2"}]
["hv",33961,"Gerhard","Horsinka","MC Flora Elmshorn",{"$f":"CONCATENATE(VLOOKUP(A1437,bangolf_kategorien!$A$2:$B$11,2,FALSE),\": \",D1437,\", \",C1437)","v":"SM2: Horsinka, Gerhard"},{"$f":"VLOOKUP(A1437,bangolf_kategorien!$A$2:$B$11,2,FALSE)","v":"SM2"}]
["hs",38121,"Valentin","Horst","SG Arheilgen Abt. Bahnengolf",{"$f":"CONCATENATE(VLOOKUP(A1438,bangolf_kategorien!$A$2:$B$11,2,FALSE),\": \",D1438,\", \",C1438)","v":"H: Horst, Valentin"},{"$f":"VLOOKUP(A1438,bangolf_kategorien!$A$2:$B$11,2,FALSE)","v":"H"}]
["dv",67552,"Ingeborg","Hößler","BSG Pneumant Fürstenwalde, Abt. Minigolf",{"$f":"CONCATENATE(VLOOKUP(A1439,bangolf_kategorien!$A$2:$B$11,2,FALSE),\": \",D1439,\", \",C1439)","v":"SW2: Hößler, Ingeborg"},{"$f":"VLOOKUP(A1439,bangolf_kategorien!$A$2:$B$11,2,FALSE)","v":"SW2"}]
["hj",67088,"Matthis","Hötzel","BGSV Castrop 1961",{"$f":"CONCATENATE(VLOOKUP(A1440,bangolf_kategorien!$A$2:$B$11,2,FALSE),\": \",D1440,\", \",C1440)","v":"JM: Hötzel, Matthis"},{"$f":"VLOOKUP(A1440,bangolf_kategorien!$A$2:$B$11,2,FALSE)","v":"JM"}]
["hs",24610,"Kai","Hövel","VfM Bottrop",{"$f":"CONCATENATE(VLOOKUP(A1441,bangolf_kategorien!$A$2:$B$11,2,FALSE),\": \",D1441,\", \",C1441)","v":"H: Hövel, Kai"},{"$f":"VLOOKUP(A1441,bangolf_kategorien!$A$2:$B$11,2,FALSE)","v":"H"}]
["pa",67280,"Yannik","Hoyer","1. MGC Mitterteich-Großbüchlberg",{"$f":"CONCATENATE(VLOOKUP(A1442,bangolf_kategorien!$A$2:$B$11,2,FALSE),\": \",D1442,\", \",C1442)","v":"SCHM: Hoyer, Yannik"},{"$f":"VLOOKUP(A1442,bangolf_kategorien!$A$2:$B$11,2,FALSE)","v":"SCHM"}]
["hs",38389,"Eric","Huber","BGSV Bad Homburg",{"$f":"CONCATENATE(VLOOKUP(A1443,bangolf_kategorien!$A$2:$B$11,2,FALSE),\": \",D1443,\", \",C1443)","v":"H: Huber, Eric"},{"$f":"VLOOKUP(A1443,bangolf_kategorien!$A$2:$B$11,2,FALSE)","v":"H"}]
["hv",48107,"Karl-Heinz","Huber","1. BGC Landshut",{"$f":"CONCATENATE(VLOOKUP(A1444,bangolf_kategorien!$A$2:$B$11,2,FALSE),\": \",D1444,\", \",C1444)","v":"SM2: Huber, Karl-Heinz"},{"$f":"VLOOKUP(A1444,bangolf_kategorien!$A$2:$B$11,2,FALSE)","v":"SM2"}]
["ob",47050,"Klaus","Huber","MGC Wolnzach",{"$f":"CONCATENATE(VLOOKUP(A1445,bangolf_kategorien!$A$2:$B$11,2,FALSE),\": \",D1445,\", \",C1445)","v":"SM1: Huber, Klaus"},{"$f":"VLOOKUP(A1445,bangolf_kategorien!$A$2:$B$11,2,FALSE)","v":"SM1"}]
["hs",38355,"Ronny","Huber","BGC Heilbronn",{"$f":"CONCATENATE(VLOOKUP(A1446,bangolf_kategorien!$A$2:$B$11,2,FALSE),\": \",D1446,\", \",C1446)","v":"H: Huber, Ronny"},{"$f":"VLOOKUP(A1446,bangolf_kategorien!$A$2:$B$11,2,FALSE)","v":"H"}]
["hj",66882,"Kevin","Hubrecht","MC Flora Elmshorn",{"$f":"CONCATENATE(VLOOKUP(A1447,bangolf_kategorien!$A$2:$B$11,2,FALSE),\": \",D1447,\", \",C1447)","v":"JM: Hubrecht, Kevin"},{"$f":"VLOOKUP(A1447,bangolf_kategorien!$A$2:$B$11,2,FALSE)","v":"JM"}]
["ob",32871,"Peter","Hubrecht","MC Flora Elmshorn",{"$f":"CONCATENATE(VLOOKUP(A1448,bangolf_kategorien!$A$2:$B$11,2,FALSE),\": \",D1448,\", \",C1448)","v":"SM1: Hubrecht, Peter"},{"$f":"VLOOKUP(A1448,bangolf_kategorien!$A$2:$B$11,2,FALSE)","v":"SM1"}]
["og",36581,"Kirsten","Huck","MC \"Möve\" Cuxhaven-Sahlenburg",{"$f":"CONCATENATE(VLOOKUP(A1449,bangolf_kategorien!$A$2:$B$11,2,FALSE),\": \",D1449,\", \",C1449)","v":"SW1: Huck, Kirsten"},{"$f":"VLOOKUP(A1449,bangolf_kategorien!$A$2:$B$11,2,FALSE)","v":"SW1"}]
["hs",67248,"Luca","Hudert","BGSV Bad Homburg",{"$f":"CONCATENATE(VLOOKUP(A1450,bangolf_kategorien!$A$2:$B$11,2,FALSE),\": \",D1450,\", \",C1450)","v":"H: Hudert, Luca"},{"$f":"VLOOKUP(A1450,bangolf_kategorien!$A$2:$B$11,2,FALSE)","v":"H"}]
["hs",38364,"Christopher","Hudman","MSV Würzburg-Löwenbrücke",{"$f":"CONCATENATE(VLOOKUP(A1451,bangolf_kategorien!$A$2:$B$11,2,FALSE),\": \",D1451,\", \",C1451)","v":"H: Hudman, Christopher"},{"$f":"VLOOKUP(A1451,bangolf_kategorien!$A$2:$B$11,2,FALSE)","v":"H"}]
["hv",33867,"Karl-Heinz","Hufnagl","MGC Ingolstadt",{"$f":"CONCATENATE(VLOOKUP(A1452,bangolf_kategorien!$A$2:$B$11,2,FALSE),\": \",D1452,\", \",C1452)","v":"SM2: Hufnagl, Karl-Heinz"},{"$f":"VLOOKUP(A1452,bangolf_kategorien!$A$2:$B$11,2,FALSE)","v":"SM2"}]
["hv",7524,"Klaus","Hufschmidt","BGSC \"Gut Schlag\" Gladbeck",{"$f":"CONCATENATE(VLOOKUP(A1453,bangolf_kategorien!$A$2:$B$11,2,FALSE),\": \",D1453,\", \",C1453)","v":"SM2: Hufschmidt, Klaus"},{"$f":"VLOOKUP(A1453,bangolf_kategorien!$A$2:$B$11,2,FALSE)","v":"SM2"}]
["hv",6300,"Klaus","Huhn","BGC Heilbronn",{"$f":"CONCATENATE(VLOOKUP(A1454,bangolf_kategorien!$A$2:$B$11,2,FALSE),\": \",D1454,\", \",C1454)","v":"SM2: Huhn, Klaus"},{"$f":"VLOOKUP(A1454,bangolf_kategorien!$A$2:$B$11,2,FALSE)","v":"SM2"}]
["dv",47019,"Martina","Huhn","BGC Bad Mergentheim",{"$f":"CONCATENATE(VLOOKUP(A1455,bangolf_kategorien!$A$2:$B$11,2,FALSE),\": \",D1455,\", \",C1455)","v":"SW2: Huhn, Martina"},{"$f":"VLOOKUP(A1455,bangolf_kategorien!$A$2:$B$11,2,FALSE)","v":"SW2"}]
["hs",30013,"Michael","Huhn","BGC Heilbronn",{"$f":"CONCATENATE(VLOOKUP(A1456,bangolf_kategorien!$A$2:$B$11,2,FALSE),\": \",D1456,\", \",C1456)","v":"H: Huhn, Michael"},{"$f":"VLOOKUP(A1456,bangolf_kategorien!$A$2:$B$11,2,FALSE)","v":"H"}]
["hv",49297,"Wolfgang","Hühne","1. MGC Kassel 1964",{"$f":"CONCATENATE(VLOOKUP(A1457,bangolf_kategorien!$A$2:$B$11,2,FALSE),\": \",D1457,\", \",C1457)","v":"SM2: Hühne, Wolfgang"},{"$f":"VLOOKUP(A1457,bangolf_kategorien!$A$2:$B$11,2,FALSE)","v":"SM2"}]
["hs",32803,"Marcell","Humbek","MGC \"Stahlquelle\" Bad Bocklet",{"$f":"CONCATENATE(VLOOKUP(A1458,bangolf_kategorien!$A$2:$B$11,2,FALSE),\": \",D1458,\", \",C1458)","v":"H: Humbek, Marcell"},{"$f":"VLOOKUP(A1458,bangolf_kategorien!$A$2:$B$11,2,FALSE)","v":"H"}]
["hs",36485,"Sascha-Nico","Humbek","MGC \"Stahlquelle\" Bad Bocklet",{"$f":"CONCATENATE(VLOOKUP(A1459,bangolf_kategorien!$A$2:$B$11,2,FALSE),\": \",D1459,\", \",C1459)","v":"H: Humbek, Sascha-Nico"},{"$f":"VLOOKUP(A1459,bangolf_kategorien!$A$2:$B$11,2,FALSE)","v":"H"}]
["ds",63553,"Jeanette","Humbek-Hönicke","MGC \"Stahlquelle\" Bad Bocklet",{"$f":"CONCATENATE(VLOOKUP(A1460,bangolf_kategorien!$A$2:$B$11,2,FALSE),\": \",D1460,\", \",C1460)","v":"D: Humbek-Hönicke, Jeanette"},{"$f":"VLOOKUP(A1460,bangolf_kategorien!$A$2:$B$11,2,FALSE)","v":"D"}]
["dv",63418,"Sybille","Humburg","1. MGC Saar 68 St. Ingbert",{"$f":"CONCATENATE(VLOOKUP(A1461,bangolf_kategorien!$A$2:$B$11,2,FALSE),\": \",D1461,\", \",C1461)","v":"SW2: Humburg, Sybille"},{"$f":"VLOOKUP(A1461,bangolf_kategorien!$A$2:$B$11,2,FALSE)","v":"SW2"}]
["hv",67010,"Dieter","Hundt","SSC Attendorn",{"$f":"CONCATENATE(VLOOKUP(A1462,bangolf_kategorien!$A$2:$B$11,2,FALSE),\": \",D1462,\", \",C1462)","v":"SM2: Hundt, Dieter"},{"$f":"VLOOKUP(A1462,bangolf_kategorien!$A$2:$B$11,2,FALSE)","v":"SM2"}]
["ob",44723,"Karl-Heinz","Hunte","BGC Diepholz",{"$f":"CONCATENATE(VLOOKUP(A1463,bangolf_kategorien!$A$2:$B$11,2,FALSE),\": \",D1463,\", \",C1463)","v":"SM1: Hunte, Karl-Heinz"},{"$f":"VLOOKUP(A1463,bangolf_kategorien!$A$2:$B$11,2,FALSE)","v":"SM1"}]
["og",40603,"Stefanie","Hunte","BGC Diepholz",{"$f":"CONCATENATE(VLOOKUP(A1464,bangolf_kategorien!$A$2:$B$11,2,FALSE),\": \",D1464,\", \",C1464)","v":"SW1: Hunte, Stefanie"},{"$f":"VLOOKUP(A1464,bangolf_kategorien!$A$2:$B$11,2,FALSE)","v":"SW1"}]
["hv",5258,"Josef","Hupfloher","1. Münchener MGC",{"$f":"CONCATENATE(VLOOKUP(A1465,bangolf_kategorien!$A$2:$B$11,2,FALSE),\": \",D1465,\", \",C1465)","v":"SM2: Hupfloher, Josef"},{"$f":"VLOOKUP(A1465,bangolf_kategorien!$A$2:$B$11,2,FALSE)","v":"SM2"}]
["hv",65120,"Norbert","Hupka","MGC Bad Homburg vdH",{"$f":"CONCATENATE(VLOOKUP(A1466,bangolf_kategorien!$A$2:$B$11,2,FALSE),\": \",D1466,\", \",C1466)","v":"SM2: Hupka, Norbert"},{"$f":"VLOOKUP(A1466,bangolf_kategorien!$A$2:$B$11,2,FALSE)","v":"SM2"}]
["ob",27615,"Martin","Hüppen","Bochumer Minigolf-Club 1960",{"$f":"CONCATENATE(VLOOKUP(A1467,bangolf_kategorien!$A$2:$B$11,2,FALSE),\": \",D1467,\", \",C1467)","v":"SM1: Hüppen, Martin"},{"$f":"VLOOKUP(A1467,bangolf_kategorien!$A$2:$B$11,2,FALSE)","v":"SM1"}]
["ob",46235,"Ulrich","Hürter","MSC Bad Godesberg",{"$f":"CONCATENATE(VLOOKUP(A1468,bangolf_kategorien!$A$2:$B$11,2,FALSE),\": \",D1468,\", \",C1468)","v":"SM1: Hürter, Ulrich"},{"$f":"VLOOKUP(A1468,bangolf_kategorien!$A$2:$B$11,2,FALSE)","v":"SM1"}]
["ob",66173,"Fred","Huse","Elbhavelland, Abt. Minigolfsport",{"$f":"CONCATENATE(VLOOKUP(A1469,bangolf_kategorien!$A$2:$B$11,2,FALSE),\": \",D1469,\", \",C1469)","v":"SM1: Huse, Fred"},{"$f":"VLOOKUP(A1469,bangolf_kategorien!$A$2:$B$11,2,FALSE)","v":"SM1"}]
["hs",35406,"Marcel","Hüsges","MC \"Möve\" Cuxhaven-Sahlenburg",{"$f":"CONCATENATE(VLOOKUP(A1470,bangolf_kategorien!$A$2:$B$11,2,FALSE),\": \",D1470,\", \",C1470)","v":"H: Hüsges, Marcel"},{"$f":"VLOOKUP(A1470,bangolf_kategorien!$A$2:$B$11,2,FALSE)","v":"H"}]
["ob",67058,"Ralf","Hüther","MGC Heringen 1997",{"$f":"CONCATENATE(VLOOKUP(A1471,bangolf_kategorien!$A$2:$B$11,2,FALSE),\": \",D1471,\", \",C1471)","v":"SM1: Hüther, Ralf"},{"$f":"VLOOKUP(A1471,bangolf_kategorien!$A$2:$B$11,2,FALSE)","v":"SM1"}]
["hs",40165,"Marcel","Hütter","1. Duisburger Minigolf Club 1962",{"$f":"CONCATENATE(VLOOKUP(A1472,bangolf_kategorien!$A$2:$B$11,2,FALSE),\": \",D1472,\", \",C1472)","v":"H: Hütter, Marcel"},{"$f":"VLOOKUP(A1472,bangolf_kategorien!$A$2:$B$11,2,FALSE)","v":"H"}]
["ds",38569,"Natascha","Hütter","1. Duisburger Minigolf Club 1962",{"$f":"CONCATENATE(VLOOKUP(A1473,bangolf_kategorien!$A$2:$B$11,2,FALSE),\": \",D1473,\", \",C1473)","v":"D: Hütter, Natascha"},{"$f":"VLOOKUP(A1473,bangolf_kategorien!$A$2:$B$11,2,FALSE)","v":"D"}]
["dv",4182,"Anneliese","Hutzler","1. NMC Kelheim",{"$f":"CONCATENATE(VLOOKUP(A1474,bangolf_kategorien!$A$2:$B$11,2,FALSE),\": \",D1474,\", \",C1474)","v":"SW2: Hutzler, Anneliese"},{"$f":"VLOOKUP(A1474,bangolf_kategorien!$A$2:$B$11,2,FALSE)","v":"SW2"}]
["ob",38269,"Marcus","Hylak","MSC Bad Godesberg",{"$f":"CONCATENATE(VLOOKUP(A1475,bangolf_kategorien!$A$2:$B$11,2,FALSE),\": \",D1475,\", \",C1475)","v":"SM1: Hylak, Marcus"},{"$f":"VLOOKUP(A1475,bangolf_kategorien!$A$2:$B$11,2,FALSE)","v":"SM1"}]
["dv",26659,"Reinhild","Hylak","MSC Bad Godesberg",{"$f":"CONCATENATE(VLOOKUP(A1476,bangolf_kategorien!$A$2:$B$11,2,FALSE),\": \",D1476,\", \",C1476)","v":"SW2: Hylak, Reinhild"},{"$f":"VLOOKUP(A1476,bangolf_kategorien!$A$2:$B$11,2,FALSE)","v":"SW2"}]
["ds",35568,"Marina","Iffland","MGC Rot-Weiß Wanne-Eickel",{"$f":"CONCATENATE(VLOOKUP(A1477,bangolf_kategorien!$A$2:$B$11,2,FALSE),\": \",D1477,\", \",C1477)","v":"D: Iffland, Marina"},{"$f":"VLOOKUP(A1477,bangolf_kategorien!$A$2:$B$11,2,FALSE)","v":"D"}]
["hv",35239,"Peter","Iffland","MGC Rot-Weiß Wanne-Eickel",{"$f":"CONCATENATE(VLOOKUP(A1478,bangolf_kategorien!$A$2:$B$11,2,FALSE),\": \",D1478,\", \",C1478)","v":"SM2: Iffland, Peter"},{"$f":"VLOOKUP(A1478,bangolf_kategorien!$A$2:$B$11,2,FALSE)","v":"SM2"}]
["hs",16225,"Marcus","Ihrlich","TSV Kücknitz Abt. Bahnengolf",{"$f":"CONCATENATE(VLOOKUP(A1479,bangolf_kategorien!$A$2:$B$11,2,FALSE),\": \",D1479,\", \",C1479)","v":"H: Ihrlich, Marcus"},{"$f":"VLOOKUP(A1479,bangolf_kategorien!$A$2:$B$11,2,FALSE)","v":"H"}]
["ob",48686,"Thomas","Ill","MGC Ravensburg-Weingarten",{"$f":"CONCATENATE(VLOOKUP(A1480,bangolf_kategorien!$A$2:$B$11,2,FALSE),\": \",D1480,\", \",C1480)","v":"SM1: Ill, Thomas"},{"$f":"VLOOKUP(A1480,bangolf_kategorien!$A$2:$B$11,2,FALSE)","v":"SM1"}]
["hv",26834,"Alfred","Inck","MGC Bergisch Gladbach Gierath",{"$f":"CONCATENATE(VLOOKUP(A1481,bangolf_kategorien!$A$2:$B$11,2,FALSE),\": \",D1481,\", \",C1481)","v":"SM2: Inck, Alfred"},{"$f":"VLOOKUP(A1481,bangolf_kategorien!$A$2:$B$11,2,FALSE)","v":"SM2"}]
["dv",44954,"Alwine","Inck","MGC Bergisch Gladbach Gierath",{"$f":"CONCATENATE(VLOOKUP(A1482,bangolf_kategorien!$A$2:$B$11,2,FALSE),\": \",D1482,\", \",C1482)","v":"SW2: Inck, Alwine"},{"$f":"VLOOKUP(A1482,bangolf_kategorien!$A$2:$B$11,2,FALSE)","v":"SW2"}]
["hv",27702,"Bruno","Ingenston","1. Berliner Miniaturgolf-Sportclub 1960",{"$f":"CONCATENATE(VLOOKUP(A1483,bangolf_kategorien!$A$2:$B$11,2,FALSE),\": \",D1483,\", \",C1483)","v":"SM2: Ingenston, Bruno"},{"$f":"VLOOKUP(A1483,bangolf_kategorien!$A$2:$B$11,2,FALSE)","v":"SM2"}]
["dv",61325,"Rose-Marie","Ipach","MGC Brunsbüttel",{"$f":"CONCATENATE(VLOOKUP(A1484,bangolf_kategorien!$A$2:$B$11,2,FALSE),\": \",D1484,\", \",C1484)","v":"SW2: Ipach, Rose-Marie"},{"$f":"VLOOKUP(A1484,bangolf_kategorien!$A$2:$B$11,2,FALSE)","v":"SW2"}]
["hv",87517,"Heinz","Isbaner","BGC Oberhausen",{"$f":"CONCATENATE(VLOOKUP(A1485,bangolf_kategorien!$A$2:$B$11,2,FALSE),\": \",D1485,\", \",C1485)","v":"SM2: Isbaner, Heinz"},{"$f":"VLOOKUP(A1485,bangolf_kategorien!$A$2:$B$11,2,FALSE)","v":"SM2"}]
["ob",40541,"Oliver","Isenbiel","MSC Bensheim-Auerbach",{"$f":"CONCATENATE(VLOOKUP(A1486,bangolf_kategorien!$A$2:$B$11,2,FALSE),\": \",D1486,\", \",C1486)","v":"SM1: Isenbiel, Oliver"},{"$f":"VLOOKUP(A1486,bangolf_kategorien!$A$2:$B$11,2,FALSE)","v":"SM1"}]
["og",33586,"Marion","Isop","VfL Lohbrügge Abt. Bahnengolf",{"$f":"CONCATENATE(VLOOKUP(A1487,bangolf_kategorien!$A$2:$B$11,2,FALSE),\": \",D1487,\", \",C1487)","v":"SW1: Isop, Marion"},{"$f":"VLOOKUP(A1487,bangolf_kategorien!$A$2:$B$11,2,FALSE)","v":"SW1"}]
["og",31002,"Kirsten","Isselmann","MSK Neheim-Hüsten",{"$f":"CONCATENATE(VLOOKUP(A1488,bangolf_kategorien!$A$2:$B$11,2,FALSE),\": \",D1488,\", \",C1488)","v":"SW1: Isselmann, Kirsten"},{"$f":"VLOOKUP(A1488,bangolf_kategorien!$A$2:$B$11,2,FALSE)","v":"SW1"}]
["hv",63326,"Werner","Isselmann","1. MSC Wesel 6.6.1966",{"$f":"CONCATENATE(VLOOKUP(A1489,bangolf_kategorien!$A$2:$B$11,2,FALSE),\": \",D1489,\", \",C1489)","v":"SM2: Isselmann, Werner"},{"$f":"VLOOKUP(A1489,bangolf_kategorien!$A$2:$B$11,2,FALSE)","v":"SM2"}]
["hs",46453,"Marcus","Itjen","MC \"Möve\" Cuxhaven-Sahlenburg",{"$f":"CONCATENATE(VLOOKUP(A1490,bangolf_kategorien!$A$2:$B$11,2,FALSE),\": \",D1490,\", \",C1490)","v":"H: Itjen, Marcus"},{"$f":"VLOOKUP(A1490,bangolf_kategorien!$A$2:$B$11,2,FALSE)","v":"H"}]
["hs",66797,"Patrick","Itter","BGC Neutraubling",{"$f":"CONCATENATE(VLOOKUP(A1491,bangolf_kategorien!$A$2:$B$11,2,FALSE),\": \",D1491,\", \",C1491)","v":"H: Itter, Patrick"},{"$f":"VLOOKUP(A1491,bangolf_kategorien!$A$2:$B$11,2,FALSE)","v":"H"}]
["ob",30373,"Holger","Ittner","MSK Neheim-Hüsten",{"$f":"CONCATENATE(VLOOKUP(A1492,bangolf_kategorien!$A$2:$B$11,2,FALSE),\": \",D1492,\", \",C1492)","v":"SM1: Ittner, Holger"},{"$f":"VLOOKUP(A1492,bangolf_kategorien!$A$2:$B$11,2,FALSE)","v":"SM1"}]
["hv",66406,"Peter","Izelle","BSC Ennepetal",{"$f":"CONCATENATE(VLOOKUP(A1493,bangolf_kategorien!$A$2:$B$11,2,FALSE),\": \",D1493,\", \",C1493)","v":"SM2: Izelle, Peter"},{"$f":"VLOOKUP(A1493,bangolf_kategorien!$A$2:$B$11,2,FALSE)","v":"SM2"}]
["ob",43158,"Ingo","Jablonowski","BGSC Bochum 1978",{"$f":"CONCATENATE(VLOOKUP(A1494,bangolf_kategorien!$A$2:$B$11,2,FALSE),\": \",D1494,\", \",C1494)","v":"SM1: Jablonowski, Ingo"},{"$f":"VLOOKUP(A1494,bangolf_kategorien!$A$2:$B$11,2,FALSE)","v":"SM1"}]
["hs",46049,"Jesko","Jachens","MGC Olympia Kiel",{"$f":"CONCATENATE(VLOOKUP(A1495,bangolf_kategorien!$A$2:$B$11,2,FALSE),\": \",D1495,\", \",C1495)","v":"H: Jachens, Jesko"},{"$f":"VLOOKUP(A1495,bangolf_kategorien!$A$2:$B$11,2,FALSE)","v":"H"}]
["hv",18069,"Franz","Jachert","MGSC Wernau",{"$f":"CONCATENATE(VLOOKUP(A1496,bangolf_kategorien!$A$2:$B$11,2,FALSE),\": \",D1496,\", \",C1496)","v":"SM2: Jachert, Franz"},{"$f":"VLOOKUP(A1496,bangolf_kategorien!$A$2:$B$11,2,FALSE)","v":"SM2"}]
["hs",33011,"Christopher","Jäck","1. Bahnengolf-Club Singen",{"$f":"CONCATENATE(VLOOKUP(A1497,bangolf_kategorien!$A$2:$B$11,2,FALSE),\": \",D1497,\", \",C1497)","v":"H: Jäck, Christopher"},{"$f":"VLOOKUP(A1497,bangolf_kategorien!$A$2:$B$11,2,FALSE)","v":"H"}]
["hv",34687,"Wolfram","Jäck","MGF Hilzingen 80",{"$f":"CONCATENATE(VLOOKUP(A1498,bangolf_kategorien!$A$2:$B$11,2,FALSE),\": \",D1498,\", \",C1498)","v":"SM2: Jäck, Wolfram"},{"$f":"VLOOKUP(A1498,bangolf_kategorien!$A$2:$B$11,2,FALSE)","v":"SM2"}]
["ob",47260,"Frank","Jacobi","MGC Bad Salzuflen",{"$f":"CONCATENATE(VLOOKUP(A1499,bangolf_kategorien!$A$2:$B$11,2,FALSE),\": \",D1499,\", \",C1499)","v":"SM1: Jacobi, Frank"},{"$f":"VLOOKUP(A1499,bangolf_kategorien!$A$2:$B$11,2,FALSE)","v":"SM1"}]
["ob",35316,"Jörg","Jacobs","TSV Arendsee",{"$f":"CONCATENATE(VLOOKUP(A1500,bangolf_kategorien!$A$2:$B$11,2,FALSE),\": \",D1500,\", \",C1500)","v":"SM1: Jacobs, Jörg"},{"$f":"VLOOKUP(A1500,bangolf_kategorien!$A$2:$B$11,2,FALSE)","v":"SM1"}]
["hs",35317,"Marco","Jacobs","TSV Arendsee",{"$f":"CONCATENATE(VLOOKUP(A1501,bangolf_kategorien!$A$2:$B$11,2,FALSE),\": \",D1501,\", \",C1501)","v":"H: Jacobs, Marco"},{"$f":"VLOOKUP(A1501,bangolf_kategorien!$A$2:$B$11,2,FALSE)","v":"H"}]
["ob",1742,"Ralf","Jacobs","TSV Arendsee",{"$f":"CONCATENATE(VLOOKUP(A1502,bangolf_kategorien!$A$2:$B$11,2,FALSE),\": \",D1502,\", \",C1502)","v":"SM1: Jacobs, Ralf"},{"$f":"VLOOKUP(A1502,bangolf_kategorien!$A$2:$B$11,2,FALSE)","v":"SM1"}]
["hv",36699,"Gerhard","Jaenichen","VFB 21 Neugattersleben",{"$f":"CONCATENATE(VLOOKUP(A1503,bangolf_kategorien!$A$2:$B$11,2,FALSE),\": \",D1503,\", \",C1503)","v":"SM2: Jaenichen, Gerhard"},{"$f":"VLOOKUP(A1503,bangolf_kategorien!$A$2:$B$11,2,FALSE)","v":"SM2"}]
["dv",38313,"Gisela","Jäger","MGC Dortmund Syburg",{"$f":"CONCATENATE(VLOOKUP(A1504,bangolf_kategorien!$A$2:$B$11,2,FALSE),\": \",D1504,\", \",C1504)","v":"SW2: Jäger, Gisela"},{"$f":"VLOOKUP(A1504,bangolf_kategorien!$A$2:$B$11,2,FALSE)","v":"SW2"}]
["hv",40980,"Michael","Jäger","BGSV Bad Homburg",{"$f":"CONCATENATE(VLOOKUP(A1505,bangolf_kategorien!$A$2:$B$11,2,FALSE),\": \",D1505,\", \",C1505)","v":"SM2: Jäger, Michael"},{"$f":"VLOOKUP(A1505,bangolf_kategorien!$A$2:$B$11,2,FALSE)","v":"SM2"}]
["hv",6372,"Peter","Jäger","1. BGC Landshut",{"$f":"CONCATENATE(VLOOKUP(A1506,bangolf_kategorien!$A$2:$B$11,2,FALSE),\": \",D1506,\", \",C1506)","v":"SM2: Jäger, Peter"},{"$f":"VLOOKUP(A1506,bangolf_kategorien!$A$2:$B$11,2,FALSE)","v":"SM2"}]
["ob",36447,"Thomas","Jäger","Bochumer Minigolf-Club 1960",{"$f":"CONCATENATE(VLOOKUP(A1507,bangolf_kategorien!$A$2:$B$11,2,FALSE),\": \",D1507,\", \",C1507)","v":"SM1: Jäger, Thomas"},{"$f":"VLOOKUP(A1507,bangolf_kategorien!$A$2:$B$11,2,FALSE)","v":"SM1"}]
["ob",42951,"Achim","Jahr","MGC Oberkochen",{"$f":"CONCATENATE(VLOOKUP(A1508,bangolf_kategorien!$A$2:$B$11,2,FALSE),\": \",D1508,\", \",C1508)","v":"SM1: Jahr, Achim"},{"$f":"VLOOKUP(A1508,bangolf_kategorien!$A$2:$B$11,2,FALSE)","v":"SM1"}]
["hv",24925,"Konrad","Jahr","1. MGC 1970 Göttingen",{"$f":"CONCATENATE(VLOOKUP(A1509,bangolf_kategorien!$A$2:$B$11,2,FALSE),\": \",D1509,\", \",C1509)","v":"SM2: Jahr, Konrad"},{"$f":"VLOOKUP(A1509,bangolf_kategorien!$A$2:$B$11,2,FALSE)","v":"SM2"}]
["dv",44499,"Uta","Jahrmärker","1. BGC Celle von 1964",{"$f":"CONCATENATE(VLOOKUP(A1510,bangolf_kategorien!$A$2:$B$11,2,FALSE),\": \",D1510,\", \",C1510)","v":"SW2: Jahrmärker, Uta"},{"$f":"VLOOKUP(A1510,bangolf_kategorien!$A$2:$B$11,2,FALSE)","v":"SW2"}]
["hs",45789,"Christian","Jäink","MSK Neheim-Hüsten",{"$f":"CONCATENATE(VLOOKUP(A1511,bangolf_kategorien!$A$2:$B$11,2,FALSE),\": \",D1511,\", \",C1511)","v":"H: Jäink, Christian"},{"$f":"VLOOKUP(A1511,bangolf_kategorien!$A$2:$B$11,2,FALSE)","v":"H"}]
["hs",66863,"Andre","Jaiser","SSV Ulm 1846 Abt. Bahnengolf",{"$f":"CONCATENATE(VLOOKUP(A1512,bangolf_kategorien!$A$2:$B$11,2,FALSE),\": \",D1512,\", \",C1512)","v":"H: Jaiser, Andre"},{"$f":"VLOOKUP(A1512,bangolf_kategorien!$A$2:$B$11,2,FALSE)","v":"H"}]
["hv",66485,"Rudi","Jakab","1. BGC Bad Füssing",{"$f":"CONCATENATE(VLOOKUP(A1513,bangolf_kategorien!$A$2:$B$11,2,FALSE),\": \",D1513,\", \",C1513)","v":"SM2: Jakab, Rudi"},{"$f":"VLOOKUP(A1513,bangolf_kategorien!$A$2:$B$11,2,FALSE)","v":"SM2"}]
["hv",41217,"Franz","Jakob","MGC Ingolstadt",{"$f":"CONCATENATE(VLOOKUP(A1514,bangolf_kategorien!$A$2:$B$11,2,FALSE),\": \",D1514,\", \",C1514)","v":"SM2: Jakob, Franz"},{"$f":"VLOOKUP(A1514,bangolf_kategorien!$A$2:$B$11,2,FALSE)","v":"SM2"}]
["hs",67527,"Jerome","Jakob","BGC Oberhausen",{"$f":"CONCATENATE(VLOOKUP(A1515,bangolf_kategorien!$A$2:$B$11,2,FALSE),\": \",D1515,\", \",C1515)","v":"H: Jakob, Jerome"},{"$f":"VLOOKUP(A1515,bangolf_kategorien!$A$2:$B$11,2,FALSE)","v":"H"}]
["hv",66119,"Norbert","Jakob","BGSV Bad Homburg",{"$f":"CONCATENATE(VLOOKUP(A1516,bangolf_kategorien!$A$2:$B$11,2,FALSE),\": \",D1516,\", \",C1516)","v":"SM2: Jakob, Norbert"},{"$f":"VLOOKUP(A1516,bangolf_kategorien!$A$2:$B$11,2,FALSE)","v":"SM2"}]
["hs",87516,"Rene","Jakob","BGC Oberhausen",{"$f":"CONCATENATE(VLOOKUP(A1517,bangolf_kategorien!$A$2:$B$11,2,FALSE),\": \",D1517,\", \",C1517)","v":"H: Jakob, Rene"},{"$f":"VLOOKUP(A1517,bangolf_kategorien!$A$2:$B$11,2,FALSE)","v":"H"}]
["hs",67141,"Jens","Jakobs","MGC Traben-Trarbach",{"$f":"CONCATENATE(VLOOKUP(A1518,bangolf_kategorien!$A$2:$B$11,2,FALSE),\": \",D1518,\", \",C1518)","v":"H: Jakobs, Jens"},{"$f":"VLOOKUP(A1518,bangolf_kategorien!$A$2:$B$11,2,FALSE)","v":"H"}]
["hs",33405,"Timo","Jakoby","MGC Traben-Trarbach",{"$f":"CONCATENATE(VLOOKUP(A1519,bangolf_kategorien!$A$2:$B$11,2,FALSE),\": \",D1519,\", \",C1519)","v":"H: Jakoby, Timo"},{"$f":"VLOOKUP(A1519,bangolf_kategorien!$A$2:$B$11,2,FALSE)","v":"H"}]
["hs",66652,"Rene","Jakubeit","VfL Lüneburg Abt. Bahnengolf",{"$f":"CONCATENATE(VLOOKUP(A1520,bangolf_kategorien!$A$2:$B$11,2,FALSE),\": \",D1520,\", \",C1520)","v":"H: Jakubeit, Rene"},{"$f":"VLOOKUP(A1520,bangolf_kategorien!$A$2:$B$11,2,FALSE)","v":"H"}]
["ds",67208,"Janine","Jander","MGC Marl 1960",{"$f":"CONCATENATE(VLOOKUP(A1521,bangolf_kategorien!$A$2:$B$11,2,FALSE),\": \",D1521,\", \",C1521)","v":"D: Jander, Janine"},{"$f":"VLOOKUP(A1521,bangolf_kategorien!$A$2:$B$11,2,FALSE)","v":"D"}]
["ds",67556,"Karolina","Jandová","BGC Neutraubling",{"$f":"CONCATENATE(VLOOKUP(A1522,bangolf_kategorien!$A$2:$B$11,2,FALSE),\": \",D1522,\", \",C1522)","v":"D: Jandová, Karolina"},{"$f":"VLOOKUP(A1522,bangolf_kategorien!$A$2:$B$11,2,FALSE)","v":"D"}]
["ob",29585,"André","Jänicke","MGC Dormagen-Brechten",{"$f":"CONCATENATE(VLOOKUP(A1523,bangolf_kategorien!$A$2:$B$11,2,FALSE),\": \",D1523,\", \",C1523)","v":"SM1: Jänicke, André"},{"$f":"VLOOKUP(A1523,bangolf_kategorien!$A$2:$B$11,2,FALSE)","v":"SM1"}]
["hs",37822,"Andreas","Jansen","MGC Bergisch Gladbach Gierath",{"$f":"CONCATENATE(VLOOKUP(A1524,bangolf_kategorien!$A$2:$B$11,2,FALSE),\": \",D1524,\", \",C1524)","v":"H: Jansen, Andreas"},{"$f":"VLOOKUP(A1524,bangolf_kategorien!$A$2:$B$11,2,FALSE)","v":"H"}]
["hv",24340,"Jörg","Jansen","VfM Bottrop",{"$f":"CONCATENATE(VLOOKUP(A1525,bangolf_kategorien!$A$2:$B$11,2,FALSE),\": \",D1525,\", \",C1525)","v":"SM2: Jansen, Jörg"},{"$f":"VLOOKUP(A1525,bangolf_kategorien!$A$2:$B$11,2,FALSE)","v":"SM2"}]
["hv",36046,"Thomas","Jansen","MGC Ingolstadt",{"$f":"CONCATENATE(VLOOKUP(A1526,bangolf_kategorien!$A$2:$B$11,2,FALSE),\": \",D1526,\", \",C1526)","v":"SM2: Jansen, Thomas"},{"$f":"VLOOKUP(A1526,bangolf_kategorien!$A$2:$B$11,2,FALSE)","v":"SM2"}]
["ob",31015,"Markus","Janßen","1. MGC Mainz",{"$f":"CONCATENATE(VLOOKUP(A1527,bangolf_kategorien!$A$2:$B$11,2,FALSE),\": \",D1527,\", \",C1527)","v":"SM1: Janßen, Markus"},{"$f":"VLOOKUP(A1527,bangolf_kategorien!$A$2:$B$11,2,FALSE)","v":"SM1"}]
["og",66147,"Petra","Janßen","SV Lurup Abt. Bahnengolf",{"$f":"CONCATENATE(VLOOKUP(A1528,bangolf_kategorien!$A$2:$B$11,2,FALSE),\": \",D1528,\", \",C1528)","v":"SW1: Janßen, Petra"},{"$f":"VLOOKUP(A1528,bangolf_kategorien!$A$2:$B$11,2,FALSE)","v":"SW1"}]
["hs",67236,"Sven","Janz","1. CGC Blau-Gelb Grötzingen",{"$f":"CONCATENATE(VLOOKUP(A1529,bangolf_kategorien!$A$2:$B$11,2,FALSE),\": \",D1529,\", \",C1529)","v":"H: Janz, Sven"},{"$f":"VLOOKUP(A1529,bangolf_kategorien!$A$2:$B$11,2,FALSE)","v":"H"}]
["ob",29771,"Klaus","Jarosch","VfM Bottrop",{"$f":"CONCATENATE(VLOOKUP(A1530,bangolf_kategorien!$A$2:$B$11,2,FALSE),\": \",D1530,\", \",C1530)","v":"SM1: Jarosch, Klaus"},{"$f":"VLOOKUP(A1530,bangolf_kategorien!$A$2:$B$11,2,FALSE)","v":"SM1"}]
["dv",34756,"Monika","Jarzembowski","MGC Olympia Kiel",{"$f":"CONCATENATE(VLOOKUP(A1531,bangolf_kategorien!$A$2:$B$11,2,FALSE),\": \",D1531,\", \",C1531)","v":"SW2: Jarzembowski, Monika"},{"$f":"VLOOKUP(A1531,bangolf_kategorien!$A$2:$B$11,2,FALSE)","v":"SW2"}]
["ob",37433,"Alexander","Jasper","MGC Dormagen-Brechten",{"$f":"CONCATENATE(VLOOKUP(A1532,bangolf_kategorien!$A$2:$B$11,2,FALSE),\": \",D1532,\", \",C1532)","v":"SM1: Jasper, Alexander"},{"$f":"VLOOKUP(A1532,bangolf_kategorien!$A$2:$B$11,2,FALSE)","v":"SM1"}]
["hs",3314253,"Patrick","Jathe-Unterberg","Hobby",{"$f":"CONCATENATE(VLOOKUP(A1533,bangolf_kategorien!$A$2:$B$11,2,FALSE),\": \",D1533,\", \",C1533)","v":"H: Jathe-Unterberg, Patrick"},{"$f":"VLOOKUP(A1533,bangolf_kategorien!$A$2:$B$11,2,FALSE)","v":"H"}]
["hs",66179,"Jens","Jatho","1. BGC Hannover",{"$f":"CONCATENATE(VLOOKUP(A1534,bangolf_kategorien!$A$2:$B$11,2,FALSE),\": \",D1534,\", \",C1534)","v":"H: Jatho, Jens"},{"$f":"VLOOKUP(A1534,bangolf_kategorien!$A$2:$B$11,2,FALSE)","v":"H"}]
["hs",66845,"Michael","Jauernek","MGC Monrepos",{"$f":"CONCATENATE(VLOOKUP(A1535,bangolf_kategorien!$A$2:$B$11,2,FALSE),\": \",D1535,\", \",C1535)","v":"H: Jauernek, Michael"},{"$f":"VLOOKUP(A1535,bangolf_kategorien!$A$2:$B$11,2,FALSE)","v":"H"}]
["hs",40383,"Robert","Jeckel","1. BGC Leipzig",{"$f":"CONCATENATE(VLOOKUP(A1536,bangolf_kategorien!$A$2:$B$11,2,FALSE),\": \",D1536,\", \",C1536)","v":"H: Jeckel, Robert"},{"$f":"VLOOKUP(A1536,bangolf_kategorien!$A$2:$B$11,2,FALSE)","v":"H"}]
["hs",66825,"Martin","Jecny","BGS Hardenberg-Pötter",{"$f":"CONCATENATE(VLOOKUP(A1537,bangolf_kategorien!$A$2:$B$11,2,FALSE),\": \",D1537,\", \",C1537)","v":"H: Jecny, Martin"},{"$f":"VLOOKUP(A1537,bangolf_kategorien!$A$2:$B$11,2,FALSE)","v":"H"}]
["hs",46846,"André","Jensen","MGC Olympia Kiel",{"$f":"CONCATENATE(VLOOKUP(A1538,bangolf_kategorien!$A$2:$B$11,2,FALSE),\": \",D1538,\", \",C1538)","v":"H: Jensen, André"},{"$f":"VLOOKUP(A1538,bangolf_kategorien!$A$2:$B$11,2,FALSE)","v":"H"}]
["ob",33394,"Bernd","Jentschke","MGC Unterschneidheim",{"$f":"CONCATENATE(VLOOKUP(A1539,bangolf_kategorien!$A$2:$B$11,2,FALSE),\": \",D1539,\", \",C1539)","v":"SM1: Jentschke, Bernd"},{"$f":"VLOOKUP(A1539,bangolf_kategorien!$A$2:$B$11,2,FALSE)","v":"SM1"}]
["hs",34568,"Sebastian","Jeschke","MSC Bad Godesberg",{"$f":"CONCATENATE(VLOOKUP(A1540,bangolf_kategorien!$A$2:$B$11,2,FALSE),\": \",D1540,\", \",C1540)","v":"H: Jeschke, Sebastian"},{"$f":"VLOOKUP(A1540,bangolf_kategorien!$A$2:$B$11,2,FALSE)","v":"H"}]
["ds",36293,"Anna","Jeske","SV Lurup Abt. Bahnengolf",{"$f":"CONCATENATE(VLOOKUP(A1541,bangolf_kategorien!$A$2:$B$11,2,FALSE),\": \",D1541,\", \",C1541)","v":"D: Jeske, Anna"},{"$f":"VLOOKUP(A1541,bangolf_kategorien!$A$2:$B$11,2,FALSE)","v":"D"}]
["dv",61958,"Marie-Luise","Jezierski","MGC \"AS\" Witten 1963",{"$f":"CONCATENATE(VLOOKUP(A1542,bangolf_kategorien!$A$2:$B$11,2,FALSE),\": \",D1542,\", \",C1542)","v":"SW2: Jezierski, Marie-Luise"},{"$f":"VLOOKUP(A1542,bangolf_kategorien!$A$2:$B$11,2,FALSE)","v":"SW2"}]
["hv",26456,"Erwin","Joachimsthaler","MGC Ostheim / Rhön",{"$f":"CONCATENATE(VLOOKUP(A1543,bangolf_kategorien!$A$2:$B$11,2,FALSE),\": \",D1543,\", \",C1543)","v":"SM2: Joachimsthaler, Erwin"},{"$f":"VLOOKUP(A1543,bangolf_kategorien!$A$2:$B$11,2,FALSE)","v":"SM2"}]
["ob",46843,"Niels","Johannsen","MGC Bad Oldesloe",{"$f":"CONCATENATE(VLOOKUP(A1544,bangolf_kategorien!$A$2:$B$11,2,FALSE),\": \",D1544,\", \",C1544)","v":"SM1: Johannsen, Niels"},{"$f":"VLOOKUP(A1544,bangolf_kategorien!$A$2:$B$11,2,FALSE)","v":"SM1"}]
["hv",40896,"Manfred","Jöhrens","1. BGC Hannover",{"$f":"CONCATENATE(VLOOKUP(A1545,bangolf_kategorien!$A$2:$B$11,2,FALSE),\": \",D1545,\", \",C1545)","v":"SM2: Jöhrens, Manfred"},{"$f":"VLOOKUP(A1545,bangolf_kategorien!$A$2:$B$11,2,FALSE)","v":"SM2"}]
["og",28802,"Melanie","Jooß","BGC Illertissen",{"$f":"CONCATENATE(VLOOKUP(A1546,bangolf_kategorien!$A$2:$B$11,2,FALSE),\": \",D1546,\", \",C1546)","v":"SW1: Jooß, Melanie"},{"$f":"VLOOKUP(A1546,bangolf_kategorien!$A$2:$B$11,2,FALSE)","v":"SW1"}]
["hv",28793,"Thomas","Jooß","BGC Illertissen",{"$f":"CONCATENATE(VLOOKUP(A1547,bangolf_kategorien!$A$2:$B$11,2,FALSE),\": \",D1547,\", \",C1547)","v":"SM2: Jooß, Thomas"},{"$f":"VLOOKUP(A1547,bangolf_kategorien!$A$2:$B$11,2,FALSE)","v":"SM2"}]
["ob",67200,"Oliver","Jordan","BGSV Bad Homburg",{"$f":"CONCATENATE(VLOOKUP(A1548,bangolf_kategorien!$A$2:$B$11,2,FALSE),\": \",D1548,\", \",C1548)","v":"SM1: Jordan, Oliver"},{"$f":"VLOOKUP(A1548,bangolf_kategorien!$A$2:$B$11,2,FALSE)","v":"SM1"}]
["ob",40687,"Nikolai","Juchem","1. MGC Mainz",{"$f":"CONCATENATE(VLOOKUP(A1549,bangolf_kategorien!$A$2:$B$11,2,FALSE),\": \",D1549,\", \",C1549)","v":"SM1: Juchem, Nikolai"},{"$f":"VLOOKUP(A1549,bangolf_kategorien!$A$2:$B$11,2,FALSE)","v":"SM1"}]
["og",67262,"Barbara","Jung","MGC \"Stahlquelle\" Bad Bocklet",{"$f":"CONCATENATE(VLOOKUP(A1550,bangolf_kategorien!$A$2:$B$11,2,FALSE),\": \",D1550,\", \",C1550)","v":"SW1: Jung, Barbara"},{"$f":"VLOOKUP(A1550,bangolf_kategorien!$A$2:$B$11,2,FALSE)","v":"SW1"}]
["ds",30969,"Claudia","Jung","MGC Murnau am Staffelsee",{"$f":"CONCATENATE(VLOOKUP(A1551,bangolf_kategorien!$A$2:$B$11,2,FALSE),\": \",D1551,\", \",C1551)","v":"D: Jung, Claudia"},{"$f":"VLOOKUP(A1551,bangolf_kategorien!$A$2:$B$11,2,FALSE)","v":"D"}]
["hv",34878,"Horst","Jung","MGC Millennium Lorsch",{"$f":"CONCATENATE(VLOOKUP(A1552,bangolf_kategorien!$A$2:$B$11,2,FALSE),\": \",D1552,\", \",C1552)","v":"SM2: Jung, Horst"},{"$f":"VLOOKUP(A1552,bangolf_kategorien!$A$2:$B$11,2,FALSE)","v":"SM2"}]
["dj",66017,"Johanna","Jung","1. KC Homburg-Saar 1967",{"$f":"CONCATENATE(VLOOKUP(A1553,bangolf_kategorien!$A$2:$B$11,2,FALSE),\": \",D1553,\", \",C1553)","v":"JW: Jung, Johanna"},{"$f":"VLOOKUP(A1553,bangolf_kategorien!$A$2:$B$11,2,FALSE)","v":"JW"}]
["ob",66018,"Jürgen","Jung","1. KC Homburg-Saar 1967",{"$f":"CONCATENATE(VLOOKUP(A1554,bangolf_kategorien!$A$2:$B$11,2,FALSE),\": \",D1554,\", \",C1554)","v":"SM1: Jung, Jürgen"},{"$f":"VLOOKUP(A1554,bangolf_kategorien!$A$2:$B$11,2,FALSE)","v":"SM1"}]
["dv",3578,"Lieselotte","Jung","BGC Dormagen",{"$f":"CONCATENATE(VLOOKUP(A1555,bangolf_kategorien!$A$2:$B$11,2,FALSE),\": \",D1555,\", \",C1555)","v":"SW2: Jung, Lieselotte"},{"$f":"VLOOKUP(A1555,bangolf_kategorien!$A$2:$B$11,2,FALSE)","v":"SW2"}]
["hs",37937,"Marco","Jung","MGC Murnau am Staffelsee",{"$f":"CONCATENATE(VLOOKUP(A1556,bangolf_kategorien!$A$2:$B$11,2,FALSE),\": \",D1556,\", \",C1556)","v":"H: Jung, Marco"},{"$f":"VLOOKUP(A1556,bangolf_kategorien!$A$2:$B$11,2,FALSE)","v":"H"}]
["ob",40003,"Markus","Jung","BGV Bergisch Land 1962 / 63",{"$f":"CONCATENATE(VLOOKUP(A1557,bangolf_kategorien!$A$2:$B$11,2,FALSE),\": \",D1557,\", \",C1557)","v":"SM1: Jung, Markus"},{"$f":"VLOOKUP(A1557,bangolf_kategorien!$A$2:$B$11,2,FALSE)","v":"SM1"}]
["hj",66933,"Samuel","Jung","SV 1890 Dreieichenhain, Abt. Bahnengolf",{"$f":"CONCATENATE(VLOOKUP(A1558,bangolf_kategorien!$A$2:$B$11,2,FALSE),\": \",D1558,\", \",C1558)","v":"JM: Jung, Samuel"},{"$f":"VLOOKUP(A1558,bangolf_kategorien!$A$2:$B$11,2,FALSE)","v":"JM"}]
["hs",66050,"Sven","Jungwirth","SSC Attendorn",{"$f":"CONCATENATE(VLOOKUP(A1559,bangolf_kategorien!$A$2:$B$11,2,FALSE),\": \",D1559,\", \",C1559)","v":"H: Jungwirth, Sven"},{"$f":"VLOOKUP(A1559,bangolf_kategorien!$A$2:$B$11,2,FALSE)","v":"H"}]
["hs",49073,"Alexander","Junkermann","MGC Dormagen-Brechten",{"$f":"CONCATENATE(VLOOKUP(A1560,bangolf_kategorien!$A$2:$B$11,2,FALSE),\": \",D1560,\", \",C1560)","v":"H: Junkermann, Alexander"},{"$f":"VLOOKUP(A1560,bangolf_kategorien!$A$2:$B$11,2,FALSE)","v":"H"}]
["ob",38337,"Bernd","Jurgeleit","BSV 86 München",{"$f":"CONCATENATE(VLOOKUP(A1561,bangolf_kategorien!$A$2:$B$11,2,FALSE),\": \",D1561,\", \",C1561)","v":"SM1: Jurgeleit, Bernd"},{"$f":"VLOOKUP(A1561,bangolf_kategorien!$A$2:$B$11,2,FALSE)","v":"SM1"}]
["ds",38338,"Melanie","Jurgeleit","MGC Murnau am Staffelsee",{"$f":"CONCATENATE(VLOOKUP(A1562,bangolf_kategorien!$A$2:$B$11,2,FALSE),\": \",D1562,\", \",C1562)","v":"D: Jurgeleit, Melanie"},{"$f":"VLOOKUP(A1562,bangolf_kategorien!$A$2:$B$11,2,FALSE)","v":"D"}]
["og",38339,"Rebecca","Jurgeleit","BSV 86 München",{"$f":"CONCATENATE(VLOOKUP(A1563,bangolf_kategorien!$A$2:$B$11,2,FALSE),\": \",D1563,\", \",C1563)","v":"SW1: Jurgeleit, Rebecca"},{"$f":"VLOOKUP(A1563,bangolf_kategorien!$A$2:$B$11,2,FALSE)","v":"SW1"}]
["ob",66717,"Klaus-Dieter","Jürgens","1. BGC Hannover",{"$f":"CONCATENATE(VLOOKUP(A1564,bangolf_kategorien!$A$2:$B$11,2,FALSE),\": \",D1564,\", \",C1564)","v":"SM1: Jürgens, Klaus-Dieter"},{"$f":"VLOOKUP(A1564,bangolf_kategorien!$A$2:$B$11,2,FALSE)","v":"SM1"}]
["og",67491,"Cornelia","Jürgensen","SSV Ulm 1846 Abt. Bahnengolf",{"$f":"CONCATENATE(VLOOKUP(A1565,bangolf_kategorien!$A$2:$B$11,2,FALSE),\": \",D1565,\", \",C1565)","v":"SW1: Jürgensen, Cornelia"},{"$f":"VLOOKUP(A1565,bangolf_kategorien!$A$2:$B$11,2,FALSE)","v":"SW1"}]
["hj",67142,"Jan Uwe","Jürgensen","SSV Ulm 1846 Abt. Bahnengolf",{"$f":"CONCATENATE(VLOOKUP(A1566,bangolf_kategorien!$A$2:$B$11,2,FALSE),\": \",D1566,\", \",C1566)","v":"JM: Jürgensen, Jan Uwe"},{"$f":"VLOOKUP(A1566,bangolf_kategorien!$A$2:$B$11,2,FALSE)","v":"JM"}]
["ob",43273,"Ralf","Jürgensen","SSV Ulm 1846 Abt. Bahnengolf",{"$f":"CONCATENATE(VLOOKUP(A1567,bangolf_kategorien!$A$2:$B$11,2,FALSE),\": \",D1567,\", \",C1567)","v":"SM1: Jürgensen, Ralf"},{"$f":"VLOOKUP(A1567,bangolf_kategorien!$A$2:$B$11,2,FALSE)","v":"SM1"}]
["hj",65559,"Daniel","Jürs","MC Flora Elmshorn",{"$f":"CONCATENATE(VLOOKUP(A1568,bangolf_kategorien!$A$2:$B$11,2,FALSE),\": \",D1568,\", \",C1568)","v":"JM: Jürs, Daniel"},{"$f":"VLOOKUP(A1568,bangolf_kategorien!$A$2:$B$11,2,FALSE)","v":"JM"}]
["hv",43508,"Dieter","Jürs","MC Flora Elmshorn",{"$f":"CONCATENATE(VLOOKUP(A1569,bangolf_kategorien!$A$2:$B$11,2,FALSE),\": \",D1569,\", \",C1569)","v":"SM2: Jürs, Dieter"},{"$f":"VLOOKUP(A1569,bangolf_kategorien!$A$2:$B$11,2,FALSE)","v":"SM2"}]
["dv",43515,"Gabriele","Jürs","MC Flora Elmshorn",{"$f":"CONCATENATE(VLOOKUP(A1570,bangolf_kategorien!$A$2:$B$11,2,FALSE),\": \",D1570,\", \",C1570)","v":"SW2: Jürs, Gabriele"},{"$f":"VLOOKUP(A1570,bangolf_kategorien!$A$2:$B$11,2,FALSE)","v":"SW2"}]
["hs",34656,"Heiko","Jürs","MC Flora Elmshorn",{"$f":"CONCATENATE(VLOOKUP(A1571,bangolf_kategorien!$A$2:$B$11,2,FALSE),\": \",D1571,\", \",C1571)","v":"H: Jürs, Heiko"},{"$f":"VLOOKUP(A1571,bangolf_kategorien!$A$2:$B$11,2,FALSE)","v":"H"}]
["hs",46052,"Mario","Jürs","MC Flora Elmshorn",{"$f":"CONCATENATE(VLOOKUP(A1572,bangolf_kategorien!$A$2:$B$11,2,FALSE),\": \",D1572,\", \",C1572)","v":"H: Jürs, Mario"},{"$f":"VLOOKUP(A1572,bangolf_kategorien!$A$2:$B$11,2,FALSE)","v":"H"}]
["ob",29850,"Michael","Just","1. MGC Süßen",{"$f":"CONCATENATE(VLOOKUP(A1573,bangolf_kategorien!$A$2:$B$11,2,FALSE),\": \",D1573,\", \",C1573)","v":"SM1: Just, Michael"},{"$f":"VLOOKUP(A1573,bangolf_kategorien!$A$2:$B$11,2,FALSE)","v":"SM1"}]
["hs",66282,"Stephan","Jütte","1. MGC Paderborn",{"$f":"CONCATENATE(VLOOKUP(A1574,bangolf_kategorien!$A$2:$B$11,2,FALSE),\": \",D1574,\", \",C1574)","v":"H: Jütte, Stephan"},{"$f":"VLOOKUP(A1574,bangolf_kategorien!$A$2:$B$11,2,FALSE)","v":"H"}]
["ob",37352,"Karsten","Käckenmester","BGC Bremen",{"$f":"CONCATENATE(VLOOKUP(A1575,bangolf_kategorien!$A$2:$B$11,2,FALSE),\": \",D1575,\", \",C1575)","v":"SM1: Käckenmester, Karsten"},{"$f":"VLOOKUP(A1575,bangolf_kategorien!$A$2:$B$11,2,FALSE)","v":"SM1"}]
["og",3209180,"Ines","Kaesler-Neumann","Hobby",{"$f":"CONCATENATE(VLOOKUP(A1576,bangolf_kategorien!$A$2:$B$11,2,FALSE),\": \",D1576,\", \",C1576)","v":"SW1: Kaesler-Neumann, Ines"},{"$f":"VLOOKUP(A1576,bangolf_kategorien!$A$2:$B$11,2,FALSE)","v":"SW1"}]
["og",37468,"Annette","Kaestner","Reinickendorfer MGC",{"$f":"CONCATENATE(VLOOKUP(A1577,bangolf_kategorien!$A$2:$B$11,2,FALSE),\": \",D1577,\", \",C1577)","v":"SW1: Kaestner, Annette"},{"$f":"VLOOKUP(A1577,bangolf_kategorien!$A$2:$B$11,2,FALSE)","v":"SW1"}]
["hv",35182,"Herbert","Kaiser","BSV 86 München",{"$f":"CONCATENATE(VLOOKUP(A1578,bangolf_kategorien!$A$2:$B$11,2,FALSE),\": \",D1578,\", \",C1578)","v":"SM2: Kaiser, Herbert"},{"$f":"VLOOKUP(A1578,bangolf_kategorien!$A$2:$B$11,2,FALSE)","v":"SM2"}]
["hv",43405,"Michael","Kaiser","BGSV Bad Homburg",{"$f":"CONCATENATE(VLOOKUP(A1579,bangolf_kategorien!$A$2:$B$11,2,FALSE),\": \",D1579,\", \",C1579)","v":"SM2: Kaiser, Michael"},{"$f":"VLOOKUP(A1579,bangolf_kategorien!$A$2:$B$11,2,FALSE)","v":"SM2"}]
["dv",3194217,"Renate","Kaiser","Hobby",{"$f":"CONCATENATE(VLOOKUP(A1580,bangolf_kategorien!$A$2:$B$11,2,FALSE),\": \",D1580,\", \",C1580)","v":"SW2: Kaiser, Renate"},{"$f":"VLOOKUP(A1580,bangolf_kategorien!$A$2:$B$11,2,FALSE)","v":"SW2"}]
["ob",46699,"Thomas","Kaiser","MSF Brilon",{"$f":"CONCATENATE(VLOOKUP(A1581,bangolf_kategorien!$A$2:$B$11,2,FALSE),\": \",D1581,\", \",C1581)","v":"SM1: Kaiser, Thomas"},{"$f":"VLOOKUP(A1581,bangolf_kategorien!$A$2:$B$11,2,FALSE)","v":"SM1"}]
["hv",66302,"Alois","Kaisr","BGSV Aßlar 1987",{"$f":"CONCATENATE(VLOOKUP(A1582,bangolf_kategorien!$A$2:$B$11,2,FALSE),\": \",D1582,\", \",C1582)","v":"SM2: Kaisr, Alois"},{"$f":"VLOOKUP(A1582,bangolf_kategorien!$A$2:$B$11,2,FALSE)","v":"SM2"}]
["hs",46573,"Sascha","Kaisr","BGSV Aßlar 1987",{"$f":"CONCATENATE(VLOOKUP(A1583,bangolf_kategorien!$A$2:$B$11,2,FALSE),\": \",D1583,\", \",C1583)","v":"H: Kaisr, Sascha"},{"$f":"VLOOKUP(A1583,bangolf_kategorien!$A$2:$B$11,2,FALSE)","v":"H"}]
["hj",66290,"Lukas","Kalb","MGC Murnau am Staffelsee",{"$f":"CONCATENATE(VLOOKUP(A1584,bangolf_kategorien!$A$2:$B$11,2,FALSE),\": \",D1584,\", \",C1584)","v":"JM: Kalb, Lukas"},{"$f":"VLOOKUP(A1584,bangolf_kategorien!$A$2:$B$11,2,FALSE)","v":"JM"}]
["dv",4222,"Anna","Kalhöfer","MGC \"AS\" Witten 1963",{"$f":"CONCATENATE(VLOOKUP(A1585,bangolf_kategorien!$A$2:$B$11,2,FALSE),\": \",D1585,\", \",C1585)","v":"SW2: Kalhöfer, Anna"},{"$f":"VLOOKUP(A1585,bangolf_kategorien!$A$2:$B$11,2,FALSE)","v":"SW2"}]
["hv",4455,"Manfred","Kalisch","BGSV Aßlar 1987",{"$f":"CONCATENATE(VLOOKUP(A1586,bangolf_kategorien!$A$2:$B$11,2,FALSE),\": \",D1586,\", \",C1586)","v":"SM2: Kalisch, Manfred"},{"$f":"VLOOKUP(A1586,bangolf_kategorien!$A$2:$B$11,2,FALSE)","v":"SM2"}]
["ob",42648,"Roland","Kalka","MSK Olching",{"$f":"CONCATENATE(VLOOKUP(A1587,bangolf_kategorien!$A$2:$B$11,2,FALSE),\": \",D1587,\", \",C1587)","v":"SM1: Kalka, Roland"},{"$f":"VLOOKUP(A1587,bangolf_kategorien!$A$2:$B$11,2,FALSE)","v":"SM1"}]
["ds",34231,"Antje","Kalkbrenner","MGC Bad Salzuflen",{"$f":"CONCATENATE(VLOOKUP(A1588,bangolf_kategorien!$A$2:$B$11,2,FALSE),\": \",D1588,\", \",C1588)","v":"D: Kalkbrenner, Antje"},{"$f":"VLOOKUP(A1588,bangolf_kategorien!$A$2:$B$11,2,FALSE)","v":"D"}]
["ds",67360,"Katja","Kammermaier","BSV 86 München",{"$f":"CONCATENATE(VLOOKUP(A1589,bangolf_kategorien!$A$2:$B$11,2,FALSE),\": \",D1589,\", \",C1589)","v":"D: Kammermaier, Katja"},{"$f":"VLOOKUP(A1589,bangolf_kategorien!$A$2:$B$11,2,FALSE)","v":"D"}]
["dv",35257,"Cornelia","Kampe","TSV Salzgitter Abt. Bahnengolf",{"$f":"CONCATENATE(VLOOKUP(A1590,bangolf_kategorien!$A$2:$B$11,2,FALSE),\": \",D1590,\", \",C1590)","v":"SW2: Kampe, Cornelia"},{"$f":"VLOOKUP(A1590,bangolf_kategorien!$A$2:$B$11,2,FALSE)","v":"SW2"}]
["ob",45597,"Michael","Kampmann","MGC Bad Salzuflen",{"$f":"CONCATENATE(VLOOKUP(A1591,bangolf_kategorien!$A$2:$B$11,2,FALSE),\": \",D1591,\", \",C1591)","v":"SM1: Kampmann, Michael"},{"$f":"VLOOKUP(A1591,bangolf_kategorien!$A$2:$B$11,2,FALSE)","v":"SM1"}]
["ob",40227,"Frank","Kampschulte","SSC Attendorn",{"$f":"CONCATENATE(VLOOKUP(A1592,bangolf_kategorien!$A$2:$B$11,2,FALSE),\": \",D1592,\", \",C1592)","v":"SM1: Kampschulte, Frank"},{"$f":"VLOOKUP(A1592,bangolf_kategorien!$A$2:$B$11,2,FALSE)","v":"SM1"}]
["hs",65827,"Jan-Kevin","Kampschulte","SSC Attendorn",{"$f":"CONCATENATE(VLOOKUP(A1593,bangolf_kategorien!$A$2:$B$11,2,FALSE),\": \",D1593,\", \",C1593)","v":"H: Kampschulte, Jan-Kevin"},{"$f":"VLOOKUP(A1593,bangolf_kategorien!$A$2:$B$11,2,FALSE)","v":"H"}]
["hj",66910,"Hannes","Kandert","TG Höchberg von 1862 Bahnengolf",{"$f":"CONCATENATE(VLOOKUP(A1594,bangolf_kategorien!$A$2:$B$11,2,FALSE),\": \",D1594,\", \",C1594)","v":"JM: Kandert, Hannes"},{"$f":"VLOOKUP(A1594,bangolf_kategorien!$A$2:$B$11,2,FALSE)","v":"JM"}]
["hv",38341,"Harald","Kantor","BGSV Bad Homburg",{"$f":"CONCATENATE(VLOOKUP(A1595,bangolf_kategorien!$A$2:$B$11,2,FALSE),\": \",D1595,\", \",C1595)","v":"SM2: Kantor, Harald"},{"$f":"VLOOKUP(A1595,bangolf_kategorien!$A$2:$B$11,2,FALSE)","v":"SM2"}]
["hs",35774,"Dennis","Kapke","MGC Dormagen-Brechten",{"$f":"CONCATENATE(VLOOKUP(A1596,bangolf_kategorien!$A$2:$B$11,2,FALSE),\": \",D1596,\", \",C1596)","v":"H: Kapke, Dennis"},{"$f":"VLOOKUP(A1596,bangolf_kategorien!$A$2:$B$11,2,FALSE)","v":"H"}]
["dv",28575,"Gabriele","Karas","1. MSC Hamburg-Neu Wulmstorf",{"$f":"CONCATENATE(VLOOKUP(A1597,bangolf_kategorien!$A$2:$B$11,2,FALSE),\": \",D1597,\", \",C1597)","v":"SW2: Karas, Gabriele"},{"$f":"VLOOKUP(A1597,bangolf_kategorien!$A$2:$B$11,2,FALSE)","v":"SW2"}]
["ob",29752,"Bruno","Karcher","1. MGC Tuttlingen",{"$f":"CONCATENATE(VLOOKUP(A1598,bangolf_kategorien!$A$2:$B$11,2,FALSE),\": \",D1598,\", \",C1598)","v":"SM1: Karcher, Bruno"},{"$f":"VLOOKUP(A1598,bangolf_kategorien!$A$2:$B$11,2,FALSE)","v":"SM1"}]
["hv",66886,"Werner","Karcher","BGC Rheinau-Freistett",{"$f":"CONCATENATE(VLOOKUP(A1599,bangolf_kategorien!$A$2:$B$11,2,FALSE),\": \",D1599,\", \",C1599)","v":"SM2: Karcher, Werner"},{"$f":"VLOOKUP(A1599,bangolf_kategorien!$A$2:$B$11,2,FALSE)","v":"SM2"}]
["ob",40087,"Karl","Karduck","1. Münchener MGC",{"$f":"CONCATENATE(VLOOKUP(A1600,bangolf_kategorien!$A$2:$B$11,2,FALSE),\": \",D1600,\", \",C1600)","v":"SM1: Karduck, Karl"},{"$f":"VLOOKUP(A1600,bangolf_kategorien!$A$2:$B$11,2,FALSE)","v":"SM1"}]
["ob",29374,"Jürgen","Karl","MC Ilvesheim",{"$f":"CONCATENATE(VLOOKUP(A1601,bangolf_kategorien!$A$2:$B$11,2,FALSE),\": \",D1601,\", \",C1601)","v":"SM1: Karl, Jürgen"},{"$f":"VLOOKUP(A1601,bangolf_kategorien!$A$2:$B$11,2,FALSE)","v":"SM1"}]
["hv",3326009,"Uwe","Karla","Hobby",{"$f":"CONCATENATE(VLOOKUP(A1602,bangolf_kategorien!$A$2:$B$11,2,FALSE),\": \",D1602,\", \",C1602)","v":"SM2: Karla, Uwe"},{"$f":"VLOOKUP(A1602,bangolf_kategorien!$A$2:$B$11,2,FALSE)","v":"SM2"}]
["ob",25466,"Klaus","Karlitschek","1. MGC Metzingen",{"$f":"CONCATENATE(VLOOKUP(A1603,bangolf_kategorien!$A$2:$B$11,2,FALSE),\": \",D1603,\", \",C1603)","v":"SM1: Karlitschek, Klaus"},{"$f":"VLOOKUP(A1603,bangolf_kategorien!$A$2:$B$11,2,FALSE)","v":"SM1"}]
["hv",18344,"Winfried","Karpa","BGV Backumer Tal Herten",{"$f":"CONCATENATE(VLOOKUP(A1604,bangolf_kategorien!$A$2:$B$11,2,FALSE),\": \",D1604,\", \",C1604)","v":"SM2: Karpa, Winfried"},{"$f":"VLOOKUP(A1604,bangolf_kategorien!$A$2:$B$11,2,FALSE)","v":"SM2"}]
["hv",27122,"Detlef","Kasburg","1. MGC Peine von 1965",{"$f":"CONCATENATE(VLOOKUP(A1605,bangolf_kategorien!$A$2:$B$11,2,FALSE),\": \",D1605,\", \",C1605)","v":"SM2: Kasburg, Detlef"},{"$f":"VLOOKUP(A1605,bangolf_kategorien!$A$2:$B$11,2,FALSE)","v":"SM2"}]
["ob",46970,"Ralf","Käsler","BGC Uerdingen",{"$f":"CONCATENATE(VLOOKUP(A1606,bangolf_kategorien!$A$2:$B$11,2,FALSE),\": \",D1606,\", \",C1606)","v":"SM1: Käsler, Ralf"},{"$f":"VLOOKUP(A1606,bangolf_kategorien!$A$2:$B$11,2,FALSE)","v":"SM1"}]
["pa",67468,"Sky Joèl","Kaspar","BGC Bildstock",{"$f":"CONCATENATE(VLOOKUP(A1607,bangolf_kategorien!$A$2:$B$11,2,FALSE),\": \",D1607,\", \",C1607)","v":"SCHM: Kaspar, Sky Joèl"},{"$f":"VLOOKUP(A1607,bangolf_kategorien!$A$2:$B$11,2,FALSE)","v":"SCHM"}]
["ob",30576,"Stefan","Kaspar","BSV 82 Ohlsbach",{"$f":"CONCATENATE(VLOOKUP(A1608,bangolf_kategorien!$A$2:$B$11,2,FALSE),\": \",D1608,\", \",C1608)","v":"SM1: Kaspar, Stefan"},{"$f":"VLOOKUP(A1608,bangolf_kategorien!$A$2:$B$11,2,FALSE)","v":"SM1"}]
["hv",34120,"Harald","Kaßner","SC Bad Münder Abt. Bahnengolf",{"$f":"CONCATENATE(VLOOKUP(A1609,bangolf_kategorien!$A$2:$B$11,2,FALSE),\": \",D1609,\", \",C1609)","v":"SM2: Kaßner, Harald"},{"$f":"VLOOKUP(A1609,bangolf_kategorien!$A$2:$B$11,2,FALSE)","v":"SM2"}]
["ob",38144,"Holger","Kastner","1. MSC Wesel 6.6.1966",{"$f":"CONCATENATE(VLOOKUP(A1610,bangolf_kategorien!$A$2:$B$11,2,FALSE),\": \",D1610,\", \",C1610)","v":"SM1: Kastner, Holger"},{"$f":"VLOOKUP(A1610,bangolf_kategorien!$A$2:$B$11,2,FALSE)","v":"SM1"}]
["hs",67235,"Fabian","Kauss","1. BGC Celle von 1964",{"$f":"CONCATENATE(VLOOKUP(A1611,bangolf_kategorien!$A$2:$B$11,2,FALSE),\": \",D1611,\", \",C1611)","v":"H: Kauss, Fabian"},{"$f":"VLOOKUP(A1611,bangolf_kategorien!$A$2:$B$11,2,FALSE)","v":"H"}]
["pa",67524,"Zafer","Kececi","BGV Backumer Tal Herten",{"$f":"CONCATENATE(VLOOKUP(A1612,bangolf_kategorien!$A$2:$B$11,2,FALSE),\": \",D1612,\", \",C1612)","v":"SCHM: Kececi, Zafer"},{"$f":"VLOOKUP(A1612,bangolf_kategorien!$A$2:$B$11,2,FALSE)","v":"SCHM"}]
["ob",31250,"Thomas","Kegel","MGC Ostheim / Rhön",{"$f":"CONCATENATE(VLOOKUP(A1613,bangolf_kategorien!$A$2:$B$11,2,FALSE),\": \",D1613,\", \",C1613)","v":"SM1: Kegel, Thomas"},{"$f":"VLOOKUP(A1613,bangolf_kategorien!$A$2:$B$11,2,FALSE)","v":"SM1"}]
["hv",26465,"Roland","Kehl","SGC Hagen",{"$f":"CONCATENATE(VLOOKUP(A1614,bangolf_kategorien!$A$2:$B$11,2,FALSE),\": \",D1614,\", \",C1614)","v":"SM2: Kehl, Roland"},{"$f":"VLOOKUP(A1614,bangolf_kategorien!$A$2:$B$11,2,FALSE)","v":"SM2"}]
["ob",30337,"Karsten","Kehr","BGC Northeim",{"$f":"CONCATENATE(VLOOKUP(A1615,bangolf_kategorien!$A$2:$B$11,2,FALSE),\": \",D1615,\", \",C1615)","v":"SM1: Kehr, Karsten"},{"$f":"VLOOKUP(A1615,bangolf_kategorien!$A$2:$B$11,2,FALSE)","v":"SM1"}]
["hs",65431,"Marcel","Kehr","BGC Northeim",{"$f":"CONCATENATE(VLOOKUP(A1616,bangolf_kategorien!$A$2:$B$11,2,FALSE),\": \",D1616,\", \",C1616)","v":"H: Kehr, Marcel"},{"$f":"VLOOKUP(A1616,bangolf_kategorien!$A$2:$B$11,2,FALSE)","v":"H"}]
["hv",6360,"Hermann","Kehrer","1. MGC Metzingen",{"$f":"CONCATENATE(VLOOKUP(A1617,bangolf_kategorien!$A$2:$B$11,2,FALSE),\": \",D1617,\", \",C1617)","v":"SM2: Kehrer, Hermann"},{"$f":"VLOOKUP(A1617,bangolf_kategorien!$A$2:$B$11,2,FALSE)","v":"SM2"}]
["og",67351,"Marita","Keith","MGC Heven",{"$f":"CONCATENATE(VLOOKUP(A1618,bangolf_kategorien!$A$2:$B$11,2,FALSE),\": \",D1618,\", \",C1618)","v":"SW1: Keith, Marita"},{"$f":"VLOOKUP(A1618,bangolf_kategorien!$A$2:$B$11,2,FALSE)","v":"SW1"}]
["ob",24022,"Andreas","Kelch","Tempelhofer MV Berlin",{"$f":"CONCATENATE(VLOOKUP(A1619,bangolf_kategorien!$A$2:$B$11,2,FALSE),\": \",D1619,\", \",C1619)","v":"SM1: Kelch, Andreas"},{"$f":"VLOOKUP(A1619,bangolf_kategorien!$A$2:$B$11,2,FALSE)","v":"SM1"}]
["ob",29738,"Frank","Keller","TG Höchberg von 1862 Bahnengolf",{"$f":"CONCATENATE(VLOOKUP(A1620,bangolf_kategorien!$A$2:$B$11,2,FALSE),\": \",D1620,\", \",C1620)","v":"SM1: Keller, Frank"},{"$f":"VLOOKUP(A1620,bangolf_kategorien!$A$2:$B$11,2,FALSE)","v":"SM1"}]
["hv",48285,"Franz","Keller","MGC Murnau am Staffelsee",{"$f":"CONCATENATE(VLOOKUP(A1621,bangolf_kategorien!$A$2:$B$11,2,FALSE),\": \",D1621,\", \",C1621)","v":"SM2: Keller, Franz"},{"$f":"VLOOKUP(A1621,bangolf_kategorien!$A$2:$B$11,2,FALSE)","v":"SM2"}]
["ob",67050,"Markus","Keller","Bochumer Minigolf-Club 1960",{"$f":"CONCATENATE(VLOOKUP(A1622,bangolf_kategorien!$A$2:$B$11,2,FALSE),\": \",D1622,\", \",C1622)","v":"SM1: Keller, Markus"},{"$f":"VLOOKUP(A1622,bangolf_kategorien!$A$2:$B$11,2,FALSE)","v":"SM1"}]
["og",22366,"Karin","Kellner","MGC Oberkochen",{"$f":"CONCATENATE(VLOOKUP(A1623,bangolf_kategorien!$A$2:$B$11,2,FALSE),\": \",D1623,\", \",C1623)","v":"SW1: Kellner, Karin"},{"$f":"VLOOKUP(A1623,bangolf_kategorien!$A$2:$B$11,2,FALSE)","v":"SW1"}]
["ds",31656,"Marietheres","Kellner","1. BGC Celle von 1964",{"$f":"CONCATENATE(VLOOKUP(A1624,bangolf_kategorien!$A$2:$B$11,2,FALSE),\": \",D1624,\", \",C1624)","v":"D: Kellner, Marietheres"},{"$f":"VLOOKUP(A1624,bangolf_kategorien!$A$2:$B$11,2,FALSE)","v":"D"}]
["hv",19630,"Rudolf","Kellner","MGC Oberkochen",{"$f":"CONCATENATE(VLOOKUP(A1625,bangolf_kategorien!$A$2:$B$11,2,FALSE),\": \",D1625,\", \",C1625)","v":"SM2: Kellner, Rudolf"},{"$f":"VLOOKUP(A1625,bangolf_kategorien!$A$2:$B$11,2,FALSE)","v":"SM2"}]
["hs",50151,"Christian","Kemler","1.KGC Mönchengladbach",{"$f":"CONCATENATE(VLOOKUP(A1626,bangolf_kategorien!$A$2:$B$11,2,FALSE),\": \",D1626,\", \",C1626)","v":"H: Kemler, Christian"},{"$f":"VLOOKUP(A1626,bangolf_kategorien!$A$2:$B$11,2,FALSE)","v":"H"}]
["dv",955,"Marina","Kempa","1. BGC Wolfsburg",{"$f":"CONCATENATE(VLOOKUP(A1627,bangolf_kategorien!$A$2:$B$11,2,FALSE),\": \",D1627,\", \",C1627)","v":"SW2: Kempa, Marina"},{"$f":"VLOOKUP(A1627,bangolf_kategorien!$A$2:$B$11,2,FALSE)","v":"SW2"}]
["ob",30988,"Norbert","Kempa","1. BGC Wolfsburg",{"$f":"CONCATENATE(VLOOKUP(A1628,bangolf_kategorien!$A$2:$B$11,2,FALSE),\": \",D1628,\", \",C1628)","v":"SM1: Kempa, Norbert"},{"$f":"VLOOKUP(A1628,bangolf_kategorien!$A$2:$B$11,2,FALSE)","v":"SM1"}]
["hv",26658,"Manfred","Kempen","MSC Bad Godesberg",{"$f":"CONCATENATE(VLOOKUP(A1629,bangolf_kategorien!$A$2:$B$11,2,FALSE),\": \",D1629,\", \",C1629)","v":"SM2: Kempen, Manfred"},{"$f":"VLOOKUP(A1629,bangolf_kategorien!$A$2:$B$11,2,FALSE)","v":"SM2"}]
["hs",36920,"Markus","Kempf","BGSV Kerpen",{"$f":"CONCATENATE(VLOOKUP(A1630,bangolf_kategorien!$A$2:$B$11,2,FALSE),\": \",D1630,\", \",C1630)","v":"H: Kempf, Markus"},{"$f":"VLOOKUP(A1630,bangolf_kategorien!$A$2:$B$11,2,FALSE)","v":"H"}]
["hv",38620,"Lutz","Kemsies","Reinickendorfer MGC",{"$f":"CONCATENATE(VLOOKUP(A1631,bangolf_kategorien!$A$2:$B$11,2,FALSE),\": \",D1631,\", \",C1631)","v":"SM2: Kemsies, Lutz"},{"$f":"VLOOKUP(A1631,bangolf_kategorien!$A$2:$B$11,2,FALSE)","v":"SM2"}]
["dv",66655,"Regine","Kemsies","Reinickendorfer MGC",{"$f":"CONCATENATE(VLOOKUP(A1632,bangolf_kategorien!$A$2:$B$11,2,FALSE),\": \",D1632,\", \",C1632)","v":"SW2: Kemsies, Regine"},{"$f":"VLOOKUP(A1632,bangolf_kategorien!$A$2:$B$11,2,FALSE)","v":"SW2"}]
["ob",41862,"Thomas","Kemsies","BGV Bergisch Land 1962 / 63",{"$f":"CONCATENATE(VLOOKUP(A1633,bangolf_kategorien!$A$2:$B$11,2,FALSE),\": \",D1633,\", \",C1633)","v":"SM1: Kemsies, Thomas"},{"$f":"VLOOKUP(A1633,bangolf_kategorien!$A$2:$B$11,2,FALSE)","v":"SM1"}]
["ob",42407,"Udo","Keppler","MGSC Wernau",{"$f":"CONCATENATE(VLOOKUP(A1634,bangolf_kategorien!$A$2:$B$11,2,FALSE),\": \",D1634,\", \",C1634)","v":"SM1: Keppler, Udo"},{"$f":"VLOOKUP(A1634,bangolf_kategorien!$A$2:$B$11,2,FALSE)","v":"SM1"}]
["hv",66536,"Jürgen","Kerk","Hamburger MC von 1965",{"$f":"CONCATENATE(VLOOKUP(A1635,bangolf_kategorien!$A$2:$B$11,2,FALSE),\": \",D1635,\", \",C1635)","v":"SM2: Kerk, Jürgen"},{"$f":"VLOOKUP(A1635,bangolf_kategorien!$A$2:$B$11,2,FALSE)","v":"SM2"}]
["hv",67352,"Uwe","Kersch","MGC Heven",{"$f":"CONCATENATE(VLOOKUP(A1636,bangolf_kategorien!$A$2:$B$11,2,FALSE),\": \",D1636,\", \",C1636)","v":"SM2: Kersch, Uwe"},{"$f":"VLOOKUP(A1636,bangolf_kategorien!$A$2:$B$11,2,FALSE)","v":"SM2"}]
["hs",67069,"Toni","Kersek","MSK Neheim-Hüsten",{"$f":"CONCATENATE(VLOOKUP(A1637,bangolf_kategorien!$A$2:$B$11,2,FALSE),\": \",D1637,\", \",C1637)","v":"H: Kersek, Toni"},{"$f":"VLOOKUP(A1637,bangolf_kategorien!$A$2:$B$11,2,FALSE)","v":"H"}]
["hv",5596,"Kurt","Kersting","1. MGC Kassel 1964",{"$f":"CONCATENATE(VLOOKUP(A1638,bangolf_kategorien!$A$2:$B$11,2,FALSE),\": \",D1638,\", \",C1638)","v":"SM2: Kersting, Kurt"},{"$f":"VLOOKUP(A1638,bangolf_kategorien!$A$2:$B$11,2,FALSE)","v":"SM2"}]
["hv",27324,"Peter","Kesselmeier","1. MGC Paderborn",{"$f":"CONCATENATE(VLOOKUP(A1639,bangolf_kategorien!$A$2:$B$11,2,FALSE),\": \",D1639,\", \",C1639)","v":"SM2: Kesselmeier, Peter"},{"$f":"VLOOKUP(A1639,bangolf_kategorien!$A$2:$B$11,2,FALSE)","v":"SM2"}]
["ob",66397,"Jens","Kesting","Kölner Miniatur Golf Club",{"$f":"CONCATENATE(VLOOKUP(A1640,bangolf_kategorien!$A$2:$B$11,2,FALSE),\": \",D1640,\", \",C1640)","v":"SM1: Kesting, Jens"},{"$f":"VLOOKUP(A1640,bangolf_kategorien!$A$2:$B$11,2,FALSE)","v":"SM1"}]
["ob",48508,"Andreas","Kiefer","Tempelhofer MV Berlin",{"$f":"CONCATENATE(VLOOKUP(A1641,bangolf_kategorien!$A$2:$B$11,2,FALSE),\": \",D1641,\", \",C1641)","v":"SM1: Kiefer, Andreas"},{"$f":"VLOOKUP(A1641,bangolf_kategorien!$A$2:$B$11,2,FALSE)","v":"SM1"}]
["hv",36169,"Peter","Kiehl","MGC Bad Soden-Salmünster",{"$f":"CONCATENATE(VLOOKUP(A1642,bangolf_kategorien!$A$2:$B$11,2,FALSE),\": \",D1642,\", \",C1642)","v":"SM2: Kiehl, Peter"},{"$f":"VLOOKUP(A1642,bangolf_kategorien!$A$2:$B$11,2,FALSE)","v":"SM2"}]
["hv",4114,"Detlev","Kiesow","TSV Kücknitz Abt. Bahnengolf",{"$f":"CONCATENATE(VLOOKUP(A1643,bangolf_kategorien!$A$2:$B$11,2,FALSE),\": \",D1643,\", \",C1643)","v":"SM2: Kiesow, Detlev"},{"$f":"VLOOKUP(A1643,bangolf_kategorien!$A$2:$B$11,2,FALSE)","v":"SM2"}]
["hv",38332,"Georg","Kießling","BGC Schweinfurt",{"$f":"CONCATENATE(VLOOKUP(A1644,bangolf_kategorien!$A$2:$B$11,2,FALSE),\": \",D1644,\", \",C1644)","v":"SM2: Kießling, Georg"},{"$f":"VLOOKUP(A1644,bangolf_kategorien!$A$2:$B$11,2,FALSE)","v":"SM2"}]
["dv",34130,"Christine","Killmaier","Miniaturgolf Sportclub Schriesheim",{"$f":"CONCATENATE(VLOOKUP(A1645,bangolf_kategorien!$A$2:$B$11,2,FALSE),\": \",D1645,\", \",C1645)","v":"SW2: Killmaier, Christine"},{"$f":"VLOOKUP(A1645,bangolf_kategorien!$A$2:$B$11,2,FALSE)","v":"SW2"}]
["ob",40792,"Thilo","Killmaier","Miniaturgolf Sportclub Schriesheim",{"$f":"CONCATENATE(VLOOKUP(A1646,bangolf_kategorien!$A$2:$B$11,2,FALSE),\": \",D1646,\", \",C1646)","v":"SM1: Killmaier, Thilo"},{"$f":"VLOOKUP(A1646,bangolf_kategorien!$A$2:$B$11,2,FALSE)","v":"SM1"}]
["ob",41160,"Oliver","Kindermann","1. MGC Ludwigshafen",{"$f":"CONCATENATE(VLOOKUP(A1647,bangolf_kategorien!$A$2:$B$11,2,FALSE),\": \",D1647,\", \",C1647)","v":"SM1: Kindermann, Oliver"},{"$f":"VLOOKUP(A1647,bangolf_kategorien!$A$2:$B$11,2,FALSE)","v":"SM1"}]
["hv",155,"Jörg Rainer","Kindt","MSV Bad Kreuznach",{"$f":"CONCATENATE(VLOOKUP(A1648,bangolf_kategorien!$A$2:$B$11,2,FALSE),\": \",D1648,\", \",C1648)","v":"SM2: Kindt, Jörg Rainer"},{"$f":"VLOOKUP(A1648,bangolf_kategorien!$A$2:$B$11,2,FALSE)","v":"SM2"}]
["hv",48544,"Jörg","Kinnemann","1. MGC 1970 Göttingen",{"$f":"CONCATENATE(VLOOKUP(A1649,bangolf_kategorien!$A$2:$B$11,2,FALSE),\": \",D1649,\", \",C1649)","v":"SM2: Kinnemann, Jörg"},{"$f":"VLOOKUP(A1649,bangolf_kategorien!$A$2:$B$11,2,FALSE)","v":"SM2"}]
["ob",42971,"Rainer","Kirberg","HMC Büttgen",{"$f":"CONCATENATE(VLOOKUP(A1650,bangolf_kategorien!$A$2:$B$11,2,FALSE),\": \",D1650,\", \",C1650)","v":"SM1: Kirberg, Rainer"},{"$f":"VLOOKUP(A1650,bangolf_kategorien!$A$2:$B$11,2,FALSE)","v":"SM1"}]
["ob",29886,"Manfred","Kirch","1. BGC Wesseling 1975",{"$f":"CONCATENATE(VLOOKUP(A1651,bangolf_kategorien!$A$2:$B$11,2,FALSE),\": \",D1651,\", \",C1651)","v":"SM1: Kirch, Manfred"},{"$f":"VLOOKUP(A1651,bangolf_kategorien!$A$2:$B$11,2,FALSE)","v":"SM1"}]
["dv",6110,"Dagmar","Kirchhoff-Freund","MGC Freizeitzentrum Biebertal",{"$f":"CONCATENATE(VLOOKUP(A1652,bangolf_kategorien!$A$2:$B$11,2,FALSE),\": \",D1652,\", \",C1652)","v":"SW2: Kirchhoff-Freund, Dagmar"},{"$f":"VLOOKUP(A1652,bangolf_kategorien!$A$2:$B$11,2,FALSE)","v":"SW2"}]
["dv",22103,"Helga","Kirgasser","MC Neuwied",{"$f":"CONCATENATE(VLOOKUP(A1653,bangolf_kategorien!$A$2:$B$11,2,FALSE),\": \",D1653,\", \",C1653)","v":"SW2: Kirgasser, Helga"},{"$f":"VLOOKUP(A1653,bangolf_kategorien!$A$2:$B$11,2,FALSE)","v":"SW2"}]
["ob",36810,"Josef","Kirner","MGC Bad Feilnbach",{"$f":"CONCATENATE(VLOOKUP(A1654,bangolf_kategorien!$A$2:$B$11,2,FALSE),\": \",D1654,\", \",C1654)","v":"SM1: Kirner, Josef"},{"$f":"VLOOKUP(A1654,bangolf_kategorien!$A$2:$B$11,2,FALSE)","v":"SM1"}]
["ob",51586,"Stefan","Kirpal","BGC Bad Nenndorf",{"$f":"CONCATENATE(VLOOKUP(A1655,bangolf_kategorien!$A$2:$B$11,2,FALSE),\": \",D1655,\", \",C1655)","v":"SM1: Kirpal, Stefan"},{"$f":"VLOOKUP(A1655,bangolf_kategorien!$A$2:$B$11,2,FALSE)","v":"SM1"}]
["ob",38456,"Michael","Kirschke","Reinickendorfer MGC",{"$f":"CONCATENATE(VLOOKUP(A1656,bangolf_kategorien!$A$2:$B$11,2,FALSE),\": \",D1656,\", \",C1656)","v":"SM1: Kirschke, Michael"},{"$f":"VLOOKUP(A1656,bangolf_kategorien!$A$2:$B$11,2,FALSE)","v":"SM1"}]
["hs",67338,"Tobias","Kirscht","Hamburger MC von 1965",{"$f":"CONCATENATE(VLOOKUP(A1657,bangolf_kategorien!$A$2:$B$11,2,FALSE),\": \",D1657,\", \",C1657)","v":"H: Kirscht, Tobias"},{"$f":"VLOOKUP(A1657,bangolf_kategorien!$A$2:$B$11,2,FALSE)","v":"H"}]
["dv",36686,"Rotraud","Kirstein","MSC Herscheid 1963",{"$f":"CONCATENATE(VLOOKUP(A1658,bangolf_kategorien!$A$2:$B$11,2,FALSE),\": \",D1658,\", \",C1658)","v":"SW2: Kirstein, Rotraud"},{"$f":"VLOOKUP(A1658,bangolf_kategorien!$A$2:$B$11,2,FALSE)","v":"SW2"}]
["hv",64051,"Emil","Kisel","MGF Steinbruch Kempten",{"$f":"CONCATENATE(VLOOKUP(A1659,bangolf_kategorien!$A$2:$B$11,2,FALSE),\": \",D1659,\", \",C1659)","v":"SM2: Kisel, Emil"},{"$f":"VLOOKUP(A1659,bangolf_kategorien!$A$2:$B$11,2,FALSE)","v":"SM2"}]
["hv",4892,"Franz","Kissenkötter","1. MGC Köln 1961",{"$f":"CONCATENATE(VLOOKUP(A1660,bangolf_kategorien!$A$2:$B$11,2,FALSE),\": \",D1660,\", \",C1660)","v":"SM2: Kissenkötter, Franz"},{"$f":"VLOOKUP(A1660,bangolf_kategorien!$A$2:$B$11,2,FALSE)","v":"SM2"}]
["pa",67184,"Lukas","Kitzeder","MSG Kempten",{"$f":"CONCATENATE(VLOOKUP(A1661,bangolf_kategorien!$A$2:$B$11,2,FALSE),\": \",D1661,\", \",C1661)","v":"SCHM: Kitzeder, Lukas"},{"$f":"VLOOKUP(A1661,bangolf_kategorien!$A$2:$B$11,2,FALSE)","v":"SCHM"}]
["hs",41439,"Stefan","Kitzeder","MSG Kempten",{"$f":"CONCATENATE(VLOOKUP(A1662,bangolf_kategorien!$A$2:$B$11,2,FALSE),\": \",D1662,\", \",C1662)","v":"H: Kitzeder, Stefan"},{"$f":"VLOOKUP(A1662,bangolf_kategorien!$A$2:$B$11,2,FALSE)","v":"H"}]
["hs",37762,"Michael","Kitzing","1. Bahnengolf-Club Singen",{"$f":"CONCATENATE(VLOOKUP(A1663,bangolf_kategorien!$A$2:$B$11,2,FALSE),\": \",D1663,\", \",C1663)","v":"H: Kitzing, Michael"},{"$f":"VLOOKUP(A1663,bangolf_kategorien!$A$2:$B$11,2,FALSE)","v":"H"}]
["ob",36924,"Bernd","Klann","MGC Dormagen-Brechten",{"$f":"CONCATENATE(VLOOKUP(A1664,bangolf_kategorien!$A$2:$B$11,2,FALSE),\": \",D1664,\", \",C1664)","v":"SM1: Klann, Bernd"},{"$f":"VLOOKUP(A1664,bangolf_kategorien!$A$2:$B$11,2,FALSE)","v":"SM1"}]
["hv",3832,"Gerd","Klär","Freizeit Club Bliesen",{"$f":"CONCATENATE(VLOOKUP(A1665,bangolf_kategorien!$A$2:$B$11,2,FALSE),\": \",D1665,\", \",C1665)","v":"SM2: Klär, Gerd"},{"$f":"VLOOKUP(A1665,bangolf_kategorien!$A$2:$B$11,2,FALSE)","v":"SM2"}]
["hv",67327,"Heribert","Klarhold","1. BGC Paderborn",{"$f":"CONCATENATE(VLOOKUP(A1666,bangolf_kategorien!$A$2:$B$11,2,FALSE),\": \",D1666,\", \",C1666)","v":"SM2: Klarhold, Heribert"},{"$f":"VLOOKUP(A1666,bangolf_kategorien!$A$2:$B$11,2,FALSE)","v":"SM2"}]
["hv",25842,"Heinz","Kläsgen","MGC Freizeitzentrum Biebertal",{"$f":"CONCATENATE(VLOOKUP(A1667,bangolf_kategorien!$A$2:$B$11,2,FALSE),\": \",D1667,\", \",C1667)","v":"SM2: Kläsgen, Heinz"},{"$f":"VLOOKUP(A1667,bangolf_kategorien!$A$2:$B$11,2,FALSE)","v":"SM2"}]
["hs",34826,"Oleg","Klassen","SG Arheilgen Abt. Bahnengolf",{"$f":"CONCATENATE(VLOOKUP(A1668,bangolf_kategorien!$A$2:$B$11,2,FALSE),\": \",D1668,\", \",C1668)","v":"H: Klassen, Oleg"},{"$f":"VLOOKUP(A1668,bangolf_kategorien!$A$2:$B$11,2,FALSE)","v":"H"}]
["hv",4690,"Walter","Klauke","Miniaturgolf Sportclub Schriesheim",{"$f":"CONCATENATE(VLOOKUP(A1669,bangolf_kategorien!$A$2:$B$11,2,FALSE),\": \",D1669,\", \",C1669)","v":"SM2: Klauke, Walter"},{"$f":"VLOOKUP(A1669,bangolf_kategorien!$A$2:$B$11,2,FALSE)","v":"SM2"}]
["dj",66582,"Liana","Klaus","BGC Bremen",{"$f":"CONCATENATE(VLOOKUP(A1670,bangolf_kategorien!$A$2:$B$11,2,FALSE),\": \",D1670,\", \",C1670)","v":"JW: Klaus, Liana"},{"$f":"VLOOKUP(A1670,bangolf_kategorien!$A$2:$B$11,2,FALSE)","v":"JW"}]
["ob",66581,"Sven","Klaus","BGC Bremen",{"$f":"CONCATENATE(VLOOKUP(A1671,bangolf_kategorien!$A$2:$B$11,2,FALSE),\": \",D1671,\", \",C1671)","v":"SM1: Klaus, Sven"},{"$f":"VLOOKUP(A1671,bangolf_kategorien!$A$2:$B$11,2,FALSE)","v":"SM1"}]
["hs",66597,"Thomas","Klaus","1. BGC Landshut",{"$f":"CONCATENATE(VLOOKUP(A1672,bangolf_kategorien!$A$2:$B$11,2,FALSE),\": \",D1672,\", \",C1672)","v":"H: Klaus, Thomas"},{"$f":"VLOOKUP(A1672,bangolf_kategorien!$A$2:$B$11,2,FALSE)","v":"H"}]
["hv",24092,"Hannes","Klee","MSC Bensheim-Auerbach",{"$f":"CONCATENATE(VLOOKUP(A1673,bangolf_kategorien!$A$2:$B$11,2,FALSE),\": \",D1673,\", \",C1673)","v":"SM2: Klee, Hannes"},{"$f":"VLOOKUP(A1673,bangolf_kategorien!$A$2:$B$11,2,FALSE)","v":"SM2"}]
["hs",36946,"Michael","Klee","1. KC Homburg-Saar 1967",{"$f":"CONCATENATE(VLOOKUP(A1674,bangolf_kategorien!$A$2:$B$11,2,FALSE),\": \",D1674,\", \",C1674)","v":"H: Klee, Michael"},{"$f":"VLOOKUP(A1674,bangolf_kategorien!$A$2:$B$11,2,FALSE)","v":"H"}]
["ob",36072,"Wolfgang","Klee","1. KC Homburg-Saar 1967",{"$f":"CONCATENATE(VLOOKUP(A1675,bangolf_kategorien!$A$2:$B$11,2,FALSE),\": \",D1675,\", \",C1675)","v":"SM1: Klee, Wolfgang"},{"$f":"VLOOKUP(A1675,bangolf_kategorien!$A$2:$B$11,2,FALSE)","v":"SM1"}]
["ob",51267,"Thomas","Kleemann","MGC Bad Homburg vdH",{"$f":"CONCATENATE(VLOOKUP(A1676,bangolf_kategorien!$A$2:$B$11,2,FALSE),\": \",D1676,\", \",C1676)","v":"SM1: Kleemann, Thomas"},{"$f":"VLOOKUP(A1676,bangolf_kategorien!$A$2:$B$11,2,FALSE)","v":"SM1"}]
["dv",34653,"Antje","Klein","SC Gut Heil Neumünster",{"$f":"CONCATENATE(VLOOKUP(A1677,bangolf_kategorien!$A$2:$B$11,2,FALSE),\": \",D1677,\", \",C1677)","v":"SW2: Klein, Antje"},{"$f":"VLOOKUP(A1677,bangolf_kategorien!$A$2:$B$11,2,FALSE)","v":"SW2"}]
["hv",36277,"Bernd","Klein","SSC Halver",{"$f":"CONCATENATE(VLOOKUP(A1678,bangolf_kategorien!$A$2:$B$11,2,FALSE),\": \",D1678,\", \",C1678)","v":"SM2: Klein, Bernd"},{"$f":"VLOOKUP(A1678,bangolf_kategorien!$A$2:$B$11,2,FALSE)","v":"SM2"}]
["ob",42309,"Chris","Klein","1. KC Homburg-Saar 1967",{"$f":"CONCATENATE(VLOOKUP(A1679,bangolf_kategorien!$A$2:$B$11,2,FALSE),\": \",D1679,\", \",C1679)","v":"SM1: Klein, Chris"},{"$f":"VLOOKUP(A1679,bangolf_kategorien!$A$2:$B$11,2,FALSE)","v":"SM1"}]
["ob",46240,"Detlef","Klein","MGC Bad Salzuflen",{"$f":"CONCATENATE(VLOOKUP(A1680,bangolf_kategorien!$A$2:$B$11,2,FALSE),\": \",D1680,\", \",C1680)","v":"SM1: Klein, Detlef"},{"$f":"VLOOKUP(A1680,bangolf_kategorien!$A$2:$B$11,2,FALSE)","v":"SM1"}]
["hv",7074,"Heinz Günter","Klein","1.KGC Mönchengladbach",{"$f":"CONCATENATE(VLOOKUP(A1681,bangolf_kategorien!$A$2:$B$11,2,FALSE),\": \",D1681,\", \",C1681)","v":"SM2: Klein, Heinz Günter"},{"$f":"VLOOKUP(A1681,bangolf_kategorien!$A$2:$B$11,2,FALSE)","v":"SM2"}]
["hv",4762,"Helge","Klein","MSC Bad Godesberg",{"$f":"CONCATENATE(VLOOKUP(A1682,bangolf_kategorien!$A$2:$B$11,2,FALSE),\": \",D1682,\", \",C1682)","v":"SM2: Klein, Helge"},{"$f":"VLOOKUP(A1682,bangolf_kategorien!$A$2:$B$11,2,FALSE)","v":"SM2"}]
["og",34233,"Kerstin","Klein","1. BGC Hannover",{"$f":"CONCATENATE(VLOOKUP(A1683,bangolf_kategorien!$A$2:$B$11,2,FALSE),\": \",D1683,\", \",C1683)","v":"SW1: Klein, Kerstin"},{"$f":"VLOOKUP(A1683,bangolf_kategorien!$A$2:$B$11,2,FALSE)","v":"SW1"}]
["og",42305,"Kerstin","Klein","MGC Bad Salzuflen",{"$f":"CONCATENATE(VLOOKUP(A1684,bangolf_kategorien!$A$2:$B$11,2,FALSE),\": \",D1684,\", \",C1684)","v":"SW1: Klein, Kerstin"},{"$f":"VLOOKUP(A1684,bangolf_kategorien!$A$2:$B$11,2,FALSE)","v":"SW1"}]
["hs",48337,"Marcel","Klein","MGC putter Künzell 1970",{"$f":"CONCATENATE(VLOOKUP(A1685,bangolf_kategorien!$A$2:$B$11,2,FALSE),\": \",D1685,\", \",C1685)","v":"H: Klein, Marcel"},{"$f":"VLOOKUP(A1685,bangolf_kategorien!$A$2:$B$11,2,FALSE)","v":"H"}]
["hs",38406,"Max","Klein","1. KC Homburg-Saar 1967",{"$f":"CONCATENATE(VLOOKUP(A1686,bangolf_kategorien!$A$2:$B$11,2,FALSE),\": \",D1686,\", \",C1686)","v":"H: Klein, Max"},{"$f":"VLOOKUP(A1686,bangolf_kategorien!$A$2:$B$11,2,FALSE)","v":"H"}]
["ob",67464,"Michael","Klein","1. BGC Hannover",{"$f":"CONCATENATE(VLOOKUP(A1687,bangolf_kategorien!$A$2:$B$11,2,FALSE),\": \",D1687,\", \",C1687)","v":"SM1: Klein, Michael"},{"$f":"VLOOKUP(A1687,bangolf_kategorien!$A$2:$B$11,2,FALSE)","v":"SM1"}]
["hv",19531,"Peter","Klein","MC Ilvesheim",{"$f":"CONCATENATE(VLOOKUP(A1688,bangolf_kategorien!$A$2:$B$11,2,FALSE),\": \",D1688,\", \",C1688)","v":"SM2: Klein, Peter"},{"$f":"VLOOKUP(A1688,bangolf_kategorien!$A$2:$B$11,2,FALSE)","v":"SM2"}]
["og",36474,"Sabine","Klein","HMC Büttgen",{"$f":"CONCATENATE(VLOOKUP(A1689,bangolf_kategorien!$A$2:$B$11,2,FALSE),\": \",D1689,\", \",C1689)","v":"SW1: Klein, Sabine"},{"$f":"VLOOKUP(A1689,bangolf_kategorien!$A$2:$B$11,2,FALSE)","v":"SW1"}]
["hv",40219,"Theo","Klein","SSC Halver",{"$f":"CONCATENATE(VLOOKUP(A1690,bangolf_kategorien!$A$2:$B$11,2,FALSE),\": \",D1690,\", \",C1690)","v":"SM2: Klein, Theo"},{"$f":"VLOOKUP(A1690,bangolf_kategorien!$A$2:$B$11,2,FALSE)","v":"SM2"}]
["hv",29324,"Wolfgang","Klein","1. MGSV Netphen",{"$f":"CONCATENATE(VLOOKUP(A1691,bangolf_kategorien!$A$2:$B$11,2,FALSE),\": \",D1691,\", \",C1691)","v":"SM2: Klein, Wolfgang"},{"$f":"VLOOKUP(A1691,bangolf_kategorien!$A$2:$B$11,2,FALSE)","v":"SM2"}]
["ob",38606,"Bernward","Kleiner","1. BGC Hannover",{"$f":"CONCATENATE(VLOOKUP(A1692,bangolf_kategorien!$A$2:$B$11,2,FALSE),\": \",D1692,\", \",C1692)","v":"SM1: Kleiner, Bernward"},{"$f":"VLOOKUP(A1692,bangolf_kategorien!$A$2:$B$11,2,FALSE)","v":"SM1"}]
["hs",38519,"Philipp","Kleiner","MSK Neheim-Hüsten",{"$f":"CONCATENATE(VLOOKUP(A1693,bangolf_kategorien!$A$2:$B$11,2,FALSE),\": \",D1693,\", \",C1693)","v":"H: Kleiner, Philipp"},{"$f":"VLOOKUP(A1693,bangolf_kategorien!$A$2:$B$11,2,FALSE)","v":"H"}]
["og",38607,"Sabine","Kleiner","1. BGC Hannover",{"$f":"CONCATENATE(VLOOKUP(A1694,bangolf_kategorien!$A$2:$B$11,2,FALSE),\": \",D1694,\", \",C1694)","v":"SW1: Kleiner, Sabine"},{"$f":"VLOOKUP(A1694,bangolf_kategorien!$A$2:$B$11,2,FALSE)","v":"SW1"}]
["hs",38462,"Tristan","Kleiner","1. BGC Wolfsburg",{"$f":"CONCATENATE(VLOOKUP(A1695,bangolf_kategorien!$A$2:$B$11,2,FALSE),\": \",D1695,\", \",C1695)","v":"H: Kleiner, Tristan"},{"$f":"VLOOKUP(A1695,bangolf_kategorien!$A$2:$B$11,2,FALSE)","v":"H"}]
["pa",66947,"Robin","Kleinke","SSC Attendorn",{"$f":"CONCATENATE(VLOOKUP(A1696,bangolf_kategorien!$A$2:$B$11,2,FALSE),\": \",D1696,\", \",C1696)","v":"SCHM: Kleinke, Robin"},{"$f":"VLOOKUP(A1696,bangolf_kategorien!$A$2:$B$11,2,FALSE)","v":"SCHM"}]
["hv",3211947,"Werner","Kleist","Hobby",{"$f":"CONCATENATE(VLOOKUP(A1697,bangolf_kategorien!$A$2:$B$11,2,FALSE),\": \",D1697,\", \",C1697)","v":"SM2: Kleist, Werner"},{"$f":"VLOOKUP(A1697,bangolf_kategorien!$A$2:$B$11,2,FALSE)","v":"SM2"}]
["hs",37962,"Marc Dominik","Klemm","1. KC Homburg-Saar 1967",{"$f":"CONCATENATE(VLOOKUP(A1698,bangolf_kategorien!$A$2:$B$11,2,FALSE),\": \",D1698,\", \",C1698)","v":"H: Klemm, Marc Dominik"},{"$f":"VLOOKUP(A1698,bangolf_kategorien!$A$2:$B$11,2,FALSE)","v":"H"}]
["pa",67463,"Kai","Klenzmann","1. BGC Hannover",{"$f":"CONCATENATE(VLOOKUP(A1699,bangolf_kategorien!$A$2:$B$11,2,FALSE),\": \",D1699,\", \",C1699)","v":"SCHM: Klenzmann, Kai"},{"$f":"VLOOKUP(A1699,bangolf_kategorien!$A$2:$B$11,2,FALSE)","v":"SCHM"}]
["pa",67462,"Till","Klenzmann","1. BGC Hannover",{"$f":"CONCATENATE(VLOOKUP(A1700,bangolf_kategorien!$A$2:$B$11,2,FALSE),\": \",D1700,\", \",C1700)","v":"SCHM: Klenzmann, Till"},{"$f":"VLOOKUP(A1700,bangolf_kategorien!$A$2:$B$11,2,FALSE)","v":"SCHM"}]
["dv",3106434,"Ursula","Klepp","Hobby",{"$f":"CONCATENATE(VLOOKUP(A1701,bangolf_kategorien!$A$2:$B$11,2,FALSE),\": \",D1701,\", \",C1701)","v":"SW2: Klepp, Ursula"},{"$f":"VLOOKUP(A1701,bangolf_kategorien!$A$2:$B$11,2,FALSE)","v":"SW2"}]
["og",30450,"Alexandra","Klepzig","Hobby",{"$f":"CONCATENATE(VLOOKUP(A1702,bangolf_kategorien!$A$2:$B$11,2,FALSE),\": \",D1702,\", \",C1702)","v":"SW1: Klepzig, Alexandra"},{"$f":"VLOOKUP(A1702,bangolf_kategorien!$A$2:$B$11,2,FALSE)","v":"SW1"}]
["pa",67232,"Felix","Klepzig","Minigolfclub Karlshagen",{"$f":"CONCATENATE(VLOOKUP(A1703,bangolf_kategorien!$A$2:$B$11,2,FALSE),\": \",D1703,\", \",C1703)","v":"SCHM: Klepzig, Felix"},{"$f":"VLOOKUP(A1703,bangolf_kategorien!$A$2:$B$11,2,FALSE)","v":"SCHM"}]
["hv",6025,"Erich","Kleyer","BGSV Castrop 1961",{"$f":"CONCATENATE(VLOOKUP(A1704,bangolf_kategorien!$A$2:$B$11,2,FALSE),\": \",D1704,\", \",C1704)","v":"SM2: Kleyer, Erich"},{"$f":"VLOOKUP(A1704,bangolf_kategorien!$A$2:$B$11,2,FALSE)","v":"SM2"}]
["hv",182,"Michael","Kleyer","BGSV Castrop 1961",{"$f":"CONCATENATE(VLOOKUP(A1705,bangolf_kategorien!$A$2:$B$11,2,FALSE),\": \",D1705,\", \",C1705)","v":"SM2: Kleyer, Michael"},{"$f":"VLOOKUP(A1705,bangolf_kategorien!$A$2:$B$11,2,FALSE)","v":"SM2"}]
["og",67489,"Katja","Kling","1. MGC Tuttlingen",{"$f":"CONCATENATE(VLOOKUP(A1706,bangolf_kategorien!$A$2:$B$11,2,FALSE),\": \",D1706,\", \",C1706)","v":"SW1: Kling, Katja"},{"$f":"VLOOKUP(A1706,bangolf_kategorien!$A$2:$B$11,2,FALSE)","v":"SW1"}]
["dv",66510,"Martina","Kling","BGSC Bochum 1978",{"$f":"CONCATENATE(VLOOKUP(A1707,bangolf_kategorien!$A$2:$B$11,2,FALSE),\": \",D1707,\", \",C1707)","v":"SW2: Kling, Martina"},{"$f":"VLOOKUP(A1707,bangolf_kategorien!$A$2:$B$11,2,FALSE)","v":"SW2"}]
["hv",66511,"Peter","Kling","BGSC Bochum 1978",{"$f":"CONCATENATE(VLOOKUP(A1708,bangolf_kategorien!$A$2:$B$11,2,FALSE),\": \",D1708,\", \",C1708)","v":"SM2: Kling, Peter"},{"$f":"VLOOKUP(A1708,bangolf_kategorien!$A$2:$B$11,2,FALSE)","v":"SM2"}]
["hs",65814,"Björn","Klingelhöfer","CGC Rauschenberg",{"$f":"CONCATENATE(VLOOKUP(A1709,bangolf_kategorien!$A$2:$B$11,2,FALSE),\": \",D1709,\", \",C1709)","v":"H: Klingelhöfer, Björn"},{"$f":"VLOOKUP(A1709,bangolf_kategorien!$A$2:$B$11,2,FALSE)","v":"H"}]
["hv",24658,"Wilfried","Klipp","BV Sennestadt",{"$f":"CONCATENATE(VLOOKUP(A1710,bangolf_kategorien!$A$2:$B$11,2,FALSE),\": \",D1710,\", \",C1710)","v":"SM2: Klipp, Wilfried"},{"$f":"VLOOKUP(A1710,bangolf_kategorien!$A$2:$B$11,2,FALSE)","v":"SM2"}]
["og",45786,"Astrid","Klöckener","MSK Neheim-Hüsten",{"$f":"CONCATENATE(VLOOKUP(A1711,bangolf_kategorien!$A$2:$B$11,2,FALSE),\": \",D1711,\", \",C1711)","v":"SW1: Klöckener, Astrid"},{"$f":"VLOOKUP(A1711,bangolf_kategorien!$A$2:$B$11,2,FALSE)","v":"SW1"}]
["hj",66309,"Lauro","Klöckener","MSK Neheim-Hüsten",{"$f":"CONCATENATE(VLOOKUP(A1712,bangolf_kategorien!$A$2:$B$11,2,FALSE),\": \",D1712,\", \",C1712)","v":"JM: Klöckener, Lauro"},{"$f":"VLOOKUP(A1712,bangolf_kategorien!$A$2:$B$11,2,FALSE)","v":"JM"}]
["ob",45785,"Sven","Klöckener","MSK Neheim-Hüsten",{"$f":"CONCATENATE(VLOOKUP(A1713,bangolf_kategorien!$A$2:$B$11,2,FALSE),\": \",D1713,\", \",C1713)","v":"SM1: Klöckener, Sven"},{"$f":"VLOOKUP(A1713,bangolf_kategorien!$A$2:$B$11,2,FALSE)","v":"SM1"}]
["dv",5257,"Katharina","Klöhn","MSK Olching",{"$f":"CONCATENATE(VLOOKUP(A1714,bangolf_kategorien!$A$2:$B$11,2,FALSE),\": \",D1714,\", \",C1714)","v":"SW2: Klöhn, Katharina"},{"$f":"VLOOKUP(A1714,bangolf_kategorien!$A$2:$B$11,2,FALSE)","v":"SW2"}]
["ob",45781,"Olaf","Kloke","MSK Neheim-Hüsten",{"$f":"CONCATENATE(VLOOKUP(A1715,bangolf_kategorien!$A$2:$B$11,2,FALSE),\": \",D1715,\", \",C1715)","v":"SM1: Kloke, Olaf"},{"$f":"VLOOKUP(A1715,bangolf_kategorien!$A$2:$B$11,2,FALSE)","v":"SM1"}]
["hs",33504,"Sebastian","Klosek","BGC Bad Nenndorf",{"$f":"CONCATENATE(VLOOKUP(A1716,bangolf_kategorien!$A$2:$B$11,2,FALSE),\": \",D1716,\", \",C1716)","v":"H: Klosek, Sebastian"},{"$f":"VLOOKUP(A1716,bangolf_kategorien!$A$2:$B$11,2,FALSE)","v":"H"}]
["ob",33187,"Christian","Klotz","1. MGC Süßen",{"$f":"CONCATENATE(VLOOKUP(A1717,bangolf_kategorien!$A$2:$B$11,2,FALSE),\": \",D1717,\", \",C1717)","v":"SM1: Klotz, Christian"},{"$f":"VLOOKUP(A1717,bangolf_kategorien!$A$2:$B$11,2,FALSE)","v":"SM1"}]
["og",35375,"Sandra","Klotz","1. MGC Süßen",{"$f":"CONCATENATE(VLOOKUP(A1718,bangolf_kategorien!$A$2:$B$11,2,FALSE),\": \",D1718,\", \",C1718)","v":"SW1: Klotz, Sandra"},{"$f":"VLOOKUP(A1718,bangolf_kategorien!$A$2:$B$11,2,FALSE)","v":"SW1"}]
["hs",65955,"Sascha","Klotz","BGSV Aßlar 1987",{"$f":"CONCATENATE(VLOOKUP(A1719,bangolf_kategorien!$A$2:$B$11,2,FALSE),\": \",D1719,\", \",C1719)","v":"H: Klotz, Sascha"},{"$f":"VLOOKUP(A1719,bangolf_kategorien!$A$2:$B$11,2,FALSE)","v":"H"}]
["ob",45514,"Matthias","Klug","1. MGC Mainz",{"$f":"CONCATENATE(VLOOKUP(A1720,bangolf_kategorien!$A$2:$B$11,2,FALSE),\": \",D1720,\", \",C1720)","v":"SM1: Klug, Matthias"},{"$f":"VLOOKUP(A1720,bangolf_kategorien!$A$2:$B$11,2,FALSE)","v":"SM1"}]
["ob",43187,"Joachim","Knapp","SG Arheilgen Abt. Bahnengolf",{"$f":"CONCATENATE(VLOOKUP(A1721,bangolf_kategorien!$A$2:$B$11,2,FALSE),\": \",D1721,\", \",C1721)","v":"SM1: Knapp, Joachim"},{"$f":"VLOOKUP(A1721,bangolf_kategorien!$A$2:$B$11,2,FALSE)","v":"SM1"}]
["ob",21452,"Markus","Knauer","BGC Bremen",{"$f":"CONCATENATE(VLOOKUP(A1722,bangolf_kategorien!$A$2:$B$11,2,FALSE),\": \",D1722,\", \",C1722)","v":"SM1: Knauer, Markus"},{"$f":"VLOOKUP(A1722,bangolf_kategorien!$A$2:$B$11,2,FALSE)","v":"SM1"}]
["hs",38039,"Nico","Knäulein","MGV Ansbach",{"$f":"CONCATENATE(VLOOKUP(A1723,bangolf_kategorien!$A$2:$B$11,2,FALSE),\": \",D1723,\", \",C1723)","v":"H: Knäulein, Nico"},{"$f":"VLOOKUP(A1723,bangolf_kategorien!$A$2:$B$11,2,FALSE)","v":"H"}]
["ds",34707,"Corina","Knezevic","BGC Neutraubling",{"$f":"CONCATENATE(VLOOKUP(A1724,bangolf_kategorien!$A$2:$B$11,2,FALSE),\": \",D1724,\", \",C1724)","v":"D: Knezevic, Corina"},{"$f":"VLOOKUP(A1724,bangolf_kategorien!$A$2:$B$11,2,FALSE)","v":"D"}]
["ds",36090,"Vanessea","Knezevic","BGC Neutraubling",{"$f":"CONCATENATE(VLOOKUP(A1725,bangolf_kategorien!$A$2:$B$11,2,FALSE),\": \",D1725,\", \",C1725)","v":"D: Knezevic, Vanessea"},{"$f":"VLOOKUP(A1725,bangolf_kategorien!$A$2:$B$11,2,FALSE)","v":"D"}]
["ob",3304410,"Uwe","Knierim","Hobby",{"$f":"CONCATENATE(VLOOKUP(A1726,bangolf_kategorien!$A$2:$B$11,2,FALSE),\": \",D1726,\", \",C1726)","v":"SM1: Knierim, Uwe"},{"$f":"VLOOKUP(A1726,bangolf_kategorien!$A$2:$B$11,2,FALSE)","v":"SM1"}]
["og",41828,"Katja","Kniesch","1. BGC Hannover",{"$f":"CONCATENATE(VLOOKUP(A1727,bangolf_kategorien!$A$2:$B$11,2,FALSE),\": \",D1727,\", \",C1727)","v":"SW1: Kniesch, Katja"},{"$f":"VLOOKUP(A1727,bangolf_kategorien!$A$2:$B$11,2,FALSE)","v":"SW1"}]
["hv",35356,"Dieter","Knietsch","1. MGC Peine von 1965",{"$f":"CONCATENATE(VLOOKUP(A1728,bangolf_kategorien!$A$2:$B$11,2,FALSE),\": \",D1728,\", \",C1728)","v":"SM2: Knietsch, Dieter"},{"$f":"VLOOKUP(A1728,bangolf_kategorien!$A$2:$B$11,2,FALSE)","v":"SM2"}]
["dv",35357,"Teresa","Knietsch","1. MGC Peine von 1965",{"$f":"CONCATENATE(VLOOKUP(A1729,bangolf_kategorien!$A$2:$B$11,2,FALSE),\": \",D1729,\", \",C1729)","v":"SW2: Knietsch, Teresa"},{"$f":"VLOOKUP(A1729,bangolf_kategorien!$A$2:$B$11,2,FALSE)","v":"SW2"}]
["hv",25352,"Ralf","Knippschild","1. MSC Wesel 6.6.1966",{"$f":"CONCATENATE(VLOOKUP(A1730,bangolf_kategorien!$A$2:$B$11,2,FALSE),\": \",D1730,\", \",C1730)","v":"SM2: Knippschild, Ralf"},{"$f":"VLOOKUP(A1730,bangolf_kategorien!$A$2:$B$11,2,FALSE)","v":"SM2"}]
["hs",38155,"Jan","Knoblauch","BGSC \"Gut Schlag\" Gladbeck",{"$f":"CONCATENATE(VLOOKUP(A1731,bangolf_kategorien!$A$2:$B$11,2,FALSE),\": \",D1731,\", \",C1731)","v":"H: Knoblauch, Jan"},{"$f":"VLOOKUP(A1731,bangolf_kategorien!$A$2:$B$11,2,FALSE)","v":"H"}]
["dv",35266,"Bianca","Knoll","MC Ilvesheim",{"$f":"CONCATENATE(VLOOKUP(A1732,bangolf_kategorien!$A$2:$B$11,2,FALSE),\": \",D1732,\", \",C1732)","v":"SW2: Knoll, Bianca"},{"$f":"VLOOKUP(A1732,bangolf_kategorien!$A$2:$B$11,2,FALSE)","v":"SW2"}]
["hv",46684,"Wolfgang","Knoll","MC Ilvesheim",{"$f":"CONCATENATE(VLOOKUP(A1733,bangolf_kategorien!$A$2:$B$11,2,FALSE),\": \",D1733,\", \",C1733)","v":"SM2: Knoll, Wolfgang"},{"$f":"VLOOKUP(A1733,bangolf_kategorien!$A$2:$B$11,2,FALSE)","v":"SM2"}]
["ds",48641,"Nicole","Knöll-Grünenthal","TSV Pfungstadt Abt. Bahnengolf",{"$f":"CONCATENATE(VLOOKUP(A1734,bangolf_kategorien!$A$2:$B$11,2,FALSE),\": \",D1734,\", \",C1734)","v":"D: Knöll-Grünenthal, Nicole"},{"$f":"VLOOKUP(A1734,bangolf_kategorien!$A$2:$B$11,2,FALSE)","v":"D"}]
["ob",29869,"Dietmar","Knorr","BGS Hardenberg-Pötter",{"$f":"CONCATENATE(VLOOKUP(A1735,bangolf_kategorien!$A$2:$B$11,2,FALSE),\": \",D1735,\", \",C1735)","v":"SM1: Knorr, Dietmar"},{"$f":"VLOOKUP(A1735,bangolf_kategorien!$A$2:$B$11,2,FALSE)","v":"SM1"}]
["hs",67445,"Miguel","Knorr","SSV Ulm 1846 Abt. Bahnengolf",{"$f":"CONCATENATE(VLOOKUP(A1736,bangolf_kategorien!$A$2:$B$11,2,FALSE),\": \",D1736,\", \",C1736)","v":"H: Knorr, Miguel"},{"$f":"VLOOKUP(A1736,bangolf_kategorien!$A$2:$B$11,2,FALSE)","v":"H"}]
["hv",3935,"Helmut","Knott","BSV 86 München",{"$f":"CONCATENATE(VLOOKUP(A1737,bangolf_kategorien!$A$2:$B$11,2,FALSE),\": \",D1737,\", \",C1737)","v":"SM2: Knott, Helmut"},{"$f":"VLOOKUP(A1737,bangolf_kategorien!$A$2:$B$11,2,FALSE)","v":"SM2"}]
["dv",46124,"Irene","Knott","BSV 86 München",{"$f":"CONCATENATE(VLOOKUP(A1738,bangolf_kategorien!$A$2:$B$11,2,FALSE),\": \",D1738,\", \",C1738)","v":"SW2: Knott, Irene"},{"$f":"VLOOKUP(A1738,bangolf_kategorien!$A$2:$B$11,2,FALSE)","v":"SW2"}]
["ob",67164,"Stefan","Knull","BV Sennestadt",{"$f":"CONCATENATE(VLOOKUP(A1739,bangolf_kategorien!$A$2:$B$11,2,FALSE),\": \",D1739,\", \",C1739)","v":"SM1: Knull, Stefan"},{"$f":"VLOOKUP(A1739,bangolf_kategorien!$A$2:$B$11,2,FALSE)","v":"SM1"}]
["ob",25613,"Uwe","Knust","BGC Bad Nenndorf",{"$f":"CONCATENATE(VLOOKUP(A1740,bangolf_kategorien!$A$2:$B$11,2,FALSE),\": \",D1740,\", \",C1740)","v":"SM1: Knust, Uwe"},{"$f":"VLOOKUP(A1740,bangolf_kategorien!$A$2:$B$11,2,FALSE)","v":"SM1"}]
["hs",38374,"Philip","Kobbe","1. BGC Wolfsburg",{"$f":"CONCATENATE(VLOOKUP(A1741,bangolf_kategorien!$A$2:$B$11,2,FALSE),\": \",D1741,\", \",C1741)","v":"H: Kobbe, Philip"},{"$f":"VLOOKUP(A1741,bangolf_kategorien!$A$2:$B$11,2,FALSE)","v":"H"}]
["og",66636,"Marion","Kober","MSC Bensheim-Auerbach",{"$f":"CONCATENATE(VLOOKUP(A1742,bangolf_kategorien!$A$2:$B$11,2,FALSE),\": \",D1742,\", \",C1742)","v":"SW1: Kober, Marion"},{"$f":"VLOOKUP(A1742,bangolf_kategorien!$A$2:$B$11,2,FALSE)","v":"SW1"}]
["hj",66641,"Patrick","Kober","MSC Bensheim-Auerbach",{"$f":"CONCATENATE(VLOOKUP(A1743,bangolf_kategorien!$A$2:$B$11,2,FALSE),\": \",D1743,\", \",C1743)","v":"JM: Kober, Patrick"},{"$f":"VLOOKUP(A1743,bangolf_kategorien!$A$2:$B$11,2,FALSE)","v":"JM"}]
["ob",21472,"Markus","Köberle","1. MGC Ladenburg",{"$f":"CONCATENATE(VLOOKUP(A1744,bangolf_kategorien!$A$2:$B$11,2,FALSE),\": \",D1744,\", \",C1744)","v":"SM1: Köberle, Markus"},{"$f":"VLOOKUP(A1744,bangolf_kategorien!$A$2:$B$11,2,FALSE)","v":"SM1"}]
["og",27565,"Alice","Kobisch","1. MGC Mainz",{"$f":"CONCATENATE(VLOOKUP(A1745,bangolf_kategorien!$A$2:$B$11,2,FALSE),\": \",D1745,\", \",C1745)","v":"SW1: Kobisch, Alice"},{"$f":"VLOOKUP(A1745,bangolf_kategorien!$A$2:$B$11,2,FALSE)","v":"SW1"}]
["ob",27551,"Roman","Kobisch","1. MGC Mainz",{"$f":"CONCATENATE(VLOOKUP(A1746,bangolf_kategorien!$A$2:$B$11,2,FALSE),\": \",D1746,\", \",C1746)","v":"SM1: Kobisch, Roman"},{"$f":"VLOOKUP(A1746,bangolf_kategorien!$A$2:$B$11,2,FALSE)","v":"SM1"}]
["ob",47206,"Konrad","Koböck","MGF Hammer",{"$f":"CONCATENATE(VLOOKUP(A1747,bangolf_kategorien!$A$2:$B$11,2,FALSE),\": \",D1747,\", \",C1747)","v":"SM1: Koböck, Konrad"},{"$f":"VLOOKUP(A1747,bangolf_kategorien!$A$2:$B$11,2,FALSE)","v":"SM1"}]
["ob",45575,"Robert","Koböck","MGF Hammer",{"$f":"CONCATENATE(VLOOKUP(A1748,bangolf_kategorien!$A$2:$B$11,2,FALSE),\": \",D1748,\", \",C1748)","v":"SM1: Koböck, Robert"},{"$f":"VLOOKUP(A1748,bangolf_kategorien!$A$2:$B$11,2,FALSE)","v":"SM1"}]
["og",43836,"Anja","Koch","MGC Brunsbüttel",{"$f":"CONCATENATE(VLOOKUP(A1749,bangolf_kategorien!$A$2:$B$11,2,FALSE),\": \",D1749,\", \",C1749)","v":"SW1: Koch, Anja"},{"$f":"VLOOKUP(A1749,bangolf_kategorien!$A$2:$B$11,2,FALSE)","v":"SW1"}]
["hj",67381,"Dennis","Koch","BGSV Bad Homburg",{"$f":"CONCATENATE(VLOOKUP(A1750,bangolf_kategorien!$A$2:$B$11,2,FALSE),\": \",D1750,\", \",C1750)","v":"JM: Koch, Dennis"},{"$f":"VLOOKUP(A1750,bangolf_kategorien!$A$2:$B$11,2,FALSE)","v":"JM"}]
["ob",52103,"Jens","Koch","BGC Kiel West",{"$f":"CONCATENATE(VLOOKUP(A1751,bangolf_kategorien!$A$2:$B$11,2,FALSE),\": \",D1751,\", \",C1751)","v":"SM1: Koch, Jens"},{"$f":"VLOOKUP(A1751,bangolf_kategorien!$A$2:$B$11,2,FALSE)","v":"SM1"}]
["ob",67375,"Jürgen","Koch","1.KGC Mönchengladbach",{"$f":"CONCATENATE(VLOOKUP(A1752,bangolf_kategorien!$A$2:$B$11,2,FALSE),\": \",D1752,\", \",C1752)","v":"SM1: Koch, Jürgen"},{"$f":"VLOOKUP(A1752,bangolf_kategorien!$A$2:$B$11,2,FALSE)","v":"SM1"}]
["hs",66490,"Kevin","Koch","VFB 21 Neugattersleben",{"$f":"CONCATENATE(VLOOKUP(A1753,bangolf_kategorien!$A$2:$B$11,2,FALSE),\": \",D1753,\", \",C1753)","v":"H: Koch, Kevin"},{"$f":"VLOOKUP(A1753,bangolf_kategorien!$A$2:$B$11,2,FALSE)","v":"H"}]
["hv",37984,"Peter","Koch","1. MGC Mannheim 1968",{"$f":"CONCATENATE(VLOOKUP(A1754,bangolf_kategorien!$A$2:$B$11,2,FALSE),\": \",D1754,\", \",C1754)","v":"SM2: Koch, Peter"},{"$f":"VLOOKUP(A1754,bangolf_kategorien!$A$2:$B$11,2,FALSE)","v":"SM2"}]
["ob",67380,"Rolf","Koch","BGSV Bad Homburg",{"$f":"CONCATENATE(VLOOKUP(A1755,bangolf_kategorien!$A$2:$B$11,2,FALSE),\": \",D1755,\", \",C1755)","v":"SM1: Koch, Rolf"},{"$f":"VLOOKUP(A1755,bangolf_kategorien!$A$2:$B$11,2,FALSE)","v":"SM1"}]
["hv",27674,"Klaus","Kocks","BGV Backumer Tal Herten",{"$f":"CONCATENATE(VLOOKUP(A1756,bangolf_kategorien!$A$2:$B$11,2,FALSE),\": \",D1756,\", \",C1756)","v":"SM2: Kocks, Klaus"},{"$f":"VLOOKUP(A1756,bangolf_kategorien!$A$2:$B$11,2,FALSE)","v":"SM2"}]
["hv",3613,"Gerhard","Kofler","KGC Bad Urach",{"$f":"CONCATENATE(VLOOKUP(A1757,bangolf_kategorien!$A$2:$B$11,2,FALSE),\": \",D1757,\", \",C1757)","v":"SM2: Kofler, Gerhard"},{"$f":"VLOOKUP(A1757,bangolf_kategorien!$A$2:$B$11,2,FALSE)","v":"SM2"}]
["ds",47324,"Simone","Kohfeld","MSC Bensheim-Auerbach",{"$f":"CONCATENATE(VLOOKUP(A1758,bangolf_kategorien!$A$2:$B$11,2,FALSE),\": \",D1758,\", \",C1758)","v":"D: Kohfeld, Simone"},{"$f":"VLOOKUP(A1758,bangolf_kategorien!$A$2:$B$11,2,FALSE)","v":"D"}]
["hs",35075,"Sven","Kohl","MGC Bad Soden-Salmünster",{"$f":"CONCATENATE(VLOOKUP(A1759,bangolf_kategorien!$A$2:$B$11,2,FALSE),\": \",D1759,\", \",C1759)","v":"H: Kohl, Sven"},{"$f":"VLOOKUP(A1759,bangolf_kategorien!$A$2:$B$11,2,FALSE)","v":"H"}]
["hv",35098,"Bernd","Kohler","SV 1890 Dreieichenhain, Abt. Bahnengolf",{"$f":"CONCATENATE(VLOOKUP(A1760,bangolf_kategorien!$A$2:$B$11,2,FALSE),\": \",D1760,\", \",C1760)","v":"SM2: Kohler, Bernd"},{"$f":"VLOOKUP(A1760,bangolf_kategorien!$A$2:$B$11,2,FALSE)","v":"SM2"}]
["hs",66203,"Philipp","Köhler","BGC Heilbronn",{"$f":"CONCATENATE(VLOOKUP(A1761,bangolf_kategorien!$A$2:$B$11,2,FALSE),\": \",D1761,\", \",C1761)","v":"H: Köhler, Philipp"},{"$f":"VLOOKUP(A1761,bangolf_kategorien!$A$2:$B$11,2,FALSE)","v":"H"}]
["hv",18496,"Ulrich","Köhler","BSV 86 München",{"$f":"CONCATENATE(VLOOKUP(A1762,bangolf_kategorien!$A$2:$B$11,2,FALSE),\": \",D1762,\", \",C1762)","v":"SM2: Köhler, Ulrich"},{"$f":"VLOOKUP(A1762,bangolf_kategorien!$A$2:$B$11,2,FALSE)","v":"SM2"}]
["hj",66064,"Lukas","Kohlhaas","1. MGC Mainz",{"$f":"CONCATENATE(VLOOKUP(A1763,bangolf_kategorien!$A$2:$B$11,2,FALSE),\": \",D1763,\", \",C1763)","v":"JM: Kohlhaas, Lukas"},{"$f":"VLOOKUP(A1763,bangolf_kategorien!$A$2:$B$11,2,FALSE)","v":"JM"}]
["hv",50852,"Michael","Kohlhage","SSC Attendorn",{"$f":"CONCATENATE(VLOOKUP(A1764,bangolf_kategorien!$A$2:$B$11,2,FALSE),\": \",D1764,\", \",C1764)","v":"SM2: Kohlhage, Michael"},{"$f":"VLOOKUP(A1764,bangolf_kategorien!$A$2:$B$11,2,FALSE)","v":"SM2"}]
["ob",49559,"Michael","Kohnke","BGC Schloß Paffendorf",{"$f":"CONCATENATE(VLOOKUP(A1765,bangolf_kategorien!$A$2:$B$11,2,FALSE),\": \",D1765,\", \",C1765)","v":"SM1: Kohnke, Michael"},{"$f":"VLOOKUP(A1765,bangolf_kategorien!$A$2:$B$11,2,FALSE)","v":"SM1"}]
["hs",34583,"Gabriel","Kolb","BIG ASPERG",{"$f":"CONCATENATE(VLOOKUP(A1766,bangolf_kategorien!$A$2:$B$11,2,FALSE),\": \",D1766,\", \",C1766)","v":"H: Kolb, Gabriel"},{"$f":"VLOOKUP(A1766,bangolf_kategorien!$A$2:$B$11,2,FALSE)","v":"H"}]
["hv",4492,"Max","Koll","MC 62 Lüdenscheid",{"$f":"CONCATENATE(VLOOKUP(A1767,bangolf_kategorien!$A$2:$B$11,2,FALSE),\": \",D1767,\", \",C1767)","v":"SM2: Koll, Max"},{"$f":"VLOOKUP(A1767,bangolf_kategorien!$A$2:$B$11,2,FALSE)","v":"SM2"}]
["dv",36379,"Renate","Koll","MC 62 Lüdenscheid",{"$f":"CONCATENATE(VLOOKUP(A1768,bangolf_kategorien!$A$2:$B$11,2,FALSE),\": \",D1768,\", \",C1768)","v":"SW2: Koll, Renate"},{"$f":"VLOOKUP(A1768,bangolf_kategorien!$A$2:$B$11,2,FALSE)","v":"SW2"}]
["ds",3315138,"Sarah","Kollay","Hobby",{"$f":"CONCATENATE(VLOOKUP(A1769,bangolf_kategorien!$A$2:$B$11,2,FALSE),\": \",D1769,\", \",C1769)","v":"D: Kollay, Sarah"},{"$f":"VLOOKUP(A1769,bangolf_kategorien!$A$2:$B$11,2,FALSE)","v":"D"}]
["dv",67137,"Jutta","Kolloff","1. MGC Peine von 1965",{"$f":"CONCATENATE(VLOOKUP(A1770,bangolf_kategorien!$A$2:$B$11,2,FALSE),\": \",D1770,\", \",C1770)","v":"SW2: Kolloff, Jutta"},{"$f":"VLOOKUP(A1770,bangolf_kategorien!$A$2:$B$11,2,FALSE)","v":"SW2"}]
["hv",61900,"Johann","Komurka","1. MGC Ladenburg",{"$f":"CONCATENATE(VLOOKUP(A1771,bangolf_kategorien!$A$2:$B$11,2,FALSE),\": \",D1771,\", \",C1771)","v":"SM2: Komurka, Johann"},{"$f":"VLOOKUP(A1771,bangolf_kategorien!$A$2:$B$11,2,FALSE)","v":"SM2"}]
["ob",66181,"Bernd","Könemann","TSV Salzgitter Abt. Bahnengolf",{"$f":"CONCATENATE(VLOOKUP(A1772,bangolf_kategorien!$A$2:$B$11,2,FALSE),\": \",D1772,\", \",C1772)","v":"SM1: Könemann, Bernd"},{"$f":"VLOOKUP(A1772,bangolf_kategorien!$A$2:$B$11,2,FALSE)","v":"SM1"}]
["og",66182,"Nicole","Könemann","TSV Salzgitter Abt. Bahnengolf",{"$f":"CONCATENATE(VLOOKUP(A1773,bangolf_kategorien!$A$2:$B$11,2,FALSE),\": \",D1773,\", \",C1773)","v":"SW1: Könemann, Nicole"},{"$f":"VLOOKUP(A1773,bangolf_kategorien!$A$2:$B$11,2,FALSE)","v":"SW1"}]
["hj",66968,"Joshua","Könen","MGC Bad Bodendorf",{"$f":"CONCATENATE(VLOOKUP(A1774,bangolf_kategorien!$A$2:$B$11,2,FALSE),\": \",D1774,\", \",C1774)","v":"JM: Könen, Joshua"},{"$f":"VLOOKUP(A1774,bangolf_kategorien!$A$2:$B$11,2,FALSE)","v":"JM"}]
["ob",66151,"Stephan","Konieczny","MSC Bensheim-Auerbach",{"$f":"CONCATENATE(VLOOKUP(A1775,bangolf_kategorien!$A$2:$B$11,2,FALSE),\": \",D1775,\", \",C1775)","v":"SM1: Konieczny, Stephan"},{"$f":"VLOOKUP(A1775,bangolf_kategorien!$A$2:$B$11,2,FALSE)","v":"SM1"}]
["og",36196,"Beate","König","1. Minigolf-Club Rheinhausen",{"$f":"CONCATENATE(VLOOKUP(A1776,bangolf_kategorien!$A$2:$B$11,2,FALSE),\": \",D1776,\", \",C1776)","v":"SW1: König, Beate"},{"$f":"VLOOKUP(A1776,bangolf_kategorien!$A$2:$B$11,2,FALSE)","v":"SW1"}]
["ob",36548,"Bert","König","1. Minigolf-Club Rheinhausen",{"$f":"CONCATENATE(VLOOKUP(A1777,bangolf_kategorien!$A$2:$B$11,2,FALSE),\": \",D1777,\", \",C1777)","v":"SM1: König, Bert"},{"$f":"VLOOKUP(A1777,bangolf_kategorien!$A$2:$B$11,2,FALSE)","v":"SM1"}]
["hv",66051,"Erich","König","SSC Attendorn",{"$f":"CONCATENATE(VLOOKUP(A1778,bangolf_kategorien!$A$2:$B$11,2,FALSE),\": \",D1778,\", \",C1778)","v":"SM2: König, Erich"},{"$f":"VLOOKUP(A1778,bangolf_kategorien!$A$2:$B$11,2,FALSE)","v":"SM2"}]
["ob",36549,"Frank","König","1. Minigolf-Club Rheinhausen",{"$f":"CONCATENATE(VLOOKUP(A1779,bangolf_kategorien!$A$2:$B$11,2,FALSE),\": \",D1779,\", \",C1779)","v":"SM1: König, Frank"},{"$f":"VLOOKUP(A1779,bangolf_kategorien!$A$2:$B$11,2,FALSE)","v":"SM1"}]
["dv",6233,"Hannelore","König","1. MSC Hamburg-Neu Wulmstorf",{"$f":"CONCATENATE(VLOOKUP(A1780,bangolf_kategorien!$A$2:$B$11,2,FALSE),\": \",D1780,\", \",C1780)","v":"SW2: König, Hannelore"},{"$f":"VLOOKUP(A1780,bangolf_kategorien!$A$2:$B$11,2,FALSE)","v":"SW2"}]
["hv",21380,"Helmut","König","VfM Bottrop",{"$f":"CONCATENATE(VLOOKUP(A1781,bangolf_kategorien!$A$2:$B$11,2,FALSE),\": \",D1781,\", \",C1781)","v":"SM2: König, Helmut"},{"$f":"VLOOKUP(A1781,bangolf_kategorien!$A$2:$B$11,2,FALSE)","v":"SM2"}]
["dv",67057,"Irmtraud","König","MGC Heringen 1997",{"$f":"CONCATENATE(VLOOKUP(A1782,bangolf_kategorien!$A$2:$B$11,2,FALSE),\": \",D1782,\", \",C1782)","v":"SW2: König, Irmtraud"},{"$f":"VLOOKUP(A1782,bangolf_kategorien!$A$2:$B$11,2,FALSE)","v":"SW2"}]
["hs",65818,"Kevin","König","1. Bahnengolf-Club Singen",{"$f":"CONCATENATE(VLOOKUP(A1783,bangolf_kategorien!$A$2:$B$11,2,FALSE),\": \",D1783,\", \",C1783)","v":"H: König, Kevin"},{"$f":"VLOOKUP(A1783,bangolf_kategorien!$A$2:$B$11,2,FALSE)","v":"H"}]
["hv",4539,"Wolfgang","König","1. MSC Hamburg-Neu Wulmstorf",{"$f":"CONCATENATE(VLOOKUP(A1784,bangolf_kategorien!$A$2:$B$11,2,FALSE),\": \",D1784,\", \",C1784)","v":"SM2: König, Wolfgang"},{"$f":"VLOOKUP(A1784,bangolf_kategorien!$A$2:$B$11,2,FALSE)","v":"SM2"}]
["ob",34127,"Peter","Konle","MGC Unterschneidheim",{"$f":"CONCATENATE(VLOOKUP(A1785,bangolf_kategorien!$A$2:$B$11,2,FALSE),\": \",D1785,\", \",C1785)","v":"SM1: Konle, Peter"},{"$f":"VLOOKUP(A1785,bangolf_kategorien!$A$2:$B$11,2,FALSE)","v":"SM1"}]
["dv",5696,"Ingeborg","Könnecke","BGC 90 Ottobrunn",{"$f":"CONCATENATE(VLOOKUP(A1786,bangolf_kategorien!$A$2:$B$11,2,FALSE),\": \",D1786,\", \",C1786)","v":"SW2: Könnecke, Ingeborg"},{"$f":"VLOOKUP(A1786,bangolf_kategorien!$A$2:$B$11,2,FALSE)","v":"SW2"}]
["ob",66646,"Frank","Konschak","MGC Rot-Weiß Wanne-Eickel",{"$f":"CONCATENATE(VLOOKUP(A1787,bangolf_kategorien!$A$2:$B$11,2,FALSE),\": \",D1787,\", \",C1787)","v":"SM1: Konschak, Frank"},{"$f":"VLOOKUP(A1787,bangolf_kategorien!$A$2:$B$11,2,FALSE)","v":"SM1"}]
["hv",37380,"Alfred","Konstanzer","1. MGC Metzingen",{"$f":"CONCATENATE(VLOOKUP(A1788,bangolf_kategorien!$A$2:$B$11,2,FALSE),\": \",D1788,\", \",C1788)","v":"SM2: Konstanzer, Alfred"},{"$f":"VLOOKUP(A1788,bangolf_kategorien!$A$2:$B$11,2,FALSE)","v":"SM2"}]
["ob",37506,"Günther","Konstanzer","1. MGC Hechingen",{"$f":"CONCATENATE(VLOOKUP(A1789,bangolf_kategorien!$A$2:$B$11,2,FALSE),\": \",D1789,\", \",C1789)","v":"SM1: Konstanzer, Günther"},{"$f":"VLOOKUP(A1789,bangolf_kategorien!$A$2:$B$11,2,FALSE)","v":"SM1"}]
["hv",5842,"Dieter","Körner","MGC Schwaikheim",{"$f":"CONCATENATE(VLOOKUP(A1790,bangolf_kategorien!$A$2:$B$11,2,FALSE),\": \",D1790,\", \",C1790)","v":"SM2: Körner, Dieter"},{"$f":"VLOOKUP(A1790,bangolf_kategorien!$A$2:$B$11,2,FALSE)","v":"SM2"}]
["pa",66828,"Nils","Körner","TSV Pfungstadt Abt. Bahnengolf",{"$f":"CONCATENATE(VLOOKUP(A1791,bangolf_kategorien!$A$2:$B$11,2,FALSE),\": \",D1791,\", \",C1791)","v":"SCHM: Körner, Nils"},{"$f":"VLOOKUP(A1791,bangolf_kategorien!$A$2:$B$11,2,FALSE)","v":"SCHM"}]
["ob",3138574,"Jürgen","Kosching","Hobby",{"$f":"CONCATENATE(VLOOKUP(A1792,bangolf_kategorien!$A$2:$B$11,2,FALSE),\": \",D1792,\", \",C1792)","v":"SM1: Kosching, Jürgen"},{"$f":"VLOOKUP(A1792,bangolf_kategorien!$A$2:$B$11,2,FALSE)","v":"SM1"}]
["hv",61974,"Hans","Koslowski","1. BGC Celle von 1964",{"$f":"CONCATENATE(VLOOKUP(A1793,bangolf_kategorien!$A$2:$B$11,2,FALSE),\": \",D1793,\", \",C1793)","v":"SM2: Koslowski, Hans"},{"$f":"VLOOKUP(A1793,bangolf_kategorien!$A$2:$B$11,2,FALSE)","v":"SM2"}]
["hv",44601,"Helmut","Kosmowski","MGF Hilzingen 80",{"$f":"CONCATENATE(VLOOKUP(A1794,bangolf_kategorien!$A$2:$B$11,2,FALSE),\": \",D1794,\", \",C1794)","v":"SM2: Kosmowski, Helmut"},{"$f":"VLOOKUP(A1794,bangolf_kategorien!$A$2:$B$11,2,FALSE)","v":"SM2"}]
["ob",23976,"Klaus","Kossmann","MSK Neheim-Hüsten",{"$f":"CONCATENATE(VLOOKUP(A1795,bangolf_kategorien!$A$2:$B$11,2,FALSE),\": \",D1795,\", \",C1795)","v":"SM1: Kossmann, Klaus"},{"$f":"VLOOKUP(A1795,bangolf_kategorien!$A$2:$B$11,2,FALSE)","v":"SM1"}]
["dv",67534,"Petra","Koßmann","MGC Bad Salzuflen",{"$f":"CONCATENATE(VLOOKUP(A1796,bangolf_kategorien!$A$2:$B$11,2,FALSE),\": \",D1796,\", \",C1796)","v":"SW2: Koßmann, Petra"},{"$f":"VLOOKUP(A1796,bangolf_kategorien!$A$2:$B$11,2,FALSE)","v":"SW2"}]
["hv",67502,"Ulrich","Koßmann","MGC Bad Salzuflen",{"$f":"CONCATENATE(VLOOKUP(A1797,bangolf_kategorien!$A$2:$B$11,2,FALSE),\": \",D1797,\", \",C1797)","v":"SM2: Koßmann, Ulrich"},{"$f":"VLOOKUP(A1797,bangolf_kategorien!$A$2:$B$11,2,FALSE)","v":"SM2"}]
["hv",36868,"Mario","Kostack","MSG Kempten",{"$f":"CONCATENATE(VLOOKUP(A1798,bangolf_kategorien!$A$2:$B$11,2,FALSE),\": \",D1798,\", \",C1798)","v":"SM2: Kostack, Mario"},{"$f":"VLOOKUP(A1798,bangolf_kategorien!$A$2:$B$11,2,FALSE)","v":"SM2"}]
["dv",3212021,"Lia","Kothe","Hobby",{"$f":"CONCATENATE(VLOOKUP(A1799,bangolf_kategorien!$A$2:$B$11,2,FALSE),\": \",D1799,\", \",C1799)","v":"SW2: Kothe, Lia"},{"$f":"VLOOKUP(A1799,bangolf_kategorien!$A$2:$B$11,2,FALSE)","v":"SW2"}]
["ds",67152,"Sabine","Kottek","MGC Heven",{"$f":"CONCATENATE(VLOOKUP(A1800,bangolf_kategorien!$A$2:$B$11,2,FALSE),\": \",D1800,\", \",C1800)","v":"D: Kottek, Sabine"},{"$f":"VLOOKUP(A1800,bangolf_kategorien!$A$2:$B$11,2,FALSE)","v":"D"}]
["og",42073,"Manuela","Köttel","ASV Pegnitz, Abt. Minigolf",{"$f":"CONCATENATE(VLOOKUP(A1801,bangolf_kategorien!$A$2:$B$11,2,FALSE),\": \",D1801,\", \",C1801)","v":"SW1: Köttel, Manuela"},{"$f":"VLOOKUP(A1801,bangolf_kategorien!$A$2:$B$11,2,FALSE)","v":"SW1"}]
["ob",44870,"Martin","Köttel","ASV Pegnitz, Abt. Minigolf",{"$f":"CONCATENATE(VLOOKUP(A1802,bangolf_kategorien!$A$2:$B$11,2,FALSE),\": \",D1802,\", \",C1802)","v":"SM1: Köttel, Martin"},{"$f":"VLOOKUP(A1802,bangolf_kategorien!$A$2:$B$11,2,FALSE)","v":"SM1"}]
["ob",67179,"Chris","Kougioumtzidis","MGC Rot-Weiß Wanne-Eickel",{"$f":"CONCATENATE(VLOOKUP(A1803,bangolf_kategorien!$A$2:$B$11,2,FALSE),\": \",D1803,\", \",C1803)","v":"SM1: Kougioumtzidis, Chris"},{"$f":"VLOOKUP(A1803,bangolf_kategorien!$A$2:$B$11,2,FALSE)","v":"SM1"}]
["ds",44018,"Elke","Kowatsch","BGC Bad Berneck",{"$f":"CONCATENATE(VLOOKUP(A1804,bangolf_kategorien!$A$2:$B$11,2,FALSE),\": \",D1804,\", \",C1804)","v":"D: Kowatsch, Elke"},{"$f":"VLOOKUP(A1804,bangolf_kategorien!$A$2:$B$11,2,FALSE)","v":"D"}]
["ob",31769,"Michael","Koziol","BGS Hardenberg-Pötter",{"$f":"CONCATENATE(VLOOKUP(A1805,bangolf_kategorien!$A$2:$B$11,2,FALSE),\": \",D1805,\", \",C1805)","v":"SM1: Koziol, Michael"},{"$f":"VLOOKUP(A1805,bangolf_kategorien!$A$2:$B$11,2,FALSE)","v":"SM1"}]
["ds",46426,"Tanja","Koziol","MGC Bad Hersfeld",{"$f":"CONCATENATE(VLOOKUP(A1806,bangolf_kategorien!$A$2:$B$11,2,FALSE),\": \",D1806,\", \",C1806)","v":"D: Koziol, Tanja"},{"$f":"VLOOKUP(A1806,bangolf_kategorien!$A$2:$B$11,2,FALSE)","v":"D"}]
["hv",5722,"Paul","Kraas","1. MGSV Netphen",{"$f":"CONCATENATE(VLOOKUP(A1807,bangolf_kategorien!$A$2:$B$11,2,FALSE),\": \",D1807,\", \",C1807)","v":"SM2: Kraas, Paul"},{"$f":"VLOOKUP(A1807,bangolf_kategorien!$A$2:$B$11,2,FALSE)","v":"SM2"}]
["hv",67077,"Herwart","Kraaz","MTV Seesen Abt. Bahnengolf",{"$f":"CONCATENATE(VLOOKUP(A1808,bangolf_kategorien!$A$2:$B$11,2,FALSE),\": \",D1808,\", \",C1808)","v":"SM2: Kraaz, Herwart"},{"$f":"VLOOKUP(A1808,bangolf_kategorien!$A$2:$B$11,2,FALSE)","v":"SM2"}]
["hv",40352,"Christian","Kracht","MGC Bad Salzuflen",{"$f":"CONCATENATE(VLOOKUP(A1809,bangolf_kategorien!$A$2:$B$11,2,FALSE),\": \",D1809,\", \",C1809)","v":"SM2: Kracht, Christian"},{"$f":"VLOOKUP(A1809,bangolf_kategorien!$A$2:$B$11,2,FALSE)","v":"SM2"}]
["ob",26346,"Michael","Kramer","Reinickendorfer MGC",{"$f":"CONCATENATE(VLOOKUP(A1810,bangolf_kategorien!$A$2:$B$11,2,FALSE),\": \",D1810,\", \",C1810)","v":"SM1: Kramer, Michael"},{"$f":"VLOOKUP(A1810,bangolf_kategorien!$A$2:$B$11,2,FALSE)","v":"SM1"}]
["hv",20342,"Norbert","Kramer","1. MGC Mainz",{"$f":"CONCATENATE(VLOOKUP(A1811,bangolf_kategorien!$A$2:$B$11,2,FALSE),\": \",D1811,\", \",C1811)","v":"SM2: Kramer, Norbert"},{"$f":"VLOOKUP(A1811,bangolf_kategorien!$A$2:$B$11,2,FALSE)","v":"SM2"}]
["og",50644,"Bärbel","Krämer","MSC Blau-Weiß 2003 München",{"$f":"CONCATENATE(VLOOKUP(A1812,bangolf_kategorien!$A$2:$B$11,2,FALSE),\": \",D1812,\", \",C1812)","v":"SW1: Krämer, Bärbel"},{"$f":"VLOOKUP(A1812,bangolf_kategorien!$A$2:$B$11,2,FALSE)","v":"SW1"}]
["ob",44705,"Mathias","Krämer","MSC Blau-Weiß 2003 München",{"$f":"CONCATENATE(VLOOKUP(A1813,bangolf_kategorien!$A$2:$B$11,2,FALSE),\": \",D1813,\", \",C1813)","v":"SM1: Krämer, Mathias"},{"$f":"VLOOKUP(A1813,bangolf_kategorien!$A$2:$B$11,2,FALSE)","v":"SM1"}]
["hs",38200,"Sebastian","Krämer","MSC Blau-Weiß 2003 München",{"$f":"CONCATENATE(VLOOKUP(A1814,bangolf_kategorien!$A$2:$B$11,2,FALSE),\": \",D1814,\", \",C1814)","v":"H: Krämer, Sebastian"},{"$f":"VLOOKUP(A1814,bangolf_kategorien!$A$2:$B$11,2,FALSE)","v":"H"}]
["og",43336,"Bettina","Krane","MSK Neheim-Hüsten",{"$f":"CONCATENATE(VLOOKUP(A1815,bangolf_kategorien!$A$2:$B$11,2,FALSE),\": \",D1815,\", \",C1815)","v":"SW1: Krane, Bettina"},{"$f":"VLOOKUP(A1815,bangolf_kategorien!$A$2:$B$11,2,FALSE)","v":"SW1"}]
["ob",30374,"Jörg","Krane","MSK Neheim-Hüsten",{"$f":"CONCATENATE(VLOOKUP(A1816,bangolf_kategorien!$A$2:$B$11,2,FALSE),\": \",D1816,\", \",C1816)","v":"SM1: Krane, Jörg"},{"$f":"VLOOKUP(A1816,bangolf_kategorien!$A$2:$B$11,2,FALSE)","v":"SM1"}]
["dj",66222,"Melissa","Krane","MSK Neheim-Hüsten",{"$f":"CONCATENATE(VLOOKUP(A1817,bangolf_kategorien!$A$2:$B$11,2,FALSE),\": \",D1817,\", \",C1817)","v":"JW: Krane, Melissa"},{"$f":"VLOOKUP(A1817,bangolf_kategorien!$A$2:$B$11,2,FALSE)","v":"JW"}]
["ds",38393,"Michaela","Krane","MSK Neheim-Hüsten",{"$f":"CONCATENATE(VLOOKUP(A1818,bangolf_kategorien!$A$2:$B$11,2,FALSE),\": \",D1818,\", \",C1818)","v":"D: Krane, Michaela"},{"$f":"VLOOKUP(A1818,bangolf_kategorien!$A$2:$B$11,2,FALSE)","v":"D"}]
["hv",40222,"Ralf","Krane","MSK Neheim-Hüsten",{"$f":"CONCATENATE(VLOOKUP(A1819,bangolf_kategorien!$A$2:$B$11,2,FALSE),\": \",D1819,\", \",C1819)","v":"SM2: Krane, Ralf"},{"$f":"VLOOKUP(A1819,bangolf_kategorien!$A$2:$B$11,2,FALSE)","v":"SM2"}]
["ob",26070,"Stephan","Kraus","Bochumer Minigolf-Club 1960",{"$f":"CONCATENATE(VLOOKUP(A1820,bangolf_kategorien!$A$2:$B$11,2,FALSE),\": \",D1820,\", \",C1820)","v":"SM1: Kraus, Stephan"},{"$f":"VLOOKUP(A1820,bangolf_kategorien!$A$2:$B$11,2,FALSE)","v":"SM1"}]
["hv",24877,"Achim","Krause","BGC Dormagen",{"$f":"CONCATENATE(VLOOKUP(A1821,bangolf_kategorien!$A$2:$B$11,2,FALSE),\": \",D1821,\", \",C1821)","v":"SM2: Krause, Achim"},{"$f":"VLOOKUP(A1821,bangolf_kategorien!$A$2:$B$11,2,FALSE)","v":"SM2"}]
["hs",36157,"Dennis","Krause","MGC Millennium Lorsch",{"$f":"CONCATENATE(VLOOKUP(A1822,bangolf_kategorien!$A$2:$B$11,2,FALSE),\": \",D1822,\", \",C1822)","v":"H: Krause, Dennis"},{"$f":"VLOOKUP(A1822,bangolf_kategorien!$A$2:$B$11,2,FALSE)","v":"H"}]
["ob",48931,"Dirk","Krause","1. BGC Celle von 1964",{"$f":"CONCATENATE(VLOOKUP(A1823,bangolf_kategorien!$A$2:$B$11,2,FALSE),\": \",D1823,\", \",C1823)","v":"SM1: Krause, Dirk"},{"$f":"VLOOKUP(A1823,bangolf_kategorien!$A$2:$B$11,2,FALSE)","v":"SM1"}]
["hs",67021,"Michel","Krause","Tempelhofer MV Berlin",{"$f":"CONCATENATE(VLOOKUP(A1824,bangolf_kategorien!$A$2:$B$11,2,FALSE),\": \",D1824,\", \",C1824)","v":"H: Krause, Michel"},{"$f":"VLOOKUP(A1824,bangolf_kategorien!$A$2:$B$11,2,FALSE)","v":"H"}]
["ob",51058,"Michael","Krauß","MSV Bad Kreuznach",{"$f":"CONCATENATE(VLOOKUP(A1825,bangolf_kategorien!$A$2:$B$11,2,FALSE),\": \",D1825,\", \",C1825)","v":"SM1: Krauß, Michael"},{"$f":"VLOOKUP(A1825,bangolf_kategorien!$A$2:$B$11,2,FALSE)","v":"SM1"}]
["dj",66160,"Selina","Krauss","1. MGC Mainz",{"$f":"CONCATENATE(VLOOKUP(A1826,bangolf_kategorien!$A$2:$B$11,2,FALSE),\": \",D1826,\", \",C1826)","v":"JW: Krauss, Selina"},{"$f":"VLOOKUP(A1826,bangolf_kategorien!$A$2:$B$11,2,FALSE)","v":"JW"}]
["hv",66158,"Siegfried","Krauss","1. MGC Mainz",{"$f":"CONCATENATE(VLOOKUP(A1827,bangolf_kategorien!$A$2:$B$11,2,FALSE),\": \",D1827,\", \",C1827)","v":"SM2: Krauss, Siegfried"},{"$f":"VLOOKUP(A1827,bangolf_kategorien!$A$2:$B$11,2,FALSE)","v":"SM2"}]
["og",66159,"Silvia","Krauss","1. MGC Mainz",{"$f":"CONCATENATE(VLOOKUP(A1828,bangolf_kategorien!$A$2:$B$11,2,FALSE),\": \",D1828,\", \",C1828)","v":"SW1: Krauss, Silvia"},{"$f":"VLOOKUP(A1828,bangolf_kategorien!$A$2:$B$11,2,FALSE)","v":"SW1"}]
["hj",66161,"Silvio","Krauss","1. MGC Mainz",{"$f":"CONCATENATE(VLOOKUP(A1829,bangolf_kategorien!$A$2:$B$11,2,FALSE),\": \",D1829,\", \",C1829)","v":"JM: Krauss, Silvio"},{"$f":"VLOOKUP(A1829,bangolf_kategorien!$A$2:$B$11,2,FALSE)","v":"JM"}]
["hs",33755,"Philip","Krautheuser","1. Porzer MGC Grün-Weiß 1969",{"$f":"CONCATENATE(VLOOKUP(A1830,bangolf_kategorien!$A$2:$B$11,2,FALSE),\": \",D1830,\", \",C1830)","v":"H: Krautheuser, Philip"},{"$f":"VLOOKUP(A1830,bangolf_kategorien!$A$2:$B$11,2,FALSE)","v":"H"}]
["dv",62949,"Hildegard","Krawutschke","Niendorfer MC v. 1963",{"$f":"CONCATENATE(VLOOKUP(A1831,bangolf_kategorien!$A$2:$B$11,2,FALSE),\": \",D1831,\", \",C1831)","v":"SW2: Krawutschke, Hildegard"},{"$f":"VLOOKUP(A1831,bangolf_kategorien!$A$2:$B$11,2,FALSE)","v":"SW2"}]
["hs",66917,"Tobias","Kreddig","BSC Ennepetal",{"$f":"CONCATENATE(VLOOKUP(A1832,bangolf_kategorien!$A$2:$B$11,2,FALSE),\": \",D1832,\", \",C1832)","v":"H: Kreddig, Tobias"},{"$f":"VLOOKUP(A1832,bangolf_kategorien!$A$2:$B$11,2,FALSE)","v":"H"}]
["og",3212024,"Andrea","Kreider-Roser","Hobby",{"$f":"CONCATENATE(VLOOKUP(A1833,bangolf_kategorien!$A$2:$B$11,2,FALSE),\": \",D1833,\", \",C1833)","v":"SW1: Kreider-Roser, Andrea"},{"$f":"VLOOKUP(A1833,bangolf_kategorien!$A$2:$B$11,2,FALSE)","v":"SW1"}]
["og",38545,"Antje","Kreisheimer","MGC \"Stahlquelle\" Bad Bocklet",{"$f":"CONCATENATE(VLOOKUP(A1834,bangolf_kategorien!$A$2:$B$11,2,FALSE),\": \",D1834,\", \",C1834)","v":"SW1: Kreisheimer, Antje"},{"$f":"VLOOKUP(A1834,bangolf_kategorien!$A$2:$B$11,2,FALSE)","v":"SW1"}]
["hv",38546,"Günther","Kreisheimer","MGC \"Stahlquelle\" Bad Bocklet",{"$f":"CONCATENATE(VLOOKUP(A1835,bangolf_kategorien!$A$2:$B$11,2,FALSE),\": \",D1835,\", \",C1835)","v":"SM2: Kreisheimer, Günther"},{"$f":"VLOOKUP(A1835,bangolf_kategorien!$A$2:$B$11,2,FALSE)","v":"SM2"}]
["hs",36641,"Rene","Kreitz","1. MGC 1970 Göttingen",{"$f":"CONCATENATE(VLOOKUP(A1836,bangolf_kategorien!$A$2:$B$11,2,FALSE),\": \",D1836,\", \",C1836)","v":"H: Kreitz, Rene"},{"$f":"VLOOKUP(A1836,bangolf_kategorien!$A$2:$B$11,2,FALSE)","v":"H"}]
["hv",66877,"Dieter","Kretschmer","Hamburger MC von 1965",{"$f":"CONCATENATE(VLOOKUP(A1837,bangolf_kategorien!$A$2:$B$11,2,FALSE),\": \",D1837,\", \",C1837)","v":"SM2: Kretschmer, Dieter"},{"$f":"VLOOKUP(A1837,bangolf_kategorien!$A$2:$B$11,2,FALSE)","v":"SM2"}]
["hv",34823,"Bernhard","Kreutter","MGF Waldshut 74",{"$f":"CONCATENATE(VLOOKUP(A1838,bangolf_kategorien!$A$2:$B$11,2,FALSE),\": \",D1838,\", \",C1838)","v":"SM2: Kreutter, Bernhard"},{"$f":"VLOOKUP(A1838,bangolf_kategorien!$A$2:$B$11,2,FALSE)","v":"SM2"}]
["dv",67436,"Inge","Kreutz","Minigolfclub Karlshagen",{"$f":"CONCATENATE(VLOOKUP(A1839,bangolf_kategorien!$A$2:$B$11,2,FALSE),\": \",D1839,\", \",C1839)","v":"SW2: Kreutz, Inge"},{"$f":"VLOOKUP(A1839,bangolf_kategorien!$A$2:$B$11,2,FALSE)","v":"SW2"}]
["ob",30925,"Andreas","Kreuzer","ASV Pegnitz, Abt. Minigolf",{"$f":"CONCATENATE(VLOOKUP(A1840,bangolf_kategorien!$A$2:$B$11,2,FALSE),\": \",D1840,\", \",C1840)","v":"SM1: Kreuzer, Andreas"},{"$f":"VLOOKUP(A1840,bangolf_kategorien!$A$2:$B$11,2,FALSE)","v":"SM1"}]
["hs",24111,"Tobias","Kreuzer","ASV Pegnitz, Abt. Minigolf",{"$f":"CONCATENATE(VLOOKUP(A1841,bangolf_kategorien!$A$2:$B$11,2,FALSE),\": \",D1841,\", \",C1841)","v":"H: Kreuzer, Tobias"},{"$f":"VLOOKUP(A1841,bangolf_kategorien!$A$2:$B$11,2,FALSE)","v":"H"}]
["ds",36156,"Tina","Kreuzer-Morgenstern","ASV Pegnitz, Abt. Minigolf",{"$f":"CONCATENATE(VLOOKUP(A1842,bangolf_kategorien!$A$2:$B$11,2,FALSE),\": \",D1842,\", \",C1842)","v":"D: Kreuzer-Morgenstern, Tina"},{"$f":"VLOOKUP(A1842,bangolf_kategorien!$A$2:$B$11,2,FALSE)","v":"D"}]
["hv",42126,"Gerhard","Krickhahn","MGC Rot-Weiß Wanne-Eickel",{"$f":"CONCATENATE(VLOOKUP(A1843,bangolf_kategorien!$A$2:$B$11,2,FALSE),\": \",D1843,\", \",C1843)","v":"SM2: Krickhahn, Gerhard"},{"$f":"VLOOKUP(A1843,bangolf_kategorien!$A$2:$B$11,2,FALSE)","v":"SM2"}]
["hv",35781,"Andreas","Krieger","BGSV Bad Homburg",{"$f":"CONCATENATE(VLOOKUP(A1844,bangolf_kategorien!$A$2:$B$11,2,FALSE),\": \",D1844,\", \",C1844)","v":"SM2: Krieger, Andreas"},{"$f":"VLOOKUP(A1844,bangolf_kategorien!$A$2:$B$11,2,FALSE)","v":"SM2"}]
["hv",33310,"Gerhard","Krieger","1. MGC München-Feldmoching",{"$f":"CONCATENATE(VLOOKUP(A1845,bangolf_kategorien!$A$2:$B$11,2,FALSE),\": \",D1845,\", \",C1845)","v":"SM2: Krieger, Gerhard"},{"$f":"VLOOKUP(A1845,bangolf_kategorien!$A$2:$B$11,2,FALSE)","v":"SM2"}]
["hj",67089,"Leon","Krieger","BGS Hardenberg-Pötter",{"$f":"CONCATENATE(VLOOKUP(A1846,bangolf_kategorien!$A$2:$B$11,2,FALSE),\": \",D1846,\", \",C1846)","v":"JM: Krieger, Leon"},{"$f":"VLOOKUP(A1846,bangolf_kategorien!$A$2:$B$11,2,FALSE)","v":"JM"}]
["ds",67353,"Simone","Krieger","BGS Hardenberg-Pötter",{"$f":"CONCATENATE(VLOOKUP(A1847,bangolf_kategorien!$A$2:$B$11,2,FALSE),\": \",D1847,\", \",C1847)","v":"D: Krieger, Simone"},{"$f":"VLOOKUP(A1847,bangolf_kategorien!$A$2:$B$11,2,FALSE)","v":"D"}]
["hs",38453,"Thomas","Krieger","1. MGC München-Feldmoching",{"$f":"CONCATENATE(VLOOKUP(A1848,bangolf_kategorien!$A$2:$B$11,2,FALSE),\": \",D1848,\", \",C1848)","v":"H: Krieger, Thomas"},{"$f":"VLOOKUP(A1848,bangolf_kategorien!$A$2:$B$11,2,FALSE)","v":"H"}]
["hv",66265,"Wolfgang","Krieger","Minigolf Wölfe Rheinstetten 02",{"$f":"CONCATENATE(VLOOKUP(A1849,bangolf_kategorien!$A$2:$B$11,2,FALSE),\": \",D1849,\", \",C1849)","v":"SM2: Krieger, Wolfgang"},{"$f":"VLOOKUP(A1849,bangolf_kategorien!$A$2:$B$11,2,FALSE)","v":"SM2"}]
["og",40965,"Susanne","Kritsch","1. BGC Wolfsburg",{"$f":"CONCATENATE(VLOOKUP(A1850,bangolf_kategorien!$A$2:$B$11,2,FALSE),\": \",D1850,\", \",C1850)","v":"SW1: Kritsch, Susanne"},{"$f":"VLOOKUP(A1850,bangolf_kategorien!$A$2:$B$11,2,FALSE)","v":"SW1"}]
["hv",3168,"Erich","Kröger","MGC Brunsbüttel",{"$f":"CONCATENATE(VLOOKUP(A1851,bangolf_kategorien!$A$2:$B$11,2,FALSE),\": \",D1851,\", \",C1851)","v":"SM2: Kröger, Erich"},{"$f":"VLOOKUP(A1851,bangolf_kategorien!$A$2:$B$11,2,FALSE)","v":"SM2"}]
["dv",3116,"Maren","Kröger","MGC Brunsbüttel",{"$f":"CONCATENATE(VLOOKUP(A1852,bangolf_kategorien!$A$2:$B$11,2,FALSE),\": \",D1852,\", \",C1852)","v":"SW2: Kröger, Maren"},{"$f":"VLOOKUP(A1852,bangolf_kategorien!$A$2:$B$11,2,FALSE)","v":"SW2"}]
["hv",36528,"Wolfgang","Kröger","TSV Kücknitz Abt. Bahnengolf",{"$f":"CONCATENATE(VLOOKUP(A1853,bangolf_kategorien!$A$2:$B$11,2,FALSE),\": \",D1853,\", \",C1853)","v":"SM2: Kröger, Wolfgang"},{"$f":"VLOOKUP(A1853,bangolf_kategorien!$A$2:$B$11,2,FALSE)","v":"SM2"}]
["dv",40017,"Helene","Kröll","1. Porzer MGC Grün-Weiß 1969",{"$f":"CONCATENATE(VLOOKUP(A1854,bangolf_kategorien!$A$2:$B$11,2,FALSE),\": \",D1854,\", \",C1854)","v":"SW2: Kröll, Helene"},{"$f":"VLOOKUP(A1854,bangolf_kategorien!$A$2:$B$11,2,FALSE)","v":"SW2"}]
["hv",3365,"Johann","Kröll","BGC Dormagen",{"$f":"CONCATENATE(VLOOKUP(A1855,bangolf_kategorien!$A$2:$B$11,2,FALSE),\": \",D1855,\", \",C1855)","v":"SM2: Kröll, Johann"},{"$f":"VLOOKUP(A1855,bangolf_kategorien!$A$2:$B$11,2,FALSE)","v":"SM2"}]
["ob",35332,"Manfred","Kronenberg","Minigolfclub Karlshagen",{"$f":"CONCATENATE(VLOOKUP(A1856,bangolf_kategorien!$A$2:$B$11,2,FALSE),\": \",D1856,\", \",C1856)","v":"SM1: Kronenberg, Manfred"},{"$f":"VLOOKUP(A1856,bangolf_kategorien!$A$2:$B$11,2,FALSE)","v":"SM1"}]
["pa",64901,"Florian","Kronschnabl","1. Münchener MGC",{"$f":"CONCATENATE(VLOOKUP(A1857,bangolf_kategorien!$A$2:$B$11,2,FALSE),\": \",D1857,\", \",C1857)","v":"SCHM: Kronschnabl, Florian"},{"$f":"VLOOKUP(A1857,bangolf_kategorien!$A$2:$B$11,2,FALSE)","v":"SCHM"}]
["ob",36647,"Manfred","Kronschnabl","1. Münchener MGC",{"$f":"CONCATENATE(VLOOKUP(A1858,bangolf_kategorien!$A$2:$B$11,2,FALSE),\": \",D1858,\", \",C1858)","v":"SM1: Kronschnabl, Manfred"},{"$f":"VLOOKUP(A1858,bangolf_kategorien!$A$2:$B$11,2,FALSE)","v":"SM1"}]
["ds",66824,"Susann","Kronschnabl","1. Münchener MGC",{"$f":"CONCATENATE(VLOOKUP(A1859,bangolf_kategorien!$A$2:$B$11,2,FALSE),\": \",D1859,\", \",C1859)","v":"D: Kronschnabl, Susann"},{"$f":"VLOOKUP(A1859,bangolf_kategorien!$A$2:$B$11,2,FALSE)","v":"D"}]
["ob",67078,"Theo","Kronschnabl","BGC Illertissen",{"$f":"CONCATENATE(VLOOKUP(A1860,bangolf_kategorien!$A$2:$B$11,2,FALSE),\": \",D1860,\", \",C1860)","v":"SM1: Kronschnabl, Theo"},{"$f":"VLOOKUP(A1860,bangolf_kategorien!$A$2:$B$11,2,FALSE)","v":"SM1"}]
["hv",17833,"Erwin","Kroßa","BV Sennestadt",{"$f":"CONCATENATE(VLOOKUP(A1861,bangolf_kategorien!$A$2:$B$11,2,FALSE),\": \",D1861,\", \",C1861)","v":"SM2: Kroßa, Erwin"},{"$f":"VLOOKUP(A1861,bangolf_kategorien!$A$2:$B$11,2,FALSE)","v":"SM2"}]
["hv",17986,"Dietger","Krost","1. BGC Wolfsburg",{"$f":"CONCATENATE(VLOOKUP(A1862,bangolf_kategorien!$A$2:$B$11,2,FALSE),\": \",D1862,\", \",C1862)","v":"SM2: Krost, Dietger"},{"$f":"VLOOKUP(A1862,bangolf_kategorien!$A$2:$B$11,2,FALSE)","v":"SM2"}]
["ob",66558,"Bernhard","Krug","1. BGC Landshut",{"$f":"CONCATENATE(VLOOKUP(A1863,bangolf_kategorien!$A$2:$B$11,2,FALSE),\": \",D1863,\", \",C1863)","v":"SM1: Krug, Bernhard"},{"$f":"VLOOKUP(A1863,bangolf_kategorien!$A$2:$B$11,2,FALSE)","v":"SM1"}]
["hv",17741,"Reinhard","Krüger","1. MSC Hamburg-Neu Wulmstorf",{"$f":"CONCATENATE(VLOOKUP(A1864,bangolf_kategorien!$A$2:$B$11,2,FALSE),\": \",D1864,\", \",C1864)","v":"SM2: Krüger, Reinhard"},{"$f":"VLOOKUP(A1864,bangolf_kategorien!$A$2:$B$11,2,FALSE)","v":"SM2"}]
["hs",3112589,"Sebastian","Krüger","Hobby",{"$f":"CONCATENATE(VLOOKUP(A1865,bangolf_kategorien!$A$2:$B$11,2,FALSE),\": \",D1865,\", \",C1865)","v":"H: Krüger, Sebastian"},{"$f":"VLOOKUP(A1865,bangolf_kategorien!$A$2:$B$11,2,FALSE)","v":"H"}]
["hv",35890,"Siegfried","Krüger","BGSC Bochum 1978",{"$f":"CONCATENATE(VLOOKUP(A1866,bangolf_kategorien!$A$2:$B$11,2,FALSE),\": \",D1866,\", \",C1866)","v":"SM2: Krüger, Siegfried"},{"$f":"VLOOKUP(A1866,bangolf_kategorien!$A$2:$B$11,2,FALSE)","v":"SM2"}]
["hv",66657,"Karl-Heinz","Krull","1. MGC 1970 Göttingen",{"$f":"CONCATENATE(VLOOKUP(A1867,bangolf_kategorien!$A$2:$B$11,2,FALSE),\": \",D1867,\", \",C1867)","v":"SM2: Krull, Karl-Heinz"},{"$f":"VLOOKUP(A1867,bangolf_kategorien!$A$2:$B$11,2,FALSE)","v":"SM2"}]
["hs",958,"Michael","Krull","1. MGC 1970 Göttingen",{"$f":"CONCATENATE(VLOOKUP(A1868,bangolf_kategorien!$A$2:$B$11,2,FALSE),\": \",D1868,\", \",C1868)","v":"H: Krull, Michael"},{"$f":"VLOOKUP(A1868,bangolf_kategorien!$A$2:$B$11,2,FALSE)","v":"H"}]
["og",42429,"Patricia","Krumay","TSV Pfungstadt Abt. Bahnengolf",{"$f":"CONCATENATE(VLOOKUP(A1869,bangolf_kategorien!$A$2:$B$11,2,FALSE),\": \",D1869,\", \",C1869)","v":"SW1: Krumay, Patricia"},{"$f":"VLOOKUP(A1869,bangolf_kategorien!$A$2:$B$11,2,FALSE)","v":"SW1"}]
["ob",36856,"Kai","Krumm","HMC Büttgen",{"$f":"CONCATENATE(VLOOKUP(A1870,bangolf_kategorien!$A$2:$B$11,2,FALSE),\": \",D1870,\", \",C1870)","v":"SM1: Krumm, Kai"},{"$f":"VLOOKUP(A1870,bangolf_kategorien!$A$2:$B$11,2,FALSE)","v":"SM1"}]
["og",65839,"Melanie","Krumm","HMC Büttgen",{"$f":"CONCATENATE(VLOOKUP(A1871,bangolf_kategorien!$A$2:$B$11,2,FALSE),\": \",D1871,\", \",C1871)","v":"SW1: Krumm, Melanie"},{"$f":"VLOOKUP(A1871,bangolf_kategorien!$A$2:$B$11,2,FALSE)","v":"SW1"}]
["hj",67466,"Finn Åke","Krüper","MGC Bad Oldesloe",{"$f":"CONCATENATE(VLOOKUP(A1872,bangolf_kategorien!$A$2:$B$11,2,FALSE),\": \",D1872,\", \",C1872)","v":"JM: Krüper, Finn Åke"},{"$f":"VLOOKUP(A1872,bangolf_kategorien!$A$2:$B$11,2,FALSE)","v":"JM"}]
["ds",67467,"Stefanie","Krüper","MGC Bad Oldesloe",{"$f":"CONCATENATE(VLOOKUP(A1873,bangolf_kategorien!$A$2:$B$11,2,FALSE),\": \",D1873,\", \",C1873)","v":"D: Krüper, Stefanie"},{"$f":"VLOOKUP(A1873,bangolf_kategorien!$A$2:$B$11,2,FALSE)","v":"D"}]
["ob",47258,"André","Kruse","MGC Bad Salzuflen",{"$f":"CONCATENATE(VLOOKUP(A1874,bangolf_kategorien!$A$2:$B$11,2,FALSE),\": \",D1874,\", \",C1874)","v":"SM1: Kruse, André"},{"$f":"VLOOKUP(A1874,bangolf_kategorien!$A$2:$B$11,2,FALSE)","v":"SM1"}]
["ob",67169,"Klaus-Bernd","Kruse","MGC Millennium Lorsch",{"$f":"CONCATENATE(VLOOKUP(A1875,bangolf_kategorien!$A$2:$B$11,2,FALSE),\": \",D1875,\", \",C1875)","v":"SM1: Kruse, Klaus-Bernd"},{"$f":"VLOOKUP(A1875,bangolf_kategorien!$A$2:$B$11,2,FALSE)","v":"SM1"}]
["hv",40300,"Manfred","Krusenbaum","VfM Bottrop",{"$f":"CONCATENATE(VLOOKUP(A1876,bangolf_kategorien!$A$2:$B$11,2,FALSE),\": \",D1876,\", \",C1876)","v":"SM2: Krusenbaum, Manfred"},{"$f":"VLOOKUP(A1876,bangolf_kategorien!$A$2:$B$11,2,FALSE)","v":"SM2"}]
["og",50855,"Nicole","Krux","1. Porzer MGC Grün-Weiß 1969",{"$f":"CONCATENATE(VLOOKUP(A1877,bangolf_kategorien!$A$2:$B$11,2,FALSE),\": \",D1877,\", \",C1877)","v":"SW1: Krux, Nicole"},{"$f":"VLOOKUP(A1877,bangolf_kategorien!$A$2:$B$11,2,FALSE)","v":"SW1"}]
["hs",67017,"Maurice","Krzyza","BGSC Bochum 1978",{"$f":"CONCATENATE(VLOOKUP(A1878,bangolf_kategorien!$A$2:$B$11,2,FALSE),\": \",D1878,\", \",C1878)","v":"H: Krzyza, Maurice"},{"$f":"VLOOKUP(A1878,bangolf_kategorien!$A$2:$B$11,2,FALSE)","v":"H"}]
["hs",35655,"Sebastian","Kube","MGC Dormagen-Brechten",{"$f":"CONCATENATE(VLOOKUP(A1879,bangolf_kategorien!$A$2:$B$11,2,FALSE),\": \",D1879,\", \",C1879)","v":"H: Kube, Sebastian"},{"$f":"VLOOKUP(A1879,bangolf_kategorien!$A$2:$B$11,2,FALSE)","v":"H"}]
["hs",65952,"Kai","Kübler","MGC Monrepos",{"$f":"CONCATENATE(VLOOKUP(A1880,bangolf_kategorien!$A$2:$B$11,2,FALSE),\": \",D1880,\", \",C1880)","v":"H: Kübler, Kai"},{"$f":"VLOOKUP(A1880,bangolf_kategorien!$A$2:$B$11,2,FALSE)","v":"H"}]
["dv",66836,"Elke","Kubzda","MGV Bremen",{"$f":"CONCATENATE(VLOOKUP(A1881,bangolf_kategorien!$A$2:$B$11,2,FALSE),\": \",D1881,\", \",C1881)","v":"SW2: Kubzda, Elke"},{"$f":"VLOOKUP(A1881,bangolf_kategorien!$A$2:$B$11,2,FALSE)","v":"SW2"}]
["hv",66045,"Manfred","Kubzda","MGV Bremen",{"$f":"CONCATENATE(VLOOKUP(A1882,bangolf_kategorien!$A$2:$B$11,2,FALSE),\": \",D1882,\", \",C1882)","v":"SM2: Kubzda, Manfred"},{"$f":"VLOOKUP(A1882,bangolf_kategorien!$A$2:$B$11,2,FALSE)","v":"SM2"}]
["hv",42798,"Dieter","Kuck","BGV Backumer Tal Herten",{"$f":"CONCATENATE(VLOOKUP(A1883,bangolf_kategorien!$A$2:$B$11,2,FALSE),\": \",D1883,\", \",C1883)","v":"SM2: Kuck, Dieter"},{"$f":"VLOOKUP(A1883,bangolf_kategorien!$A$2:$B$11,2,FALSE)","v":"SM2"}]
["hv",37693,"Helmut","Kühbauch","1. MGC Metzingen",{"$f":"CONCATENATE(VLOOKUP(A1884,bangolf_kategorien!$A$2:$B$11,2,FALSE),\": \",D1884,\", \",C1884)","v":"SM2: Kühbauch, Helmut"},{"$f":"VLOOKUP(A1884,bangolf_kategorien!$A$2:$B$11,2,FALSE)","v":"SM2"}]
["hv",17549,"Dieter","Kuhl","Minigolfunion Neviges-Odenthal 1968",{"$f":"CONCATENATE(VLOOKUP(A1885,bangolf_kategorien!$A$2:$B$11,2,FALSE),\": \",D1885,\", \",C1885)","v":"SM2: Kuhl, Dieter"},{"$f":"VLOOKUP(A1885,bangolf_kategorien!$A$2:$B$11,2,FALSE)","v":"SM2"}]
["dv",62879,"Magdalena","Kuhl","Minigolfunion Neviges-Odenthal 1968",{"$f":"CONCATENATE(VLOOKUP(A1886,bangolf_kategorien!$A$2:$B$11,2,FALSE),\": \",D1886,\", \",C1886)","v":"SW2: Kuhl, Magdalena"},{"$f":"VLOOKUP(A1886,bangolf_kategorien!$A$2:$B$11,2,FALSE)","v":"SW2"}]
["ob",29326,"Peter","Kuhlenberg","1. MGSV Netphen",{"$f":"CONCATENATE(VLOOKUP(A1887,bangolf_kategorien!$A$2:$B$11,2,FALSE),\": \",D1887,\", \",C1887)","v":"SM1: Kuhlenberg, Peter"},{"$f":"VLOOKUP(A1887,bangolf_kategorien!$A$2:$B$11,2,FALSE)","v":"SM1"}]
["hs",66350,"Giuseppe","Kühmstädt","BGSV Castrop 1961",{"$f":"CONCATENATE(VLOOKUP(A1888,bangolf_kategorien!$A$2:$B$11,2,FALSE),\": \",D1888,\", \",C1888)","v":"H: Kühmstädt, Giuseppe"},{"$f":"VLOOKUP(A1888,bangolf_kategorien!$A$2:$B$11,2,FALSE)","v":"H"}]
["ob",44146,"André","Kuhn","1. MGC 1970 Göttingen",{"$f":"CONCATENATE(VLOOKUP(A1889,bangolf_kategorien!$A$2:$B$11,2,FALSE),\": \",D1889,\", \",C1889)","v":"SM1: Kuhn, André"},{"$f":"VLOOKUP(A1889,bangolf_kategorien!$A$2:$B$11,2,FALSE)","v":"SM1"}]
["hs",65929,"Dustin","Kuhn","1. MGV Spandau Berlin",{"$f":"CONCATENATE(VLOOKUP(A1890,bangolf_kategorien!$A$2:$B$11,2,FALSE),\": \",D1890,\", \",C1890)","v":"H: Kuhn, Dustin"},{"$f":"VLOOKUP(A1890,bangolf_kategorien!$A$2:$B$11,2,FALSE)","v":"H"}]
["hv",67557,"Rolf","Kuhn","Minigolf Wölfe Rheinstetten 02",{"$f":"CONCATENATE(VLOOKUP(A1891,bangolf_kategorien!$A$2:$B$11,2,FALSE),\": \",D1891,\", \",C1891)","v":"SM2: Kuhn, Rolf"},{"$f":"VLOOKUP(A1891,bangolf_kategorien!$A$2:$B$11,2,FALSE)","v":"SM2"}]
["ob",66860,"Marco","Kühn","MGC Rot-Weiß Wanne-Eickel",{"$f":"CONCATENATE(VLOOKUP(A1892,bangolf_kategorien!$A$2:$B$11,2,FALSE),\": \",D1892,\", \",C1892)","v":"SM1: Kühn, Marco"},{"$f":"VLOOKUP(A1892,bangolf_kategorien!$A$2:$B$11,2,FALSE)","v":"SM1"}]
["hs",67420,"Michael","Kühnel","1. MGSV Netphen",{"$f":"CONCATENATE(VLOOKUP(A1893,bangolf_kategorien!$A$2:$B$11,2,FALSE),\": \",D1893,\", \",C1893)","v":"H: Kühnel, Michael"},{"$f":"VLOOKUP(A1893,bangolf_kategorien!$A$2:$B$11,2,FALSE)","v":"H"}]
["hv",40132,"Ingo","Kuhnert","MGC Wertheim 91",{"$f":"CONCATENATE(VLOOKUP(A1894,bangolf_kategorien!$A$2:$B$11,2,FALSE),\": \",D1894,\", \",C1894)","v":"SM2: Kuhnert, Ingo"},{"$f":"VLOOKUP(A1894,bangolf_kategorien!$A$2:$B$11,2,FALSE)","v":"SM2"}]
["hs",45671,"Stefan","Küll","MGC Bad Salzuflen",{"$f":"CONCATENATE(VLOOKUP(A1895,bangolf_kategorien!$A$2:$B$11,2,FALSE),\": \",D1895,\", \",C1895)","v":"H: Küll, Stefan"},{"$f":"VLOOKUP(A1895,bangolf_kategorien!$A$2:$B$11,2,FALSE)","v":"H"}]
["hs",40126,"Christian","Kullick","Tempelhofer MV Berlin",{"$f":"CONCATENATE(VLOOKUP(A1896,bangolf_kategorien!$A$2:$B$11,2,FALSE),\": \",D1896,\", \",C1896)","v":"H: Kullick, Christian"},{"$f":"VLOOKUP(A1896,bangolf_kategorien!$A$2:$B$11,2,FALSE)","v":"H"}]
["hv",20595,"Robert","Kullick","Tempelhofer MV Berlin",{"$f":"CONCATENATE(VLOOKUP(A1897,bangolf_kategorien!$A$2:$B$11,2,FALSE),\": \",D1897,\", \",C1897)","v":"SM2: Kullick, Robert"},{"$f":"VLOOKUP(A1897,bangolf_kategorien!$A$2:$B$11,2,FALSE)","v":"SM2"}]
["hs",66042,"Ingo","Kullmann","MSV Bad Kreuznach",{"$f":"CONCATENATE(VLOOKUP(A1898,bangolf_kategorien!$A$2:$B$11,2,FALSE),\": \",D1898,\", \",C1898)","v":"H: Kullmann, Ingo"},{"$f":"VLOOKUP(A1898,bangolf_kategorien!$A$2:$B$11,2,FALSE)","v":"H"}]
["hv",44774,"Peter","Kulse","MGC Olympia Kiel",{"$f":"CONCATENATE(VLOOKUP(A1899,bangolf_kategorien!$A$2:$B$11,2,FALSE),\": \",D1899,\", \",C1899)","v":"SM2: Kulse, Peter"},{"$f":"VLOOKUP(A1899,bangolf_kategorien!$A$2:$B$11,2,FALSE)","v":"SM2"}]
["hv",21411,"Wolfgang","Kunert","1. MGC Bamberg",{"$f":"CONCATENATE(VLOOKUP(A1900,bangolf_kategorien!$A$2:$B$11,2,FALSE),\": \",D1900,\", \",C1900)","v":"SM2: Kunert, Wolfgang"},{"$f":"VLOOKUP(A1900,bangolf_kategorien!$A$2:$B$11,2,FALSE)","v":"SM2"}]
["hv",38351,"Herbert","Kunimünch","BSV Inzlingen 1979",{"$f":"CONCATENATE(VLOOKUP(A1901,bangolf_kategorien!$A$2:$B$11,2,FALSE),\": \",D1901,\", \",C1901)","v":"SM2: Kunimünch, Herbert"},{"$f":"VLOOKUP(A1901,bangolf_kategorien!$A$2:$B$11,2,FALSE)","v":"SM2"}]
["dv",38352,"Monika","Kunimünch","BSV Inzlingen 1979",{"$f":"CONCATENATE(VLOOKUP(A1902,bangolf_kategorien!$A$2:$B$11,2,FALSE),\": \",D1902,\", \",C1902)","v":"SW2: Kunimünch, Monika"},{"$f":"VLOOKUP(A1902,bangolf_kategorien!$A$2:$B$11,2,FALSE)","v":"SW2"}]
["ds",67316,"Jennifer","Kunisch","MGC Monrepos",{"$f":"CONCATENATE(VLOOKUP(A1903,bangolf_kategorien!$A$2:$B$11,2,FALSE),\": \",D1903,\", \",C1903)","v":"D: Kunisch, Jennifer"},{"$f":"VLOOKUP(A1903,bangolf_kategorien!$A$2:$B$11,2,FALSE)","v":"D"}]
["ob",30336,"Jens-Michael","Künnecke","BGC Northeim",{"$f":"CONCATENATE(VLOOKUP(A1904,bangolf_kategorien!$A$2:$B$11,2,FALSE),\": \",D1904,\", \",C1904)","v":"SM1: Künnecke, Jens-Michael"},{"$f":"VLOOKUP(A1904,bangolf_kategorien!$A$2:$B$11,2,FALSE)","v":"SM1"}]
["ob",33427,"Andreas","Kunstmann","Elbhavelland, Abt. Minigolfsport",{"$f":"CONCATENATE(VLOOKUP(A1905,bangolf_kategorien!$A$2:$B$11,2,FALSE),\": \",D1905,\", \",C1905)","v":"SM1: Kunstmann, Andreas"},{"$f":"VLOOKUP(A1905,bangolf_kategorien!$A$2:$B$11,2,FALSE)","v":"SM1"}]
["hs",33425,"Marcel","Kunstmann","Elbhavelland, Abt. Minigolfsport",{"$f":"CONCATENATE(VLOOKUP(A1906,bangolf_kategorien!$A$2:$B$11,2,FALSE),\": \",D1906,\", \",C1906)","v":"H: Kunstmann, Marcel"},{"$f":"VLOOKUP(A1906,bangolf_kategorien!$A$2:$B$11,2,FALSE)","v":"H"}]
["ob",30521,"Markus","Kuntermann","Cobigolf-Verein Hamm 2019",{"$f":"CONCATENATE(VLOOKUP(A1907,bangolf_kategorien!$A$2:$B$11,2,FALSE),\": \",D1907,\", \",C1907)","v":"SM1: Kuntermann, Markus"},{"$f":"VLOOKUP(A1907,bangolf_kategorien!$A$2:$B$11,2,FALSE)","v":"SM1"}]
["ob",38162,"Holger","Kuntz","1. MGC Saar 68 St. Ingbert",{"$f":"CONCATENATE(VLOOKUP(A1908,bangolf_kategorien!$A$2:$B$11,2,FALSE),\": \",D1908,\", \",C1908)","v":"SM1: Kuntz, Holger"},{"$f":"VLOOKUP(A1908,bangolf_kategorien!$A$2:$B$11,2,FALSE)","v":"SM1"}]
["ob",66428,"Jürgen","Kuntze","TSV Pfungstadt Abt. Bahnengolf",{"$f":"CONCATENATE(VLOOKUP(A1909,bangolf_kategorien!$A$2:$B$11,2,FALSE),\": \",D1909,\", \",C1909)","v":"SM1: Kuntze, Jürgen"},{"$f":"VLOOKUP(A1909,bangolf_kategorien!$A$2:$B$11,2,FALSE)","v":"SM1"}]
["ds",66139,"Lisa","Kuntze","TSV Pfungstadt Abt. Bahnengolf",{"$f":"CONCATENATE(VLOOKUP(A1910,bangolf_kategorien!$A$2:$B$11,2,FALSE),\": \",D1910,\", \",C1910)","v":"D: Kuntze, Lisa"},{"$f":"VLOOKUP(A1910,bangolf_kategorien!$A$2:$B$11,2,FALSE)","v":"D"}]
["hv",5225,"Bernd","Kunz","Preetzer TSV von 1861 Abt. Minigolf",{"$f":"CONCATENATE(VLOOKUP(A1911,bangolf_kategorien!$A$2:$B$11,2,FALSE),\": \",D1911,\", \",C1911)","v":"SM2: Kunz, Bernd"},{"$f":"VLOOKUP(A1911,bangolf_kategorien!$A$2:$B$11,2,FALSE)","v":"SM2"}]
["dv",25024,"Helga","Kunz","Preetzer TSV von 1861 Abt. Minigolf",{"$f":"CONCATENATE(VLOOKUP(A1912,bangolf_kategorien!$A$2:$B$11,2,FALSE),\": \",D1912,\", \",C1912)","v":"SW2: Kunz, Helga"},{"$f":"VLOOKUP(A1912,bangolf_kategorien!$A$2:$B$11,2,FALSE)","v":"SW2"}]
["ob",66519,"Peter","Kunz","1. MGC Kassel 1964",{"$f":"CONCATENATE(VLOOKUP(A1913,bangolf_kategorien!$A$2:$B$11,2,FALSE),\": \",D1913,\", \",C1913)","v":"SM1: Kunz, Peter"},{"$f":"VLOOKUP(A1913,bangolf_kategorien!$A$2:$B$11,2,FALSE)","v":"SM1"}]
["ds",66977,"Simone","Kunz","1. MGC Kassel 1964",{"$f":"CONCATENATE(VLOOKUP(A1914,bangolf_kategorien!$A$2:$B$11,2,FALSE),\": \",D1914,\", \",C1914)","v":"D: Kunz, Simone"},{"$f":"VLOOKUP(A1914,bangolf_kategorien!$A$2:$B$11,2,FALSE)","v":"D"}]
["hv",6538,"Hans-Peter","Künzel","1. MGC Ludwigshafen",{"$f":"CONCATENATE(VLOOKUP(A1915,bangolf_kategorien!$A$2:$B$11,2,FALSE),\": \",D1915,\", \",C1915)","v":"SM2: Künzel, Hans-Peter"},{"$f":"VLOOKUP(A1915,bangolf_kategorien!$A$2:$B$11,2,FALSE)","v":"SM2"}]
["hs",66855,"Thorsten","Kurkowski","1. MGC Gelsenkirchen",{"$f":"CONCATENATE(VLOOKUP(A1916,bangolf_kategorien!$A$2:$B$11,2,FALSE),\": \",D1916,\", \",C1916)","v":"H: Kurkowski, Thorsten"},{"$f":"VLOOKUP(A1916,bangolf_kategorien!$A$2:$B$11,2,FALSE)","v":"H"}]
["hs",37998,"Patrick","Kurtz","BGSC Bochum 1978",{"$f":"CONCATENATE(VLOOKUP(A1917,bangolf_kategorien!$A$2:$B$11,2,FALSE),\": \",D1917,\", \",C1917)","v":"H: Kurtz, Patrick"},{"$f":"VLOOKUP(A1917,bangolf_kategorien!$A$2:$B$11,2,FALSE)","v":"H"}]
["hv",38084,"Rainer","Kurtz","BGSC Bochum 1978",{"$f":"CONCATENATE(VLOOKUP(A1918,bangolf_kategorien!$A$2:$B$11,2,FALSE),\": \",D1918,\", \",C1918)","v":"SM2: Kurtz, Rainer"},{"$f":"VLOOKUP(A1918,bangolf_kategorien!$A$2:$B$11,2,FALSE)","v":"SM2"}]
["hs",34665,"Jochen","Kurz","1. MGC Metzingen",{"$f":"CONCATENATE(VLOOKUP(A1919,bangolf_kategorien!$A$2:$B$11,2,FALSE),\": \",D1919,\", \",C1919)","v":"H: Kurz, Jochen"},{"$f":"VLOOKUP(A1919,bangolf_kategorien!$A$2:$B$11,2,FALSE)","v":"H"}]
["hs",41007,"Mikael","Kurzweg","Bochumer Minigolf-Club 1960",{"$f":"CONCATENATE(VLOOKUP(A1920,bangolf_kategorien!$A$2:$B$11,2,FALSE),\": \",D1920,\", \",C1920)","v":"H: Kurzweg, Mikael"},{"$f":"VLOOKUP(A1920,bangolf_kategorien!$A$2:$B$11,2,FALSE)","v":"H"}]
["hs",66103,"Raphael","Kuschel","MGC Dormagen-Brechten",{"$f":"CONCATENATE(VLOOKUP(A1921,bangolf_kategorien!$A$2:$B$11,2,FALSE),\": \",D1921,\", \",C1921)","v":"H: Kuschel, Raphael"},{"$f":"VLOOKUP(A1921,bangolf_kategorien!$A$2:$B$11,2,FALSE)","v":"H"}]
["ob",3202770,"Sven","Kuschmann","Hobby",{"$f":"CONCATENATE(VLOOKUP(A1922,bangolf_kategorien!$A$2:$B$11,2,FALSE),\": \",D1922,\", \",C1922)","v":"SM1: Kuschmann, Sven"},{"$f":"VLOOKUP(A1922,bangolf_kategorien!$A$2:$B$11,2,FALSE)","v":"SM1"}]
["hv",23321,"Jürgen","Kuß","1. MGC Mannheim 1968",{"$f":"CONCATENATE(VLOOKUP(A1923,bangolf_kategorien!$A$2:$B$11,2,FALSE),\": \",D1923,\", \",C1923)","v":"SM2: Kuß, Jürgen"},{"$f":"VLOOKUP(A1923,bangolf_kategorien!$A$2:$B$11,2,FALSE)","v":"SM2"}]
["hv",46027,"Bernd","Kussnereit","MGC Homburger Land",{"$f":"CONCATENATE(VLOOKUP(A1924,bangolf_kategorien!$A$2:$B$11,2,FALSE),\": \",D1924,\", \",C1924)","v":"SM2: Kussnereit, Bernd"},{"$f":"VLOOKUP(A1924,bangolf_kategorien!$A$2:$B$11,2,FALSE)","v":"SM2"}]
["hv",5956,"Helmut","Kuttig","Minigolfunion Neviges-Odenthal 1968",{"$f":"CONCATENATE(VLOOKUP(A1925,bangolf_kategorien!$A$2:$B$11,2,FALSE),\": \",D1925,\", \",C1925)","v":"SM2: Kuttig, Helmut"},{"$f":"VLOOKUP(A1925,bangolf_kategorien!$A$2:$B$11,2,FALSE)","v":"SM2"}]
["dv",25371,"Andrea","Laber","BIG ASPERG",{"$f":"CONCATENATE(VLOOKUP(A1926,bangolf_kategorien!$A$2:$B$11,2,FALSE),\": \",D1926,\", \",C1926)","v":"SW2: Laber, Andrea"},{"$f":"VLOOKUP(A1926,bangolf_kategorien!$A$2:$B$11,2,FALSE)","v":"SW2"}]
["hv",25372,"Emil","Laber","BIG ASPERG",{"$f":"CONCATENATE(VLOOKUP(A1927,bangolf_kategorien!$A$2:$B$11,2,FALSE),\": \",D1927,\", \",C1927)","v":"SM2: Laber, Emil"},{"$f":"VLOOKUP(A1927,bangolf_kategorien!$A$2:$B$11,2,FALSE)","v":"SM2"}]
["ob",67419,"Peter","Labude","VfL Lohbrügge Abt. Bahnengolf",{"$f":"CONCATENATE(VLOOKUP(A1928,bangolf_kategorien!$A$2:$B$11,2,FALSE),\": \",D1928,\", \",C1928)","v":"SM1: Labude, Peter"},{"$f":"VLOOKUP(A1928,bangolf_kategorien!$A$2:$B$11,2,FALSE)","v":"SM1"}]
["og",49742,"Britta","Lagerquist","MGC Olympia Kiel",{"$f":"CONCATENATE(VLOOKUP(A1929,bangolf_kategorien!$A$2:$B$11,2,FALSE),\": \",D1929,\", \",C1929)","v":"SW1: Lagerquist, Britta"},{"$f":"VLOOKUP(A1929,bangolf_kategorien!$A$2:$B$11,2,FALSE)","v":"SW1"}]
["hs",29677,"René","Lagerquist","MGC Olympia Kiel",{"$f":"CONCATENATE(VLOOKUP(A1930,bangolf_kategorien!$A$2:$B$11,2,FALSE),\": \",D1930,\", \",C1930)","v":"H: Lagerquist, René"},{"$f":"VLOOKUP(A1930,bangolf_kategorien!$A$2:$B$11,2,FALSE)","v":"H"}]
["ob",41848,"Stefan","Lahann","1. MSC Hamburg-Neu Wulmstorf",{"$f":"CONCATENATE(VLOOKUP(A1931,bangolf_kategorien!$A$2:$B$11,2,FALSE),\": \",D1931,\", \",C1931)","v":"SM1: Lahann, Stefan"},{"$f":"VLOOKUP(A1931,bangolf_kategorien!$A$2:$B$11,2,FALSE)","v":"SM1"}]
["dv",65072,"Cornelia","Lais","1. Münchener MGC",{"$f":"CONCATENATE(VLOOKUP(A1932,bangolf_kategorien!$A$2:$B$11,2,FALSE),\": \",D1932,\", \",C1932)","v":"SW2: Lais, Cornelia"},{"$f":"VLOOKUP(A1932,bangolf_kategorien!$A$2:$B$11,2,FALSE)","v":"SW2"}]
["hv",5260,"Peter","Lais","1. Münchener MGC",{"$f":"CONCATENATE(VLOOKUP(A1933,bangolf_kategorien!$A$2:$B$11,2,FALSE),\": \",D1933,\", \",C1933)","v":"SM2: Lais, Peter"},{"$f":"VLOOKUP(A1933,bangolf_kategorien!$A$2:$B$11,2,FALSE)","v":"SM2"}]
["ob",3304412,"Sebastian","Lakner","Hobby",{"$f":"CONCATENATE(VLOOKUP(A1934,bangolf_kategorien!$A$2:$B$11,2,FALSE),\": \",D1934,\", \",C1934)","v":"SM1: Lakner, Sebastian"},{"$f":"VLOOKUP(A1934,bangolf_kategorien!$A$2:$B$11,2,FALSE)","v":"SM1"}]
["ob",29247,"Andreas","Lammers","VfM Bottrop",{"$f":"CONCATENATE(VLOOKUP(A1935,bangolf_kategorien!$A$2:$B$11,2,FALSE),\": \",D1935,\", \",C1935)","v":"SM1: Lammers, Andreas"},{"$f":"VLOOKUP(A1935,bangolf_kategorien!$A$2:$B$11,2,FALSE)","v":"SM1"}]
["ds",3210819,"Anne","Landgraf","Hobby",{"$f":"CONCATENATE(VLOOKUP(A1936,bangolf_kategorien!$A$2:$B$11,2,FALSE),\": \",D1936,\", \",C1936)","v":"D: Landgraf, Anne"},{"$f":"VLOOKUP(A1936,bangolf_kategorien!$A$2:$B$11,2,FALSE)","v":"D"}]
["dv",31613,"Christa","Landl","BSV 86 München",{"$f":"CONCATENATE(VLOOKUP(A1937,bangolf_kategorien!$A$2:$B$11,2,FALSE),\": \",D1937,\", \",C1937)","v":"SW2: Landl, Christa"},{"$f":"VLOOKUP(A1937,bangolf_kategorien!$A$2:$B$11,2,FALSE)","v":"SW2"}]
["hv",6879,"Helmut","Landl","BSV 86 München",{"$f":"CONCATENATE(VLOOKUP(A1938,bangolf_kategorien!$A$2:$B$11,2,FALSE),\": \",D1938,\", \",C1938)","v":"SM2: Landl, Helmut"},{"$f":"VLOOKUP(A1938,bangolf_kategorien!$A$2:$B$11,2,FALSE)","v":"SM2"}]
["hs",35806,"Martin","Lanfer","MGC Dormagen-Brechten",{"$f":"CONCATENATE(VLOOKUP(A1939,bangolf_kategorien!$A$2:$B$11,2,FALSE),\": \",D1939,\", \",C1939)","v":"H: Lanfer, Martin"},{"$f":"VLOOKUP(A1939,bangolf_kategorien!$A$2:$B$11,2,FALSE)","v":"H"}]
["ob",46037,"Ewald","Lang","MSC Bad Godesberg",{"$f":"CONCATENATE(VLOOKUP(A1940,bangolf_kategorien!$A$2:$B$11,2,FALSE),\": \",D1940,\", \",C1940)","v":"SM1: Lang, Ewald"},{"$f":"VLOOKUP(A1940,bangolf_kategorien!$A$2:$B$11,2,FALSE)","v":"SM1"}]
["hs",30907,"Jürgen","Lang","1. MGC Mitterteich-Großbüchlberg",{"$f":"CONCATENATE(VLOOKUP(A1941,bangolf_kategorien!$A$2:$B$11,2,FALSE),\": \",D1941,\", \",C1941)","v":"H: Lang, Jürgen"},{"$f":"VLOOKUP(A1941,bangolf_kategorien!$A$2:$B$11,2,FALSE)","v":"H"}]
["ob",34780,"Jürgen","Lang","1. MGC Süßen",{"$f":"CONCATENATE(VLOOKUP(A1942,bangolf_kategorien!$A$2:$B$11,2,FALSE),\": \",D1942,\", \",C1942)","v":"SM1: Lang, Jürgen"},{"$f":"VLOOKUP(A1942,bangolf_kategorien!$A$2:$B$11,2,FALSE)","v":"SM1"}]
["hv",37857,"Michael","Lang","BGC Bildstock",{"$f":"CONCATENATE(VLOOKUP(A1943,bangolf_kategorien!$A$2:$B$11,2,FALSE),\": \",D1943,\", \",C1943)","v":"SM2: Lang, Michael"},{"$f":"VLOOKUP(A1943,bangolf_kategorien!$A$2:$B$11,2,FALSE)","v":"SM2"}]
["ds",64182,"Ramona","Lang","1. MGC Mitterteich-Großbüchlberg",{"$f":"CONCATENATE(VLOOKUP(A1944,bangolf_kategorien!$A$2:$B$11,2,FALSE),\": \",D1944,\", \",C1944)","v":"D: Lang, Ramona"},{"$f":"VLOOKUP(A1944,bangolf_kategorien!$A$2:$B$11,2,FALSE)","v":"D"}]
["hv",12503,"Dieter","Lange","MGC \"AS\" Witten 1963",{"$f":"CONCATENATE(VLOOKUP(A1945,bangolf_kategorien!$A$2:$B$11,2,FALSE),\": \",D1945,\", \",C1945)","v":"SM2: Lange, Dieter"},{"$f":"VLOOKUP(A1945,bangolf_kategorien!$A$2:$B$11,2,FALSE)","v":"SM2"}]
["hv",17614,"Friedrich","Lange","1.KGC Mönchengladbach",{"$f":"CONCATENATE(VLOOKUP(A1946,bangolf_kategorien!$A$2:$B$11,2,FALSE),\": \",D1946,\", \",C1946)","v":"SM2: Lange, Friedrich"},{"$f":"VLOOKUP(A1946,bangolf_kategorien!$A$2:$B$11,2,FALSE)","v":"SM2"}]
["hs",879,"Kevin","Lange","BGC Diepholz",{"$f":"CONCATENATE(VLOOKUP(A1947,bangolf_kategorien!$A$2:$B$11,2,FALSE),\": \",D1947,\", \",C1947)","v":"H: Lange, Kevin"},{"$f":"VLOOKUP(A1947,bangolf_kategorien!$A$2:$B$11,2,FALSE)","v":"H"}]
["dv",17112,"Maria","Lange","MGC \"AS\" Witten 1963",{"$f":"CONCATENATE(VLOOKUP(A1948,bangolf_kategorien!$A$2:$B$11,2,FALSE),\": \",D1948,\", \",C1948)","v":"SW2: Lange, Maria"},{"$f":"VLOOKUP(A1948,bangolf_kategorien!$A$2:$B$11,2,FALSE)","v":"SW2"}]
["dv",17615,"Marlene","Lange","1.KGC Mönchengladbach",{"$f":"CONCATENATE(VLOOKUP(A1949,bangolf_kategorien!$A$2:$B$11,2,FALSE),\": \",D1949,\", \",C1949)","v":"SW2: Lange, Marlene"},{"$f":"VLOOKUP(A1949,bangolf_kategorien!$A$2:$B$11,2,FALSE)","v":"SW2"}]
["hs",37204,"Philipp","Lange","BGSV Castrop 1961",{"$f":"CONCATENATE(VLOOKUP(A1950,bangolf_kategorien!$A$2:$B$11,2,FALSE),\": \",D1950,\", \",C1950)","v":"H: Lange, Philipp"},{"$f":"VLOOKUP(A1950,bangolf_kategorien!$A$2:$B$11,2,FALSE)","v":"H"}]
["hv",66415,"Wilfried","Lange","BGSV Castrop 1961",{"$f":"CONCATENATE(VLOOKUP(A1951,bangolf_kategorien!$A$2:$B$11,2,FALSE),\": \",D1951,\", \",C1951)","v":"SM2: Lange, Wilfried"},{"$f":"VLOOKUP(A1951,bangolf_kategorien!$A$2:$B$11,2,FALSE)","v":"SM2"}]
["ds",33485,"Bianca","Langenbacher","1. MGC Tuttlingen",{"$f":"CONCATENATE(VLOOKUP(A1952,bangolf_kategorien!$A$2:$B$11,2,FALSE),\": \",D1952,\", \",C1952)","v":"D: Langenbacher, Bianca"},{"$f":"VLOOKUP(A1952,bangolf_kategorien!$A$2:$B$11,2,FALSE)","v":"D"}]
["pa",67288,"Nick","Langer","1. MGC Kassel 1964",{"$f":"CONCATENATE(VLOOKUP(A1953,bangolf_kategorien!$A$2:$B$11,2,FALSE),\": \",D1953,\", \",C1953)","v":"SCHM: Langer, Nick"},{"$f":"VLOOKUP(A1953,bangolf_kategorien!$A$2:$B$11,2,FALSE)","v":"SCHM"}]
["ob",66571,"Viktor","Langer","MGC Ingolstadt",{"$f":"CONCATENATE(VLOOKUP(A1954,bangolf_kategorien!$A$2:$B$11,2,FALSE),\": \",D1954,\", \",C1954)","v":"SM1: Langer, Viktor"},{"$f":"VLOOKUP(A1954,bangolf_kategorien!$A$2:$B$11,2,FALSE)","v":"SM1"}]
["hv",29043,"Waldemar","Langer","1. BGC Landshut",{"$f":"CONCATENATE(VLOOKUP(A1955,bangolf_kategorien!$A$2:$B$11,2,FALSE),\": \",D1955,\", \",C1955)","v":"SM2: Langer, Waldemar"},{"$f":"VLOOKUP(A1955,bangolf_kategorien!$A$2:$B$11,2,FALSE)","v":"SM2"}]
["hs",66570,"Yannick","Langer","MGC Ingolstadt",{"$f":"CONCATENATE(VLOOKUP(A1956,bangolf_kategorien!$A$2:$B$11,2,FALSE),\": \",D1956,\", \",C1956)","v":"H: Langer, Yannick"},{"$f":"VLOOKUP(A1956,bangolf_kategorien!$A$2:$B$11,2,FALSE)","v":"H"}]
["ob",35700,"Martin","Langfeld","1. MGC Metzingen",{"$f":"CONCATENATE(VLOOKUP(A1957,bangolf_kategorien!$A$2:$B$11,2,FALSE),\": \",D1957,\", \",C1957)","v":"SM1: Langfeld, Martin"},{"$f":"VLOOKUP(A1957,bangolf_kategorien!$A$2:$B$11,2,FALSE)","v":"SM1"}]
["hv",34921,"Heinz","Langner","TSV 1848 Flöha",{"$f":"CONCATENATE(VLOOKUP(A1958,bangolf_kategorien!$A$2:$B$11,2,FALSE),\": \",D1958,\", \",C1958)","v":"SM2: Langner, Heinz"},{"$f":"VLOOKUP(A1958,bangolf_kategorien!$A$2:$B$11,2,FALSE)","v":"SM2"}]
["ds",902,"Janina","Laskowski","1. BGC Hannover",{"$f":"CONCATENATE(VLOOKUP(A1959,bangolf_kategorien!$A$2:$B$11,2,FALSE),\": \",D1959,\", \",C1959)","v":"D: Laskowski, Janina"},{"$f":"VLOOKUP(A1959,bangolf_kategorien!$A$2:$B$11,2,FALSE)","v":"D"}]
["hv",44812,"Günter","Lassen","MSC Herscheid 1963",{"$f":"CONCATENATE(VLOOKUP(A1960,bangolf_kategorien!$A$2:$B$11,2,FALSE),\": \",D1960,\", \",C1960)","v":"SM2: Lassen, Günter"},{"$f":"VLOOKUP(A1960,bangolf_kategorien!$A$2:$B$11,2,FALSE)","v":"SM2"}]
["ds",50101,"Tanja","Lauber-Selka","MSK Neheim-Hüsten",{"$f":"CONCATENATE(VLOOKUP(A1961,bangolf_kategorien!$A$2:$B$11,2,FALSE),\": \",D1961,\", \",C1961)","v":"D: Lauber-Selka, Tanja"},{"$f":"VLOOKUP(A1961,bangolf_kategorien!$A$2:$B$11,2,FALSE)","v":"D"}]
["ob",41392,"Holger","Lauble","MGF Waldshut 74",{"$f":"CONCATENATE(VLOOKUP(A1962,bangolf_kategorien!$A$2:$B$11,2,FALSE),\": \",D1962,\", \",C1962)","v":"SM1: Lauble, Holger"},{"$f":"VLOOKUP(A1962,bangolf_kategorien!$A$2:$B$11,2,FALSE)","v":"SM1"}]
["hv",6368,"Ekkehard","Lauer","OMGC Ingolstadt",{"$f":"CONCATENATE(VLOOKUP(A1963,bangolf_kategorien!$A$2:$B$11,2,FALSE),\": \",D1963,\", \",C1963)","v":"SM2: Lauer, Ekkehard"},{"$f":"VLOOKUP(A1963,bangolf_kategorien!$A$2:$B$11,2,FALSE)","v":"SM2"}]
["hj",66996,"Magnus","Lauf","MGF Magdeburg 1995",{"$f":"CONCATENATE(VLOOKUP(A1964,bangolf_kategorien!$A$2:$B$11,2,FALSE),\": \",D1964,\", \",C1964)","v":"JM: Lauf, Magnus"},{"$f":"VLOOKUP(A1964,bangolf_kategorien!$A$2:$B$11,2,FALSE)","v":"JM"}]
["og",67321,"Anja","Laurenz","Osnabrücker M.-C. von 1963",{"$f":"CONCATENATE(VLOOKUP(A1965,bangolf_kategorien!$A$2:$B$11,2,FALSE),\": \",D1965,\", \",C1965)","v":"SW1: Laurenz, Anja"},{"$f":"VLOOKUP(A1965,bangolf_kategorien!$A$2:$B$11,2,FALSE)","v":"SW1"}]
["ob",67322,"Gunter","Laurenz","Osnabrücker M.-C. von 1963",{"$f":"CONCATENATE(VLOOKUP(A1966,bangolf_kategorien!$A$2:$B$11,2,FALSE),\": \",D1966,\", \",C1966)","v":"SM1: Laurenz, Gunter"},{"$f":"VLOOKUP(A1966,bangolf_kategorien!$A$2:$B$11,2,FALSE)","v":"SM1"}]
["hv",66198,"Horst","Laurenz","MSG Kempten",{"$f":"CONCATENATE(VLOOKUP(A1967,bangolf_kategorien!$A$2:$B$11,2,FALSE),\": \",D1967,\", \",C1967)","v":"SM2: Laurenz, Horst"},{"$f":"VLOOKUP(A1967,bangolf_kategorien!$A$2:$B$11,2,FALSE)","v":"SM2"}]
["ds",34469,"Aylin","Lauterfeld","TSV Pfungstadt Abt. Bahnengolf",{"$f":"CONCATENATE(VLOOKUP(A1968,bangolf_kategorien!$A$2:$B$11,2,FALSE),\": \",D1968,\", \",C1968)","v":"D: Lauterfeld, Aylin"},{"$f":"VLOOKUP(A1968,bangolf_kategorien!$A$2:$B$11,2,FALSE)","v":"D"}]
["ob",33131,"Alexander","Laux","MGC Traben-Trarbach",{"$f":"CONCATENATE(VLOOKUP(A1969,bangolf_kategorien!$A$2:$B$11,2,FALSE),\": \",D1969,\", \",C1969)","v":"SM1: Laux, Alexander"},{"$f":"VLOOKUP(A1969,bangolf_kategorien!$A$2:$B$11,2,FALSE)","v":"SM1"}]
["hs",35659,"Marcel","Laux","MGC Traben-Trarbach",{"$f":"CONCATENATE(VLOOKUP(A1970,bangolf_kategorien!$A$2:$B$11,2,FALSE),\": \",D1970,\", \",C1970)","v":"H: Laux, Marcel"},{"$f":"VLOOKUP(A1970,bangolf_kategorien!$A$2:$B$11,2,FALSE)","v":"H"}]
["hj",67537,"Heinrich","Lay","MSC Bensheim-Auerbach",{"$f":"CONCATENATE(VLOOKUP(A1971,bangolf_kategorien!$A$2:$B$11,2,FALSE),\": \",D1971,\", \",C1971)","v":"JM: Lay, Heinrich"},{"$f":"VLOOKUP(A1971,bangolf_kategorien!$A$2:$B$11,2,FALSE)","v":"JM"}]
["og",47498,"Ilona","Lechler","MGC Schwaikheim",{"$f":"CONCATENATE(VLOOKUP(A1972,bangolf_kategorien!$A$2:$B$11,2,FALSE),\": \",D1972,\", \",C1972)","v":"SW1: Lechler, Ilona"},{"$f":"VLOOKUP(A1972,bangolf_kategorien!$A$2:$B$11,2,FALSE)","v":"SW1"}]
["hj",67187,"Justin","Lechtenfeld","MGC Rot-Weiß Wanne-Eickel",{"$f":"CONCATENATE(VLOOKUP(A1973,bangolf_kategorien!$A$2:$B$11,2,FALSE),\": \",D1973,\", \",C1973)","v":"JM: Lechtenfeld, Justin"},{"$f":"VLOOKUP(A1973,bangolf_kategorien!$A$2:$B$11,2,FALSE)","v":"JM"}]
["ob",64869,"Hans-Josef","Lefkes","BGC Uerdingen",{"$f":"CONCATENATE(VLOOKUP(A1974,bangolf_kategorien!$A$2:$B$11,2,FALSE),\": \",D1974,\", \",C1974)","v":"SM1: Lefkes, Hans-Josef"},{"$f":"VLOOKUP(A1974,bangolf_kategorien!$A$2:$B$11,2,FALSE)","v":"SM1"}]
["ob",48696,"Valentino","Legisa","BGSC \"Gut Schlag\" Gladbeck",{"$f":"CONCATENATE(VLOOKUP(A1975,bangolf_kategorien!$A$2:$B$11,2,FALSE),\": \",D1975,\", \",C1975)","v":"SM1: Legisa, Valentino"},{"$f":"VLOOKUP(A1975,bangolf_kategorien!$A$2:$B$11,2,FALSE)","v":"SM1"}]
["hs",67372,"Niclas","Lehmann","SC Olympia Dortmund",{"$f":"CONCATENATE(VLOOKUP(A1976,bangolf_kategorien!$A$2:$B$11,2,FALSE),\": \",D1976,\", \",C1976)","v":"H: Lehmann, Niclas"},{"$f":"VLOOKUP(A1976,bangolf_kategorien!$A$2:$B$11,2,FALSE)","v":"H"}]
["hv",66356,"Reiner","Lehmann","MGC \"Stahlquelle\" Bad Bocklet",{"$f":"CONCATENATE(VLOOKUP(A1977,bangolf_kategorien!$A$2:$B$11,2,FALSE),\": \",D1977,\", \",C1977)","v":"SM2: Lehmann, Reiner"},{"$f":"VLOOKUP(A1977,bangolf_kategorien!$A$2:$B$11,2,FALSE)","v":"SM2"}]
["og",3119658,"Annett","Leibiger","Hobby",{"$f":"CONCATENATE(VLOOKUP(A1978,bangolf_kategorien!$A$2:$B$11,2,FALSE),\": \",D1978,\", \",C1978)","v":"SW1: Leibiger, Annett"},{"$f":"VLOOKUP(A1978,bangolf_kategorien!$A$2:$B$11,2,FALSE)","v":"SW1"}]
["hs",32627,"Kevin","Leickel","MGC Olympia Kiel",{"$f":"CONCATENATE(VLOOKUP(A1979,bangolf_kategorien!$A$2:$B$11,2,FALSE),\": \",D1979,\", \",C1979)","v":"H: Leickel, Kevin"},{"$f":"VLOOKUP(A1979,bangolf_kategorien!$A$2:$B$11,2,FALSE)","v":"H"}]
["hv",35756,"Andreas","Leidlein","1. MGC Gelsenkirchen",{"$f":"CONCATENATE(VLOOKUP(A1980,bangolf_kategorien!$A$2:$B$11,2,FALSE),\": \",D1980,\", \",C1980)","v":"SM2: Leidlein, Andreas"},{"$f":"VLOOKUP(A1980,bangolf_kategorien!$A$2:$B$11,2,FALSE)","v":"SM2"}]
["hv",66327,"Adam","Leist","Minigolf Wölfe Rheinstetten 02",{"$f":"CONCATENATE(VLOOKUP(A1981,bangolf_kategorien!$A$2:$B$11,2,FALSE),\": \",D1981,\", \",C1981)","v":"SM2: Leist, Adam"},{"$f":"VLOOKUP(A1981,bangolf_kategorien!$A$2:$B$11,2,FALSE)","v":"SM2"}]
["hv",62202,"Dieter","Lemanczyk","1. MSC Hamburg-Neu Wulmstorf",{"$f":"CONCATENATE(VLOOKUP(A1982,bangolf_kategorien!$A$2:$B$11,2,FALSE),\": \",D1982,\", \",C1982)","v":"SM2: Lemanczyk, Dieter"},{"$f":"VLOOKUP(A1982,bangolf_kategorien!$A$2:$B$11,2,FALSE)","v":"SM2"}]
["ob",41235,"Hans","Lemanczyk","1. MSC Hamburg-Neu Wulmstorf",{"$f":"CONCATENATE(VLOOKUP(A1983,bangolf_kategorien!$A$2:$B$11,2,FALSE),\": \",D1983,\", \",C1983)","v":"SM1: Lemanczyk, Hans"},{"$f":"VLOOKUP(A1983,bangolf_kategorien!$A$2:$B$11,2,FALSE)","v":"SM1"}]
["hs",29671,"André","Lemke","MGC Olympia Kiel",{"$f":"CONCATENATE(VLOOKUP(A1984,bangolf_kategorien!$A$2:$B$11,2,FALSE),\": \",D1984,\", \",C1984)","v":"H: Lemke, André"},{"$f":"VLOOKUP(A1984,bangolf_kategorien!$A$2:$B$11,2,FALSE)","v":"H"}]
["og",41266,"Cornelia","Lemke","MGC Olympia Kiel",{"$f":"CONCATENATE(VLOOKUP(A1985,bangolf_kategorien!$A$2:$B$11,2,FALSE),\": \",D1985,\", \",C1985)","v":"SW1: Lemke, Cornelia"},{"$f":"VLOOKUP(A1985,bangolf_kategorien!$A$2:$B$11,2,FALSE)","v":"SW1"}]
["ob",28673,"Kai","Lemke","MGC Olympia Kiel",{"$f":"CONCATENATE(VLOOKUP(A1986,bangolf_kategorien!$A$2:$B$11,2,FALSE),\": \",D1986,\", \",C1986)","v":"SM1: Lemke, Kai"},{"$f":"VLOOKUP(A1986,bangolf_kategorien!$A$2:$B$11,2,FALSE)","v":"SM1"}]
["ds",34585,"Sabrina","Lemke","MGC Olympia Kiel",{"$f":"CONCATENATE(VLOOKUP(A1987,bangolf_kategorien!$A$2:$B$11,2,FALSE),\": \",D1987,\", \",C1987)","v":"D: Lemke, Sabrina"},{"$f":"VLOOKUP(A1987,bangolf_kategorien!$A$2:$B$11,2,FALSE)","v":"D"}]
["ob",67207,"Thomas","Lemke","Kölner Miniatur Golf Club",{"$f":"CONCATENATE(VLOOKUP(A1988,bangolf_kategorien!$A$2:$B$11,2,FALSE),\": \",D1988,\", \",C1988)","v":"SM1: Lemke, Thomas"},{"$f":"VLOOKUP(A1988,bangolf_kategorien!$A$2:$B$11,2,FALSE)","v":"SM1"}]
["ob",44385,"Andreas","Lemm","MGC Freizeitzentrum Biebertal",{"$f":"CONCATENATE(VLOOKUP(A1989,bangolf_kategorien!$A$2:$B$11,2,FALSE),\": \",D1989,\", \",C1989)","v":"SM1: Lemm, Andreas"},{"$f":"VLOOKUP(A1989,bangolf_kategorien!$A$2:$B$11,2,FALSE)","v":"SM1"}]
["ob",67390,"Georg","Lemm","Kölner Miniatur Golf Club",{"$f":"CONCATENATE(VLOOKUP(A1990,bangolf_kategorien!$A$2:$B$11,2,FALSE),\": \",D1990,\", \",C1990)","v":"SM1: Lemm, Georg"},{"$f":"VLOOKUP(A1990,bangolf_kategorien!$A$2:$B$11,2,FALSE)","v":"SM1"}]
["og",67582,"Marita","Lemm","Kölner Miniatur Golf Club",{"$f":"CONCATENATE(VLOOKUP(A1991,bangolf_kategorien!$A$2:$B$11,2,FALSE),\": \",D1991,\", \",C1991)","v":"SW1: Lemm, Marita"},{"$f":"VLOOKUP(A1991,bangolf_kategorien!$A$2:$B$11,2,FALSE)","v":"SW1"}]
["ds",36891,"Anglique","Lempenauer","MGF Steinbruch Kempten",{"$f":"CONCATENATE(VLOOKUP(A1992,bangolf_kategorien!$A$2:$B$11,2,FALSE),\": \",D1992,\", \",C1992)","v":"D: Lempenauer, Anglique"},{"$f":"VLOOKUP(A1992,bangolf_kategorien!$A$2:$B$11,2,FALSE)","v":"D"}]
["hv",67220,"Georg","Lendzian","SC Olympia Dortmund",{"$f":"CONCATENATE(VLOOKUP(A1993,bangolf_kategorien!$A$2:$B$11,2,FALSE),\": \",D1993,\", \",C1993)","v":"SM2: Lendzian, Georg"},{"$f":"VLOOKUP(A1993,bangolf_kategorien!$A$2:$B$11,2,FALSE)","v":"SM2"}]
["ds",29795,"Katharina","Lenertz","MSC Herscheid 1963",{"$f":"CONCATENATE(VLOOKUP(A1994,bangolf_kategorien!$A$2:$B$11,2,FALSE),\": \",D1994,\", \",C1994)","v":"D: Lenertz, Katharina"},{"$f":"VLOOKUP(A1994,bangolf_kategorien!$A$2:$B$11,2,FALSE)","v":"D"}]
["hs",66434,"Markus","Lenertz","MSC Herscheid 1963",{"$f":"CONCATENATE(VLOOKUP(A1995,bangolf_kategorien!$A$2:$B$11,2,FALSE),\": \",D1995,\", \",C1995)","v":"H: Lenertz, Markus"},{"$f":"VLOOKUP(A1995,bangolf_kategorien!$A$2:$B$11,2,FALSE)","v":"H"}]
["ob",38613,"Andre","Lenger","MGC Bad Salzuflen",{"$f":"CONCATENATE(VLOOKUP(A1996,bangolf_kategorien!$A$2:$B$11,2,FALSE),\": \",D1996,\", \",C1996)","v":"SM1: Lenger, Andre"},{"$f":"VLOOKUP(A1996,bangolf_kategorien!$A$2:$B$11,2,FALSE)","v":"SM1"}]
["hv",61716,"Rolf","Lenk","MGC \"AS\" Witten 1963",{"$f":"CONCATENATE(VLOOKUP(A1997,bangolf_kategorien!$A$2:$B$11,2,FALSE),\": \",D1997,\", \",C1997)","v":"SM2: Lenk, Rolf"},{"$f":"VLOOKUP(A1997,bangolf_kategorien!$A$2:$B$11,2,FALSE)","v":"SM2"}]
["ob",26539,"Axel","Lenz","MGF Hilzingen 80",{"$f":"CONCATENATE(VLOOKUP(A1998,bangolf_kategorien!$A$2:$B$11,2,FALSE),\": \",D1998,\", \",C1998)","v":"SM1: Lenz, Axel"},{"$f":"VLOOKUP(A1998,bangolf_kategorien!$A$2:$B$11,2,FALSE)","v":"SM1"}]
["hv",38115,"Jürgen","Lenz","HMC Büttgen",{"$f":"CONCATENATE(VLOOKUP(A1999,bangolf_kategorien!$A$2:$B$11,2,FALSE),\": \",D1999,\", \",C1999)","v":"SM2: Lenz, Jürgen"},{"$f":"VLOOKUP(A1999,bangolf_kategorien!$A$2:$B$11,2,FALSE)","v":"SM2"}]
["dv",38038,"Susanne","Lenz-Fregin","PTSV Hof, Abt. Minigolf",{"$f":"CONCATENATE(VLOOKUP(A2000,bangolf_kategorien!$A$2:$B$11,2,FALSE),\": \",D2000,\", \",C2000)","v":"SW2: Lenz-Fregin, Susanne"},{"$f":"VLOOKUP(A2000,bangolf_kategorien!$A$2:$B$11,2,FALSE)","v":"SW2"}]
["hv",67315,"Heinz Peter","Leonhardt","MGC Bad Homburg vdH",{"$f":"CONCATENATE(VLOOKUP(A2001,bangolf_kategorien!$A$2:$B$11,2,FALSE),\": \",D2001,\", \",C2001)","v":"SM2: Leonhardt, Heinz Peter"},{"$f":"VLOOKUP(A2001,bangolf_kategorien!$A$2:$B$11,2,FALSE)","v":"SM2"}]
["hs",36564,"Björn","Lepa","TSV Salzgitter Abt. Bahnengolf",{"$f":"CONCATENATE(VLOOKUP(A2002,bangolf_kategorien!$A$2:$B$11,2,FALSE),\": \",D2002,\", \",C2002)","v":"H: Lepa, Björn"},{"$f":"VLOOKUP(A2002,bangolf_kategorien!$A$2:$B$11,2,FALSE)","v":"H"}]
["hs",35504,"Gerrit","Lerch","MC Ilvesheim",{"$f":"CONCATENATE(VLOOKUP(A2003,bangolf_kategorien!$A$2:$B$11,2,FALSE),\": \",D2003,\", \",C2003)","v":"H: Lerch, Gerrit"},{"$f":"VLOOKUP(A2003,bangolf_kategorien!$A$2:$B$11,2,FALSE)","v":"H"}]
["ob",66401,"Jörg","Leske","Tempelhofer MV Berlin",{"$f":"CONCATENATE(VLOOKUP(A2004,bangolf_kategorien!$A$2:$B$11,2,FALSE),\": \",D2004,\", \",C2004)","v":"SM1: Leske, Jörg"},{"$f":"VLOOKUP(A2004,bangolf_kategorien!$A$2:$B$11,2,FALSE)","v":"SM1"}]
["dv",5776,"Irena","Lesnik","SSV Ulm 1846 Abt. Bahnengolf",{"$f":"CONCATENATE(VLOOKUP(A2005,bangolf_kategorien!$A$2:$B$11,2,FALSE),\": \",D2005,\", \",C2005)","v":"SW2: Lesnik, Irena"},{"$f":"VLOOKUP(A2005,bangolf_kategorien!$A$2:$B$11,2,FALSE)","v":"SW2"}]
["hv",33676,"Erich","Less","BGC Schweinfurt",{"$f":"CONCATENATE(VLOOKUP(A2006,bangolf_kategorien!$A$2:$B$11,2,FALSE),\": \",D2006,\", \",C2006)","v":"SM2: Less, Erich"},{"$f":"VLOOKUP(A2006,bangolf_kategorien!$A$2:$B$11,2,FALSE)","v":"SM2"}]
["ob",40048,"Michael","Leßner","Bochumer Minigolf-Club 1960",{"$f":"CONCATENATE(VLOOKUP(A2007,bangolf_kategorien!$A$2:$B$11,2,FALSE),\": \",D2007,\", \",C2007)","v":"SM1: Leßner, Michael"},{"$f":"VLOOKUP(A2007,bangolf_kategorien!$A$2:$B$11,2,FALSE)","v":"SM1"}]
["hv",30039,"Reinhard","Letzel","BGC Rheinau-Freistett",{"$f":"CONCATENATE(VLOOKUP(A2008,bangolf_kategorien!$A$2:$B$11,2,FALSE),\": \",D2008,\", \",C2008)","v":"SM2: Letzel, Reinhard"},{"$f":"VLOOKUP(A2008,bangolf_kategorien!$A$2:$B$11,2,FALSE)","v":"SM2"}]
["hv",3756,"Hans-Winfried","Leuchtenberger","VfM Berlin",{"$f":"CONCATENATE(VLOOKUP(A2009,bangolf_kategorien!$A$2:$B$11,2,FALSE),\": \",D2009,\", \",C2009)","v":"SM2: Leuchtenberger, Hans-Winfried"},{"$f":"VLOOKUP(A2009,bangolf_kategorien!$A$2:$B$11,2,FALSE)","v":"SM2"}]
["dv",4072,"Sigrid","Leuchtenberger","VfM Berlin",{"$f":"CONCATENATE(VLOOKUP(A2010,bangolf_kategorien!$A$2:$B$11,2,FALSE),\": \",D2010,\", \",C2010)","v":"SW2: Leuchtenberger, Sigrid"},{"$f":"VLOOKUP(A2010,bangolf_kategorien!$A$2:$B$11,2,FALSE)","v":"SW2"}]
["hs",51324,"Marcus","Leuthäußer","MGV Bremen",{"$f":"CONCATENATE(VLOOKUP(A2011,bangolf_kategorien!$A$2:$B$11,2,FALSE),\": \",D2011,\", \",C2011)","v":"H: Leuthäußer, Marcus"},{"$f":"VLOOKUP(A2011,bangolf_kategorien!$A$2:$B$11,2,FALSE)","v":"H"}]
["hs",36908,"Philipp","Lewin","MSK Neheim-Hüsten",{"$f":"CONCATENATE(VLOOKUP(A2012,bangolf_kategorien!$A$2:$B$11,2,FALSE),\": \",D2012,\", \",C2012)","v":"H: Lewin, Philipp"},{"$f":"VLOOKUP(A2012,bangolf_kategorien!$A$2:$B$11,2,FALSE)","v":"H"}]
["dv",66907,"Karin","Leyer","SV 1890 Dreieichenhain, Abt. Bahnengolf",{"$f":"CONCATENATE(VLOOKUP(A2013,bangolf_kategorien!$A$2:$B$11,2,FALSE),\": \",D2013,\", \",C2013)","v":"SW2: Leyer, Karin"},{"$f":"VLOOKUP(A2013,bangolf_kategorien!$A$2:$B$11,2,FALSE)","v":"SW2"}]
["og",66351,"Heike","Liberoudis","BGC Bremen",{"$f":"CONCATENATE(VLOOKUP(A2014,bangolf_kategorien!$A$2:$B$11,2,FALSE),\": \",D2014,\", \",C2014)","v":"SW1: Liberoudis, Heike"},{"$f":"VLOOKUP(A2014,bangolf_kategorien!$A$2:$B$11,2,FALSE)","v":"SW1"}]
["hs",37633,"Jan Peter","Lichtenberg","1. KC Homburg-Saar 1967",{"$f":"CONCATENATE(VLOOKUP(A2015,bangolf_kategorien!$A$2:$B$11,2,FALSE),\": \",D2015,\", \",C2015)","v":"H: Lichtenberg, Jan Peter"},{"$f":"VLOOKUP(A2015,bangolf_kategorien!$A$2:$B$11,2,FALSE)","v":"H"}]
["hv",65975,"Hans-Jürgen","Lichterfeld","MGC Bergisch Gladbach Gierath",{"$f":"CONCATENATE(VLOOKUP(A2016,bangolf_kategorien!$A$2:$B$11,2,FALSE),\": \",D2016,\", \",C2016)","v":"SM2: Lichterfeld, Hans-Jürgen"},{"$f":"VLOOKUP(A2016,bangolf_kategorien!$A$2:$B$11,2,FALSE)","v":"SM2"}]
["hs",3106619,"Matthias","Lieb","Hobby",{"$f":"CONCATENATE(VLOOKUP(A2017,bangolf_kategorien!$A$2:$B$11,2,FALSE),\": \",D2017,\", \",C2017)","v":"H: Lieb, Matthias"},{"$f":"VLOOKUP(A2017,bangolf_kategorien!$A$2:$B$11,2,FALSE)","v":"H"}]
["hs",65873,"Johannes","Lieber","1. KC Homburg-Saar 1967",{"$f":"CONCATENATE(VLOOKUP(A2018,bangolf_kategorien!$A$2:$B$11,2,FALSE),\": \",D2018,\", \",C2018)","v":"H: Lieber, Johannes"},{"$f":"VLOOKUP(A2018,bangolf_kategorien!$A$2:$B$11,2,FALSE)","v":"H"}]
["hv",23980,"Bernhard","Liebetrau","Miniaturgolf Sportclub Schriesheim",{"$f":"CONCATENATE(VLOOKUP(A2019,bangolf_kategorien!$A$2:$B$11,2,FALSE),\": \",D2019,\", \",C2019)","v":"SM2: Liebetrau, Bernhard"},{"$f":"VLOOKUP(A2019,bangolf_kategorien!$A$2:$B$11,2,FALSE)","v":"SM2"}]
["ob",30138,"Axel","Liebig","SSC Attendorn",{"$f":"CONCATENATE(VLOOKUP(A2020,bangolf_kategorien!$A$2:$B$11,2,FALSE),\": \",D2020,\", \",C2020)","v":"SM1: Liebig, Axel"},{"$f":"VLOOKUP(A2020,bangolf_kategorien!$A$2:$B$11,2,FALSE)","v":"SM1"}]
["pa",67158,"Jan","Liebig","BGC Bad Nenndorf",{"$f":"CONCATENATE(VLOOKUP(A2021,bangolf_kategorien!$A$2:$B$11,2,FALSE),\": \",D2021,\", \",C2021)","v":"SCHM: Liebig, Jan"},{"$f":"VLOOKUP(A2021,bangolf_kategorien!$A$2:$B$11,2,FALSE)","v":"SCHM"}]
["hs",48671,"Sven","Liebig","BGC Bad Nenndorf",{"$f":"CONCATENATE(VLOOKUP(A2022,bangolf_kategorien!$A$2:$B$11,2,FALSE),\": \",D2022,\", \",C2022)","v":"H: Liebig, Sven"},{"$f":"VLOOKUP(A2022,bangolf_kategorien!$A$2:$B$11,2,FALSE)","v":"H"}]
["hv",42408,"Manfred","Liebstückel","MGC Wertheim 91",{"$f":"CONCATENATE(VLOOKUP(A2023,bangolf_kategorien!$A$2:$B$11,2,FALSE),\": \",D2023,\", \",C2023)","v":"SM2: Liebstückel, Manfred"},{"$f":"VLOOKUP(A2023,bangolf_kategorien!$A$2:$B$11,2,FALSE)","v":"SM2"}]
["dv",42417,"Ruth","Liebstückel","MGC Wertheim 91",{"$f":"CONCATENATE(VLOOKUP(A2024,bangolf_kategorien!$A$2:$B$11,2,FALSE),\": \",D2024,\", \",C2024)","v":"SW2: Liebstückel, Ruth"},{"$f":"VLOOKUP(A2024,bangolf_kategorien!$A$2:$B$11,2,FALSE)","v":"SW2"}]
["hv",27921,"Peter","Liedhegener","MSK Neheim-Hüsten",{"$f":"CONCATENATE(VLOOKUP(A2025,bangolf_kategorien!$A$2:$B$11,2,FALSE),\": \",D2025,\", \",C2025)","v":"SM2: Liedhegener, Peter"},{"$f":"VLOOKUP(A2025,bangolf_kategorien!$A$2:$B$11,2,FALSE)","v":"SM2"}]
["og",42074,"Andrea","Limpius","TG Höchberg von 1862 Bahnengolf",{"$f":"CONCATENATE(VLOOKUP(A2026,bangolf_kategorien!$A$2:$B$11,2,FALSE),\": \",D2026,\", \",C2026)","v":"SW1: Limpius, Andrea"},{"$f":"VLOOKUP(A2026,bangolf_kategorien!$A$2:$B$11,2,FALSE)","v":"SW1"}]
["hs",44172,"Matthias","Limpius","TG Höchberg von 1862 Bahnengolf",{"$f":"CONCATENATE(VLOOKUP(A2027,bangolf_kategorien!$A$2:$B$11,2,FALSE),\": \",D2027,\", \",C2027)","v":"H: Limpius, Matthias"},{"$f":"VLOOKUP(A2027,bangolf_kategorien!$A$2:$B$11,2,FALSE)","v":"H"}]
["ds",66148,"Simone","Limpius","TG Höchberg von 1862 Bahnengolf",{"$f":"CONCATENATE(VLOOKUP(A2028,bangolf_kategorien!$A$2:$B$11,2,FALSE),\": \",D2028,\", \",C2028)","v":"D: Limpius, Simone"},{"$f":"VLOOKUP(A2028,bangolf_kategorien!$A$2:$B$11,2,FALSE)","v":"D"}]
["hv",5966,"Werner","Limpius","TG Höchberg von 1862 Bahnengolf",{"$f":"CONCATENATE(VLOOKUP(A2029,bangolf_kategorien!$A$2:$B$11,2,FALSE),\": \",D2029,\", \",C2029)","v":"SM2: Limpius, Werner"},{"$f":"VLOOKUP(A2029,bangolf_kategorien!$A$2:$B$11,2,FALSE)","v":"SM2"}]
["hv",36091,"Alfred","Lindauer","OMGC Ingolstadt",{"$f":"CONCATENATE(VLOOKUP(A2030,bangolf_kategorien!$A$2:$B$11,2,FALSE),\": \",D2030,\", \",C2030)","v":"SM2: Lindauer, Alfred"},{"$f":"VLOOKUP(A2030,bangolf_kategorien!$A$2:$B$11,2,FALSE)","v":"SM2"}]
["hv",25107,"Jürgen","Linde","SSC Attendorn",{"$f":"CONCATENATE(VLOOKUP(A2031,bangolf_kategorien!$A$2:$B$11,2,FALSE),\": \",D2031,\", \",C2031)","v":"SM2: Linde, Jürgen"},{"$f":"VLOOKUP(A2031,bangolf_kategorien!$A$2:$B$11,2,FALSE)","v":"SM2"}]
["hs",66253,"Lukas","Lindemann","BGSV Bad Homburg",{"$f":"CONCATENATE(VLOOKUP(A2032,bangolf_kategorien!$A$2:$B$11,2,FALSE),\": \",D2032,\", \",C2032)","v":"H: Lindemann, Lukas"},{"$f":"VLOOKUP(A2032,bangolf_kategorien!$A$2:$B$11,2,FALSE)","v":"H"}]
["ob",66254,"Oliver","Lindemann","BGSV Bad Homburg",{"$f":"CONCATENATE(VLOOKUP(A2033,bangolf_kategorien!$A$2:$B$11,2,FALSE),\": \",D2033,\", \",C2033)","v":"SM1: Lindemann, Oliver"},{"$f":"VLOOKUP(A2033,bangolf_kategorien!$A$2:$B$11,2,FALSE)","v":"SM1"}]
["ds",40203,"Mareike","Lindenberg","1. BGC Celle von 1964",{"$f":"CONCATENATE(VLOOKUP(A2034,bangolf_kategorien!$A$2:$B$11,2,FALSE),\": \",D2034,\", \",C2034)","v":"D: Lindenberg, Mareike"},{"$f":"VLOOKUP(A2034,bangolf_kategorien!$A$2:$B$11,2,FALSE)","v":"D"}]
["ob",40475,"Bernhard","Lindner","1. NMC Kelheim",{"$f":"CONCATENATE(VLOOKUP(A2035,bangolf_kategorien!$A$2:$B$11,2,FALSE),\": \",D2035,\", \",C2035)","v":"SM1: Lindner, Bernhard"},{"$f":"VLOOKUP(A2035,bangolf_kategorien!$A$2:$B$11,2,FALSE)","v":"SM1"}]
["ob",9959,"Fritz","Lindner","ASV Pegnitz, Abt. Minigolf",{"$f":"CONCATENATE(VLOOKUP(A2036,bangolf_kategorien!$A$2:$B$11,2,FALSE),\": \",D2036,\", \",C2036)","v":"SM1: Lindner, Fritz"},{"$f":"VLOOKUP(A2036,bangolf_kategorien!$A$2:$B$11,2,FALSE)","v":"SM1"}]
["hv",41825,"Gisbert","Lindner","BGC Neutraubling",{"$f":"CONCATENATE(VLOOKUP(A2037,bangolf_kategorien!$A$2:$B$11,2,FALSE),\": \",D2037,\", \",C2037)","v":"SM2: Lindner, Gisbert"},{"$f":"VLOOKUP(A2037,bangolf_kategorien!$A$2:$B$11,2,FALSE)","v":"SM2"}]
["dj",66396,"Christin","Lingemann","Osnabrücker M.-C. von 1963",{"$f":"CONCATENATE(VLOOKUP(A2038,bangolf_kategorien!$A$2:$B$11,2,FALSE),\": \",D2038,\", \",C2038)","v":"JW: Lingemann, Christin"},{"$f":"VLOOKUP(A2038,bangolf_kategorien!$A$2:$B$11,2,FALSE)","v":"JW"}]
["ob",48947,"Konrad","Lingemann","Osnabrücker M.-C. von 1963",{"$f":"CONCATENATE(VLOOKUP(A2039,bangolf_kategorien!$A$2:$B$11,2,FALSE),\": \",D2039,\", \",C2039)","v":"SM1: Lingemann, Konrad"},{"$f":"VLOOKUP(A2039,bangolf_kategorien!$A$2:$B$11,2,FALSE)","v":"SM1"}]
["ds",37136,"Sarah","Lingemann","VfB Osnabrück",{"$f":"CONCATENATE(VLOOKUP(A2040,bangolf_kategorien!$A$2:$B$11,2,FALSE),\": \",D2040,\", \",C2040)","v":"D: Lingemann, Sarah"},{"$f":"VLOOKUP(A2040,bangolf_kategorien!$A$2:$B$11,2,FALSE)","v":"D"}]
["og",65182,"Betina","Linke","1. Bahnengolf-Club Singen",{"$f":"CONCATENATE(VLOOKUP(A2041,bangolf_kategorien!$A$2:$B$11,2,FALSE),\": \",D2041,\", \",C2041)","v":"SW1: Linke, Betina"},{"$f":"VLOOKUP(A2041,bangolf_kategorien!$A$2:$B$11,2,FALSE)","v":"SW1"}]
["hv",37973,"Horst","Linke","1. Bahnengolf-Club Singen",{"$f":"CONCATENATE(VLOOKUP(A2042,bangolf_kategorien!$A$2:$B$11,2,FALSE),\": \",D2042,\", \",C2042)","v":"SM2: Linke, Horst"},{"$f":"VLOOKUP(A2042,bangolf_kategorien!$A$2:$B$11,2,FALSE)","v":"SM2"}]
["ds",37415,"Christina","Linke-König","1. Bahnengolf-Club Singen",{"$f":"CONCATENATE(VLOOKUP(A2043,bangolf_kategorien!$A$2:$B$11,2,FALSE),\": \",D2043,\", \",C2043)","v":"D: Linke-König, Christina"},{"$f":"VLOOKUP(A2043,bangolf_kategorien!$A$2:$B$11,2,FALSE)","v":"D"}]
["hj",66747,"Matti","Linker","CGC Rauschenberg",{"$f":"CONCATENATE(VLOOKUP(A2044,bangolf_kategorien!$A$2:$B$11,2,FALSE),\": \",D2044,\", \",C2044)","v":"JM: Linker, Matti"},{"$f":"VLOOKUP(A2044,bangolf_kategorien!$A$2:$B$11,2,FALSE)","v":"JM"}]
["hv",63137,"Manfred","Lippert","MSV Bad Kreuznach",{"$f":"CONCATENATE(VLOOKUP(A2045,bangolf_kategorien!$A$2:$B$11,2,FALSE),\": \",D2045,\", \",C2045)","v":"SM2: Lippert, Manfred"},{"$f":"VLOOKUP(A2045,bangolf_kategorien!$A$2:$B$11,2,FALSE)","v":"SM2"}]
["ds",65442,"Brigitte","Lischke","OMGC Ingolstadt",{"$f":"CONCATENATE(VLOOKUP(A2046,bangolf_kategorien!$A$2:$B$11,2,FALSE),\": \",D2046,\", \",C2046)","v":"D: Lischke, Brigitte"},{"$f":"VLOOKUP(A2046,bangolf_kategorien!$A$2:$B$11,2,FALSE)","v":"D"}]
["ob",33730,"Martin","Lischke","OMGC Ingolstadt",{"$f":"CONCATENATE(VLOOKUP(A2047,bangolf_kategorien!$A$2:$B$11,2,FALSE),\": \",D2047,\", \",C2047)","v":"SM1: Lischke, Martin"},{"$f":"VLOOKUP(A2047,bangolf_kategorien!$A$2:$B$11,2,FALSE)","v":"SM1"}]
["hv",29299,"Heinz","Löbel","OMGC Ingolstadt",{"$f":"CONCATENATE(VLOOKUP(A2048,bangolf_kategorien!$A$2:$B$11,2,FALSE),\": \",D2048,\", \",C2048)","v":"SM2: Löbel, Heinz"},{"$f":"VLOOKUP(A2048,bangolf_kategorien!$A$2:$B$11,2,FALSE)","v":"SM2"}]
["hv",36844,"Gerhard","Lödige","1. MGC Paderborn",{"$f":"CONCATENATE(VLOOKUP(A2049,bangolf_kategorien!$A$2:$B$11,2,FALSE),\": \",D2049,\", \",C2049)","v":"SM2: Lödige, Gerhard"},{"$f":"VLOOKUP(A2049,bangolf_kategorien!$A$2:$B$11,2,FALSE)","v":"SM2"}]
["dv",36853,"Maria","Lödige","1. MGC Paderborn",{"$f":"CONCATENATE(VLOOKUP(A2050,bangolf_kategorien!$A$2:$B$11,2,FALSE),\": \",D2050,\", \",C2050)","v":"SW2: Lödige, Maria"},{"$f":"VLOOKUP(A2050,bangolf_kategorien!$A$2:$B$11,2,FALSE)","v":"SW2"}]
["hv",6464,"Manfred","Loewe","BSC Ennepetal",{"$f":"CONCATENATE(VLOOKUP(A2051,bangolf_kategorien!$A$2:$B$11,2,FALSE),\": \",D2051,\", \",C2051)","v":"SM2: Loewe, Manfred"},{"$f":"VLOOKUP(A2051,bangolf_kategorien!$A$2:$B$11,2,FALSE)","v":"SM2"}]
["hv",66736,"Harry","Löffler","1. BGC Landshut",{"$f":"CONCATENATE(VLOOKUP(A2052,bangolf_kategorien!$A$2:$B$11,2,FALSE),\": \",D2052,\", \",C2052)","v":"SM2: Löffler, Harry"},{"$f":"VLOOKUP(A2052,bangolf_kategorien!$A$2:$B$11,2,FALSE)","v":"SM2"}]
["hv",30914,"Alfred","Lohe","BGSC \"Gut Schlag\" Gladbeck",{"$f":"CONCATENATE(VLOOKUP(A2053,bangolf_kategorien!$A$2:$B$11,2,FALSE),\": \",D2053,\", \",C2053)","v":"SM2: Lohe, Alfred"},{"$f":"VLOOKUP(A2053,bangolf_kategorien!$A$2:$B$11,2,FALSE)","v":"SM2"}]
["dv",36543,"Angelika","Lohe","BGSC \"Gut Schlag\" Gladbeck",{"$f":"CONCATENATE(VLOOKUP(A2054,bangolf_kategorien!$A$2:$B$11,2,FALSE),\": \",D2054,\", \",C2054)","v":"SW2: Lohe, Angelika"},{"$f":"VLOOKUP(A2054,bangolf_kategorien!$A$2:$B$11,2,FALSE)","v":"SW2"}]
["hs",36001,"Christian","Lohmann","BGC Hamm 1959",{"$f":"CONCATENATE(VLOOKUP(A2055,bangolf_kategorien!$A$2:$B$11,2,FALSE),\": \",D2055,\", \",C2055)","v":"H: Lohmann, Christian"},{"$f":"VLOOKUP(A2055,bangolf_kategorien!$A$2:$B$11,2,FALSE)","v":"H"}]
["dv",36678,"Helga","Lohmann","BGC Hamm 1959",{"$f":"CONCATENATE(VLOOKUP(A2056,bangolf_kategorien!$A$2:$B$11,2,FALSE),\": \",D2056,\", \",C2056)","v":"SW2: Lohmann, Helga"},{"$f":"VLOOKUP(A2056,bangolf_kategorien!$A$2:$B$11,2,FALSE)","v":"SW2"}]
["hv",36000,"Udo","Lohmann","BGC Hamm 1959",{"$f":"CONCATENATE(VLOOKUP(A2057,bangolf_kategorien!$A$2:$B$11,2,FALSE),\": \",D2057,\", \",C2057)","v":"SM2: Lohmann, Udo"},{"$f":"VLOOKUP(A2057,bangolf_kategorien!$A$2:$B$11,2,FALSE)","v":"SM2"}]
["dj",66289,"Milene-Marie","Lohmeyer","BGV Backumer Tal Herten",{"$f":"CONCATENATE(VLOOKUP(A2058,bangolf_kategorien!$A$2:$B$11,2,FALSE),\": \",D2058,\", \",C2058)","v":"JW: Lohmeyer, Milene-Marie"},{"$f":"VLOOKUP(A2058,bangolf_kategorien!$A$2:$B$11,2,FALSE)","v":"JW"}]
["hs",66688,"Fabian","Lohn","1. MSC Wesel 6.6.1966",{"$f":"CONCATENATE(VLOOKUP(A2059,bangolf_kategorien!$A$2:$B$11,2,FALSE),\": \",D2059,\", \",C2059)","v":"H: Lohn, Fabian"},{"$f":"VLOOKUP(A2059,bangolf_kategorien!$A$2:$B$11,2,FALSE)","v":"H"}]
["ds",66770,"Liane","Lohn","MGC Rot-Weiß Wanne-Eickel",{"$f":"CONCATENATE(VLOOKUP(A2060,bangolf_kategorien!$A$2:$B$11,2,FALSE),\": \",D2060,\", \",C2060)","v":"D: Lohn, Liane"},{"$f":"VLOOKUP(A2060,bangolf_kategorien!$A$2:$B$11,2,FALSE)","v":"D"}]
["ob",47063,"Thomas","Lohöfener","BV Sennestadt",{"$f":"CONCATENATE(VLOOKUP(A2061,bangolf_kategorien!$A$2:$B$11,2,FALSE),\": \",D2061,\", \",C2061)","v":"SM1: Lohöfener, Thomas"},{"$f":"VLOOKUP(A2061,bangolf_kategorien!$A$2:$B$11,2,FALSE)","v":"SM1"}]
["dv",49463,"Elke","Löhr","BGSC Bochum 1978",{"$f":"CONCATENATE(VLOOKUP(A2062,bangolf_kategorien!$A$2:$B$11,2,FALSE),\": \",D2062,\", \",C2062)","v":"SW2: Löhr, Elke"},{"$f":"VLOOKUP(A2062,bangolf_kategorien!$A$2:$B$11,2,FALSE)","v":"SW2"}]
["hv",45633,"Michael","Löhr","BGSC Bochum 1978",{"$f":"CONCATENATE(VLOOKUP(A2063,bangolf_kategorien!$A$2:$B$11,2,FALSE),\": \",D2063,\", \",C2063)","v":"SM2: Löhr, Michael"},{"$f":"VLOOKUP(A2063,bangolf_kategorien!$A$2:$B$11,2,FALSE)","v":"SM2"}]
["hv",4788,"Roland","Löhrlein","1. FMGC Lichtenfels 1961",{"$f":"CONCATENATE(VLOOKUP(A2064,bangolf_kategorien!$A$2:$B$11,2,FALSE),\": \",D2064,\", \",C2064)","v":"SM2: Löhrlein, Roland"},{"$f":"VLOOKUP(A2064,bangolf_kategorien!$A$2:$B$11,2,FALSE)","v":"SM2"}]
["ob",66834,"Martin","Loibl","1. Berliner Miniaturgolf-Sportclub 1960",{"$f":"CONCATENATE(VLOOKUP(A2065,bangolf_kategorien!$A$2:$B$11,2,FALSE),\": \",D2065,\", \",C2065)","v":"SM1: Loibl, Martin"},{"$f":"VLOOKUP(A2065,bangolf_kategorien!$A$2:$B$11,2,FALSE)","v":"SM1"}]
["hs",33631,"Thomas","Lojewski","MGC Murnau am Staffelsee",{"$f":"CONCATENATE(VLOOKUP(A2066,bangolf_kategorien!$A$2:$B$11,2,FALSE),\": \",D2066,\", \",C2066)","v":"H: Lojewski, Thomas"},{"$f":"VLOOKUP(A2066,bangolf_kategorien!$A$2:$B$11,2,FALSE)","v":"H"}]
["hv",66958,"Peter","Lorch","1. MGC Mainz",{"$f":"CONCATENATE(VLOOKUP(A2067,bangolf_kategorien!$A$2:$B$11,2,FALSE),\": \",D2067,\", \",C2067)","v":"SM2: Lorch, Peter"},{"$f":"VLOOKUP(A2067,bangolf_kategorien!$A$2:$B$11,2,FALSE)","v":"SM2"}]
["hs",35306,"Patrick","Lorenz","SG Arheilgen Abt. Bahnengolf",{"$f":"CONCATENATE(VLOOKUP(A2068,bangolf_kategorien!$A$2:$B$11,2,FALSE),\": \",D2068,\", \",C2068)","v":"H: Lorenz, Patrick"},{"$f":"VLOOKUP(A2068,bangolf_kategorien!$A$2:$B$11,2,FALSE)","v":"H"}]
["hv",33338,"Uwe","Lorenz","MC \"Möve\" Cuxhaven-Sahlenburg",{"$f":"CONCATENATE(VLOOKUP(A2069,bangolf_kategorien!$A$2:$B$11,2,FALSE),\": \",D2069,\", \",C2069)","v":"SM2: Lorenz, Uwe"},{"$f":"VLOOKUP(A2069,bangolf_kategorien!$A$2:$B$11,2,FALSE)","v":"SM2"}]
["hv",5852,"Hans-Herbert","Lorgie","MGC Olympia Kiel",{"$f":"CONCATENATE(VLOOKUP(A2070,bangolf_kategorien!$A$2:$B$11,2,FALSE),\": \",D2070,\", \",C2070)","v":"SM2: Lorgie, Hans-Herbert"},{"$f":"VLOOKUP(A2070,bangolf_kategorien!$A$2:$B$11,2,FALSE)","v":"SM2"}]
["ds",46048,"Melanie","Lorgie","MGC Olympia Kiel",{"$f":"CONCATENATE(VLOOKUP(A2071,bangolf_kategorien!$A$2:$B$11,2,FALSE),\": \",D2071,\", \",C2071)","v":"D: Lorgie, Melanie"},{"$f":"VLOOKUP(A2071,bangolf_kategorien!$A$2:$B$11,2,FALSE)","v":"D"}]
["dv",41253,"Regina","Lorgie","MGC Olympia Kiel",{"$f":"CONCATENATE(VLOOKUP(A2072,bangolf_kategorien!$A$2:$B$11,2,FALSE),\": \",D2072,\", \",C2072)","v":"SW2: Lorgie, Regina"},{"$f":"VLOOKUP(A2072,bangolf_kategorien!$A$2:$B$11,2,FALSE)","v":"SW2"}]
["ob",27300,"Thomas","Losch","1. BGC Hannover",{"$f":"CONCATENATE(VLOOKUP(A2073,bangolf_kategorien!$A$2:$B$11,2,FALSE),\": \",D2073,\", \",C2073)","v":"SM1: Losch, Thomas"},{"$f":"VLOOKUP(A2073,bangolf_kategorien!$A$2:$B$11,2,FALSE)","v":"SM1"}]
["hs",36171,"Dennis","Löschmann","Tempelhofer MV Berlin",{"$f":"CONCATENATE(VLOOKUP(A2074,bangolf_kategorien!$A$2:$B$11,2,FALSE),\": \",D2074,\", \",C2074)","v":"H: Löschmann, Dennis"},{"$f":"VLOOKUP(A2074,bangolf_kategorien!$A$2:$B$11,2,FALSE)","v":"H"}]
["hv",34157,"Michael","Lotz","MGC Bad Soden-Salmünster",{"$f":"CONCATENATE(VLOOKUP(A2075,bangolf_kategorien!$A$2:$B$11,2,FALSE),\": \",D2075,\", \",C2075)","v":"SM2: Lotz, Michael"},{"$f":"VLOOKUP(A2075,bangolf_kategorien!$A$2:$B$11,2,FALSE)","v":"SM2"}]
["hv",66395,"Hans","Louven","VfB Osnabrück",{"$f":"CONCATENATE(VLOOKUP(A2076,bangolf_kategorien!$A$2:$B$11,2,FALSE),\": \",D2076,\", \",C2076)","v":"SM2: Louven, Hans"},{"$f":"VLOOKUP(A2076,bangolf_kategorien!$A$2:$B$11,2,FALSE)","v":"SM2"}]
["dv",60488,"Eva","Löwer","1. MGC Kassel 1964",{"$f":"CONCATENATE(VLOOKUP(A2077,bangolf_kategorien!$A$2:$B$11,2,FALSE),\": \",D2077,\", \",C2077)","v":"SW2: Löwer, Eva"},{"$f":"VLOOKUP(A2077,bangolf_kategorien!$A$2:$B$11,2,FALSE)","v":"SW2"}]
["hv",5594,"Herbert","Löwer","1. MGC Kassel 1964",{"$f":"CONCATENATE(VLOOKUP(A2078,bangolf_kategorien!$A$2:$B$11,2,FALSE),\": \",D2078,\", \",C2078)","v":"SM2: Löwer, Herbert"},{"$f":"VLOOKUP(A2078,bangolf_kategorien!$A$2:$B$11,2,FALSE)","v":"SM2"}]
["dv",3194738,"Anke","Lück","Hobby",{"$f":"CONCATENATE(VLOOKUP(A2079,bangolf_kategorien!$A$2:$B$11,2,FALSE),\": \",D2079,\", \",C2079)","v":"SW2: Lück, Anke"},{"$f":"VLOOKUP(A2079,bangolf_kategorien!$A$2:$B$11,2,FALSE)","v":"SW2"}]
["og",45994,"Bettina","Luckei","1. MGC Lohfelden 1997",{"$f":"CONCATENATE(VLOOKUP(A2080,bangolf_kategorien!$A$2:$B$11,2,FALSE),\": \",D2080,\", \",C2080)","v":"SW1: Luckei, Bettina"},{"$f":"VLOOKUP(A2080,bangolf_kategorien!$A$2:$B$11,2,FALSE)","v":"SW1"}]
["hv",45995,"Manfred","Luckei","1. MGC Lohfelden 1997",{"$f":"CONCATENATE(VLOOKUP(A2081,bangolf_kategorien!$A$2:$B$11,2,FALSE),\": \",D2081,\", \",C2081)","v":"SM2: Luckei, Manfred"},{"$f":"VLOOKUP(A2081,bangolf_kategorien!$A$2:$B$11,2,FALSE)","v":"SM2"}]
["hs",37293,"Dominik","Ludwig","BGC Goslar",{"$f":"CONCATENATE(VLOOKUP(A2082,bangolf_kategorien!$A$2:$B$11,2,FALSE),\": \",D2082,\", \",C2082)","v":"H: Ludwig, Dominik"},{"$f":"VLOOKUP(A2082,bangolf_kategorien!$A$2:$B$11,2,FALSE)","v":"H"}]
["og",1501,"Kornelia","Ludwig","BGC Goslar",{"$f":"CONCATENATE(VLOOKUP(A2083,bangolf_kategorien!$A$2:$B$11,2,FALSE),\": \",D2083,\", \",C2083)","v":"SW1: Ludwig, Kornelia"},{"$f":"VLOOKUP(A2083,bangolf_kategorien!$A$2:$B$11,2,FALSE)","v":"SW1"}]
["hs",37295,"Sven","Ludwig","BGC Goslar",{"$f":"CONCATENATE(VLOOKUP(A2084,bangolf_kategorien!$A$2:$B$11,2,FALSE),\": \",D2084,\", \",C2084)","v":"H: Ludwig, Sven"},{"$f":"VLOOKUP(A2084,bangolf_kategorien!$A$2:$B$11,2,FALSE)","v":"H"}]
["hs",67373,"Niklas","Ludzay","SC Olympia Dortmund",{"$f":"CONCATENATE(VLOOKUP(A2085,bangolf_kategorien!$A$2:$B$11,2,FALSE),\": \",D2085,\", \",C2085)","v":"H: Ludzay, Niklas"},{"$f":"VLOOKUP(A2085,bangolf_kategorien!$A$2:$B$11,2,FALSE)","v":"H"}]
["ob",41227,"Robert","Lugauer","MGC Ingolstadt",{"$f":"CONCATENATE(VLOOKUP(A2086,bangolf_kategorien!$A$2:$B$11,2,FALSE),\": \",D2086,\", \",C2086)","v":"SM1: Lugauer, Robert"},{"$f":"VLOOKUP(A2086,bangolf_kategorien!$A$2:$B$11,2,FALSE)","v":"SM1"}]
["hv",3261,"Werner","Lührs","VfL Lüneburg Abt. Bahnengolf",{"$f":"CONCATENATE(VLOOKUP(A2087,bangolf_kategorien!$A$2:$B$11,2,FALSE),\": \",D2087,\", \",C2087)","v":"SM2: Lührs, Werner"},{"$f":"VLOOKUP(A2087,bangolf_kategorien!$A$2:$B$11,2,FALSE)","v":"SM2"}]
["hs",33613,"Marcel","Lukat","MGC Brunsbüttel",{"$f":"CONCATENATE(VLOOKUP(A2088,bangolf_kategorien!$A$2:$B$11,2,FALSE),\": \",D2088,\", \",C2088)","v":"H: Lukat, Marcel"},{"$f":"VLOOKUP(A2088,bangolf_kategorien!$A$2:$B$11,2,FALSE)","v":"H"}]
["hv",67434,"Wigbert","Lüke","BV Sennestadt",{"$f":"CONCATENATE(VLOOKUP(A2089,bangolf_kategorien!$A$2:$B$11,2,FALSE),\": \",D2089,\", \",C2089)","v":"SM2: Lüke, Wigbert"},{"$f":"VLOOKUP(A2089,bangolf_kategorien!$A$2:$B$11,2,FALSE)","v":"SM2"}]
["ob",40720,"Dirk","Lumma","HMC Büttgen",{"$f":"CONCATENATE(VLOOKUP(A2090,bangolf_kategorien!$A$2:$B$11,2,FALSE),\": \",D2090,\", \",C2090)","v":"SM1: Lumma, Dirk"},{"$f":"VLOOKUP(A2090,bangolf_kategorien!$A$2:$B$11,2,FALSE)","v":"SM1"}]
["hv",5586,"Horst","Luther","MGC Ostheim / Rhön",{"$f":"CONCATENATE(VLOOKUP(A2091,bangolf_kategorien!$A$2:$B$11,2,FALSE),\": \",D2091,\", \",C2091)","v":"SM2: Luther, Horst"},{"$f":"VLOOKUP(A2091,bangolf_kategorien!$A$2:$B$11,2,FALSE)","v":"SM2"}]
["hv",38641,"Herbert","Luttmann","VfB Osnabrück",{"$f":"CONCATENATE(VLOOKUP(A2092,bangolf_kategorien!$A$2:$B$11,2,FALSE),\": \",D2092,\", \",C2092)","v":"SM2: Luttmann, Herbert"},{"$f":"VLOOKUP(A2092,bangolf_kategorien!$A$2:$B$11,2,FALSE)","v":"SM2"}]
["hv",40232,"Helmut","Lutz","SSC Attendorn",{"$f":"CONCATENATE(VLOOKUP(A2093,bangolf_kategorien!$A$2:$B$11,2,FALSE),\": \",D2093,\", \",C2093)","v":"SM2: Lutz, Helmut"},{"$f":"VLOOKUP(A2093,bangolf_kategorien!$A$2:$B$11,2,FALSE)","v":"SM2"}]
["ob",22917,"Hugo","Lutz","1. Bahnengolf-Club Singen",{"$f":"CONCATENATE(VLOOKUP(A2094,bangolf_kategorien!$A$2:$B$11,2,FALSE),\": \",D2094,\", \",C2094)","v":"SM1: Lutz, Hugo"},{"$f":"VLOOKUP(A2094,bangolf_kategorien!$A$2:$B$11,2,FALSE)","v":"SM1"}]
["dv",22913,"Martina","Lutz","1. Bahnengolf-Club Singen",{"$f":"CONCATENATE(VLOOKUP(A2095,bangolf_kategorien!$A$2:$B$11,2,FALSE),\": \",D2095,\", \",C2095)","v":"SW2: Lutz, Martina"},{"$f":"VLOOKUP(A2095,bangolf_kategorien!$A$2:$B$11,2,FALSE)","v":"SW2"}]
["dv",45123,"Angelika","Luz","1. MGC Metzingen",{"$f":"CONCATENATE(VLOOKUP(A2096,bangolf_kategorien!$A$2:$B$11,2,FALSE),\": \",D2096,\", \",C2096)","v":"SW2: Luz, Angelika"},{"$f":"VLOOKUP(A2096,bangolf_kategorien!$A$2:$B$11,2,FALSE)","v":"SW2"}]
["ob",3326901,"Junzhai","Ma","Hobby",{"$f":"CONCATENATE(VLOOKUP(A2097,bangolf_kategorien!$A$2:$B$11,2,FALSE),\": \",D2097,\", \",C2097)","v":"SM1: Ma, Junzhai"},{"$f":"VLOOKUP(A2097,bangolf_kategorien!$A$2:$B$11,2,FALSE)","v":"SM1"}]
["hs",34902,"Daniel","Maar","BGSV Castrop 1961",{"$f":"CONCATENATE(VLOOKUP(A2098,bangolf_kategorien!$A$2:$B$11,2,FALSE),\": \",D2098,\", \",C2098)","v":"H: Maar, Daniel"},{"$f":"VLOOKUP(A2098,bangolf_kategorien!$A$2:$B$11,2,FALSE)","v":"H"}]
["og",43835,"Bettina","Maaß","MGC Brunsbüttel",{"$f":"CONCATENATE(VLOOKUP(A2099,bangolf_kategorien!$A$2:$B$11,2,FALSE),\": \",D2099,\", \",C2099)","v":"SW1: Maaß, Bettina"},{"$f":"VLOOKUP(A2099,bangolf_kategorien!$A$2:$B$11,2,FALSE)","v":"SW1"}]
["hv",43837,"Herbert","Maaß","MGC Brunsbüttel",{"$f":"CONCATENATE(VLOOKUP(A2100,bangolf_kategorien!$A$2:$B$11,2,FALSE),\": \",D2100,\", \",C2100)","v":"SM2: Maaß, Herbert"},{"$f":"VLOOKUP(A2100,bangolf_kategorien!$A$2:$B$11,2,FALSE)","v":"SM2"}]
["ds",66036,"Vanessa","Maaß","MGC Brunsbüttel",{"$f":"CONCATENATE(VLOOKUP(A2101,bangolf_kategorien!$A$2:$B$11,2,FALSE),\": \",D2101,\", \",C2101)","v":"D: Maaß, Vanessa"},{"$f":"VLOOKUP(A2101,bangolf_kategorien!$A$2:$B$11,2,FALSE)","v":"D"}]
["og",3319849,"Christine","Maaß-Reinecke","Hobby",{"$f":"CONCATENATE(VLOOKUP(A2102,bangolf_kategorien!$A$2:$B$11,2,FALSE),\": \",D2102,\", \",C2102)","v":"SW1: Maaß-Reinecke, Christine"},{"$f":"VLOOKUP(A2102,bangolf_kategorien!$A$2:$B$11,2,FALSE)","v":"SW1"}]
["hv",3216848,"Klaus","Madlinger","Hobby",{"$f":"CONCATENATE(VLOOKUP(A2103,bangolf_kategorien!$A$2:$B$11,2,FALSE),\": \",D2103,\", \",C2103)","v":"SM2: Madlinger, Klaus"},{"$f":"VLOOKUP(A2103,bangolf_kategorien!$A$2:$B$11,2,FALSE)","v":"SM2"}]
["ob",67167,"Stefan","Maes","BGS Hardenberg-Pötter",{"$f":"CONCATENATE(VLOOKUP(A2104,bangolf_kategorien!$A$2:$B$11,2,FALSE),\": \",D2104,\", \",C2104)","v":"SM1: Maes, Stefan"},{"$f":"VLOOKUP(A2104,bangolf_kategorien!$A$2:$B$11,2,FALSE)","v":"SM1"}]
["hv",38127,"Friedel","Maesel","MC 62 Lüdenscheid",{"$f":"CONCATENATE(VLOOKUP(A2105,bangolf_kategorien!$A$2:$B$11,2,FALSE),\": \",D2105,\", \",C2105)","v":"SM2: Maesel, Friedel"},{"$f":"VLOOKUP(A2105,bangolf_kategorien!$A$2:$B$11,2,FALSE)","v":"SM2"}]
["hs",66970,"Omar","Maggi","SG Arheilgen Abt. Bahnengolf",{"$f":"CONCATENATE(VLOOKUP(A2106,bangolf_kategorien!$A$2:$B$11,2,FALSE),\": \",D2106,\", \",C2106)","v":"H: Maggi, Omar"},{"$f":"VLOOKUP(A2106,bangolf_kategorien!$A$2:$B$11,2,FALSE)","v":"H"}]
["og",67428,"Regina","Magin","MGC Bad Homburg vdH",{"$f":"CONCATENATE(VLOOKUP(A2107,bangolf_kategorien!$A$2:$B$11,2,FALSE),\": \",D2107,\", \",C2107)","v":"SW1: Magin, Regina"},{"$f":"VLOOKUP(A2107,bangolf_kategorien!$A$2:$B$11,2,FALSE)","v":"SW1"}]
["ob",30185,"Thomas","Magin","1. MGC Ludwigshafen",{"$f":"CONCATENATE(VLOOKUP(A2108,bangolf_kategorien!$A$2:$B$11,2,FALSE),\": \",D2108,\", \",C2108)","v":"SM1: Magin, Thomas"},{"$f":"VLOOKUP(A2108,bangolf_kategorien!$A$2:$B$11,2,FALSE)","v":"SM1"}]
["hv",49672,"Josef","Mahl","1. BGC Garmisch-Partenkirchen",{"$f":"CONCATENATE(VLOOKUP(A2109,bangolf_kategorien!$A$2:$B$11,2,FALSE),\": \",D2109,\", \",C2109)","v":"SM2: Mahl, Josef"},{"$f":"VLOOKUP(A2109,bangolf_kategorien!$A$2:$B$11,2,FALSE)","v":"SM2"}]
["hs",67278,"Simon","Mahl","1. BGC Garmisch-Partenkirchen",{"$f":"CONCATENATE(VLOOKUP(A2110,bangolf_kategorien!$A$2:$B$11,2,FALSE),\": \",D2110,\", \",C2110)","v":"H: Mahl, Simon"},{"$f":"VLOOKUP(A2110,bangolf_kategorien!$A$2:$B$11,2,FALSE)","v":"H"}]
["fa",67194,"Lina","Mahnkopf","BGC Bremen",{"$f":"CONCATENATE(VLOOKUP(A2111,bangolf_kategorien!$A$2:$B$11,2,FALSE),\": \",D2111,\", \",C2111)","v":"SCHW: Mahnkopf, Lina"},{"$f":"VLOOKUP(A2111,bangolf_kategorien!$A$2:$B$11,2,FALSE)","v":"SCHW"}]
["dv",66568,"Elke","Maier","1. Münchener MGC",{"$f":"CONCATENATE(VLOOKUP(A2112,bangolf_kategorien!$A$2:$B$11,2,FALSE),\": \",D2112,\", \",C2112)","v":"SW2: Maier, Elke"},{"$f":"VLOOKUP(A2112,bangolf_kategorien!$A$2:$B$11,2,FALSE)","v":"SW2"}]
["hv",47032,"Josef","Maier","MGC Wolnzach",{"$f":"CONCATENATE(VLOOKUP(A2113,bangolf_kategorien!$A$2:$B$11,2,FALSE),\": \",D2113,\", \",C2113)","v":"SM2: Maier, Josef"},{"$f":"VLOOKUP(A2113,bangolf_kategorien!$A$2:$B$11,2,FALSE)","v":"SM2"}]
["og",38562,"Marianne","Maier","MGC Unterschneidheim",{"$f":"CONCATENATE(VLOOKUP(A2114,bangolf_kategorien!$A$2:$B$11,2,FALSE),\": \",D2114,\", \",C2114)","v":"SW1: Maier, Marianne"},{"$f":"VLOOKUP(A2114,bangolf_kategorien!$A$2:$B$11,2,FALSE)","v":"SW1"}]
["ob",36823,"Niklas","Maier","MGC Unterschneidheim",{"$f":"CONCATENATE(VLOOKUP(A2115,bangolf_kategorien!$A$2:$B$11,2,FALSE),\": \",D2115,\", \",C2115)","v":"SM1: Maier, Niklas"},{"$f":"VLOOKUP(A2115,bangolf_kategorien!$A$2:$B$11,2,FALSE)","v":"SM1"}]
["hs",66497,"Anton","Maierhofer","MGC Bad Feilnbach",{"$f":"CONCATENATE(VLOOKUP(A2116,bangolf_kategorien!$A$2:$B$11,2,FALSE),\": \",D2116,\", \",C2116)","v":"H: Maierhofer, Anton"},{"$f":"VLOOKUP(A2116,bangolf_kategorien!$A$2:$B$11,2,FALSE)","v":"H"}]
["ds",67043,"Ramona","Maisch","MGC Monrepos",{"$f":"CONCATENATE(VLOOKUP(A2117,bangolf_kategorien!$A$2:$B$11,2,FALSE),\": \",D2117,\", \",C2117)","v":"D: Maisch, Ramona"},{"$f":"VLOOKUP(A2117,bangolf_kategorien!$A$2:$B$11,2,FALSE)","v":"D"}]
["hs",67044,"Thomas","Maisch","MGC Monrepos",{"$f":"CONCATENATE(VLOOKUP(A2118,bangolf_kategorien!$A$2:$B$11,2,FALSE),\": \",D2118,\", \",C2118)","v":"H: Maisch, Thomas"},{"$f":"VLOOKUP(A2118,bangolf_kategorien!$A$2:$B$11,2,FALSE)","v":"H"}]
["hs",67465,"Nurfet","Majdanac","BGC 90 Ottobrunn",{"$f":"CONCATENATE(VLOOKUP(A2119,bangolf_kategorien!$A$2:$B$11,2,FALSE),\": \",D2119,\", \",C2119)","v":"H: Majdanac, Nurfet"},{"$f":"VLOOKUP(A2119,bangolf_kategorien!$A$2:$B$11,2,FALSE)","v":"H"}]
["ob",37360,"Frank","Maldei","BGSC \"Gut Schlag\" Gladbeck",{"$f":"CONCATENATE(VLOOKUP(A2120,bangolf_kategorien!$A$2:$B$11,2,FALSE),\": \",D2120,\", \",C2120)","v":"SM1: Maldei, Frank"},{"$f":"VLOOKUP(A2120,bangolf_kategorien!$A$2:$B$11,2,FALSE)","v":"SM1"}]
["hv",67583,"Ottmar","Malik","BSC Ennepetal",{"$f":"CONCATENATE(VLOOKUP(A2121,bangolf_kategorien!$A$2:$B$11,2,FALSE),\": \",D2121,\", \",C2121)","v":"SM2: Malik, Ottmar"},{"$f":"VLOOKUP(A2121,bangolf_kategorien!$A$2:$B$11,2,FALSE)","v":"SM2"}]
["ob",49850,"Ralf","Malirs","SV Lurup Abt. Bahnengolf",{"$f":"CONCATENATE(VLOOKUP(A2122,bangolf_kategorien!$A$2:$B$11,2,FALSE),\": \",D2122,\", \",C2122)","v":"SM1: Malirs, Ralf"},{"$f":"VLOOKUP(A2122,bangolf_kategorien!$A$2:$B$11,2,FALSE)","v":"SM1"}]
["ob",37865,"Joachim","Mally","SV 1890 Dreieichenhain, Abt. Bahnengolf",{"$f":"CONCATENATE(VLOOKUP(A2123,bangolf_kategorien!$A$2:$B$11,2,FALSE),\": \",D2123,\", \",C2123)","v":"SM1: Mally, Joachim"},{"$f":"VLOOKUP(A2123,bangolf_kategorien!$A$2:$B$11,2,FALSE)","v":"SM1"}]
["ob",25785,"Norman","Mandel","HMC Büttgen",{"$f":"CONCATENATE(VLOOKUP(A2124,bangolf_kategorien!$A$2:$B$11,2,FALSE),\": \",D2124,\", \",C2124)","v":"SM1: Mandel, Norman"},{"$f":"VLOOKUP(A2124,bangolf_kategorien!$A$2:$B$11,2,FALSE)","v":"SM1"}]
["ob",50926,"Frank","Manderscheid","1. MGC Ludwigshafen",{"$f":"CONCATENATE(VLOOKUP(A2125,bangolf_kategorien!$A$2:$B$11,2,FALSE),\": \",D2125,\", \",C2125)","v":"SM1: Manderscheid, Frank"},{"$f":"VLOOKUP(A2125,bangolf_kategorien!$A$2:$B$11,2,FALSE)","v":"SM1"}]
["hv",6693,"Hans","Manderscheid","Freizeit Club Bliesen",{"$f":"CONCATENATE(VLOOKUP(A2126,bangolf_kategorien!$A$2:$B$11,2,FALSE),\": \",D2126,\", \",C2126)","v":"SM2: Manderscheid, Hans"},{"$f":"VLOOKUP(A2126,bangolf_kategorien!$A$2:$B$11,2,FALSE)","v":"SM2"}]
["hv",3796,"Hans-Joachim","Mann","MGC Murnau am Staffelsee",{"$f":"CONCATENATE(VLOOKUP(A2127,bangolf_kategorien!$A$2:$B$11,2,FALSE),\": \",D2127,\", \",C2127)","v":"SM2: Mann, Hans-Joachim"},{"$f":"VLOOKUP(A2127,bangolf_kategorien!$A$2:$B$11,2,FALSE)","v":"SM2"}]
["ob",38500,"Stefan","Manthey","MSC Bad Godesberg",{"$f":"CONCATENATE(VLOOKUP(A2128,bangolf_kategorien!$A$2:$B$11,2,FALSE),\": \",D2128,\", \",C2128)","v":"SM1: Manthey, Stefan"},{"$f":"VLOOKUP(A2128,bangolf_kategorien!$A$2:$B$11,2,FALSE)","v":"SM1"}]
["og",40944,"Susanne","Manz","BGC Illertissen",{"$f":"CONCATENATE(VLOOKUP(A2129,bangolf_kategorien!$A$2:$B$11,2,FALSE),\": \",D2129,\", \",C2129)","v":"SW1: Manz, Susanne"},{"$f":"VLOOKUP(A2129,bangolf_kategorien!$A$2:$B$11,2,FALSE)","v":"SW1"}]
["pa",67046,"Tim","Manz","Reinickendorfer MGC",{"$f":"CONCATENATE(VLOOKUP(A2130,bangolf_kategorien!$A$2:$B$11,2,FALSE),\": \",D2130,\", \",C2130)","v":"SCHM: Manz, Tim"},{"$f":"VLOOKUP(A2130,bangolf_kategorien!$A$2:$B$11,2,FALSE)","v":"SCHM"}]
["hv",45029,"Wolfgang","Manz","BGC Illertissen",{"$f":"CONCATENATE(VLOOKUP(A2131,bangolf_kategorien!$A$2:$B$11,2,FALSE),\": \",D2131,\", \",C2131)","v":"SM2: Manz, Wolfgang"},{"$f":"VLOOKUP(A2131,bangolf_kategorien!$A$2:$B$11,2,FALSE)","v":"SM2"}]
["ob",3313801,"Alexander","Margraf","Hobby",{"$f":"CONCATENATE(VLOOKUP(A2132,bangolf_kategorien!$A$2:$B$11,2,FALSE),\": \",D2132,\", \",C2132)","v":"SM1: Margraf, Alexander"},{"$f":"VLOOKUP(A2132,bangolf_kategorien!$A$2:$B$11,2,FALSE)","v":"SM1"}]
["ob",42687,"Christian","Marinello","MC \"Möve\" Cuxhaven-Sahlenburg",{"$f":"CONCATENATE(VLOOKUP(A2133,bangolf_kategorien!$A$2:$B$11,2,FALSE),\": \",D2133,\", \",C2133)","v":"SM1: Marinello, Christian"},{"$f":"VLOOKUP(A2133,bangolf_kategorien!$A$2:$B$11,2,FALSE)","v":"SM1"}]
["hv",65657,"Max","Märkl","BGC Neutraubling",{"$f":"CONCATENATE(VLOOKUP(A2134,bangolf_kategorien!$A$2:$B$11,2,FALSE),\": \",D2134,\", \",C2134)","v":"SM2: Märkl, Max"},{"$f":"VLOOKUP(A2134,bangolf_kategorien!$A$2:$B$11,2,FALSE)","v":"SM2"}]
["ob",45267,"Leif","Markmann","MGC Olympia Kiel",{"$f":"CONCATENATE(VLOOKUP(A2135,bangolf_kategorien!$A$2:$B$11,2,FALSE),\": \",D2135,\", \",C2135)","v":"SM1: Markmann, Leif"},{"$f":"VLOOKUP(A2135,bangolf_kategorien!$A$2:$B$11,2,FALSE)","v":"SM1"}]
["hv",50930,"Jürgen","Marschall","Freizeit Club Bliesen",{"$f":"CONCATENATE(VLOOKUP(A2136,bangolf_kategorien!$A$2:$B$11,2,FALSE),\": \",D2136,\", \",C2136)","v":"SM2: Marschall, Jürgen"},{"$f":"VLOOKUP(A2136,bangolf_kategorien!$A$2:$B$11,2,FALSE)","v":"SM2"}]
["hv",33471,"Heinz","Marterer","1. BGC Garmisch-Partenkirchen",{"$f":"CONCATENATE(VLOOKUP(A2137,bangolf_kategorien!$A$2:$B$11,2,FALSE),\": \",D2137,\", \",C2137)","v":"SM2: Marterer, Heinz"},{"$f":"VLOOKUP(A2137,bangolf_kategorien!$A$2:$B$11,2,FALSE)","v":"SM2"}]
["og",42045,"Sabine","Marterer-Schleser","1. MGC München-Feldmoching",{"$f":"CONCATENATE(VLOOKUP(A2138,bangolf_kategorien!$A$2:$B$11,2,FALSE),\": \",D2138,\", \",C2138)","v":"SW1: Marterer-Schleser, Sabine"},{"$f":"VLOOKUP(A2138,bangolf_kategorien!$A$2:$B$11,2,FALSE)","v":"SW1"}]
["hv",66957,"Christian","Marth","1. MGC Mainz",{"$f":"CONCATENATE(VLOOKUP(A2139,bangolf_kategorien!$A$2:$B$11,2,FALSE),\": \",D2139,\", \",C2139)","v":"SM2: Marth, Christian"},{"$f":"VLOOKUP(A2139,bangolf_kategorien!$A$2:$B$11,2,FALSE)","v":"SM2"}]
["dv",35692,"Bärbel","Martin","MGC Olympia Kiel",{"$f":"CONCATENATE(VLOOKUP(A2140,bangolf_kategorien!$A$2:$B$11,2,FALSE),\": \",D2140,\", \",C2140)","v":"SW2: Martin, Bärbel"},{"$f":"VLOOKUP(A2140,bangolf_kategorien!$A$2:$B$11,2,FALSE)","v":"SW2"}]
["ob",36222,"Sven","Martinez Moreno","1. Minigolf-Club Rheinhausen",{"$f":"CONCATENATE(VLOOKUP(A2141,bangolf_kategorien!$A$2:$B$11,2,FALSE),\": \",D2141,\", \",C2141)","v":"SM1: Martinez Moreno, Sven"},{"$f":"VLOOKUP(A2141,bangolf_kategorien!$A$2:$B$11,2,FALSE)","v":"SM1"}]
["hs",47173,"Ingo","Marx","1. MSC Hamburg-Neu Wulmstorf",{"$f":"CONCATENATE(VLOOKUP(A2142,bangolf_kategorien!$A$2:$B$11,2,FALSE),\": \",D2142,\", \",C2142)","v":"H: Marx, Ingo"},{"$f":"VLOOKUP(A2142,bangolf_kategorien!$A$2:$B$11,2,FALSE)","v":"H"}]
["hs",38469,"Eric","Marzian","Minigolfclub Karlshagen",{"$f":"CONCATENATE(VLOOKUP(A2143,bangolf_kategorien!$A$2:$B$11,2,FALSE),\": \",D2143,\", \",C2143)","v":"H: Marzian, Eric"},{"$f":"VLOOKUP(A2143,bangolf_kategorien!$A$2:$B$11,2,FALSE)","v":"H"}]
["hv",67365,"Claus","Maschauer","MGC Bad Homburg vdH",{"$f":"CONCATENATE(VLOOKUP(A2144,bangolf_kategorien!$A$2:$B$11,2,FALSE),\": \",D2144,\", \",C2144)","v":"SM2: Maschauer, Claus"},{"$f":"VLOOKUP(A2144,bangolf_kategorien!$A$2:$B$11,2,FALSE)","v":"SM2"}]
["dv",67364,"Diana","Maschauer","MGC Bad Homburg vdH",{"$f":"CONCATENATE(VLOOKUP(A2145,bangolf_kategorien!$A$2:$B$11,2,FALSE),\": \",D2145,\", \",C2145)","v":"SW2: Maschauer, Diana"},{"$f":"VLOOKUP(A2145,bangolf_kategorien!$A$2:$B$11,2,FALSE)","v":"SW2"}]
["hs",67426,"Marcus","Maschauer","MGC Bad Homburg vdH",{"$f":"CONCATENATE(VLOOKUP(A2146,bangolf_kategorien!$A$2:$B$11,2,FALSE),\": \",D2146,\", \",C2146)","v":"H: Maschauer, Marcus"},{"$f":"VLOOKUP(A2146,bangolf_kategorien!$A$2:$B$11,2,FALSE)","v":"H"}]
["ob",40721,"Dirk","Maschotta","Minigolfunion Neviges-Odenthal 1968",{"$f":"CONCATENATE(VLOOKUP(A2147,bangolf_kategorien!$A$2:$B$11,2,FALSE),\": \",D2147,\", \",C2147)","v":"SM1: Maschotta, Dirk"},{"$f":"VLOOKUP(A2147,bangolf_kategorien!$A$2:$B$11,2,FALSE)","v":"SM1"}]
["ob",40718,"Jürgen","Maschotta","Minigolfunion Neviges-Odenthal 1968",{"$f":"CONCATENATE(VLOOKUP(A2148,bangolf_kategorien!$A$2:$B$11,2,FALSE),\": \",D2148,\", \",C2148)","v":"SM1: Maschotta, Jürgen"},{"$f":"VLOOKUP(A2148,bangolf_kategorien!$A$2:$B$11,2,FALSE)","v":"SM1"}]
["hv",36982,"Friedhelm","Matern","MSC Bensheim-Auerbach",{"$f":"CONCATENATE(VLOOKUP(A2149,bangolf_kategorien!$A$2:$B$11,2,FALSE),\": \",D2149,\", \",C2149)","v":"SM2: Matern, Friedhelm"},{"$f":"VLOOKUP(A2149,bangolf_kategorien!$A$2:$B$11,2,FALSE)","v":"SM2"}]
["hv",6331,"Peter","Matern","1. MC Weinheim",{"$f":"CONCATENATE(VLOOKUP(A2150,bangolf_kategorien!$A$2:$B$11,2,FALSE),\": \",D2150,\", \",C2150)","v":"SM2: Matern, Peter"},{"$f":"VLOOKUP(A2150,bangolf_kategorien!$A$2:$B$11,2,FALSE)","v":"SM2"}]
["hv",42640,"Erwin","Materne","1. BGC Bad Füssing",{"$f":"CONCATENATE(VLOOKUP(A2151,bangolf_kategorien!$A$2:$B$11,2,FALSE),\": \",D2151,\", \",C2151)","v":"SM2: Materne, Erwin"},{"$f":"VLOOKUP(A2151,bangolf_kategorien!$A$2:$B$11,2,FALSE)","v":"SM2"}]
["hs",37435,"Alexander","Mathes","MGC \"Stahlquelle\" Bad Bocklet",{"$f":"CONCATENATE(VLOOKUP(A2152,bangolf_kategorien!$A$2:$B$11,2,FALSE),\": \",D2152,\", \",C2152)","v":"H: Mathes, Alexander"},{"$f":"VLOOKUP(A2152,bangolf_kategorien!$A$2:$B$11,2,FALSE)","v":"H"}]
["fa",67064,"Lena","Mathes","MGC \"Stahlquelle\" Bad Bocklet",{"$f":"CONCATENATE(VLOOKUP(A2153,bangolf_kategorien!$A$2:$B$11,2,FALSE),\": \",D2153,\", \",C2153)","v":"SCHW: Mathes, Lena"},{"$f":"VLOOKUP(A2153,bangolf_kategorien!$A$2:$B$11,2,FALSE)","v":"SCHW"}]
["pa",66724,"Nico","Mathes","MGC \"Stahlquelle\" Bad Bocklet",{"$f":"CONCATENATE(VLOOKUP(A2154,bangolf_kategorien!$A$2:$B$11,2,FALSE),\": \",D2154,\", \",C2154)","v":"SCHM: Mathes, Nico"},{"$f":"VLOOKUP(A2154,bangolf_kategorien!$A$2:$B$11,2,FALSE)","v":"SCHM"}]
["ob",64161,"Bernd","Matthä","MGC Ostheim / Rhön",{"$f":"CONCATENATE(VLOOKUP(A2155,bangolf_kategorien!$A$2:$B$11,2,FALSE),\": \",D2155,\", \",C2155)","v":"SM1: Matthä, Bernd"},{"$f":"VLOOKUP(A2155,bangolf_kategorien!$A$2:$B$11,2,FALSE)","v":"SM1"}]
["hs",67548,"David","Matthäi","KGC Bad Urach",{"$f":"CONCATENATE(VLOOKUP(A2156,bangolf_kategorien!$A$2:$B$11,2,FALSE),\": \",D2156,\", \",C2156)","v":"H: Matthäi, David"},{"$f":"VLOOKUP(A2156,bangolf_kategorien!$A$2:$B$11,2,FALSE)","v":"H"}]
["hs",3194212,"Dirk","Matthes","Hobby",{"$f":"CONCATENATE(VLOOKUP(A2157,bangolf_kategorien!$A$2:$B$11,2,FALSE),\": \",D2157,\", \",C2157)","v":"H: Matthes, Dirk"},{"$f":"VLOOKUP(A2157,bangolf_kategorien!$A$2:$B$11,2,FALSE)","v":"H"}]
["dv",65803,"Angelika","Matthies","MGC \"AS\" Witten 1963",{"$f":"CONCATENATE(VLOOKUP(A2158,bangolf_kategorien!$A$2:$B$11,2,FALSE),\": \",D2158,\", \",C2158)","v":"SW2: Matthies, Angelika"},{"$f":"VLOOKUP(A2158,bangolf_kategorien!$A$2:$B$11,2,FALSE)","v":"SW2"}]
["hv",65804,"Bernd","Matthies","MGC \"AS\" Witten 1963",{"$f":"CONCATENATE(VLOOKUP(A2159,bangolf_kategorien!$A$2:$B$11,2,FALSE),\": \",D2159,\", \",C2159)","v":"SM2: Matthies, Bernd"},{"$f":"VLOOKUP(A2159,bangolf_kategorien!$A$2:$B$11,2,FALSE)","v":"SM2"}]
["hv",3287057,"Klaus","Mattick","Hobby",{"$f":"CONCATENATE(VLOOKUP(A2160,bangolf_kategorien!$A$2:$B$11,2,FALSE),\": \",D2160,\", \",C2160)","v":"SM2: Mattick, Klaus"},{"$f":"VLOOKUP(A2160,bangolf_kategorien!$A$2:$B$11,2,FALSE)","v":"SM2"}]
["ds",3287056,"Veronika","Mattick","Hobby",{"$f":"CONCATENATE(VLOOKUP(A2161,bangolf_kategorien!$A$2:$B$11,2,FALSE),\": \",D2161,\", \",C2161)","v":"D: Mattick, Veronika"},{"$f":"VLOOKUP(A2161,bangolf_kategorien!$A$2:$B$11,2,FALSE)","v":"D"}]
["pa",67549,"Julius","Mattzick","MGC Wetzlar",{"$f":"CONCATENATE(VLOOKUP(A2162,bangolf_kategorien!$A$2:$B$11,2,FALSE),\": \",D2162,\", \",C2162)","v":"SCHM: Mattzick, Julius"},{"$f":"VLOOKUP(A2162,bangolf_kategorien!$A$2:$B$11,2,FALSE)","v":"SCHM"}]
["ob",28038,"Ralf","Mätz","BGC Rheinau-Freistett",{"$f":"CONCATENATE(VLOOKUP(A2163,bangolf_kategorien!$A$2:$B$11,2,FALSE),\": \",D2163,\", \",C2163)","v":"SM1: Mätz, Ralf"},{"$f":"VLOOKUP(A2163,bangolf_kategorien!$A$2:$B$11,2,FALSE)","v":"SM1"}]
["hj",66875,"Bastian","Mau","MGC Bad Homburg vdH",{"$f":"CONCATENATE(VLOOKUP(A2164,bangolf_kategorien!$A$2:$B$11,2,FALSE),\": \",D2164,\", \",C2164)","v":"JM: Mau, Bastian"},{"$f":"VLOOKUP(A2164,bangolf_kategorien!$A$2:$B$11,2,FALSE)","v":"JM"}]
["hs",35865,"Dennis","Mau","1. Minigolf-Club Rheinhausen",{"$f":"CONCATENATE(VLOOKUP(A2165,bangolf_kategorien!$A$2:$B$11,2,FALSE),\": \",D2165,\", \",C2165)","v":"H: Mau, Dennis"},{"$f":"VLOOKUP(A2165,bangolf_kategorien!$A$2:$B$11,2,FALSE)","v":"H"}]
["hj",66874,"Felix","Mau","MGC Bad Homburg vdH",{"$f":"CONCATENATE(VLOOKUP(A2166,bangolf_kategorien!$A$2:$B$11,2,FALSE),\": \",D2166,\", \",C2166)","v":"JM: Mau, Felix"},{"$f":"VLOOKUP(A2166,bangolf_kategorien!$A$2:$B$11,2,FALSE)","v":"JM"}]
["ob",48353,"Jürgen","Mau","1. Minigolf-Club Rheinhausen",{"$f":"CONCATENATE(VLOOKUP(A2167,bangolf_kategorien!$A$2:$B$11,2,FALSE),\": \",D2167,\", \",C2167)","v":"SM1: Mau, Jürgen"},{"$f":"VLOOKUP(A2167,bangolf_kategorien!$A$2:$B$11,2,FALSE)","v":"SM1"}]
["hs",38580,"Raik","Mauersberger","MGF Magdeburg 1995",{"$f":"CONCATENATE(VLOOKUP(A2168,bangolf_kategorien!$A$2:$B$11,2,FALSE),\": \",D2168,\", \",C2168)","v":"H: Mauersberger, Raik"},{"$f":"VLOOKUP(A2168,bangolf_kategorien!$A$2:$B$11,2,FALSE)","v":"H"}]
["hj",66039,"Moritz","Maul","SG Arheilgen Abt. Bahnengolf",{"$f":"CONCATENATE(VLOOKUP(A2169,bangolf_kategorien!$A$2:$B$11,2,FALSE),\": \",D2169,\", \",C2169)","v":"JM: Maul, Moritz"},{"$f":"VLOOKUP(A2169,bangolf_kategorien!$A$2:$B$11,2,FALSE)","v":"JM"}]
["ob",34481,"Claus","Maurer","1. MGC Mannheim 1968",{"$f":"CONCATENATE(VLOOKUP(A2170,bangolf_kategorien!$A$2:$B$11,2,FALSE),\": \",D2170,\", \",C2170)","v":"SM1: Maurer, Claus"},{"$f":"VLOOKUP(A2170,bangolf_kategorien!$A$2:$B$11,2,FALSE)","v":"SM1"}]
["ob",37831,"Christian","Mauser","TSV Arendsee",{"$f":"CONCATENATE(VLOOKUP(A2171,bangolf_kategorien!$A$2:$B$11,2,FALSE),\": \",D2171,\", \",C2171)","v":"SM1: Mauser, Christian"},{"$f":"VLOOKUP(A2171,bangolf_kategorien!$A$2:$B$11,2,FALSE)","v":"SM1"}]
["dv",66699,"Roswitha","Maute","1. MGC Hechingen",{"$f":"CONCATENATE(VLOOKUP(A2172,bangolf_kategorien!$A$2:$B$11,2,FALSE),\": \",D2172,\", \",C2172)","v":"SW2: Maute, Roswitha"},{"$f":"VLOOKUP(A2172,bangolf_kategorien!$A$2:$B$11,2,FALSE)","v":"SW2"}]
["ob",42368,"Bernd","May","1. MGC Ladenburg",{"$f":"CONCATENATE(VLOOKUP(A2173,bangolf_kategorien!$A$2:$B$11,2,FALSE),\": \",D2173,\", \",C2173)","v":"SM1: May, Bernd"},{"$f":"VLOOKUP(A2173,bangolf_kategorien!$A$2:$B$11,2,FALSE)","v":"SM1"}]
["ds",1326,"Daniela","May","TSV 1848 Flöha",{"$f":"CONCATENATE(VLOOKUP(A2174,bangolf_kategorien!$A$2:$B$11,2,FALSE),\": \",D2174,\", \",C2174)","v":"D: May, Daniela"},{"$f":"VLOOKUP(A2174,bangolf_kategorien!$A$2:$B$11,2,FALSE)","v":"D"}]
["ob",66848,"Max","Mayer","1. CGC Blau-Gelb Grötzingen",{"$f":"CONCATENATE(VLOOKUP(A2175,bangolf_kategorien!$A$2:$B$11,2,FALSE),\": \",D2175,\", \",C2175)","v":"SM1: Mayer, Max"},{"$f":"VLOOKUP(A2175,bangolf_kategorien!$A$2:$B$11,2,FALSE)","v":"SM1"}]
["ob",45271,"Gerd","Mayerhofer","1. MGC Süßen",{"$f":"CONCATENATE(VLOOKUP(A2176,bangolf_kategorien!$A$2:$B$11,2,FALSE),\": \",D2176,\", \",C2176)","v":"SM1: Mayerhofer, Gerd"},{"$f":"VLOOKUP(A2176,bangolf_kategorien!$A$2:$B$11,2,FALSE)","v":"SM1"}]
["hv",9823,"Herbert","Mazzoli","1. MGC Köln 1961",{"$f":"CONCATENATE(VLOOKUP(A2177,bangolf_kategorien!$A$2:$B$11,2,FALSE),\": \",D2177,\", \",C2177)","v":"SM2: Mazzoli, Herbert"},{"$f":"VLOOKUP(A2177,bangolf_kategorien!$A$2:$B$11,2,FALSE)","v":"SM2"}]
["ds",67254,"Janine","Medding","1. MGV Spandau Berlin",{"$f":"CONCATENATE(VLOOKUP(A2178,bangolf_kategorien!$A$2:$B$11,2,FALSE),\": \",D2178,\", \",C2178)","v":"D: Medding, Janine"},{"$f":"VLOOKUP(A2178,bangolf_kategorien!$A$2:$B$11,2,FALSE)","v":"D"}]
["hs",67253,"Marlon","Medding","1. MGV Spandau Berlin",{"$f":"CONCATENATE(VLOOKUP(A2179,bangolf_kategorien!$A$2:$B$11,2,FALSE),\": \",D2179,\", \",C2179)","v":"H: Medding, Marlon"},{"$f":"VLOOKUP(A2179,bangolf_kategorien!$A$2:$B$11,2,FALSE)","v":"H"}]
["hs",50149,"Marco","Meffert","MGC Dormagen-Brechten",{"$f":"CONCATENATE(VLOOKUP(A2180,bangolf_kategorien!$A$2:$B$11,2,FALSE),\": \",D2180,\", \",C2180)","v":"H: Meffert, Marco"},{"$f":"VLOOKUP(A2180,bangolf_kategorien!$A$2:$B$11,2,FALSE)","v":"H"}]
["hj",66216,"Christopher","Mehl","MC Ilvesheim",{"$f":"CONCATENATE(VLOOKUP(A2181,bangolf_kategorien!$A$2:$B$11,2,FALSE),\": \",D2181,\", \",C2181)","v":"JM: Mehl, Christopher"},{"$f":"VLOOKUP(A2181,bangolf_kategorien!$A$2:$B$11,2,FALSE)","v":"JM"}]
["ob",66329,"Tino","Mehlhorn","Kölner Miniatur Golf Club",{"$f":"CONCATENATE(VLOOKUP(A2182,bangolf_kategorien!$A$2:$B$11,2,FALSE),\": \",D2182,\", \",C2182)","v":"SM1: Mehlhorn, Tino"},{"$f":"VLOOKUP(A2182,bangolf_kategorien!$A$2:$B$11,2,FALSE)","v":"SM1"}]
["hv",40719,"Achim","Meier","Minigolfunion Neviges-Odenthal 1968",{"$f":"CONCATENATE(VLOOKUP(A2183,bangolf_kategorien!$A$2:$B$11,2,FALSE),\": \",D2183,\", \",C2183)","v":"SM2: Meier, Achim"},{"$f":"VLOOKUP(A2183,bangolf_kategorien!$A$2:$B$11,2,FALSE)","v":"SM2"}]
["hv",36229,"Manfred","Meier","BGC Kiel West",{"$f":"CONCATENATE(VLOOKUP(A2184,bangolf_kategorien!$A$2:$B$11,2,FALSE),\": \",D2184,\", \",C2184)","v":"SM2: Meier, Manfred"},{"$f":"VLOOKUP(A2184,bangolf_kategorien!$A$2:$B$11,2,FALSE)","v":"SM2"}]
["hv",17103,"Uwe","Meier","BGSV Kerpen",{"$f":"CONCATENATE(VLOOKUP(A2185,bangolf_kategorien!$A$2:$B$11,2,FALSE),\": \",D2185,\", \",C2185)","v":"SM2: Meier, Uwe"},{"$f":"VLOOKUP(A2185,bangolf_kategorien!$A$2:$B$11,2,FALSE)","v":"SM2"}]
["hv",47267,"Ralf","Meierkord","MGC Bad Salzuflen",{"$f":"CONCATENATE(VLOOKUP(A2186,bangolf_kategorien!$A$2:$B$11,2,FALSE),\": \",D2186,\", \",C2186)","v":"SM2: Meierkord, Ralf"},{"$f":"VLOOKUP(A2186,bangolf_kategorien!$A$2:$B$11,2,FALSE)","v":"SM2"}]
["hs",87509,"Dustin","Meik","MGC Marl 1960",{"$f":"CONCATENATE(VLOOKUP(A2187,bangolf_kategorien!$A$2:$B$11,2,FALSE),\": \",D2187,\", \",C2187)","v":"H: Meik, Dustin"},{"$f":"VLOOKUP(A2187,bangolf_kategorien!$A$2:$B$11,2,FALSE)","v":"H"}]
["dv",36232,"Hiltraut","Meissner","MGC Olympia Kiel",{"$f":"CONCATENATE(VLOOKUP(A2188,bangolf_kategorien!$A$2:$B$11,2,FALSE),\": \",D2188,\", \",C2188)","v":"SW2: Meissner, Hiltraut"},{"$f":"VLOOKUP(A2188,bangolf_kategorien!$A$2:$B$11,2,FALSE)","v":"SW2"}]
["hs",66188,"Lars","Meißner","MGC Wetzlar",{"$f":"CONCATENATE(VLOOKUP(A2189,bangolf_kategorien!$A$2:$B$11,2,FALSE),\": \",D2189,\", \",C2189)","v":"H: Meißner, Lars"},{"$f":"VLOOKUP(A2189,bangolf_kategorien!$A$2:$B$11,2,FALSE)","v":"H"}]
["hv",61096,"Manfred","Meißner","1. MGC Peine von 1965",{"$f":"CONCATENATE(VLOOKUP(A2190,bangolf_kategorien!$A$2:$B$11,2,FALSE),\": \",D2190,\", \",C2190)","v":"SM2: Meißner, Manfred"},{"$f":"VLOOKUP(A2190,bangolf_kategorien!$A$2:$B$11,2,FALSE)","v":"SM2"}]
["hv",50463,"Hans-Peter","Meister","1. MGC Ludwigshafen",{"$f":"CONCATENATE(VLOOKUP(A2191,bangolf_kategorien!$A$2:$B$11,2,FALSE),\": \",D2191,\", \",C2191)","v":"SM2: Meister, Hans-Peter"},{"$f":"VLOOKUP(A2191,bangolf_kategorien!$A$2:$B$11,2,FALSE)","v":"SM2"}]
["hs",31912,"Markus","Meister","1. MGC Ludwigshafen",{"$f":"CONCATENATE(VLOOKUP(A2192,bangolf_kategorien!$A$2:$B$11,2,FALSE),\": \",D2192,\", \",C2192)","v":"H: Meister, Markus"},{"$f":"VLOOKUP(A2192,bangolf_kategorien!$A$2:$B$11,2,FALSE)","v":"H"}]
["hv",29300,"Werner","Meixner","MGF Hammer",{"$f":"CONCATENATE(VLOOKUP(A2193,bangolf_kategorien!$A$2:$B$11,2,FALSE),\": \",D2193,\", \",C2193)","v":"SM2: Meixner, Werner"},{"$f":"VLOOKUP(A2193,bangolf_kategorien!$A$2:$B$11,2,FALSE)","v":"SM2"}]
["pa",3108937,"Silas","Melzer","Hobby",{"$f":"CONCATENATE(VLOOKUP(A2194,bangolf_kategorien!$A$2:$B$11,2,FALSE),\": \",D2194,\", \",C2194)","v":"SCHM: Melzer, Silas"},{"$f":"VLOOKUP(A2194,bangolf_kategorien!$A$2:$B$11,2,FALSE)","v":"SCHM"}]
["hv",3212022,"Ludwig","Memminger","Hobby",{"$f":"CONCATENATE(VLOOKUP(A2195,bangolf_kategorien!$A$2:$B$11,2,FALSE),\": \",D2195,\", \",C2195)","v":"SM2: Memminger, Ludwig"},{"$f":"VLOOKUP(A2195,bangolf_kategorien!$A$2:$B$11,2,FALSE)","v":"SM2"}]
["hv",66705,"Günter","Mendyk","MGC Dortmund Syburg",{"$f":"CONCATENATE(VLOOKUP(A2196,bangolf_kategorien!$A$2:$B$11,2,FALSE),\": \",D2196,\", \",C2196)","v":"SM2: Mendyk, Günter"},{"$f":"VLOOKUP(A2196,bangolf_kategorien!$A$2:$B$11,2,FALSE)","v":"SM2"}]
["hv",6066,"Harald","Menzel","1. Minigolf-Club Rheinhausen",{"$f":"CONCATENATE(VLOOKUP(A2197,bangolf_kategorien!$A$2:$B$11,2,FALSE),\": \",D2197,\", \",C2197)","v":"SM2: Menzel, Harald"},{"$f":"VLOOKUP(A2197,bangolf_kategorien!$A$2:$B$11,2,FALSE)","v":"SM2"}]
["ds",36022,"Melanie","Menzel","1. Essener CGC \"Blau-Gold\"",{"$f":"CONCATENATE(VLOOKUP(A2198,bangolf_kategorien!$A$2:$B$11,2,FALSE),\": \",D2198,\", \",C2198)","v":"D: Menzel, Melanie"},{"$f":"VLOOKUP(A2198,bangolf_kategorien!$A$2:$B$11,2,FALSE)","v":"D"}]
["hs",1077,"Patrick","Menzel","TSV Salzgitter Abt. Bahnengolf",{"$f":"CONCATENATE(VLOOKUP(A2199,bangolf_kategorien!$A$2:$B$11,2,FALSE),\": \",D2199,\", \",C2199)","v":"H: Menzel, Patrick"},{"$f":"VLOOKUP(A2199,bangolf_kategorien!$A$2:$B$11,2,FALSE)","v":"H"}]
["hv",9558,"Bernhard","Merges","1. MGC Ludwigshafen",{"$f":"CONCATENATE(VLOOKUP(A2200,bangolf_kategorien!$A$2:$B$11,2,FALSE),\": \",D2200,\", \",C2200)","v":"SM2: Merges, Bernhard"},{"$f":"VLOOKUP(A2200,bangolf_kategorien!$A$2:$B$11,2,FALSE)","v":"SM2"}]
["dv",66483,"Karin","Merkens","1. Duisburger Minigolf Club 1962",{"$f":"CONCATENATE(VLOOKUP(A2201,bangolf_kategorien!$A$2:$B$11,2,FALSE),\": \",D2201,\", \",C2201)","v":"SW2: Merkens, Karin"},{"$f":"VLOOKUP(A2201,bangolf_kategorien!$A$2:$B$11,2,FALSE)","v":"SW2"}]
["ob",45439,"Carsten","Mertens","1.KGC Mönchengladbach",{"$f":"CONCATENATE(VLOOKUP(A2202,bangolf_kategorien!$A$2:$B$11,2,FALSE),\": \",D2202,\", \",C2202)","v":"SM1: Mertens, Carsten"},{"$f":"VLOOKUP(A2202,bangolf_kategorien!$A$2:$B$11,2,FALSE)","v":"SM1"}]
["hv",35707,"Karl-Heinz","Mertsch","1. MGC Kassel 1964",{"$f":"CONCATENATE(VLOOKUP(A2203,bangolf_kategorien!$A$2:$B$11,2,FALSE),\": \",D2203,\", \",C2203)","v":"SM2: Mertsch, Karl-Heinz"},{"$f":"VLOOKUP(A2203,bangolf_kategorien!$A$2:$B$11,2,FALSE)","v":"SM2"}]
["hv",33679,"Peter","Merz","BGC Schweinfurt",{"$f":"CONCATENATE(VLOOKUP(A2204,bangolf_kategorien!$A$2:$B$11,2,FALSE),\": \",D2204,\", \",C2204)","v":"SM2: Merz, Peter"},{"$f":"VLOOKUP(A2204,bangolf_kategorien!$A$2:$B$11,2,FALSE)","v":"SM2"}]
["hv",3186080,"Gerhard","Meßner","Hobby",{"$f":"CONCATENATE(VLOOKUP(A2205,bangolf_kategorien!$A$2:$B$11,2,FALSE),\": \",D2205,\", \",C2205)","v":"SM2: Meßner, Gerhard"},{"$f":"VLOOKUP(A2205,bangolf_kategorien!$A$2:$B$11,2,FALSE)","v":"SM2"}]
["dv",3186081,"Uta","Meßner","Hobby",{"$f":"CONCATENATE(VLOOKUP(A2206,bangolf_kategorien!$A$2:$B$11,2,FALSE),\": \",D2206,\", \",C2206)","v":"SW2: Meßner, Uta"},{"$f":"VLOOKUP(A2206,bangolf_kategorien!$A$2:$B$11,2,FALSE)","v":"SW2"}]
["ob",37881,"Claus","Methner","1. MGC Metzingen",{"$f":"CONCATENATE(VLOOKUP(A2207,bangolf_kategorien!$A$2:$B$11,2,FALSE),\": \",D2207,\", \",C2207)","v":"SM1: Methner, Claus"},{"$f":"VLOOKUP(A2207,bangolf_kategorien!$A$2:$B$11,2,FALSE)","v":"SM1"}]
["ob",35351,"Marc","Mette","1. MGC Gelsenkirchen",{"$f":"CONCATENATE(VLOOKUP(A2208,bangolf_kategorien!$A$2:$B$11,2,FALSE),\": \",D2208,\", \",C2208)","v":"SM1: Mette, Marc"},{"$f":"VLOOKUP(A2208,bangolf_kategorien!$A$2:$B$11,2,FALSE)","v":"SM1"}]
["ob",50336,"Marcus","Mettler","SSV Ulm 1846 Abt. Bahnengolf",{"$f":"CONCATENATE(VLOOKUP(A2209,bangolf_kategorien!$A$2:$B$11,2,FALSE),\": \",D2209,\", \",C2209)","v":"SM1: Mettler, Marcus"},{"$f":"VLOOKUP(A2209,bangolf_kategorien!$A$2:$B$11,2,FALSE)","v":"SM1"}]
["hs",36983,"Marc","Metz","MGC Bad Homburg vdH",{"$f":"CONCATENATE(VLOOKUP(A2210,bangolf_kategorien!$A$2:$B$11,2,FALSE),\": \",D2210,\", \",C2210)","v":"H: Metz, Marc"},{"$f":"VLOOKUP(A2210,bangolf_kategorien!$A$2:$B$11,2,FALSE)","v":"H"}]
["og",66505,"Bettina","Meyer","MCE Sindelfingen",{"$f":"CONCATENATE(VLOOKUP(A2211,bangolf_kategorien!$A$2:$B$11,2,FALSE),\": \",D2211,\", \",C2211)","v":"SW1: Meyer, Bettina"},{"$f":"VLOOKUP(A2211,bangolf_kategorien!$A$2:$B$11,2,FALSE)","v":"SW1"}]
["og",67298,"Britta","Meyer","Cobigolf-Verein Hamm 2019",{"$f":"CONCATENATE(VLOOKUP(A2212,bangolf_kategorien!$A$2:$B$11,2,FALSE),\": \",D2212,\", \",C2212)","v":"SW1: Meyer, Britta"},{"$f":"VLOOKUP(A2212,bangolf_kategorien!$A$2:$B$11,2,FALSE)","v":"SW1"}]
["dv",65621,"Christa","Meyer","1. BGC Paderborn",{"$f":"CONCATENATE(VLOOKUP(A2213,bangolf_kategorien!$A$2:$B$11,2,FALSE),\": \",D2213,\", \",C2213)","v":"SW2: Meyer, Christa"},{"$f":"VLOOKUP(A2213,bangolf_kategorien!$A$2:$B$11,2,FALSE)","v":"SW2"}]
["hv",37944,"Dieter","Meyer","SV Lurup Abt. Bahnengolf",{"$f":"CONCATENATE(VLOOKUP(A2214,bangolf_kategorien!$A$2:$B$11,2,FALSE),\": \",D2214,\", \",C2214)","v":"SM2: Meyer, Dieter"},{"$f":"VLOOKUP(A2214,bangolf_kategorien!$A$2:$B$11,2,FALSE)","v":"SM2"}]
["fa",67469,"Elisabeth","Meyer","MCE Sindelfingen",{"$f":"CONCATENATE(VLOOKUP(A2215,bangolf_kategorien!$A$2:$B$11,2,FALSE),\": \",D2215,\", \",C2215)","v":"SCHW: Meyer, Elisabeth"},{"$f":"VLOOKUP(A2215,bangolf_kategorien!$A$2:$B$11,2,FALSE)","v":"SCHW"}]
["ob",29486,"Josef","Meyer","BGC Dormagen",{"$f":"CONCATENATE(VLOOKUP(A2216,bangolf_kategorien!$A$2:$B$11,2,FALSE),\": \",D2216,\", \",C2216)","v":"SM1: Meyer, Josef"},{"$f":"VLOOKUP(A2216,bangolf_kategorien!$A$2:$B$11,2,FALSE)","v":"SM1"}]
["ob",41492,"Klaus","Meyer","BGV Bergisch Land 1962 / 63",{"$f":"CONCATENATE(VLOOKUP(A2217,bangolf_kategorien!$A$2:$B$11,2,FALSE),\": \",D2217,\", \",C2217)","v":"SM1: Meyer, Klaus"},{"$f":"VLOOKUP(A2217,bangolf_kategorien!$A$2:$B$11,2,FALSE)","v":"SM1"}]
["hj",37700,"Marcus","Meyer","MCE Sindelfingen",{"$f":"CONCATENATE(VLOOKUP(A2218,bangolf_kategorien!$A$2:$B$11,2,FALSE),\": \",D2218,\", \",C2218)","v":"JM: Meyer, Marcus"},{"$f":"VLOOKUP(A2218,bangolf_kategorien!$A$2:$B$11,2,FALSE)","v":"JM"}]
["dv",66816,"Marita","Meyer","MGV Bremen",{"$f":"CONCATENATE(VLOOKUP(A2219,bangolf_kategorien!$A$2:$B$11,2,FALSE),\": \",D2219,\", \",C2219)","v":"SW2: Meyer, Marita"},{"$f":"VLOOKUP(A2219,bangolf_kategorien!$A$2:$B$11,2,FALSE)","v":"SW2"}]
["ob",37065,"Matthias","Meyer","MSV 05 Bad Münder / Springe",{"$f":"CONCATENATE(VLOOKUP(A2220,bangolf_kategorien!$A$2:$B$11,2,FALSE),\": \",D2220,\", \",C2220)","v":"SM1: Meyer, Matthias"},{"$f":"VLOOKUP(A2220,bangolf_kategorien!$A$2:$B$11,2,FALSE)","v":"SM1"}]
["hs",67085,"Michael","Meyer","1. Minigolf-Club Rheinhausen",{"$f":"CONCATENATE(VLOOKUP(A2221,bangolf_kategorien!$A$2:$B$11,2,FALSE),\": \",D2221,\", \",C2221)","v":"H: Meyer, Michael"},{"$f":"VLOOKUP(A2221,bangolf_kategorien!$A$2:$B$11,2,FALSE)","v":"H"}]
["ds",24684,"Monique","Meyer","BGV Backumer Tal Herten",{"$f":"CONCATENATE(VLOOKUP(A2222,bangolf_kategorien!$A$2:$B$11,2,FALSE),\": \",D2222,\", \",C2222)","v":"D: Meyer, Monique"},{"$f":"VLOOKUP(A2222,bangolf_kategorien!$A$2:$B$11,2,FALSE)","v":"D"}]
["hv",36748,"Rolf","Meyer","VfM Bottrop",{"$f":"CONCATENATE(VLOOKUP(A2223,bangolf_kategorien!$A$2:$B$11,2,FALSE),\": \",D2223,\", \",C2223)","v":"SM2: Meyer, Rolf"},{"$f":"VLOOKUP(A2223,bangolf_kategorien!$A$2:$B$11,2,FALSE)","v":"SM2"}]
["ob",29467,"Werner","Meyer","MCE Sindelfingen",{"$f":"CONCATENATE(VLOOKUP(A2224,bangolf_kategorien!$A$2:$B$11,2,FALSE),\": \",D2224,\", \",C2224)","v":"SM1: Meyer, Werner"},{"$f":"VLOOKUP(A2224,bangolf_kategorien!$A$2:$B$11,2,FALSE)","v":"SM1"}]
["hv",67117,"Werner","Meyer","SG Arheilgen Abt. Bahnengolf",{"$f":"CONCATENATE(VLOOKUP(A2225,bangolf_kategorien!$A$2:$B$11,2,FALSE),\": \",D2225,\", \",C2225)","v":"SM2: Meyer, Werner"},{"$f":"VLOOKUP(A2225,bangolf_kategorien!$A$2:$B$11,2,FALSE)","v":"SM2"}]
["hs",67403,"Miroslaw","Michalski","MGC Dormagen-Brechten",{"$f":"CONCATENATE(VLOOKUP(A2226,bangolf_kategorien!$A$2:$B$11,2,FALSE),\": \",D2226,\", \",C2226)","v":"H: Michalski, Miroslaw"},{"$f":"VLOOKUP(A2226,bangolf_kategorien!$A$2:$B$11,2,FALSE)","v":"H"}]
["hv",64086,"Adolf","Michel","BGC Schweinfurt",{"$f":"CONCATENATE(VLOOKUP(A2227,bangolf_kategorien!$A$2:$B$11,2,FALSE),\": \",D2227,\", \",C2227)","v":"SM2: Michel, Adolf"},{"$f":"VLOOKUP(A2227,bangolf_kategorien!$A$2:$B$11,2,FALSE)","v":"SM2"}]
["ob",33682,"Ralf","Michel","MGC Wertheim 91",{"$f":"CONCATENATE(VLOOKUP(A2228,bangolf_kategorien!$A$2:$B$11,2,FALSE),\": \",D2228,\", \",C2228)","v":"SM1: Michel, Ralf"},{"$f":"VLOOKUP(A2228,bangolf_kategorien!$A$2:$B$11,2,FALSE)","v":"SM1"}]
["hv",67554,"Peter","Michelmann","BGSV Kerpen",{"$f":"CONCATENATE(VLOOKUP(A2229,bangolf_kategorien!$A$2:$B$11,2,FALSE),\": \",D2229,\", \",C2229)","v":"SM2: Michelmann, Peter"},{"$f":"VLOOKUP(A2229,bangolf_kategorien!$A$2:$B$11,2,FALSE)","v":"SM2"}]
["dv",41683,"Claudia","Michenfelder","BIG ASPERG",{"$f":"CONCATENATE(VLOOKUP(A2230,bangolf_kategorien!$A$2:$B$11,2,FALSE),\": \",D2230,\", \",C2230)","v":"SW2: Michenfelder, Claudia"},{"$f":"VLOOKUP(A2230,bangolf_kategorien!$A$2:$B$11,2,FALSE)","v":"SW2"}]
["dv",33337,"Sigrid","Michna","MC \"Möve\" Cuxhaven-Sahlenburg",{"$f":"CONCATENATE(VLOOKUP(A2231,bangolf_kategorien!$A$2:$B$11,2,FALSE),\": \",D2231,\", \",C2231)","v":"SW2: Michna, Sigrid"},{"$f":"VLOOKUP(A2231,bangolf_kategorien!$A$2:$B$11,2,FALSE)","v":"SW2"}]
["hv",33336,"Wolfgang","Michna","MC \"Möve\" Cuxhaven-Sahlenburg",{"$f":"CONCATENATE(VLOOKUP(A2232,bangolf_kategorien!$A$2:$B$11,2,FALSE),\": \",D2232,\", \",C2232)","v":"SM2: Michna, Wolfgang"},{"$f":"VLOOKUP(A2232,bangolf_kategorien!$A$2:$B$11,2,FALSE)","v":"SM2"}]
["hv",67307,"Horst","Miebach","MGC Nümbrecht",{"$f":"CONCATENATE(VLOOKUP(A2233,bangolf_kategorien!$A$2:$B$11,2,FALSE),\": \",D2233,\", \",C2233)","v":"SM2: Miebach, Horst"},{"$f":"VLOOKUP(A2233,bangolf_kategorien!$A$2:$B$11,2,FALSE)","v":"SM2"}]
["ob",30858,"Jörg","Mielenz","BGV Bergisch Land 1962 / 63",{"$f":"CONCATENATE(VLOOKUP(A2234,bangolf_kategorien!$A$2:$B$11,2,FALSE),\": \",D2234,\", \",C2234)","v":"SM1: Mielenz, Jörg"},{"$f":"VLOOKUP(A2234,bangolf_kategorien!$A$2:$B$11,2,FALSE)","v":"SM1"}]
["hs",30714,"Frederick","Mießner","MGC Murnau am Staffelsee",{"$f":"CONCATENATE(VLOOKUP(A2235,bangolf_kategorien!$A$2:$B$11,2,FALSE),\": \",D2235,\", \",C2235)","v":"H: Mießner, Frederick"},{"$f":"VLOOKUP(A2235,bangolf_kategorien!$A$2:$B$11,2,FALSE)","v":"H"}]
["ob",67257,"Frank","Milbers","1. MGC Mannheim 1968",{"$f":"CONCATENATE(VLOOKUP(A2236,bangolf_kategorien!$A$2:$B$11,2,FALSE),\": \",D2236,\", \",C2236)","v":"SM1: Milbers, Frank"},{"$f":"VLOOKUP(A2236,bangolf_kategorien!$A$2:$B$11,2,FALSE)","v":"SM1"}]
["og",67266,"Monika","Milbers","1. MGC Mannheim 1968",{"$f":"CONCATENATE(VLOOKUP(A2237,bangolf_kategorien!$A$2:$B$11,2,FALSE),\": \",D2237,\", \",C2237)","v":"SW1: Milbers, Monika"},{"$f":"VLOOKUP(A2237,bangolf_kategorien!$A$2:$B$11,2,FALSE)","v":"SW1"}]
["hv",8613,"Klaus","Mildenberger","1. CGC Blau-Gelb Grötzingen",{"$f":"CONCATENATE(VLOOKUP(A2238,bangolf_kategorien!$A$2:$B$11,2,FALSE),\": \",D2238,\", \",C2238)","v":"SM2: Mildenberger, Klaus"},{"$f":"VLOOKUP(A2238,bangolf_kategorien!$A$2:$B$11,2,FALSE)","v":"SM2"}]
["pa",67533,"Devin","Miller","BGV Backumer Tal Herten",{"$f":"CONCATENATE(VLOOKUP(A2239,bangolf_kategorien!$A$2:$B$11,2,FALSE),\": \",D2239,\", \",C2239)","v":"SCHM: Miller, Devin"},{"$f":"VLOOKUP(A2239,bangolf_kategorien!$A$2:$B$11,2,FALSE)","v":"SCHM"}]
["hs",65828,"Maximilian","Millhoff","SSC Attendorn",{"$f":"CONCATENATE(VLOOKUP(A2240,bangolf_kategorien!$A$2:$B$11,2,FALSE),\": \",D2240,\", \",C2240)","v":"H: Millhoff, Maximilian"},{"$f":"VLOOKUP(A2240,bangolf_kategorien!$A$2:$B$11,2,FALSE)","v":"H"}]
["ob",42588,"Andreas","Minuth","1. BGC Wolfsburg",{"$f":"CONCATENATE(VLOOKUP(A2241,bangolf_kategorien!$A$2:$B$11,2,FALSE),\": \",D2241,\", \",C2241)","v":"SM1: Minuth, Andreas"},{"$f":"VLOOKUP(A2241,bangolf_kategorien!$A$2:$B$11,2,FALSE)","v":"SM1"}]
["dv",4622,"Hanna","Minuth","1. BGC Wolfsburg",{"$f":"CONCATENATE(VLOOKUP(A2242,bangolf_kategorien!$A$2:$B$11,2,FALSE),\": \",D2242,\", \",C2242)","v":"SW2: Minuth, Hanna"},{"$f":"VLOOKUP(A2242,bangolf_kategorien!$A$2:$B$11,2,FALSE)","v":"SW2"}]
["hv",4621,"Karl-Heinz","Minuth","1. BGC Wolfsburg",{"$f":"CONCATENATE(VLOOKUP(A2243,bangolf_kategorien!$A$2:$B$11,2,FALSE),\": \",D2243,\", \",C2243)","v":"SM2: Minuth, Karl-Heinz"},{"$f":"VLOOKUP(A2243,bangolf_kategorien!$A$2:$B$11,2,FALSE)","v":"SM2"}]
["hv",25538,"Volker","Missonnier","1. MGC Mainz",{"$f":"CONCATENATE(VLOOKUP(A2244,bangolf_kategorien!$A$2:$B$11,2,FALSE),\": \",D2244,\", \",C2244)","v":"SM2: Missonnier, Volker"},{"$f":"VLOOKUP(A2244,bangolf_kategorien!$A$2:$B$11,2,FALSE)","v":"SM2"}]
["ob",28918,"Udo","Mitscher","MGC Traben-Trarbach",{"$f":"CONCATENATE(VLOOKUP(A2245,bangolf_kategorien!$A$2:$B$11,2,FALSE),\": \",D2245,\", \",C2245)","v":"SM1: Mitscher, Udo"},{"$f":"VLOOKUP(A2245,bangolf_kategorien!$A$2:$B$11,2,FALSE)","v":"SM1"}]
["og",36005,"Claudia","Mitschke","MGC Bad Salzuflen",{"$f":"CONCATENATE(VLOOKUP(A2246,bangolf_kategorien!$A$2:$B$11,2,FALSE),\": \",D2246,\", \",C2246)","v":"SW1: Mitschke, Claudia"},{"$f":"VLOOKUP(A2246,bangolf_kategorien!$A$2:$B$11,2,FALSE)","v":"SW1"}]
["ob",38040,"Frank","Mitschke","BV Sennestadt",{"$f":"CONCATENATE(VLOOKUP(A2247,bangolf_kategorien!$A$2:$B$11,2,FALSE),\": \",D2247,\", \",C2247)","v":"SM1: Mitschke, Frank"},{"$f":"VLOOKUP(A2247,bangolf_kategorien!$A$2:$B$11,2,FALSE)","v":"SM1"}]
["ds",66976,"Nadja","Mittelhammer","1. MC Weinheim",{"$f":"CONCATENATE(VLOOKUP(A2248,bangolf_kategorien!$A$2:$B$11,2,FALSE),\": \",D2248,\", \",C2248)","v":"D: Mittelhammer, Nadja"},{"$f":"VLOOKUP(A2248,bangolf_kategorien!$A$2:$B$11,2,FALSE)","v":"D"}]
["hs",38539,"Stefan","Mittelhammer","1. MC Weinheim",{"$f":"CONCATENATE(VLOOKUP(A2249,bangolf_kategorien!$A$2:$B$11,2,FALSE),\": \",D2249,\", \",C2249)","v":"H: Mittelhammer, Stefan"},{"$f":"VLOOKUP(A2249,bangolf_kategorien!$A$2:$B$11,2,FALSE)","v":"H"}]
["ob",27214,"Norbert","Mitterle","TG Höchberg von 1862 Bahnengolf",{"$f":"CONCATENATE(VLOOKUP(A2250,bangolf_kategorien!$A$2:$B$11,2,FALSE),\": \",D2250,\", \",C2250)","v":"SM1: Mitterle, Norbert"},{"$f":"VLOOKUP(A2250,bangolf_kategorien!$A$2:$B$11,2,FALSE)","v":"SM1"}]
["hv",35154,"Alfred","Mix","BSV 86 München",{"$f":"CONCATENATE(VLOOKUP(A2251,bangolf_kategorien!$A$2:$B$11,2,FALSE),\": \",D2251,\", \",C2251)","v":"SM2: Mix, Alfred"},{"$f":"VLOOKUP(A2251,bangolf_kategorien!$A$2:$B$11,2,FALSE)","v":"SM2"}]
["ob",50242,"Joachim","Möbis","BGSV Castrop 1961",{"$f":"CONCATENATE(VLOOKUP(A2252,bangolf_kategorien!$A$2:$B$11,2,FALSE),\": \",D2252,\", \",C2252)","v":"SM1: Möbis, Joachim"},{"$f":"VLOOKUP(A2252,bangolf_kategorien!$A$2:$B$11,2,FALSE)","v":"SM1"}]
["og",38091,"Christine","Möbs","MGC Ingolstadt",{"$f":"CONCATENATE(VLOOKUP(A2253,bangolf_kategorien!$A$2:$B$11,2,FALSE),\": \",D2253,\", \",C2253)","v":"SW1: Möbs, Christine"},{"$f":"VLOOKUP(A2253,bangolf_kategorien!$A$2:$B$11,2,FALSE)","v":"SW1"}]
["ob",38090,"Lothar","Möbs","MGC Ingolstadt",{"$f":"CONCATENATE(VLOOKUP(A2254,bangolf_kategorien!$A$2:$B$11,2,FALSE),\": \",D2254,\", \",C2254)","v":"SM1: Möbs, Lothar"},{"$f":"VLOOKUP(A2254,bangolf_kategorien!$A$2:$B$11,2,FALSE)","v":"SM1"}]
["hv",22203,"Rüdiger","Möck","MGC Millennium Lorsch",{"$f":"CONCATENATE(VLOOKUP(A2255,bangolf_kategorien!$A$2:$B$11,2,FALSE),\": \",D2255,\", \",C2255)","v":"SM2: Möck, Rüdiger"},{"$f":"VLOOKUP(A2255,bangolf_kategorien!$A$2:$B$11,2,FALSE)","v":"SM2"}]
["ds",34386,"Jasmin","Möckel","BGSV Bad Homburg",{"$f":"CONCATENATE(VLOOKUP(A2256,bangolf_kategorien!$A$2:$B$11,2,FALSE),\": \",D2256,\", \",C2256)","v":"D: Möckel, Jasmin"},{"$f":"VLOOKUP(A2256,bangolf_kategorien!$A$2:$B$11,2,FALSE)","v":"D"}]
["hv",33787,"Jürgen","Möckel","MGC Bad Soden-Salmünster",{"$f":"CONCATENATE(VLOOKUP(A2257,bangolf_kategorien!$A$2:$B$11,2,FALSE),\": \",D2257,\", \",C2257)","v":"SM2: Möckel, Jürgen"},{"$f":"VLOOKUP(A2257,bangolf_kategorien!$A$2:$B$11,2,FALSE)","v":"SM2"}]
["dv",33788,"Jutta","Möckel","MGC Bad Soden-Salmünster",{"$f":"CONCATENATE(VLOOKUP(A2258,bangolf_kategorien!$A$2:$B$11,2,FALSE),\": \",D2258,\", \",C2258)","v":"SW2: Möckel, Jutta"},{"$f":"VLOOKUP(A2258,bangolf_kategorien!$A$2:$B$11,2,FALSE)","v":"SW2"}]
["og",67494,"Ina","Mohr","MGC Brunsbüttel",{"$f":"CONCATENATE(VLOOKUP(A2259,bangolf_kategorien!$A$2:$B$11,2,FALSE),\": \",D2259,\", \",C2259)","v":"SW1: Mohr, Ina"},{"$f":"VLOOKUP(A2259,bangolf_kategorien!$A$2:$B$11,2,FALSE)","v":"SW1"}]
["ds",67485,"Lisa Sabrina","Mohr","MGC Brunsbüttel",{"$f":"CONCATENATE(VLOOKUP(A2260,bangolf_kategorien!$A$2:$B$11,2,FALSE),\": \",D2260,\", \",C2260)","v":"D: Mohr, Lisa Sabrina"},{"$f":"VLOOKUP(A2260,bangolf_kategorien!$A$2:$B$11,2,FALSE)","v":"D"}]
["ob",49769,"Wilfried","Mohr","SC Gut Heil Neumünster",{"$f":"CONCATENATE(VLOOKUP(A2261,bangolf_kategorien!$A$2:$B$11,2,FALSE),\": \",D2261,\", \",C2261)","v":"SM1: Mohr, Wilfried"},{"$f":"VLOOKUP(A2261,bangolf_kategorien!$A$2:$B$11,2,FALSE)","v":"SM1"}]
["ob",67493,"Wolfgang","Mohr","MGC Brunsbüttel",{"$f":"CONCATENATE(VLOOKUP(A2262,bangolf_kategorien!$A$2:$B$11,2,FALSE),\": \",D2262,\", \",C2262)","v":"SM1: Mohr, Wolfgang"},{"$f":"VLOOKUP(A2262,bangolf_kategorien!$A$2:$B$11,2,FALSE)","v":"SM1"}]
["hv",40845,"Jakob","Mois","MGC Murnau am Staffelsee",{"$f":"CONCATENATE(VLOOKUP(A2263,bangolf_kategorien!$A$2:$B$11,2,FALSE),\": \",D2263,\", \",C2263)","v":"SM2: Mois, Jakob"},{"$f":"VLOOKUP(A2263,bangolf_kategorien!$A$2:$B$11,2,FALSE)","v":"SM2"}]
["dv",5649,"Heidi","Moll","CGC Rauschenberg",{"$f":"CONCATENATE(VLOOKUP(A2264,bangolf_kategorien!$A$2:$B$11,2,FALSE),\": \",D2264,\", \",C2264)","v":"SW2: Moll, Heidi"},{"$f":"VLOOKUP(A2264,bangolf_kategorien!$A$2:$B$11,2,FALSE)","v":"SW2"}]
["ob",30348,"Maik","Moll","1. CGC Blau-Gelb Grötzingen",{"$f":"CONCATENATE(VLOOKUP(A2265,bangolf_kategorien!$A$2:$B$11,2,FALSE),\": \",D2265,\", \",C2265)","v":"SM1: Moll, Maik"},{"$f":"VLOOKUP(A2265,bangolf_kategorien!$A$2:$B$11,2,FALSE)","v":"SM1"}]
["hs",37921,"David","Möller","MSK Olching",{"$f":"CONCATENATE(VLOOKUP(A2266,bangolf_kategorien!$A$2:$B$11,2,FALSE),\": \",D2266,\", \",C2266)","v":"H: Möller, David"},{"$f":"VLOOKUP(A2266,bangolf_kategorien!$A$2:$B$11,2,FALSE)","v":"H"}]
["hv",17358,"Egon","Möller","BGC Bad Berneck",{"$f":"CONCATENATE(VLOOKUP(A2267,bangolf_kategorien!$A$2:$B$11,2,FALSE),\": \",D2267,\", \",C2267)","v":"SM2: Möller, Egon"},{"$f":"VLOOKUP(A2267,bangolf_kategorien!$A$2:$B$11,2,FALSE)","v":"SM2"}]
["hv",3551,"Friedrich-Wilhelm","Möller","BGC Diepholz",{"$f":"CONCATENATE(VLOOKUP(A2268,bangolf_kategorien!$A$2:$B$11,2,FALSE),\": \",D2268,\", \",C2268)","v":"SM2: Möller, Friedrich-Wilhelm"},{"$f":"VLOOKUP(A2268,bangolf_kategorien!$A$2:$B$11,2,FALSE)","v":"SM2"}]
["hs",33192,"Markus","Möller","VfB Osnabrück",{"$f":"CONCATENATE(VLOOKUP(A2269,bangolf_kategorien!$A$2:$B$11,2,FALSE),\": \",D2269,\", \",C2269)","v":"H: Möller, Markus"},{"$f":"VLOOKUP(A2269,bangolf_kategorien!$A$2:$B$11,2,FALSE)","v":"H"}]
["hv",17359,"Wolfgang","Möller","MGC Brunsbüttel",{"$f":"CONCATENATE(VLOOKUP(A2270,bangolf_kategorien!$A$2:$B$11,2,FALSE),\": \",D2270,\", \",C2270)","v":"SM2: Möller, Wolfgang"},{"$f":"VLOOKUP(A2270,bangolf_kategorien!$A$2:$B$11,2,FALSE)","v":"SM2"}]
["hs",37430,"Karel jr.","Molnár","BGS Hardenberg-Pötter",{"$f":"CONCATENATE(VLOOKUP(A2271,bangolf_kategorien!$A$2:$B$11,2,FALSE),\": \",D2271,\", \",C2271)","v":"H: Molnár, Karel jr."},{"$f":"VLOOKUP(A2271,bangolf_kategorien!$A$2:$B$11,2,FALSE)","v":"H"}]
["og",31014,"Marion","Mombauer","BGC Uerdingen",{"$f":"CONCATENATE(VLOOKUP(A2272,bangolf_kategorien!$A$2:$B$11,2,FALSE),\": \",D2272,\", \",C2272)","v":"SW1: Mombauer, Marion"},{"$f":"VLOOKUP(A2272,bangolf_kategorien!$A$2:$B$11,2,FALSE)","v":"SW1"}]
["pa",67202,"Felix Leon","Mönnig","CGC Rauschenberg",{"$f":"CONCATENATE(VLOOKUP(A2273,bangolf_kategorien!$A$2:$B$11,2,FALSE),\": \",D2273,\", \",C2273)","v":"SCHM: Mönnig, Felix Leon"},{"$f":"VLOOKUP(A2273,bangolf_kategorien!$A$2:$B$11,2,FALSE)","v":"SCHM"}]
["ob",26414,"Richard","Mönning","1. MGC Epe 1978",{"$f":"CONCATENATE(VLOOKUP(A2274,bangolf_kategorien!$A$2:$B$11,2,FALSE),\": \",D2274,\", \",C2274)","v":"SM1: Mönning, Richard"},{"$f":"VLOOKUP(A2274,bangolf_kategorien!$A$2:$B$11,2,FALSE)","v":"SM1"}]
["hs",38208,"Tobias","Montberg","1. MSC Wesel 6.6.1966",{"$f":"CONCATENATE(VLOOKUP(A2275,bangolf_kategorien!$A$2:$B$11,2,FALSE),\": \",D2275,\", \",C2275)","v":"H: Montberg, Tobias"},{"$f":"VLOOKUP(A2275,bangolf_kategorien!$A$2:$B$11,2,FALSE)","v":"H"}]
["ob",36103,"Michael","Montes","MSK Neheim-Hüsten",{"$f":"CONCATENATE(VLOOKUP(A2276,bangolf_kategorien!$A$2:$B$11,2,FALSE),\": \",D2276,\", \",C2276)","v":"SM1: Montes, Michael"},{"$f":"VLOOKUP(A2276,bangolf_kategorien!$A$2:$B$11,2,FALSE)","v":"SM1"}]
["hv",12100,"Hans","Mordhorst","VfM Berlin",{"$f":"CONCATENATE(VLOOKUP(A2277,bangolf_kategorien!$A$2:$B$11,2,FALSE),\": \",D2277,\", \",C2277)","v":"SM2: Mordhorst, Hans"},{"$f":"VLOOKUP(A2277,bangolf_kategorien!$A$2:$B$11,2,FALSE)","v":"SM2"}]
["dv",17884,"Rosemarie","Mordhorst","VfM Berlin",{"$f":"CONCATENATE(VLOOKUP(A2278,bangolf_kategorien!$A$2:$B$11,2,FALSE),\": \",D2278,\", \",C2278)","v":"SW2: Mordhorst, Rosemarie"},{"$f":"VLOOKUP(A2278,bangolf_kategorien!$A$2:$B$11,2,FALSE)","v":"SW2"}]
["hv",67348,"Ruggiero","Morelli","1. MGC Ludwigshafen",{"$f":"CONCATENATE(VLOOKUP(A2279,bangolf_kategorien!$A$2:$B$11,2,FALSE),\": \",D2279,\", \",C2279)","v":"SM2: Morelli, Ruggiero"},{"$f":"VLOOKUP(A2279,bangolf_kategorien!$A$2:$B$11,2,FALSE)","v":"SM2"}]
["dv",25840,"Angela","Morgenstern","BGS Hardenberg-Pötter",{"$f":"CONCATENATE(VLOOKUP(A2280,bangolf_kategorien!$A$2:$B$11,2,FALSE),\": \",D2280,\", \",C2280)","v":"SW2: Morgenstern, Angela"},{"$f":"VLOOKUP(A2280,bangolf_kategorien!$A$2:$B$11,2,FALSE)","v":"SW2"}]
["hv",66745,"Peter","Morgenstern","Biskirchener BGV",{"$f":"CONCATENATE(VLOOKUP(A2281,bangolf_kategorien!$A$2:$B$11,2,FALSE),\": \",D2281,\", \",C2281)","v":"SM2: Morgenstern, Peter"},{"$f":"VLOOKUP(A2281,bangolf_kategorien!$A$2:$B$11,2,FALSE)","v":"SM2"}]
["dv",36599,"Brigitte","Morhardt","1. MGC Metzingen",{"$f":"CONCATENATE(VLOOKUP(A2282,bangolf_kategorien!$A$2:$B$11,2,FALSE),\": \",D2282,\", \",C2282)","v":"SW2: Morhardt, Brigitte"},{"$f":"VLOOKUP(A2282,bangolf_kategorien!$A$2:$B$11,2,FALSE)","v":"SW2"}]
["ob",67020,"Rainer","Moritz","BGC Schweinfurt",{"$f":"CONCATENATE(VLOOKUP(A2283,bangolf_kategorien!$A$2:$B$11,2,FALSE),\": \",D2283,\", \",C2283)","v":"SM1: Moritz, Rainer"},{"$f":"VLOOKUP(A2283,bangolf_kategorien!$A$2:$B$11,2,FALSE)","v":"SM1"}]
["hj",66564,"Daniel","Mörixbauer","1. MGC Süßen",{"$f":"CONCATENATE(VLOOKUP(A2284,bangolf_kategorien!$A$2:$B$11,2,FALSE),\": \",D2284,\", \",C2284)","v":"JM: Mörixbauer, Daniel"},{"$f":"VLOOKUP(A2284,bangolf_kategorien!$A$2:$B$11,2,FALSE)","v":"JM"}]
["ob",66727,"Jürgen","Mörixbauer","1. MGC Süßen",{"$f":"CONCATENATE(VLOOKUP(A2285,bangolf_kategorien!$A$2:$B$11,2,FALSE),\": \",D2285,\", \",C2285)","v":"SM1: Mörixbauer, Jürgen"},{"$f":"VLOOKUP(A2285,bangolf_kategorien!$A$2:$B$11,2,FALSE)","v":"SM1"}]
["ob",37807,"Detlef","Morschick","BGC Dormagen",{"$f":"CONCATENATE(VLOOKUP(A2286,bangolf_kategorien!$A$2:$B$11,2,FALSE),\": \",D2286,\", \",C2286)","v":"SM1: Morschick, Detlef"},{"$f":"VLOOKUP(A2286,bangolf_kategorien!$A$2:$B$11,2,FALSE)","v":"SM1"}]
["hs",37808,"Kevin","Morschick","BGC Dormagen",{"$f":"CONCATENATE(VLOOKUP(A2287,bangolf_kategorien!$A$2:$B$11,2,FALSE),\": \",D2287,\", \",C2287)","v":"H: Morschick, Kevin"},{"$f":"VLOOKUP(A2287,bangolf_kategorien!$A$2:$B$11,2,FALSE)","v":"H"}]
["hs",38414,"Markus","Mosch","1. MGC Paderborn",{"$f":"CONCATENATE(VLOOKUP(A2288,bangolf_kategorien!$A$2:$B$11,2,FALSE),\": \",D2288,\", \",C2288)","v":"H: Mosch, Markus"},{"$f":"VLOOKUP(A2288,bangolf_kategorien!$A$2:$B$11,2,FALSE)","v":"H"}]
["ob",42254,"Rüdiger","Moser","VfM Bottrop",{"$f":"CONCATENATE(VLOOKUP(A2289,bangolf_kategorien!$A$2:$B$11,2,FALSE),\": \",D2289,\", \",C2289)","v":"SM1: Moser, Rüdiger"},{"$f":"VLOOKUP(A2289,bangolf_kategorien!$A$2:$B$11,2,FALSE)","v":"SM1"}]
["hs",66421,"Colin","Mössinger","BGSV Kerpen",{"$f":"CONCATENATE(VLOOKUP(A2290,bangolf_kategorien!$A$2:$B$11,2,FALSE),\": \",D2290,\", \",C2290)","v":"H: Mössinger, Colin"},{"$f":"VLOOKUP(A2290,bangolf_kategorien!$A$2:$B$11,2,FALSE)","v":"H"}]
["hj",66420,"Gereth Neville","Mössinger","BGSV Kerpen",{"$f":"CONCATENATE(VLOOKUP(A2291,bangolf_kategorien!$A$2:$B$11,2,FALSE),\": \",D2291,\", \",C2291)","v":"JM: Mössinger, Gereth Neville"},{"$f":"VLOOKUP(A2291,bangolf_kategorien!$A$2:$B$11,2,FALSE)","v":"JM"}]
["og",67495,"Sigrun","Mössinger","1. CGC Blau-Gelb Grötzingen",{"$f":"CONCATENATE(VLOOKUP(A2292,bangolf_kategorien!$A$2:$B$11,2,FALSE),\": \",D2292,\", \",C2292)","v":"SW1: Mössinger, Sigrun"},{"$f":"VLOOKUP(A2292,bangolf_kategorien!$A$2:$B$11,2,FALSE)","v":"SW1"}]
["hv",36162,"Philipp","Most","MGC \"Stahlquelle\" Bad Bocklet",{"$f":"CONCATENATE(VLOOKUP(A2293,bangolf_kategorien!$A$2:$B$11,2,FALSE),\": \",D2293,\", \",C2293)","v":"SM2: Most, Philipp"},{"$f":"VLOOKUP(A2293,bangolf_kategorien!$A$2:$B$11,2,FALSE)","v":"SM2"}]
["hs",38557,"Alexander","Mrohs","Niendorfer MC v. 1963",{"$f":"CONCATENATE(VLOOKUP(A2294,bangolf_kategorien!$A$2:$B$11,2,FALSE),\": \",D2294,\", \",C2294)","v":"H: Mrohs, Alexander"},{"$f":"VLOOKUP(A2294,bangolf_kategorien!$A$2:$B$11,2,FALSE)","v":"H"}]
["hj",67032,"Moritz","Mrozek","BSC Ennepetal",{"$f":"CONCATENATE(VLOOKUP(A2295,bangolf_kategorien!$A$2:$B$11,2,FALSE),\": \",D2295,\", \",C2295)","v":"JM: Mrozek, Moritz"},{"$f":"VLOOKUP(A2295,bangolf_kategorien!$A$2:$B$11,2,FALSE)","v":"JM"}]
["ob",28527,"Martin","Much","MSK Neheim-Hüsten",{"$f":"CONCATENATE(VLOOKUP(A2296,bangolf_kategorien!$A$2:$B$11,2,FALSE),\": \",D2296,\", \",C2296)","v":"SM1: Much, Martin"},{"$f":"VLOOKUP(A2296,bangolf_kategorien!$A$2:$B$11,2,FALSE)","v":"SM1"}]
["hs",40247,"Jan","Muckenhaupt","SSC Attendorn",{"$f":"CONCATENATE(VLOOKUP(A2297,bangolf_kategorien!$A$2:$B$11,2,FALSE),\": \",D2297,\", \",C2297)","v":"H: Muckenhaupt, Jan"},{"$f":"VLOOKUP(A2297,bangolf_kategorien!$A$2:$B$11,2,FALSE)","v":"H"}]
["hv",43491,"Willy","Mühlberg","SV Lurup Abt. Bahnengolf",{"$f":"CONCATENATE(VLOOKUP(A2298,bangolf_kategorien!$A$2:$B$11,2,FALSE),\": \",D2298,\", \",C2298)","v":"SM2: Mühlberg, Willy"},{"$f":"VLOOKUP(A2298,bangolf_kategorien!$A$2:$B$11,2,FALSE)","v":"SM2"}]
["ob",29511,"Dirk","Mühlenbeck","HMC Büttgen",{"$f":"CONCATENATE(VLOOKUP(A2299,bangolf_kategorien!$A$2:$B$11,2,FALSE),\": \",D2299,\", \",C2299)","v":"SM1: Mühlenbeck, Dirk"},{"$f":"VLOOKUP(A2299,bangolf_kategorien!$A$2:$B$11,2,FALSE)","v":"SM1"}]
["hv",49369,"Dirk","Mühling","MGC Heven",{"$f":"CONCATENATE(VLOOKUP(A2300,bangolf_kategorien!$A$2:$B$11,2,FALSE),\": \",D2300,\", \",C2300)","v":"SM2: Mühling, Dirk"},{"$f":"VLOOKUP(A2300,bangolf_kategorien!$A$2:$B$11,2,FALSE)","v":"SM2"}]
["dv",49363,"Irene","Mühling","MGC Heven",{"$f":"CONCATENATE(VLOOKUP(A2301,bangolf_kategorien!$A$2:$B$11,2,FALSE),\": \",D2301,\", \",C2301)","v":"SW2: Mühling, Irene"},{"$f":"VLOOKUP(A2301,bangolf_kategorien!$A$2:$B$11,2,FALSE)","v":"SW2"}]
["hv",66557,"Peter","Mühlstein","1. BGC Landshut",{"$f":"CONCATENATE(VLOOKUP(A2302,bangolf_kategorien!$A$2:$B$11,2,FALSE),\": \",D2302,\", \",C2302)","v":"SM2: Mühlstein, Peter"},{"$f":"VLOOKUP(A2302,bangolf_kategorien!$A$2:$B$11,2,FALSE)","v":"SM2"}]
["dv",67226,"Renate","Mühlstein","1. BGC Landshut",{"$f":"CONCATENATE(VLOOKUP(A2303,bangolf_kategorien!$A$2:$B$11,2,FALSE),\": \",D2303,\", \",C2303)","v":"SW2: Mühlstein, Renate"},{"$f":"VLOOKUP(A2303,bangolf_kategorien!$A$2:$B$11,2,FALSE)","v":"SW2"}]
["dv",65620,"Karin","Mulfinger","MGC Bad Feilnbach",{"$f":"CONCATENATE(VLOOKUP(A2304,bangolf_kategorien!$A$2:$B$11,2,FALSE),\": \",D2304,\", \",C2304)","v":"SW2: Mulfinger, Karin"},{"$f":"VLOOKUP(A2304,bangolf_kategorien!$A$2:$B$11,2,FALSE)","v":"SW2"}]
["hv",38076,"Peter","Mulfinger","MGC Bad Feilnbach",{"$f":"CONCATENATE(VLOOKUP(A2305,bangolf_kategorien!$A$2:$B$11,2,FALSE),\": \",D2305,\", \",C2305)","v":"SM2: Mulfinger, Peter"},{"$f":"VLOOKUP(A2305,bangolf_kategorien!$A$2:$B$11,2,FALSE)","v":"SM2"}]
["ob",20828,"Hans Dieter","Müllen","MGC Traben-Trarbach",{"$f":"CONCATENATE(VLOOKUP(A2306,bangolf_kategorien!$A$2:$B$11,2,FALSE),\": \",D2306,\", \",C2306)","v":"SM1: Müllen, Hans Dieter"},{"$f":"VLOOKUP(A2306,bangolf_kategorien!$A$2:$B$11,2,FALSE)","v":"SM1"}]
["hv",40912,"Axel","Müller","1. KC Homburg-Saar 1967",{"$f":"CONCATENATE(VLOOKUP(A2307,bangolf_kategorien!$A$2:$B$11,2,FALSE),\": \",D2307,\", \",C2307)","v":"SM2: Müller, Axel"},{"$f":"VLOOKUP(A2307,bangolf_kategorien!$A$2:$B$11,2,FALSE)","v":"SM2"}]
["hs",35740,"Benjamin","Müller","MGC Traben-Trarbach",{"$f":"CONCATENATE(VLOOKUP(A2308,bangolf_kategorien!$A$2:$B$11,2,FALSE),\": \",D2308,\", \",C2308)","v":"H: Müller, Benjamin"},{"$f":"VLOOKUP(A2308,bangolf_kategorien!$A$2:$B$11,2,FALSE)","v":"H"}]
["hv",33080,"Berndt","Müller","MCE Sindelfingen",{"$f":"CONCATENATE(VLOOKUP(A2309,bangolf_kategorien!$A$2:$B$11,2,FALSE),\": \",D2309,\", \",C2309)","v":"SM2: Müller, Berndt"},{"$f":"VLOOKUP(A2309,bangolf_kategorien!$A$2:$B$11,2,FALSE)","v":"SM2"}]
["hs",32762,"Björn","Müller","MC \"Möve\" Cuxhaven-Sahlenburg",{"$f":"CONCATENATE(VLOOKUP(A2310,bangolf_kategorien!$A$2:$B$11,2,FALSE),\": \",D2310,\", \",C2310)","v":"H: Müller, Björn"},{"$f":"VLOOKUP(A2310,bangolf_kategorien!$A$2:$B$11,2,FALSE)","v":"H"}]
["hs",3194213,"Daniel","Müller","Hobby",{"$f":"CONCATENATE(VLOOKUP(A2311,bangolf_kategorien!$A$2:$B$11,2,FALSE),\": \",D2311,\", \",C2311)","v":"H: Müller, Daniel"},{"$f":"VLOOKUP(A2311,bangolf_kategorien!$A$2:$B$11,2,FALSE)","v":"H"}]
["hs",48182,"Dirk","Müller","MGC Freizeitzentrum Biebertal",{"$f":"CONCATENATE(VLOOKUP(A2312,bangolf_kategorien!$A$2:$B$11,2,FALSE),\": \",D2312,\", \",C2312)","v":"H: Müller, Dirk"},{"$f":"VLOOKUP(A2312,bangolf_kategorien!$A$2:$B$11,2,FALSE)","v":"H"}]
["dv",34489,"Elli","Müller","MSC Bad Godesberg",{"$f":"CONCATENATE(VLOOKUP(A2313,bangolf_kategorien!$A$2:$B$11,2,FALSE),\": \",D2313,\", \",C2313)","v":"SW2: Müller, Elli"},{"$f":"VLOOKUP(A2313,bangolf_kategorien!$A$2:$B$11,2,FALSE)","v":"SW2"}]
["hs",67245,"Frank","Müller","MSF Brilon",{"$f":"CONCATENATE(VLOOKUP(A2314,bangolf_kategorien!$A$2:$B$11,2,FALSE),\": \",D2314,\", \",C2314)","v":"H: Müller, Frank"},{"$f":"VLOOKUP(A2314,bangolf_kategorien!$A$2:$B$11,2,FALSE)","v":"H"}]
["hv",27319,"Friedrich","Müller","1. MGC Paderborn",{"$f":"CONCATENATE(VLOOKUP(A2315,bangolf_kategorien!$A$2:$B$11,2,FALSE),\": \",D2315,\", \",C2315)","v":"SM2: Müller, Friedrich"},{"$f":"VLOOKUP(A2315,bangolf_kategorien!$A$2:$B$11,2,FALSE)","v":"SM2"}]
["dv",66028,"Helga","Müller","MGC Bergisch Gladbach Gierath",{"$f":"CONCATENATE(VLOOKUP(A2316,bangolf_kategorien!$A$2:$B$11,2,FALSE),\": \",D2316,\", \",C2316)","v":"SW2: Müller, Helga"},{"$f":"VLOOKUP(A2316,bangolf_kategorien!$A$2:$B$11,2,FALSE)","v":"SW2"}]
["hv",66029,"Josef","Müller","MGC Bergisch Gladbach Gierath",{"$f":"CONCATENATE(VLOOKUP(A2317,bangolf_kategorien!$A$2:$B$11,2,FALSE),\": \",D2317,\", \",C2317)","v":"SM2: Müller, Josef"},{"$f":"VLOOKUP(A2317,bangolf_kategorien!$A$2:$B$11,2,FALSE)","v":"SM2"}]
["ob",26535,"Klaus","Müller","MGF Hilzingen 80",{"$f":"CONCATENATE(VLOOKUP(A2318,bangolf_kategorien!$A$2:$B$11,2,FALSE),\": \",D2318,\", \",C2318)","v":"SM1: Müller, Klaus"},{"$f":"VLOOKUP(A2318,bangolf_kategorien!$A$2:$B$11,2,FALSE)","v":"SM1"}]
["ds",34616,"Laura","Müller","1. MGC Ludwigshafen",{"$f":"CONCATENATE(VLOOKUP(A2319,bangolf_kategorien!$A$2:$B$11,2,FALSE),\": \",D2319,\", \",C2319)","v":"D: Müller, Laura"},{"$f":"VLOOKUP(A2319,bangolf_kategorien!$A$2:$B$11,2,FALSE)","v":"D"}]
["ob",65865,"Markus","Müller","Minigolfunion Neviges-Odenthal 1968",{"$f":"CONCATENATE(VLOOKUP(A2320,bangolf_kategorien!$A$2:$B$11,2,FALSE),\": \",D2320,\", \",C2320)","v":"SM1: Müller, Markus"},{"$f":"VLOOKUP(A2320,bangolf_kategorien!$A$2:$B$11,2,FALSE)","v":"SM1"}]
["ob",45001,"Michael","Müller","MC 62 Lüdenscheid",{"$f":"CONCATENATE(VLOOKUP(A2321,bangolf_kategorien!$A$2:$B$11,2,FALSE),\": \",D2321,\", \",C2321)","v":"SM1: Müller, Michael"},{"$f":"VLOOKUP(A2321,bangolf_kategorien!$A$2:$B$11,2,FALSE)","v":"SM1"}]
["ob",46141,"Michael","Müller","MGC Bad Feilnbach",{"$f":"CONCATENATE(VLOOKUP(A2322,bangolf_kategorien!$A$2:$B$11,2,FALSE),\": \",D2322,\", \",C2322)","v":"SM1: Müller, Michael"},{"$f":"VLOOKUP(A2322,bangolf_kategorien!$A$2:$B$11,2,FALSE)","v":"SM1"}]
["hv",66176,"Michael","Müller","SC Bad Münder Abt. Bahnengolf",{"$f":"CONCATENATE(VLOOKUP(A2323,bangolf_kategorien!$A$2:$B$11,2,FALSE),\": \",D2323,\", \",C2323)","v":"SM2: Müller, Michael"},{"$f":"VLOOKUP(A2323,bangolf_kategorien!$A$2:$B$11,2,FALSE)","v":"SM2"}]
["hs",33774,"Patrick","Müller","MSC Bad Godesberg",{"$f":"CONCATENATE(VLOOKUP(A2324,bangolf_kategorien!$A$2:$B$11,2,FALSE),\": \",D2324,\", \",C2324)","v":"H: Müller, Patrick"},{"$f":"VLOOKUP(A2324,bangolf_kategorien!$A$2:$B$11,2,FALSE)","v":"H"}]
["ob",40622,"Peter","Müller","Miniaturgolf Sportclub Schriesheim",{"$f":"CONCATENATE(VLOOKUP(A2325,bangolf_kategorien!$A$2:$B$11,2,FALSE),\": \",D2325,\", \",C2325)","v":"SM1: Müller, Peter"},{"$f":"VLOOKUP(A2325,bangolf_kategorien!$A$2:$B$11,2,FALSE)","v":"SM1"}]
["ob",46389,"Ralf","Müller","Reinickendorfer MGC",{"$f":"CONCATENATE(VLOOKUP(A2326,bangolf_kategorien!$A$2:$B$11,2,FALSE),\": \",D2326,\", \",C2326)","v":"SM1: Müller, Ralf"},{"$f":"VLOOKUP(A2326,bangolf_kategorien!$A$2:$B$11,2,FALSE)","v":"SM1"}]
["hs",36660,"Roger","Müller","VfL Lohbrügge Abt. Bahnengolf",{"$f":"CONCATENATE(VLOOKUP(A2327,bangolf_kategorien!$A$2:$B$11,2,FALSE),\": \",D2327,\", \",C2327)","v":"H: Müller, Roger"},{"$f":"VLOOKUP(A2327,bangolf_kategorien!$A$2:$B$11,2,FALSE)","v":"H"}]
["hs",34023,"Sascha","Müller","BGC Bildstock",{"$f":"CONCATENATE(VLOOKUP(A2328,bangolf_kategorien!$A$2:$B$11,2,FALSE),\": \",D2328,\", \",C2328)","v":"H: Müller, Sascha"},{"$f":"VLOOKUP(A2328,bangolf_kategorien!$A$2:$B$11,2,FALSE)","v":"H"}]
["ob",29586,"Stefan","Müller","BGSV Kerpen",{"$f":"CONCATENATE(VLOOKUP(A2329,bangolf_kategorien!$A$2:$B$11,2,FALSE),\": \",D2329,\", \",C2329)","v":"SM1: Müller, Stefan"},{"$f":"VLOOKUP(A2329,bangolf_kategorien!$A$2:$B$11,2,FALSE)","v":"SM1"}]
["hv",66322,"Uwe","Müller","MGC Rot-Weiß Wanne-Eickel",{"$f":"CONCATENATE(VLOOKUP(A2330,bangolf_kategorien!$A$2:$B$11,2,FALSE),\": \",D2330,\", \",C2330)","v":"SM2: Müller, Uwe"},{"$f":"VLOOKUP(A2330,bangolf_kategorien!$A$2:$B$11,2,FALSE)","v":"SM2"}]
["ob",41049,"Volker","Müller","1. CKF Dudweiler",{"$f":"CONCATENATE(VLOOKUP(A2331,bangolf_kategorien!$A$2:$B$11,2,FALSE),\": \",D2331,\", \",C2331)","v":"SM1: Müller, Volker"},{"$f":"VLOOKUP(A2331,bangolf_kategorien!$A$2:$B$11,2,FALSE)","v":"SM1"}]
["hv",18367,"Wolfgang","Müller","VfL Lüneburg Abt. Bahnengolf",{"$f":"CONCATENATE(VLOOKUP(A2332,bangolf_kategorien!$A$2:$B$11,2,FALSE),\": \",D2332,\", \",C2332)","v":"SM2: Müller, Wolfgang"},{"$f":"VLOOKUP(A2332,bangolf_kategorien!$A$2:$B$11,2,FALSE)","v":"SM2"}]
["hj",38330,"Yannick","Müller","SG Arheilgen Abt. Bahnengolf",{"$f":"CONCATENATE(VLOOKUP(A2333,bangolf_kategorien!$A$2:$B$11,2,FALSE),\": \",D2333,\", \",C2333)","v":"JM: Müller, Yannick"},{"$f":"VLOOKUP(A2333,bangolf_kategorien!$A$2:$B$11,2,FALSE)","v":"JM"}]
["hv",43367,"Michael","Müllner","MC Ilvesheim",{"$f":"CONCATENATE(VLOOKUP(A2334,bangolf_kategorien!$A$2:$B$11,2,FALSE),\": \",D2334,\", \",C2334)","v":"SM2: Müllner, Michael"},{"$f":"VLOOKUP(A2334,bangolf_kategorien!$A$2:$B$11,2,FALSE)","v":"SM2"}]
["hs",66475,"Stephan","Mumberg","BSC Ennepetal",{"$f":"CONCATENATE(VLOOKUP(A2335,bangolf_kategorien!$A$2:$B$11,2,FALSE),\": \",D2335,\", \",C2335)","v":"H: Mumberg, Stephan"},{"$f":"VLOOKUP(A2335,bangolf_kategorien!$A$2:$B$11,2,FALSE)","v":"H"}]
["dj",65375,"Anna Lena","Münch","1. KC Homburg-Saar 1967",{"$f":"CONCATENATE(VLOOKUP(A2336,bangolf_kategorien!$A$2:$B$11,2,FALSE),\": \",D2336,\", \",C2336)","v":"JW: Münch, Anna Lena"},{"$f":"VLOOKUP(A2336,bangolf_kategorien!$A$2:$B$11,2,FALSE)","v":"JW"}]
["hs",3211954,"Gregor","Münch","Hobby",{"$f":"CONCATENATE(VLOOKUP(A2337,bangolf_kategorien!$A$2:$B$11,2,FALSE),\": \",D2337,\", \",C2337)","v":"H: Münch, Gregor"},{"$f":"VLOOKUP(A2337,bangolf_kategorien!$A$2:$B$11,2,FALSE)","v":"H"}]
["hv",46494,"Roman","Münch","1. KC Homburg-Saar 1967",{"$f":"CONCATENATE(VLOOKUP(A2338,bangolf_kategorien!$A$2:$B$11,2,FALSE),\": \",D2338,\", \",C2338)","v":"SM2: Münch, Roman"},{"$f":"VLOOKUP(A2338,bangolf_kategorien!$A$2:$B$11,2,FALSE)","v":"SM2"}]
["pa",67175,"Farin","Münchhoff","MGC Ingolstadt",{"$f":"CONCATENATE(VLOOKUP(A2339,bangolf_kategorien!$A$2:$B$11,2,FALSE),\": \",D2339,\", \",C2339)","v":"SCHM: Münchhoff, Farin"},{"$f":"VLOOKUP(A2339,bangolf_kategorien!$A$2:$B$11,2,FALSE)","v":"SCHM"}]
["ob",50851,"Dirk","Mundorf","1. Porzer MGC Grün-Weiß 1969",{"$f":"CONCATENATE(VLOOKUP(A2340,bangolf_kategorien!$A$2:$B$11,2,FALSE),\": \",D2340,\", \",C2340)","v":"SM1: Mundorf, Dirk"},{"$f":"VLOOKUP(A2340,bangolf_kategorien!$A$2:$B$11,2,FALSE)","v":"SM1"}]
["pa",67408,"Lukas Sanjah","Mundorf","1. Porzer MGC Grün-Weiß 1969",{"$f":"CONCATENATE(VLOOKUP(A2341,bangolf_kategorien!$A$2:$B$11,2,FALSE),\": \",D2341,\", \",C2341)","v":"SCHM: Mundorf, Lukas Sanjah"},{"$f":"VLOOKUP(A2341,bangolf_kategorien!$A$2:$B$11,2,FALSE)","v":"SCHM"}]
["hv",61685,"Heribert","Münker","SG Arheilgen Abt. Bahnengolf",{"$f":"CONCATENATE(VLOOKUP(A2342,bangolf_kategorien!$A$2:$B$11,2,FALSE),\": \",D2342,\", \",C2342)","v":"SM2: Münker, Heribert"},{"$f":"VLOOKUP(A2342,bangolf_kategorien!$A$2:$B$11,2,FALSE)","v":"SM2"}]
["hv",25741,"Christian","Münster","Minigolf-Club Diessen",{"$f":"CONCATENATE(VLOOKUP(A2343,bangolf_kategorien!$A$2:$B$11,2,FALSE),\": \",D2343,\", \",C2343)","v":"SM2: Münster, Christian"},{"$f":"VLOOKUP(A2343,bangolf_kategorien!$A$2:$B$11,2,FALSE)","v":"SM2"}]
["hv",44517,"Raimund","Mürhoff","1. MGC Paderborn",{"$f":"CONCATENATE(VLOOKUP(A2344,bangolf_kategorien!$A$2:$B$11,2,FALSE),\": \",D2344,\", \",C2344)","v":"SM2: Mürhoff, Raimund"},{"$f":"VLOOKUP(A2344,bangolf_kategorien!$A$2:$B$11,2,FALSE)","v":"SM2"}]
["ds",3314251,"Frederike","Muschalla","Hobby",{"$f":"CONCATENATE(VLOOKUP(A2345,bangolf_kategorien!$A$2:$B$11,2,FALSE),\": \",D2345,\", \",C2345)","v":"D: Muschalla, Frederike"},{"$f":"VLOOKUP(A2345,bangolf_kategorien!$A$2:$B$11,2,FALSE)","v":"D"}]
["hs",67122,"Pascal","Mutsch","1. MGC Metzingen",{"$f":"CONCATENATE(VLOOKUP(A2346,bangolf_kategorien!$A$2:$B$11,2,FALSE),\": \",D2346,\", \",C2346)","v":"H: Mutsch, Pascal"},{"$f":"VLOOKUP(A2346,bangolf_kategorien!$A$2:$B$11,2,FALSE)","v":"H"}]
["hs",67581,"Sebastian","Mützel","BGC Schweinfurt",{"$f":"CONCATENATE(VLOOKUP(A2347,bangolf_kategorien!$A$2:$B$11,2,FALSE),\": \",D2347,\", \",C2347)","v":"H: Mützel, Sebastian"},{"$f":"VLOOKUP(A2347,bangolf_kategorien!$A$2:$B$11,2,FALSE)","v":"H"}]
["hv",1641,"Frank","Mylius","MGV Bremen",{"$f":"CONCATENATE(VLOOKUP(A2348,bangolf_kategorien!$A$2:$B$11,2,FALSE),\": \",D2348,\", \",C2348)","v":"SM2: Mylius, Frank"},{"$f":"VLOOKUP(A2348,bangolf_kategorien!$A$2:$B$11,2,FALSE)","v":"SM2"}]
["hs",1090,"Hendrik","Mylius","MGV Bremen",{"$f":"CONCATENATE(VLOOKUP(A2349,bangolf_kategorien!$A$2:$B$11,2,FALSE),\": \",D2349,\", \",C2349)","v":"H: Mylius, Hendrik"},{"$f":"VLOOKUP(A2349,bangolf_kategorien!$A$2:$B$11,2,FALSE)","v":"H"}]
["og",40898,"Marion","Mylius","MGV Bremen",{"$f":"CONCATENATE(VLOOKUP(A2350,bangolf_kategorien!$A$2:$B$11,2,FALSE),\": \",D2350,\", \",C2350)","v":"SW1: Mylius, Marion"},{"$f":"VLOOKUP(A2350,bangolf_kategorien!$A$2:$B$11,2,FALSE)","v":"SW1"}]
["ob",40393,"Uwe","Mylius","BGC Bremen",{"$f":"CONCATENATE(VLOOKUP(A2351,bangolf_kategorien!$A$2:$B$11,2,FALSE),\": \",D2351,\", \",C2351)","v":"SM1: Mylius, Uwe"},{"$f":"VLOOKUP(A2351,bangolf_kategorien!$A$2:$B$11,2,FALSE)","v":"SM1"}]
["hv",26399,"Norbert","Naber","1. MGC Epe 1978",{"$f":"CONCATENATE(VLOOKUP(A2352,bangolf_kategorien!$A$2:$B$11,2,FALSE),\": \",D2352,\", \",C2352)","v":"SM2: Naber, Norbert"},{"$f":"VLOOKUP(A2352,bangolf_kategorien!$A$2:$B$11,2,FALSE)","v":"SM2"}]
["hs",32405,"Dirk","Nacke","1. MGC Gelsenkirchen",{"$f":"CONCATENATE(VLOOKUP(A2353,bangolf_kategorien!$A$2:$B$11,2,FALSE),\": \",D2353,\", \",C2353)","v":"H: Nacke, Dirk"},{"$f":"VLOOKUP(A2353,bangolf_kategorien!$A$2:$B$11,2,FALSE)","v":"H"}]
["hs",36011,"Heiko","Nägele","MGC Schwaikheim",{"$f":"CONCATENATE(VLOOKUP(A2354,bangolf_kategorien!$A$2:$B$11,2,FALSE),\": \",D2354,\", \",C2354)","v":"H: Nägele, Heiko"},{"$f":"VLOOKUP(A2354,bangolf_kategorien!$A$2:$B$11,2,FALSE)","v":"H"}]
["og",42569,"Sabine","Nagl","1. BGC Landshut",{"$f":"CONCATENATE(VLOOKUP(A2355,bangolf_kategorien!$A$2:$B$11,2,FALSE),\": \",D2355,\", \",C2355)","v":"SW1: Nagl, Sabine"},{"$f":"VLOOKUP(A2355,bangolf_kategorien!$A$2:$B$11,2,FALSE)","v":"SW1"}]
["ob",42563,"Udo","Nagl","1. BGC Landshut",{"$f":"CONCATENATE(VLOOKUP(A2356,bangolf_kategorien!$A$2:$B$11,2,FALSE),\": \",D2356,\", \",C2356)","v":"SM1: Nagl, Udo"},{"$f":"VLOOKUP(A2356,bangolf_kategorien!$A$2:$B$11,2,FALSE)","v":"SM1"}]
["ob",36824,"Martin","Nagler","MGC Unterschneidheim",{"$f":"CONCATENATE(VLOOKUP(A2357,bangolf_kategorien!$A$2:$B$11,2,FALSE),\": \",D2357,\", \",C2357)","v":"SM1: Nagler, Martin"},{"$f":"VLOOKUP(A2357,bangolf_kategorien!$A$2:$B$11,2,FALSE)","v":"SM1"}]
["hv",33110,"Xaver","Nagler","MGC Unterschneidheim",{"$f":"CONCATENATE(VLOOKUP(A2358,bangolf_kategorien!$A$2:$B$11,2,FALSE),\": \",D2358,\", \",C2358)","v":"SM2: Nagler, Xaver"},{"$f":"VLOOKUP(A2358,bangolf_kategorien!$A$2:$B$11,2,FALSE)","v":"SM2"}]
["hv",35773,"Wolf-Dieter","Nähler","1. MGC Köln 1961",{"$f":"CONCATENATE(VLOOKUP(A2359,bangolf_kategorien!$A$2:$B$11,2,FALSE),\": \",D2359,\", \",C2359)","v":"SM2: Nähler, Wolf-Dieter"},{"$f":"VLOOKUP(A2359,bangolf_kategorien!$A$2:$B$11,2,FALSE)","v":"SM2"}]
["ob",45049,"Dirk Willi","Nebe","BGSC \"Gut Schlag\" Gladbeck",{"$f":"CONCATENATE(VLOOKUP(A2360,bangolf_kategorien!$A$2:$B$11,2,FALSE),\": \",D2360,\", \",C2360)","v":"SM1: Nebe, Dirk Willi"},{"$f":"VLOOKUP(A2360,bangolf_kategorien!$A$2:$B$11,2,FALSE)","v":"SM1"}]
["ob",29219,"Kurt","Nees","MGC Schwaikheim",{"$f":"CONCATENATE(VLOOKUP(A2361,bangolf_kategorien!$A$2:$B$11,2,FALSE),\": \",D2361,\", \",C2361)","v":"SM1: Nees, Kurt"},{"$f":"VLOOKUP(A2361,bangolf_kategorien!$A$2:$B$11,2,FALSE)","v":"SM1"}]
["hv",3938,"Rudolf","Nefzger","BSV 86 München",{"$f":"CONCATENATE(VLOOKUP(A2362,bangolf_kategorien!$A$2:$B$11,2,FALSE),\": \",D2362,\", \",C2362)","v":"SM2: Nefzger, Rudolf"},{"$f":"VLOOKUP(A2362,bangolf_kategorien!$A$2:$B$11,2,FALSE)","v":"SM2"}]
["hv",66624,"Ernst-Georg","Negwer","BGC Schweinfurt",{"$f":"CONCATENATE(VLOOKUP(A2363,bangolf_kategorien!$A$2:$B$11,2,FALSE),\": \",D2363,\", \",C2363)","v":"SM2: Negwer, Ernst-Georg"},{"$f":"VLOOKUP(A2363,bangolf_kategorien!$A$2:$B$11,2,FALSE)","v":"SM2"}]
["dv",66623,"Ursula","Negwer","BGC Schweinfurt",{"$f":"CONCATENATE(VLOOKUP(A2364,bangolf_kategorien!$A$2:$B$11,2,FALSE),\": \",D2364,\", \",C2364)","v":"SW2: Negwer, Ursula"},{"$f":"VLOOKUP(A2364,bangolf_kategorien!$A$2:$B$11,2,FALSE)","v":"SW2"}]
["ob",27505,"Stefan","Neidig","1. MGC Mannheim 1968",{"$f":"CONCATENATE(VLOOKUP(A2365,bangolf_kategorien!$A$2:$B$11,2,FALSE),\": \",D2365,\", \",C2365)","v":"SM1: Neidig, Stefan"},{"$f":"VLOOKUP(A2365,bangolf_kategorien!$A$2:$B$11,2,FALSE)","v":"SM1"}]
["hj",66269,"Niklas","Nell","MGC Bad Waldsee 1990",{"$f":"CONCATENATE(VLOOKUP(A2366,bangolf_kategorien!$A$2:$B$11,2,FALSE),\": \",D2366,\", \",C2366)","v":"JM: Nell, Niklas"},{"$f":"VLOOKUP(A2366,bangolf_kategorien!$A$2:$B$11,2,FALSE)","v":"JM"}]
["ob",33042,"Roland","Nell","MGC Bad Waldsee 1990",{"$f":"CONCATENATE(VLOOKUP(A2367,bangolf_kategorien!$A$2:$B$11,2,FALSE),\": \",D2367,\", \",C2367)","v":"SM1: Nell, Roland"},{"$f":"VLOOKUP(A2367,bangolf_kategorien!$A$2:$B$11,2,FALSE)","v":"SM1"}]
["hs",66360,"Benjamin","Nelles","1. MGC Kassel 1964",{"$f":"CONCATENATE(VLOOKUP(A2368,bangolf_kategorien!$A$2:$B$11,2,FALSE),\": \",D2368,\", \",C2368)","v":"H: Nelles, Benjamin"},{"$f":"VLOOKUP(A2368,bangolf_kategorien!$A$2:$B$11,2,FALSE)","v":"H"}]
["hv",3108938,"Roland","Nestle","Hobby",{"$f":"CONCATENATE(VLOOKUP(A2369,bangolf_kategorien!$A$2:$B$11,2,FALSE),\": \",D2369,\", \",C2369)","v":"SM2: Nestle, Roland"},{"$f":"VLOOKUP(A2369,bangolf_kategorien!$A$2:$B$11,2,FALSE)","v":"SM2"}]
["dv",45733,"Ingrid","Netzband","1. MGC Metzingen",{"$f":"CONCATENATE(VLOOKUP(A2370,bangolf_kategorien!$A$2:$B$11,2,FALSE),\": \",D2370,\", \",C2370)","v":"SW2: Netzband, Ingrid"},{"$f":"VLOOKUP(A2370,bangolf_kategorien!$A$2:$B$11,2,FALSE)","v":"SW2"}]
["ob",37027,"Andreas","Neuburger","SSV Ulm 1846 Abt. Bahnengolf",{"$f":"CONCATENATE(VLOOKUP(A2371,bangolf_kategorien!$A$2:$B$11,2,FALSE),\": \",D2371,\", \",C2371)","v":"SM1: Neuburger, Andreas"},{"$f":"VLOOKUP(A2371,bangolf_kategorien!$A$2:$B$11,2,FALSE)","v":"SM1"}]
["ds",37611,"Erika","Neuburger","SSV Ulm 1846 Abt. Bahnengolf",{"$f":"CONCATENATE(VLOOKUP(A2372,bangolf_kategorien!$A$2:$B$11,2,FALSE),\": \",D2372,\", \",C2372)","v":"D: Neuburger, Erika"},{"$f":"VLOOKUP(A2372,bangolf_kategorien!$A$2:$B$11,2,FALSE)","v":"D"}]
["hs",66301,"Dennis","Neudert","BGC Illertissen",{"$f":"CONCATENATE(VLOOKUP(A2373,bangolf_kategorien!$A$2:$B$11,2,FALSE),\": \",D2373,\", \",C2373)","v":"H: Neudert, Dennis"},{"$f":"VLOOKUP(A2373,bangolf_kategorien!$A$2:$B$11,2,FALSE)","v":"H"}]
["ob",43062,"Oliver","Neudert","BGC Illertissen",{"$f":"CONCATENATE(VLOOKUP(A2374,bangolf_kategorien!$A$2:$B$11,2,FALSE),\": \",D2374,\", \",C2374)","v":"SM1: Neudert, Oliver"},{"$f":"VLOOKUP(A2374,bangolf_kategorien!$A$2:$B$11,2,FALSE)","v":"SM1"}]
["hs",37047,"Marvin","Neufeld","Bochumer Minigolf-Club 1960",{"$f":"CONCATENATE(VLOOKUP(A2375,bangolf_kategorien!$A$2:$B$11,2,FALSE),\": \",D2375,\", \",C2375)","v":"H: Neufeld, Marvin"},{"$f":"VLOOKUP(A2375,bangolf_kategorien!$A$2:$B$11,2,FALSE)","v":"H"}]
["ob",48942,"Dieter","Neuhäuser","VfB Osnabrück",{"$f":"CONCATENATE(VLOOKUP(A2376,bangolf_kategorien!$A$2:$B$11,2,FALSE),\": \",D2376,\", \",C2376)","v":"SM1: Neuhäuser, Dieter"},{"$f":"VLOOKUP(A2376,bangolf_kategorien!$A$2:$B$11,2,FALSE)","v":"SM1"}]
["ob",25784,"Michael","Neuland","MGC Dormagen-Brechten",{"$f":"CONCATENATE(VLOOKUP(A2377,bangolf_kategorien!$A$2:$B$11,2,FALSE),\": \",D2377,\", \",C2377)","v":"SM1: Neuland, Michael"},{"$f":"VLOOKUP(A2377,bangolf_kategorien!$A$2:$B$11,2,FALSE)","v":"SM1"}]
["dv",67153,"Angelika","Neumann","1. BGC Wolfsburg",{"$f":"CONCATENATE(VLOOKUP(A2378,bangolf_kategorien!$A$2:$B$11,2,FALSE),\": \",D2378,\", \",C2378)","v":"SW2: Neumann, Angelika"},{"$f":"VLOOKUP(A2378,bangolf_kategorien!$A$2:$B$11,2,FALSE)","v":"SW2"}]
["dv",33165,"Bärbel","Neumann","Tempelhofer MV Berlin",{"$f":"CONCATENATE(VLOOKUP(A2379,bangolf_kategorien!$A$2:$B$11,2,FALSE),\": \",D2379,\", \",C2379)","v":"SW2: Neumann, Bärbel"},{"$f":"VLOOKUP(A2379,bangolf_kategorien!$A$2:$B$11,2,FALSE)","v":"SW2"}]
["hs",29733,"Björn","Neumann","MC \"Möve\" Cuxhaven-Sahlenburg",{"$f":"CONCATENATE(VLOOKUP(A2380,bangolf_kategorien!$A$2:$B$11,2,FALSE),\": \",D2380,\", \",C2380)","v":"H: Neumann, Björn"},{"$f":"VLOOKUP(A2380,bangolf_kategorien!$A$2:$B$11,2,FALSE)","v":"H"}]
["dv",32906,"Brigitte","Neumann","SC Bad Münder Abt. Bahnengolf",{"$f":"CONCATENATE(VLOOKUP(A2381,bangolf_kategorien!$A$2:$B$11,2,FALSE),\": \",D2381,\", \",C2381)","v":"SW2: Neumann, Brigitte"},{"$f":"VLOOKUP(A2381,bangolf_kategorien!$A$2:$B$11,2,FALSE)","v":"SW2"}]
["ob",37667,"Christian","Neumann","MGC Murnau am Staffelsee",{"$f":"CONCATENATE(VLOOKUP(A2382,bangolf_kategorien!$A$2:$B$11,2,FALSE),\": \",D2382,\", \",C2382)","v":"SM1: Neumann, Christian"},{"$f":"VLOOKUP(A2382,bangolf_kategorien!$A$2:$B$11,2,FALSE)","v":"SM1"}]
["ob",42783,"Josef","Neumann","OMGC Ingolstadt",{"$f":"CONCATENATE(VLOOKUP(A2383,bangolf_kategorien!$A$2:$B$11,2,FALSE),\": \",D2383,\", \",C2383)","v":"SM1: Neumann, Josef"},{"$f":"VLOOKUP(A2383,bangolf_kategorien!$A$2:$B$11,2,FALSE)","v":"SM1"}]
["ds",32139,"Kathrin","Neumann","1. MGC Mainz",{"$f":"CONCATENATE(VLOOKUP(A2384,bangolf_kategorien!$A$2:$B$11,2,FALSE),\": \",D2384,\", \",C2384)","v":"D: Neumann, Kathrin"},{"$f":"VLOOKUP(A2384,bangolf_kategorien!$A$2:$B$11,2,FALSE)","v":"D"}]
["hs",38363,"Kevin","Neumann","1. BGC Celle von 1964",{"$f":"CONCATENATE(VLOOKUP(A2385,bangolf_kategorien!$A$2:$B$11,2,FALSE),\": \",D2385,\", \",C2385)","v":"H: Neumann, Kevin"},{"$f":"VLOOKUP(A2385,bangolf_kategorien!$A$2:$B$11,2,FALSE)","v":"H"}]
["hs",37955,"Lukas","Neumann","1. MGC Mainz",{"$f":"CONCATENATE(VLOOKUP(A2386,bangolf_kategorien!$A$2:$B$11,2,FALSE),\": \",D2386,\", \",C2386)","v":"H: Neumann, Lukas"},{"$f":"VLOOKUP(A2386,bangolf_kategorien!$A$2:$B$11,2,FALSE)","v":"H"}]
["hs",67079,"Lukas","Neumann","SG  Weiterstadt 1886",{"$f":"CONCATENATE(VLOOKUP(A2387,bangolf_kategorien!$A$2:$B$11,2,FALSE),\": \",D2387,\", \",C2387)","v":"H: Neumann, Lukas"},{"$f":"VLOOKUP(A2387,bangolf_kategorien!$A$2:$B$11,2,FALSE)","v":"H"}]
["hv",37168,"Michael","Neumann","Minigolf Wölfe Rheinstetten 02",{"$f":"CONCATENATE(VLOOKUP(A2388,bangolf_kategorien!$A$2:$B$11,2,FALSE),\": \",D2388,\", \",C2388)","v":"SM2: Neumann, Michael"},{"$f":"VLOOKUP(A2388,bangolf_kategorien!$A$2:$B$11,2,FALSE)","v":"SM2"}]
["ob",37668,"Michael","Neumann","MGC Murnau am Staffelsee",{"$f":"CONCATENATE(VLOOKUP(A2389,bangolf_kategorien!$A$2:$B$11,2,FALSE),\": \",D2389,\", \",C2389)","v":"SM1: Neumann, Michael"},{"$f":"VLOOKUP(A2389,bangolf_kategorien!$A$2:$B$11,2,FALSE)","v":"SM1"}]
["ob",66340,"Reiner","Neumann","BGC Bremen",{"$f":"CONCATENATE(VLOOKUP(A2390,bangolf_kategorien!$A$2:$B$11,2,FALSE),\": \",D2390,\", \",C2390)","v":"SM1: Neumann, Reiner"},{"$f":"VLOOKUP(A2390,bangolf_kategorien!$A$2:$B$11,2,FALSE)","v":"SM1"}]
["dv",65576,"Sabine","Neumann","1. BGC Celle von 1964",{"$f":"CONCATENATE(VLOOKUP(A2391,bangolf_kategorien!$A$2:$B$11,2,FALSE),\": \",D2391,\", \",C2391)","v":"SW2: Neumann, Sabine"},{"$f":"VLOOKUP(A2391,bangolf_kategorien!$A$2:$B$11,2,FALSE)","v":"SW2"}]
["hv",35213,"Uwe","Neumann","BGC Bremen",{"$f":"CONCATENATE(VLOOKUP(A2392,bangolf_kategorien!$A$2:$B$11,2,FALSE),\": \",D2392,\", \",C2392)","v":"SM2: Neumann, Uwe"},{"$f":"VLOOKUP(A2392,bangolf_kategorien!$A$2:$B$11,2,FALSE)","v":"SM2"}]
["hv",66589,"Stephan","Neunzig","1. Münchener MGC",{"$f":"CONCATENATE(VLOOKUP(A2393,bangolf_kategorien!$A$2:$B$11,2,FALSE),\": \",D2393,\", \",C2393)","v":"SM2: Neunzig, Stephan"},{"$f":"VLOOKUP(A2393,bangolf_kategorien!$A$2:$B$11,2,FALSE)","v":"SM2"}]
["ob",28030,"Ralf","Neuwald","Miniaturgolf Sportclub Schriesheim",{"$f":"CONCATENATE(VLOOKUP(A2394,bangolf_kategorien!$A$2:$B$11,2,FALSE),\": \",D2394,\", \",C2394)","v":"SM1: Neuwald, Ralf"},{"$f":"VLOOKUP(A2394,bangolf_kategorien!$A$2:$B$11,2,FALSE)","v":"SM1"}]
["hv",65599,"Dietmar","Neuwirth","BGC Illertissen",{"$f":"CONCATENATE(VLOOKUP(A2395,bangolf_kategorien!$A$2:$B$11,2,FALSE),\": \",D2395,\", \",C2395)","v":"SM2: Neuwirth, Dietmar"},{"$f":"VLOOKUP(A2395,bangolf_kategorien!$A$2:$B$11,2,FALSE)","v":"SM2"}]
["hs",65600,"Fabian","Neuwirth","BGC Illertissen",{"$f":"CONCATENATE(VLOOKUP(A2396,bangolf_kategorien!$A$2:$B$11,2,FALSE),\": \",D2396,\", \",C2396)","v":"H: Neuwirth, Fabian"},{"$f":"VLOOKUP(A2396,bangolf_kategorien!$A$2:$B$11,2,FALSE)","v":"H"}]
["ob",37473,"Waldemar","Neuwirth","MGC Dormagen-Brechten",{"$f":"CONCATENATE(VLOOKUP(A2397,bangolf_kategorien!$A$2:$B$11,2,FALSE),\": \",D2397,\", \",C2397)","v":"SM1: Neuwirth, Waldemar"},{"$f":"VLOOKUP(A2397,bangolf_kategorien!$A$2:$B$11,2,FALSE)","v":"SM1"}]
["hs",66071,"Thomas","Nichter","BIG ASPERG",{"$f":"CONCATENATE(VLOOKUP(A2398,bangolf_kategorien!$A$2:$B$11,2,FALSE),\": \",D2398,\", \",C2398)","v":"H: Nichter, Thomas"},{"$f":"VLOOKUP(A2398,bangolf_kategorien!$A$2:$B$11,2,FALSE)","v":"H"}]
["hv",37288,"Dieter","Nickel","PTSV Hof, Abt. Minigolf",{"$f":"CONCATENATE(VLOOKUP(A2399,bangolf_kategorien!$A$2:$B$11,2,FALSE),\": \",D2399,\", \",C2399)","v":"SM2: Nickel, Dieter"},{"$f":"VLOOKUP(A2399,bangolf_kategorien!$A$2:$B$11,2,FALSE)","v":"SM2"}]
["hs",38005,"Dustin","Nickel","MGC Wetzlar",{"$f":"CONCATENATE(VLOOKUP(A2400,bangolf_kategorien!$A$2:$B$11,2,FALSE),\": \",D2400,\", \",C2400)","v":"H: Nickel, Dustin"},{"$f":"VLOOKUP(A2400,bangolf_kategorien!$A$2:$B$11,2,FALSE)","v":"H"}]
["hv",46152,"Gerhard","Nickel","MGC Wetzlar",{"$f":"CONCATENATE(VLOOKUP(A2401,bangolf_kategorien!$A$2:$B$11,2,FALSE),\": \",D2401,\", \",C2401)","v":"SM2: Nickel, Gerhard"},{"$f":"VLOOKUP(A2401,bangolf_kategorien!$A$2:$B$11,2,FALSE)","v":"SM2"}]
["ob",46042,"Holger","Nickel","MGC Homburger Land",{"$f":"CONCATENATE(VLOOKUP(A2402,bangolf_kategorien!$A$2:$B$11,2,FALSE),\": \",D2402,\", \",C2402)","v":"SM1: Nickel, Holger"},{"$f":"VLOOKUP(A2402,bangolf_kategorien!$A$2:$B$11,2,FALSE)","v":"SM1"}]
["ob",48138,"Alfred","Nickerl","1. MGC München-Feldmoching",{"$f":"CONCATENATE(VLOOKUP(A2403,bangolf_kategorien!$A$2:$B$11,2,FALSE),\": \",D2403,\", \",C2403)","v":"SM1: Nickerl, Alfred"},{"$f":"VLOOKUP(A2403,bangolf_kategorien!$A$2:$B$11,2,FALSE)","v":"SM1"}]
["pa",66601,"David","Nickerl","1. MGC München-Feldmoching",{"$f":"CONCATENATE(VLOOKUP(A2404,bangolf_kategorien!$A$2:$B$11,2,FALSE),\": \",D2404,\", \",C2404)","v":"SCHM: Nickerl, David"},{"$f":"VLOOKUP(A2404,bangolf_kategorien!$A$2:$B$11,2,FALSE)","v":"SCHM"}]
["ob",46446,"Matthias","Nickerl","MGC Veitshöchheim",{"$f":"CONCATENATE(VLOOKUP(A2405,bangolf_kategorien!$A$2:$B$11,2,FALSE),\": \",D2405,\", \",C2405)","v":"SM1: Nickerl, Matthias"},{"$f":"VLOOKUP(A2405,bangolf_kategorien!$A$2:$B$11,2,FALSE)","v":"SM1"}]
["hv",46123,"Piergiorgio","Nicolazzi","MGC Murnau am Staffelsee",{"$f":"CONCATENATE(VLOOKUP(A2406,bangolf_kategorien!$A$2:$B$11,2,FALSE),\": \",D2406,\", \",C2406)","v":"SM2: Nicolazzi, Piergiorgio"},{"$f":"VLOOKUP(A2406,bangolf_kategorien!$A$2:$B$11,2,FALSE)","v":"SM2"}]
["hv",40306,"Richard","Niebler","BGC Neutraubling",{"$f":"CONCATENATE(VLOOKUP(A2407,bangolf_kategorien!$A$2:$B$11,2,FALSE),\": \",D2407,\", \",C2407)","v":"SM2: Niebler, Richard"},{"$f":"VLOOKUP(A2407,bangolf_kategorien!$A$2:$B$11,2,FALSE)","v":"SM2"}]
["ob",66206,"Jörg","Niebuhr","BGC Northeim",{"$f":"CONCATENATE(VLOOKUP(A2408,bangolf_kategorien!$A$2:$B$11,2,FALSE),\": \",D2408,\", \",C2408)","v":"SM1: Niebuhr, Jörg"},{"$f":"VLOOKUP(A2408,bangolf_kategorien!$A$2:$B$11,2,FALSE)","v":"SM1"}]
["hv",11191,"Dieter","Niederdräing","MGC Felderbachtal 1964",{"$f":"CONCATENATE(VLOOKUP(A2409,bangolf_kategorien!$A$2:$B$11,2,FALSE),\": \",D2409,\", \",C2409)","v":"SM2: Niederdräing, Dieter"},{"$f":"VLOOKUP(A2409,bangolf_kategorien!$A$2:$B$11,2,FALSE)","v":"SM2"}]
["ob",42044,"Andreas","Niedermeir","1. MGC München-Feldmoching",{"$f":"CONCATENATE(VLOOKUP(A2410,bangolf_kategorien!$A$2:$B$11,2,FALSE),\": \",D2410,\", \",C2410)","v":"SM1: Niedermeir, Andreas"},{"$f":"VLOOKUP(A2410,bangolf_kategorien!$A$2:$B$11,2,FALSE)","v":"SM1"}]
["ob",42046,"Martin","Niedermeir","1. MGC München-Feldmoching",{"$f":"CONCATENATE(VLOOKUP(A2411,bangolf_kategorien!$A$2:$B$11,2,FALSE),\": \",D2411,\", \",C2411)","v":"SM1: Niedermeir, Martin"},{"$f":"VLOOKUP(A2411,bangolf_kategorien!$A$2:$B$11,2,FALSE)","v":"SM1"}]
["hv",37610,"Roland","Niedl","BGC Illertissen",{"$f":"CONCATENATE(VLOOKUP(A2412,bangolf_kategorien!$A$2:$B$11,2,FALSE),\": \",D2412,\", \",C2412)","v":"SM2: Niedl, Roland"},{"$f":"VLOOKUP(A2412,bangolf_kategorien!$A$2:$B$11,2,FALSE)","v":"SM2"}]
["ob",45006,"Thorsten","Niemann","MGC Bad Oldesloe",{"$f":"CONCATENATE(VLOOKUP(A2413,bangolf_kategorien!$A$2:$B$11,2,FALSE),\": \",D2413,\", \",C2413)","v":"SM1: Niemann, Thorsten"},{"$f":"VLOOKUP(A2413,bangolf_kategorien!$A$2:$B$11,2,FALSE)","v":"SM1"}]
["ob",52000,"Uwe","Niemtschke","TSV Arendsee",{"$f":"CONCATENATE(VLOOKUP(A2414,bangolf_kategorien!$A$2:$B$11,2,FALSE),\": \",D2414,\", \",C2414)","v":"SM1: Niemtschke, Uwe"},{"$f":"VLOOKUP(A2414,bangolf_kategorien!$A$2:$B$11,2,FALSE)","v":"SM1"}]
["og",66579,"Susanne","Niepel","MGC Rot-Weiß Wanne-Eickel",{"$f":"CONCATENATE(VLOOKUP(A2415,bangolf_kategorien!$A$2:$B$11,2,FALSE),\": \",D2415,\", \",C2415)","v":"SW1: Niepel, Susanne"},{"$f":"VLOOKUP(A2415,bangolf_kategorien!$A$2:$B$11,2,FALSE)","v":"SW1"}]
["hv",67392,"Jean-Luc","Nihoul","BGS Hardenberg-Pötter",{"$f":"CONCATENATE(VLOOKUP(A2416,bangolf_kategorien!$A$2:$B$11,2,FALSE),\": \",D2416,\", \",C2416)","v":"SM2: Nihoul, Jean-Luc"},{"$f":"VLOOKUP(A2416,bangolf_kategorien!$A$2:$B$11,2,FALSE)","v":"SM2"}]
["fa",66991,"Jana","Nikolaus","1. MGC Ludwigshafen",{"$f":"CONCATENATE(VLOOKUP(A2417,bangolf_kategorien!$A$2:$B$11,2,FALSE),\": \",D2417,\", \",C2417)","v":"SCHW: Nikolaus, Jana"},{"$f":"VLOOKUP(A2417,bangolf_kategorien!$A$2:$B$11,2,FALSE)","v":"SCHW"}]
["hs",30626,"Maik","Nikolaus","1. MGC Ludwigshafen",{"$f":"CONCATENATE(VLOOKUP(A2418,bangolf_kategorien!$A$2:$B$11,2,FALSE),\": \",D2418,\", \",C2418)","v":"H: Nikolaus, Maik"},{"$f":"VLOOKUP(A2418,bangolf_kategorien!$A$2:$B$11,2,FALSE)","v":"H"}]
["ds",34408,"Sandra","Nikolaus","1. BGC Rodalben 1977",{"$f":"CONCATENATE(VLOOKUP(A2419,bangolf_kategorien!$A$2:$B$11,2,FALSE),\": \",D2419,\", \",C2419)","v":"D: Nikolaus, Sandra"},{"$f":"VLOOKUP(A2419,bangolf_kategorien!$A$2:$B$11,2,FALSE)","v":"D"}]
["og",67311,"Britta","Nischk","MGC Bad Homburg vdH",{"$f":"CONCATENATE(VLOOKUP(A2420,bangolf_kategorien!$A$2:$B$11,2,FALSE),\": \",D2420,\", \",C2420)","v":"SW1: Nischk, Britta"},{"$f":"VLOOKUP(A2420,bangolf_kategorien!$A$2:$B$11,2,FALSE)","v":"SW1"}]
["dv",37550,"Erika","Nischk","MGC Bad Homburg vdH",{"$f":"CONCATENATE(VLOOKUP(A2421,bangolf_kategorien!$A$2:$B$11,2,FALSE),\": \",D2421,\", \",C2421)","v":"SW2: Nischk, Erika"},{"$f":"VLOOKUP(A2421,bangolf_kategorien!$A$2:$B$11,2,FALSE)","v":"SW2"}]
["ob",37551,"Michael","Nischk","MGC Bad Homburg vdH",{"$f":"CONCATENATE(VLOOKUP(A2422,bangolf_kategorien!$A$2:$B$11,2,FALSE),\": \",D2422,\", \",C2422)","v":"SM1: Nischk, Michael"},{"$f":"VLOOKUP(A2422,bangolf_kategorien!$A$2:$B$11,2,FALSE)","v":"SM1"}]
["ob",45189,"Holger","Nitsche","1. MGC Epe 1978",{"$f":"CONCATENATE(VLOOKUP(A2423,bangolf_kategorien!$A$2:$B$11,2,FALSE),\": \",D2423,\", \",C2423)","v":"SM1: Nitsche, Holger"},{"$f":"VLOOKUP(A2423,bangolf_kategorien!$A$2:$B$11,2,FALSE)","v":"SM1"}]
["ob",43542,"Thomas","Nix","BIG ASPERG",{"$f":"CONCATENATE(VLOOKUP(A2424,bangolf_kategorien!$A$2:$B$11,2,FALSE),\": \",D2424,\", \",C2424)","v":"SM1: Nix, Thomas"},{"$f":"VLOOKUP(A2424,bangolf_kategorien!$A$2:$B$11,2,FALSE)","v":"SM1"}]
["hs",67214,"Danny","Noack","Minigolfclub Karlshagen",{"$f":"CONCATENATE(VLOOKUP(A2425,bangolf_kategorien!$A$2:$B$11,2,FALSE),\": \",D2425,\", \",C2425)","v":"H: Noack, Danny"},{"$f":"VLOOKUP(A2425,bangolf_kategorien!$A$2:$B$11,2,FALSE)","v":"H"}]
["hv",34191,"Günter","Noack","1. MGC Mainz",{"$f":"CONCATENATE(VLOOKUP(A2426,bangolf_kategorien!$A$2:$B$11,2,FALSE),\": \",D2426,\", \",C2426)","v":"SM2: Noack, Günter"},{"$f":"VLOOKUP(A2426,bangolf_kategorien!$A$2:$B$11,2,FALSE)","v":"SM2"}]
["hs",31269,"Marcel","Noack","1. MGC Mainz",{"$f":"CONCATENATE(VLOOKUP(A2427,bangolf_kategorien!$A$2:$B$11,2,FALSE),\": \",D2427,\", \",C2427)","v":"H: Noack, Marcel"},{"$f":"VLOOKUP(A2427,bangolf_kategorien!$A$2:$B$11,2,FALSE)","v":"H"}]
["pa",66971,"Nevio","Noack","Minigolfclub Karlshagen",{"$f":"CONCATENATE(VLOOKUP(A2428,bangolf_kategorien!$A$2:$B$11,2,FALSE),\": \",D2428,\", \",C2428)","v":"SCHM: Noack, Nevio"},{"$f":"VLOOKUP(A2428,bangolf_kategorien!$A$2:$B$11,2,FALSE)","v":"SCHM"}]
["dv",23516,"Christiane","Noch","Tempelhofer MV Berlin",{"$f":"CONCATENATE(VLOOKUP(A2429,bangolf_kategorien!$A$2:$B$11,2,FALSE),\": \",D2429,\", \",C2429)","v":"SW2: Noch, Christiane"},{"$f":"VLOOKUP(A2429,bangolf_kategorien!$A$2:$B$11,2,FALSE)","v":"SW2"}]
["hv",23517,"Frank","Noch","Tempelhofer MV Berlin",{"$f":"CONCATENATE(VLOOKUP(A2430,bangolf_kategorien!$A$2:$B$11,2,FALSE),\": \",D2430,\", \",C2430)","v":"SM2: Noch, Frank"},{"$f":"VLOOKUP(A2430,bangolf_kategorien!$A$2:$B$11,2,FALSE)","v":"SM2"}]
["hv",66840,"Gerd","Nocon","1. MSC Wesel 6.6.1966",{"$f":"CONCATENATE(VLOOKUP(A2431,bangolf_kategorien!$A$2:$B$11,2,FALSE),\": \",D2431,\", \",C2431)","v":"SM2: Nocon, Gerd"},{"$f":"VLOOKUP(A2431,bangolf_kategorien!$A$2:$B$11,2,FALSE)","v":"SM2"}]
["ob",35738,"Harald","Nohr","1. BGC Celle von 1964",{"$f":"CONCATENATE(VLOOKUP(A2432,bangolf_kategorien!$A$2:$B$11,2,FALSE),\": \",D2432,\", \",C2432)","v":"SM1: Nohr, Harald"},{"$f":"VLOOKUP(A2432,bangolf_kategorien!$A$2:$B$11,2,FALSE)","v":"SM1"}]
["hv",456,"Gerhard","Noll","1. MGC Mannheim 1968",{"$f":"CONCATENATE(VLOOKUP(A2433,bangolf_kategorien!$A$2:$B$11,2,FALSE),\": \",D2433,\", \",C2433)","v":"SM2: Noll, Gerhard"},{"$f":"VLOOKUP(A2433,bangolf_kategorien!$A$2:$B$11,2,FALSE)","v":"SM2"}]
["dv",30053,"Sigrid","Noll","1. MGC Mannheim 1968",{"$f":"CONCATENATE(VLOOKUP(A2434,bangolf_kategorien!$A$2:$B$11,2,FALSE),\": \",D2434,\", \",C2434)","v":"SW2: Noll, Sigrid"},{"$f":"VLOOKUP(A2434,bangolf_kategorien!$A$2:$B$11,2,FALSE)","v":"SW2"}]
["dv",32951,"Sylvia","Nolte","SC Bad Münder Abt. Bahnengolf",{"$f":"CONCATENATE(VLOOKUP(A2435,bangolf_kategorien!$A$2:$B$11,2,FALSE),\": \",D2435,\", \",C2435)","v":"SW2: Nolte, Sylvia"},{"$f":"VLOOKUP(A2435,bangolf_kategorien!$A$2:$B$11,2,FALSE)","v":"SW2"}]
["hj",67028,"Johannes","Nöth","MGV Ansbach",{"$f":"CONCATENATE(VLOOKUP(A2436,bangolf_kategorien!$A$2:$B$11,2,FALSE),\": \",D2436,\", \",C2436)","v":"JM: Nöth, Johannes"},{"$f":"VLOOKUP(A2436,bangolf_kategorien!$A$2:$B$11,2,FALSE)","v":"JM"}]
["ob",67026,"Michael","Nöth","MGV Ansbach",{"$f":"CONCATENATE(VLOOKUP(A2437,bangolf_kategorien!$A$2:$B$11,2,FALSE),\": \",D2437,\", \",C2437)","v":"SM1: Nöth, Michael"},{"$f":"VLOOKUP(A2437,bangolf_kategorien!$A$2:$B$11,2,FALSE)","v":"SM1"}]
["hv",38541,"Alfred","Nowak","BGSC Bochum 1978",{"$f":"CONCATENATE(VLOOKUP(A2438,bangolf_kategorien!$A$2:$B$11,2,FALSE),\": \",D2438,\", \",C2438)","v":"SM2: Nowak, Alfred"},{"$f":"VLOOKUP(A2438,bangolf_kategorien!$A$2:$B$11,2,FALSE)","v":"SM2"}]
["dv",21500,"Marion","Nowak","MSK Neheim-Hüsten",{"$f":"CONCATENATE(VLOOKUP(A2439,bangolf_kategorien!$A$2:$B$11,2,FALSE),\": \",D2439,\", \",C2439)","v":"SW2: Nowak, Marion"},{"$f":"VLOOKUP(A2439,bangolf_kategorien!$A$2:$B$11,2,FALSE)","v":"SW2"}]
["hv",5511,"Wilfried","Nowak","MSK Neheim-Hüsten",{"$f":"CONCATENATE(VLOOKUP(A2440,bangolf_kategorien!$A$2:$B$11,2,FALSE),\": \",D2440,\", \",C2440)","v":"SM2: Nowak, Wilfried"},{"$f":"VLOOKUP(A2440,bangolf_kategorien!$A$2:$B$11,2,FALSE)","v":"SM2"}]
["ob",30639,"Peter","Nowsky","1. MGC 1970 Göttingen",{"$f":"CONCATENATE(VLOOKUP(A2441,bangolf_kategorien!$A$2:$B$11,2,FALSE),\": \",D2441,\", \",C2441)","v":"SM1: Nowsky, Peter"},{"$f":"VLOOKUP(A2441,bangolf_kategorien!$A$2:$B$11,2,FALSE)","v":"SM1"}]
["og",66272,"Beatrix","Numberger","1. Münchener MGC",{"$f":"CONCATENATE(VLOOKUP(A2442,bangolf_kategorien!$A$2:$B$11,2,FALSE),\": \",D2442,\", \",C2442)","v":"SW1: Numberger, Beatrix"},{"$f":"VLOOKUP(A2442,bangolf_kategorien!$A$2:$B$11,2,FALSE)","v":"SW1"}]
["hv",43054,"Martin","Nuri-Kälble","BSV 82 Ohlsbach",{"$f":"CONCATENATE(VLOOKUP(A2443,bangolf_kategorien!$A$2:$B$11,2,FALSE),\": \",D2443,\", \",C2443)","v":"SM2: Nuri-Kälble, Martin"},{"$f":"VLOOKUP(A2443,bangolf_kategorien!$A$2:$B$11,2,FALSE)","v":"SM2"}]
["hv",33491,"Rolf","Nutzenberger","1. MGC Mannheim 1968",{"$f":"CONCATENATE(VLOOKUP(A2444,bangolf_kategorien!$A$2:$B$11,2,FALSE),\": \",D2444,\", \",C2444)","v":"SM2: Nutzenberger, Rolf"},{"$f":"VLOOKUP(A2444,bangolf_kategorien!$A$2:$B$11,2,FALSE)","v":"SM2"}]
["hv",33385,"Hermann","Oberding","Biskirchener BGV",{"$f":"CONCATENATE(VLOOKUP(A2445,bangolf_kategorien!$A$2:$B$11,2,FALSE),\": \",D2445,\", \",C2445)","v":"SM2: Oberding, Hermann"},{"$f":"VLOOKUP(A2445,bangolf_kategorien!$A$2:$B$11,2,FALSE)","v":"SM2"}]
["ob",42510,"Frank","Oberhofer","MGF Hammer",{"$f":"CONCATENATE(VLOOKUP(A2446,bangolf_kategorien!$A$2:$B$11,2,FALSE),\": \",D2446,\", \",C2446)","v":"SM1: Oberhofer, Frank"},{"$f":"VLOOKUP(A2446,bangolf_kategorien!$A$2:$B$11,2,FALSE)","v":"SM1"}]
["ob",67500,"Walter","Oberthanner","Hamburger MC von 1965",{"$f":"CONCATENATE(VLOOKUP(A2447,bangolf_kategorien!$A$2:$B$11,2,FALSE),\": \",D2447,\", \",C2447)","v":"SM1: Oberthanner, Walter"},{"$f":"VLOOKUP(A2447,bangolf_kategorien!$A$2:$B$11,2,FALSE)","v":"SM1"}]
["ob",64748,"Klaus","Oberweg","HMC Büttgen",{"$f":"CONCATENATE(VLOOKUP(A2448,bangolf_kategorien!$A$2:$B$11,2,FALSE),\": \",D2448,\", \",C2448)","v":"SM1: Oberweg, Klaus"},{"$f":"VLOOKUP(A2448,bangolf_kategorien!$A$2:$B$11,2,FALSE)","v":"SM1"}]
["ob",3345921,"Andreas","Ochmann","Hobby",{"$f":"CONCATENATE(VLOOKUP(A2449,bangolf_kategorien!$A$2:$B$11,2,FALSE),\": \",D2449,\", \",C2449)","v":"SM1: Ochmann, Andreas"},{"$f":"VLOOKUP(A2449,bangolf_kategorien!$A$2:$B$11,2,FALSE)","v":"SM1"}]
["hs",3111929,"Christian","Ochs","Hobby",{"$f":"CONCATENATE(VLOOKUP(A2450,bangolf_kategorien!$A$2:$B$11,2,FALSE),\": \",D2450,\", \",C2450)","v":"H: Ochs, Christian"},{"$f":"VLOOKUP(A2450,bangolf_kategorien!$A$2:$B$11,2,FALSE)","v":"H"}]
["hs",50194,"Matthias","Ockerblohm","BGC 90 Ottobrunn",{"$f":"CONCATENATE(VLOOKUP(A2451,bangolf_kategorien!$A$2:$B$11,2,FALSE),\": \",D2451,\", \",C2451)","v":"H: Ockerblohm, Matthias"},{"$f":"VLOOKUP(A2451,bangolf_kategorien!$A$2:$B$11,2,FALSE)","v":"H"}]
["hs",36180,"Felix","Oehl","MV Lankwitzer Dragons",{"$f":"CONCATENATE(VLOOKUP(A2452,bangolf_kategorien!$A$2:$B$11,2,FALSE),\": \",D2452,\", \",C2452)","v":"H: Oehl, Felix"},{"$f":"VLOOKUP(A2452,bangolf_kategorien!$A$2:$B$11,2,FALSE)","v":"H"}]
["hv",40827,"Torsten","Offner","Hamburger MC von 1965",{"$f":"CONCATENATE(VLOOKUP(A2453,bangolf_kategorien!$A$2:$B$11,2,FALSE),\": \",D2453,\", \",C2453)","v":"SM2: Offner, Torsten"},{"$f":"VLOOKUP(A2453,bangolf_kategorien!$A$2:$B$11,2,FALSE)","v":"SM2"}]
["ob",66701,"Roland","Ohletz","BGC Uerdingen",{"$f":"CONCATENATE(VLOOKUP(A2454,bangolf_kategorien!$A$2:$B$11,2,FALSE),\": \",D2454,\", \",C2454)","v":"SM1: Ohletz, Roland"},{"$f":"VLOOKUP(A2454,bangolf_kategorien!$A$2:$B$11,2,FALSE)","v":"SM1"}]
["dv",38373,"Jutta","Ohly","1. MGC Metzingen",{"$f":"CONCATENATE(VLOOKUP(A2455,bangolf_kategorien!$A$2:$B$11,2,FALSE),\": \",D2455,\", \",C2455)","v":"SW2: Ohly, Jutta"},{"$f":"VLOOKUP(A2455,bangolf_kategorien!$A$2:$B$11,2,FALSE)","v":"SW2"}]
["ob",29928,"Hans-Peter","Ohm","1. BGC Wolfsburg",{"$f":"CONCATENATE(VLOOKUP(A2456,bangolf_kategorien!$A$2:$B$11,2,FALSE),\": \",D2456,\", \",C2456)","v":"SM1: Ohm, Hans-Peter"},{"$f":"VLOOKUP(A2456,bangolf_kategorien!$A$2:$B$11,2,FALSE)","v":"SM1"}]
["hs",3314252,"Reinhard","Öhm","Hobby",{"$f":"CONCATENATE(VLOOKUP(A2457,bangolf_kategorien!$A$2:$B$11,2,FALSE),\": \",D2457,\", \",C2457)","v":"H: Öhm, Reinhard"},{"$f":"VLOOKUP(A2457,bangolf_kategorien!$A$2:$B$11,2,FALSE)","v":"H"}]
["dv",35023,"Edith","Oitzinger","BV Sennestadt",{"$f":"CONCATENATE(VLOOKUP(A2458,bangolf_kategorien!$A$2:$B$11,2,FALSE),\": \",D2458,\", \",C2458)","v":"SW2: Oitzinger, Edith"},{"$f":"VLOOKUP(A2458,bangolf_kategorien!$A$2:$B$11,2,FALSE)","v":"SW2"}]
["dv",45418,"Carola","Oklmann","SSV Ulm 1846 Abt. Bahnengolf",{"$f":"CONCATENATE(VLOOKUP(A2459,bangolf_kategorien!$A$2:$B$11,2,FALSE),\": \",D2459,\", \",C2459)","v":"SW2: Oklmann, Carola"},{"$f":"VLOOKUP(A2459,bangolf_kategorien!$A$2:$B$11,2,FALSE)","v":"SW2"}]
["hv",30123,"Michael","Olböter","1. Essener CGC \"Blau-Gold\"",{"$f":"CONCATENATE(VLOOKUP(A2460,bangolf_kategorien!$A$2:$B$11,2,FALSE),\": \",D2460,\", \",C2460)","v":"SM2: Olböter, Michael"},{"$f":"VLOOKUP(A2460,bangolf_kategorien!$A$2:$B$11,2,FALSE)","v":"SM2"}]
["hj",66809,"Torben","Oldhafer","TSV Salzgitter Abt. Bahnengolf",{"$f":"CONCATENATE(VLOOKUP(A2461,bangolf_kategorien!$A$2:$B$11,2,FALSE),\": \",D2461,\", \",C2461)","v":"JM: Oldhafer, Torben"},{"$f":"VLOOKUP(A2461,bangolf_kategorien!$A$2:$B$11,2,FALSE)","v":"JM"}]
["hs",1170,"Dirk","Onnen","1. BGC Hannover",{"$f":"CONCATENATE(VLOOKUP(A2462,bangolf_kategorien!$A$2:$B$11,2,FALSE),\": \",D2462,\", \",C2462)","v":"H: Onnen, Dirk"},{"$f":"VLOOKUP(A2462,bangolf_kategorien!$A$2:$B$11,2,FALSE)","v":"H"}]
["dv",35803,"Brigitte","Opitz","1. MGC Peine von 1965",{"$f":"CONCATENATE(VLOOKUP(A2463,bangolf_kategorien!$A$2:$B$11,2,FALSE),\": \",D2463,\", \",C2463)","v":"SW2: Opitz, Brigitte"},{"$f":"VLOOKUP(A2463,bangolf_kategorien!$A$2:$B$11,2,FALSE)","v":"SW2"}]
["ob",42114,"Stefan","Opitz","1. BGC Hannover",{"$f":"CONCATENATE(VLOOKUP(A2464,bangolf_kategorien!$A$2:$B$11,2,FALSE),\": \",D2464,\", \",C2464)","v":"SM1: Opitz, Stefan"},{"$f":"VLOOKUP(A2464,bangolf_kategorien!$A$2:$B$11,2,FALSE)","v":"SM1"}]
["hs",34733,"David","Oppermann","BSC Ennepetal",{"$f":"CONCATENATE(VLOOKUP(A2465,bangolf_kategorien!$A$2:$B$11,2,FALSE),\": \",D2465,\", \",C2465)","v":"H: Oppermann, David"},{"$f":"VLOOKUP(A2465,bangolf_kategorien!$A$2:$B$11,2,FALSE)","v":"H"}]
["ob",67559,"Kai","Oppermann","SV Glückauf 1901 Gebhardshagen",{"$f":"CONCATENATE(VLOOKUP(A2466,bangolf_kategorien!$A$2:$B$11,2,FALSE),\": \",D2466,\", \",C2466)","v":"SM1: Oppermann, Kai"},{"$f":"VLOOKUP(A2466,bangolf_kategorien!$A$2:$B$11,2,FALSE)","v":"SM1"}]
["hv",22422,"Ralf","Oppermann","BSC Ennepetal",{"$f":"CONCATENATE(VLOOKUP(A2467,bangolf_kategorien!$A$2:$B$11,2,FALSE),\": \",D2467,\", \",C2467)","v":"SM2: Oppermann, Ralf"},{"$f":"VLOOKUP(A2467,bangolf_kategorien!$A$2:$B$11,2,FALSE)","v":"SM2"}]
["ob",29740,"Arne","Oppmann","MSV Würzburg-Löwenbrücke",{"$f":"CONCATENATE(VLOOKUP(A2468,bangolf_kategorien!$A$2:$B$11,2,FALSE),\": \",D2468,\", \",C2468)","v":"SM1: Oppmann, Arne"},{"$f":"VLOOKUP(A2468,bangolf_kategorien!$A$2:$B$11,2,FALSE)","v":"SM1"}]
["ob",40264,"Harald","Orth","MSV Bad Kreuznach",{"$f":"CONCATENATE(VLOOKUP(A2469,bangolf_kategorien!$A$2:$B$11,2,FALSE),\": \",D2469,\", \",C2469)","v":"SM1: Orth, Harald"},{"$f":"VLOOKUP(A2469,bangolf_kategorien!$A$2:$B$11,2,FALSE)","v":"SM1"}]
["ob",29215,"Ingo","Ortner","MGC Schwaikheim",{"$f":"CONCATENATE(VLOOKUP(A2470,bangolf_kategorien!$A$2:$B$11,2,FALSE),\": \",D2470,\", \",C2470)","v":"SM1: Ortner, Ingo"},{"$f":"VLOOKUP(A2470,bangolf_kategorien!$A$2:$B$11,2,FALSE)","v":"SM1"}]
["ob",45103,"Michael","Oseit","1. MC Weinheim",{"$f":"CONCATENATE(VLOOKUP(A2471,bangolf_kategorien!$A$2:$B$11,2,FALSE),\": \",D2471,\", \",C2471)","v":"SM1: Oseit, Michael"},{"$f":"VLOOKUP(A2471,bangolf_kategorien!$A$2:$B$11,2,FALSE)","v":"SM1"}]
["hv",26349,"Jörn","Osnabrügge","1. MGC Ludwigshafen",{"$f":"CONCATENATE(VLOOKUP(A2472,bangolf_kategorien!$A$2:$B$11,2,FALSE),\": \",D2472,\", \",C2472)","v":"SM2: Osnabrügge, Jörn"},{"$f":"VLOOKUP(A2472,bangolf_kategorien!$A$2:$B$11,2,FALSE)","v":"SM2"}]
["hv",67458,"Gerd","Oßendorf","1. Porzer MGC Grün-Weiß 1969",{"$f":"CONCATENATE(VLOOKUP(A2473,bangolf_kategorien!$A$2:$B$11,2,FALSE),\": \",D2473,\", \",C2473)","v":"SM2: Oßendorf, Gerd"},{"$f":"VLOOKUP(A2473,bangolf_kategorien!$A$2:$B$11,2,FALSE)","v":"SM2"}]
["hv",3358,"Karl-Heinz","Oster","1. Porzer MGC Grün-Weiß 1969",{"$f":"CONCATENATE(VLOOKUP(A2474,bangolf_kategorien!$A$2:$B$11,2,FALSE),\": \",D2474,\", \",C2474)","v":"SM2: Oster, Karl-Heinz"},{"$f":"VLOOKUP(A2474,bangolf_kategorien!$A$2:$B$11,2,FALSE)","v":"SM2"}]
["dv",40298,"Christel","Öster","1. BGC München",{"$f":"CONCATENATE(VLOOKUP(A2475,bangolf_kategorien!$A$2:$B$11,2,FALSE),\": \",D2475,\", \",C2475)","v":"SW2: Öster, Christel"},{"$f":"VLOOKUP(A2475,bangolf_kategorien!$A$2:$B$11,2,FALSE)","v":"SW2"}]
["hs",40261,"Thomas","Öster","1. BGC München",{"$f":"CONCATENATE(VLOOKUP(A2476,bangolf_kategorien!$A$2:$B$11,2,FALSE),\": \",D2476,\", \",C2476)","v":"H: Öster, Thomas"},{"$f":"VLOOKUP(A2476,bangolf_kategorien!$A$2:$B$11,2,FALSE)","v":"H"}]
["og",66338,"Gabriele","Osthushenrich","1. BGC Hannover",{"$f":"CONCATENATE(VLOOKUP(A2477,bangolf_kategorien!$A$2:$B$11,2,FALSE),\": \",D2477,\", \",C2477)","v":"SW1: Osthushenrich, Gabriele"},{"$f":"VLOOKUP(A2477,bangolf_kategorien!$A$2:$B$11,2,FALSE)","v":"SW1"}]
["hs",31031,"Andy","Ott","BGV Backumer Tal Herten",{"$f":"CONCATENATE(VLOOKUP(A2478,bangolf_kategorien!$A$2:$B$11,2,FALSE),\": \",D2478,\", \",C2478)","v":"H: Ott, Andy"},{"$f":"VLOOKUP(A2478,bangolf_kategorien!$A$2:$B$11,2,FALSE)","v":"H"}]
["hv",28292,"Berni","Ott","MGC 85 Bönnigheim",{"$f":"CONCATENATE(VLOOKUP(A2479,bangolf_kategorien!$A$2:$B$11,2,FALSE),\": \",D2479,\", \",C2479)","v":"SM2: Ott, Berni"},{"$f":"VLOOKUP(A2479,bangolf_kategorien!$A$2:$B$11,2,FALSE)","v":"SM2"}]
["hs",31026,"David","Ott","BGV Backumer Tal Herten",{"$f":"CONCATENATE(VLOOKUP(A2480,bangolf_kategorien!$A$2:$B$11,2,FALSE),\": \",D2480,\", \",C2480)","v":"H: Ott, David"},{"$f":"VLOOKUP(A2480,bangolf_kategorien!$A$2:$B$11,2,FALSE)","v":"H"}]
["dv",43707,"Gerda","Ott","MGC 85 Bönnigheim",{"$f":"CONCATENATE(VLOOKUP(A2481,bangolf_kategorien!$A$2:$B$11,2,FALSE),\": \",D2481,\", \",C2481)","v":"SW2: Ott, Gerda"},{"$f":"VLOOKUP(A2481,bangolf_kategorien!$A$2:$B$11,2,FALSE)","v":"SW2"}]
["hs",30224,"Hans-Jörg","Ott","BGC Bad Berneck",{"$f":"CONCATENATE(VLOOKUP(A2482,bangolf_kategorien!$A$2:$B$11,2,FALSE),\": \",D2482,\", \",C2482)","v":"H: Ott, Hans-Jörg"},{"$f":"VLOOKUP(A2482,bangolf_kategorien!$A$2:$B$11,2,FALSE)","v":"H"}]
["hv",9296,"Norbert","Ott","BGV Backumer Tal Herten",{"$f":"CONCATENATE(VLOOKUP(A2483,bangolf_kategorien!$A$2:$B$11,2,FALSE),\": \",D2483,\", \",C2483)","v":"SM2: Ott, Norbert"},{"$f":"VLOOKUP(A2483,bangolf_kategorien!$A$2:$B$11,2,FALSE)","v":"SM2"}]
["hs",36193,"Philipp","Ott","BGSV Castrop 1961",{"$f":"CONCATENATE(VLOOKUP(A2484,bangolf_kategorien!$A$2:$B$11,2,FALSE),\": \",D2484,\", \",C2484)","v":"H: Ott, Philipp"},{"$f":"VLOOKUP(A2484,bangolf_kategorien!$A$2:$B$11,2,FALSE)","v":"H"}]
["hs",66821,"Erwin","Ottaviani","1. MSC Wesel 6.6.1966",{"$f":"CONCATENATE(VLOOKUP(A2485,bangolf_kategorien!$A$2:$B$11,2,FALSE),\": \",D2485,\", \",C2485)","v":"H: Ottaviani, Erwin"},{"$f":"VLOOKUP(A2485,bangolf_kategorien!$A$2:$B$11,2,FALSE)","v":"H"}]
["ob",29114,"Dirk","Otten","TSV Salzgitter Abt. Bahnengolf",{"$f":"CONCATENATE(VLOOKUP(A2486,bangolf_kategorien!$A$2:$B$11,2,FALSE),\": \",D2486,\", \",C2486)","v":"SM1: Otten, Dirk"},{"$f":"VLOOKUP(A2486,bangolf_kategorien!$A$2:$B$11,2,FALSE)","v":"SM1"}]
["og",28901,"Sabine","Otten","1. BGC Wolfsburg",{"$f":"CONCATENATE(VLOOKUP(A2487,bangolf_kategorien!$A$2:$B$11,2,FALSE),\": \",D2487,\", \",C2487)","v":"SW1: Otten, Sabine"},{"$f":"VLOOKUP(A2487,bangolf_kategorien!$A$2:$B$11,2,FALSE)","v":"SW1"}]
["ds",66950,"Elena","Ott-Fink","BGV Backumer Tal Herten",{"$f":"CONCATENATE(VLOOKUP(A2488,bangolf_kategorien!$A$2:$B$11,2,FALSE),\": \",D2488,\", \",C2488)","v":"D: Ott-Fink, Elena"},{"$f":"VLOOKUP(A2488,bangolf_kategorien!$A$2:$B$11,2,FALSE)","v":"D"}]
["ob",48281,"Stefan","Ottinger","MGC Murnau am Staffelsee",{"$f":"CONCATENATE(VLOOKUP(A2489,bangolf_kategorien!$A$2:$B$11,2,FALSE),\": \",D2489,\", \",C2489)","v":"SM1: Ottinger, Stefan"},{"$f":"VLOOKUP(A2489,bangolf_kategorien!$A$2:$B$11,2,FALSE)","v":"SM1"}]
["hv",151,"Herbert","Otto","MGC Rot-Weiß Wanne-Eickel",{"$f":"CONCATENATE(VLOOKUP(A2490,bangolf_kategorien!$A$2:$B$11,2,FALSE),\": \",D2490,\", \",C2490)","v":"SM2: Otto, Herbert"},{"$f":"VLOOKUP(A2490,bangolf_kategorien!$A$2:$B$11,2,FALSE)","v":"SM2"}]
["dv",25020,"Karin","Otto","MGC Olympia Kiel",{"$f":"CONCATENATE(VLOOKUP(A2491,bangolf_kategorien!$A$2:$B$11,2,FALSE),\": \",D2491,\", \",C2491)","v":"SW2: Otto, Karin"},{"$f":"VLOOKUP(A2491,bangolf_kategorien!$A$2:$B$11,2,FALSE)","v":"SW2"}]
["hv",6524,"Kuno","Otto","MGC Olympia Kiel",{"$f":"CONCATENATE(VLOOKUP(A2492,bangolf_kategorien!$A$2:$B$11,2,FALSE),\": \",D2492,\", \",C2492)","v":"SM2: Otto, Kuno"},{"$f":"VLOOKUP(A2492,bangolf_kategorien!$A$2:$B$11,2,FALSE)","v":"SM2"}]
["ds",32793,"Meike","Otto","MGC Olympia Kiel",{"$f":"CONCATENATE(VLOOKUP(A2493,bangolf_kategorien!$A$2:$B$11,2,FALSE),\": \",D2493,\", \",C2493)","v":"D: Otto, Meike"},{"$f":"VLOOKUP(A2493,bangolf_kategorien!$A$2:$B$11,2,FALSE)","v":"D"}]
["og",67173,"Petra","Ovzarek","1. CGC Blau-Gelb Grötzingen",{"$f":"CONCATENATE(VLOOKUP(A2494,bangolf_kategorien!$A$2:$B$11,2,FALSE),\": \",D2494,\", \",C2494)","v":"SW1: Ovzarek, Petra"},{"$f":"VLOOKUP(A2494,bangolf_kategorien!$A$2:$B$11,2,FALSE)","v":"SW1"}]
["hv",67174,"Wolfgang","Ovzarek","1. CGC Blau-Gelb Grötzingen",{"$f":"CONCATENATE(VLOOKUP(A2495,bangolf_kategorien!$A$2:$B$11,2,FALSE),\": \",D2495,\", \",C2495)","v":"SM2: Ovzarek, Wolfgang"},{"$f":"VLOOKUP(A2495,bangolf_kategorien!$A$2:$B$11,2,FALSE)","v":"SM2"}]
["hs",67291,"Taner","Özdeniz","MGC Bad Soden-Salmünster",{"$f":"CONCATENATE(VLOOKUP(A2496,bangolf_kategorien!$A$2:$B$11,2,FALSE),\": \",D2496,\", \",C2496)","v":"H: Özdeniz, Taner"},{"$f":"VLOOKUP(A2496,bangolf_kategorien!$A$2:$B$11,2,FALSE)","v":"H"}]
["hv",36770,"Kurt","Paar","MGC Bad Soden-Salmünster",{"$f":"CONCATENATE(VLOOKUP(A2497,bangolf_kategorien!$A$2:$B$11,2,FALSE),\": \",D2497,\", \",C2497)","v":"SM2: Paar, Kurt"},{"$f":"VLOOKUP(A2497,bangolf_kategorien!$A$2:$B$11,2,FALSE)","v":"SM2"}]
["hj",66565,"Ben","Paffrath","MGC Heven",{"$f":"CONCATENATE(VLOOKUP(A2498,bangolf_kategorien!$A$2:$B$11,2,FALSE),\": \",D2498,\", \",C2498)","v":"JM: Paffrath, Ben"},{"$f":"VLOOKUP(A2498,bangolf_kategorien!$A$2:$B$11,2,FALSE)","v":"JM"}]
["hv",33511,"Siegfried","Paffrath","MGC Heven",{"$f":"CONCATENATE(VLOOKUP(A2499,bangolf_kategorien!$A$2:$B$11,2,FALSE),\": \",D2499,\", \",C2499)","v":"SM2: Paffrath, Siegfried"},{"$f":"VLOOKUP(A2499,bangolf_kategorien!$A$2:$B$11,2,FALSE)","v":"SM2"}]
["dv",28473,"Gabi","Pahl","1. BGC Celle von 1964",{"$f":"CONCATENATE(VLOOKUP(A2500,bangolf_kategorien!$A$2:$B$11,2,FALSE),\": \",D2500,\", \",C2500)","v":"SW2: Pahl, Gabi"},{"$f":"VLOOKUP(A2500,bangolf_kategorien!$A$2:$B$11,2,FALSE)","v":"SW2"}]
["hv",61978,"Heinz","Pahl","1. BGC Celle von 1964",{"$f":"CONCATENATE(VLOOKUP(A2501,bangolf_kategorien!$A$2:$B$11,2,FALSE),\": \",D2501,\", \",C2501)","v":"SM2: Pahl, Heinz"},{"$f":"VLOOKUP(A2501,bangolf_kategorien!$A$2:$B$11,2,FALSE)","v":"SM2"}]
["hv",21494,"Horst","Pahl","MSK Neheim-Hüsten",{"$f":"CONCATENATE(VLOOKUP(A2502,bangolf_kategorien!$A$2:$B$11,2,FALSE),\": \",D2502,\", \",C2502)","v":"SM2: Pahl, Horst"},{"$f":"VLOOKUP(A2502,bangolf_kategorien!$A$2:$B$11,2,FALSE)","v":"SM2"}]
["og",37072,"Kathi","Pajonk","TSV Arendsee",{"$f":"CONCATENATE(VLOOKUP(A2503,bangolf_kategorien!$A$2:$B$11,2,FALSE),\": \",D2503,\", \",C2503)","v":"SW1: Pajonk, Kathi"},{"$f":"VLOOKUP(A2503,bangolf_kategorien!$A$2:$B$11,2,FALSE)","v":"SW1"}]
["hs",37073,"Kim-Kevin","Pajonk","TSV Arendsee",{"$f":"CONCATENATE(VLOOKUP(A2504,bangolf_kategorien!$A$2:$B$11,2,FALSE),\": \",D2504,\", \",C2504)","v":"H: Pajonk, Kim-Kevin"},{"$f":"VLOOKUP(A2504,bangolf_kategorien!$A$2:$B$11,2,FALSE)","v":"H"}]
["hv",5757,"Klaus Peter","Palm","1. KC Homburg-Saar 1967",{"$f":"CONCATENATE(VLOOKUP(A2505,bangolf_kategorien!$A$2:$B$11,2,FALSE),\": \",D2505,\", \",C2505)","v":"SM2: Palm, Klaus Peter"},{"$f":"VLOOKUP(A2505,bangolf_kategorien!$A$2:$B$11,2,FALSE)","v":"SM2"}]
["hs",35611,"Olaf","Paltian","1. MGC Ludwigshafen",{"$f":"CONCATENATE(VLOOKUP(A2506,bangolf_kategorien!$A$2:$B$11,2,FALSE),\": \",D2506,\", \",C2506)","v":"H: Paltian, Olaf"},{"$f":"VLOOKUP(A2506,bangolf_kategorien!$A$2:$B$11,2,FALSE)","v":"H"}]
["hs",50042,"Christian","Pannek","1. MGC Mainz",{"$f":"CONCATENATE(VLOOKUP(A2507,bangolf_kategorien!$A$2:$B$11,2,FALSE),\": \",D2507,\", \",C2507)","v":"H: Pannek, Christian"},{"$f":"VLOOKUP(A2507,bangolf_kategorien!$A$2:$B$11,2,FALSE)","v":"H"}]
["og",67331,"Christina","Pape","Elbhavelland, Abt. Minigolfsport",{"$f":"CONCATENATE(VLOOKUP(A2508,bangolf_kategorien!$A$2:$B$11,2,FALSE),\": \",D2508,\", \",C2508)","v":"SW1: Pape, Christina"},{"$f":"VLOOKUP(A2508,bangolf_kategorien!$A$2:$B$11,2,FALSE)","v":"SW1"}]
["hv",67330,"Jürgen","Pape","Elbhavelland, Abt. Minigolfsport",{"$f":"CONCATENATE(VLOOKUP(A2509,bangolf_kategorien!$A$2:$B$11,2,FALSE),\": \",D2509,\", \",C2509)","v":"SM2: Pape, Jürgen"},{"$f":"VLOOKUP(A2509,bangolf_kategorien!$A$2:$B$11,2,FALSE)","v":"SM2"}]
["hs",37578,"Marc","Pape","1. KC Homburg-Saar 1967",{"$f":"CONCATENATE(VLOOKUP(A2510,bangolf_kategorien!$A$2:$B$11,2,FALSE),\": \",D2510,\", \",C2510)","v":"H: Pape, Marc"},{"$f":"VLOOKUP(A2510,bangolf_kategorien!$A$2:$B$11,2,FALSE)","v":"H"}]
["hj",66902,"Robert-Alexander","Pape","Elbhavelland, Abt. Minigolfsport",{"$f":"CONCATENATE(VLOOKUP(A2511,bangolf_kategorien!$A$2:$B$11,2,FALSE),\": \",D2511,\", \",C2511)","v":"JM: Pape, Robert-Alexander"},{"$f":"VLOOKUP(A2511,bangolf_kategorien!$A$2:$B$11,2,FALSE)","v":"JM"}]
["hv",36258,"Ronald","Pape","MGV Bremen",{"$f":"CONCATENATE(VLOOKUP(A2512,bangolf_kategorien!$A$2:$B$11,2,FALSE),\": \",D2512,\", \",C2512)","v":"SM2: Pape, Ronald"},{"$f":"VLOOKUP(A2512,bangolf_kategorien!$A$2:$B$11,2,FALSE)","v":"SM2"}]
["hv",67289,"Ulrich","Pape","MSV Bad Kreuznach",{"$f":"CONCATENATE(VLOOKUP(A2513,bangolf_kategorien!$A$2:$B$11,2,FALSE),\": \",D2513,\", \",C2513)","v":"SM2: Pape, Ulrich"},{"$f":"VLOOKUP(A2513,bangolf_kategorien!$A$2:$B$11,2,FALSE)","v":"SM2"}]
["og",9750,"Sylvia","Pape-Münch","1. KC Homburg-Saar 1967",{"$f":"CONCATENATE(VLOOKUP(A2514,bangolf_kategorien!$A$2:$B$11,2,FALSE),\": \",D2514,\", \",C2514)","v":"SW1: Pape-Münch, Sylvia"},{"$f":"VLOOKUP(A2514,bangolf_kategorien!$A$2:$B$11,2,FALSE)","v":"SW1"}]
["hv",28746,"Karsten","Parbst","VfL Lohbrügge Abt. Bahnengolf",{"$f":"CONCATENATE(VLOOKUP(A2515,bangolf_kategorien!$A$2:$B$11,2,FALSE),\": \",D2515,\", \",C2515)","v":"SM2: Parbst, Karsten"},{"$f":"VLOOKUP(A2515,bangolf_kategorien!$A$2:$B$11,2,FALSE)","v":"SM2"}]
["dv",30259,"Monika","Parbst","VfL Lohbrügge Abt. Bahnengolf",{"$f":"CONCATENATE(VLOOKUP(A2516,bangolf_kategorien!$A$2:$B$11,2,FALSE),\": \",D2516,\", \",C2516)","v":"SW2: Parbst, Monika"},{"$f":"VLOOKUP(A2516,bangolf_kategorien!$A$2:$B$11,2,FALSE)","v":"SW2"}]
["og",33393,"Susanne","Parr","MSC Bensheim-Auerbach",{"$f":"CONCATENATE(VLOOKUP(A2517,bangolf_kategorien!$A$2:$B$11,2,FALSE),\": \",D2517,\", \",C2517)","v":"SW1: Parr, Susanne"},{"$f":"VLOOKUP(A2517,bangolf_kategorien!$A$2:$B$11,2,FALSE)","v":"SW1"}]
["hv",21298,"Walter","Parr","SV 1890 Dreieichenhain, Abt. Bahnengolf",{"$f":"CONCATENATE(VLOOKUP(A2518,bangolf_kategorien!$A$2:$B$11,2,FALSE),\": \",D2518,\", \",C2518)","v":"SM2: Parr, Walter"},{"$f":"VLOOKUP(A2518,bangolf_kategorien!$A$2:$B$11,2,FALSE)","v":"SM2"}]
["ob",3194197,"Thomas","Paschen","Hobby",{"$f":"CONCATENATE(VLOOKUP(A2519,bangolf_kategorien!$A$2:$B$11,2,FALSE),\": \",D2519,\", \",C2519)","v":"SM1: Paschen, Thomas"},{"$f":"VLOOKUP(A2519,bangolf_kategorien!$A$2:$B$11,2,FALSE)","v":"SM1"}]
["ob",44244,"Sven","Pastwa","SC Olympia Dortmund",{"$f":"CONCATENATE(VLOOKUP(A2520,bangolf_kategorien!$A$2:$B$11,2,FALSE),\": \",D2520,\", \",C2520)","v":"SM1: Pastwa, Sven"},{"$f":"VLOOKUP(A2520,bangolf_kategorien!$A$2:$B$11,2,FALSE)","v":"SM1"}]
["hv",67522,"Manfred","Pasucha","1. MGC Kassel 1964",{"$f":"CONCATENATE(VLOOKUP(A2521,bangolf_kategorien!$A$2:$B$11,2,FALSE),\": \",D2521,\", \",C2521)","v":"SM2: Pasucha, Manfred"},{"$f":"VLOOKUP(A2521,bangolf_kategorien!$A$2:$B$11,2,FALSE)","v":"SM2"}]
["ob",51850,"Bernhard","Patan","BIG ASPERG",{"$f":"CONCATENATE(VLOOKUP(A2522,bangolf_kategorien!$A$2:$B$11,2,FALSE),\": \",D2522,\", \",C2522)","v":"SM1: Patan, Bernhard"},{"$f":"VLOOKUP(A2522,bangolf_kategorien!$A$2:$B$11,2,FALSE)","v":"SM1"}]
["hs",40114,"Daniel","Patan","BIG ASPERG",{"$f":"CONCATENATE(VLOOKUP(A2523,bangolf_kategorien!$A$2:$B$11,2,FALSE),\": \",D2523,\", \",C2523)","v":"H: Patan, Daniel"},{"$f":"VLOOKUP(A2523,bangolf_kategorien!$A$2:$B$11,2,FALSE)","v":"H"}]
["dj",66771,"Franziska","Patan","BIG ASPERG",{"$f":"CONCATENATE(VLOOKUP(A2524,bangolf_kategorien!$A$2:$B$11,2,FALSE),\": \",D2524,\", \",C2524)","v":"JW: Patan, Franziska"},{"$f":"VLOOKUP(A2524,bangolf_kategorien!$A$2:$B$11,2,FALSE)","v":"JW"}]
["og",55130,"Sabine","Patan","BIG ASPERG",{"$f":"CONCATENATE(VLOOKUP(A2525,bangolf_kategorien!$A$2:$B$11,2,FALSE),\": \",D2525,\", \",C2525)","v":"SW1: Patan, Sabine"},{"$f":"VLOOKUP(A2525,bangolf_kategorien!$A$2:$B$11,2,FALSE)","v":"SW1"}]
["hs",67432,"Ralf","Paternusch","MGC 1978 Remseck",{"$f":"CONCATENATE(VLOOKUP(A2526,bangolf_kategorien!$A$2:$B$11,2,FALSE),\": \",D2526,\", \",C2526)","v":"H: Paternusch, Ralf"},{"$f":"VLOOKUP(A2526,bangolf_kategorien!$A$2:$B$11,2,FALSE)","v":"H"}]
["hs",35530,"Marcel","Patorra","BGC Bad Nenndorf",{"$f":"CONCATENATE(VLOOKUP(A2527,bangolf_kategorien!$A$2:$B$11,2,FALSE),\": \",D2527,\", \",C2527)","v":"H: Patorra, Marcel"},{"$f":"VLOOKUP(A2527,bangolf_kategorien!$A$2:$B$11,2,FALSE)","v":"H"}]
["hs",66577,"Michael","Pätz","1. BGC Bad Füssing",{"$f":"CONCATENATE(VLOOKUP(A2528,bangolf_kategorien!$A$2:$B$11,2,FALSE),\": \",D2528,\", \",C2528)","v":"H: Pätz, Michael"},{"$f":"VLOOKUP(A2528,bangolf_kategorien!$A$2:$B$11,2,FALSE)","v":"H"}]
["ob",46006,"Markus","Patzelt","BGSV Kerpen",{"$f":"CONCATENATE(VLOOKUP(A2529,bangolf_kategorien!$A$2:$B$11,2,FALSE),\": \",D2529,\", \",C2529)","v":"SM1: Patzelt, Markus"},{"$f":"VLOOKUP(A2529,bangolf_kategorien!$A$2:$B$11,2,FALSE)","v":"SM1"}]
["ob",67213,"Gerd","Paul","MGC Bad Homburg vdH",{"$f":"CONCATENATE(VLOOKUP(A2530,bangolf_kategorien!$A$2:$B$11,2,FALSE),\": \",D2530,\", \",C2530)","v":"SM1: Paul, Gerd"},{"$f":"VLOOKUP(A2530,bangolf_kategorien!$A$2:$B$11,2,FALSE)","v":"SM1"}]
["hs",49350,"Achim","Paulsen","MGC Olympia Kiel",{"$f":"CONCATENATE(VLOOKUP(A2531,bangolf_kategorien!$A$2:$B$11,2,FALSE),\": \",D2531,\", \",C2531)","v":"H: Paulsen, Achim"},{"$f":"VLOOKUP(A2531,bangolf_kategorien!$A$2:$B$11,2,FALSE)","v":"H"}]
["ob",33153,"Lars","Paulsen","MGC Harrislee-Wassersleben",{"$f":"CONCATENATE(VLOOKUP(A2532,bangolf_kategorien!$A$2:$B$11,2,FALSE),\": \",D2532,\", \",C2532)","v":"SM1: Paulsen, Lars"},{"$f":"VLOOKUP(A2532,bangolf_kategorien!$A$2:$B$11,2,FALSE)","v":"SM1"}]
["dv",25987,"Renate","Paulus","1. CKF Dudweiler",{"$f":"CONCATENATE(VLOOKUP(A2533,bangolf_kategorien!$A$2:$B$11,2,FALSE),\": \",D2533,\", \",C2533)","v":"SW2: Paulus, Renate"},{"$f":"VLOOKUP(A2533,bangolf_kategorien!$A$2:$B$11,2,FALSE)","v":"SW2"}]
["ob",50354,"Steffen","Paulus","KGC Bad Urach",{"$f":"CONCATENATE(VLOOKUP(A2534,bangolf_kategorien!$A$2:$B$11,2,FALSE),\": \",D2534,\", \",C2534)","v":"SM1: Paulus, Steffen"},{"$f":"VLOOKUP(A2534,bangolf_kategorien!$A$2:$B$11,2,FALSE)","v":"SM1"}]
["dv",36042,"Cornelia","Päuser","1. MGC Kassel 1964",{"$f":"CONCATENATE(VLOOKUP(A2535,bangolf_kategorien!$A$2:$B$11,2,FALSE),\": \",D2535,\", \",C2535)","v":"SW2: Päuser, Cornelia"},{"$f":"VLOOKUP(A2535,bangolf_kategorien!$A$2:$B$11,2,FALSE)","v":"SW2"}]
["hv",4744,"Rudolf","Pavlas","MSV Bad Kreuznach",{"$f":"CONCATENATE(VLOOKUP(A2536,bangolf_kategorien!$A$2:$B$11,2,FALSE),\": \",D2536,\", \",C2536)","v":"SM2: Pavlas, Rudolf"},{"$f":"VLOOKUP(A2536,bangolf_kategorien!$A$2:$B$11,2,FALSE)","v":"SM2"}]
["hs",66726,"Nicolas","Pawelka","Miniaturgolf Sportclub Schriesheim",{"$f":"CONCATENATE(VLOOKUP(A2537,bangolf_kategorien!$A$2:$B$11,2,FALSE),\": \",D2537,\", \",C2537)","v":"H: Pawelka, Nicolas"},{"$f":"VLOOKUP(A2537,bangolf_kategorien!$A$2:$B$11,2,FALSE)","v":"H"}]
["ob",66223,"Stephan","Pawelka","Miniaturgolf Sportclub Schriesheim",{"$f":"CONCATENATE(VLOOKUP(A2538,bangolf_kategorien!$A$2:$B$11,2,FALSE),\": \",D2538,\", \",C2538)","v":"SM1: Pawelka, Stephan"},{"$f":"VLOOKUP(A2538,bangolf_kategorien!$A$2:$B$11,2,FALSE)","v":"SM1"}]
["hs",34757,"Sebastian","Peffer","Niendorfer MC v. 1963",{"$f":"CONCATENATE(VLOOKUP(A2539,bangolf_kategorien!$A$2:$B$11,2,FALSE),\": \",D2539,\", \",C2539)","v":"H: Peffer, Sebastian"},{"$f":"VLOOKUP(A2539,bangolf_kategorien!$A$2:$B$11,2,FALSE)","v":"H"}]
["hv",34562,"Willi","Peffer","1. BGC Wesseling 1975",{"$f":"CONCATENATE(VLOOKUP(A2540,bangolf_kategorien!$A$2:$B$11,2,FALSE),\": \",D2540,\", \",C2540)","v":"SM2: Peffer, Willi"},{"$f":"VLOOKUP(A2540,bangolf_kategorien!$A$2:$B$11,2,FALSE)","v":"SM2"}]
["og",34464,"Regina","Peffermann","1. Porzer MGC Grün-Weiß 1969",{"$f":"CONCATENATE(VLOOKUP(A2541,bangolf_kategorien!$A$2:$B$11,2,FALSE),\": \",D2541,\", \",C2541)","v":"SW1: Peffermann, Regina"},{"$f":"VLOOKUP(A2541,bangolf_kategorien!$A$2:$B$11,2,FALSE)","v":"SW1"}]
["ob",33490,"Kurt","Peinelt","1. MGC Ludwigshafen",{"$f":"CONCATENATE(VLOOKUP(A2542,bangolf_kategorien!$A$2:$B$11,2,FALSE),\": \",D2542,\", \",C2542)","v":"SM1: Peinelt, Kurt"},{"$f":"VLOOKUP(A2542,bangolf_kategorien!$A$2:$B$11,2,FALSE)","v":"SM1"}]
["hj",67443,"Jan","Peithmann","1. Essener CGC \"Blau-Gold\"",{"$f":"CONCATENATE(VLOOKUP(A2543,bangolf_kategorien!$A$2:$B$11,2,FALSE),\": \",D2543,\", \",C2543)","v":"JM: Peithmann, Jan"},{"$f":"VLOOKUP(A2543,bangolf_kategorien!$A$2:$B$11,2,FALSE)","v":"JM"}]
["ob",67444,"Konrad","Peithmann","1. Essener CGC \"Blau-Gold\"",{"$f":"CONCATENATE(VLOOKUP(A2544,bangolf_kategorien!$A$2:$B$11,2,FALSE),\": \",D2544,\", \",C2544)","v":"SM1: Peithmann, Konrad"},{"$f":"VLOOKUP(A2544,bangolf_kategorien!$A$2:$B$11,2,FALSE)","v":"SM1"}]
["fa",67442,"Wiebke","Peithmann","1. Essener CGC \"Blau-Gold\"",{"$f":"CONCATENATE(VLOOKUP(A2545,bangolf_kategorien!$A$2:$B$11,2,FALSE),\": \",D2545,\", \",C2545)","v":"SCHW: Peithmann, Wiebke"},{"$f":"VLOOKUP(A2545,bangolf_kategorien!$A$2:$B$11,2,FALSE)","v":"SCHW"}]
["hs",35571,"Igor","Pekrul","MGC putter Künzell 1970",{"$f":"CONCATENATE(VLOOKUP(A2546,bangolf_kategorien!$A$2:$B$11,2,FALSE),\": \",D2546,\", \",C2546)","v":"H: Pekrul, Igor"},{"$f":"VLOOKUP(A2546,bangolf_kategorien!$A$2:$B$11,2,FALSE)","v":"H"}]
["ds",36243,"Tanja","Pekrul","MGC putter Künzell 1970",{"$f":"CONCATENATE(VLOOKUP(A2547,bangolf_kategorien!$A$2:$B$11,2,FALSE),\": \",D2547,\", \",C2547)","v":"D: Pekrul, Tanja"},{"$f":"VLOOKUP(A2547,bangolf_kategorien!$A$2:$B$11,2,FALSE)","v":"D"}]
["dv",66596,"Doris","Pellkofer","BGC Hamm 1959",{"$f":"CONCATENATE(VLOOKUP(A2548,bangolf_kategorien!$A$2:$B$11,2,FALSE),\": \",D2548,\", \",C2548)","v":"SW2: Pellkofer, Doris"},{"$f":"VLOOKUP(A2548,bangolf_kategorien!$A$2:$B$11,2,FALSE)","v":"SW2"}]
["hv",66595,"Jürgen","Pellkofer","BGC Hamm 1959",{"$f":"CONCATENATE(VLOOKUP(A2549,bangolf_kategorien!$A$2:$B$11,2,FALSE),\": \",D2549,\", \",C2549)","v":"SM2: Pellkofer, Jürgen"},{"$f":"VLOOKUP(A2549,bangolf_kategorien!$A$2:$B$11,2,FALSE)","v":"SM2"}]
["hs",37558,"Daniel","Peppler","Reinickendorfer MGC",{"$f":"CONCATENATE(VLOOKUP(A2550,bangolf_kategorien!$A$2:$B$11,2,FALSE),\": \",D2550,\", \",C2550)","v":"H: Peppler, Daniel"},{"$f":"VLOOKUP(A2550,bangolf_kategorien!$A$2:$B$11,2,FALSE)","v":"H"}]
["ob",27520,"Peter","Perle","1. MGC Mannheim 1968",{"$f":"CONCATENATE(VLOOKUP(A2551,bangolf_kategorien!$A$2:$B$11,2,FALSE),\": \",D2551,\", \",C2551)","v":"SM1: Perle, Peter"},{"$f":"VLOOKUP(A2551,bangolf_kategorien!$A$2:$B$11,2,FALSE)","v":"SM1"}]
["ob",40366,"Klaus","Perlich","OMGC Ingolstadt",{"$f":"CONCATENATE(VLOOKUP(A2552,bangolf_kategorien!$A$2:$B$11,2,FALSE),\": \",D2552,\", \",C2552)","v":"SM1: Perlich, Klaus"},{"$f":"VLOOKUP(A2552,bangolf_kategorien!$A$2:$B$11,2,FALSE)","v":"SM1"}]
["hs",67040,"Tobias","Peschke","1. MSC Wesel 6.6.1966",{"$f":"CONCATENATE(VLOOKUP(A2553,bangolf_kategorien!$A$2:$B$11,2,FALSE),\": \",D2553,\", \",C2553)","v":"H: Peschke, Tobias"},{"$f":"VLOOKUP(A2553,bangolf_kategorien!$A$2:$B$11,2,FALSE)","v":"H"}]
["hs",32976,"Magnus","Pester","MGC putter Künzell 1970",{"$f":"CONCATENATE(VLOOKUP(A2554,bangolf_kategorien!$A$2:$B$11,2,FALSE),\": \",D2554,\", \",C2554)","v":"H: Pester, Magnus"},{"$f":"VLOOKUP(A2554,bangolf_kategorien!$A$2:$B$11,2,FALSE)","v":"H"}]
["ob",26809,"Manfred","Pester","TSV Pfungstadt Abt. Bahnengolf",{"$f":"CONCATENATE(VLOOKUP(A2555,bangolf_kategorien!$A$2:$B$11,2,FALSE),\": \",D2555,\", \",C2555)","v":"SM1: Pester, Manfred"},{"$f":"VLOOKUP(A2555,bangolf_kategorien!$A$2:$B$11,2,FALSE)","v":"SM1"}]
["hs",32975,"Philipp","Pester","SG Arheilgen Abt. Bahnengolf",{"$f":"CONCATENATE(VLOOKUP(A2556,bangolf_kategorien!$A$2:$B$11,2,FALSE),\": \",D2556,\", \",C2556)","v":"H: Pester, Philipp"},{"$f":"VLOOKUP(A2556,bangolf_kategorien!$A$2:$B$11,2,FALSE)","v":"H"}]
["hv",45445,"Alois","Peter","MGC Bad Waldsee 1990",{"$f":"CONCATENATE(VLOOKUP(A2557,bangolf_kategorien!$A$2:$B$11,2,FALSE),\": \",D2557,\", \",C2557)","v":"SM2: Peter, Alois"},{"$f":"VLOOKUP(A2557,bangolf_kategorien!$A$2:$B$11,2,FALSE)","v":"SM2"}]
["hv",3314256,"Frank","Peter","Hobby",{"$f":"CONCATENATE(VLOOKUP(A2558,bangolf_kategorien!$A$2:$B$11,2,FALSE),\": \",D2558,\", \",C2558)","v":"SM2: Peter, Frank"},{"$f":"VLOOKUP(A2558,bangolf_kategorien!$A$2:$B$11,2,FALSE)","v":"SM2"}]
["hs",50128,"Timo","Peter","BIG ASPERG",{"$f":"CONCATENATE(VLOOKUP(A2559,bangolf_kategorien!$A$2:$B$11,2,FALSE),\": \",D2559,\", \",C2559)","v":"H: Peter, Timo"},{"$f":"VLOOKUP(A2559,bangolf_kategorien!$A$2:$B$11,2,FALSE)","v":"H"}]
["hv",7607,"Uwe","Peter","1. BGC Celle von 1964",{"$f":"CONCATENATE(VLOOKUP(A2560,bangolf_kategorien!$A$2:$B$11,2,FALSE),\": \",D2560,\", \",C2560)","v":"SM2: Peter, Uwe"},{"$f":"VLOOKUP(A2560,bangolf_kategorien!$A$2:$B$11,2,FALSE)","v":"SM2"}]
["dv",65722,"Dora-Gisela","Petermann","SC Wermelskirchen 1976",{"$f":"CONCATENATE(VLOOKUP(A2561,bangolf_kategorien!$A$2:$B$11,2,FALSE),\": \",D2561,\", \",C2561)","v":"SW2: Petermann, Dora-Gisela"},{"$f":"VLOOKUP(A2561,bangolf_kategorien!$A$2:$B$11,2,FALSE)","v":"SW2"}]
["hv",65723,"Rainer","Petermann","SC Wermelskirchen 1976",{"$f":"CONCATENATE(VLOOKUP(A2562,bangolf_kategorien!$A$2:$B$11,2,FALSE),\": \",D2562,\", \",C2562)","v":"SM2: Petermann, Rainer"},{"$f":"VLOOKUP(A2562,bangolf_kategorien!$A$2:$B$11,2,FALSE)","v":"SM2"}]
["hv",37020,"Hartmut","Peters","SC Gut Heil Neumünster",{"$f":"CONCATENATE(VLOOKUP(A2563,bangolf_kategorien!$A$2:$B$11,2,FALSE),\": \",D2563,\", \",C2563)","v":"SM2: Peters, Hartmut"},{"$f":"VLOOKUP(A2563,bangolf_kategorien!$A$2:$B$11,2,FALSE)","v":"SM2"}]
["hj",66949,"Moritz","Peters","Hamburger MC von 1965",{"$f":"CONCATENATE(VLOOKUP(A2564,bangolf_kategorien!$A$2:$B$11,2,FALSE),\": \",D2564,\", \",C2564)","v":"JM: Peters, Moritz"},{"$f":"VLOOKUP(A2564,bangolf_kategorien!$A$2:$B$11,2,FALSE)","v":"JM"}]
["ob",66924,"Detlef","Petersen","1. BGC Hannover",{"$f":"CONCATENATE(VLOOKUP(A2565,bangolf_kategorien!$A$2:$B$11,2,FALSE),\": \",D2565,\", \",C2565)","v":"SM1: Petersen, Detlef"},{"$f":"VLOOKUP(A2565,bangolf_kategorien!$A$2:$B$11,2,FALSE)","v":"SM1"}]
["hs",67371,"Robin","Petersen","SC Olympia Dortmund",{"$f":"CONCATENATE(VLOOKUP(A2566,bangolf_kategorien!$A$2:$B$11,2,FALSE),\": \",D2566,\", \",C2566)","v":"H: Petersen, Robin"},{"$f":"VLOOKUP(A2566,bangolf_kategorien!$A$2:$B$11,2,FALSE)","v":"H"}]
["hv",67292,"Reinhold","Petersik","TV Niederstetten 1862  Abt. Minigolf",{"$f":"CONCATENATE(VLOOKUP(A2567,bangolf_kategorien!$A$2:$B$11,2,FALSE),\": \",D2567,\", \",C2567)","v":"SM2: Petersik, Reinhold"},{"$f":"VLOOKUP(A2567,bangolf_kategorien!$A$2:$B$11,2,FALSE)","v":"SM2"}]
["hs",66820,"Mickael","Petit","1. MSC Wesel 6.6.1966",{"$f":"CONCATENATE(VLOOKUP(A2568,bangolf_kategorien!$A$2:$B$11,2,FALSE),\": \",D2568,\", \",C2568)","v":"H: Petit, Mickael"},{"$f":"VLOOKUP(A2568,bangolf_kategorien!$A$2:$B$11,2,FALSE)","v":"H"}]
["hv",62294,"Jobst","Petrina","TV Trappenkamp - Minigolf -",{"$f":"CONCATENATE(VLOOKUP(A2569,bangolf_kategorien!$A$2:$B$11,2,FALSE),\": \",D2569,\", \",C2569)","v":"SM2: Petrina, Jobst"},{"$f":"VLOOKUP(A2569,bangolf_kategorien!$A$2:$B$11,2,FALSE)","v":"SM2"}]
["hv",3314848,"Frank","Petzke","Hobby",{"$f":"CONCATENATE(VLOOKUP(A2570,bangolf_kategorien!$A$2:$B$11,2,FALSE),\": \",D2570,\", \",C2570)","v":"SM2: Petzke, Frank"},{"$f":"VLOOKUP(A2570,bangolf_kategorien!$A$2:$B$11,2,FALSE)","v":"SM2"}]
["hv",35459,"Herbert","Peucker","SV Glückauf 1901 Gebhardshagen",{"$f":"CONCATENATE(VLOOKUP(A2571,bangolf_kategorien!$A$2:$B$11,2,FALSE),\": \",D2571,\", \",C2571)","v":"SM2: Peucker, Herbert"},{"$f":"VLOOKUP(A2571,bangolf_kategorien!$A$2:$B$11,2,FALSE)","v":"SM2"}]
["dv",36821,"Karin","Peucker","SV Glückauf 1901 Gebhardshagen",{"$f":"CONCATENATE(VLOOKUP(A2572,bangolf_kategorien!$A$2:$B$11,2,FALSE),\": \",D2572,\", \",C2572)","v":"SW2: Peucker, Karin"},{"$f":"VLOOKUP(A2572,bangolf_kategorien!$A$2:$B$11,2,FALSE)","v":"SW2"}]
["hv",43327,"Hans-Jürgen","Peuker","BGC Dormagen",{"$f":"CONCATENATE(VLOOKUP(A2573,bangolf_kategorien!$A$2:$B$11,2,FALSE),\": \",D2573,\", \",C2573)","v":"SM2: Peuker, Hans-Jürgen"},{"$f":"VLOOKUP(A2573,bangolf_kategorien!$A$2:$B$11,2,FALSE)","v":"SM2"}]
["hs",37241,"Mirko","Peuker","BGC Dormagen",{"$f":"CONCATENATE(VLOOKUP(A2574,bangolf_kategorien!$A$2:$B$11,2,FALSE),\": \",D2574,\", \",C2574)","v":"H: Peuker, Mirko"},{"$f":"VLOOKUP(A2574,bangolf_kategorien!$A$2:$B$11,2,FALSE)","v":"H"}]
["ds",37242,"Vanessa","Peuker","MGC Dormagen-Brechten",{"$f":"CONCATENATE(VLOOKUP(A2575,bangolf_kategorien!$A$2:$B$11,2,FALSE),\": \",D2575,\", \",C2575)","v":"D: Peuker, Vanessa"},{"$f":"VLOOKUP(A2575,bangolf_kategorien!$A$2:$B$11,2,FALSE)","v":"D"}]
["hs",87510,"Christian","Peuser","MGC Marl 1960",{"$f":"CONCATENATE(VLOOKUP(A2576,bangolf_kategorien!$A$2:$B$11,2,FALSE),\": \",D2576,\", \",C2576)","v":"H: Peuser, Christian"},{"$f":"VLOOKUP(A2576,bangolf_kategorien!$A$2:$B$11,2,FALSE)","v":"H"}]
["hs",87508,"Manuel","Peuser","MGC Marl 1960",{"$f":"CONCATENATE(VLOOKUP(A2577,bangolf_kategorien!$A$2:$B$11,2,FALSE),\": \",D2577,\", \",C2577)","v":"H: Peuser, Manuel"},{"$f":"VLOOKUP(A2577,bangolf_kategorien!$A$2:$B$11,2,FALSE)","v":"H"}]
["hv",24619,"Lutz","Pfeffer","Kölner Miniatur Golf Club",{"$f":"CONCATENATE(VLOOKUP(A2578,bangolf_kategorien!$A$2:$B$11,2,FALSE),\": \",D2578,\", \",C2578)","v":"SM2: Pfeffer, Lutz"},{"$f":"VLOOKUP(A2578,bangolf_kategorien!$A$2:$B$11,2,FALSE)","v":"SM2"}]
["hv",66167,"Reinhard","Pfeffer","MC Georgsmarienhütte",{"$f":"CONCATENATE(VLOOKUP(A2579,bangolf_kategorien!$A$2:$B$11,2,FALSE),\": \",D2579,\", \",C2579)","v":"SM2: Pfeffer, Reinhard"},{"$f":"VLOOKUP(A2579,bangolf_kategorien!$A$2:$B$11,2,FALSE)","v":"SM2"}]
["hv",22574,"Roland","Pfeffer","SV 1890 Dreieichenhain, Abt. Bahnengolf",{"$f":"CONCATENATE(VLOOKUP(A2580,bangolf_kategorien!$A$2:$B$11,2,FALSE),\": \",D2580,\", \",C2580)","v":"SM2: Pfeffer, Roland"},{"$f":"VLOOKUP(A2580,bangolf_kategorien!$A$2:$B$11,2,FALSE)","v":"SM2"}]
["hv",17476,"Werner","Pfeffer","1. MGC Mannheim 1968",{"$f":"CONCATENATE(VLOOKUP(A2581,bangolf_kategorien!$A$2:$B$11,2,FALSE),\": \",D2581,\", \",C2581)","v":"SM2: Pfeffer, Werner"},{"$f":"VLOOKUP(A2581,bangolf_kategorien!$A$2:$B$11,2,FALSE)","v":"SM2"}]
["ob",67104,"Norbert","Pfeifer","MGV Ansbach",{"$f":"CONCATENATE(VLOOKUP(A2582,bangolf_kategorien!$A$2:$B$11,2,FALSE),\": \",D2582,\", \",C2582)","v":"SM1: Pfeifer, Norbert"},{"$f":"VLOOKUP(A2582,bangolf_kategorien!$A$2:$B$11,2,FALSE)","v":"SM1"}]
["hv",31259,"Holger","Pfeiffer","Biskirchener BGV",{"$f":"CONCATENATE(VLOOKUP(A2583,bangolf_kategorien!$A$2:$B$11,2,FALSE),\": \",D2583,\", \",C2583)","v":"SM2: Pfeiffer, Holger"},{"$f":"VLOOKUP(A2583,bangolf_kategorien!$A$2:$B$11,2,FALSE)","v":"SM2"}]
["og",34951,"Cynthia","Pfingst","1. BGC Leipzig",{"$f":"CONCATENATE(VLOOKUP(A2584,bangolf_kategorien!$A$2:$B$11,2,FALSE),\": \",D2584,\", \",C2584)","v":"SW1: Pfingst, Cynthia"},{"$f":"VLOOKUP(A2584,bangolf_kategorien!$A$2:$B$11,2,FALSE)","v":"SW1"}]
["hs",30926,"Thomas","Pfister","ASV Pegnitz, Abt. Minigolf",{"$f":"CONCATENATE(VLOOKUP(A2585,bangolf_kategorien!$A$2:$B$11,2,FALSE),\": \",D2585,\", \",C2585)","v":"H: Pfister, Thomas"},{"$f":"VLOOKUP(A2585,bangolf_kategorien!$A$2:$B$11,2,FALSE)","v":"H"}]
["dv",47213,"Heiderose","Pfriem","1. MGC Peine von 1965",{"$f":"CONCATENATE(VLOOKUP(A2586,bangolf_kategorien!$A$2:$B$11,2,FALSE),\": \",D2586,\", \",C2586)","v":"SW2: Pfriem, Heiderose"},{"$f":"VLOOKUP(A2586,bangolf_kategorien!$A$2:$B$11,2,FALSE)","v":"SW2"}]
["hv",12405,"Klaus","Pfriem","1. MGC Peine von 1965",{"$f":"CONCATENATE(VLOOKUP(A2587,bangolf_kategorien!$A$2:$B$11,2,FALSE),\": \",D2587,\", \",C2587)","v":"SM2: Pfriem, Klaus"},{"$f":"VLOOKUP(A2587,bangolf_kategorien!$A$2:$B$11,2,FALSE)","v":"SM2"}]
["ob",36616,"Joachim","Pfundt","BGV Bergisch Land 1962 / 63",{"$f":"CONCATENATE(VLOOKUP(A2588,bangolf_kategorien!$A$2:$B$11,2,FALSE),\": \",D2588,\", \",C2588)","v":"SM1: Pfundt, Joachim"},{"$f":"VLOOKUP(A2588,bangolf_kategorien!$A$2:$B$11,2,FALSE)","v":"SM1"}]
["ob",66052,"Andreas","Philipp","VfM Berlin",{"$f":"CONCATENATE(VLOOKUP(A2589,bangolf_kategorien!$A$2:$B$11,2,FALSE),\": \",D2589,\", \",C2589)","v":"SM1: Philipp, Andreas"},{"$f":"VLOOKUP(A2589,bangolf_kategorien!$A$2:$B$11,2,FALSE)","v":"SM1"}]
["hs",29801,"Simon","Philipp","MGF Hilzingen 80",{"$f":"CONCATENATE(VLOOKUP(A2590,bangolf_kategorien!$A$2:$B$11,2,FALSE),\": \",D2590,\", \",C2590)","v":"H: Philipp, Simon"},{"$f":"VLOOKUP(A2590,bangolf_kategorien!$A$2:$B$11,2,FALSE)","v":"H"}]
["hs",67024,"Lukas","Philippus","BGSV Bad Homburg",{"$f":"CONCATENATE(VLOOKUP(A2591,bangolf_kategorien!$A$2:$B$11,2,FALSE),\": \",D2591,\", \",C2591)","v":"H: Philippus, Lukas"},{"$f":"VLOOKUP(A2591,bangolf_kategorien!$A$2:$B$11,2,FALSE)","v":"H"}]
["hv",30834,"Bernhard","Pianka","BV Sennestadt",{"$f":"CONCATENATE(VLOOKUP(A2592,bangolf_kategorien!$A$2:$B$11,2,FALSE),\": \",D2592,\", \",C2592)","v":"SM2: Pianka, Bernhard"},{"$f":"VLOOKUP(A2592,bangolf_kategorien!$A$2:$B$11,2,FALSE)","v":"SM2"}]
["hv",45614,"Klaus","Pichler","MGC 85 Bönnigheim",{"$f":"CONCATENATE(VLOOKUP(A2593,bangolf_kategorien!$A$2:$B$11,2,FALSE),\": \",D2593,\", \",C2593)","v":"SM2: Pichler, Klaus"},{"$f":"VLOOKUP(A2593,bangolf_kategorien!$A$2:$B$11,2,FALSE)","v":"SM2"}]
["ds",38272,"Maike","Pichol","BGV Backumer Tal Herten",{"$f":"CONCATENATE(VLOOKUP(A2594,bangolf_kategorien!$A$2:$B$11,2,FALSE),\": \",D2594,\", \",C2594)","v":"D: Pichol, Maike"},{"$f":"VLOOKUP(A2594,bangolf_kategorien!$A$2:$B$11,2,FALSE)","v":"D"}]
["dj",66184,"Michelle","Pichol","BGV Backumer Tal Herten",{"$f":"CONCATENATE(VLOOKUP(A2595,bangolf_kategorien!$A$2:$B$11,2,FALSE),\": \",D2595,\", \",C2595)","v":"JW: Pichol, Michelle"},{"$f":"VLOOKUP(A2595,bangolf_kategorien!$A$2:$B$11,2,FALSE)","v":"JW"}]
["hs",31032,"Thorsten","Pichol","BGV Backumer Tal Herten",{"$f":"CONCATENATE(VLOOKUP(A2596,bangolf_kategorien!$A$2:$B$11,2,FALSE),\": \",D2596,\", \",C2596)","v":"H: Pichol, Thorsten"},{"$f":"VLOOKUP(A2596,bangolf_kategorien!$A$2:$B$11,2,FALSE)","v":"H"}]
["ob",42849,"Markus","Piechota","SSC Attendorn",{"$f":"CONCATENATE(VLOOKUP(A2597,bangolf_kategorien!$A$2:$B$11,2,FALSE),\": \",D2597,\", \",C2597)","v":"SM1: Piechota, Markus"},{"$f":"VLOOKUP(A2597,bangolf_kategorien!$A$2:$B$11,2,FALSE)","v":"SM1"}]
["dv",36538,"Rosemarie","Piechotta","MGC Dortmund Syburg",{"$f":"CONCATENATE(VLOOKUP(A2598,bangolf_kategorien!$A$2:$B$11,2,FALSE),\": \",D2598,\", \",C2598)","v":"SW2: Piechotta, Rosemarie"},{"$f":"VLOOKUP(A2598,bangolf_kategorien!$A$2:$B$11,2,FALSE)","v":"SW2"}]
["hv",41953,"Armando","Piedigaci","SC Wermelskirchen 1976",{"$f":"CONCATENATE(VLOOKUP(A2599,bangolf_kategorien!$A$2:$B$11,2,FALSE),\": \",D2599,\", \",C2599)","v":"SM2: Piedigaci, Armando"},{"$f":"VLOOKUP(A2599,bangolf_kategorien!$A$2:$B$11,2,FALSE)","v":"SM2"}]
["hv",65977,"Werner","Piehl","MGC Bergisch Gladbach Gierath",{"$f":"CONCATENATE(VLOOKUP(A2600,bangolf_kategorien!$A$2:$B$11,2,FALSE),\": \",D2600,\", \",C2600)","v":"SM2: Piehl, Werner"},{"$f":"VLOOKUP(A2600,bangolf_kategorien!$A$2:$B$11,2,FALSE)","v":"SM2"}]
["hs",37859,"Sebastian","Piekorz","1. MGC Mainz",{"$f":"CONCATENATE(VLOOKUP(A2601,bangolf_kategorien!$A$2:$B$11,2,FALSE),\": \",D2601,\", \",C2601)","v":"H: Piekorz, Sebastian"},{"$f":"VLOOKUP(A2601,bangolf_kategorien!$A$2:$B$11,2,FALSE)","v":"H"}]
["hs",36637,"Markus","Pieper","MGC Traben-Trarbach",{"$f":"CONCATENATE(VLOOKUP(A2602,bangolf_kategorien!$A$2:$B$11,2,FALSE),\": \",D2602,\", \",C2602)","v":"H: Pieper, Markus"},{"$f":"VLOOKUP(A2602,bangolf_kategorien!$A$2:$B$11,2,FALSE)","v":"H"}]
["hs",43980,"Oliver","Pieper","MGC Traben-Trarbach",{"$f":"CONCATENATE(VLOOKUP(A2603,bangolf_kategorien!$A$2:$B$11,2,FALSE),\": \",D2603,\", \",C2603)","v":"H: Pieper, Oliver"},{"$f":"VLOOKUP(A2603,bangolf_kategorien!$A$2:$B$11,2,FALSE)","v":"H"}]
["ds",35658,"Sabrina","Pieper","MGC Traben-Trarbach",{"$f":"CONCATENATE(VLOOKUP(A2604,bangolf_kategorien!$A$2:$B$11,2,FALSE),\": \",D2604,\", \",C2604)","v":"D: Pieper, Sabrina"},{"$f":"VLOOKUP(A2604,bangolf_kategorien!$A$2:$B$11,2,FALSE)","v":"D"}]
["hv",5324,"Ulrich","Pieper","MGC Traben-Trarbach",{"$f":"CONCATENATE(VLOOKUP(A2605,bangolf_kategorien!$A$2:$B$11,2,FALSE),\": \",D2605,\", \",C2605)","v":"SM2: Pieper, Ulrich"},{"$f":"VLOOKUP(A2605,bangolf_kategorien!$A$2:$B$11,2,FALSE)","v":"SM2"}]
["ob",66129,"Andreas","Pieplau","MGC Millennium Lorsch",{"$f":"CONCATENATE(VLOOKUP(A2606,bangolf_kategorien!$A$2:$B$11,2,FALSE),\": \",D2606,\", \",C2606)","v":"SM1: Pieplau, Andreas"},{"$f":"VLOOKUP(A2606,bangolf_kategorien!$A$2:$B$11,2,FALSE)","v":"SM1"}]
["hv",38267,"Armin","Piest","MGC Brunsbüttel",{"$f":"CONCATENATE(VLOOKUP(A2607,bangolf_kategorien!$A$2:$B$11,2,FALSE),\": \",D2607,\", \",C2607)","v":"SM2: Piest, Armin"},{"$f":"VLOOKUP(A2607,bangolf_kategorien!$A$2:$B$11,2,FALSE)","v":"SM2"}]
["hv",36654,"Harald","Pietsch","1. MGC Gelsenkirchen",{"$f":"CONCATENATE(VLOOKUP(A2608,bangolf_kategorien!$A$2:$B$11,2,FALSE),\": \",D2608,\", \",C2608)","v":"SM2: Pietsch, Harald"},{"$f":"VLOOKUP(A2608,bangolf_kategorien!$A$2:$B$11,2,FALSE)","v":"SM2"}]
["hv",38243,"Peter","Pilz","MGC Ingolstadt",{"$f":"CONCATENATE(VLOOKUP(A2609,bangolf_kategorien!$A$2:$B$11,2,FALSE),\": \",D2609,\", \",C2609)","v":"SM2: Pilz, Peter"},{"$f":"VLOOKUP(A2609,bangolf_kategorien!$A$2:$B$11,2,FALSE)","v":"SM2"}]
["hv",50457,"Karl-Heinz","Pindor","BGV Backumer Tal Herten",{"$f":"CONCATENATE(VLOOKUP(A2610,bangolf_kategorien!$A$2:$B$11,2,FALSE),\": \",D2610,\", \",C2610)","v":"SM2: Pindor, Karl-Heinz"},{"$f":"VLOOKUP(A2610,bangolf_kategorien!$A$2:$B$11,2,FALSE)","v":"SM2"}]
["og",35460,"Viola","Piper","SV Glückauf 1901 Gebhardshagen",{"$f":"CONCATENATE(VLOOKUP(A2611,bangolf_kategorien!$A$2:$B$11,2,FALSE),\": \",D2611,\", \",C2611)","v":"SW1: Piper, Viola"},{"$f":"VLOOKUP(A2611,bangolf_kategorien!$A$2:$B$11,2,FALSE)","v":"SW1"}]
["ob",38279,"Matthias","Pipke","BGSC Bochum 1978",{"$f":"CONCATENATE(VLOOKUP(A2612,bangolf_kategorien!$A$2:$B$11,2,FALSE),\": \",D2612,\", \",C2612)","v":"SM1: Pipke, Matthias"},{"$f":"VLOOKUP(A2612,bangolf_kategorien!$A$2:$B$11,2,FALSE)","v":"SM1"}]
["hv",33364,"Wolfgang","Pirrung","1. KC Homburg-Saar 1967",{"$f":"CONCATENATE(VLOOKUP(A2613,bangolf_kategorien!$A$2:$B$11,2,FALSE),\": \",D2613,\", \",C2613)","v":"SM2: Pirrung, Wolfgang"},{"$f":"VLOOKUP(A2613,bangolf_kategorien!$A$2:$B$11,2,FALSE)","v":"SM2"}]
["hv",29305,"Gerhard","Pischel","MGC Wolnzach",{"$f":"CONCATENATE(VLOOKUP(A2614,bangolf_kategorien!$A$2:$B$11,2,FALSE),\": \",D2614,\", \",C2614)","v":"SM2: Pischel, Gerhard"},{"$f":"VLOOKUP(A2614,bangolf_kategorien!$A$2:$B$11,2,FALSE)","v":"SM2"}]
["ob",36237,"Gerhard","Pitterle","MGC Bad Feilnbach",{"$f":"CONCATENATE(VLOOKUP(A2615,bangolf_kategorien!$A$2:$B$11,2,FALSE),\": \",D2615,\", \",C2615)","v":"SM1: Pitterle, Gerhard"},{"$f":"VLOOKUP(A2615,bangolf_kategorien!$A$2:$B$11,2,FALSE)","v":"SM1"}]
["hv",40567,"Siegfried","Pitz","1. CGC Blau-Gelb Grötzingen",{"$f":"CONCATENATE(VLOOKUP(A2616,bangolf_kategorien!$A$2:$B$11,2,FALSE),\": \",D2616,\", \",C2616)","v":"SM2: Pitz, Siegfried"},{"$f":"VLOOKUP(A2616,bangolf_kategorien!$A$2:$B$11,2,FALSE)","v":"SM2"}]
["ob",48880,"Joachim","Plack","KGC Bad Urach",{"$f":"CONCATENATE(VLOOKUP(A2617,bangolf_kategorien!$A$2:$B$11,2,FALSE),\": \",D2617,\", \",C2617)","v":"SM1: Plack, Joachim"},{"$f":"VLOOKUP(A2617,bangolf_kategorien!$A$2:$B$11,2,FALSE)","v":"SM1"}]
["hs",36206,"Daniel","Platz","Freizeit Club Bliesen",{"$f":"CONCATENATE(VLOOKUP(A2618,bangolf_kategorien!$A$2:$B$11,2,FALSE),\": \",D2618,\", \",C2618)","v":"H: Platz, Daniel"},{"$f":"VLOOKUP(A2618,bangolf_kategorien!$A$2:$B$11,2,FALSE)","v":"H"}]
["ob",31933,"Stefan","Pleger","BGC Bad Nenndorf",{"$f":"CONCATENATE(VLOOKUP(A2619,bangolf_kategorien!$A$2:$B$11,2,FALSE),\": \",D2619,\", \",C2619)","v":"SM1: Pleger, Stefan"},{"$f":"VLOOKUP(A2619,bangolf_kategorien!$A$2:$B$11,2,FALSE)","v":"SM1"}]
["ob",67136,"Steffen","Plep","MGC Bad Bodendorf",{"$f":"CONCATENATE(VLOOKUP(A2620,bangolf_kategorien!$A$2:$B$11,2,FALSE),\": \",D2620,\", \",C2620)","v":"SM1: Plep, Steffen"},{"$f":"VLOOKUP(A2620,bangolf_kategorien!$A$2:$B$11,2,FALSE)","v":"SM1"}]
["ob",43572,"Stefan","Plieninger","1. BGC Landshut",{"$f":"CONCATENATE(VLOOKUP(A2621,bangolf_kategorien!$A$2:$B$11,2,FALSE),\": \",D2621,\", \",C2621)","v":"SM1: Plieninger, Stefan"},{"$f":"VLOOKUP(A2621,bangolf_kategorien!$A$2:$B$11,2,FALSE)","v":"SM1"}]
["og",67265,"Andrea","Ploch","CGC Rauschenberg",{"$f":"CONCATENATE(VLOOKUP(A2622,bangolf_kategorien!$A$2:$B$11,2,FALSE),\": \",D2622,\", \",C2622)","v":"SW1: Ploch, Andrea"},{"$f":"VLOOKUP(A2622,bangolf_kategorien!$A$2:$B$11,2,FALSE)","v":"SW1"}]
["dv",26514,"Christiane","Ploem","MSV Bad Kreuznach",{"$f":"CONCATENATE(VLOOKUP(A2623,bangolf_kategorien!$A$2:$B$11,2,FALSE),\": \",D2623,\", \",C2623)","v":"SW2: Ploem, Christiane"},{"$f":"VLOOKUP(A2623,bangolf_kategorien!$A$2:$B$11,2,FALSE)","v":"SW2"}]
["hv",40689,"Hans","Ploem","MSV Bad Kreuznach",{"$f":"CONCATENATE(VLOOKUP(A2624,bangolf_kategorien!$A$2:$B$11,2,FALSE),\": \",D2624,\", \",C2624)","v":"SM2: Ploem, Hans"},{"$f":"VLOOKUP(A2624,bangolf_kategorien!$A$2:$B$11,2,FALSE)","v":"SM2"}]
["hv",10662,"Günther","Plötz","Tempelhofer MV Berlin",{"$f":"CONCATENATE(VLOOKUP(A2625,bangolf_kategorien!$A$2:$B$11,2,FALSE),\": \",D2625,\", \",C2625)","v":"SM2: Plötz, Günther"},{"$f":"VLOOKUP(A2625,bangolf_kategorien!$A$2:$B$11,2,FALSE)","v":"SM2"}]
["hs",67497,"Marvin","Plumpe","BGV Backumer Tal Herten",{"$f":"CONCATENATE(VLOOKUP(A2626,bangolf_kategorien!$A$2:$B$11,2,FALSE),\": \",D2626,\", \",C2626)","v":"H: Plumpe, Marvin"},{"$f":"VLOOKUP(A2626,bangolf_kategorien!$A$2:$B$11,2,FALSE)","v":"H"}]
["ds",3106844,"Maike","Poet","Hobby",{"$f":"CONCATENATE(VLOOKUP(A2627,bangolf_kategorien!$A$2:$B$11,2,FALSE),\": \",D2627,\", \",C2627)","v":"D: Poet, Maike"},{"$f":"VLOOKUP(A2627,bangolf_kategorien!$A$2:$B$11,2,FALSE)","v":"D"}]
["ob",66693,"Michael","Pohler","Minigolf-Club Diessen",{"$f":"CONCATENATE(VLOOKUP(A2628,bangolf_kategorien!$A$2:$B$11,2,FALSE),\": \",D2628,\", \",C2628)","v":"SM1: Pohler, Michael"},{"$f":"VLOOKUP(A2628,bangolf_kategorien!$A$2:$B$11,2,FALSE)","v":"SM1"}]
["hv",6076,"Necdet","Polat","MC Flora Elmshorn",{"$f":"CONCATENATE(VLOOKUP(A2629,bangolf_kategorien!$A$2:$B$11,2,FALSE),\": \",D2629,\", \",C2629)","v":"SM2: Polat, Necdet"},{"$f":"VLOOKUP(A2629,bangolf_kategorien!$A$2:$B$11,2,FALSE)","v":"SM2"}]
["hs",67162,"Ivo-René","Polpitz","BGC Northeim",{"$f":"CONCATENATE(VLOOKUP(A2630,bangolf_kategorien!$A$2:$B$11,2,FALSE),\": \",D2630,\", \",C2630)","v":"H: Polpitz, Ivo-René"},{"$f":"VLOOKUP(A2630,bangolf_kategorien!$A$2:$B$11,2,FALSE)","v":"H"}]
["ob",66105,"Steffen","Poltermann","MGC Millennium Lorsch",{"$f":"CONCATENATE(VLOOKUP(A2631,bangolf_kategorien!$A$2:$B$11,2,FALSE),\": \",D2631,\", \",C2631)","v":"SM1: Poltermann, Steffen"},{"$f":"VLOOKUP(A2631,bangolf_kategorien!$A$2:$B$11,2,FALSE)","v":"SM1"}]
["dv",67240,"Christine","Pommer","1. BGC Hannover",{"$f":"CONCATENATE(VLOOKUP(A2632,bangolf_kategorien!$A$2:$B$11,2,FALSE),\": \",D2632,\", \",C2632)","v":"SW2: Pommer, Christine"},{"$f":"VLOOKUP(A2632,bangolf_kategorien!$A$2:$B$11,2,FALSE)","v":"SW2"}]
["hs",67239,"Jan","Pommer","1. BGC Hannover",{"$f":"CONCATENATE(VLOOKUP(A2633,bangolf_kategorien!$A$2:$B$11,2,FALSE),\": \",D2633,\", \",C2633)","v":"H: Pommer, Jan"},{"$f":"VLOOKUP(A2633,bangolf_kategorien!$A$2:$B$11,2,FALSE)","v":"H"}]
["dv",65823,"Ilona","Pommereit","SV Glückauf 1901 Gebhardshagen",{"$f":"CONCATENATE(VLOOKUP(A2634,bangolf_kategorien!$A$2:$B$11,2,FALSE),\": \",D2634,\", \",C2634)","v":"SW2: Pommereit, Ilona"},{"$f":"VLOOKUP(A2634,bangolf_kategorien!$A$2:$B$11,2,FALSE)","v":"SW2"}]
["ob",44073,"Michael","Ponellis","1. MSC Wesel 6.6.1966",{"$f":"CONCATENATE(VLOOKUP(A2635,bangolf_kategorien!$A$2:$B$11,2,FALSE),\": \",D2635,\", \",C2635)","v":"SM1: Ponellis, Michael"},{"$f":"VLOOKUP(A2635,bangolf_kategorien!$A$2:$B$11,2,FALSE)","v":"SM1"}]
["hv",67535,"Norbert","Pönnighaus","MGC Bad Salzuflen",{"$f":"CONCATENATE(VLOOKUP(A2636,bangolf_kategorien!$A$2:$B$11,2,FALSE),\": \",D2636,\", \",C2636)","v":"SM2: Pönnighaus, Norbert"},{"$f":"VLOOKUP(A2636,bangolf_kategorien!$A$2:$B$11,2,FALSE)","v":"SM2"}]
["hs",66794,"Ivan","Popleteev","MGC putter Künzell 1970",{"$f":"CONCATENATE(VLOOKUP(A2637,bangolf_kategorien!$A$2:$B$11,2,FALSE),\": \",D2637,\", \",C2637)","v":"H: Popleteev, Ivan"},{"$f":"VLOOKUP(A2637,bangolf_kategorien!$A$2:$B$11,2,FALSE)","v":"H"}]
["hv",37658,"Alfred","Pöppe","BGSC Bochum 1978",{"$f":"CONCATENATE(VLOOKUP(A2638,bangolf_kategorien!$A$2:$B$11,2,FALSE),\": \",D2638,\", \",C2638)","v":"SM2: Pöppe, Alfred"},{"$f":"VLOOKUP(A2638,bangolf_kategorien!$A$2:$B$11,2,FALSE)","v":"SM2"}]
["dv",36981,"Birgit","Pöppe","BGSC Bochum 1978",{"$f":"CONCATENATE(VLOOKUP(A2639,bangolf_kategorien!$A$2:$B$11,2,FALSE),\": \",D2639,\", \",C2639)","v":"SW2: Pöppe, Birgit"},{"$f":"VLOOKUP(A2639,bangolf_kategorien!$A$2:$B$11,2,FALSE)","v":"SW2"}]
["hs",36776,"Fabian","Pöppe","BGSC Bochum 1978",{"$f":"CONCATENATE(VLOOKUP(A2640,bangolf_kategorien!$A$2:$B$11,2,FALSE),\": \",D2640,\", \",C2640)","v":"H: Pöppe, Fabian"},{"$f":"VLOOKUP(A2640,bangolf_kategorien!$A$2:$B$11,2,FALSE)","v":"H"}]
["dv",36696,"Barbara","Pörrer","OMGC Ingolstadt",{"$f":"CONCATENATE(VLOOKUP(A2641,bangolf_kategorien!$A$2:$B$11,2,FALSE),\": \",D2641,\", \",C2641)","v":"SW2: Pörrer, Barbara"},{"$f":"VLOOKUP(A2641,bangolf_kategorien!$A$2:$B$11,2,FALSE)","v":"SW2"}]
["hv",5270,"Heinz","Pörrer","TG Höchberg von 1862 Bahnengolf",{"$f":"CONCATENATE(VLOOKUP(A2642,bangolf_kategorien!$A$2:$B$11,2,FALSE),\": \",D2642,\", \",C2642)","v":"SM2: Pörrer, Heinz"},{"$f":"VLOOKUP(A2642,bangolf_kategorien!$A$2:$B$11,2,FALSE)","v":"SM2"}]
["hs",49243,"Alexander","Porsch","ASV Pegnitz, Abt. Minigolf",{"$f":"CONCATENATE(VLOOKUP(A2643,bangolf_kategorien!$A$2:$B$11,2,FALSE),\": \",D2643,\", \",C2643)","v":"H: Porsch, Alexander"},{"$f":"VLOOKUP(A2643,bangolf_kategorien!$A$2:$B$11,2,FALSE)","v":"H"}]
["hs",67496,"Stephan","Pöschko","BGSC Bochum 1978",{"$f":"CONCATENATE(VLOOKUP(A2644,bangolf_kategorien!$A$2:$B$11,2,FALSE),\": \",D2644,\", \",C2644)","v":"H: Pöschko, Stephan"},{"$f":"VLOOKUP(A2644,bangolf_kategorien!$A$2:$B$11,2,FALSE)","v":"H"}]
["og",49887,"Heike","Poser","1. BGC Hannover",{"$f":"CONCATENATE(VLOOKUP(A2645,bangolf_kategorien!$A$2:$B$11,2,FALSE),\": \",D2645,\", \",C2645)","v":"SW1: Poser, Heike"},{"$f":"VLOOKUP(A2645,bangolf_kategorien!$A$2:$B$11,2,FALSE)","v":"SW1"}]
["ob",49886,"Stefan","Poser","1. BGC Hannover",{"$f":"CONCATENATE(VLOOKUP(A2646,bangolf_kategorien!$A$2:$B$11,2,FALSE),\": \",D2646,\", \",C2646)","v":"SM1: Poser, Stefan"},{"$f":"VLOOKUP(A2646,bangolf_kategorien!$A$2:$B$11,2,FALSE)","v":"SM1"}]
["hv",33993,"Jürgen","Praedel","MGC Rot-Weiß Wanne-Eickel",{"$f":"CONCATENATE(VLOOKUP(A2647,bangolf_kategorien!$A$2:$B$11,2,FALSE),\": \",D2647,\", \",C2647)","v":"SM2: Praedel, Jürgen"},{"$f":"VLOOKUP(A2647,bangolf_kategorien!$A$2:$B$11,2,FALSE)","v":"SM2"}]
["ob",43697,"Gerald","Prause","1. MGC 1970 Göttingen",{"$f":"CONCATENATE(VLOOKUP(A2648,bangolf_kategorien!$A$2:$B$11,2,FALSE),\": \",D2648,\", \",C2648)","v":"SM1: Prause, Gerald"},{"$f":"VLOOKUP(A2648,bangolf_kategorien!$A$2:$B$11,2,FALSE)","v":"SM1"}]
["hs",66608,"Lars","Prediger","VfL Lüneburg Abt. Bahnengolf",{"$f":"CONCATENATE(VLOOKUP(A2649,bangolf_kategorien!$A$2:$B$11,2,FALSE),\": \",D2649,\", \",C2649)","v":"H: Prediger, Lars"},{"$f":"VLOOKUP(A2649,bangolf_kategorien!$A$2:$B$11,2,FALSE)","v":"H"}]
["hv",67415,"Robert","Preißler","MSG Kempten",{"$f":"CONCATENATE(VLOOKUP(A2650,bangolf_kategorien!$A$2:$B$11,2,FALSE),\": \",D2650,\", \",C2650)","v":"SM2: Preißler, Robert"},{"$f":"VLOOKUP(A2650,bangolf_kategorien!$A$2:$B$11,2,FALSE)","v":"SM2"}]
["hv",38577,"Stephan","Preißmann","BGSV Bad Homburg",{"$f":"CONCATENATE(VLOOKUP(A2651,bangolf_kategorien!$A$2:$B$11,2,FALSE),\": \",D2651,\", \",C2651)","v":"SM2: Preißmann, Stephan"},{"$f":"VLOOKUP(A2651,bangolf_kategorien!$A$2:$B$11,2,FALSE)","v":"SM2"}]
["hs",37322,"David","Pren","1. MSC Wesel 6.6.1966",{"$f":"CONCATENATE(VLOOKUP(A2652,bangolf_kategorien!$A$2:$B$11,2,FALSE),\": \",D2652,\", \",C2652)","v":"H: Pren, David"},{"$f":"VLOOKUP(A2652,bangolf_kategorien!$A$2:$B$11,2,FALSE)","v":"H"}]
["ob",67151,"Wolfgang","Presser","MGC Heven",{"$f":"CONCATENATE(VLOOKUP(A2653,bangolf_kategorien!$A$2:$B$11,2,FALSE),\": \",D2653,\", \",C2653)","v":"SM1: Presser, Wolfgang"},{"$f":"VLOOKUP(A2653,bangolf_kategorien!$A$2:$B$11,2,FALSE)","v":"SM1"}]
["hj",66981,"Gerald","Pressmar-Danne","1. MC Weinheim",{"$f":"CONCATENATE(VLOOKUP(A2654,bangolf_kategorien!$A$2:$B$11,2,FALSE),\": \",D2654,\", \",C2654)","v":"JM: Pressmar-Danne, Gerald"},{"$f":"VLOOKUP(A2654,bangolf_kategorien!$A$2:$B$11,2,FALSE)","v":"JM"}]
["og",44355,"Dorothea","Preuß","MGC Felderbachtal 1964",{"$f":"CONCATENATE(VLOOKUP(A2655,bangolf_kategorien!$A$2:$B$11,2,FALSE),\": \",D2655,\", \",C2655)","v":"SW1: Preuß, Dorothea"},{"$f":"VLOOKUP(A2655,bangolf_kategorien!$A$2:$B$11,2,FALSE)","v":"SW1"}]
["hv",6767,"Walter","Pribuß","BGC Illertissen",{"$f":"CONCATENATE(VLOOKUP(A2656,bangolf_kategorien!$A$2:$B$11,2,FALSE),\": \",D2656,\", \",C2656)","v":"SM2: Pribuß, Walter"},{"$f":"VLOOKUP(A2656,bangolf_kategorien!$A$2:$B$11,2,FALSE)","v":"SM2"}]
["hv",36550,"Heinz","Pribyl","1. Minigolf-Club Rheinhausen",{"$f":"CONCATENATE(VLOOKUP(A2657,bangolf_kategorien!$A$2:$B$11,2,FALSE),\": \",D2657,\", \",C2657)","v":"SM2: Pribyl, Heinz"},{"$f":"VLOOKUP(A2657,bangolf_kategorien!$A$2:$B$11,2,FALSE)","v":"SM2"}]
["og",66671,"Gudrun","Priedigkeit","BGC Uerdingen",{"$f":"CONCATENATE(VLOOKUP(A2658,bangolf_kategorien!$A$2:$B$11,2,FALSE),\": \",D2658,\", \",C2658)","v":"SW1: Priedigkeit, Gudrun"},{"$f":"VLOOKUP(A2658,bangolf_kategorien!$A$2:$B$11,2,FALSE)","v":"SW1"}]
["ob",66670,"Ulrich","Priedigkeit","BGC Uerdingen",{"$f":"CONCATENATE(VLOOKUP(A2659,bangolf_kategorien!$A$2:$B$11,2,FALSE),\": \",D2659,\", \",C2659)","v":"SM1: Priedigkeit, Ulrich"},{"$f":"VLOOKUP(A2659,bangolf_kategorien!$A$2:$B$11,2,FALSE)","v":"SM1"}]
["ds",66841,"Anne-Katrin","Prill","Minigolfclub Karlshagen",{"$f":"CONCATENATE(VLOOKUP(A2660,bangolf_kategorien!$A$2:$B$11,2,FALSE),\": \",D2660,\", \",C2660)","v":"D: Prill, Anne-Katrin"},{"$f":"VLOOKUP(A2660,bangolf_kategorien!$A$2:$B$11,2,FALSE)","v":"D"}]
["hv",66529,"Norbert","Probost","MGC Wetzlar",{"$f":"CONCATENATE(VLOOKUP(A2661,bangolf_kategorien!$A$2:$B$11,2,FALSE),\": \",D2661,\", \",C2661)","v":"SM2: Probost, Norbert"},{"$f":"VLOOKUP(A2661,bangolf_kategorien!$A$2:$B$11,2,FALSE)","v":"SM2"}]
["hv",66484,"Franz jr.","Proschko","1. BGC Bad Füssing",{"$f":"CONCATENATE(VLOOKUP(A2662,bangolf_kategorien!$A$2:$B$11,2,FALSE),\": \",D2662,\", \",C2662)","v":"SM2: Proschko, Franz jr."},{"$f":"VLOOKUP(A2662,bangolf_kategorien!$A$2:$B$11,2,FALSE)","v":"SM2"}]
["hs",26092,"Michael","Proschko","1. BGC Bad Füssing",{"$f":"CONCATENATE(VLOOKUP(A2663,bangolf_kategorien!$A$2:$B$11,2,FALSE),\": \",D2663,\", \",C2663)","v":"H: Proschko, Michael"},{"$f":"VLOOKUP(A2663,bangolf_kategorien!$A$2:$B$11,2,FALSE)","v":"H"}]
["hs",35158,"Dominik","Prüßner","MGC Bad Salzuflen",{"$f":"CONCATENATE(VLOOKUP(A2664,bangolf_kategorien!$A$2:$B$11,2,FALSE),\": \",D2664,\", \",C2664)","v":"H: Prüßner, Dominik"},{"$f":"VLOOKUP(A2664,bangolf_kategorien!$A$2:$B$11,2,FALSE)","v":"H"}]
["hv",10566,"Johann","Pscherer jun.","MSK Olching",{"$f":"CONCATENATE(VLOOKUP(A2665,bangolf_kategorien!$A$2:$B$11,2,FALSE),\": \",D2665,\", \",C2665)","v":"SM2: Pscherer jun., Johann"},{"$f":"VLOOKUP(A2665,bangolf_kategorien!$A$2:$B$11,2,FALSE)","v":"SM2"}]
["hs",30634,"Rudolf","Pull","1. MGC Mainz",{"$f":"CONCATENATE(VLOOKUP(A2666,bangolf_kategorien!$A$2:$B$11,2,FALSE),\": \",D2666,\", \",C2666)","v":"H: Pull, Rudolf"},{"$f":"VLOOKUP(A2666,bangolf_kategorien!$A$2:$B$11,2,FALSE)","v":"H"}]
["dv",5509,"Marianne","Quade","MGC Bad Salzuflen",{"$f":"CONCATENATE(VLOOKUP(A2667,bangolf_kategorien!$A$2:$B$11,2,FALSE),\": \",D2667,\", \",C2667)","v":"SW2: Quade, Marianne"},{"$f":"VLOOKUP(A2667,bangolf_kategorien!$A$2:$B$11,2,FALSE)","v":"SW2"}]
["ob",44691,"Frank","Quandt","TSV Salzgitter Abt. Bahnengolf",{"$f":"CONCATENATE(VLOOKUP(A2668,bangolf_kategorien!$A$2:$B$11,2,FALSE),\": \",D2668,\", \",C2668)","v":"SM1: Quandt, Frank"},{"$f":"VLOOKUP(A2668,bangolf_kategorien!$A$2:$B$11,2,FALSE)","v":"SM1"}]
["hv",24081,"Jürgen","Quandt","HMC Büttgen",{"$f":"CONCATENATE(VLOOKUP(A2669,bangolf_kategorien!$A$2:$B$11,2,FALSE),\": \",D2669,\", \",C2669)","v":"SM2: Quandt, Jürgen"},{"$f":"VLOOKUP(A2669,bangolf_kategorien!$A$2:$B$11,2,FALSE)","v":"SM2"}]
["ob",37784,"Thorsten","Quantz","MGC Heringen 1997",{"$f":"CONCATENATE(VLOOKUP(A2670,bangolf_kategorien!$A$2:$B$11,2,FALSE),\": \",D2670,\", \",C2670)","v":"SM1: Quantz, Thorsten"},{"$f":"VLOOKUP(A2670,bangolf_kategorien!$A$2:$B$11,2,FALSE)","v":"SM1"}]
["hv",22150,"Andreas","Quelle","BSV 86 München",{"$f":"CONCATENATE(VLOOKUP(A2671,bangolf_kategorien!$A$2:$B$11,2,FALSE),\": \",D2671,\", \",C2671)","v":"SM2: Quelle, Andreas"},{"$f":"VLOOKUP(A2671,bangolf_kategorien!$A$2:$B$11,2,FALSE)","v":"SM2"}]
["ob",38420,"Martin","Quickels","MGC Rot-Weiß Wanne-Eickel",{"$f":"CONCATENATE(VLOOKUP(A2672,bangolf_kategorien!$A$2:$B$11,2,FALSE),\": \",D2672,\", \",C2672)","v":"SM1: Quickels, Martin"},{"$f":"VLOOKUP(A2672,bangolf_kategorien!$A$2:$B$11,2,FALSE)","v":"SM1"}]
["dv",61546,"Ruth","Quitsch","SV Lurup Abt. Bahnengolf",{"$f":"CONCATENATE(VLOOKUP(A2673,bangolf_kategorien!$A$2:$B$11,2,FALSE),\": \",D2673,\", \",C2673)","v":"SW2: Quitsch, Ruth"},{"$f":"VLOOKUP(A2673,bangolf_kategorien!$A$2:$B$11,2,FALSE)","v":"SW2"}]
["hv",62816,"Sieghardt","Quitsch","SV Lurup Abt. Bahnengolf",{"$f":"CONCATENATE(VLOOKUP(A2674,bangolf_kategorien!$A$2:$B$11,2,FALSE),\": \",D2674,\", \",C2674)","v":"SM2: Quitsch, Sieghardt"},{"$f":"VLOOKUP(A2674,bangolf_kategorien!$A$2:$B$11,2,FALSE)","v":"SM2"}]
["hv",66373,"Dieter","Rach","1. MGC Paderborn",{"$f":"CONCATENATE(VLOOKUP(A2675,bangolf_kategorien!$A$2:$B$11,2,FALSE),\": \",D2675,\", \",C2675)","v":"SM2: Rach, Dieter"},{"$f":"VLOOKUP(A2675,bangolf_kategorien!$A$2:$B$11,2,FALSE)","v":"SM2"}]
["ob",66551,"Armin","Rachl","MSG Kempten",{"$f":"CONCATENATE(VLOOKUP(A2676,bangolf_kategorien!$A$2:$B$11,2,FALSE),\": \",D2676,\", \",C2676)","v":"SM1: Rachl, Armin"},{"$f":"VLOOKUP(A2676,bangolf_kategorien!$A$2:$B$11,2,FALSE)","v":"SM1"}]
["og",66550,"Conny","Rachl","MSG Kempten",{"$f":"CONCATENATE(VLOOKUP(A2677,bangolf_kategorien!$A$2:$B$11,2,FALSE),\": \",D2677,\", \",C2677)","v":"SW1: Rachl, Conny"},{"$f":"VLOOKUP(A2677,bangolf_kategorien!$A$2:$B$11,2,FALSE)","v":"SW1"}]
["hs",66549,"Florian","Rachl","MSG Kempten",{"$f":"CONCATENATE(VLOOKUP(A2678,bangolf_kategorien!$A$2:$B$11,2,FALSE),\": \",D2678,\", \",C2678)","v":"H: Rachl, Florian"},{"$f":"VLOOKUP(A2678,bangolf_kategorien!$A$2:$B$11,2,FALSE)","v":"H"}]
["hs",38625,"Marcus","Rade","MGC \"AS\" Witten 1963",{"$f":"CONCATENATE(VLOOKUP(A2679,bangolf_kategorien!$A$2:$B$11,2,FALSE),\": \",D2679,\", \",C2679)","v":"H: Rade, Marcus"},{"$f":"VLOOKUP(A2679,bangolf_kategorien!$A$2:$B$11,2,FALSE)","v":"H"}]
["og",66862,"Birgit","Rademacher","MGC Rot-Weiß Wanne-Eickel",{"$f":"CONCATENATE(VLOOKUP(A2680,bangolf_kategorien!$A$2:$B$11,2,FALSE),\": \",D2680,\", \",C2680)","v":"SW1: Rademacher, Birgit"},{"$f":"VLOOKUP(A2680,bangolf_kategorien!$A$2:$B$11,2,FALSE)","v":"SW1"}]
["fa",66861,"Lina","Rademacher","MGC Rot-Weiß Wanne-Eickel",{"$f":"CONCATENATE(VLOOKUP(A2681,bangolf_kategorien!$A$2:$B$11,2,FALSE),\": \",D2681,\", \",C2681)","v":"SCHW: Rademacher, Lina"},{"$f":"VLOOKUP(A2681,bangolf_kategorien!$A$2:$B$11,2,FALSE)","v":"SCHW"}]
["hv",34051,"Wolfgang","Rademacher","1. MGC 1970 Göttingen",{"$f":"CONCATENATE(VLOOKUP(A2682,bangolf_kategorien!$A$2:$B$11,2,FALSE),\": \",D2682,\", \",C2682)","v":"SM2: Rademacher, Wolfgang"},{"$f":"VLOOKUP(A2682,bangolf_kategorien!$A$2:$B$11,2,FALSE)","v":"SM2"}]
["dv",37656,"Sonja","Radocaj","MSK Olching",{"$f":"CONCATENATE(VLOOKUP(A2683,bangolf_kategorien!$A$2:$B$11,2,FALSE),\": \",D2683,\", \",C2683)","v":"SW2: Radocaj, Sonja"},{"$f":"VLOOKUP(A2683,bangolf_kategorien!$A$2:$B$11,2,FALSE)","v":"SW2"}]
["hv",4855,"Wolfgang","Radtke","MGC Rot-Weiß Wanne-Eickel",{"$f":"CONCATENATE(VLOOKUP(A2684,bangolf_kategorien!$A$2:$B$11,2,FALSE),\": \",D2684,\", \",C2684)","v":"SM2: Radtke, Wolfgang"},{"$f":"VLOOKUP(A2684,bangolf_kategorien!$A$2:$B$11,2,FALSE)","v":"SM2"}]
["ob",48343,"Mark","Radziejewski","MGC putter Künzell 1970",{"$f":"CONCATENATE(VLOOKUP(A2685,bangolf_kategorien!$A$2:$B$11,2,FALSE),\": \",D2685,\", \",C2685)","v":"SM1: Radziejewski, Mark"},{"$f":"VLOOKUP(A2685,bangolf_kategorien!$A$2:$B$11,2,FALSE)","v":"SM1"}]
["hs",36793,"Dustin","Raffler","1. Essener CGC \"Blau-Gold\"",{"$f":"CONCATENATE(VLOOKUP(A2686,bangolf_kategorien!$A$2:$B$11,2,FALSE),\": \",D2686,\", \",C2686)","v":"H: Raffler, Dustin"},{"$f":"VLOOKUP(A2686,bangolf_kategorien!$A$2:$B$11,2,FALSE)","v":"H"}]
["hv",10650,"Walther","Raffler","1. Essener CGC \"Blau-Gold\"",{"$f":"CONCATENATE(VLOOKUP(A2687,bangolf_kategorien!$A$2:$B$11,2,FALSE),\": \",D2687,\", \",C2687)","v":"SM2: Raffler, Walther"},{"$f":"VLOOKUP(A2687,bangolf_kategorien!$A$2:$B$11,2,FALSE)","v":"SM2"}]
["hs",31752,"Timur","Rahman","MGC putter Künzell 1970",{"$f":"CONCATENATE(VLOOKUP(A2688,bangolf_kategorien!$A$2:$B$11,2,FALSE),\": \",D2688,\", \",C2688)","v":"H: Rahman, Timur"},{"$f":"VLOOKUP(A2688,bangolf_kategorien!$A$2:$B$11,2,FALSE)","v":"H"}]
["dv",4654,"Brunhilde","Rahmlow","SV Lurup Abt. Bahnengolf",{"$f":"CONCATENATE(VLOOKUP(A2689,bangolf_kategorien!$A$2:$B$11,2,FALSE),\": \",D2689,\", \",C2689)","v":"SW2: Rahmlow, Brunhilde"},{"$f":"VLOOKUP(A2689,bangolf_kategorien!$A$2:$B$11,2,FALSE)","v":"SW2"}]
["ob",66633,"Wolfgang","Raimann","MGC Bergisch Gladbach Gierath",{"$f":"CONCATENATE(VLOOKUP(A2690,bangolf_kategorien!$A$2:$B$11,2,FALSE),\": \",D2690,\", \",C2690)","v":"SM1: Raimann, Wolfgang"},{"$f":"VLOOKUP(A2690,bangolf_kategorien!$A$2:$B$11,2,FALSE)","v":"SM1"}]
["ds",27206,"Bianca","Raith","MGC Oberkochen",{"$f":"CONCATENATE(VLOOKUP(A2691,bangolf_kategorien!$A$2:$B$11,2,FALSE),\": \",D2691,\", \",C2691)","v":"D: Raith, Bianca"},{"$f":"VLOOKUP(A2691,bangolf_kategorien!$A$2:$B$11,2,FALSE)","v":"D"}]
["ob",43192,"Richard","Raith","MGC Oberkochen",{"$f":"CONCATENATE(VLOOKUP(A2692,bangolf_kategorien!$A$2:$B$11,2,FALSE),\": \",D2692,\", \",C2692)","v":"SM1: Raith, Richard"},{"$f":"VLOOKUP(A2692,bangolf_kategorien!$A$2:$B$11,2,FALSE)","v":"SM1"}]
["hs",32862,"Tobias","Ramcke","MC Tigers Künsebeck",{"$f":"CONCATENATE(VLOOKUP(A2693,bangolf_kategorien!$A$2:$B$11,2,FALSE),\": \",D2693,\", \",C2693)","v":"H: Ramcke, Tobias"},{"$f":"VLOOKUP(A2693,bangolf_kategorien!$A$2:$B$11,2,FALSE)","v":"H"}]
["hs",37213,"René","Ramming","BGC Bad Berneck",{"$f":"CONCATENATE(VLOOKUP(A2694,bangolf_kategorien!$A$2:$B$11,2,FALSE),\": \",D2694,\", \",C2694)","v":"H: Ramming, René"},{"$f":"VLOOKUP(A2694,bangolf_kategorien!$A$2:$B$11,2,FALSE)","v":"H"}]
["hv",45764,"Eduard","Rankel","MGC Bad Bodendorf",{"$f":"CONCATENATE(VLOOKUP(A2695,bangolf_kategorien!$A$2:$B$11,2,FALSE),\": \",D2695,\", \",C2695)","v":"SM2: Rankel, Eduard"},{"$f":"VLOOKUP(A2695,bangolf_kategorien!$A$2:$B$11,2,FALSE)","v":"SM2"}]
["hv",37655,"Roland","Ranzinger","MGC Ingolstadt",{"$f":"CONCATENATE(VLOOKUP(A2696,bangolf_kategorien!$A$2:$B$11,2,FALSE),\": \",D2696,\", \",C2696)","v":"SM2: Ranzinger, Roland"},{"$f":"VLOOKUP(A2696,bangolf_kategorien!$A$2:$B$11,2,FALSE)","v":"SM2"}]
["hv",44276,"Michael","Rapp","MGF Hammer",{"$f":"CONCATENATE(VLOOKUP(A2697,bangolf_kategorien!$A$2:$B$11,2,FALSE),\": \",D2697,\", \",C2697)","v":"SM2: Rapp, Michael"},{"$f":"VLOOKUP(A2697,bangolf_kategorien!$A$2:$B$11,2,FALSE)","v":"SM2"}]
["hs",44728,"Benjamin","Raschke","BGC Bremen",{"$f":"CONCATENATE(VLOOKUP(A2698,bangolf_kategorien!$A$2:$B$11,2,FALSE),\": \",D2698,\", \",C2698)","v":"H: Raschke, Benjamin"},{"$f":"VLOOKUP(A2698,bangolf_kategorien!$A$2:$B$11,2,FALSE)","v":"H"}]
["ob",66379,"Jörg","Raschke","Biskirchener BGV",{"$f":"CONCATENATE(VLOOKUP(A2699,bangolf_kategorien!$A$2:$B$11,2,FALSE),\": \",D2699,\", \",C2699)","v":"SM1: Raschke, Jörg"},{"$f":"VLOOKUP(A2699,bangolf_kategorien!$A$2:$B$11,2,FALSE)","v":"SM1"}]
["hs",36567,"Marcel","Raschke","BGC Diepholz",{"$f":"CONCATENATE(VLOOKUP(A2700,bangolf_kategorien!$A$2:$B$11,2,FALSE),\": \",D2700,\", \",C2700)","v":"H: Raschke, Marcel"},{"$f":"VLOOKUP(A2700,bangolf_kategorien!$A$2:$B$11,2,FALSE)","v":"H"}]
["ds",884,"Isabell","Raschke-Dejoks","BGC Diepholz",{"$f":"CONCATENATE(VLOOKUP(A2701,bangolf_kategorien!$A$2:$B$11,2,FALSE),\": \",D2701,\", \",C2701)","v":"D: Raschke-Dejoks, Isabell"},{"$f":"VLOOKUP(A2701,bangolf_kategorien!$A$2:$B$11,2,FALSE)","v":"D"}]
["dv",34086,"Claudia","Rassler","Minigolfunion Neviges-Odenthal 1968",{"$f":"CONCATENATE(VLOOKUP(A2702,bangolf_kategorien!$A$2:$B$11,2,FALSE),\": \",D2702,\", \",C2702)","v":"SW2: Rassler, Claudia"},{"$f":"VLOOKUP(A2702,bangolf_kategorien!$A$2:$B$11,2,FALSE)","v":"SW2"}]
["hv",34099,"Gerhard","Rassler","Minigolfunion Neviges-Odenthal 1968",{"$f":"CONCATENATE(VLOOKUP(A2703,bangolf_kategorien!$A$2:$B$11,2,FALSE),\": \",D2703,\", \",C2703)","v":"SM2: Rassler, Gerhard"},{"$f":"VLOOKUP(A2703,bangolf_kategorien!$A$2:$B$11,2,FALSE)","v":"SM2"}]
["pa",67309,"Lucas","Rastetter","1. CGC Blau-Gelb Grötzingen",{"$f":"CONCATENATE(VLOOKUP(A2704,bangolf_kategorien!$A$2:$B$11,2,FALSE),\": \",D2704,\", \",C2704)","v":"SCHM: Rastetter, Lucas"},{"$f":"VLOOKUP(A2704,bangolf_kategorien!$A$2:$B$11,2,FALSE)","v":"SCHM"}]
["hv",65851,"Robert","Rastetter","Minigolf Wölfe Rheinstetten 02",{"$f":"CONCATENATE(VLOOKUP(A2705,bangolf_kategorien!$A$2:$B$11,2,FALSE),\": \",D2705,\", \",C2705)","v":"SM2: Rastetter, Robert"},{"$f":"VLOOKUP(A2705,bangolf_kategorien!$A$2:$B$11,2,FALSE)","v":"SM2"}]
["ob",31213,"Thomas","Rastetter","1. CGC Blau-Gelb Grötzingen",{"$f":"CONCATENATE(VLOOKUP(A2706,bangolf_kategorien!$A$2:$B$11,2,FALSE),\": \",D2706,\", \",C2706)","v":"SM1: Rastetter, Thomas"},{"$f":"VLOOKUP(A2706,bangolf_kategorien!$A$2:$B$11,2,FALSE)","v":"SM1"}]
["ds",35541,"Yvonne","Rastetter","1. CGC Blau-Gelb Grötzingen",{"$f":"CONCATENATE(VLOOKUP(A2707,bangolf_kategorien!$A$2:$B$11,2,FALSE),\": \",D2707,\", \",C2707)","v":"D: Rastetter, Yvonne"},{"$f":"VLOOKUP(A2707,bangolf_kategorien!$A$2:$B$11,2,FALSE)","v":"D"}]
["og",43263,"Elke","Rath","SG Arheilgen Abt. Bahnengolf",{"$f":"CONCATENATE(VLOOKUP(A2708,bangolf_kategorien!$A$2:$B$11,2,FALSE),\": \",D2708,\", \",C2708)","v":"SW1: Rath, Elke"},{"$f":"VLOOKUP(A2708,bangolf_kategorien!$A$2:$B$11,2,FALSE)","v":"SW1"}]
["ob",65824,"Markus","Rath","BGC Goslar",{"$f":"CONCATENATE(VLOOKUP(A2709,bangolf_kategorien!$A$2:$B$11,2,FALSE),\": \",D2709,\", \",C2709)","v":"SM1: Rath, Markus"},{"$f":"VLOOKUP(A2709,bangolf_kategorien!$A$2:$B$11,2,FALSE)","v":"SM1"}]
["ob",23693,"Udo","Rathje","MGC Olympia Kiel",{"$f":"CONCATENATE(VLOOKUP(A2710,bangolf_kategorien!$A$2:$B$11,2,FALSE),\": \",D2710,\", \",C2710)","v":"SM1: Rathje, Udo"},{"$f":"VLOOKUP(A2710,bangolf_kategorien!$A$2:$B$11,2,FALSE)","v":"SM1"}]
["ob",51902,"Oliver","Rathjens","1. MSC Wesel 6.6.1966",{"$f":"CONCATENATE(VLOOKUP(A2711,bangolf_kategorien!$A$2:$B$11,2,FALSE),\": \",D2711,\", \",C2711)","v":"SM1: Rathjens, Oliver"},{"$f":"VLOOKUP(A2711,bangolf_kategorien!$A$2:$B$11,2,FALSE)","v":"SM1"}]
["ds",67138,"Eva","Rättig","BGC Goslar",{"$f":"CONCATENATE(VLOOKUP(A2712,bangolf_kategorien!$A$2:$B$11,2,FALSE),\": \",D2712,\", \",C2712)","v":"D: Rättig, Eva"},{"$f":"VLOOKUP(A2712,bangolf_kategorien!$A$2:$B$11,2,FALSE)","v":"D"}]
["ob",42343,"Josef","Rauch","MGC Ingolstadt",{"$f":"CONCATENATE(VLOOKUP(A2713,bangolf_kategorien!$A$2:$B$11,2,FALSE),\": \",D2713,\", \",C2713)","v":"SM1: Rauch, Josef"},{"$f":"VLOOKUP(A2713,bangolf_kategorien!$A$2:$B$11,2,FALSE)","v":"SM1"}]
["hs",26213,"Stephan","Rauh-Buchwald","BGC Illertissen",{"$f":"CONCATENATE(VLOOKUP(A2714,bangolf_kategorien!$A$2:$B$11,2,FALSE),\": \",D2714,\", \",C2714)","v":"H: Rauh-Buchwald, Stephan"},{"$f":"VLOOKUP(A2714,bangolf_kategorien!$A$2:$B$11,2,FALSE)","v":"H"}]
["ds",3108884,"Ann-Kathrin","Rausch","Hobby",{"$f":"CONCATENATE(VLOOKUP(A2715,bangolf_kategorien!$A$2:$B$11,2,FALSE),\": \",D2715,\", \",C2715)","v":"D: Rausch, Ann-Kathrin"},{"$f":"VLOOKUP(A2715,bangolf_kategorien!$A$2:$B$11,2,FALSE)","v":"D"}]
["ob",42585,"Martin","Rausch","MGC putter Künzell 1970",{"$f":"CONCATENATE(VLOOKUP(A2716,bangolf_kategorien!$A$2:$B$11,2,FALSE),\": \",D2716,\", \",C2716)","v":"SM1: Rausch, Martin"},{"$f":"VLOOKUP(A2716,bangolf_kategorien!$A$2:$B$11,2,FALSE)","v":"SM1"}]
["hv",47353,"Joachim","Rautenberg","MGC Heven",{"$f":"CONCATENATE(VLOOKUP(A2717,bangolf_kategorien!$A$2:$B$11,2,FALSE),\": \",D2717,\", \",C2717)","v":"SM2: Rautenberg, Joachim"},{"$f":"VLOOKUP(A2717,bangolf_kategorien!$A$2:$B$11,2,FALSE)","v":"SM2"}]
["ob",66721,"Stefan","Rebstock","Hamburger MC von 1965",{"$f":"CONCATENATE(VLOOKUP(A2718,bangolf_kategorien!$A$2:$B$11,2,FALSE),\": \",D2718,\", \",C2718)","v":"SM1: Rebstock, Stefan"},{"$f":"VLOOKUP(A2718,bangolf_kategorien!$A$2:$B$11,2,FALSE)","v":"SM1"}]
["ob",37325,"Jens","Rechenmacher","VfB Osnabrück",{"$f":"CONCATENATE(VLOOKUP(A2719,bangolf_kategorien!$A$2:$B$11,2,FALSE),\": \",D2719,\", \",C2719)","v":"SM1: Rechenmacher, Jens"},{"$f":"VLOOKUP(A2719,bangolf_kategorien!$A$2:$B$11,2,FALSE)","v":"SM1"}]
["ds",36015,"Kerstin","Reder","TSV Kücknitz Abt. Bahnengolf",{"$f":"CONCATENATE(VLOOKUP(A2720,bangolf_kategorien!$A$2:$B$11,2,FALSE),\": \",D2720,\", \",C2720)","v":"D: Reder, Kerstin"},{"$f":"VLOOKUP(A2720,bangolf_kategorien!$A$2:$B$11,2,FALSE)","v":"D"}]
["ob",50224,"Andreas","Reese","MSK Neheim-Hüsten",{"$f":"CONCATENATE(VLOOKUP(A2721,bangolf_kategorien!$A$2:$B$11,2,FALSE),\": \",D2721,\", \",C2721)","v":"SM1: Reese, Andreas"},{"$f":"VLOOKUP(A2721,bangolf_kategorien!$A$2:$B$11,2,FALSE)","v":"SM1"}]
["og",37501,"Maike","Reese","MGC Felderbachtal 1964",{"$f":"CONCATENATE(VLOOKUP(A2722,bangolf_kategorien!$A$2:$B$11,2,FALSE),\": \",D2722,\", \",C2722)","v":"SW1: Reese, Maike"},{"$f":"VLOOKUP(A2722,bangolf_kategorien!$A$2:$B$11,2,FALSE)","v":"SW1"}]
["hv",6208,"Bernd","Reh","BGS Hardenberg-Pötter",{"$f":"CONCATENATE(VLOOKUP(A2723,bangolf_kategorien!$A$2:$B$11,2,FALSE),\": \",D2723,\", \",C2723)","v":"SM2: Reh, Bernd"},{"$f":"VLOOKUP(A2723,bangolf_kategorien!$A$2:$B$11,2,FALSE)","v":"SM2"}]
["ob",43640,"Norbert","Rehfeld","BGV Bergisch Land 1962 / 63",{"$f":"CONCATENATE(VLOOKUP(A2724,bangolf_kategorien!$A$2:$B$11,2,FALSE),\": \",D2724,\", \",C2724)","v":"SM1: Rehfeld, Norbert"},{"$f":"VLOOKUP(A2724,bangolf_kategorien!$A$2:$B$11,2,FALSE)","v":"SM1"}]
["hs",38078,"Marcel","Rehm","MGC Rot-Weiß Wanne-Eickel",{"$f":"CONCATENATE(VLOOKUP(A2725,bangolf_kategorien!$A$2:$B$11,2,FALSE),\": \",D2725,\", \",C2725)","v":"H: Rehm, Marcel"},{"$f":"VLOOKUP(A2725,bangolf_kategorien!$A$2:$B$11,2,FALSE)","v":"H"}]
["hv",44515,"Klaus","Rehse","1. MGC Paderborn",{"$f":"CONCATENATE(VLOOKUP(A2726,bangolf_kategorien!$A$2:$B$11,2,FALSE),\": \",D2726,\", \",C2726)","v":"SM2: Rehse, Klaus"},{"$f":"VLOOKUP(A2726,bangolf_kategorien!$A$2:$B$11,2,FALSE)","v":"SM2"}]
["og",34994,"Sabine","Rehse","BGSC Bochum 1978",{"$f":"CONCATENATE(VLOOKUP(A2727,bangolf_kategorien!$A$2:$B$11,2,FALSE),\": \",D2727,\", \",C2727)","v":"SW1: Rehse, Sabine"},{"$f":"VLOOKUP(A2727,bangolf_kategorien!$A$2:$B$11,2,FALSE)","v":"SW1"}]
["hs",65945,"Alexander","Reich","1. BGC Landshut",{"$f":"CONCATENATE(VLOOKUP(A2728,bangolf_kategorien!$A$2:$B$11,2,FALSE),\": \",D2728,\", \",C2728)","v":"H: Reich, Alexander"},{"$f":"VLOOKUP(A2728,bangolf_kategorien!$A$2:$B$11,2,FALSE)","v":"H"}]
["hs",32470,"Matthias","Reiche","1. BGC Leipzig",{"$f":"CONCATENATE(VLOOKUP(A2729,bangolf_kategorien!$A$2:$B$11,2,FALSE),\": \",D2729,\", \",C2729)","v":"H: Reiche, Matthias"},{"$f":"VLOOKUP(A2729,bangolf_kategorien!$A$2:$B$11,2,FALSE)","v":"H"}]
["hv",34731,"Michael","Reichert","MGC Unterschneidheim",{"$f":"CONCATENATE(VLOOKUP(A2730,bangolf_kategorien!$A$2:$B$11,2,FALSE),\": \",D2730,\", \",C2730)","v":"SM2: Reichert, Michael"},{"$f":"VLOOKUP(A2730,bangolf_kategorien!$A$2:$B$11,2,FALSE)","v":"SM2"}]
["ob",40054,"Thomas","Reichert","TV Niederstetten 1862  Abt. Minigolf",{"$f":"CONCATENATE(VLOOKUP(A2731,bangolf_kategorien!$A$2:$B$11,2,FALSE),\": \",D2731,\", \",C2731)","v":"SM1: Reichert, Thomas"},{"$f":"VLOOKUP(A2731,bangolf_kategorien!$A$2:$B$11,2,FALSE)","v":"SM1"}]
["pa",67023,"Ben","Reichle","BSV Inzlingen 1979",{"$f":"CONCATENATE(VLOOKUP(A2732,bangolf_kategorien!$A$2:$B$11,2,FALSE),\": \",D2732,\", \",C2732)","v":"SCHM: Reichle, Ben"},{"$f":"VLOOKUP(A2732,bangolf_kategorien!$A$2:$B$11,2,FALSE)","v":"SCHM"}]
["ob",42375,"Dirk","Reichle","1. MGC Ladenburg",{"$f":"CONCATENATE(VLOOKUP(A2733,bangolf_kategorien!$A$2:$B$11,2,FALSE),\": \",D2733,\", \",C2733)","v":"SM1: Reichle, Dirk"},{"$f":"VLOOKUP(A2733,bangolf_kategorien!$A$2:$B$11,2,FALSE)","v":"SM1"}]
["dv",32876,"Heidi","Reichle","BSV Inzlingen 1979",{"$f":"CONCATENATE(VLOOKUP(A2734,bangolf_kategorien!$A$2:$B$11,2,FALSE),\": \",D2734,\", \",C2734)","v":"SW2: Reichle, Heidi"},{"$f":"VLOOKUP(A2734,bangolf_kategorien!$A$2:$B$11,2,FALSE)","v":"SW2"}]
["hs",26125,"Matthias","Reichle","BSV Inzlingen 1979",{"$f":"CONCATENATE(VLOOKUP(A2735,bangolf_kategorien!$A$2:$B$11,2,FALSE),\": \",D2735,\", \",C2735)","v":"H: Reichle, Matthias"},{"$f":"VLOOKUP(A2735,bangolf_kategorien!$A$2:$B$11,2,FALSE)","v":"H"}]
["hs",43382,"Stefan","Reichle","BSV Inzlingen 1979",{"$f":"CONCATENATE(VLOOKUP(A2736,bangolf_kategorien!$A$2:$B$11,2,FALSE),\": \",D2736,\", \",C2736)","v":"H: Reichle, Stefan"},{"$f":"VLOOKUP(A2736,bangolf_kategorien!$A$2:$B$11,2,FALSE)","v":"H"}]
["hv",3975,"Urs","Reichle","BSV Inzlingen 1979",{"$f":"CONCATENATE(VLOOKUP(A2737,bangolf_kategorien!$A$2:$B$11,2,FALSE),\": \",D2737,\", \",C2737)","v":"SM2: Reichle, Urs"},{"$f":"VLOOKUP(A2737,bangolf_kategorien!$A$2:$B$11,2,FALSE)","v":"SM2"}]
["ob",67490,"Sascha","Reiff","1. MGC Bamberg",{"$f":"CONCATENATE(VLOOKUP(A2738,bangolf_kategorien!$A$2:$B$11,2,FALSE),\": \",D2738,\", \",C2738)","v":"SM1: Reiff, Sascha"},{"$f":"VLOOKUP(A2738,bangolf_kategorien!$A$2:$B$11,2,FALSE)","v":"SM1"}]
["pa",67550,"Leon","Reim","MGC Wetzlar",{"$f":"CONCATENATE(VLOOKUP(A2739,bangolf_kategorien!$A$2:$B$11,2,FALSE),\": \",D2739,\", \",C2739)","v":"SCHM: Reim, Leon"},{"$f":"VLOOKUP(A2739,bangolf_kategorien!$A$2:$B$11,2,FALSE)","v":"SCHM"}]
["ob",46907,"Jens","Reimann","SV Glückauf 1901 Gebhardshagen",{"$f":"CONCATENATE(VLOOKUP(A2740,bangolf_kategorien!$A$2:$B$11,2,FALSE),\": \",D2740,\", \",C2740)","v":"SM1: Reimann, Jens"},{"$f":"VLOOKUP(A2740,bangolf_kategorien!$A$2:$B$11,2,FALSE)","v":"SM1"}]
["dv",17220,"Inge","Reimer","VfM Bottrop",{"$f":"CONCATENATE(VLOOKUP(A2741,bangolf_kategorien!$A$2:$B$11,2,FALSE),\": \",D2741,\", \",C2741)","v":"SW2: Reimer, Inge"},{"$f":"VLOOKUP(A2741,bangolf_kategorien!$A$2:$B$11,2,FALSE)","v":"SW2"}]
["hv",18172,"Werner","Reimer","VfM Bottrop",{"$f":"CONCATENATE(VLOOKUP(A2742,bangolf_kategorien!$A$2:$B$11,2,FALSE),\": \",D2742,\", \",C2742)","v":"SM2: Reimer, Werner"},{"$f":"VLOOKUP(A2742,bangolf_kategorien!$A$2:$B$11,2,FALSE)","v":"SM2"}]
["ob",40617,"Franz","Reimling","MC Ilvesheim",{"$f":"CONCATENATE(VLOOKUP(A2743,bangolf_kategorien!$A$2:$B$11,2,FALSE),\": \",D2743,\", \",C2743)","v":"SM1: Reimling, Franz"},{"$f":"VLOOKUP(A2743,bangolf_kategorien!$A$2:$B$11,2,FALSE)","v":"SM1"}]
["hs",49312,"Andy","Rein","1. MGC Ludwigshafen",{"$f":"CONCATENATE(VLOOKUP(A2744,bangolf_kategorien!$A$2:$B$11,2,FALSE),\": \",D2744,\", \",C2744)","v":"H: Rein, Andy"},{"$f":"VLOOKUP(A2744,bangolf_kategorien!$A$2:$B$11,2,FALSE)","v":"H"}]
["fa",66993,"Leonie","Rein","1. MGC Ludwigshafen",{"$f":"CONCATENATE(VLOOKUP(A2745,bangolf_kategorien!$A$2:$B$11,2,FALSE),\": \",D2745,\", \",C2745)","v":"SCHW: Rein, Leonie"},{"$f":"VLOOKUP(A2745,bangolf_kategorien!$A$2:$B$11,2,FALSE)","v":"SCHW"}]
["hv",6215,"Franz-Josef","Reinartz","1.KGC Mönchengladbach",{"$f":"CONCATENATE(VLOOKUP(A2746,bangolf_kategorien!$A$2:$B$11,2,FALSE),\": \",D2746,\", \",C2746)","v":"SM2: Reinartz, Franz-Josef"},{"$f":"VLOOKUP(A2746,bangolf_kategorien!$A$2:$B$11,2,FALSE)","v":"SM2"}]
["dv",3211285,"Monika","Reiners","Hobby",{"$f":"CONCATENATE(VLOOKUP(A2747,bangolf_kategorien!$A$2:$B$11,2,FALSE),\": \",D2747,\", \",C2747)","v":"SW2: Reiners, Monika"},{"$f":"VLOOKUP(A2747,bangolf_kategorien!$A$2:$B$11,2,FALSE)","v":"SW2"}]
["hs",67337,"André","Reinhardt","MGC Ostheim / Rhön",{"$f":"CONCATENATE(VLOOKUP(A2748,bangolf_kategorien!$A$2:$B$11,2,FALSE),\": \",D2748,\", \",C2748)","v":"H: Reinhardt, André"},{"$f":"VLOOKUP(A2748,bangolf_kategorien!$A$2:$B$11,2,FALSE)","v":"H"}]
["ob",36966,"Günther","Reinhardt","1. Essener CGC \"Blau-Gold\"",{"$f":"CONCATENATE(VLOOKUP(A2749,bangolf_kategorien!$A$2:$B$11,2,FALSE),\": \",D2749,\", \",C2749)","v":"SM1: Reinhardt, Günther"},{"$f":"VLOOKUP(A2749,bangolf_kategorien!$A$2:$B$11,2,FALSE)","v":"SM1"}]
["hv",6838,"Manfred","Reinhardt","BGC Heilbronn",{"$f":"CONCATENATE(VLOOKUP(A2750,bangolf_kategorien!$A$2:$B$11,2,FALSE),\": \",D2750,\", \",C2750)","v":"SM2: Reinhardt, Manfred"},{"$f":"VLOOKUP(A2750,bangolf_kategorien!$A$2:$B$11,2,FALSE)","v":"SM2"}]
["og",44862,"Andrea","Reinicke","MC \"Möve\" Cuxhaven-Sahlenburg",{"$f":"CONCATENATE(VLOOKUP(A2751,bangolf_kategorien!$A$2:$B$11,2,FALSE),\": \",D2751,\", \",C2751)","v":"SW1: Reinicke, Andrea"},{"$f":"VLOOKUP(A2751,bangolf_kategorien!$A$2:$B$11,2,FALSE)","v":"SW1"}]
["hv",42691,"Frank","Reinicke","MC \"Möve\" Cuxhaven-Sahlenburg",{"$f":"CONCATENATE(VLOOKUP(A2752,bangolf_kategorien!$A$2:$B$11,2,FALSE),\": \",D2752,\", \",C2752)","v":"SM2: Reinicke, Frank"},{"$f":"VLOOKUP(A2752,bangolf_kategorien!$A$2:$B$11,2,FALSE)","v":"SM2"}]
["hv",42690,"Michael","Reinicke","MC \"Möve\" Cuxhaven-Sahlenburg",{"$f":"CONCATENATE(VLOOKUP(A2753,bangolf_kategorien!$A$2:$B$11,2,FALSE),\": \",D2753,\", \",C2753)","v":"SM2: Reinicke, Michael"},{"$f":"VLOOKUP(A2753,bangolf_kategorien!$A$2:$B$11,2,FALSE)","v":"SM2"}]
["ds",49802,"Corina","Reinisch","BGC Neutraubling",{"$f":"CONCATENATE(VLOOKUP(A2754,bangolf_kategorien!$A$2:$B$11,2,FALSE),\": \",D2754,\", \",C2754)","v":"D: Reinisch, Corina"},{"$f":"VLOOKUP(A2754,bangolf_kategorien!$A$2:$B$11,2,FALSE)","v":"D"}]
["dv",4076,"Hildegard","Reinisch","BGC Neutraubling",{"$f":"CONCATENATE(VLOOKUP(A2755,bangolf_kategorien!$A$2:$B$11,2,FALSE),\": \",D2755,\", \",C2755)","v":"SW2: Reinisch, Hildegard"},{"$f":"VLOOKUP(A2755,bangolf_kategorien!$A$2:$B$11,2,FALSE)","v":"SW2"}]
["hv",4065,"Klaus","Reinisch","BGC Neutraubling",{"$f":"CONCATENATE(VLOOKUP(A2756,bangolf_kategorien!$A$2:$B$11,2,FALSE),\": \",D2756,\", \",C2756)","v":"SM2: Reinisch, Klaus"},{"$f":"VLOOKUP(A2756,bangolf_kategorien!$A$2:$B$11,2,FALSE)","v":"SM2"}]
["pa",64926,"Klaus Richard Friedrich","Reinisch","BGC Neutraubling",{"$f":"CONCATENATE(VLOOKUP(A2757,bangolf_kategorien!$A$2:$B$11,2,FALSE),\": \",D2757,\", \",C2757)","v":"SCHM: Reinisch, Klaus Richard Friedrich"},{"$f":"VLOOKUP(A2757,bangolf_kategorien!$A$2:$B$11,2,FALSE)","v":"SCHM"}]
["ob",43664,"Roman","Reinisch","BGC Neutraubling",{"$f":"CONCATENATE(VLOOKUP(A2758,bangolf_kategorien!$A$2:$B$11,2,FALSE),\": \",D2758,\", \",C2758)","v":"SM1: Reinisch, Roman"},{"$f":"VLOOKUP(A2758,bangolf_kategorien!$A$2:$B$11,2,FALSE)","v":"SM1"}]
["pa",63580,"Tim","Reinisch","BGC Neutraubling",{"$f":"CONCATENATE(VLOOKUP(A2759,bangolf_kategorien!$A$2:$B$11,2,FALSE),\": \",D2759,\", \",C2759)","v":"SCHM: Reinisch, Tim"},{"$f":"VLOOKUP(A2759,bangolf_kategorien!$A$2:$B$11,2,FALSE)","v":"SCHM"}]
["hv",50558,"Jürgen","Reinshagen","MGC Bergisch Gladbach Gierath",{"$f":"CONCATENATE(VLOOKUP(A2760,bangolf_kategorien!$A$2:$B$11,2,FALSE),\": \",D2760,\", \",C2760)","v":"SM2: Reinshagen, Jürgen"},{"$f":"VLOOKUP(A2760,bangolf_kategorien!$A$2:$B$11,2,FALSE)","v":"SM2"}]
["dv",4138,"Anneliese","Reisdorff","MGC Bad Bodendorf",{"$f":"CONCATENATE(VLOOKUP(A2761,bangolf_kategorien!$A$2:$B$11,2,FALSE),\": \",D2761,\", \",C2761)","v":"SW2: Reisdorff, Anneliese"},{"$f":"VLOOKUP(A2761,bangolf_kategorien!$A$2:$B$11,2,FALSE)","v":"SW2"}]
["hv",45515,"Hans","Reisdorff","MGC Bad Bodendorf",{"$f":"CONCATENATE(VLOOKUP(A2762,bangolf_kategorien!$A$2:$B$11,2,FALSE),\": \",D2762,\", \",C2762)","v":"SM2: Reisdorff, Hans"},{"$f":"VLOOKUP(A2762,bangolf_kategorien!$A$2:$B$11,2,FALSE)","v":"SM2"}]
["hs",48140,"Alexander","Reiss","BGC Illertissen",{"$f":"CONCATENATE(VLOOKUP(A2763,bangolf_kategorien!$A$2:$B$11,2,FALSE),\": \",D2763,\", \",C2763)","v":"H: Reiss, Alexander"},{"$f":"VLOOKUP(A2763,bangolf_kategorien!$A$2:$B$11,2,FALSE)","v":"H"}]
["ob",48968,"Wolfgang","Reiss","1. NMC Kelheim",{"$f":"CONCATENATE(VLOOKUP(A2764,bangolf_kategorien!$A$2:$B$11,2,FALSE),\": \",D2764,\", \",C2764)","v":"SM1: Reiss, Wolfgang"},{"$f":"VLOOKUP(A2764,bangolf_kategorien!$A$2:$B$11,2,FALSE)","v":"SM1"}]
["ds",33172,"Maria-Ina","Reißmann","MGV Eibenstock",{"$f":"CONCATENATE(VLOOKUP(A2765,bangolf_kategorien!$A$2:$B$11,2,FALSE),\": \",D2765,\", \",C2765)","v":"D: Reißmann, Maria-Ina"},{"$f":"VLOOKUP(A2765,bangolf_kategorien!$A$2:$B$11,2,FALSE)","v":"D"}]
["ob",32817,"Volkmar","Reißmann","MGV Eibenstock",{"$f":"CONCATENATE(VLOOKUP(A2766,bangolf_kategorien!$A$2:$B$11,2,FALSE),\": \",D2766,\", \",C2766)","v":"SM1: Reißmann, Volkmar"},{"$f":"VLOOKUP(A2766,bangolf_kategorien!$A$2:$B$11,2,FALSE)","v":"SM1"}]
["ds",66612,"Lea","Reitemeier","MGC Rot-Weiß Wanne-Eickel",{"$f":"CONCATENATE(VLOOKUP(A2767,bangolf_kategorien!$A$2:$B$11,2,FALSE),\": \",D2767,\", \",C2767)","v":"D: Reitemeier, Lea"},{"$f":"VLOOKUP(A2767,bangolf_kategorien!$A$2:$B$11,2,FALSE)","v":"D"}]
["hv",66613,"Michael","Reitemeier","MGC Rot-Weiß Wanne-Eickel",{"$f":"CONCATENATE(VLOOKUP(A2768,bangolf_kategorien!$A$2:$B$11,2,FALSE),\": \",D2768,\", \",C2768)","v":"SM2: Reitemeier, Michael"},{"$f":"VLOOKUP(A2768,bangolf_kategorien!$A$2:$B$11,2,FALSE)","v":"SM2"}]
["ob",45574,"Josef","Reiter","MGF Hammer",{"$f":"CONCATENATE(VLOOKUP(A2769,bangolf_kategorien!$A$2:$B$11,2,FALSE),\": \",D2769,\", \",C2769)","v":"SM1: Reiter, Josef"},{"$f":"VLOOKUP(A2769,bangolf_kategorien!$A$2:$B$11,2,FALSE)","v":"SM1"}]
["dv",18338,"Anni","Remscheidt","SSC Attendorn",{"$f":"CONCATENATE(VLOOKUP(A2770,bangolf_kategorien!$A$2:$B$11,2,FALSE),\": \",D2770,\", \",C2770)","v":"SW2: Remscheidt, Anni"},{"$f":"VLOOKUP(A2770,bangolf_kategorien!$A$2:$B$11,2,FALSE)","v":"SW2"}]
["hv",18339,"Klaus","Remscheidt","SSC Attendorn",{"$f":"CONCATENATE(VLOOKUP(A2771,bangolf_kategorien!$A$2:$B$11,2,FALSE),\": \",D2771,\", \",C2771)","v":"SM2: Remscheidt, Klaus"},{"$f":"VLOOKUP(A2771,bangolf_kategorien!$A$2:$B$11,2,FALSE)","v":"SM2"}]
["ob",51479,"Thomas","Remscheidt","SSC Attendorn",{"$f":"CONCATENATE(VLOOKUP(A2772,bangolf_kategorien!$A$2:$B$11,2,FALSE),\": \",D2772,\", \",C2772)","v":"SM1: Remscheidt, Thomas"},{"$f":"VLOOKUP(A2772,bangolf_kategorien!$A$2:$B$11,2,FALSE)","v":"SM1"}]
["hv",66850,"Uwe","Rennert","TSV 1848 Flöha",{"$f":"CONCATENATE(VLOOKUP(A2773,bangolf_kategorien!$A$2:$B$11,2,FALSE),\": \",D2773,\", \",C2773)","v":"SM2: Rennert, Uwe"},{"$f":"VLOOKUP(A2773,bangolf_kategorien!$A$2:$B$11,2,FALSE)","v":"SM2"}]
["og",46595,"Brigitte","Retzlaff","BIG ASPERG",{"$f":"CONCATENATE(VLOOKUP(A2774,bangolf_kategorien!$A$2:$B$11,2,FALSE),\": \",D2774,\", \",C2774)","v":"SW1: Retzlaff, Brigitte"},{"$f":"VLOOKUP(A2774,bangolf_kategorien!$A$2:$B$11,2,FALSE)","v":"SW1"}]
["ob",46579,"Manfred","Retzlaff","BIG ASPERG",{"$f":"CONCATENATE(VLOOKUP(A2775,bangolf_kategorien!$A$2:$B$11,2,FALSE),\": \",D2775,\", \",C2775)","v":"SM1: Retzlaff, Manfred"},{"$f":"VLOOKUP(A2775,bangolf_kategorien!$A$2:$B$11,2,FALSE)","v":"SM1"}]
["og",37449,"Brigitte","Reul","BGSV Bad Homburg",{"$f":"CONCATENATE(VLOOKUP(A2776,bangolf_kategorien!$A$2:$B$11,2,FALSE),\": \",D2776,\", \",C2776)","v":"SW1: Reul, Brigitte"},{"$f":"VLOOKUP(A2776,bangolf_kategorien!$A$2:$B$11,2,FALSE)","v":"SW1"}]
["hv",67011,"Kurt","Reuter","1. MGC Lohfelden 1997",{"$f":"CONCATENATE(VLOOKUP(A2777,bangolf_kategorien!$A$2:$B$11,2,FALSE),\": \",D2777,\", \",C2777)","v":"SM2: Reuter, Kurt"},{"$f":"VLOOKUP(A2777,bangolf_kategorien!$A$2:$B$11,2,FALSE)","v":"SM2"}]
["pa",66774,"Raphael","Reuter","1. MGC Lohfelden 1997",{"$f":"CONCATENATE(VLOOKUP(A2778,bangolf_kategorien!$A$2:$B$11,2,FALSE),\": \",D2778,\", \",C2778)","v":"SCHM: Reuter, Raphael"},{"$f":"VLOOKUP(A2778,bangolf_kategorien!$A$2:$B$11,2,FALSE)","v":"SCHM"}]
["hs",66656,"Michel","Rhyn","SG Arheilgen Abt. Bahnengolf",{"$f":"CONCATENATE(VLOOKUP(A2779,bangolf_kategorien!$A$2:$B$11,2,FALSE),\": \",D2779,\", \",C2779)","v":"H: Rhyn, Michel"},{"$f":"VLOOKUP(A2779,bangolf_kategorien!$A$2:$B$11,2,FALSE)","v":"H"}]
["hv",67476,"Hans","Ribbeck","BGC Oberhausen",{"$f":"CONCATENATE(VLOOKUP(A2780,bangolf_kategorien!$A$2:$B$11,2,FALSE),\": \",D2780,\", \",C2780)","v":"SM2: Ribbeck, Hans"},{"$f":"VLOOKUP(A2780,bangolf_kategorien!$A$2:$B$11,2,FALSE)","v":"SM2"}]
["hs",34628,"Ilario","Ricci","1. BGC Wolfsburg",{"$f":"CONCATENATE(VLOOKUP(A2781,bangolf_kategorien!$A$2:$B$11,2,FALSE),\": \",D2781,\", \",C2781)","v":"H: Ricci, Ilario"},{"$f":"VLOOKUP(A2781,bangolf_kategorien!$A$2:$B$11,2,FALSE)","v":"H"}]
["ob",27886,"Andreas","Richard","1. MGC Süßen",{"$f":"CONCATENATE(VLOOKUP(A2782,bangolf_kategorien!$A$2:$B$11,2,FALSE),\": \",D2782,\", \",C2782)","v":"SM1: Richard, Andreas"},{"$f":"VLOOKUP(A2782,bangolf_kategorien!$A$2:$B$11,2,FALSE)","v":"SM1"}]
["hs",37042,"Andreas","Richard jun.","MGC Schwaikheim",{"$f":"CONCATENATE(VLOOKUP(A2783,bangolf_kategorien!$A$2:$B$11,2,FALSE),\": \",D2783,\", \",C2783)","v":"H: Richard jun., Andreas"},{"$f":"VLOOKUP(A2783,bangolf_kategorien!$A$2:$B$11,2,FALSE)","v":"H"}]
["og",31089,"Anja","Richter","BGC Uerdingen",{"$f":"CONCATENATE(VLOOKUP(A2784,bangolf_kategorien!$A$2:$B$11,2,FALSE),\": \",D2784,\", \",C2784)","v":"SW1: Richter, Anja"},{"$f":"VLOOKUP(A2784,bangolf_kategorien!$A$2:$B$11,2,FALSE)","v":"SW1"}]
["hs",34904,"Mike","Richter","MGV Eibenstock",{"$f":"CONCATENATE(VLOOKUP(A2785,bangolf_kategorien!$A$2:$B$11,2,FALSE),\": \",D2785,\", \",C2785)","v":"H: Richter, Mike"},{"$f":"VLOOKUP(A2785,bangolf_kategorien!$A$2:$B$11,2,FALSE)","v":"H"}]
["hv",47480,"Siegfried","Richter","1.KGC Mönchengladbach",{"$f":"CONCATENATE(VLOOKUP(A2786,bangolf_kategorien!$A$2:$B$11,2,FALSE),\": \",D2786,\", \",C2786)","v":"SM2: Richter, Siegfried"},{"$f":"VLOOKUP(A2786,bangolf_kategorien!$A$2:$B$11,2,FALSE)","v":"SM2"}]
["hs",65809,"Tobias","Richter","1. MC Weinheim",{"$f":"CONCATENATE(VLOOKUP(A2787,bangolf_kategorien!$A$2:$B$11,2,FALSE),\": \",D2787,\", \",C2787)","v":"H: Richter, Tobias"},{"$f":"VLOOKUP(A2787,bangolf_kategorien!$A$2:$B$11,2,FALSE)","v":"H"}]
["dv",3149,"Helga","Riebeling","1. MC Weinheim",{"$f":"CONCATENATE(VLOOKUP(A2788,bangolf_kategorien!$A$2:$B$11,2,FALSE),\": \",D2788,\", \",C2788)","v":"SW2: Riebeling, Helga"},{"$f":"VLOOKUP(A2788,bangolf_kategorien!$A$2:$B$11,2,FALSE)","v":"SW2"}]
["og",31071,"Pia","Riebesam","HMC Büttgen",{"$f":"CONCATENATE(VLOOKUP(A2789,bangolf_kategorien!$A$2:$B$11,2,FALSE),\": \",D2789,\", \",C2789)","v":"SW1: Riebesam, Pia"},{"$f":"VLOOKUP(A2789,bangolf_kategorien!$A$2:$B$11,2,FALSE)","v":"SW1"}]
["ob",43517,"Mirko","Riecken","MC Flora Elmshorn",{"$f":"CONCATENATE(VLOOKUP(A2790,bangolf_kategorien!$A$2:$B$11,2,FALSE),\": \",D2790,\", \",C2790)","v":"SM1: Riecken, Mirko"},{"$f":"VLOOKUP(A2790,bangolf_kategorien!$A$2:$B$11,2,FALSE)","v":"SM1"}]
["ob",43376,"Kurt","Riedel","1. MGC Tuttlingen",{"$f":"CONCATENATE(VLOOKUP(A2791,bangolf_kategorien!$A$2:$B$11,2,FALSE),\": \",D2791,\", \",C2791)","v":"SM1: Riedel, Kurt"},{"$f":"VLOOKUP(A2791,bangolf_kategorien!$A$2:$B$11,2,FALSE)","v":"SM1"}]
["ob",43372,"Ralf","Riedel","1. MGC Tuttlingen",{"$f":"CONCATENATE(VLOOKUP(A2792,bangolf_kategorien!$A$2:$B$11,2,FALSE),\": \",D2792,\", \",C2792)","v":"SM1: Riedel, Ralf"},{"$f":"VLOOKUP(A2792,bangolf_kategorien!$A$2:$B$11,2,FALSE)","v":"SM1"}]
["hv",43350,"Wolfgang","Rieder","MGF Waldshut 74",{"$f":"CONCATENATE(VLOOKUP(A2793,bangolf_kategorien!$A$2:$B$11,2,FALSE),\": \",D2793,\", \",C2793)","v":"SM2: Rieder, Wolfgang"},{"$f":"VLOOKUP(A2793,bangolf_kategorien!$A$2:$B$11,2,FALSE)","v":"SM2"}]
["dv",43435,"Elisabeth","Riedl","1. MGC Mitterteich-Großbüchlberg",{"$f":"CONCATENATE(VLOOKUP(A2794,bangolf_kategorien!$A$2:$B$11,2,FALSE),\": \",D2794,\", \",C2794)","v":"SW2: Riedl, Elisabeth"},{"$f":"VLOOKUP(A2794,bangolf_kategorien!$A$2:$B$11,2,FALSE)","v":"SW2"}]
["hs",66700,"Niklas","Riedlinger","1. MGC Hechingen",{"$f":"CONCATENATE(VLOOKUP(A2795,bangolf_kategorien!$A$2:$B$11,2,FALSE),\": \",D2795,\", \",C2795)","v":"H: Riedlinger, Niklas"},{"$f":"VLOOKUP(A2795,bangolf_kategorien!$A$2:$B$11,2,FALSE)","v":"H"}]
["hv",67369,"Fred","Riegel","Tempelhofer MV Berlin",{"$f":"CONCATENATE(VLOOKUP(A2796,bangolf_kategorien!$A$2:$B$11,2,FALSE),\": \",D2796,\", \",C2796)","v":"SM2: Riegel, Fred"},{"$f":"VLOOKUP(A2796,bangolf_kategorien!$A$2:$B$11,2,FALSE)","v":"SM2"}]
["ob",66239,"Erik","Rieger","MGC Bad Soden-Salmünster",{"$f":"CONCATENATE(VLOOKUP(A2797,bangolf_kategorien!$A$2:$B$11,2,FALSE),\": \",D2797,\", \",C2797)","v":"SM1: Rieger, Erik"},{"$f":"VLOOKUP(A2797,bangolf_kategorien!$A$2:$B$11,2,FALSE)","v":"SM1"}]
["ob",34059,"Ulf","Rieger","SSC Attendorn",{"$f":"CONCATENATE(VLOOKUP(A2798,bangolf_kategorien!$A$2:$B$11,2,FALSE),\": \",D2798,\", \",C2798)","v":"SM1: Rieger, Ulf"},{"$f":"VLOOKUP(A2798,bangolf_kategorien!$A$2:$B$11,2,FALSE)","v":"SM1"}]
["hs",67519,"Mike","Riehl","1. MGC Mainz",{"$f":"CONCATENATE(VLOOKUP(A2799,bangolf_kategorien!$A$2:$B$11,2,FALSE),\": \",D2799,\", \",C2799)","v":"H: Riehl, Mike"},{"$f":"VLOOKUP(A2799,bangolf_kategorien!$A$2:$B$11,2,FALSE)","v":"H"}]
["ds",67518,"Susanne","Riehl","1. MGC Mainz",{"$f":"CONCATENATE(VLOOKUP(A2800,bangolf_kategorien!$A$2:$B$11,2,FALSE),\": \",D2800,\", \",C2800)","v":"D: Riehl, Susanne"},{"$f":"VLOOKUP(A2800,bangolf_kategorien!$A$2:$B$11,2,FALSE)","v":"D"}]
["ob",31344,"Markus","Rieker","1. MGC Tuttlingen",{"$f":"CONCATENATE(VLOOKUP(A2801,bangolf_kategorien!$A$2:$B$11,2,FALSE),\": \",D2801,\", \",C2801)","v":"SM1: Rieker, Markus"},{"$f":"VLOOKUP(A2801,bangolf_kategorien!$A$2:$B$11,2,FALSE)","v":"SM1"}]
["ob",41463,"Carsten","Riemann","1. MGC 1970 Göttingen",{"$f":"CONCATENATE(VLOOKUP(A2802,bangolf_kategorien!$A$2:$B$11,2,FALSE),\": \",D2802,\", \",C2802)","v":"SM1: Riemann, Carsten"},{"$f":"VLOOKUP(A2802,bangolf_kategorien!$A$2:$B$11,2,FALSE)","v":"SM1"}]
["og",66493,"Karin","Riemann","MGC Bad Salzuflen",{"$f":"CONCATENATE(VLOOKUP(A2803,bangolf_kategorien!$A$2:$B$11,2,FALSE),\": \",D2803,\", \",C2803)","v":"SW1: Riemann, Karin"},{"$f":"VLOOKUP(A2803,bangolf_kategorien!$A$2:$B$11,2,FALSE)","v":"SW1"}]
["hv",66494,"Lothar","Riemann","MGC Bad Salzuflen",{"$f":"CONCATENATE(VLOOKUP(A2804,bangolf_kategorien!$A$2:$B$11,2,FALSE),\": \",D2804,\", \",C2804)","v":"SM2: Riemann, Lothar"},{"$f":"VLOOKUP(A2804,bangolf_kategorien!$A$2:$B$11,2,FALSE)","v":"SM2"}]
["og",42684,"Susanne","Riemann","1. MGC Kassel 1964",{"$f":"CONCATENATE(VLOOKUP(A2805,bangolf_kategorien!$A$2:$B$11,2,FALSE),\": \",D2805,\", \",C2805)","v":"SW1: Riemann, Susanne"},{"$f":"VLOOKUP(A2805,bangolf_kategorien!$A$2:$B$11,2,FALSE)","v":"SW1"}]
["ob",36048,"Klaus","Riepe","MGC Harrislee-Wassersleben",{"$f":"CONCATENATE(VLOOKUP(A2806,bangolf_kategorien!$A$2:$B$11,2,FALSE),\": \",D2806,\", \",C2806)","v":"SM1: Riepe, Klaus"},{"$f":"VLOOKUP(A2806,bangolf_kategorien!$A$2:$B$11,2,FALSE)","v":"SM1"}]
["hv",6783,"Karl-Ludwig","Ries","MSV Bad Kreuznach",{"$f":"CONCATENATE(VLOOKUP(A2807,bangolf_kategorien!$A$2:$B$11,2,FALSE),\": \",D2807,\", \",C2807)","v":"SM2: Ries, Karl-Ludwig"},{"$f":"VLOOKUP(A2807,bangolf_kategorien!$A$2:$B$11,2,FALSE)","v":"SM2"}]
["dv",33348,"Anke","Riesbeck","Preetzer TSV von 1861 Abt. Minigolf",{"$f":"CONCATENATE(VLOOKUP(A2808,bangolf_kategorien!$A$2:$B$11,2,FALSE),\": \",D2808,\", \",C2808)","v":"SW2: Riesbeck, Anke"},{"$f":"VLOOKUP(A2808,bangolf_kategorien!$A$2:$B$11,2,FALSE)","v":"SW2"}]
["hv",42608,"Ulrich","Riesenbeck","1.KGC Mönchengladbach",{"$f":"CONCATENATE(VLOOKUP(A2809,bangolf_kategorien!$A$2:$B$11,2,FALSE),\": \",D2809,\", \",C2809)","v":"SM2: Riesenbeck, Ulrich"},{"$f":"VLOOKUP(A2809,bangolf_kategorien!$A$2:$B$11,2,FALSE)","v":"SM2"}]
["hs",66619,"Ole","Riewe","TG Höchberg von 1862 Bahnengolf",{"$f":"CONCATENATE(VLOOKUP(A2810,bangolf_kategorien!$A$2:$B$11,2,FALSE),\": \",D2810,\", \",C2810)","v":"H: Riewe, Ole"},{"$f":"VLOOKUP(A2810,bangolf_kategorien!$A$2:$B$11,2,FALSE)","v":"H"}]
["hv",37236,"Karl","Ring","MGC Unterschneidheim",{"$f":"CONCATENATE(VLOOKUP(A2811,bangolf_kategorien!$A$2:$B$11,2,FALSE),\": \",D2811,\", \",C2811)","v":"SM2: Ring, Karl"},{"$f":"VLOOKUP(A2811,bangolf_kategorien!$A$2:$B$11,2,FALSE)","v":"SM2"}]
["hv",42965,"Norbert","Ring","HMC Büttgen",{"$f":"CONCATENATE(VLOOKUP(A2812,bangolf_kategorien!$A$2:$B$11,2,FALSE),\": \",D2812,\", \",C2812)","v":"SM2: Ring, Norbert"},{"$f":"VLOOKUP(A2812,bangolf_kategorien!$A$2:$B$11,2,FALSE)","v":"SM2"}]
["hs",29539,"Daniel","Ringes","HMC Büttgen",{"$f":"CONCATENATE(VLOOKUP(A2813,bangolf_kategorien!$A$2:$B$11,2,FALSE),\": \",D2813,\", \",C2813)","v":"H: Ringes, Daniel"},{"$f":"VLOOKUP(A2813,bangolf_kategorien!$A$2:$B$11,2,FALSE)","v":"H"}]
["og",38262,"Angelika Pia","Ringler","1. MGC Tuttlingen",{"$f":"CONCATENATE(VLOOKUP(A2814,bangolf_kategorien!$A$2:$B$11,2,FALSE),\": \",D2814,\", \",C2814)","v":"SW1: Ringler, Angelika Pia"},{"$f":"VLOOKUP(A2814,bangolf_kategorien!$A$2:$B$11,2,FALSE)","v":"SW1"}]
["hs",31221,"Andreas","Ringshandl","1. NMC Kelheim",{"$f":"CONCATENATE(VLOOKUP(A2815,bangolf_kategorien!$A$2:$B$11,2,FALSE),\": \",D2815,\", \",C2815)","v":"H: Ringshandl, Andreas"},{"$f":"VLOOKUP(A2815,bangolf_kategorien!$A$2:$B$11,2,FALSE)","v":"H"}]
["hs",3194190,"André","Rinke","Hobby",{"$f":"CONCATENATE(VLOOKUP(A2816,bangolf_kategorien!$A$2:$B$11,2,FALSE),\": \",D2816,\", \",C2816)","v":"H: Rinke, André"},{"$f":"VLOOKUP(A2816,bangolf_kategorien!$A$2:$B$11,2,FALSE)","v":"H"}]
["hv",48112,"Walter","Rinke","MC Flora Elmshorn",{"$f":"CONCATENATE(VLOOKUP(A2817,bangolf_kategorien!$A$2:$B$11,2,FALSE),\": \",D2817,\", \",C2817)","v":"SM2: Rinke, Walter"},{"$f":"VLOOKUP(A2817,bangolf_kategorien!$A$2:$B$11,2,FALSE)","v":"SM2"}]
["hs",66410,"Lukas","Rinker","MGC Wetzlar",{"$f":"CONCATENATE(VLOOKUP(A2818,bangolf_kategorien!$A$2:$B$11,2,FALSE),\": \",D2818,\", \",C2818)","v":"H: Rinker, Lukas"},{"$f":"VLOOKUP(A2818,bangolf_kategorien!$A$2:$B$11,2,FALSE)","v":"H"}]
["ob",37587,"Hans-Werner","Rischar","1. MGC Saar 68 St. Ingbert",{"$f":"CONCATENATE(VLOOKUP(A2819,bangolf_kategorien!$A$2:$B$11,2,FALSE),\": \",D2819,\", \",C2819)","v":"SM1: Rischar, Hans-Werner"},{"$f":"VLOOKUP(A2819,bangolf_kategorien!$A$2:$B$11,2,FALSE)","v":"SM1"}]
["hs",37586,"Joshua","Rischar","1. MGC Saar 68 St. Ingbert",{"$f":"CONCATENATE(VLOOKUP(A2820,bangolf_kategorien!$A$2:$B$11,2,FALSE),\": \",D2820,\", \",C2820)","v":"H: Rischar, Joshua"},{"$f":"VLOOKUP(A2820,bangolf_kategorien!$A$2:$B$11,2,FALSE)","v":"H"}]
["ob",65974,"Oliver","Rissling","MGC Bergisch Gladbach Gierath",{"$f":"CONCATENATE(VLOOKUP(A2821,bangolf_kategorien!$A$2:$B$11,2,FALSE),\": \",D2821,\", \",C2821)","v":"SM1: Rissling, Oliver"},{"$f":"VLOOKUP(A2821,bangolf_kategorien!$A$2:$B$11,2,FALSE)","v":"SM1"}]
["hs",38165,"Florian","Ristow","MGC 85 Bönnigheim",{"$f":"CONCATENATE(VLOOKUP(A2822,bangolf_kategorien!$A$2:$B$11,2,FALSE),\": \",D2822,\", \",C2822)","v":"H: Ristow, Florian"},{"$f":"VLOOKUP(A2822,bangolf_kategorien!$A$2:$B$11,2,FALSE)","v":"H"}]
["hv",38371,"Wolfgang","Ristow","1. MGC Paderborn",{"$f":"CONCATENATE(VLOOKUP(A2823,bangolf_kategorien!$A$2:$B$11,2,FALSE),\": \",D2823,\", \",C2823)","v":"SM2: Ristow, Wolfgang"},{"$f":"VLOOKUP(A2823,bangolf_kategorien!$A$2:$B$11,2,FALSE)","v":"SM2"}]
["hv",38544,"Klaus","Ritschel","MGC \"Stahlquelle\" Bad Bocklet",{"$f":"CONCATENATE(VLOOKUP(A2824,bangolf_kategorien!$A$2:$B$11,2,FALSE),\": \",D2824,\", \",C2824)","v":"SM2: Ritschel, Klaus"},{"$f":"VLOOKUP(A2824,bangolf_kategorien!$A$2:$B$11,2,FALSE)","v":"SM2"}]
["hs",33975,"Michael","Ritschel","Miniaturgolf Sportclub Schriesheim",{"$f":"CONCATENATE(VLOOKUP(A2825,bangolf_kategorien!$A$2:$B$11,2,FALSE),\": \",D2825,\", \",C2825)","v":"H: Ritschel, Michael"},{"$f":"VLOOKUP(A2825,bangolf_kategorien!$A$2:$B$11,2,FALSE)","v":"H"}]
["hv",5020,"Reiner","Ritschel","Miniaturgolf Sportclub Schriesheim",{"$f":"CONCATENATE(VLOOKUP(A2826,bangolf_kategorien!$A$2:$B$11,2,FALSE),\": \",D2826,\", \",C2826)","v":"SM2: Ritschel, Reiner"},{"$f":"VLOOKUP(A2826,bangolf_kategorien!$A$2:$B$11,2,FALSE)","v":"SM2"}]
["og",36284,"Claudia","Ritschmann","BGC Heilbronn",{"$f":"CONCATENATE(VLOOKUP(A2827,bangolf_kategorien!$A$2:$B$11,2,FALSE),\": \",D2827,\", \",C2827)","v":"SW1: Ritschmann, Claudia"},{"$f":"VLOOKUP(A2827,bangolf_kategorien!$A$2:$B$11,2,FALSE)","v":"SW1"}]
["ob",36285,"Uwe","Ritschmann","BGC Heilbronn",{"$f":"CONCATENATE(VLOOKUP(A2828,bangolf_kategorien!$A$2:$B$11,2,FALSE),\": \",D2828,\", \",C2828)","v":"SM1: Ritschmann, Uwe"},{"$f":"VLOOKUP(A2828,bangolf_kategorien!$A$2:$B$11,2,FALSE)","v":"SM1"}]
["hs",66773,"Sascha","Ritterbusch","1. MGC Kassel 1964",{"$f":"CONCATENATE(VLOOKUP(A2829,bangolf_kategorien!$A$2:$B$11,2,FALSE),\": \",D2829,\", \",C2829)","v":"H: Ritterbusch, Sascha"},{"$f":"VLOOKUP(A2829,bangolf_kategorien!$A$2:$B$11,2,FALSE)","v":"H"}]
["ob",44193,"Thorsten","Ritz","BGSC \"Gut Schlag\" Gladbeck",{"$f":"CONCATENATE(VLOOKUP(A2830,bangolf_kategorien!$A$2:$B$11,2,FALSE),\": \",D2830,\", \",C2830)","v":"SM1: Ritz, Thorsten"},{"$f":"VLOOKUP(A2830,bangolf_kategorien!$A$2:$B$11,2,FALSE)","v":"SM1"}]
["ob",43368,"Andreas","Ritzert","MC Ilvesheim",{"$f":"CONCATENATE(VLOOKUP(A2831,bangolf_kategorien!$A$2:$B$11,2,FALSE),\": \",D2831,\", \",C2831)","v":"SM1: Ritzert, Andreas"},{"$f":"VLOOKUP(A2831,bangolf_kategorien!$A$2:$B$11,2,FALSE)","v":"SM1"}]
["og",42533,"Bettina","Ritzert","MC Ilvesheim",{"$f":"CONCATENATE(VLOOKUP(A2832,bangolf_kategorien!$A$2:$B$11,2,FALSE),\": \",D2832,\", \",C2832)","v":"SW1: Ritzert, Bettina"},{"$f":"VLOOKUP(A2832,bangolf_kategorien!$A$2:$B$11,2,FALSE)","v":"SW1"}]
["dv",33395,"Eva","Rochel","SGC Hagen",{"$f":"CONCATENATE(VLOOKUP(A2833,bangolf_kategorien!$A$2:$B$11,2,FALSE),\": \",D2833,\", \",C2833)","v":"SW2: Rochel, Eva"},{"$f":"VLOOKUP(A2833,bangolf_kategorien!$A$2:$B$11,2,FALSE)","v":"SW2"}]
["ob",66915,"Jens","Rockstroh","TSV 1848 Flöha",{"$f":"CONCATENATE(VLOOKUP(A2834,bangolf_kategorien!$A$2:$B$11,2,FALSE),\": \",D2834,\", \",C2834)","v":"SM1: Rockstroh, Jens"},{"$f":"VLOOKUP(A2834,bangolf_kategorien!$A$2:$B$11,2,FALSE)","v":"SM1"}]
["hv",49852,"Detlef","Rode","SV Lurup Abt. Bahnengolf",{"$f":"CONCATENATE(VLOOKUP(A2835,bangolf_kategorien!$A$2:$B$11,2,FALSE),\": \",D2835,\", \",C2835)","v":"SM2: Rode, Detlef"},{"$f":"VLOOKUP(A2835,bangolf_kategorien!$A$2:$B$11,2,FALSE)","v":"SM2"}]
["hs",66037,"Andreas","Rödig","MGC Bad Feilnbach",{"$f":"CONCATENATE(VLOOKUP(A2836,bangolf_kategorien!$A$2:$B$11,2,FALSE),\": \",D2836,\", \",C2836)","v":"H: Rödig, Andreas"},{"$f":"VLOOKUP(A2836,bangolf_kategorien!$A$2:$B$11,2,FALSE)","v":"H"}]
["hv",19330,"Peter","Rödiger","MGC Wetzlar",{"$f":"CONCATENATE(VLOOKUP(A2837,bangolf_kategorien!$A$2:$B$11,2,FALSE),\": \",D2837,\", \",C2837)","v":"SM2: Rödiger, Peter"},{"$f":"VLOOKUP(A2837,bangolf_kategorien!$A$2:$B$11,2,FALSE)","v":"SM2"}]
["hs",34792,"Timo","Roessler","1. MGC Metzingen",{"$f":"CONCATENATE(VLOOKUP(A2838,bangolf_kategorien!$A$2:$B$11,2,FALSE),\": \",D2838,\", \",C2838)","v":"H: Roessler, Timo"},{"$f":"VLOOKUP(A2838,bangolf_kategorien!$A$2:$B$11,2,FALSE)","v":"H"}]
["hv",66856,"Heinz-Friedrich","Rogall","MGC Felderbachtal 1964",{"$f":"CONCATENATE(VLOOKUP(A2839,bangolf_kategorien!$A$2:$B$11,2,FALSE),\": \",D2839,\", \",C2839)","v":"SM2: Rogall, Heinz-Friedrich"},{"$f":"VLOOKUP(A2839,bangolf_kategorien!$A$2:$B$11,2,FALSE)","v":"SM2"}]
["ob",37470,"Thomas","Rogge","MV Lankwitzer Dragons",{"$f":"CONCATENATE(VLOOKUP(A2840,bangolf_kategorien!$A$2:$B$11,2,FALSE),\": \",D2840,\", \",C2840)","v":"SM1: Rogge, Thomas"},{"$f":"VLOOKUP(A2840,bangolf_kategorien!$A$2:$B$11,2,FALSE)","v":"SM1"}]
["hs",66697,"Jens","Rogler","Minigolfclub Karlshagen",{"$f":"CONCATENATE(VLOOKUP(A2841,bangolf_kategorien!$A$2:$B$11,2,FALSE),\": \",D2841,\", \",C2841)","v":"H: Rogler, Jens"},{"$f":"VLOOKUP(A2841,bangolf_kategorien!$A$2:$B$11,2,FALSE)","v":"H"}]
["hv",43860,"Uwe","Rohard","MGC Brunsbüttel",{"$f":"CONCATENATE(VLOOKUP(A2842,bangolf_kategorien!$A$2:$B$11,2,FALSE),\": \",D2842,\", \",C2842)","v":"SM2: Rohard, Uwe"},{"$f":"VLOOKUP(A2842,bangolf_kategorien!$A$2:$B$11,2,FALSE)","v":"SM2"}]
["hs",36873,"Dennis","Rohde","TSV Kücknitz Abt. Bahnengolf",{"$f":"CONCATENATE(VLOOKUP(A2843,bangolf_kategorien!$A$2:$B$11,2,FALSE),\": \",D2843,\", \",C2843)","v":"H: Rohde, Dennis"},{"$f":"VLOOKUP(A2843,bangolf_kategorien!$A$2:$B$11,2,FALSE)","v":"H"}]
["hv",33429,"Gerhard","Röhl","TSV Arendsee",{"$f":"CONCATENATE(VLOOKUP(A2844,bangolf_kategorien!$A$2:$B$11,2,FALSE),\": \",D2844,\", \",C2844)","v":"SM2: Röhl, Gerhard"},{"$f":"VLOOKUP(A2844,bangolf_kategorien!$A$2:$B$11,2,FALSE)","v":"SM2"}]
["og",67110,"Sabine","Röhrl","MSK Olching",{"$f":"CONCATENATE(VLOOKUP(A2845,bangolf_kategorien!$A$2:$B$11,2,FALSE),\": \",D2845,\", \",C2845)","v":"SW1: Röhrl, Sabine"},{"$f":"VLOOKUP(A2845,bangolf_kategorien!$A$2:$B$11,2,FALSE)","v":"SW1"}]
["hv",67310,"Peter","Roland","MC \"Möve\" Cuxhaven-Sahlenburg",{"$f":"CONCATENATE(VLOOKUP(A2846,bangolf_kategorien!$A$2:$B$11,2,FALSE),\": \",D2846,\", \",C2846)","v":"SM2: Roland, Peter"},{"$f":"VLOOKUP(A2846,bangolf_kategorien!$A$2:$B$11,2,FALSE)","v":"SM2"}]
["hv",19228,"Karlheinz","Roller","1. MGC Metzingen",{"$f":"CONCATENATE(VLOOKUP(A2847,bangolf_kategorien!$A$2:$B$11,2,FALSE),\": \",D2847,\", \",C2847)","v":"SM2: Roller, Karlheinz"},{"$f":"VLOOKUP(A2847,bangolf_kategorien!$A$2:$B$11,2,FALSE)","v":"SM2"}]
["ob",42632,"Joachim","Romano","1. BGC Bad Füssing",{"$f":"CONCATENATE(VLOOKUP(A2848,bangolf_kategorien!$A$2:$B$11,2,FALSE),\": \",D2848,\", \",C2848)","v":"SM1: Romano, Joachim"},{"$f":"VLOOKUP(A2848,bangolf_kategorien!$A$2:$B$11,2,FALSE)","v":"SM1"}]
["dj",65875,"Yelyzaveta","Romanyak","MSK Neheim-Hüsten",{"$f":"CONCATENATE(VLOOKUP(A2849,bangolf_kategorien!$A$2:$B$11,2,FALSE),\": \",D2849,\", \",C2849)","v":"JW: Romanyak, Yelyzaveta"},{"$f":"VLOOKUP(A2849,bangolf_kategorien!$A$2:$B$11,2,FALSE)","v":"JW"}]
["ob",44981,"Michael","Romberg","MGC Freizeitzentrum Biebertal",{"$f":"CONCATENATE(VLOOKUP(A2850,bangolf_kategorien!$A$2:$B$11,2,FALSE),\": \",D2850,\", \",C2850)","v":"SM1: Romberg, Michael"},{"$f":"VLOOKUP(A2850,bangolf_kategorien!$A$2:$B$11,2,FALSE)","v":"SM1"}]
["dv",25686,"Silvia","Romberg","BGC Schloß Paffendorf",{"$f":"CONCATENATE(VLOOKUP(A2851,bangolf_kategorien!$A$2:$B$11,2,FALSE),\": \",D2851,\", \",C2851)","v":"SW2: Romberg, Silvia"},{"$f":"VLOOKUP(A2851,bangolf_kategorien!$A$2:$B$11,2,FALSE)","v":"SW2"}]
["hv",6616,"Wolfgang","Romberg","BGC Schloß Paffendorf",{"$f":"CONCATENATE(VLOOKUP(A2852,bangolf_kategorien!$A$2:$B$11,2,FALSE),\": \",D2852,\", \",C2852)","v":"SM2: Romberg, Wolfgang"},{"$f":"VLOOKUP(A2852,bangolf_kategorien!$A$2:$B$11,2,FALSE)","v":"SM2"}]
["ds",34766,"Yvonne","Romberg","MGC Freizeitzentrum Biebertal",{"$f":"CONCATENATE(VLOOKUP(A2853,bangolf_kategorien!$A$2:$B$11,2,FALSE),\": \",D2853,\", \",C2853)","v":"D: Romberg, Yvonne"},{"$f":"VLOOKUP(A2853,bangolf_kategorien!$A$2:$B$11,2,FALSE)","v":"D"}]
["ob",37427,"Stephan","Römer","BGS Hardenberg-Pötter",{"$f":"CONCATENATE(VLOOKUP(A2854,bangolf_kategorien!$A$2:$B$11,2,FALSE),\": \",D2854,\", \",C2854)","v":"SM1: Römer, Stephan"},{"$f":"VLOOKUP(A2854,bangolf_kategorien!$A$2:$B$11,2,FALSE)","v":"SM1"}]
["hs",16911,"Wolfgang","Romero","MSC Bad Godesberg",{"$f":"CONCATENATE(VLOOKUP(A2855,bangolf_kategorien!$A$2:$B$11,2,FALSE),\": \",D2855,\", \",C2855)","v":"H: Romero, Wolfgang"},{"$f":"VLOOKUP(A2855,bangolf_kategorien!$A$2:$B$11,2,FALSE)","v":"H"}]
["dv",3354390,"Anneliese","Roosmann-Diecks","Hobby",{"$f":"CONCATENATE(VLOOKUP(A2856,bangolf_kategorien!$A$2:$B$11,2,FALSE),\": \",D2856,\", \",C2856)","v":"SW2: Roosmann-Diecks, Anneliese"},{"$f":"VLOOKUP(A2856,bangolf_kategorien!$A$2:$B$11,2,FALSE)","v":"SW2"}]
["hs",67431,"Cedric","Rörig","SSC Attendorn",{"$f":"CONCATENATE(VLOOKUP(A2857,bangolf_kategorien!$A$2:$B$11,2,FALSE),\": \",D2857,\", \",C2857)","v":"H: Rörig, Cedric"},{"$f":"VLOOKUP(A2857,bangolf_kategorien!$A$2:$B$11,2,FALSE)","v":"H"}]
["hs",34251,"Dennis","Rosburg","MC Flora Elmshorn",{"$f":"CONCATENATE(VLOOKUP(A2858,bangolf_kategorien!$A$2:$B$11,2,FALSE),\": \",D2858,\", \",C2858)","v":"H: Rosburg, Dennis"},{"$f":"VLOOKUP(A2858,bangolf_kategorien!$A$2:$B$11,2,FALSE)","v":"H"}]
["hv",24416,"Martin","Rösch","1. NMC Kelheim",{"$f":"CONCATENATE(VLOOKUP(A2859,bangolf_kategorien!$A$2:$B$11,2,FALSE),\": \",D2859,\", \",C2859)","v":"SM2: Rösch, Martin"},{"$f":"VLOOKUP(A2859,bangolf_kategorien!$A$2:$B$11,2,FALSE)","v":"SM2"}]
["hs",38635,"Benjamin","Rose","BGC Dormagen",{"$f":"CONCATENATE(VLOOKUP(A2860,bangolf_kategorien!$A$2:$B$11,2,FALSE),\": \",D2860,\", \",C2860)","v":"H: Rose, Benjamin"},{"$f":"VLOOKUP(A2860,bangolf_kategorien!$A$2:$B$11,2,FALSE)","v":"H"}]
["dv",38636,"Heidemarie","Rose","BGC Dormagen",{"$f":"CONCATENATE(VLOOKUP(A2861,bangolf_kategorien!$A$2:$B$11,2,FALSE),\": \",D2861,\", \",C2861)","v":"SW2: Rose, Heidemarie"},{"$f":"VLOOKUP(A2861,bangolf_kategorien!$A$2:$B$11,2,FALSE)","v":"SW2"}]
["hv",65915,"Karl-Wilhelm","Rose","BGC Dormagen",{"$f":"CONCATENATE(VLOOKUP(A2862,bangolf_kategorien!$A$2:$B$11,2,FALSE),\": \",D2862,\", \",C2862)","v":"SM2: Rose, Karl-Wilhelm"},{"$f":"VLOOKUP(A2862,bangolf_kategorien!$A$2:$B$11,2,FALSE)","v":"SM2"}]
["hs",35849,"Christian","Roselieb","1. BGC Wolfsburg",{"$f":"CONCATENATE(VLOOKUP(A2863,bangolf_kategorien!$A$2:$B$11,2,FALSE),\": \",D2863,\", \",C2863)","v":"H: Roselieb, Christian"},{"$f":"VLOOKUP(A2863,bangolf_kategorien!$A$2:$B$11,2,FALSE)","v":"H"}]
["hv",35850,"Manfred","Roselieb","1. MGC 1970 Göttingen",{"$f":"CONCATENATE(VLOOKUP(A2864,bangolf_kategorien!$A$2:$B$11,2,FALSE),\": \",D2864,\", \",C2864)","v":"SM2: Roselieb, Manfred"},{"$f":"VLOOKUP(A2864,bangolf_kategorien!$A$2:$B$11,2,FALSE)","v":"SM2"}]
["ob",35560,"Axel","Rosemann","Minigolfunion Neviges-Odenthal 1968",{"$f":"CONCATENATE(VLOOKUP(A2865,bangolf_kategorien!$A$2:$B$11,2,FALSE),\": \",D2865,\", \",C2865)","v":"SM1: Rosemann, Axel"},{"$f":"VLOOKUP(A2865,bangolf_kategorien!$A$2:$B$11,2,FALSE)","v":"SM1"}]
["ds",33650,"Marina","Rosenbach","MGC Traben-Trarbach",{"$f":"CONCATENATE(VLOOKUP(A2866,bangolf_kategorien!$A$2:$B$11,2,FALSE),\": \",D2866,\", \",C2866)","v":"D: Rosenbach, Marina"},{"$f":"VLOOKUP(A2866,bangolf_kategorien!$A$2:$B$11,2,FALSE)","v":"D"}]
["hv",38213,"Uwe","Rosenbaum","MGF Magdeburg 1995",{"$f":"CONCATENATE(VLOOKUP(A2867,bangolf_kategorien!$A$2:$B$11,2,FALSE),\": \",D2867,\", \",C2867)","v":"SM2: Rosenbaum, Uwe"},{"$f":"VLOOKUP(A2867,bangolf_kategorien!$A$2:$B$11,2,FALSE)","v":"SM2"}]
["hv",66634,"Willi","Rosenberger","MSV Würzburg-Löwenbrücke",{"$f":"CONCATENATE(VLOOKUP(A2868,bangolf_kategorien!$A$2:$B$11,2,FALSE),\": \",D2868,\", \",C2868)","v":"SM2: Rosenberger, Willi"},{"$f":"VLOOKUP(A2868,bangolf_kategorien!$A$2:$B$11,2,FALSE)","v":"SM2"}]
["ob",29032,"Detlev","Rösener","MSK Neheim-Hüsten",{"$f":"CONCATENATE(VLOOKUP(A2869,bangolf_kategorien!$A$2:$B$11,2,FALSE),\": \",D2869,\", \",C2869)","v":"SM1: Rösener, Detlev"},{"$f":"VLOOKUP(A2869,bangolf_kategorien!$A$2:$B$11,2,FALSE)","v":"SM1"}]
["dv",3522,"Ingeborg","Rosenkranz","OMGC Ingolstadt",{"$f":"CONCATENATE(VLOOKUP(A2870,bangolf_kategorien!$A$2:$B$11,2,FALSE),\": \",D2870,\", \",C2870)","v":"SW2: Rosenkranz, Ingeborg"},{"$f":"VLOOKUP(A2870,bangolf_kategorien!$A$2:$B$11,2,FALSE)","v":"SW2"}]
["hv",3194206,"Peter","Rosnau","Hobby",{"$f":"CONCATENATE(VLOOKUP(A2871,bangolf_kategorien!$A$2:$B$11,2,FALSE),\": \",D2871,\", \",C2871)","v":"SM2: Rosnau, Peter"},{"$f":"VLOOKUP(A2871,bangolf_kategorien!$A$2:$B$11,2,FALSE)","v":"SM2"}]
["hv",36949,"Roland","Rösner","MGC Bad Feilnbach",{"$f":"CONCATENATE(VLOOKUP(A2872,bangolf_kategorien!$A$2:$B$11,2,FALSE),\": \",D2872,\", \",C2872)","v":"SM2: Rösner, Roland"},{"$f":"VLOOKUP(A2872,bangolf_kategorien!$A$2:$B$11,2,FALSE)","v":"SM2"}]
["hs",31044,"Markus","Roßmeier","1. BGC Bad Füssing",{"$f":"CONCATENATE(VLOOKUP(A2873,bangolf_kategorien!$A$2:$B$11,2,FALSE),\": \",D2873,\", \",C2873)","v":"H: Roßmeier, Markus"},{"$f":"VLOOKUP(A2873,bangolf_kategorien!$A$2:$B$11,2,FALSE)","v":"H"}]
["hs",67414,"Stefan","Rotenstein","1. MGC Peine von 1965",{"$f":"CONCATENATE(VLOOKUP(A2874,bangolf_kategorien!$A$2:$B$11,2,FALSE),\": \",D2874,\", \",C2874)","v":"H: Rotenstein, Stefan"},{"$f":"VLOOKUP(A2874,bangolf_kategorien!$A$2:$B$11,2,FALSE)","v":"H"}]
["hv",38248,"Jürgen","Rotermund","1. BGC Celle von 1964",{"$f":"CONCATENATE(VLOOKUP(A2875,bangolf_kategorien!$A$2:$B$11,2,FALSE),\": \",D2875,\", \",C2875)","v":"SM2: Rotermund, Jürgen"},{"$f":"VLOOKUP(A2875,bangolf_kategorien!$A$2:$B$11,2,FALSE)","v":"SM2"}]
["dj",66952,"Marie Sophie","Rotermund","1. BGC Celle von 1964",{"$f":"CONCATENATE(VLOOKUP(A2876,bangolf_kategorien!$A$2:$B$11,2,FALSE),\": \",D2876,\", \",C2876)","v":"JW: Rotermund, Marie Sophie"},{"$f":"VLOOKUP(A2876,bangolf_kategorien!$A$2:$B$11,2,FALSE)","v":"JW"}]
["hs",66992,"Frank","Roth","1. BGC Rodalben 1977",{"$f":"CONCATENATE(VLOOKUP(A2877,bangolf_kategorien!$A$2:$B$11,2,FALSE),\": \",D2877,\", \",C2877)","v":"H: Roth, Frank"},{"$f":"VLOOKUP(A2877,bangolf_kategorien!$A$2:$B$11,2,FALSE)","v":"H"}]
["ds",37019,"Nathalie-Inez","Roth","TG Höchberg von 1862 Bahnengolf",{"$f":"CONCATENATE(VLOOKUP(A2878,bangolf_kategorien!$A$2:$B$11,2,FALSE),\": \",D2878,\", \",C2878)","v":"D: Roth, Nathalie-Inez"},{"$f":"VLOOKUP(A2878,bangolf_kategorien!$A$2:$B$11,2,FALSE)","v":"D"}]
["hv",34054,"Dieter","Rothermel","MSC Bensheim-Auerbach",{"$f":"CONCATENATE(VLOOKUP(A2879,bangolf_kategorien!$A$2:$B$11,2,FALSE),\": \",D2879,\", \",C2879)","v":"SM2: Rothermel, Dieter"},{"$f":"VLOOKUP(A2879,bangolf_kategorien!$A$2:$B$11,2,FALSE)","v":"SM2"}]
["dv",34053,"Ute","Rothermel","MSC Bensheim-Auerbach",{"$f":"CONCATENATE(VLOOKUP(A2880,bangolf_kategorien!$A$2:$B$11,2,FALSE),\": \",D2880,\", \",C2880)","v":"SW2: Rothermel, Ute"},{"$f":"VLOOKUP(A2880,bangolf_kategorien!$A$2:$B$11,2,FALSE)","v":"SW2"}]
["ds",3323742,"Sandra","Röttger","Hobby",{"$f":"CONCATENATE(VLOOKUP(A2881,bangolf_kategorien!$A$2:$B$11,2,FALSE),\": \",D2881,\", \",C2881)","v":"D: Röttger, Sandra"},{"$f":"VLOOKUP(A2881,bangolf_kategorien!$A$2:$B$11,2,FALSE)","v":"D"}]
["ds",87506,"Sandra","Röttger","1. MGC 1970 Göttingen",{"$f":"CONCATENATE(VLOOKUP(A2882,bangolf_kategorien!$A$2:$B$11,2,FALSE),\": \",D2882,\", \",C2882)","v":"D: Röttger, Sandra"},{"$f":"VLOOKUP(A2882,bangolf_kategorien!$A$2:$B$11,2,FALSE)","v":"D"}]
["ob",67586,"Stefan","Ruber","MGC Bad Feilnbach",{"$f":"CONCATENATE(VLOOKUP(A2883,bangolf_kategorien!$A$2:$B$11,2,FALSE),\": \",D2883,\", \",C2883)","v":"SM1: Ruber, Stefan"},{"$f":"VLOOKUP(A2883,bangolf_kategorien!$A$2:$B$11,2,FALSE)","v":"SM1"}]
["hs",66908,"Sebastian","Rübner","MGC \"Stahlquelle\" Bad Bocklet",{"$f":"CONCATENATE(VLOOKUP(A2884,bangolf_kategorien!$A$2:$B$11,2,FALSE),\": \",D2884,\", \",C2884)","v":"H: Rübner, Sebastian"},{"$f":"VLOOKUP(A2884,bangolf_kategorien!$A$2:$B$11,2,FALSE)","v":"H"}]
["ob",66803,"Dietmar","Ruck","BGC Schweinfurt",{"$f":"CONCATENATE(VLOOKUP(A2885,bangolf_kategorien!$A$2:$B$11,2,FALSE),\": \",D2885,\", \",C2885)","v":"SM1: Ruck, Dietmar"},{"$f":"VLOOKUP(A2885,bangolf_kategorien!$A$2:$B$11,2,FALSE)","v":"SM1"}]
["hs",27788,"Sven","Rücker","MGC Wetzlar",{"$f":"CONCATENATE(VLOOKUP(A2886,bangolf_kategorien!$A$2:$B$11,2,FALSE),\": \",D2886,\", \",C2886)","v":"H: Rücker, Sven"},{"$f":"VLOOKUP(A2886,bangolf_kategorien!$A$2:$B$11,2,FALSE)","v":"H"}]
["ob",24182,"Dieter","Rude","1. MGC Ladenburg",{"$f":"CONCATENATE(VLOOKUP(A2887,bangolf_kategorien!$A$2:$B$11,2,FALSE),\": \",D2887,\", \",C2887)","v":"SM1: Rude, Dieter"},{"$f":"VLOOKUP(A2887,bangolf_kategorien!$A$2:$B$11,2,FALSE)","v":"SM1"}]
["ds",66287,"Verena","Rude","1. MGC Ladenburg",{"$f":"CONCATENATE(VLOOKUP(A2888,bangolf_kategorien!$A$2:$B$11,2,FALSE),\": \",D2888,\", \",C2888)","v":"D: Rude, Verena"},{"$f":"VLOOKUP(A2888,bangolf_kategorien!$A$2:$B$11,2,FALSE)","v":"D"}]
["ob",3323744,"Holger","Rüdebusch","Hobby",{"$f":"CONCATENATE(VLOOKUP(A2889,bangolf_kategorien!$A$2:$B$11,2,FALSE),\": \",D2889,\", \",C2889)","v":"SM1: Rüdebusch, Holger"},{"$f":"VLOOKUP(A2889,bangolf_kategorien!$A$2:$B$11,2,FALSE)","v":"SM1"}]
["hv",36630,"Hans","Ruder","Minigolf Wölfe Rheinstetten 02",{"$f":"CONCATENATE(VLOOKUP(A2890,bangolf_kategorien!$A$2:$B$11,2,FALSE),\": \",D2890,\", \",C2890)","v":"SM2: Ruder, Hans"},{"$f":"VLOOKUP(A2890,bangolf_kategorien!$A$2:$B$11,2,FALSE)","v":"SM2"}]
["ob",42717,"Thomas","Ruff","MGC Ravensburg-Weingarten",{"$f":"CONCATENATE(VLOOKUP(A2891,bangolf_kategorien!$A$2:$B$11,2,FALSE),\": \",D2891,\", \",C2891)","v":"SM1: Ruff, Thomas"},{"$f":"VLOOKUP(A2891,bangolf_kategorien!$A$2:$B$11,2,FALSE)","v":"SM1"}]
["hv",21226,"Dieter","Rüger","1. MSC Wesel 6.6.1966",{"$f":"CONCATENATE(VLOOKUP(A2892,bangolf_kategorien!$A$2:$B$11,2,FALSE),\": \",D2892,\", \",C2892)","v":"SM2: Rüger, Dieter"},{"$f":"VLOOKUP(A2892,bangolf_kategorien!$A$2:$B$11,2,FALSE)","v":"SM2"}]
["hv",22305,"Klaus","Rüger","BGC Northeim",{"$f":"CONCATENATE(VLOOKUP(A2893,bangolf_kategorien!$A$2:$B$11,2,FALSE),\": \",D2893,\", \",C2893)","v":"SM2: Rüger, Klaus"},{"$f":"VLOOKUP(A2893,bangolf_kategorien!$A$2:$B$11,2,FALSE)","v":"SM2"}]
["hv",36047,"Karl-Heinz","Rühle","MGC Wolnzach",{"$f":"CONCATENATE(VLOOKUP(A2894,bangolf_kategorien!$A$2:$B$11,2,FALSE),\": \",D2894,\", \",C2894)","v":"SM2: Rühle, Karl-Heinz"},{"$f":"VLOOKUP(A2894,bangolf_kategorien!$A$2:$B$11,2,FALSE)","v":"SM2"}]
["ob",3209183,"Marcus","Rümenapp","Hobby",{"$f":"CONCATENATE(VLOOKUP(A2895,bangolf_kategorien!$A$2:$B$11,2,FALSE),\": \",D2895,\", \",C2895)","v":"SM1: Rümenapp, Marcus"},{"$f":"VLOOKUP(A2895,bangolf_kategorien!$A$2:$B$11,2,FALSE)","v":"SM1"}]
["ds",37637,"Anna","Rümmelin","BSV Inzlingen 1979",{"$f":"CONCATENATE(VLOOKUP(A2896,bangolf_kategorien!$A$2:$B$11,2,FALSE),\": \",D2896,\", \",C2896)","v":"D: Rümmelin, Anna"},{"$f":"VLOOKUP(A2896,bangolf_kategorien!$A$2:$B$11,2,FALSE)","v":"D"}]
["og",67225,"Eycke","Rümmelin","BSV Inzlingen 1979",{"$f":"CONCATENATE(VLOOKUP(A2897,bangolf_kategorien!$A$2:$B$11,2,FALSE),\": \",D2897,\", \",C2897)","v":"SW1: Rümmelin, Eycke"},{"$f":"VLOOKUP(A2897,bangolf_kategorien!$A$2:$B$11,2,FALSE)","v":"SW1"}]
["dv",62538,"Anneliese","Runge","1. MGC Saar 68 St. Ingbert",{"$f":"CONCATENATE(VLOOKUP(A2898,bangolf_kategorien!$A$2:$B$11,2,FALSE),\": \",D2898,\", \",C2898)","v":"SW2: Runge, Anneliese"},{"$f":"VLOOKUP(A2898,bangolf_kategorien!$A$2:$B$11,2,FALSE)","v":"SW2"}]
["hs",49432,"Jürgen","Rupp","MGC Ravensburg-Weingarten",{"$f":"CONCATENATE(VLOOKUP(A2899,bangolf_kategorien!$A$2:$B$11,2,FALSE),\": \",D2899,\", \",C2899)","v":"H: Rupp, Jürgen"},{"$f":"VLOOKUP(A2899,bangolf_kategorien!$A$2:$B$11,2,FALSE)","v":"H"}]
["dv",66956,"Petra","Rupp","1. MGC Mainz",{"$f":"CONCATENATE(VLOOKUP(A2900,bangolf_kategorien!$A$2:$B$11,2,FALSE),\": \",D2900,\", \",C2900)","v":"SW2: Rupp, Petra"},{"$f":"VLOOKUP(A2900,bangolf_kategorien!$A$2:$B$11,2,FALSE)","v":"SW2"}]
["hv",6727,"Eberhard","Rüppel","MGC Bad Homburg vdH",{"$f":"CONCATENATE(VLOOKUP(A2901,bangolf_kategorien!$A$2:$B$11,2,FALSE),\": \",D2901,\", \",C2901)","v":"SM2: Rüppel, Eberhard"},{"$f":"VLOOKUP(A2901,bangolf_kategorien!$A$2:$B$11,2,FALSE)","v":"SM2"}]
["pa",3119651,"Manuel","Rupprecht","Hobby",{"$f":"CONCATENATE(VLOOKUP(A2902,bangolf_kategorien!$A$2:$B$11,2,FALSE),\": \",D2902,\", \",C2902)","v":"SCHM: Rupprecht, Manuel"},{"$f":"VLOOKUP(A2902,bangolf_kategorien!$A$2:$B$11,2,FALSE)","v":"SCHM"}]
["ob",29657,"Frank","Rüter","MSK Neheim-Hüsten",{"$f":"CONCATENATE(VLOOKUP(A2903,bangolf_kategorien!$A$2:$B$11,2,FALSE),\": \",D2903,\", \",C2903)","v":"SM1: Rüter, Frank"},{"$f":"VLOOKUP(A2903,bangolf_kategorien!$A$2:$B$11,2,FALSE)","v":"SM1"}]
["hv",65913,"Holger","Ruzicka","BGC Illertissen",{"$f":"CONCATENATE(VLOOKUP(A2904,bangolf_kategorien!$A$2:$B$11,2,FALSE),\": \",D2904,\", \",C2904)","v":"SM2: Ruzicka, Holger"},{"$f":"VLOOKUP(A2904,bangolf_kategorien!$A$2:$B$11,2,FALSE)","v":"SM2"}]
["hs",36288,"Patrick","Saar","1. MGC Tuttlingen",{"$f":"CONCATENATE(VLOOKUP(A2905,bangolf_kategorien!$A$2:$B$11,2,FALSE),\": \",D2905,\", \",C2905)","v":"H: Saar, Patrick"},{"$f":"VLOOKUP(A2905,bangolf_kategorien!$A$2:$B$11,2,FALSE)","v":"H"}]
["hs",67228,"Heiko","Saathoff","BGC Bad Nenndorf",{"$f":"CONCATENATE(VLOOKUP(A2906,bangolf_kategorien!$A$2:$B$11,2,FALSE),\": \",D2906,\", \",C2906)","v":"H: Saathoff, Heiko"},{"$f":"VLOOKUP(A2906,bangolf_kategorien!$A$2:$B$11,2,FALSE)","v":"H"}]
["og",31240,"Petra","Sabath","MGC Einbeck",{"$f":"CONCATENATE(VLOOKUP(A2907,bangolf_kategorien!$A$2:$B$11,2,FALSE),\": \",D2907,\", \",C2907)","v":"SW1: Sabath, Petra"},{"$f":"VLOOKUP(A2907,bangolf_kategorien!$A$2:$B$11,2,FALSE)","v":"SW1"}]
["hv",43142,"Wolfgang","Sachs","MGC Bad Salzuflen",{"$f":"CONCATENATE(VLOOKUP(A2908,bangolf_kategorien!$A$2:$B$11,2,FALSE),\": \",D2908,\", \",C2908)","v":"SM2: Sachs, Wolfgang"},{"$f":"VLOOKUP(A2908,bangolf_kategorien!$A$2:$B$11,2,FALSE)","v":"SM2"}]
["pa",67072,"Thilo","Sachse","SG Arheilgen Abt. Bahnengolf",{"$f":"CONCATENATE(VLOOKUP(A2909,bangolf_kategorien!$A$2:$B$11,2,FALSE),\": \",D2909,\", \",C2909)","v":"SCHM: Sachse, Thilo"},{"$f":"VLOOKUP(A2909,bangolf_kategorien!$A$2:$B$11,2,FALSE)","v":"SCHM"}]
["hs",67074,"Torsten","Sachse","SG Arheilgen Abt. Bahnengolf",{"$f":"CONCATENATE(VLOOKUP(A2910,bangolf_kategorien!$A$2:$B$11,2,FALSE),\": \",D2910,\", \",C2910)","v":"H: Sachse, Torsten"},{"$f":"VLOOKUP(A2910,bangolf_kategorien!$A$2:$B$11,2,FALSE)","v":"H"}]
["ob",29035,"Markus","Sack","MSK Neheim-Hüsten",{"$f":"CONCATENATE(VLOOKUP(A2911,bangolf_kategorien!$A$2:$B$11,2,FALSE),\": \",D2911,\", \",C2911)","v":"SM1: Sack, Markus"},{"$f":"VLOOKUP(A2911,bangolf_kategorien!$A$2:$B$11,2,FALSE)","v":"SM1"}]
["ob",28574,"Bernd","Sadzeck","1. MSC Hamburg-Neu Wulmstorf",{"$f":"CONCATENATE(VLOOKUP(A2912,bangolf_kategorien!$A$2:$B$11,2,FALSE),\": \",D2912,\", \",C2912)","v":"SM1: Sadzeck, Bernd"},{"$f":"VLOOKUP(A2912,bangolf_kategorien!$A$2:$B$11,2,FALSE)","v":"SM1"}]
["dj",66089,"Chiana","Saft","MSK Olching",{"$f":"CONCATENATE(VLOOKUP(A2913,bangolf_kategorien!$A$2:$B$11,2,FALSE),\": \",D2913,\", \",C2913)","v":"JW: Saft, Chiana"},{"$f":"VLOOKUP(A2913,bangolf_kategorien!$A$2:$B$11,2,FALSE)","v":"JW"}]
["ds",66088,"Ellen","Saft","MSK Olching",{"$f":"CONCATENATE(VLOOKUP(A2914,bangolf_kategorien!$A$2:$B$11,2,FALSE),\": \",D2914,\", \",C2914)","v":"D: Saft, Ellen"},{"$f":"VLOOKUP(A2914,bangolf_kategorien!$A$2:$B$11,2,FALSE)","v":"D"}]
["hs",67437,"Manuel","Sager","MGC Sulzfeld",{"$f":"CONCATENATE(VLOOKUP(A2915,bangolf_kategorien!$A$2:$B$11,2,FALSE),\": \",D2915,\", \",C2915)","v":"H: Sager, Manuel"},{"$f":"VLOOKUP(A2915,bangolf_kategorien!$A$2:$B$11,2,FALSE)","v":"H"}]
["ob",3211944,"Carsten","Sahm","Hobby",{"$f":"CONCATENATE(VLOOKUP(A2916,bangolf_kategorien!$A$2:$B$11,2,FALSE),\": \",D2916,\", \",C2916)","v":"SM1: Sahm, Carsten"},{"$f":"VLOOKUP(A2916,bangolf_kategorien!$A$2:$B$11,2,FALSE)","v":"SM1"}]
["og",66320,"Petra","Sakulski","SSC Attendorn",{"$f":"CONCATENATE(VLOOKUP(A2917,bangolf_kategorien!$A$2:$B$11,2,FALSE),\": \",D2917,\", \",C2917)","v":"SW1: Sakulski, Petra"},{"$f":"VLOOKUP(A2917,bangolf_kategorien!$A$2:$B$11,2,FALSE)","v":"SW1"}]
["hv",47016,"Kilian","Salch","BGC Bad Mergentheim",{"$f":"CONCATENATE(VLOOKUP(A2918,bangolf_kategorien!$A$2:$B$11,2,FALSE),\": \",D2918,\", \",C2918)","v":"SM2: Salch, Kilian"},{"$f":"VLOOKUP(A2918,bangolf_kategorien!$A$2:$B$11,2,FALSE)","v":"SM2"}]
["hv",3211943,"Alfredo","Saldano","Hobby",{"$f":"CONCATENATE(VLOOKUP(A2919,bangolf_kategorien!$A$2:$B$11,2,FALSE),\": \",D2919,\", \",C2919)","v":"SM2: Saldano, Alfredo"},{"$f":"VLOOKUP(A2919,bangolf_kategorien!$A$2:$B$11,2,FALSE)","v":"SM2"}]
["ob",45743,"Henri","Salewski","Bochumer Minigolf-Club 1960",{"$f":"CONCATENATE(VLOOKUP(A2920,bangolf_kategorien!$A$2:$B$11,2,FALSE),\": \",D2920,\", \",C2920)","v":"SM1: Salewski, Henri"},{"$f":"VLOOKUP(A2920,bangolf_kategorien!$A$2:$B$11,2,FALSE)","v":"SM1"}]
["ob",67474,"Andreas","Salitz","1. Essener CGC \"Blau-Gold\"",{"$f":"CONCATENATE(VLOOKUP(A2921,bangolf_kategorien!$A$2:$B$11,2,FALSE),\": \",D2921,\", \",C2921)","v":"SM1: Salitz, Andreas"},{"$f":"VLOOKUP(A2921,bangolf_kategorien!$A$2:$B$11,2,FALSE)","v":"SM1"}]
["og",67473,"Annegret","Salitz","1. Essener CGC \"Blau-Gold\"",{"$f":"CONCATENATE(VLOOKUP(A2922,bangolf_kategorien!$A$2:$B$11,2,FALSE),\": \",D2922,\", \",C2922)","v":"SW1: Salitz, Annegret"},{"$f":"VLOOKUP(A2922,bangolf_kategorien!$A$2:$B$11,2,FALSE)","v":"SW1"}]
["hv",33791,"Reiner","Salzmann","MSC Bad Godesberg",{"$f":"CONCATENATE(VLOOKUP(A2923,bangolf_kategorien!$A$2:$B$11,2,FALSE),\": \",D2923,\", \",C2923)","v":"SM2: Salzmann, Reiner"},{"$f":"VLOOKUP(A2923,bangolf_kategorien!$A$2:$B$11,2,FALSE)","v":"SM2"}]
["ob",3194218,"Detlef","Sander","Hobby",{"$f":"CONCATENATE(VLOOKUP(A2924,bangolf_kategorien!$A$2:$B$11,2,FALSE),\": \",D2924,\", \",C2924)","v":"SM1: Sander, Detlef"},{"$f":"VLOOKUP(A2924,bangolf_kategorien!$A$2:$B$11,2,FALSE)","v":"SM1"}]
["hv",6140,"Wilhelm","Sänger","SV 1890 Dreieichenhain, Abt. Bahnengolf",{"$f":"CONCATENATE(VLOOKUP(A2925,bangolf_kategorien!$A$2:$B$11,2,FALSE),\": \",D2925,\", \",C2925)","v":"SM2: Sänger, Wilhelm"},{"$f":"VLOOKUP(A2925,bangolf_kategorien!$A$2:$B$11,2,FALSE)","v":"SM2"}]
["ob",33349,"Ralph","Santen","Preetzer TSV von 1861 Abt. Minigolf",{"$f":"CONCATENATE(VLOOKUP(A2926,bangolf_kategorien!$A$2:$B$11,2,FALSE),\": \",D2926,\", \",C2926)","v":"SM1: Santen, Ralph"},{"$f":"VLOOKUP(A2926,bangolf_kategorien!$A$2:$B$11,2,FALSE)","v":"SM1"}]
["hv",4382,"Matthias","Sapec","SSV Ulm 1846 Abt. Bahnengolf",{"$f":"CONCATENATE(VLOOKUP(A2927,bangolf_kategorien!$A$2:$B$11,2,FALSE),\": \",D2927,\", \",C2927)","v":"SM2: Sapec, Matthias"},{"$f":"VLOOKUP(A2927,bangolf_kategorien!$A$2:$B$11,2,FALSE)","v":"SM2"}]
["ob",66760,"Turan","Sariefe","MGC Ingolstadt",{"$f":"CONCATENATE(VLOOKUP(A2928,bangolf_kategorien!$A$2:$B$11,2,FALSE),\": \",D2928,\", \",C2928)","v":"SM1: Sariefe, Turan"},{"$f":"VLOOKUP(A2928,bangolf_kategorien!$A$2:$B$11,2,FALSE)","v":"SM1"}]
["hv",6664,"Manfred","Sassenberg","1. MGC Mainz",{"$f":"CONCATENATE(VLOOKUP(A2929,bangolf_kategorien!$A$2:$B$11,2,FALSE),\": \",D2929,\", \",C2929)","v":"SM2: Sassenberg, Manfred"},{"$f":"VLOOKUP(A2929,bangolf_kategorien!$A$2:$B$11,2,FALSE)","v":"SM2"}]
["hs",66120,"Michael","Sattler","BGSV Bad Homburg",{"$f":"CONCATENATE(VLOOKUP(A2930,bangolf_kategorien!$A$2:$B$11,2,FALSE),\": \",D2930,\", \",C2930)","v":"H: Sattler, Michael"},{"$f":"VLOOKUP(A2930,bangolf_kategorien!$A$2:$B$11,2,FALSE)","v":"H"}]
["ob",29845,"Albert","Sauer","BSV 82 Ohlsbach",{"$f":"CONCATENATE(VLOOKUP(A2931,bangolf_kategorien!$A$2:$B$11,2,FALSE),\": \",D2931,\", \",C2931)","v":"SM1: Sauer, Albert"},{"$f":"VLOOKUP(A2931,bangolf_kategorien!$A$2:$B$11,2,FALSE)","v":"SM1"}]
["hs",49737,"Kay","Sauerland","MGC Harrislee-Wassersleben",{"$f":"CONCATENATE(VLOOKUP(A2932,bangolf_kategorien!$A$2:$B$11,2,FALSE),\": \",D2932,\", \",C2932)","v":"H: Sauerland, Kay"},{"$f":"VLOOKUP(A2932,bangolf_kategorien!$A$2:$B$11,2,FALSE)","v":"H"}]
["dv",67475,"Gabriela","Sawärt","BGSC Bochum 1978",{"$f":"CONCATENATE(VLOOKUP(A2933,bangolf_kategorien!$A$2:$B$11,2,FALSE),\": \",D2933,\", \",C2933)","v":"SW2: Sawärt, Gabriela"},{"$f":"VLOOKUP(A2933,bangolf_kategorien!$A$2:$B$11,2,FALSE)","v":"SW2"}]
["ob",43149,"Ralf","Sawartowski","MGC Rot-Weiß Wanne-Eickel",{"$f":"CONCATENATE(VLOOKUP(A2934,bangolf_kategorien!$A$2:$B$11,2,FALSE),\": \",D2934,\", \",C2934)","v":"SM1: Sawartowski, Ralf"},{"$f":"VLOOKUP(A2934,bangolf_kategorien!$A$2:$B$11,2,FALSE)","v":"SM1"}]
["hs",65989,"Sadettin","Saykin","MGC Bad Soden-Salmünster",{"$f":"CONCATENATE(VLOOKUP(A2935,bangolf_kategorien!$A$2:$B$11,2,FALSE),\": \",D2935,\", \",C2935)","v":"H: Saykin, Sadettin"},{"$f":"VLOOKUP(A2935,bangolf_kategorien!$A$2:$B$11,2,FALSE)","v":"H"}]
["ob",65984,"Sadiddin","Saykin","MGC Bad Soden-Salmünster",{"$f":"CONCATENATE(VLOOKUP(A2936,bangolf_kategorien!$A$2:$B$11,2,FALSE),\": \",D2936,\", \",C2936)","v":"SM1: Saykin, Sadiddin"},{"$f":"VLOOKUP(A2936,bangolf_kategorien!$A$2:$B$11,2,FALSE)","v":"SM1"}]
["ob",30667,"Jens","Schacht","Hamburger MC von 1965",{"$f":"CONCATENATE(VLOOKUP(A2937,bangolf_kategorien!$A$2:$B$11,2,FALSE),\": \",D2937,\", \",C2937)","v":"SM1: Schacht, Jens"},{"$f":"VLOOKUP(A2937,bangolf_kategorien!$A$2:$B$11,2,FALSE)","v":"SM1"}]
["dv",40098,"Monika","Schacht","MGC Harrislee-Wassersleben",{"$f":"CONCATENATE(VLOOKUP(A2938,bangolf_kategorien!$A$2:$B$11,2,FALSE),\": \",D2938,\", \",C2938)","v":"SW2: Schacht, Monika"},{"$f":"VLOOKUP(A2938,bangolf_kategorien!$A$2:$B$11,2,FALSE)","v":"SW2"}]
["ob",67049,"Frank","Schachtsiek","Bochumer Minigolf-Club 1960",{"$f":"CONCATENATE(VLOOKUP(A2939,bangolf_kategorien!$A$2:$B$11,2,FALSE),\": \",D2939,\", \",C2939)","v":"SM1: Schachtsiek, Frank"},{"$f":"VLOOKUP(A2939,bangolf_kategorien!$A$2:$B$11,2,FALSE)","v":"SM1"}]
["dv",36767,"Doris","Schacke","VfM Berlin",{"$f":"CONCATENATE(VLOOKUP(A2940,bangolf_kategorien!$A$2:$B$11,2,FALSE),\": \",D2940,\", \",C2940)","v":"SW2: Schacke, Doris"},{"$f":"VLOOKUP(A2940,bangolf_kategorien!$A$2:$B$11,2,FALSE)","v":"SW2"}]
["hv",12064,"Egon","Schacke","VfM Berlin",{"$f":"CONCATENATE(VLOOKUP(A2941,bangolf_kategorien!$A$2:$B$11,2,FALSE),\": \",D2941,\", \",C2941)","v":"SM2: Schacke, Egon"},{"$f":"VLOOKUP(A2941,bangolf_kategorien!$A$2:$B$11,2,FALSE)","v":"SM2"}]
["ob",44021,"Michael","Schaefer","MSC Bad Godesberg",{"$f":"CONCATENATE(VLOOKUP(A2942,bangolf_kategorien!$A$2:$B$11,2,FALSE),\": \",D2942,\", \",C2942)","v":"SM1: Schaefer, Michael"},{"$f":"VLOOKUP(A2942,bangolf_kategorien!$A$2:$B$11,2,FALSE)","v":"SM1"}]
["hv",19572,"Achim","Schäfer","MGC Wuppertal-Ronsdorf 1967",{"$f":"CONCATENATE(VLOOKUP(A2943,bangolf_kategorien!$A$2:$B$11,2,FALSE),\": \",D2943,\", \",C2943)","v":"SM2: Schäfer, Achim"},{"$f":"VLOOKUP(A2943,bangolf_kategorien!$A$2:$B$11,2,FALSE)","v":"SM2"}]
["ob",27438,"Armin","Schäfer","MSC Herscheid 1963",{"$f":"CONCATENATE(VLOOKUP(A2944,bangolf_kategorien!$A$2:$B$11,2,FALSE),\": \",D2944,\", \",C2944)","v":"SM1: Schäfer, Armin"},{"$f":"VLOOKUP(A2944,bangolf_kategorien!$A$2:$B$11,2,FALSE)","v":"SM1"}]
["hs",66150,"Dennis","Schäfer","MSC Bensheim-Auerbach",{"$f":"CONCATENATE(VLOOKUP(A2945,bangolf_kategorien!$A$2:$B$11,2,FALSE),\": \",D2945,\", \",C2945)","v":"H: Schäfer, Dennis"},{"$f":"VLOOKUP(A2945,bangolf_kategorien!$A$2:$B$11,2,FALSE)","v":"H"}]
["dv",66230,"Gabriele","Schäfer","BGC Hamm 1959",{"$f":"CONCATENATE(VLOOKUP(A2946,bangolf_kategorien!$A$2:$B$11,2,FALSE),\": \",D2946,\", \",C2946)","v":"SW2: Schäfer, Gabriele"},{"$f":"VLOOKUP(A2946,bangolf_kategorien!$A$2:$B$11,2,FALSE)","v":"SW2"}]
["hv",24462,"Jürgen","Schäfer","MGC Rot-Weiß Wanne-Eickel",{"$f":"CONCATENATE(VLOOKUP(A2947,bangolf_kategorien!$A$2:$B$11,2,FALSE),\": \",D2947,\", \",C2947)","v":"SM2: Schäfer, Jürgen"},{"$f":"VLOOKUP(A2947,bangolf_kategorien!$A$2:$B$11,2,FALSE)","v":"SM2"}]
["hv",22141,"Manfred","Schäfer","MSC Herscheid 1963",{"$f":"CONCATENATE(VLOOKUP(A2948,bangolf_kategorien!$A$2:$B$11,2,FALSE),\": \",D2948,\", \",C2948)","v":"SM2: Schäfer, Manfred"},{"$f":"VLOOKUP(A2948,bangolf_kategorien!$A$2:$B$11,2,FALSE)","v":"SM2"}]
["hv",66231,"Manfred","Schäfer","BGC Hamm 1959",{"$f":"CONCATENATE(VLOOKUP(A2949,bangolf_kategorien!$A$2:$B$11,2,FALSE),\": \",D2949,\", \",C2949)","v":"SM2: Schäfer, Manfred"},{"$f":"VLOOKUP(A2949,bangolf_kategorien!$A$2:$B$11,2,FALSE)","v":"SM2"}]
["hv",1814,"Norbert","Schäfer","1. MGC Kassel 1964",{"$f":"CONCATENATE(VLOOKUP(A2950,bangolf_kategorien!$A$2:$B$11,2,FALSE),\": \",D2950,\", \",C2950)","v":"SM2: Schäfer, Norbert"},{"$f":"VLOOKUP(A2950,bangolf_kategorien!$A$2:$B$11,2,FALSE)","v":"SM2"}]
["ob",26580,"Norbert","Schäfer","MGC Wuppertal-Ronsdorf 1967",{"$f":"CONCATENATE(VLOOKUP(A2951,bangolf_kategorien!$A$2:$B$11,2,FALSE),\": \",D2951,\", \",C2951)","v":"SM1: Schäfer, Norbert"},{"$f":"VLOOKUP(A2951,bangolf_kategorien!$A$2:$B$11,2,FALSE)","v":"SM1"}]
["hs",37818,"Pascal","Schäfer","MGC Traben-Trarbach",{"$f":"CONCATENATE(VLOOKUP(A2952,bangolf_kategorien!$A$2:$B$11,2,FALSE),\": \",D2952,\", \",C2952)","v":"H: Schäfer, Pascal"},{"$f":"VLOOKUP(A2952,bangolf_kategorien!$A$2:$B$11,2,FALSE)","v":"H"}]
["hv",49087,"Richard","Schäfer","1. MGC Mainz",{"$f":"CONCATENATE(VLOOKUP(A2953,bangolf_kategorien!$A$2:$B$11,2,FALSE),\": \",D2953,\", \",C2953)","v":"SM2: Schäfer, Richard"},{"$f":"VLOOKUP(A2953,bangolf_kategorien!$A$2:$B$11,2,FALSE)","v":"SM2"}]
["hs",31511,"Willi","Schäfer","MSF Brilon",{"$f":"CONCATENATE(VLOOKUP(A2954,bangolf_kategorien!$A$2:$B$11,2,FALSE),\": \",D2954,\", \",C2954)","v":"H: Schäfer, Willi"},{"$f":"VLOOKUP(A2954,bangolf_kategorien!$A$2:$B$11,2,FALSE)","v":"H"}]
["ob",45844,"Carsten","Schakowski","MGC Monrepos",{"$f":"CONCATENATE(VLOOKUP(A2955,bangolf_kategorien!$A$2:$B$11,2,FALSE),\": \",D2955,\", \",C2955)","v":"SM1: Schakowski, Carsten"},{"$f":"VLOOKUP(A2955,bangolf_kategorien!$A$2:$B$11,2,FALSE)","v":"SM1"}]
["hv",26089,"Albert","Schamberger","MSK Olching",{"$f":"CONCATENATE(VLOOKUP(A2956,bangolf_kategorien!$A$2:$B$11,2,FALSE),\": \",D2956,\", \",C2956)","v":"SM2: Schamberger, Albert"},{"$f":"VLOOKUP(A2956,bangolf_kategorien!$A$2:$B$11,2,FALSE)","v":"SM2"}]
["dv",26088,"Gerda","Schamberger","MSK Olching",{"$f":"CONCATENATE(VLOOKUP(A2957,bangolf_kategorien!$A$2:$B$11,2,FALSE),\": \",D2957,\", \",C2957)","v":"SW2: Schamberger, Gerda"},{"$f":"VLOOKUP(A2957,bangolf_kategorien!$A$2:$B$11,2,FALSE)","v":"SW2"}]
["ds",3118752,"Melanie","Schamberger","Hobby",{"$f":"CONCATENATE(VLOOKUP(A2958,bangolf_kategorien!$A$2:$B$11,2,FALSE),\": \",D2958,\", \",C2958)","v":"D: Schamberger, Melanie"},{"$f":"VLOOKUP(A2958,bangolf_kategorien!$A$2:$B$11,2,FALSE)","v":"D"}]
["og",67243,"Petra","Schäning","SV Glückauf 1901 Gebhardshagen",{"$f":"CONCATENATE(VLOOKUP(A2959,bangolf_kategorien!$A$2:$B$11,2,FALSE),\": \",D2959,\", \",C2959)","v":"SW1: Schäning, Petra"},{"$f":"VLOOKUP(A2959,bangolf_kategorien!$A$2:$B$11,2,FALSE)","v":"SW1"}]
["ob",66787,"Sven","Schäning","SV Glückauf 1901 Gebhardshagen",{"$f":"CONCATENATE(VLOOKUP(A2960,bangolf_kategorien!$A$2:$B$11,2,FALSE),\": \",D2960,\", \",C2960)","v":"SM1: Schäning, Sven"},{"$f":"VLOOKUP(A2960,bangolf_kategorien!$A$2:$B$11,2,FALSE)","v":"SM1"}]
["hv",6642,"Erich","Schankweiler","1. BGC Celle von 1964",{"$f":"CONCATENATE(VLOOKUP(A2961,bangolf_kategorien!$A$2:$B$11,2,FALSE),\": \",D2961,\", \",C2961)","v":"SM2: Schankweiler, Erich"},{"$f":"VLOOKUP(A2961,bangolf_kategorien!$A$2:$B$11,2,FALSE)","v":"SM2"}]
["ob",46517,"Thomas","Schäpe","BGSV Kerpen",{"$f":"CONCATENATE(VLOOKUP(A2962,bangolf_kategorien!$A$2:$B$11,2,FALSE),\": \",D2962,\", \",C2962)","v":"SM1: Schäpe, Thomas"},{"$f":"VLOOKUP(A2962,bangolf_kategorien!$A$2:$B$11,2,FALSE)","v":"SM1"}]
["hv",67544,"Richard","Scharf","BGC Illertissen",{"$f":"CONCATENATE(VLOOKUP(A2963,bangolf_kategorien!$A$2:$B$11,2,FALSE),\": \",D2963,\", \",C2963)","v":"SM2: Scharf, Richard"},{"$f":"VLOOKUP(A2963,bangolf_kategorien!$A$2:$B$11,2,FALSE)","v":"SM2"}]
["hv",7907,"Peter","Scharfenberg","MSC Bad Godesberg",{"$f":"CONCATENATE(VLOOKUP(A2964,bangolf_kategorien!$A$2:$B$11,2,FALSE),\": \",D2964,\", \",C2964)","v":"SM2: Scharfenberg, Peter"},{"$f":"VLOOKUP(A2964,bangolf_kategorien!$A$2:$B$11,2,FALSE)","v":"SM2"}]
["og",38455,"Helga","Scharnhorst","1. BGC Hannover",{"$f":"CONCATENATE(VLOOKUP(A2965,bangolf_kategorien!$A$2:$B$11,2,FALSE),\": \",D2965,\", \",C2965)","v":"SW1: Scharnhorst, Helga"},{"$f":"VLOOKUP(A2965,bangolf_kategorien!$A$2:$B$11,2,FALSE)","v":"SW1"}]
["hv",1549,"Rüdiger","Scharnhorst","1. BGC Hannover",{"$f":"CONCATENATE(VLOOKUP(A2966,bangolf_kategorien!$A$2:$B$11,2,FALSE),\": \",D2966,\", \",C2966)","v":"SM2: Scharnhorst, Rüdiger"},{"$f":"VLOOKUP(A2966,bangolf_kategorien!$A$2:$B$11,2,FALSE)","v":"SM2"}]
["og",67147,"Sabine","Scharpe","Bochumer Minigolf-Club 1960",{"$f":"CONCATENATE(VLOOKUP(A2967,bangolf_kategorien!$A$2:$B$11,2,FALSE),\": \",D2967,\", \",C2967)","v":"SW1: Scharpe, Sabine"},{"$f":"VLOOKUP(A2967,bangolf_kategorien!$A$2:$B$11,2,FALSE)","v":"SW1"}]
["hv",27121,"Arno","Schatke","BGC Northeim",{"$f":"CONCATENATE(VLOOKUP(A2968,bangolf_kategorien!$A$2:$B$11,2,FALSE),\": \",D2968,\", \",C2968)","v":"SM2: Schatke, Arno"},{"$f":"VLOOKUP(A2968,bangolf_kategorien!$A$2:$B$11,2,FALSE)","v":"SM2"}]
["hv",34453,"Michael","Schätz","1. MGC Mannheim 1968",{"$f":"CONCATENATE(VLOOKUP(A2969,bangolf_kategorien!$A$2:$B$11,2,FALSE),\": \",D2969,\", \",C2969)","v":"SM2: Schätz, Michael"},{"$f":"VLOOKUP(A2969,bangolf_kategorien!$A$2:$B$11,2,FALSE)","v":"SM2"}]
["hj",66477,"Karim","Schaub","MSV Würzburg-Löwenbrücke",{"$f":"CONCATENATE(VLOOKUP(A2970,bangolf_kategorien!$A$2:$B$11,2,FALSE),\": \",D2970,\", \",C2970)","v":"JM: Schaub, Karim"},{"$f":"VLOOKUP(A2970,bangolf_kategorien!$A$2:$B$11,2,FALSE)","v":"JM"}]
["ds",35464,"Susanne","Schaub","MSV Würzburg-Löwenbrücke",{"$f":"CONCATENATE(VLOOKUP(A2971,bangolf_kategorien!$A$2:$B$11,2,FALSE),\": \",D2971,\", \",C2971)","v":"D: Schaub, Susanne"},{"$f":"VLOOKUP(A2971,bangolf_kategorien!$A$2:$B$11,2,FALSE)","v":"D"}]
["hs",87515,"Julian","Schauer","PTSV Hof, Abt. Minigolf",{"$f":"CONCATENATE(VLOOKUP(A2972,bangolf_kategorien!$A$2:$B$11,2,FALSE),\": \",D2972,\", \",C2972)","v":"H: Schauer, Julian"},{"$f":"VLOOKUP(A2972,bangolf_kategorien!$A$2:$B$11,2,FALSE)","v":"H"}]
["ob",40975,"Werner","Schechinger","MGC Wolnzach",{"$f":"CONCATENATE(VLOOKUP(A2973,bangolf_kategorien!$A$2:$B$11,2,FALSE),\": \",D2973,\", \",C2973)","v":"SM1: Schechinger, Werner"},{"$f":"VLOOKUP(A2973,bangolf_kategorien!$A$2:$B$11,2,FALSE)","v":"SM1"}]
["og",66524,"Christine","Scheder","TG Höchberg von 1862 Bahnengolf",{"$f":"CONCATENATE(VLOOKUP(A2974,bangolf_kategorien!$A$2:$B$11,2,FALSE),\": \",D2974,\", \",C2974)","v":"SW1: Scheder, Christine"},{"$f":"VLOOKUP(A2974,bangolf_kategorien!$A$2:$B$11,2,FALSE)","v":"SW1"}]
["ds",66526,"Laura","Scheder","TG Höchberg von 1862 Bahnengolf",{"$f":"CONCATENATE(VLOOKUP(A2975,bangolf_kategorien!$A$2:$B$11,2,FALSE),\": \",D2975,\", \",C2975)","v":"D: Scheder, Laura"},{"$f":"VLOOKUP(A2975,bangolf_kategorien!$A$2:$B$11,2,FALSE)","v":"D"}]
["ob",66525,"Roland","Scheder","TG Höchberg von 1862 Bahnengolf",{"$f":"CONCATENATE(VLOOKUP(A2976,bangolf_kategorien!$A$2:$B$11,2,FALSE),\": \",D2976,\", \",C2976)","v":"SM1: Scheder, Roland"},{"$f":"VLOOKUP(A2976,bangolf_kategorien!$A$2:$B$11,2,FALSE)","v":"SM1"}]
["hv",3304409,"Peter","Scheede","Hobby",{"$f":"CONCATENATE(VLOOKUP(A2977,bangolf_kategorien!$A$2:$B$11,2,FALSE),\": \",D2977,\", \",C2977)","v":"SM2: Scheede, Peter"},{"$f":"VLOOKUP(A2977,bangolf_kategorien!$A$2:$B$11,2,FALSE)","v":"SM2"}]
["dv",65969,"Ingelore","Scheffler","SC Bad Münder Abt. Bahnengolf",{"$f":"CONCATENATE(VLOOKUP(A2978,bangolf_kategorien!$A$2:$B$11,2,FALSE),\": \",D2978,\", \",C2978)","v":"SW2: Scheffler, Ingelore"},{"$f":"VLOOKUP(A2978,bangolf_kategorien!$A$2:$B$11,2,FALSE)","v":"SW2"}]
["hs",33583,"Jens","Scheffler","1. BGC Wesseling 1975",{"$f":"CONCATENATE(VLOOKUP(A2979,bangolf_kategorien!$A$2:$B$11,2,FALSE),\": \",D2979,\", \",C2979)","v":"H: Scheffler, Jens"},{"$f":"VLOOKUP(A2979,bangolf_kategorien!$A$2:$B$11,2,FALSE)","v":"H"}]
["og",36181,"Kathrin","Scheffner","MV Lankwitzer Dragons",{"$f":"CONCATENATE(VLOOKUP(A2980,bangolf_kategorien!$A$2:$B$11,2,FALSE),\": \",D2980,\", \",C2980)","v":"SW1: Scheffner, Kathrin"},{"$f":"VLOOKUP(A2980,bangolf_kategorien!$A$2:$B$11,2,FALSE)","v":"SW1"}]
["ob",40220,"Georg","Scheffzik","SSC Halver",{"$f":"CONCATENATE(VLOOKUP(A2981,bangolf_kategorien!$A$2:$B$11,2,FALSE),\": \",D2981,\", \",C2981)","v":"SM1: Scheffzik, Georg"},{"$f":"VLOOKUP(A2981,bangolf_kategorien!$A$2:$B$11,2,FALSE)","v":"SM1"}]
["ob",47093,"Christian","Scheider","SSC Halver",{"$f":"CONCATENATE(VLOOKUP(A2982,bangolf_kategorien!$A$2:$B$11,2,FALSE),\": \",D2982,\", \",C2982)","v":"SM1: Scheider, Christian"},{"$f":"VLOOKUP(A2982,bangolf_kategorien!$A$2:$B$11,2,FALSE)","v":"SM1"}]
["ob",24,"Stefan","Scheider","SSC Halver",{"$f":"CONCATENATE(VLOOKUP(A2983,bangolf_kategorien!$A$2:$B$11,2,FALSE),\": \",D2983,\", \",C2983)","v":"SM1: Scheider, Stefan"},{"$f":"VLOOKUP(A2983,bangolf_kategorien!$A$2:$B$11,2,FALSE)","v":"SM1"}]
["hs",34772,"Dirk","Scheikowski","1. MSC Wesel 6.6.1966",{"$f":"CONCATENATE(VLOOKUP(A2984,bangolf_kategorien!$A$2:$B$11,2,FALSE),\": \",D2984,\", \",C2984)","v":"H: Scheikowski, Dirk"},{"$f":"VLOOKUP(A2984,bangolf_kategorien!$A$2:$B$11,2,FALSE)","v":"H"}]
["hv",631,"Kurt","Schellhas","MGC \"AS\" Witten 1963",{"$f":"CONCATENATE(VLOOKUP(A2985,bangolf_kategorien!$A$2:$B$11,2,FALSE),\": \",D2985,\", \",C2985)","v":"SM2: Schellhas, Kurt"},{"$f":"VLOOKUP(A2985,bangolf_kategorien!$A$2:$B$11,2,FALSE)","v":"SM2"}]
["hv",44026,"Horst-Dieter","Schenk","1. MGC Köln 1961",{"$f":"CONCATENATE(VLOOKUP(A2986,bangolf_kategorien!$A$2:$B$11,2,FALSE),\": \",D2986,\", \",C2986)","v":"SM2: Schenk, Horst-Dieter"},{"$f":"VLOOKUP(A2986,bangolf_kategorien!$A$2:$B$11,2,FALSE)","v":"SM2"}]
["hv",66951,"Richard","Schenkel","MSC Bensheim-Auerbach",{"$f":"CONCATENATE(VLOOKUP(A2987,bangolf_kategorien!$A$2:$B$11,2,FALSE),\": \",D2987,\", \",C2987)","v":"SM2: Schenkel, Richard"},{"$f":"VLOOKUP(A2987,bangolf_kategorien!$A$2:$B$11,2,FALSE)","v":"SM2"}]
["hs",38547,"Peter","Scherber","MGC \"Stahlquelle\" Bad Bocklet",{"$f":"CONCATENATE(VLOOKUP(A2988,bangolf_kategorien!$A$2:$B$11,2,FALSE),\": \",D2988,\", \",C2988)","v":"H: Scherber, Peter"},{"$f":"VLOOKUP(A2988,bangolf_kategorien!$A$2:$B$11,2,FALSE)","v":"H"}]
["ob",36164,"Markus","Scherkenbach","VfM Bottrop",{"$f":"CONCATENATE(VLOOKUP(A2989,bangolf_kategorien!$A$2:$B$11,2,FALSE),\": \",D2989,\", \",C2989)","v":"SM1: Scherkenbach, Markus"},{"$f":"VLOOKUP(A2989,bangolf_kategorien!$A$2:$B$11,2,FALSE)","v":"SM1"}]
["ob",44856,"Irving","Scheunemann","MC \"Möve\" Cuxhaven-Sahlenburg",{"$f":"CONCATENATE(VLOOKUP(A2990,bangolf_kategorien!$A$2:$B$11,2,FALSE),\": \",D2990,\", \",C2990)","v":"SM1: Scheunemann, Irving"},{"$f":"VLOOKUP(A2990,bangolf_kategorien!$A$2:$B$11,2,FALSE)","v":"SM1"}]
["ds",65902,"Andrea","Schewcik","MC Ilvesheim",{"$f":"CONCATENATE(VLOOKUP(A2991,bangolf_kategorien!$A$2:$B$11,2,FALSE),\": \",D2991,\", \",C2991)","v":"D: Schewcik, Andrea"},{"$f":"VLOOKUP(A2991,bangolf_kategorien!$A$2:$B$11,2,FALSE)","v":"D"}]
["ob",65901,"Andreas","Schewcik","MC Ilvesheim",{"$f":"CONCATENATE(VLOOKUP(A2992,bangolf_kategorien!$A$2:$B$11,2,FALSE),\": \",D2992,\", \",C2992)","v":"SM1: Schewcik, Andreas"},{"$f":"VLOOKUP(A2992,bangolf_kategorien!$A$2:$B$11,2,FALSE)","v":"SM1"}]
["hv",18086,"Hans","Schewerda","BGSC Bochum 1978",{"$f":"CONCATENATE(VLOOKUP(A2993,bangolf_kategorien!$A$2:$B$11,2,FALSE),\": \",D2993,\", \",C2993)","v":"SM2: Schewerda, Hans"},{"$f":"VLOOKUP(A2993,bangolf_kategorien!$A$2:$B$11,2,FALSE)","v":"SM2"}]
["dv",18085,"Helga","Schewerda","BGSC Bochum 1978",{"$f":"CONCATENATE(VLOOKUP(A2994,bangolf_kategorien!$A$2:$B$11,2,FALSE),\": \",D2994,\", \",C2994)","v":"SW2: Schewerda, Helga"},{"$f":"VLOOKUP(A2994,bangolf_kategorien!$A$2:$B$11,2,FALSE)","v":"SW2"}]
["ob",30366,"Ralf","Schewerda","MGC Felderbachtal 1964",{"$f":"CONCATENATE(VLOOKUP(A2995,bangolf_kategorien!$A$2:$B$11,2,FALSE),\": \",D2995,\", \",C2995)","v":"SM1: Schewerda, Ralf"},{"$f":"VLOOKUP(A2995,bangolf_kategorien!$A$2:$B$11,2,FALSE)","v":"SM1"}]
["ob",45472,"Thomas","Schiebel","1. MGC Mainz",{"$f":"CONCATENATE(VLOOKUP(A2996,bangolf_kategorien!$A$2:$B$11,2,FALSE),\": \",D2996,\", \",C2996)","v":"SM1: Schiebel, Thomas"},{"$f":"VLOOKUP(A2996,bangolf_kategorien!$A$2:$B$11,2,FALSE)","v":"SM1"}]
["hv",37451,"Wolfgang","Schieblich","SG  Weiterstadt 1886",{"$f":"CONCATENATE(VLOOKUP(A2997,bangolf_kategorien!$A$2:$B$11,2,FALSE),\": \",D2997,\", \",C2997)","v":"SM2: Schieblich, Wolfgang"},{"$f":"VLOOKUP(A2997,bangolf_kategorien!$A$2:$B$11,2,FALSE)","v":"SM2"}]
["hj",67343,"Marvin","Schienbein","1. MGC Kassel 1964",{"$f":"CONCATENATE(VLOOKUP(A2998,bangolf_kategorien!$A$2:$B$11,2,FALSE),\": \",D2998,\", \",C2998)","v":"JM: Schienbein, Marvin"},{"$f":"VLOOKUP(A2998,bangolf_kategorien!$A$2:$B$11,2,FALSE)","v":"JM"}]
["og",29002,"Charlotte","Schierding","2. MGC Worms",{"$f":"CONCATENATE(VLOOKUP(A2999,bangolf_kategorien!$A$2:$B$11,2,FALSE),\": \",D2999,\", \",C2999)","v":"SW1: Schierding, Charlotte"},{"$f":"VLOOKUP(A2999,bangolf_kategorien!$A$2:$B$11,2,FALSE)","v":"SW1"}]
["fa",67324,"Sara","Schieren","BSC Ennepetal",{"$f":"CONCATENATE(VLOOKUP(A3000,bangolf_kategorien!$A$2:$B$11,2,FALSE),\": \",D3000,\", \",C3000)","v":"SCHW: Schieren, Sara"},{"$f":"VLOOKUP(A3000,bangolf_kategorien!$A$2:$B$11,2,FALSE)","v":"SCHW"}]
["ds",66772,"Angela","Schikorra","BGV Bergisch Land 1962 / 63",{"$f":"CONCATENATE(VLOOKUP(A3001,bangolf_kategorien!$A$2:$B$11,2,FALSE),\": \",D3001,\", \",C3001)","v":"D: Schikorra, Angela"},{"$f":"VLOOKUP(A3001,bangolf_kategorien!$A$2:$B$11,2,FALSE)","v":"D"}]
["og",67447,"Kerstin","Schild","VfL Lohbrügge Abt. Bahnengolf",{"$f":"CONCATENATE(VLOOKUP(A3002,bangolf_kategorien!$A$2:$B$11,2,FALSE),\": \",D3002,\", \",C3002)","v":"SW1: Schild, Kerstin"},{"$f":"VLOOKUP(A3002,bangolf_kategorien!$A$2:$B$11,2,FALSE)","v":"SW1"}]
["ob",47492,"Markus","Schild","MGC Schwaikheim",{"$f":"CONCATENATE(VLOOKUP(A3003,bangolf_kategorien!$A$2:$B$11,2,FALSE),\": \",D3003,\", \",C3003)","v":"SM1: Schild, Markus"},{"$f":"VLOOKUP(A3003,bangolf_kategorien!$A$2:$B$11,2,FALSE)","v":"SM1"}]
["hv",66246,"Norbert","Schildan","MGC Bergisch Gladbach Gierath",{"$f":"CONCATENATE(VLOOKUP(A3004,bangolf_kategorien!$A$2:$B$11,2,FALSE),\": \",D3004,\", \",C3004)","v":"SM2: Schildan, Norbert"},{"$f":"VLOOKUP(A3004,bangolf_kategorien!$A$2:$B$11,2,FALSE)","v":"SM2"}]
["hv",66294,"Werner","Schilitz","MSV Bad Kreuznach",{"$f":"CONCATENATE(VLOOKUP(A3005,bangolf_kategorien!$A$2:$B$11,2,FALSE),\": \",D3005,\", \",C3005)","v":"SM2: Schilitz, Werner"},{"$f":"VLOOKUP(A3005,bangolf_kategorien!$A$2:$B$11,2,FALSE)","v":"SM2"}]
["ob",41116,"Alfred","Schiller","1. BGC Bad Füssing",{"$f":"CONCATENATE(VLOOKUP(A3006,bangolf_kategorien!$A$2:$B$11,2,FALSE),\": \",D3006,\", \",C3006)","v":"SM1: Schiller, Alfred"},{"$f":"VLOOKUP(A3006,bangolf_kategorien!$A$2:$B$11,2,FALSE)","v":"SM1"}]
["hv",5665,"Adolf","Schilling","1. MSC Wesel 6.6.1966",{"$f":"CONCATENATE(VLOOKUP(A3007,bangolf_kategorien!$A$2:$B$11,2,FALSE),\": \",D3007,\", \",C3007)","v":"SM2: Schilling, Adolf"},{"$f":"VLOOKUP(A3007,bangolf_kategorien!$A$2:$B$11,2,FALSE)","v":"SM2"}]
["hs",66653,"Jan-Rainer","Schilling","VfL Lüneburg Abt. Bahnengolf",{"$f":"CONCATENATE(VLOOKUP(A3008,bangolf_kategorien!$A$2:$B$11,2,FALSE),\": \",D3008,\", \",C3008)","v":"H: Schilling, Jan-Rainer"},{"$f":"VLOOKUP(A3008,bangolf_kategorien!$A$2:$B$11,2,FALSE)","v":"H"}]
["ob",67041,"Arno","Schimanski","MGC Rot-Weiß Wanne-Eickel",{"$f":"CONCATENATE(VLOOKUP(A3009,bangolf_kategorien!$A$2:$B$11,2,FALSE),\": \",D3009,\", \",C3009)","v":"SM1: Schimanski, Arno"},{"$f":"VLOOKUP(A3009,bangolf_kategorien!$A$2:$B$11,2,FALSE)","v":"SM1"}]
["ob",46946,"Stefan","Schimscha","1. FMGC Lichtenfels 1961",{"$f":"CONCATENATE(VLOOKUP(A3010,bangolf_kategorien!$A$2:$B$11,2,FALSE),\": \",D3010,\", \",C3010)","v":"SM1: Schimscha, Stefan"},{"$f":"VLOOKUP(A3010,bangolf_kategorien!$A$2:$B$11,2,FALSE)","v":"SM1"}]
["ob",29859,"Ralf","Schindler","1. BGC Celle von 1964",{"$f":"CONCATENATE(VLOOKUP(A3011,bangolf_kategorien!$A$2:$B$11,2,FALSE),\": \",D3011,\", \",C3011)","v":"SM1: Schindler, Ralf"},{"$f":"VLOOKUP(A3011,bangolf_kategorien!$A$2:$B$11,2,FALSE)","v":"SM1"}]
["ds",67588,"Sandra","Schindler","BGS Hardenberg-Pötter",{"$f":"CONCATENATE(VLOOKUP(A3012,bangolf_kategorien!$A$2:$B$11,2,FALSE),\": \",D3012,\", \",C3012)","v":"D: Schindler, Sandra"},{"$f":"VLOOKUP(A3012,bangolf_kategorien!$A$2:$B$11,2,FALSE)","v":"D"}]
["hs",34905,"Sebastian","Schindler","MGV Eibenstock",{"$f":"CONCATENATE(VLOOKUP(A3013,bangolf_kategorien!$A$2:$B$11,2,FALSE),\": \",D3013,\", \",C3013)","v":"H: Schindler, Sebastian"},{"$f":"VLOOKUP(A3013,bangolf_kategorien!$A$2:$B$11,2,FALSE)","v":"H"}]
["hs",67481,"Dominik","Schirmer","MGC Ingolstadt",{"$f":"CONCATENATE(VLOOKUP(A3014,bangolf_kategorien!$A$2:$B$11,2,FALSE),\": \",D3014,\", \",C3014)","v":"H: Schirmer, Dominik"},{"$f":"VLOOKUP(A3014,bangolf_kategorien!$A$2:$B$11,2,FALSE)","v":"H"}]
["hv",26183,"Uwe","Schirrmacher","1. MSC Hamburg-Neu Wulmstorf",{"$f":"CONCATENATE(VLOOKUP(A3015,bangolf_kategorien!$A$2:$B$11,2,FALSE),\": \",D3015,\", \",C3015)","v":"SM2: Schirrmacher, Uwe"},{"$f":"VLOOKUP(A3015,bangolf_kategorien!$A$2:$B$11,2,FALSE)","v":"SM2"}]
["og",66252,"Simone","Schlabbach","SG  Weiterstadt 1886",{"$f":"CONCATENATE(VLOOKUP(A3016,bangolf_kategorien!$A$2:$B$11,2,FALSE),\": \",D3016,\", \",C3016)","v":"SW1: Schlabbach, Simone"},{"$f":"VLOOKUP(A3016,bangolf_kategorien!$A$2:$B$11,2,FALSE)","v":"SW1"}]
["hs",36672,"Thomas","Schlai","BGC Illertissen",{"$f":"CONCATENATE(VLOOKUP(A3017,bangolf_kategorien!$A$2:$B$11,2,FALSE),\": \",D3017,\", \",C3017)","v":"H: Schlai, Thomas"},{"$f":"VLOOKUP(A3017,bangolf_kategorien!$A$2:$B$11,2,FALSE)","v":"H"}]
["dv",26005,"Anna-Maria","Schlauch","BGC Bad Berneck",{"$f":"CONCATENATE(VLOOKUP(A3018,bangolf_kategorien!$A$2:$B$11,2,FALSE),\": \",D3018,\", \",C3018)","v":"SW2: Schlauch, Anna-Maria"},{"$f":"VLOOKUP(A3018,bangolf_kategorien!$A$2:$B$11,2,FALSE)","v":"SW2"}]
["hs",63701,"Dominik","Schlauch","BGC Bad Berneck",{"$f":"CONCATENATE(VLOOKUP(A3019,bangolf_kategorien!$A$2:$B$11,2,FALSE),\": \",D3019,\", \",C3019)","v":"H: Schlauch, Dominik"},{"$f":"VLOOKUP(A3019,bangolf_kategorien!$A$2:$B$11,2,FALSE)","v":"H"}]
["hv",26002,"Peter","Schlauch","BGC Bad Berneck",{"$f":"CONCATENATE(VLOOKUP(A3020,bangolf_kategorien!$A$2:$B$11,2,FALSE),\": \",D3020,\", \",C3020)","v":"SM2: Schlauch, Peter"},{"$f":"VLOOKUP(A3020,bangolf_kategorien!$A$2:$B$11,2,FALSE)","v":"SM2"}]
["ds",66312,"Jeanine","Schlaucher","MGC Murnau am Staffelsee",{"$f":"CONCATENATE(VLOOKUP(A3021,bangolf_kategorien!$A$2:$B$11,2,FALSE),\": \",D3021,\", \",C3021)","v":"D: Schlaucher, Jeanine"},{"$f":"VLOOKUP(A3021,bangolf_kategorien!$A$2:$B$11,2,FALSE)","v":"D"}]
["hv",62840,"Gerd","Schlaudecker","1. MGC Saar 68 St. Ingbert",{"$f":"CONCATENATE(VLOOKUP(A3022,bangolf_kategorien!$A$2:$B$11,2,FALSE),\": \",D3022,\", \",C3022)","v":"SM2: Schlaudecker, Gerd"},{"$f":"VLOOKUP(A3022,bangolf_kategorien!$A$2:$B$11,2,FALSE)","v":"SM2"}]
["og",44479,"Vera","Schlaudecker","1. KC Homburg-Saar 1967",{"$f":"CONCATENATE(VLOOKUP(A3023,bangolf_kategorien!$A$2:$B$11,2,FALSE),\": \",D3023,\", \",C3023)","v":"SW1: Schlaudecker, Vera"},{"$f":"VLOOKUP(A3023,bangolf_kategorien!$A$2:$B$11,2,FALSE)","v":"SW1"}]
["ob",65959,"Christian","Schlegel","VFB 21 Neugattersleben",{"$f":"CONCATENATE(VLOOKUP(A3024,bangolf_kategorien!$A$2:$B$11,2,FALSE),\": \",D3024,\", \",C3024)","v":"SM1: Schlegel, Christian"},{"$f":"VLOOKUP(A3024,bangolf_kategorien!$A$2:$B$11,2,FALSE)","v":"SM1"}]
["ds",38649,"Christina","Schleich","MSF Brilon",{"$f":"CONCATENATE(VLOOKUP(A3025,bangolf_kategorien!$A$2:$B$11,2,FALSE),\": \",D3025,\", \",C3025)","v":"D: Schleich, Christina"},{"$f":"VLOOKUP(A3025,bangolf_kategorien!$A$2:$B$11,2,FALSE)","v":"D"}]
["ds",38217,"Melanie","Schleich","MSF Brilon",{"$f":"CONCATENATE(VLOOKUP(A3026,bangolf_kategorien!$A$2:$B$11,2,FALSE),\": \",D3026,\", \",C3026)","v":"D: Schleich, Melanie"},{"$f":"VLOOKUP(A3026,bangolf_kategorien!$A$2:$B$11,2,FALSE)","v":"D"}]
["hv",38218,"Peter","Schleich","MSF Brilon",{"$f":"CONCATENATE(VLOOKUP(A3027,bangolf_kategorien!$A$2:$B$11,2,FALSE),\": \",D3027,\", \",C3027)","v":"SM2: Schleich, Peter"},{"$f":"VLOOKUP(A3027,bangolf_kategorien!$A$2:$B$11,2,FALSE)","v":"SM2"}]
["hv",17448,"Manfred","Schleier","1. BGC München",{"$f":"CONCATENATE(VLOOKUP(A3028,bangolf_kategorien!$A$2:$B$11,2,FALSE),\": \",D3028,\", \",C3028)","v":"SM2: Schleier, Manfred"},{"$f":"VLOOKUP(A3028,bangolf_kategorien!$A$2:$B$11,2,FALSE)","v":"SM2"}]
["hv",18146,"Wolfgang","Schlenstedt","Minigolf Wölfe Rheinstetten 02",{"$f":"CONCATENATE(VLOOKUP(A3029,bangolf_kategorien!$A$2:$B$11,2,FALSE),\": \",D3029,\", \",C3029)","v":"SM2: Schlenstedt, Wolfgang"},{"$f":"VLOOKUP(A3029,bangolf_kategorien!$A$2:$B$11,2,FALSE)","v":"SM2"}]
["og",34033,"Annette","Schlereth","MGC \"Stahlquelle\" Bad Bocklet",{"$f":"CONCATENATE(VLOOKUP(A3030,bangolf_kategorien!$A$2:$B$11,2,FALSE),\": \",D3030,\", \",C3030)","v":"SW1: Schlereth, Annette"},{"$f":"VLOOKUP(A3030,bangolf_kategorien!$A$2:$B$11,2,FALSE)","v":"SW1"}]
["hv",42041,"Klaus","Schleser","1. MGC München-Feldmoching",{"$f":"CONCATENATE(VLOOKUP(A3031,bangolf_kategorien!$A$2:$B$11,2,FALSE),\": \",D3031,\", \",C3031)","v":"SM2: Schleser, Klaus"},{"$f":"VLOOKUP(A3031,bangolf_kategorien!$A$2:$B$11,2,FALSE)","v":"SM2"}]
["hs",37858,"Sebastian","Schleser","1. MGC München-Feldmoching",{"$f":"CONCATENATE(VLOOKUP(A3032,bangolf_kategorien!$A$2:$B$11,2,FALSE),\": \",D3032,\", \",C3032)","v":"H: Schleser, Sebastian"},{"$f":"VLOOKUP(A3032,bangolf_kategorien!$A$2:$B$11,2,FALSE)","v":"H"}]
["hs",66966,"Fabian","Schlesier","1. BGC Hannover",{"$f":"CONCATENATE(VLOOKUP(A3033,bangolf_kategorien!$A$2:$B$11,2,FALSE),\": \",D3033,\", \",C3033)","v":"H: Schlesier, Fabian"},{"$f":"VLOOKUP(A3033,bangolf_kategorien!$A$2:$B$11,2,FALSE)","v":"H"}]
["hv",3738,"Peter","Schlesinger","Bochumer Minigolf-Club 1960",{"$f":"CONCATENATE(VLOOKUP(A3034,bangolf_kategorien!$A$2:$B$11,2,FALSE),\": \",D3034,\", \",C3034)","v":"SM2: Schlesinger, Peter"},{"$f":"VLOOKUP(A3034,bangolf_kategorien!$A$2:$B$11,2,FALSE)","v":"SM2"}]
["hv",67212,"Peter","Schlicksupp","MGC Bad Homburg vdH",{"$f":"CONCATENATE(VLOOKUP(A3035,bangolf_kategorien!$A$2:$B$11,2,FALSE),\": \",D3035,\", \",C3035)","v":"SM2: Schlicksupp, Peter"},{"$f":"VLOOKUP(A3035,bangolf_kategorien!$A$2:$B$11,2,FALSE)","v":"SM2"}]
["hv",29721,"Rainer","Schlieker","MGC Murnau am Staffelsee",{"$f":"CONCATENATE(VLOOKUP(A3036,bangolf_kategorien!$A$2:$B$11,2,FALSE),\": \",D3036,\", \",C3036)","v":"SM2: Schlieker, Rainer"},{"$f":"VLOOKUP(A3036,bangolf_kategorien!$A$2:$B$11,2,FALSE)","v":"SM2"}]
["hv",21326,"Hans-Günter","Schlösser","BGSV Kerpen",{"$f":"CONCATENATE(VLOOKUP(A3037,bangolf_kategorien!$A$2:$B$11,2,FALSE),\": \",D3037,\", \",C3037)","v":"SM2: Schlösser, Hans-Günter"},{"$f":"VLOOKUP(A3037,bangolf_kategorien!$A$2:$B$11,2,FALSE)","v":"SM2"}]
["ob",43245,"Rainer","Schlottermüller","1. BGC Hannover",{"$f":"CONCATENATE(VLOOKUP(A3038,bangolf_kategorien!$A$2:$B$11,2,FALSE),\": \",D3038,\", \",C3038)","v":"SM1: Schlottermüller, Rainer"},{"$f":"VLOOKUP(A3038,bangolf_kategorien!$A$2:$B$11,2,FALSE)","v":"SM1"}]
["hv",36394,"Wilfried","Schlüter","VfB Osnabrück",{"$f":"CONCATENATE(VLOOKUP(A3039,bangolf_kategorien!$A$2:$B$11,2,FALSE),\": \",D3039,\", \",C3039)","v":"SM2: Schlüter, Wilfried"},{"$f":"VLOOKUP(A3039,bangolf_kategorien!$A$2:$B$11,2,FALSE)","v":"SM2"}]
["og",67177,"Birgit","Schmäck","1.KGC Mönchengladbach",{"$f":"CONCATENATE(VLOOKUP(A3040,bangolf_kategorien!$A$2:$B$11,2,FALSE),\": \",D3040,\", \",C3040)","v":"SW1: Schmäck, Birgit"},{"$f":"VLOOKUP(A3040,bangolf_kategorien!$A$2:$B$11,2,FALSE)","v":"SW1"}]
["ob",67178,"Joachim","Schmäck","1.KGC Mönchengladbach",{"$f":"CONCATENATE(VLOOKUP(A3041,bangolf_kategorien!$A$2:$B$11,2,FALSE),\": \",D3041,\", \",C3041)","v":"SM1: Schmäck, Joachim"},{"$f":"VLOOKUP(A3041,bangolf_kategorien!$A$2:$B$11,2,FALSE)","v":"SM1"}]
["ob",67060,"Herbert","Schmalix","1. Münchener MGC",{"$f":"CONCATENATE(VLOOKUP(A3042,bangolf_kategorien!$A$2:$B$11,2,FALSE),\": \",D3042,\", \",C3042)","v":"SM1: Schmalix, Herbert"},{"$f":"VLOOKUP(A3042,bangolf_kategorien!$A$2:$B$11,2,FALSE)","v":"SM1"}]
["hs",35113,"Markus","Schmälzle","Miniaturgolf Sportclub Schriesheim",{"$f":"CONCATENATE(VLOOKUP(A3043,bangolf_kategorien!$A$2:$B$11,2,FALSE),\": \",D3043,\", \",C3043)","v":"H: Schmälzle, Markus"},{"$f":"VLOOKUP(A3043,bangolf_kategorien!$A$2:$B$11,2,FALSE)","v":"H"}]
["hj",66742,"Kenny Marc","Schmeckenbecher","MC 62 Lüdenscheid",{"$f":"CONCATENATE(VLOOKUP(A3044,bangolf_kategorien!$A$2:$B$11,2,FALSE),\": \",D3044,\", \",C3044)","v":"JM: Schmeckenbecher, Kenny Marc"},{"$f":"VLOOKUP(A3044,bangolf_kategorien!$A$2:$B$11,2,FALSE)","v":"JM"}]
["ob",38137,"Thomas","Schmeier","MGF Magdeburg 1995",{"$f":"CONCATENATE(VLOOKUP(A3045,bangolf_kategorien!$A$2:$B$11,2,FALSE),\": \",D3045,\", \",C3045)","v":"SM1: Schmeier, Thomas"},{"$f":"VLOOKUP(A3045,bangolf_kategorien!$A$2:$B$11,2,FALSE)","v":"SM1"}]
["ob",203,"Michael","Schmeling","Tempelhofer MV Berlin",{"$f":"CONCATENATE(VLOOKUP(A3046,bangolf_kategorien!$A$2:$B$11,2,FALSE),\": \",D3046,\", \",C3046)","v":"SM1: Schmeling, Michael"},{"$f":"VLOOKUP(A3046,bangolf_kategorien!$A$2:$B$11,2,FALSE)","v":"SM1"}]
["hv",3305579,"Dieter","Schmelzer","Hobby",{"$f":"CONCATENATE(VLOOKUP(A3047,bangolf_kategorien!$A$2:$B$11,2,FALSE),\": \",D3047,\", \",C3047)","v":"SM2: Schmelzer, Dieter"},{"$f":"VLOOKUP(A3047,bangolf_kategorien!$A$2:$B$11,2,FALSE)","v":"SM2"}]
["dv",40400,"Barbara","Schmid","TV Niederstetten 1862  Abt. Minigolf",{"$f":"CONCATENATE(VLOOKUP(A3048,bangolf_kategorien!$A$2:$B$11,2,FALSE),\": \",D3048,\", \",C3048)","v":"SW2: Schmid, Barbara"},{"$f":"VLOOKUP(A3048,bangolf_kategorien!$A$2:$B$11,2,FALSE)","v":"SW2"}]
["ob",67189,"Manfred","Schmid","MGF Steinbruch Kempten",{"$f":"CONCATENATE(VLOOKUP(A3049,bangolf_kategorien!$A$2:$B$11,2,FALSE),\": \",D3049,\", \",C3049)","v":"SM1: Schmid, Manfred"},{"$f":"VLOOKUP(A3049,bangolf_kategorien!$A$2:$B$11,2,FALSE)","v":"SM1"}]
["ob",25894,"Roland","Schmid","MGF Hilzingen 80",{"$f":"CONCATENATE(VLOOKUP(A3050,bangolf_kategorien!$A$2:$B$11,2,FALSE),\": \",D3050,\", \",C3050)","v":"SM1: Schmid, Roland"},{"$f":"VLOOKUP(A3050,bangolf_kategorien!$A$2:$B$11,2,FALSE)","v":"SM1"}]
["og",67190,"Sibylle","Schmid","MGF Steinbruch Kempten",{"$f":"CONCATENATE(VLOOKUP(A3051,bangolf_kategorien!$A$2:$B$11,2,FALSE),\": \",D3051,\", \",C3051)","v":"SW1: Schmid, Sibylle"},{"$f":"VLOOKUP(A3051,bangolf_kategorien!$A$2:$B$11,2,FALSE)","v":"SW1"}]
["ob",67080,"Stephan","Schmid","OMGC Ingolstadt",{"$f":"CONCATENATE(VLOOKUP(A3052,bangolf_kategorien!$A$2:$B$11,2,FALSE),\": \",D3052,\", \",C3052)","v":"SM1: Schmid, Stephan"},{"$f":"VLOOKUP(A3052,bangolf_kategorien!$A$2:$B$11,2,FALSE)","v":"SM1"}]
["hv",2334,"Walter","Schmid","Miniaturgolf Sportclub Schriesheim",{"$f":"CONCATENATE(VLOOKUP(A3053,bangolf_kategorien!$A$2:$B$11,2,FALSE),\": \",D3053,\", \",C3053)","v":"SM2: Schmid, Walter"},{"$f":"VLOOKUP(A3053,bangolf_kategorien!$A$2:$B$11,2,FALSE)","v":"SM2"}]
["og",67081,"Margit","Schmidbauer","OMGC Ingolstadt",{"$f":"CONCATENATE(VLOOKUP(A3054,bangolf_kategorien!$A$2:$B$11,2,FALSE),\": \",D3054,\", \",C3054)","v":"SW1: Schmidbauer, Margit"},{"$f":"VLOOKUP(A3054,bangolf_kategorien!$A$2:$B$11,2,FALSE)","v":"SW1"}]
["hv",67082,"Werner","Schmidbauer","OMGC Ingolstadt",{"$f":"CONCATENATE(VLOOKUP(A3055,bangolf_kategorien!$A$2:$B$11,2,FALSE),\": \",D3055,\", \",C3055)","v":"SM2: Schmidbauer, Werner"},{"$f":"VLOOKUP(A3055,bangolf_kategorien!$A$2:$B$11,2,FALSE)","v":"SM2"}]
["ob",42558,"Lothar","Schmidhuber","1. BGC Landshut",{"$f":"CONCATENATE(VLOOKUP(A3056,bangolf_kategorien!$A$2:$B$11,2,FALSE),\": \",D3056,\", \",C3056)","v":"SM1: Schmidhuber, Lothar"},{"$f":"VLOOKUP(A3056,bangolf_kategorien!$A$2:$B$11,2,FALSE)","v":"SM1"}]
["hs",64760,"Maximilian","Schmidhuber","1. BGC Landshut",{"$f":"CONCATENATE(VLOOKUP(A3057,bangolf_kategorien!$A$2:$B$11,2,FALSE),\": \",D3057,\", \",C3057)","v":"H: Schmidhuber, Maximilian"},{"$f":"VLOOKUP(A3057,bangolf_kategorien!$A$2:$B$11,2,FALSE)","v":"H"}]
["dv",3202768,"Barbara","Schmidt","Hobby",{"$f":"CONCATENATE(VLOOKUP(A3058,bangolf_kategorien!$A$2:$B$11,2,FALSE),\": \",D3058,\", \",C3058)","v":"SW2: Schmidt, Barbara"},{"$f":"VLOOKUP(A3058,bangolf_kategorien!$A$2:$B$11,2,FALSE)","v":"SW2"}]
["og",45345,"Barbara","Schmidt","1. MGC Mitterteich-Großbüchlberg",{"$f":"CONCATENATE(VLOOKUP(A3059,bangolf_kategorien!$A$2:$B$11,2,FALSE),\": \",D3059,\", \",C3059)","v":"SW1: Schmidt, Barbara"},{"$f":"VLOOKUP(A3059,bangolf_kategorien!$A$2:$B$11,2,FALSE)","v":"SW1"}]
["dv",36324,"Carmen","Schmidt","1. BGC Hannover",{"$f":"CONCATENATE(VLOOKUP(A3060,bangolf_kategorien!$A$2:$B$11,2,FALSE),\": \",D3060,\", \",C3060)","v":"SW2: Schmidt, Carmen"},{"$f":"VLOOKUP(A3060,bangolf_kategorien!$A$2:$B$11,2,FALSE)","v":"SW2"}]
["ob",51714,"Christian","Schmidt","BGSC \"Gut Schlag\" Gladbeck",{"$f":"CONCATENATE(VLOOKUP(A3061,bangolf_kategorien!$A$2:$B$11,2,FALSE),\": \",D3061,\", \",C3061)","v":"SM1: Schmidt, Christian"},{"$f":"VLOOKUP(A3061,bangolf_kategorien!$A$2:$B$11,2,FALSE)","v":"SM1"}]
["ob",67572,"Christian","Schmidt","1. Münchener MGC",{"$f":"CONCATENATE(VLOOKUP(A3062,bangolf_kategorien!$A$2:$B$11,2,FALSE),\": \",D3062,\", \",C3062)","v":"SM1: Schmidt, Christian"},{"$f":"VLOOKUP(A3062,bangolf_kategorien!$A$2:$B$11,2,FALSE)","v":"SM1"}]
["hv",19792,"Dietmar","Schmidt","BIG ASPERG",{"$f":"CONCATENATE(VLOOKUP(A3063,bangolf_kategorien!$A$2:$B$11,2,FALSE),\": \",D3063,\", \",C3063)","v":"SM2: Schmidt, Dietmar"},{"$f":"VLOOKUP(A3063,bangolf_kategorien!$A$2:$B$11,2,FALSE)","v":"SM2"}]
["hs",37848,"Dustin","Schmidt","MGC Homburger Land",{"$f":"CONCATENATE(VLOOKUP(A3064,bangolf_kategorien!$A$2:$B$11,2,FALSE),\": \",D3064,\", \",C3064)","v":"H: Schmidt, Dustin"},{"$f":"VLOOKUP(A3064,bangolf_kategorien!$A$2:$B$11,2,FALSE)","v":"H"}]
["ob",22105,"Frank","Schmidt","MC Neuwied",{"$f":"CONCATENATE(VLOOKUP(A3065,bangolf_kategorien!$A$2:$B$11,2,FALSE),\": \",D3065,\", \",C3065)","v":"SM1: Schmidt, Frank"},{"$f":"VLOOKUP(A3065,bangolf_kategorien!$A$2:$B$11,2,FALSE)","v":"SM1"}]
["dj",66761,"Hanna","Schmidt","CGC Rauschenberg",{"$f":"CONCATENATE(VLOOKUP(A3066,bangolf_kategorien!$A$2:$B$11,2,FALSE),\": \",D3066,\", \",C3066)","v":"JW: Schmidt, Hanna"},{"$f":"VLOOKUP(A3066,bangolf_kategorien!$A$2:$B$11,2,FALSE)","v":"JW"}]
["hv",9197,"Hans-Jürgen","Schmidt","MGC Homburger Land",{"$f":"CONCATENATE(VLOOKUP(A3067,bangolf_kategorien!$A$2:$B$11,2,FALSE),\": \",D3067,\", \",C3067)","v":"SM2: Schmidt, Hans-Jürgen"},{"$f":"VLOOKUP(A3067,bangolf_kategorien!$A$2:$B$11,2,FALSE)","v":"SM2"}]
["og",30937,"Heike","Schmidt","BGC Bad Nenndorf",{"$f":"CONCATENATE(VLOOKUP(A3068,bangolf_kategorien!$A$2:$B$11,2,FALSE),\": \",D3068,\", \",C3068)","v":"SW1: Schmidt, Heike"},{"$f":"VLOOKUP(A3068,bangolf_kategorien!$A$2:$B$11,2,FALSE)","v":"SW1"}]
["ob",40202,"Helmut","Schmidt","MGC Freizeitzentrum Biebertal",{"$f":"CONCATENATE(VLOOKUP(A3069,bangolf_kategorien!$A$2:$B$11,2,FALSE),\": \",D3069,\", \",C3069)","v":"SM1: Schmidt, Helmut"},{"$f":"VLOOKUP(A3069,bangolf_kategorien!$A$2:$B$11,2,FALSE)","v":"SM1"}]
["hs",33346,"Henry","Schmidt","1. MGC Mitterteich-Großbüchlberg",{"$f":"CONCATENATE(VLOOKUP(A3070,bangolf_kategorien!$A$2:$B$11,2,FALSE),\": \",D3070,\", \",C3070)","v":"H: Schmidt, Henry"},{"$f":"VLOOKUP(A3070,bangolf_kategorien!$A$2:$B$11,2,FALSE)","v":"H"}]
["hv",40892,"Horst","Schmidt","1. BGC Hannover",{"$f":"CONCATENATE(VLOOKUP(A3071,bangolf_kategorien!$A$2:$B$11,2,FALSE),\": \",D3071,\", \",C3071)","v":"SM2: Schmidt, Horst"},{"$f":"VLOOKUP(A3071,bangolf_kategorien!$A$2:$B$11,2,FALSE)","v":"SM2"}]
["ob",67429,"Klaus","Schmidt","MGC Bad Homburg vdH",{"$f":"CONCATENATE(VLOOKUP(A3072,bangolf_kategorien!$A$2:$B$11,2,FALSE),\": \",D3072,\", \",C3072)","v":"SM1: Schmidt, Klaus"},{"$f":"VLOOKUP(A3072,bangolf_kategorien!$A$2:$B$11,2,FALSE)","v":"SM1"}]
["ob",65917,"Lars","Schmidt","BSC Ennepetal",{"$f":"CONCATENATE(VLOOKUP(A3073,bangolf_kategorien!$A$2:$B$11,2,FALSE),\": \",D3073,\", \",C3073)","v":"SM1: Schmidt, Lars"},{"$f":"VLOOKUP(A3073,bangolf_kategorien!$A$2:$B$11,2,FALSE)","v":"SM1"}]
["fa",67159,"Leonie","Schmidt","BGC Bremen",{"$f":"CONCATENATE(VLOOKUP(A3074,bangolf_kategorien!$A$2:$B$11,2,FALSE),\": \",D3074,\", \",C3074)","v":"SCHW: Schmidt, Leonie"},{"$f":"VLOOKUP(A3074,bangolf_kategorien!$A$2:$B$11,2,FALSE)","v":"SCHW"}]
["hs",87514,"Marco","Schmidt","MGC Heringen 1997",{"$f":"CONCATENATE(VLOOKUP(A3075,bangolf_kategorien!$A$2:$B$11,2,FALSE),\": \",D3075,\", \",C3075)","v":"H: Schmidt, Marco"},{"$f":"VLOOKUP(A3075,bangolf_kategorien!$A$2:$B$11,2,FALSE)","v":"H"}]
["hs",37849,"Marvin","Schmidt","MGC Homburger Land",{"$f":"CONCATENATE(VLOOKUP(A3076,bangolf_kategorien!$A$2:$B$11,2,FALSE),\": \",D3076,\", \",C3076)","v":"H: Schmidt, Marvin"},{"$f":"VLOOKUP(A3076,bangolf_kategorien!$A$2:$B$11,2,FALSE)","v":"H"}]
["hs",66256,"Maximilian","Schmidt","1. FMGC Lichtenfels 1961",{"$f":"CONCATENATE(VLOOKUP(A3077,bangolf_kategorien!$A$2:$B$11,2,FALSE),\": \",D3077,\", \",C3077)","v":"H: Schmidt, Maximilian"},{"$f":"VLOOKUP(A3077,bangolf_kategorien!$A$2:$B$11,2,FALSE)","v":"H"}]
["hs",66810,"Mirko","Schmidt","MGF Magdeburg 1995",{"$f":"CONCATENATE(VLOOKUP(A3078,bangolf_kategorien!$A$2:$B$11,2,FALSE),\": \",D3078,\", \",C3078)","v":"H: Schmidt, Mirko"},{"$f":"VLOOKUP(A3078,bangolf_kategorien!$A$2:$B$11,2,FALSE)","v":"H"}]
["ob",26491,"Olaf","Schmidt","MGC \"AS\" Witten 1963",{"$f":"CONCATENATE(VLOOKUP(A3079,bangolf_kategorien!$A$2:$B$11,2,FALSE),\": \",D3079,\", \",C3079)","v":"SM1: Schmidt, Olaf"},{"$f":"VLOOKUP(A3079,bangolf_kategorien!$A$2:$B$11,2,FALSE)","v":"SM1"}]
["hv",35706,"Peter","Schmidt","MGV Eibenstock",{"$f":"CONCATENATE(VLOOKUP(A3080,bangolf_kategorien!$A$2:$B$11,2,FALSE),\": \",D3080,\", \",C3080)","v":"SM2: Schmidt, Peter"},{"$f":"VLOOKUP(A3080,bangolf_kategorien!$A$2:$B$11,2,FALSE)","v":"SM2"}]
["hv",67275,"Peter","Schmidt","BSG Pneumant Fürstenwalde, Abt. Minigolf",{"$f":"CONCATENATE(VLOOKUP(A3081,bangolf_kategorien!$A$2:$B$11,2,FALSE),\": \",D3081,\", \",C3081)","v":"SM2: Schmidt, Peter"},{"$f":"VLOOKUP(A3081,bangolf_kategorien!$A$2:$B$11,2,FALSE)","v":"SM2"}]
["dv",67258,"Silvia","Schmidt","1. MGC Mannheim 1968",{"$f":"CONCATENATE(VLOOKUP(A3082,bangolf_kategorien!$A$2:$B$11,2,FALSE),\": \",D3082,\", \",C3082)","v":"SW2: Schmidt, Silvia"},{"$f":"VLOOKUP(A3082,bangolf_kategorien!$A$2:$B$11,2,FALSE)","v":"SW2"}]
["dj",67140,"Sophie","Schmidt","PTSV Hof, Abt. Minigolf",{"$f":"CONCATENATE(VLOOKUP(A3083,bangolf_kategorien!$A$2:$B$11,2,FALSE),\": \",D3083,\", \",C3083)","v":"JW: Schmidt, Sophie"},{"$f":"VLOOKUP(A3083,bangolf_kategorien!$A$2:$B$11,2,FALSE)","v":"JW"}]
["ob",33928,"Thorben","Schmidt","MGC Brunsbüttel",{"$f":"CONCATENATE(VLOOKUP(A3084,bangolf_kategorien!$A$2:$B$11,2,FALSE),\": \",D3084,\", \",C3084)","v":"SM1: Schmidt, Thorben"},{"$f":"VLOOKUP(A3084,bangolf_kategorien!$A$2:$B$11,2,FALSE)","v":"SM1"}]
["ob",67560,"Thorsten","Schmidt","VfM Bottrop",{"$f":"CONCATENATE(VLOOKUP(A3085,bangolf_kategorien!$A$2:$B$11,2,FALSE),\": \",D3085,\", \",C3085)","v":"SM1: Schmidt, Thorsten"},{"$f":"VLOOKUP(A3085,bangolf_kategorien!$A$2:$B$11,2,FALSE)","v":"SM1"}]
["ob",66746,"Udo","Schmidt","Biskirchener BGV",{"$f":"CONCATENATE(VLOOKUP(A3086,bangolf_kategorien!$A$2:$B$11,2,FALSE),\": \",D3086,\", \",C3086)","v":"SM1: Schmidt, Udo"},{"$f":"VLOOKUP(A3086,bangolf_kategorien!$A$2:$B$11,2,FALSE)","v":"SM1"}]
["ob",30657,"Volker","Schmidt","1. MGC Mitterteich-Großbüchlberg",{"$f":"CONCATENATE(VLOOKUP(A3087,bangolf_kategorien!$A$2:$B$11,2,FALSE),\": \",D3087,\", \",C3087)","v":"SM1: Schmidt, Volker"},{"$f":"VLOOKUP(A3087,bangolf_kategorien!$A$2:$B$11,2,FALSE)","v":"SM1"}]
["ob",31210,"Ralf","Schmidt-Hess","MGF Waldshut 74",{"$f":"CONCATENATE(VLOOKUP(A3088,bangolf_kategorien!$A$2:$B$11,2,FALSE),\": \",D3088,\", \",C3088)","v":"SM1: Schmidt-Hess, Ralf"},{"$f":"VLOOKUP(A3088,bangolf_kategorien!$A$2:$B$11,2,FALSE)","v":"SM1"}]
["og",36631,"Sabine","Schmidt-Hess","1. CGC Blau-Gelb Grötzingen",{"$f":"CONCATENATE(VLOOKUP(A3089,bangolf_kategorien!$A$2:$B$11,2,FALSE),\": \",D3089,\", \",C3089)","v":"SW1: Schmidt-Hess, Sabine"},{"$f":"VLOOKUP(A3089,bangolf_kategorien!$A$2:$B$11,2,FALSE)","v":"SW1"}]
["hv",38438,"Frank","Schmidtke","SV Glückauf 1901 Gebhardshagen",{"$f":"CONCATENATE(VLOOKUP(A3090,bangolf_kategorien!$A$2:$B$11,2,FALSE),\": \",D3090,\", \",C3090)","v":"SM2: Schmidtke, Frank"},{"$f":"VLOOKUP(A3090,bangolf_kategorien!$A$2:$B$11,2,FALSE)","v":"SM2"}]
["hv",5056,"Johannes","Schmiedbauer","1. BGC Bad Füssing",{"$f":"CONCATENATE(VLOOKUP(A3091,bangolf_kategorien!$A$2:$B$11,2,FALSE),\": \",D3091,\", \",C3091)","v":"SM2: Schmiedbauer, Johannes"},{"$f":"VLOOKUP(A3091,bangolf_kategorien!$A$2:$B$11,2,FALSE)","v":"SM2"}]
["ob",44955,"Jürgen","Schmitt","MGC \"AS\" Witten 1963",{"$f":"CONCATENATE(VLOOKUP(A3092,bangolf_kategorien!$A$2:$B$11,2,FALSE),\": \",D3092,\", \",C3092)","v":"SM1: Schmitt, Jürgen"},{"$f":"VLOOKUP(A3092,bangolf_kategorien!$A$2:$B$11,2,FALSE)","v":"SM1"}]
["hs",36110,"Michael","Schmitt","SG Arheilgen Abt. Bahnengolf",{"$f":"CONCATENATE(VLOOKUP(A3093,bangolf_kategorien!$A$2:$B$11,2,FALSE),\": \",D3093,\", \",C3093)","v":"H: Schmitt, Michael"},{"$f":"VLOOKUP(A3093,bangolf_kategorien!$A$2:$B$11,2,FALSE)","v":"H"}]
["og",46967,"Regina","Schmitt","BGC Uerdingen",{"$f":"CONCATENATE(VLOOKUP(A3094,bangolf_kategorien!$A$2:$B$11,2,FALSE),\": \",D3094,\", \",C3094)","v":"SW1: Schmitt, Regina"},{"$f":"VLOOKUP(A3094,bangolf_kategorien!$A$2:$B$11,2,FALSE)","v":"SW1"}]
["dv",60743,"Ursula","Schmitt","SG Arheilgen Abt. Bahnengolf",{"$f":"CONCATENATE(VLOOKUP(A3095,bangolf_kategorien!$A$2:$B$11,2,FALSE),\": \",D3095,\", \",C3095)","v":"SW2: Schmitt, Ursula"},{"$f":"VLOOKUP(A3095,bangolf_kategorien!$A$2:$B$11,2,FALSE)","v":"SW2"}]
["ob",33891,"Uwe","Schmitt","Miniaturgolf Sportclub Schriesheim",{"$f":"CONCATENATE(VLOOKUP(A3096,bangolf_kategorien!$A$2:$B$11,2,FALSE),\": \",D3096,\", \",C3096)","v":"SM1: Schmitt, Uwe"},{"$f":"VLOOKUP(A3096,bangolf_kategorien!$A$2:$B$11,2,FALSE)","v":"SM1"}]
["ob",36041,"Joachim","Schmittdiel","1. MGC Kassel 1964",{"$f":"CONCATENATE(VLOOKUP(A3097,bangolf_kategorien!$A$2:$B$11,2,FALSE),\": \",D3097,\", \",C3097)","v":"SM1: Schmittdiel, Joachim"},{"$f":"VLOOKUP(A3097,bangolf_kategorien!$A$2:$B$11,2,FALSE)","v":"SM1"}]
["og",34109,"Karin","Schmitutz","MGC Millennium Lorsch",{"$f":"CONCATENATE(VLOOKUP(A3098,bangolf_kategorien!$A$2:$B$11,2,FALSE),\": \",D3098,\", \",C3098)","v":"SW1: Schmitutz, Karin"},{"$f":"VLOOKUP(A3098,bangolf_kategorien!$A$2:$B$11,2,FALSE)","v":"SW1"}]
["hv",9449,"Peter","Schmitutz","MGC Millennium Lorsch",{"$f":"CONCATENATE(VLOOKUP(A3099,bangolf_kategorien!$A$2:$B$11,2,FALSE),\": \",D3099,\", \",C3099)","v":"SM2: Schmitutz, Peter"},{"$f":"VLOOKUP(A3099,bangolf_kategorien!$A$2:$B$11,2,FALSE)","v":"SM2"}]
["dv",23979,"Gabriela","Schmitutz-Krause","MGC Millennium Lorsch",{"$f":"CONCATENATE(VLOOKUP(A3100,bangolf_kategorien!$A$2:$B$11,2,FALSE),\": \",D3100,\", \",C3100)","v":"SW2: Schmitutz-Krause, Gabriela"},{"$f":"VLOOKUP(A3100,bangolf_kategorien!$A$2:$B$11,2,FALSE)","v":"SW2"}]
["hs",67001,"Dominik","Schmitz","Kölner Miniatur Golf Club",{"$f":"CONCATENATE(VLOOKUP(A3101,bangolf_kategorien!$A$2:$B$11,2,FALSE),\": \",D3101,\", \",C3101)","v":"H: Schmitz, Dominik"},{"$f":"VLOOKUP(A3101,bangolf_kategorien!$A$2:$B$11,2,FALSE)","v":"H"}]
["dv",37171,"Ingeborg","Schmitz","Bochumer Minigolf-Club 1960",{"$f":"CONCATENATE(VLOOKUP(A3102,bangolf_kategorien!$A$2:$B$11,2,FALSE),\": \",D3102,\", \",C3102)","v":"SW2: Schmitz, Ingeborg"},{"$f":"VLOOKUP(A3102,bangolf_kategorien!$A$2:$B$11,2,FALSE)","v":"SW2"}]
["og",38245,"Sibylle","Schmitz","BGC Dormagen",{"$f":"CONCATENATE(VLOOKUP(A3103,bangolf_kategorien!$A$2:$B$11,2,FALSE),\": \",D3103,\", \",C3103)","v":"SW1: Schmitz, Sibylle"},{"$f":"VLOOKUP(A3103,bangolf_kategorien!$A$2:$B$11,2,FALSE)","v":"SW1"}]
["hs",35141,"Tobias","Schmolke","MSC Bensheim-Auerbach",{"$f":"CONCATENATE(VLOOKUP(A3104,bangolf_kategorien!$A$2:$B$11,2,FALSE),\": \",D3104,\", \",C3104)","v":"H: Schmolke, Tobias"},{"$f":"VLOOKUP(A3104,bangolf_kategorien!$A$2:$B$11,2,FALSE)","v":"H"}]
["hv",756,"Axel Rolf","Schmurdy","1. MGC Kassel 1964",{"$f":"CONCATENATE(VLOOKUP(A3105,bangolf_kategorien!$A$2:$B$11,2,FALSE),\": \",D3105,\", \",C3105)","v":"SM2: Schmurdy, Axel Rolf"},{"$f":"VLOOKUP(A3105,bangolf_kategorien!$A$2:$B$11,2,FALSE)","v":"SM2"}]
["hs",24639,"Nico","Schnauer","MGC Bad Oldesloe",{"$f":"CONCATENATE(VLOOKUP(A3106,bangolf_kategorien!$A$2:$B$11,2,FALSE),\": \",D3106,\", \",C3106)","v":"H: Schnauer, Nico"},{"$f":"VLOOKUP(A3106,bangolf_kategorien!$A$2:$B$11,2,FALSE)","v":"H"}]
["hv",3202303,"Wolfgang","Schneeberg","Hobby",{"$f":"CONCATENATE(VLOOKUP(A3107,bangolf_kategorien!$A$2:$B$11,2,FALSE),\": \",D3107,\", \",C3107)","v":"SM2: Schneeberg, Wolfgang"},{"$f":"VLOOKUP(A3107,bangolf_kategorien!$A$2:$B$11,2,FALSE)","v":"SM2"}]
["ob",64054,"Reinhold","Schneid","MGV Ansbach",{"$f":"CONCATENATE(VLOOKUP(A3108,bangolf_kategorien!$A$2:$B$11,2,FALSE),\": \",D3108,\", \",C3108)","v":"SM1: Schneid, Reinhold"},{"$f":"VLOOKUP(A3108,bangolf_kategorien!$A$2:$B$11,2,FALSE)","v":"SM1"}]
["hs",34319,"Alexander","Schneider","SG Arheilgen Abt. Bahnengolf",{"$f":"CONCATENATE(VLOOKUP(A3109,bangolf_kategorien!$A$2:$B$11,2,FALSE),\": \",D3109,\", \",C3109)","v":"H: Schneider, Alexander"},{"$f":"VLOOKUP(A3109,bangolf_kategorien!$A$2:$B$11,2,FALSE)","v":"H"}]
["hs",36247,"Andreas","Schneider","SG Arheilgen Abt. Bahnengolf",{"$f":"CONCATENATE(VLOOKUP(A3110,bangolf_kategorien!$A$2:$B$11,2,FALSE),\": \",D3110,\", \",C3110)","v":"H: Schneider, Andreas"},{"$f":"VLOOKUP(A3110,bangolf_kategorien!$A$2:$B$11,2,FALSE)","v":"H"}]
["hv",61501,"Bernhard","Schneider","MPF Hardt",{"$f":"CONCATENATE(VLOOKUP(A3111,bangolf_kategorien!$A$2:$B$11,2,FALSE),\": \",D3111,\", \",C3111)","v":"SM2: Schneider, Bernhard"},{"$f":"VLOOKUP(A3111,bangolf_kategorien!$A$2:$B$11,2,FALSE)","v":"SM2"}]
["ob",43681,"Christian","Schneider","1. MGC 1970 Göttingen",{"$f":"CONCATENATE(VLOOKUP(A3112,bangolf_kategorien!$A$2:$B$11,2,FALSE),\": \",D3112,\", \",C3112)","v":"SM1: Schneider, Christian"},{"$f":"VLOOKUP(A3112,bangolf_kategorien!$A$2:$B$11,2,FALSE)","v":"SM1"}]
["ob",66941,"Dirk","Schneider","1. BGC Paderborn",{"$f":"CONCATENATE(VLOOKUP(A3113,bangolf_kategorien!$A$2:$B$11,2,FALSE),\": \",D3113,\", \",C3113)","v":"SM1: Schneider, Dirk"},{"$f":"VLOOKUP(A3113,bangolf_kategorien!$A$2:$B$11,2,FALSE)","v":"SM1"}]
["hv",66818,"Franz","Schneider","BSV 82 Ohlsbach",{"$f":"CONCATENATE(VLOOKUP(A3114,bangolf_kategorien!$A$2:$B$11,2,FALSE),\": \",D3114,\", \",C3114)","v":"SM2: Schneider, Franz"},{"$f":"VLOOKUP(A3114,bangolf_kategorien!$A$2:$B$11,2,FALSE)","v":"SM2"}]
["hv",3353102,"Helmut","Schneider","Hobby",{"$f":"CONCATENATE(VLOOKUP(A3115,bangolf_kategorien!$A$2:$B$11,2,FALSE),\": \",D3115,\", \",C3115)","v":"SM2: Schneider, Helmut"},{"$f":"VLOOKUP(A3115,bangolf_kategorien!$A$2:$B$11,2,FALSE)","v":"SM2"}]
["ob",67297,"Olaf","Schneider","MGF Steinbruch Kempten",{"$f":"CONCATENATE(VLOOKUP(A3116,bangolf_kategorien!$A$2:$B$11,2,FALSE),\": \",D3116,\", \",C3116)","v":"SM1: Schneider, Olaf"},{"$f":"VLOOKUP(A3116,bangolf_kategorien!$A$2:$B$11,2,FALSE)","v":"SM1"}]
["hv",61696,"Paul","Schneider","1. MGC Ludwigshafen",{"$f":"CONCATENATE(VLOOKUP(A3117,bangolf_kategorien!$A$2:$B$11,2,FALSE),\": \",D3117,\", \",C3117)","v":"SM2: Schneider, Paul"},{"$f":"VLOOKUP(A3117,bangolf_kategorien!$A$2:$B$11,2,FALSE)","v":"SM2"}]
["og",40365,"Renate","Schneider","OMGC Ingolstadt",{"$f":"CONCATENATE(VLOOKUP(A3118,bangolf_kategorien!$A$2:$B$11,2,FALSE),\": \",D3118,\", \",C3118)","v":"SW1: Schneider, Renate"},{"$f":"VLOOKUP(A3118,bangolf_kategorien!$A$2:$B$11,2,FALSE)","v":"SW1"}]
["ob",43733,"Simon","Schneider","BGV Bergisch Land 1962 / 63",{"$f":"CONCATENATE(VLOOKUP(A3119,bangolf_kategorien!$A$2:$B$11,2,FALSE),\": \",D3119,\", \",C3119)","v":"SM1: Schneider, Simon"},{"$f":"VLOOKUP(A3119,bangolf_kategorien!$A$2:$B$11,2,FALSE)","v":"SM1"}]
["ob",66666,"Timm","Schneider","SG Arheilgen Abt. Bahnengolf",{"$f":"CONCATENATE(VLOOKUP(A3120,bangolf_kategorien!$A$2:$B$11,2,FALSE),\": \",D3120,\", \",C3120)","v":"SM1: Schneider, Timm"},{"$f":"VLOOKUP(A3120,bangolf_kategorien!$A$2:$B$11,2,FALSE)","v":"SM1"}]
["hv",28127,"Wolfgang","Schneiderbanger","1. MGC Bamberg",{"$f":"CONCATENATE(VLOOKUP(A3121,bangolf_kategorien!$A$2:$B$11,2,FALSE),\": \",D3121,\", \",C3121)","v":"SM2: Schneiderbanger, Wolfgang"},{"$f":"VLOOKUP(A3121,bangolf_kategorien!$A$2:$B$11,2,FALSE)","v":"SM2"}]
["ob",67115,"Michael","Schnell","BSV 82 Ohlsbach",{"$f":"CONCATENATE(VLOOKUP(A3122,bangolf_kategorien!$A$2:$B$11,2,FALSE),\": \",D3122,\", \",C3122)","v":"SM1: Schnell, Michael"},{"$f":"VLOOKUP(A3122,bangolf_kategorien!$A$2:$B$11,2,FALSE)","v":"SM1"}]
["ob",47187,"Oliver","Schnickmann","Cobigolf-Verein Hamm 2019",{"$f":"CONCATENATE(VLOOKUP(A3123,bangolf_kategorien!$A$2:$B$11,2,FALSE),\": \",D3123,\", \",C3123)","v":"SM1: Schnickmann, Oliver"},{"$f":"VLOOKUP(A3123,bangolf_kategorien!$A$2:$B$11,2,FALSE)","v":"SM1"}]
["og",47186,"Stefanie","Schnickmann","Cobigolf-Verein Hamm 2019",{"$f":"CONCATENATE(VLOOKUP(A3124,bangolf_kategorien!$A$2:$B$11,2,FALSE),\": \",D3124,\", \",C3124)","v":"SW1: Schnickmann, Stefanie"},{"$f":"VLOOKUP(A3124,bangolf_kategorien!$A$2:$B$11,2,FALSE)","v":"SW1"}]
["ob",43936,"Martin","Schnittker","Bochumer Minigolf-Club 1960",{"$f":"CONCATENATE(VLOOKUP(A3125,bangolf_kategorien!$A$2:$B$11,2,FALSE),\": \",D3125,\", \",C3125)","v":"SM1: Schnittker, Martin"},{"$f":"VLOOKUP(A3125,bangolf_kategorien!$A$2:$B$11,2,FALSE)","v":"SM1"}]
["ob",66214,"Jörg","Schnoor","MGC Bad Oldesloe",{"$f":"CONCATENATE(VLOOKUP(A3126,bangolf_kategorien!$A$2:$B$11,2,FALSE),\": \",D3126,\", \",C3126)","v":"SM1: Schnoor, Jörg"},{"$f":"VLOOKUP(A3126,bangolf_kategorien!$A$2:$B$11,2,FALSE)","v":"SM1"}]
["hv",67367,"Norbert","Schnura","Tempelhofer MV Berlin",{"$f":"CONCATENATE(VLOOKUP(A3127,bangolf_kategorien!$A$2:$B$11,2,FALSE),\": \",D3127,\", \",C3127)","v":"SM2: Schnura, Norbert"},{"$f":"VLOOKUP(A3127,bangolf_kategorien!$A$2:$B$11,2,FALSE)","v":"SM2"}]
["dv",67368,"Regina","Schnura","Tempelhofer MV Berlin",{"$f":"CONCATENATE(VLOOKUP(A3128,bangolf_kategorien!$A$2:$B$11,2,FALSE),\": \",D3128,\", \",C3128)","v":"SW2: Schnura, Regina"},{"$f":"VLOOKUP(A3128,bangolf_kategorien!$A$2:$B$11,2,FALSE)","v":"SW2"}]
["ob",37048,"Manfred","Schöbel","HMC Büttgen",{"$f":"CONCATENATE(VLOOKUP(A3129,bangolf_kategorien!$A$2:$B$11,2,FALSE),\": \",D3129,\", \",C3129)","v":"SM1: Schöbel, Manfred"},{"$f":"VLOOKUP(A3129,bangolf_kategorien!$A$2:$B$11,2,FALSE)","v":"SM1"}]
["hv",67182,"Rudolf","Schocher","Minigolf-Club Diessen",{"$f":"CONCATENATE(VLOOKUP(A3130,bangolf_kategorien!$A$2:$B$11,2,FALSE),\": \",D3130,\", \",C3130)","v":"SM2: Schocher, Rudolf"},{"$f":"VLOOKUP(A3130,bangolf_kategorien!$A$2:$B$11,2,FALSE)","v":"SM2"}]
["ob",40386,"Thomas","Schöchlin","MSV Würzburg-Löwenbrücke",{"$f":"CONCATENATE(VLOOKUP(A3131,bangolf_kategorien!$A$2:$B$11,2,FALSE),\": \",D3131,\", \",C3131)","v":"SM1: Schöchlin, Thomas"},{"$f":"VLOOKUP(A3131,bangolf_kategorien!$A$2:$B$11,2,FALSE)","v":"SM1"}]
["dv",67540,"Gitti","Schöll","BGC Illertissen",{"$f":"CONCATENATE(VLOOKUP(A3132,bangolf_kategorien!$A$2:$B$11,2,FALSE),\": \",D3132,\", \",C3132)","v":"SW2: Schöll, Gitti"},{"$f":"VLOOKUP(A3132,bangolf_kategorien!$A$2:$B$11,2,FALSE)","v":"SW2"}]
["hv",67539,"Toni","Schöll","BGC Illertissen",{"$f":"CONCATENATE(VLOOKUP(A3133,bangolf_kategorien!$A$2:$B$11,2,FALSE),\": \",D3133,\", \",C3133)","v":"SM2: Schöll, Toni"},{"$f":"VLOOKUP(A3133,bangolf_kategorien!$A$2:$B$11,2,FALSE)","v":"SM2"}]
["ob",67359,"Kurt","Schöllnast","BSV 86 München",{"$f":"CONCATENATE(VLOOKUP(A3134,bangolf_kategorien!$A$2:$B$11,2,FALSE),\": \",D3134,\", \",C3134)","v":"SM1: Schöllnast, Kurt"},{"$f":"VLOOKUP(A3134,bangolf_kategorien!$A$2:$B$11,2,FALSE)","v":"SM1"}]
["hs",66299,"Bastian","Scholz","TG Höchberg von 1862 Bahnengolf",{"$f":"CONCATENATE(VLOOKUP(A3135,bangolf_kategorien!$A$2:$B$11,2,FALSE),\": \",D3135,\", \",C3135)","v":"H: Scholz, Bastian"},{"$f":"VLOOKUP(A3135,bangolf_kategorien!$A$2:$B$11,2,FALSE)","v":"H"}]
["hs",31280,"Lucas","Scholz","1. MGC Mainz",{"$f":"CONCATENATE(VLOOKUP(A3136,bangolf_kategorien!$A$2:$B$11,2,FALSE),\": \",D3136,\", \",C3136)","v":"H: Scholz, Lucas"},{"$f":"VLOOKUP(A3136,bangolf_kategorien!$A$2:$B$11,2,FALSE)","v":"H"}]
["hv",24611,"Renaldo","Scholz","BGC Dormagen",{"$f":"CONCATENATE(VLOOKUP(A3137,bangolf_kategorien!$A$2:$B$11,2,FALSE),\": \",D3137,\", \",C3137)","v":"SM2: Scholz, Renaldo"},{"$f":"VLOOKUP(A3137,bangolf_kategorien!$A$2:$B$11,2,FALSE)","v":"SM2"}]
["hv",12780,"Rüdiger","Scholz","MSK Neheim-Hüsten",{"$f":"CONCATENATE(VLOOKUP(A3138,bangolf_kategorien!$A$2:$B$11,2,FALSE),\": \",D3138,\", \",C3138)","v":"SM2: Scholz, Rüdiger"},{"$f":"VLOOKUP(A3138,bangolf_kategorien!$A$2:$B$11,2,FALSE)","v":"SM2"}]
["ob",67261,"Rainer","Schölzke","MGC \"Stahlquelle\" Bad Bocklet",{"$f":"CONCATENATE(VLOOKUP(A3139,bangolf_kategorien!$A$2:$B$11,2,FALSE),\": \",D3139,\", \",C3139)","v":"SM1: Schölzke, Rainer"},{"$f":"VLOOKUP(A3139,bangolf_kategorien!$A$2:$B$11,2,FALSE)","v":"SM1"}]
["dv",67433,"Birgitta","Schomberg","1. BGC Paderborn",{"$f":"CONCATENATE(VLOOKUP(A3140,bangolf_kategorien!$A$2:$B$11,2,FALSE),\": \",D3140,\", \",C3140)","v":"SW2: Schomberg, Birgitta"},{"$f":"VLOOKUP(A3140,bangolf_kategorien!$A$2:$B$11,2,FALSE)","v":"SW2"}]
["hv",35267,"Helmut","Schön","MC Ilvesheim",{"$f":"CONCATENATE(VLOOKUP(A3141,bangolf_kategorien!$A$2:$B$11,2,FALSE),\": \",D3141,\", \",C3141)","v":"SM2: Schön, Helmut"},{"$f":"VLOOKUP(A3141,bangolf_kategorien!$A$2:$B$11,2,FALSE)","v":"SM2"}]
["hv",35230,"Wolfgang","Schön","SC Gut Heil Neumünster",{"$f":"CONCATENATE(VLOOKUP(A3142,bangolf_kategorien!$A$2:$B$11,2,FALSE),\": \",D3142,\", \",C3142)","v":"SM2: Schön, Wolfgang"},{"$f":"VLOOKUP(A3142,bangolf_kategorien!$A$2:$B$11,2,FALSE)","v":"SM2"}]
["hv",3389,"Horst","Schönfeld","BGC Northeim",{"$f":"CONCATENATE(VLOOKUP(A3143,bangolf_kategorien!$A$2:$B$11,2,FALSE),\": \",D3143,\", \",C3143)","v":"SM2: Schönfeld, Horst"},{"$f":"VLOOKUP(A3143,bangolf_kategorien!$A$2:$B$11,2,FALSE)","v":"SM2"}]
["ob",34084,"Karl-Heinz","Schönfeld","VfL Lüneburg Abt. Bahnengolf",{"$f":"CONCATENATE(VLOOKUP(A3144,bangolf_kategorien!$A$2:$B$11,2,FALSE),\": \",D3144,\", \",C3144)","v":"SM1: Schönfeld, Karl-Heinz"},{"$f":"VLOOKUP(A3144,bangolf_kategorien!$A$2:$B$11,2,FALSE)","v":"SM1"}]
["og",50889,"Ute","Schönherr","1. MGC Köln 1961",{"$f":"CONCATENATE(VLOOKUP(A3145,bangolf_kategorien!$A$2:$B$11,2,FALSE),\": \",D3145,\", \",C3145)","v":"SW1: Schönherr, Ute"},{"$f":"VLOOKUP(A3145,bangolf_kategorien!$A$2:$B$11,2,FALSE)","v":"SW1"}]
["ob",31659,"Uwe","Schonz","MC Tigers Künsebeck",{"$f":"CONCATENATE(VLOOKUP(A3146,bangolf_kategorien!$A$2:$B$11,2,FALSE),\": \",D3146,\", \",C3146)","v":"SM1: Schonz, Uwe"},{"$f":"VLOOKUP(A3146,bangolf_kategorien!$A$2:$B$11,2,FALSE)","v":"SM1"}]
["og",44002,"Jutta","Schöpf","BGC Bad Berneck",{"$f":"CONCATENATE(VLOOKUP(A3147,bangolf_kategorien!$A$2:$B$11,2,FALSE),\": \",D3147,\", \",C3147)","v":"SW1: Schöpf, Jutta"},{"$f":"VLOOKUP(A3147,bangolf_kategorien!$A$2:$B$11,2,FALSE)","v":"SW1"}]
["pa",67302,"Melvin-Roy","Schöpfer","MGC Bad Salzuflen",{"$f":"CONCATENATE(VLOOKUP(A3148,bangolf_kategorien!$A$2:$B$11,2,FALSE),\": \",D3148,\", \",C3148)","v":"SCHM: Schöpfer, Melvin-Roy"},{"$f":"VLOOKUP(A3148,bangolf_kategorien!$A$2:$B$11,2,FALSE)","v":"SCHM"}]
["ob",3304411,"Axel","Schrader","Hobby",{"$f":"CONCATENATE(VLOOKUP(A3149,bangolf_kategorien!$A$2:$B$11,2,FALSE),\": \",D3149,\", \",C3149)","v":"SM1: Schrader, Axel"},{"$f":"VLOOKUP(A3149,bangolf_kategorien!$A$2:$B$11,2,FALSE)","v":"SM1"}]
["hj",66449,"Lukas","Schrader","MGC Olympia Kiel",{"$f":"CONCATENATE(VLOOKUP(A3150,bangolf_kategorien!$A$2:$B$11,2,FALSE),\": \",D3150,\", \",C3150)","v":"JM: Schrader, Lukas"},{"$f":"VLOOKUP(A3150,bangolf_kategorien!$A$2:$B$11,2,FALSE)","v":"JM"}]
["fa",67529,"Julia","Schramm","MGC Bad Bodendorf",{"$f":"CONCATENATE(VLOOKUP(A3151,bangolf_kategorien!$A$2:$B$11,2,FALSE),\": \",D3151,\", \",C3151)","v":"SCHW: Schramm, Julia"},{"$f":"VLOOKUP(A3151,bangolf_kategorien!$A$2:$B$11,2,FALSE)","v":"SCHW"}]
["ob",3211951,"Olaf","Schramm","Hobby",{"$f":"CONCATENATE(VLOOKUP(A3152,bangolf_kategorien!$A$2:$B$11,2,FALSE),\": \",D3152,\", \",C3152)","v":"SM1: Schramm, Olaf"},{"$f":"VLOOKUP(A3152,bangolf_kategorien!$A$2:$B$11,2,FALSE)","v":"SM1"}]
["ob",67530,"Oliver","Schramm","MGC Bad Bodendorf",{"$f":"CONCATENATE(VLOOKUP(A3153,bangolf_kategorien!$A$2:$B$11,2,FALSE),\": \",D3153,\", \",C3153)","v":"SM1: Schramm, Oliver"},{"$f":"VLOOKUP(A3153,bangolf_kategorien!$A$2:$B$11,2,FALSE)","v":"SM1"}]
["hv",44645,"Reiner","Schramm","BGSV Bad Homburg",{"$f":"CONCATENATE(VLOOKUP(A3154,bangolf_kategorien!$A$2:$B$11,2,FALSE),\": \",D3154,\", \",C3154)","v":"SM2: Schramm, Reiner"},{"$f":"VLOOKUP(A3154,bangolf_kategorien!$A$2:$B$11,2,FALSE)","v":"SM2"}]
["og",67440,"Anja","Schray","1. MGC Mainz",{"$f":"CONCATENATE(VLOOKUP(A3155,bangolf_kategorien!$A$2:$B$11,2,FALSE),\": \",D3155,\", \",C3155)","v":"SW1: Schray, Anja"},{"$f":"VLOOKUP(A3155,bangolf_kategorien!$A$2:$B$11,2,FALSE)","v":"SW1"}]
["hs",41008,"Andreas","Schreck","VfM Berlin",{"$f":"CONCATENATE(VLOOKUP(A3156,bangolf_kategorien!$A$2:$B$11,2,FALSE),\": \",D3156,\", \",C3156)","v":"H: Schreck, Andreas"},{"$f":"VLOOKUP(A3156,bangolf_kategorien!$A$2:$B$11,2,FALSE)","v":"H"}]
["hj",66804,"Clemens","Schreiber","1. BGC Wolfsburg",{"$f":"CONCATENATE(VLOOKUP(A3157,bangolf_kategorien!$A$2:$B$11,2,FALSE),\": \",D3157,\", \",C3157)","v":"JM: Schreiber, Clemens"},{"$f":"VLOOKUP(A3157,bangolf_kategorien!$A$2:$B$11,2,FALSE)","v":"JM"}]
["hs",40228,"Kay","Schreiber","1. MGC Lohfelden 1997",{"$f":"CONCATENATE(VLOOKUP(A3158,bangolf_kategorien!$A$2:$B$11,2,FALSE),\": \",D3158,\", \",C3158)","v":"H: Schreiber, Kay"},{"$f":"VLOOKUP(A3158,bangolf_kategorien!$A$2:$B$11,2,FALSE)","v":"H"}]
["hv",67269,"Lutz","Schreiber","BSG Pneumant Fürstenwalde, Abt. Minigolf",{"$f":"CONCATENATE(VLOOKUP(A3159,bangolf_kategorien!$A$2:$B$11,2,FALSE),\": \",D3159,\", \",C3159)","v":"SM2: Schreiber, Lutz"},{"$f":"VLOOKUP(A3159,bangolf_kategorien!$A$2:$B$11,2,FALSE)","v":"SM2"}]
["hv",67295,"Manfred","Schreiber","MGC Bad Soden-Salmünster",{"$f":"CONCATENATE(VLOOKUP(A3160,bangolf_kategorien!$A$2:$B$11,2,FALSE),\": \",D3160,\", \",C3160)","v":"SM2: Schreiber, Manfred"},{"$f":"VLOOKUP(A3160,bangolf_kategorien!$A$2:$B$11,2,FALSE)","v":"SM2"}]
["og",67296,"Martina","Schreiber","MGC Bad Soden-Salmünster",{"$f":"CONCATENATE(VLOOKUP(A3161,bangolf_kategorien!$A$2:$B$11,2,FALSE),\": \",D3161,\", \",C3161)","v":"SW1: Schreiber, Martina"},{"$f":"VLOOKUP(A3161,bangolf_kategorien!$A$2:$B$11,2,FALSE)","v":"SW1"}]
["hv",66205,"Udo","Schreiber","1. MGC Epe 1978",{"$f":"CONCATENATE(VLOOKUP(A3162,bangolf_kategorien!$A$2:$B$11,2,FALSE),\": \",D3162,\", \",C3162)","v":"SM2: Schreiber, Udo"},{"$f":"VLOOKUP(A3162,bangolf_kategorien!$A$2:$B$11,2,FALSE)","v":"SM2"}]
["hs",66248,"Patrick","Schreiter","BGS Hardenberg-Pötter",{"$f":"CONCATENATE(VLOOKUP(A3163,bangolf_kategorien!$A$2:$B$11,2,FALSE),\": \",D3163,\", \",C3163)","v":"H: Schreiter, Patrick"},{"$f":"VLOOKUP(A3163,bangolf_kategorien!$A$2:$B$11,2,FALSE)","v":"H"}]
["hs",66249,"Sebastian","Schreiter","BGS Hardenberg-Pötter",{"$f":"CONCATENATE(VLOOKUP(A3164,bangolf_kategorien!$A$2:$B$11,2,FALSE),\": \",D3164,\", \",C3164)","v":"H: Schreiter, Sebastian"},{"$f":"VLOOKUP(A3164,bangolf_kategorien!$A$2:$B$11,2,FALSE)","v":"H"}]
["hs",38343,"Christopher","Schrettl","MSG Kempten",{"$f":"CONCATENATE(VLOOKUP(A3165,bangolf_kategorien!$A$2:$B$11,2,FALSE),\": \",D3165,\", \",C3165)","v":"H: Schrettl, Christopher"},{"$f":"VLOOKUP(A3165,bangolf_kategorien!$A$2:$B$11,2,FALSE)","v":"H"}]
["ob",49424,"Thomas","Schrettl","BGC Neutraubling",{"$f":"CONCATENATE(VLOOKUP(A3166,bangolf_kategorien!$A$2:$B$11,2,FALSE),\": \",D3166,\", \",C3166)","v":"SM1: Schrettl, Thomas"},{"$f":"VLOOKUP(A3166,bangolf_kategorien!$A$2:$B$11,2,FALSE)","v":"SM1"}]
["ob",67105,"Harald","Schreyl","MGC Wolnzach",{"$f":"CONCATENATE(VLOOKUP(A3167,bangolf_kategorien!$A$2:$B$11,2,FALSE),\": \",D3167,\", \",C3167)","v":"SM1: Schreyl, Harald"},{"$f":"VLOOKUP(A3167,bangolf_kategorien!$A$2:$B$11,2,FALSE)","v":"SM1"}]
["ob",66660,"Sebastien","Schrobiltgen","BGS Hardenberg-Pötter",{"$f":"CONCATENATE(VLOOKUP(A3168,bangolf_kategorien!$A$2:$B$11,2,FALSE),\": \",D3168,\", \",C3168)","v":"SM1: Schrobiltgen, Sebastien"},{"$f":"VLOOKUP(A3168,bangolf_kategorien!$A$2:$B$11,2,FALSE)","v":"SM1"}]
["hv",38657,"Gerhard","Schröck","BGC Schweinfurt",{"$f":"CONCATENATE(VLOOKUP(A3169,bangolf_kategorien!$A$2:$B$11,2,FALSE),\": \",D3169,\", \",C3169)","v":"SM2: Schröck, Gerhard"},{"$f":"VLOOKUP(A3169,bangolf_kategorien!$A$2:$B$11,2,FALSE)","v":"SM2"}]
["dv",4054,"Gabriele","Schröder","1. Berliner Miniaturgolf-Sportclub 1960",{"$f":"CONCATENATE(VLOOKUP(A3170,bangolf_kategorien!$A$2:$B$11,2,FALSE),\": \",D3170,\", \",C3170)","v":"SW2: Schröder, Gabriele"},{"$f":"VLOOKUP(A3170,bangolf_kategorien!$A$2:$B$11,2,FALSE)","v":"SW2"}]
["hs",34660,"Jan-Georg","Schröder","MC Flora Elmshorn",{"$f":"CONCATENATE(VLOOKUP(A3171,bangolf_kategorien!$A$2:$B$11,2,FALSE),\": \",D3171,\", \",C3171)","v":"H: Schröder, Jan-Georg"},{"$f":"VLOOKUP(A3171,bangolf_kategorien!$A$2:$B$11,2,FALSE)","v":"H"}]
["hv",36274,"Jürgen","Schröder","SSC Halver",{"$f":"CONCATENATE(VLOOKUP(A3172,bangolf_kategorien!$A$2:$B$11,2,FALSE),\": \",D3172,\", \",C3172)","v":"SM2: Schröder, Jürgen"},{"$f":"VLOOKUP(A3172,bangolf_kategorien!$A$2:$B$11,2,FALSE)","v":"SM2"}]
["ob",66602,"Jürgen","Schröder","1. MSC Wesel 6.6.1966",{"$f":"CONCATENATE(VLOOKUP(A3173,bangolf_kategorien!$A$2:$B$11,2,FALSE),\": \",D3173,\", \",C3173)","v":"SM1: Schröder, Jürgen"},{"$f":"VLOOKUP(A3173,bangolf_kategorien!$A$2:$B$11,2,FALSE)","v":"SM1"}]
["og",67387,"Manuela","Schröder","VfL Lohbrügge Abt. Bahnengolf",{"$f":"CONCATENATE(VLOOKUP(A3174,bangolf_kategorien!$A$2:$B$11,2,FALSE),\": \",D3174,\", \",C3174)","v":"SW1: Schröder, Manuela"},{"$f":"VLOOKUP(A3174,bangolf_kategorien!$A$2:$B$11,2,FALSE)","v":"SW1"}]
["ob",66833,"Mario","Schröder","1. Berliner Miniaturgolf-Sportclub 1960",{"$f":"CONCATENATE(VLOOKUP(A3175,bangolf_kategorien!$A$2:$B$11,2,FALSE),\": \",D3175,\", \",C3175)","v":"SM1: Schröder, Mario"},{"$f":"VLOOKUP(A3175,bangolf_kategorien!$A$2:$B$11,2,FALSE)","v":"SM1"}]
["ob",40350,"Matthias","Schröder","MGC Dormagen-Brechten",{"$f":"CONCATENATE(VLOOKUP(A3176,bangolf_kategorien!$A$2:$B$11,2,FALSE),\": \",D3176,\", \",C3176)","v":"SM1: Schröder, Matthias"},{"$f":"VLOOKUP(A3176,bangolf_kategorien!$A$2:$B$11,2,FALSE)","v":"SM1"}]
["og",66839,"Michaela","Schröder","MGC Bad Salzuflen",{"$f":"CONCATENATE(VLOOKUP(A3177,bangolf_kategorien!$A$2:$B$11,2,FALSE),\": \",D3177,\", \",C3177)","v":"SW1: Schröder, Michaela"},{"$f":"VLOOKUP(A3177,bangolf_kategorien!$A$2:$B$11,2,FALSE)","v":"SW1"}]
["hs",65958,"Marco","Schrödl","VFB 21 Neugattersleben",{"$f":"CONCATENATE(VLOOKUP(A3178,bangolf_kategorien!$A$2:$B$11,2,FALSE),\": \",D3178,\", \",C3178)","v":"H: Schrödl, Marco"},{"$f":"VLOOKUP(A3178,bangolf_kategorien!$A$2:$B$11,2,FALSE)","v":"H"}]
["pa",66827,"Jarno","Schrüfer","TSV Pfungstadt Abt. Bahnengolf",{"$f":"CONCATENATE(VLOOKUP(A3179,bangolf_kategorien!$A$2:$B$11,2,FALSE),\": \",D3179,\", \",C3179)","v":"SCHM: Schrüfer, Jarno"},{"$f":"VLOOKUP(A3179,bangolf_kategorien!$A$2:$B$11,2,FALSE)","v":"SCHM"}]
["hs",30765,"Marcel","Schubbe","Reinickendorfer MGC",{"$f":"CONCATENATE(VLOOKUP(A3180,bangolf_kategorien!$A$2:$B$11,2,FALSE),\": \",D3180,\", \",C3180)","v":"H: Schubbe, Marcel"},{"$f":"VLOOKUP(A3180,bangolf_kategorien!$A$2:$B$11,2,FALSE)","v":"H"}]
["ob",31091,"Christian","Schubert","1. NMC Kelheim",{"$f":"CONCATENATE(VLOOKUP(A3181,bangolf_kategorien!$A$2:$B$11,2,FALSE),\": \",D3181,\", \",C3181)","v":"SM1: Schubert, Christian"},{"$f":"VLOOKUP(A3181,bangolf_kategorien!$A$2:$B$11,2,FALSE)","v":"SM1"}]
["og",66632,"Christiane","Schubert","MGC Bergisch Gladbach Gierath",{"$f":"CONCATENATE(VLOOKUP(A3182,bangolf_kategorien!$A$2:$B$11,2,FALSE),\": \",D3182,\", \",C3182)","v":"SW1: Schubert, Christiane"},{"$f":"VLOOKUP(A3182,bangolf_kategorien!$A$2:$B$11,2,FALSE)","v":"SW1"}]
["hj",65980,"Finn","Schubert","MGC Bad Salzuflen",{"$f":"CONCATENATE(VLOOKUP(A3183,bangolf_kategorien!$A$2:$B$11,2,FALSE),\": \",D3183,\", \",C3183)","v":"JM: Schubert, Finn"},{"$f":"VLOOKUP(A3183,bangolf_kategorien!$A$2:$B$11,2,FALSE)","v":"JM"}]
["hs",65979,"Niklas","Schubert","MGC Bad Salzuflen",{"$f":"CONCATENATE(VLOOKUP(A3184,bangolf_kategorien!$A$2:$B$11,2,FALSE),\": \",D3184,\", \",C3184)","v":"H: Schubert, Niklas"},{"$f":"VLOOKUP(A3184,bangolf_kategorien!$A$2:$B$11,2,FALSE)","v":"H"}]
["hs",3322184,"Sebastian","Schubert","Hobby",{"$f":"CONCATENATE(VLOOKUP(A3185,bangolf_kategorien!$A$2:$B$11,2,FALSE),\": \",D3185,\", \",C3185)","v":"H: Schubert, Sebastian"},{"$f":"VLOOKUP(A3185,bangolf_kategorien!$A$2:$B$11,2,FALSE)","v":"H"}]
["hv",6795,"Horst","Schuchardt","BGC Bremen",{"$f":"CONCATENATE(VLOOKUP(A3186,bangolf_kategorien!$A$2:$B$11,2,FALSE),\": \",D3186,\", \",C3186)","v":"SM2: Schuchardt, Horst"},{"$f":"VLOOKUP(A3186,bangolf_kategorien!$A$2:$B$11,2,FALSE)","v":"SM2"}]
["hs",31757,"Torsten","Schück","1. MGC Mainz",{"$f":"CONCATENATE(VLOOKUP(A3187,bangolf_kategorien!$A$2:$B$11,2,FALSE),\": \",D3187,\", \",C3187)","v":"H: Schück, Torsten"},{"$f":"VLOOKUP(A3187,bangolf_kategorien!$A$2:$B$11,2,FALSE)","v":"H"}]
["hs",29088,"Bernd","Schué","BGC Goslar",{"$f":"CONCATENATE(VLOOKUP(A3188,bangolf_kategorien!$A$2:$B$11,2,FALSE),\": \",D3188,\", \",C3188)","v":"H: Schué, Bernd"},{"$f":"VLOOKUP(A3188,bangolf_kategorien!$A$2:$B$11,2,FALSE)","v":"H"}]
["dv",26338,"Sabine-Simone","Schüler","1. MGC Bamberg",{"$f":"CONCATENATE(VLOOKUP(A3189,bangolf_kategorien!$A$2:$B$11,2,FALSE),\": \",D3189,\", \",C3189)","v":"SW2: Schüler, Sabine-Simone"},{"$f":"VLOOKUP(A3189,bangolf_kategorien!$A$2:$B$11,2,FALSE)","v":"SW2"}]
["hj",66081,"Christoph","Schuller","MSK Olching",{"$f":"CONCATENATE(VLOOKUP(A3190,bangolf_kategorien!$A$2:$B$11,2,FALSE),\": \",D3190,\", \",C3190)","v":"JM: Schuller, Christoph"},{"$f":"VLOOKUP(A3190,bangolf_kategorien!$A$2:$B$11,2,FALSE)","v":"JM"}]
["hj",66082,"Fabian","Schuller","MSK Olching",{"$f":"CONCATENATE(VLOOKUP(A3191,bangolf_kategorien!$A$2:$B$11,2,FALSE),\": \",D3191,\", \",C3191)","v":"JM: Schuller, Fabian"},{"$f":"VLOOKUP(A3191,bangolf_kategorien!$A$2:$B$11,2,FALSE)","v":"JM"}]
["ds",67125,"Dana","Schüller","BGSV Kerpen",{"$f":"CONCATENATE(VLOOKUP(A3192,bangolf_kategorien!$A$2:$B$11,2,FALSE),\": \",D3192,\", \",C3192)","v":"D: Schüller, Dana"},{"$f":"VLOOKUP(A3192,bangolf_kategorien!$A$2:$B$11,2,FALSE)","v":"D"}]
["hs",46043,"Jens","Schüller","MGC Bergisch Gladbach Gierath",{"$f":"CONCATENATE(VLOOKUP(A3193,bangolf_kategorien!$A$2:$B$11,2,FALSE),\": \",D3193,\", \",C3193)","v":"H: Schüller, Jens"},{"$f":"VLOOKUP(A3193,bangolf_kategorien!$A$2:$B$11,2,FALSE)","v":"H"}]
["hs",40246,"Jan","Schulte","SSC Attendorn",{"$f":"CONCATENATE(VLOOKUP(A3194,bangolf_kategorien!$A$2:$B$11,2,FALSE),\": \",D3194,\", \",C3194)","v":"H: Schulte, Jan"},{"$f":"VLOOKUP(A3194,bangolf_kategorien!$A$2:$B$11,2,FALSE)","v":"H"}]
["hv",66898,"Michael","Schulte","BV Sennestadt",{"$f":"CONCATENATE(VLOOKUP(A3195,bangolf_kategorien!$A$2:$B$11,2,FALSE),\": \",D3195,\", \",C3195)","v":"SM2: Schulte, Michael"},{"$f":"VLOOKUP(A3195,bangolf_kategorien!$A$2:$B$11,2,FALSE)","v":"SM2"}]
["ob",37834,"Udo","Schulte","VfB Osnabrück",{"$f":"CONCATENATE(VLOOKUP(A3196,bangolf_kategorien!$A$2:$B$11,2,FALSE),\": \",D3196,\", \",C3196)","v":"SM1: Schulte, Udo"},{"$f":"VLOOKUP(A3196,bangolf_kategorien!$A$2:$B$11,2,FALSE)","v":"SM1"}]
["hv",67286,"Christian","Schultes","MSK Olching",{"$f":"CONCATENATE(VLOOKUP(A3197,bangolf_kategorien!$A$2:$B$11,2,FALSE),\": \",D3197,\", \",C3197)","v":"SM2: Schultes, Christian"},{"$f":"VLOOKUP(A3197,bangolf_kategorien!$A$2:$B$11,2,FALSE)","v":"SM2"}]
["hs",67116,"Benjamin","Schultheiss","SG Arheilgen Abt. Bahnengolf",{"$f":"CONCATENATE(VLOOKUP(A3198,bangolf_kategorien!$A$2:$B$11,2,FALSE),\": \",D3198,\", \",C3198)","v":"H: Schultheiss, Benjamin"},{"$f":"VLOOKUP(A3198,bangolf_kategorien!$A$2:$B$11,2,FALSE)","v":"H"}]
["ob",45666,"Hans-Jürgen","Schulz","MC \"Möve\" Cuxhaven-Sahlenburg",{"$f":"CONCATENATE(VLOOKUP(A3199,bangolf_kategorien!$A$2:$B$11,2,FALSE),\": \",D3199,\", \",C3199)","v":"SM1: Schulz, Hans-Jürgen"},{"$f":"VLOOKUP(A3199,bangolf_kategorien!$A$2:$B$11,2,FALSE)","v":"SM1"}]
["ob",43682,"Matthias","Schulz","1. MGC 1970 Göttingen",{"$f":"CONCATENATE(VLOOKUP(A3200,bangolf_kategorien!$A$2:$B$11,2,FALSE),\": \",D3200,\", \",C3200)","v":"SM1: Schulz, Matthias"},{"$f":"VLOOKUP(A3200,bangolf_kategorien!$A$2:$B$11,2,FALSE)","v":"SM1"}]
["hv",38181,"Peter","Schulz","SV Lurup Abt. Bahnengolf",{"$f":"CONCATENATE(VLOOKUP(A3201,bangolf_kategorien!$A$2:$B$11,2,FALSE),\": \",D3201,\", \",C3201)","v":"SM2: Schulz, Peter"},{"$f":"VLOOKUP(A3201,bangolf_kategorien!$A$2:$B$11,2,FALSE)","v":"SM2"}]
["ob",31848,"Ralf","Schulz","MC \"Möve\" Cuxhaven-Sahlenburg",{"$f":"CONCATENATE(VLOOKUP(A3202,bangolf_kategorien!$A$2:$B$11,2,FALSE),\": \",D3202,\", \",C3202)","v":"SM1: Schulz, Ralf"},{"$f":"VLOOKUP(A3202,bangolf_kategorien!$A$2:$B$11,2,FALSE)","v":"SM1"}]
["hj",66936,"Jonas","Schulze","1. MSC Hamburg-Neu Wulmstorf",{"$f":"CONCATENATE(VLOOKUP(A3203,bangolf_kategorien!$A$2:$B$11,2,FALSE),\": \",D3203,\", \",C3203)","v":"JM: Schulze, Jonas"},{"$f":"VLOOKUP(A3203,bangolf_kategorien!$A$2:$B$11,2,FALSE)","v":"JM"}]
["hv",48074,"Klaus","Schulze","MGC Dortmund Syburg",{"$f":"CONCATENATE(VLOOKUP(A3204,bangolf_kategorien!$A$2:$B$11,2,FALSE),\": \",D3204,\", \",C3204)","v":"SM2: Schulze, Klaus"},{"$f":"VLOOKUP(A3204,bangolf_kategorien!$A$2:$B$11,2,FALSE)","v":"SM2"}]
["hv",66654,"Ralf","Schulze","TSV Arendsee",{"$f":"CONCATENATE(VLOOKUP(A3205,bangolf_kategorien!$A$2:$B$11,2,FALSE),\": \",D3205,\", \",C3205)","v":"SM2: Schulze, Ralf"},{"$f":"VLOOKUP(A3205,bangolf_kategorien!$A$2:$B$11,2,FALSE)","v":"SM2"}]
["hs",67112,"Danny","Schumacher","1. MGC Gelsenkirchen",{"$f":"CONCATENATE(VLOOKUP(A3206,bangolf_kategorien!$A$2:$B$11,2,FALSE),\": \",D3206,\", \",C3206)","v":"H: Schumacher, Danny"},{"$f":"VLOOKUP(A3206,bangolf_kategorien!$A$2:$B$11,2,FALSE)","v":"H"}]
["hs",67114,"David","Schumacher","1. MGC Gelsenkirchen",{"$f":"CONCATENATE(VLOOKUP(A3207,bangolf_kategorien!$A$2:$B$11,2,FALSE),\": \",D3207,\", \",C3207)","v":"H: Schumacher, David"},{"$f":"VLOOKUP(A3207,bangolf_kategorien!$A$2:$B$11,2,FALSE)","v":"H"}]
["hv",3386,"Klaus","Schumacher","Kölner Miniatur Golf Club",{"$f":"CONCATENATE(VLOOKUP(A3208,bangolf_kategorien!$A$2:$B$11,2,FALSE),\": \",D3208,\", \",C3208)","v":"SM2: Schumacher, Klaus"},{"$f":"VLOOKUP(A3208,bangolf_kategorien!$A$2:$B$11,2,FALSE)","v":"SM2"}]
["ds",37475,"Sarah","Schumacher","MGC Dormagen-Brechten",{"$f":"CONCATENATE(VLOOKUP(A3209,bangolf_kategorien!$A$2:$B$11,2,FALSE),\": \",D3209,\", \",C3209)","v":"D: Schumacher, Sarah"},{"$f":"VLOOKUP(A3209,bangolf_kategorien!$A$2:$B$11,2,FALSE)","v":"D"}]
["fa",66672,"Silvia","Schumacher","BSV Inzlingen 1979",{"$f":"CONCATENATE(VLOOKUP(A3210,bangolf_kategorien!$A$2:$B$11,2,FALSE),\": \",D3210,\", \",C3210)","v":"SCHW: Schumacher, Silvia"},{"$f":"VLOOKUP(A3210,bangolf_kategorien!$A$2:$B$11,2,FALSE)","v":"SCHW"}]
["hj",66673,"Stefan","Schumacher","1. MGC Tuttlingen",{"$f":"CONCATENATE(VLOOKUP(A3211,bangolf_kategorien!$A$2:$B$11,2,FALSE),\": \",D3211,\", \",C3211)","v":"JM: Schumacher, Stefan"},{"$f":"VLOOKUP(A3211,bangolf_kategorien!$A$2:$B$11,2,FALSE)","v":"JM"}]
["ob",31332,"Wolfgang","Schumacher","BSV Inzlingen 1979",{"$f":"CONCATENATE(VLOOKUP(A3212,bangolf_kategorien!$A$2:$B$11,2,FALSE),\": \",D3212,\", \",C3212)","v":"SM1: Schumacher, Wolfgang"},{"$f":"VLOOKUP(A3212,bangolf_kategorien!$A$2:$B$11,2,FALSE)","v":"SM1"}]
["hv",49856,"Herbert","Schüngel","BGC Assindia Essen",{"$f":"CONCATENATE(VLOOKUP(A3213,bangolf_kategorien!$A$2:$B$11,2,FALSE),\": \",D3213,\", \",C3213)","v":"SM2: Schüngel, Herbert"},{"$f":"VLOOKUP(A3213,bangolf_kategorien!$A$2:$B$11,2,FALSE)","v":"SM2"}]
["dv",49580,"Petra","Schüngel","BGC Assindia Essen",{"$f":"CONCATENATE(VLOOKUP(A3214,bangolf_kategorien!$A$2:$B$11,2,FALSE),\": \",D3214,\", \",C3214)","v":"SW2: Schüngel, Petra"},{"$f":"VLOOKUP(A3214,bangolf_kategorien!$A$2:$B$11,2,FALSE)","v":"SW2"}]
["hv",30255,"Herbert","Schurig jun.","VfL Lohbrügge Abt. Bahnengolf",{"$f":"CONCATENATE(VLOOKUP(A3215,bangolf_kategorien!$A$2:$B$11,2,FALSE),\": \",D3215,\", \",C3215)","v":"SM2: Schurig jun., Herbert"},{"$f":"VLOOKUP(A3215,bangolf_kategorien!$A$2:$B$11,2,FALSE)","v":"SM2"}]
["og",33960,"Susanne","Schürmann","1. BGC Wesseling 1975",{"$f":"CONCATENATE(VLOOKUP(A3216,bangolf_kategorien!$A$2:$B$11,2,FALSE),\": \",D3216,\", \",C3216)","v":"SW1: Schürmann, Susanne"},{"$f":"VLOOKUP(A3216,bangolf_kategorien!$A$2:$B$11,2,FALSE)","v":"SW1"}]
["ob",47009,"Wolfgang","Schury","BGC Bad Mergentheim",{"$f":"CONCATENATE(VLOOKUP(A3217,bangolf_kategorien!$A$2:$B$11,2,FALSE),\": \",D3217,\", \",C3217)","v":"SM1: Schury, Wolfgang"},{"$f":"VLOOKUP(A3217,bangolf_kategorien!$A$2:$B$11,2,FALSE)","v":"SM1"}]
["dj",67347,"Jana","Schüßler","MSC Bensheim-Auerbach",{"$f":"CONCATENATE(VLOOKUP(A3218,bangolf_kategorien!$A$2:$B$11,2,FALSE),\": \",D3218,\", \",C3218)","v":"JW: Schüßler, Jana"},{"$f":"VLOOKUP(A3218,bangolf_kategorien!$A$2:$B$11,2,FALSE)","v":"JW"}]
["fa",67538,"Sophie","Schüßler","MSC Bensheim-Auerbach",{"$f":"CONCATENATE(VLOOKUP(A3219,bangolf_kategorien!$A$2:$B$11,2,FALSE),\": \",D3219,\", \",C3219)","v":"SCHW: Schüßler, Sophie"},{"$f":"VLOOKUP(A3219,bangolf_kategorien!$A$2:$B$11,2,FALSE)","v":"SCHW"}]
["og",38154,"Alexandra","Schuster","BGC Oberhausen",{"$f":"CONCATENATE(VLOOKUP(A3220,bangolf_kategorien!$A$2:$B$11,2,FALSE),\": \",D3220,\", \",C3220)","v":"SW1: Schuster, Alexandra"},{"$f":"VLOOKUP(A3220,bangolf_kategorien!$A$2:$B$11,2,FALSE)","v":"SW1"}]
["hs",23509,"David","Schuster","1. MGC Ludwigshafen",{"$f":"CONCATENATE(VLOOKUP(A3221,bangolf_kategorien!$A$2:$B$11,2,FALSE),\": \",D3221,\", \",C3221)","v":"H: Schuster, David"},{"$f":"VLOOKUP(A3221,bangolf_kategorien!$A$2:$B$11,2,FALSE)","v":"H"}]
["ob",38046,"Oliver","Schuster","BGC Oberhausen",{"$f":"CONCATENATE(VLOOKUP(A3222,bangolf_kategorien!$A$2:$B$11,2,FALSE),\": \",D3222,\", \",C3222)","v":"SM1: Schuster, Oliver"},{"$f":"VLOOKUP(A3222,bangolf_kategorien!$A$2:$B$11,2,FALSE)","v":"SM1"}]
["hv",4645,"Bernhard","Schütterle","BGC Rheinau-Freistett",{"$f":"CONCATENATE(VLOOKUP(A3223,bangolf_kategorien!$A$2:$B$11,2,FALSE),\": \",D3223,\", \",C3223)","v":"SM2: Schütterle, Bernhard"},{"$f":"VLOOKUP(A3223,bangolf_kategorien!$A$2:$B$11,2,FALSE)","v":"SM2"}]
["hs",37112,"Ronny","Schüttler","SG  Weiterstadt 1886",{"$f":"CONCATENATE(VLOOKUP(A3224,bangolf_kategorien!$A$2:$B$11,2,FALSE),\": \",D3224,\", \",C3224)","v":"H: Schüttler, Ronny"},{"$f":"VLOOKUP(A3224,bangolf_kategorien!$A$2:$B$11,2,FALSE)","v":"H"}]
["hv",3194208,"Alfred","Schütz","Hobby",{"$f":"CONCATENATE(VLOOKUP(A3225,bangolf_kategorien!$A$2:$B$11,2,FALSE),\": \",D3225,\", \",C3225)","v":"SM2: Schütz, Alfred"},{"$f":"VLOOKUP(A3225,bangolf_kategorien!$A$2:$B$11,2,FALSE)","v":"SM2"}]
["ob",41299,"Rainer","Schütz","BGC Heilbronn",{"$f":"CONCATENATE(VLOOKUP(A3226,bangolf_kategorien!$A$2:$B$11,2,FALSE),\": \",D3226,\", \",C3226)","v":"SM1: Schütz, Rainer"},{"$f":"VLOOKUP(A3226,bangolf_kategorien!$A$2:$B$11,2,FALSE)","v":"SM1"}]
["hv",32907,"Bernd","Schwab","SC Bad Münder Abt. Bahnengolf",{"$f":"CONCATENATE(VLOOKUP(A3227,bangolf_kategorien!$A$2:$B$11,2,FALSE),\": \",D3227,\", \",C3227)","v":"SM2: Schwab, Bernd"},{"$f":"VLOOKUP(A3227,bangolf_kategorien!$A$2:$B$11,2,FALSE)","v":"SM2"}]
["dv",32908,"Marianne","Schwab","SC Bad Münder Abt. Bahnengolf",{"$f":"CONCATENATE(VLOOKUP(A3228,bangolf_kategorien!$A$2:$B$11,2,FALSE),\": \",D3228,\", \",C3228)","v":"SW2: Schwab, Marianne"},{"$f":"VLOOKUP(A3228,bangolf_kategorien!$A$2:$B$11,2,FALSE)","v":"SW2"}]
["ob",67499,"Raimund","Schwägerl","MGC Murnau am Staffelsee",{"$f":"CONCATENATE(VLOOKUP(A3229,bangolf_kategorien!$A$2:$B$11,2,FALSE),\": \",D3229,\", \",C3229)","v":"SM1: Schwägerl, Raimund"},{"$f":"VLOOKUP(A3229,bangolf_kategorien!$A$2:$B$11,2,FALSE)","v":"SM1"}]
["ob",3211949,"Michael","Schwanitz","Hobby",{"$f":"CONCATENATE(VLOOKUP(A3230,bangolf_kategorien!$A$2:$B$11,2,FALSE),\": \",D3230,\", \",C3230)","v":"SM1: Schwanitz, Michael"},{"$f":"VLOOKUP(A3230,bangolf_kategorien!$A$2:$B$11,2,FALSE)","v":"SM1"}]
["dv",2283,"Anita","Schwarz","Minigolfclub Karlshagen",{"$f":"CONCATENATE(VLOOKUP(A3231,bangolf_kategorien!$A$2:$B$11,2,FALSE),\": \",D3231,\", \",C3231)","v":"SW2: Schwarz, Anita"},{"$f":"VLOOKUP(A3231,bangolf_kategorien!$A$2:$B$11,2,FALSE)","v":"SW2"}]
["hv",49255,"Detlef","Schwarz","MC \"Möve\" Cuxhaven-Sahlenburg",{"$f":"CONCATENATE(VLOOKUP(A3232,bangolf_kategorien!$A$2:$B$11,2,FALSE),\": \",D3232,\", \",C3232)","v":"SM2: Schwarz, Detlef"},{"$f":"VLOOKUP(A3232,bangolf_kategorien!$A$2:$B$11,2,FALSE)","v":"SM2"}]
["pa",67094,"Dominik","Schwarz","MSK Olching",{"$f":"CONCATENATE(VLOOKUP(A3233,bangolf_kategorien!$A$2:$B$11,2,FALSE),\": \",D3233,\", \",C3233)","v":"SCHM: Schwarz, Dominik"},{"$f":"VLOOKUP(A3233,bangolf_kategorien!$A$2:$B$11,2,FALSE)","v":"SCHM"}]
["hv",2284,"Egon","Schwarz","Minigolfclub Karlshagen",{"$f":"CONCATENATE(VLOOKUP(A3234,bangolf_kategorien!$A$2:$B$11,2,FALSE),\": \",D3234,\", \",C3234)","v":"SM2: Schwarz, Egon"},{"$f":"VLOOKUP(A3234,bangolf_kategorien!$A$2:$B$11,2,FALSE)","v":"SM2"}]
["hv",3106821,"Lothar","Schwarz","Hobby",{"$f":"CONCATENATE(VLOOKUP(A3235,bangolf_kategorien!$A$2:$B$11,2,FALSE),\": \",D3235,\", \",C3235)","v":"SM2: Schwarz, Lothar"},{"$f":"VLOOKUP(A3235,bangolf_kategorien!$A$2:$B$11,2,FALSE)","v":"SM2"}]
["hj",66857,"Luca","Schwarz","Minigolfclub Karlshagen",{"$f":"CONCATENATE(VLOOKUP(A3236,bangolf_kategorien!$A$2:$B$11,2,FALSE),\": \",D3236,\", \",C3236)","v":"JM: Schwarz, Luca"},{"$f":"VLOOKUP(A3236,bangolf_kategorien!$A$2:$B$11,2,FALSE)","v":"JM"}]
["og",35523,"Rosemarie","Schwarz","MSC Bensheim-Auerbach",{"$f":"CONCATENATE(VLOOKUP(A3237,bangolf_kategorien!$A$2:$B$11,2,FALSE),\": \",D3237,\", \",C3237)","v":"SW1: Schwarz, Rosemarie"},{"$f":"VLOOKUP(A3237,bangolf_kategorien!$A$2:$B$11,2,FALSE)","v":"SW1"}]
["hj",66470,"Tobias","Schwarz","MSK Olching",{"$f":"CONCATENATE(VLOOKUP(A3238,bangolf_kategorien!$A$2:$B$11,2,FALSE),\": \",D3238,\", \",C3238)","v":"JM: Schwarz, Tobias"},{"$f":"VLOOKUP(A3238,bangolf_kategorien!$A$2:$B$11,2,FALSE)","v":"JM"}]
["hv",5265,"Peter","Schwarzbach","MCE Sindelfingen",{"$f":"CONCATENATE(VLOOKUP(A3239,bangolf_kategorien!$A$2:$B$11,2,FALSE),\": \",D3239,\", \",C3239)","v":"SM2: Schwarzbach, Peter"},{"$f":"VLOOKUP(A3239,bangolf_kategorien!$A$2:$B$11,2,FALSE)","v":"SM2"}]
["dv",19804,"Bettina","Schwebinghaus","MGC Wuppertal-Ronsdorf 1967",{"$f":"CONCATENATE(VLOOKUP(A3240,bangolf_kategorien!$A$2:$B$11,2,FALSE),\": \",D3240,\", \",C3240)","v":"SW2: Schwebinghaus, Bettina"},{"$f":"VLOOKUP(A3240,bangolf_kategorien!$A$2:$B$11,2,FALSE)","v":"SW2"}]
["hv",19806,"Ulrich","Schwebinghaus","MGC Wuppertal-Ronsdorf 1967",{"$f":"CONCATENATE(VLOOKUP(A3241,bangolf_kategorien!$A$2:$B$11,2,FALSE),\": \",D3241,\", \",C3241)","v":"SM2: Schwebinghaus, Ulrich"},{"$f":"VLOOKUP(A3241,bangolf_kategorien!$A$2:$B$11,2,FALSE)","v":"SM2"}]
["hv",23183,"Karl-Albert","Schweizer","1. MGC Ludwigshafen",{"$f":"CONCATENATE(VLOOKUP(A3242,bangolf_kategorien!$A$2:$B$11,2,FALSE),\": \",D3242,\", \",C3242)","v":"SM2: Schweizer, Karl-Albert"},{"$f":"VLOOKUP(A3242,bangolf_kategorien!$A$2:$B$11,2,FALSE)","v":"SM2"}]
["hv",22937,"Bernd","Schwer","MC Ilvesheim",{"$f":"CONCATENATE(VLOOKUP(A3243,bangolf_kategorien!$A$2:$B$11,2,FALSE),\": \",D3243,\", \",C3243)","v":"SM2: Schwer, Bernd"},{"$f":"VLOOKUP(A3243,bangolf_kategorien!$A$2:$B$11,2,FALSE)","v":"SM2"}]
["ob",45141,"Uwe","Schwer","MC Ilvesheim",{"$f":"CONCATENATE(VLOOKUP(A3244,bangolf_kategorien!$A$2:$B$11,2,FALSE),\": \",D3244,\", \",C3244)","v":"SM1: Schwer, Uwe"},{"$f":"VLOOKUP(A3244,bangolf_kategorien!$A$2:$B$11,2,FALSE)","v":"SM1"}]
["og",67536,"Petra","Schwicker","BSV 86 München",{"$f":"CONCATENATE(VLOOKUP(A3245,bangolf_kategorien!$A$2:$B$11,2,FALSE),\": \",D3245,\", \",C3245)","v":"SW1: Schwicker, Petra"},{"$f":"VLOOKUP(A3245,bangolf_kategorien!$A$2:$B$11,2,FALSE)","v":"SW1"}]
["hv",36108,"Karl-Willi","Schwind","BGC Dormagen",{"$f":"CONCATENATE(VLOOKUP(A3246,bangolf_kategorien!$A$2:$B$11,2,FALSE),\": \",D3246,\", \",C3246)","v":"SM2: Schwind, Karl-Willi"},{"$f":"VLOOKUP(A3246,bangolf_kategorien!$A$2:$B$11,2,FALSE)","v":"SM2"}]
["og",36107,"Regina","Schwind","BGC Dormagen",{"$f":"CONCATENATE(VLOOKUP(A3247,bangolf_kategorien!$A$2:$B$11,2,FALSE),\": \",D3247,\", \",C3247)","v":"SW1: Schwind, Regina"},{"$f":"VLOOKUP(A3247,bangolf_kategorien!$A$2:$B$11,2,FALSE)","v":"SW1"}]
["hs",33361,"Sebastian","Schwind","BGC Dormagen",{"$f":"CONCATENATE(VLOOKUP(A3248,bangolf_kategorien!$A$2:$B$11,2,FALSE),\": \",D3248,\", \",C3248)","v":"H: Schwind, Sebastian"},{"$f":"VLOOKUP(A3248,bangolf_kategorien!$A$2:$B$11,2,FALSE)","v":"H"}]
["hs",35763,"Sebastian","Schwind","1. MGC Ludwigshafen",{"$f":"CONCATENATE(VLOOKUP(A3249,bangolf_kategorien!$A$2:$B$11,2,FALSE),\": \",D3249,\", \",C3249)","v":"H: Schwind, Sebastian"},{"$f":"VLOOKUP(A3249,bangolf_kategorien!$A$2:$B$11,2,FALSE)","v":"H"}]
["ob",29873,"Holger","Schwingen","MGC Dormagen-Brechten",{"$f":"CONCATENATE(VLOOKUP(A3250,bangolf_kategorien!$A$2:$B$11,2,FALSE),\": \",D3250,\", \",C3250)","v":"SM1: Schwingen, Holger"},{"$f":"VLOOKUP(A3250,bangolf_kategorien!$A$2:$B$11,2,FALSE)","v":"SM1"}]
["ob",40968,"Markus","Schwinger","BGSC \"Gut Schlag\" Gladbeck",{"$f":"CONCATENATE(VLOOKUP(A3251,bangolf_kategorien!$A$2:$B$11,2,FALSE),\": \",D3251,\", \",C3251)","v":"SM1: Schwinger, Markus"},{"$f":"VLOOKUP(A3251,bangolf_kategorien!$A$2:$B$11,2,FALSE)","v":"SM1"}]
["ob",67413,"Stefan","Schwinghammer","MGC Murnau am Staffelsee",{"$f":"CONCATENATE(VLOOKUP(A3252,bangolf_kategorien!$A$2:$B$11,2,FALSE),\": \",D3252,\", \",C3252)","v":"SM1: Schwinghammer, Stefan"},{"$f":"VLOOKUP(A3252,bangolf_kategorien!$A$2:$B$11,2,FALSE)","v":"SM1"}]
["ob",16230,"Thorsten","Seegert","BGC Northeim",{"$f":"CONCATENATE(VLOOKUP(A3253,bangolf_kategorien!$A$2:$B$11,2,FALSE),\": \",D3253,\", \",C3253)","v":"SM1: Seegert, Thorsten"},{"$f":"VLOOKUP(A3253,bangolf_kategorien!$A$2:$B$11,2,FALSE)","v":"SM1"}]
["hv",31144,"Uwe","Seeland","BSC Ennepetal",{"$f":"CONCATENATE(VLOOKUP(A3254,bangolf_kategorien!$A$2:$B$11,2,FALSE),\": \",D3254,\", \",C3254)","v":"SM2: Seeland, Uwe"},{"$f":"VLOOKUP(A3254,bangolf_kategorien!$A$2:$B$11,2,FALSE)","v":"SM2"}]
["hv",49464,"Norbert","Seelig","BGSC Bochum 1978",{"$f":"CONCATENATE(VLOOKUP(A3255,bangolf_kategorien!$A$2:$B$11,2,FALSE),\": \",D3255,\", \",C3255)","v":"SM2: Seelig, Norbert"},{"$f":"VLOOKUP(A3255,bangolf_kategorien!$A$2:$B$11,2,FALSE)","v":"SM2"}]
["hv",35801,"Gerald","Seher","TSV Salzgitter Abt. Bahnengolf",{"$f":"CONCATENATE(VLOOKUP(A3256,bangolf_kategorien!$A$2:$B$11,2,FALSE),\": \",D3256,\", \",C3256)","v":"SM2: Seher, Gerald"},{"$f":"VLOOKUP(A3256,bangolf_kategorien!$A$2:$B$11,2,FALSE)","v":"SM2"}]
["hs",66056,"Alexander","Sehm","MSG Kempten",{"$f":"CONCATENATE(VLOOKUP(A3257,bangolf_kategorien!$A$2:$B$11,2,FALSE),\": \",D3257,\", \",C3257)","v":"H: Sehm, Alexander"},{"$f":"VLOOKUP(A3257,bangolf_kategorien!$A$2:$B$11,2,FALSE)","v":"H"}]
["hs",36068,"Michael","Seibert","MGC Ostheim / Rhön",{"$f":"CONCATENATE(VLOOKUP(A3258,bangolf_kategorien!$A$2:$B$11,2,FALSE),\": \",D3258,\", \",C3258)","v":"H: Seibert, Michael"},{"$f":"VLOOKUP(A3258,bangolf_kategorien!$A$2:$B$11,2,FALSE)","v":"H"}]
["ob",37395,"Andreas","Seidel","MV Lankwitzer Dragons",{"$f":"CONCATENATE(VLOOKUP(A3259,bangolf_kategorien!$A$2:$B$11,2,FALSE),\": \",D3259,\", \",C3259)","v":"SM1: Seidel, Andreas"},{"$f":"VLOOKUP(A3259,bangolf_kategorien!$A$2:$B$11,2,FALSE)","v":"SM1"}]
["ob",67273,"Dirk","Seidel","MV Lankwitzer Dragons",{"$f":"CONCATENATE(VLOOKUP(A3260,bangolf_kategorien!$A$2:$B$11,2,FALSE),\": \",D3260,\", \",C3260)","v":"SM1: Seidel, Dirk"},{"$f":"VLOOKUP(A3260,bangolf_kategorien!$A$2:$B$11,2,FALSE)","v":"SM1"}]
["ob",50389,"Martin","Seidel","MGC putter Künzell 1970",{"$f":"CONCATENATE(VLOOKUP(A3261,bangolf_kategorien!$A$2:$B$11,2,FALSE),\": \",D3261,\", \",C3261)","v":"SM1: Seidel, Martin"},{"$f":"VLOOKUP(A3261,bangolf_kategorien!$A$2:$B$11,2,FALSE)","v":"SM1"}]
["hv",66621,"Heribert","Seidl","BGC Neutraubling",{"$f":"CONCATENATE(VLOOKUP(A3262,bangolf_kategorien!$A$2:$B$11,2,FALSE),\": \",D3262,\", \",C3262)","v":"SM2: Seidl, Heribert"},{"$f":"VLOOKUP(A3262,bangolf_kategorien!$A$2:$B$11,2,FALSE)","v":"SM2"}]
["hs",50138,"Frank","Seidler","BGSV Kerpen",{"$f":"CONCATENATE(VLOOKUP(A3263,bangolf_kategorien!$A$2:$B$11,2,FALSE),\": \",D3263,\", \",C3263)","v":"H: Seidler, Frank"},{"$f":"VLOOKUP(A3263,bangolf_kategorien!$A$2:$B$11,2,FALSE)","v":"H"}]
["hv",65912,"Franz","Seifermann","1. MGC Mannheim 1968",{"$f":"CONCATENATE(VLOOKUP(A3264,bangolf_kategorien!$A$2:$B$11,2,FALSE),\": \",D3264,\", \",C3264)","v":"SM2: Seifermann, Franz"},{"$f":"VLOOKUP(A3264,bangolf_kategorien!$A$2:$B$11,2,FALSE)","v":"SM2"}]
["hj",66819,"Colin","Seifert","1. MSC Wesel 6.6.1966",{"$f":"CONCATENATE(VLOOKUP(A3265,bangolf_kategorien!$A$2:$B$11,2,FALSE),\": \",D3265,\", \",C3265)","v":"JM: Seifert, Colin"},{"$f":"VLOOKUP(A3265,bangolf_kategorien!$A$2:$B$11,2,FALSE)","v":"JM"}]
["hs",66364,"Noah","Seifert","1. MSC Wesel 6.6.1966",{"$f":"CONCATENATE(VLOOKUP(A3266,bangolf_kategorien!$A$2:$B$11,2,FALSE),\": \",D3266,\", \",C3266)","v":"H: Seifert, Noah"},{"$f":"VLOOKUP(A3266,bangolf_kategorien!$A$2:$B$11,2,FALSE)","v":"H"}]
["ob",66472,"Stefan","Seifert","1. MSC Wesel 6.6.1966",{"$f":"CONCATENATE(VLOOKUP(A3267,bangolf_kategorien!$A$2:$B$11,2,FALSE),\": \",D3267,\", \",C3267)","v":"SM1: Seifert, Stefan"},{"$f":"VLOOKUP(A3267,bangolf_kategorien!$A$2:$B$11,2,FALSE)","v":"SM1"}]
["hv",67133,"Uwe","Seifert","MSK Olching",{"$f":"CONCATENATE(VLOOKUP(A3268,bangolf_kategorien!$A$2:$B$11,2,FALSE),\": \",D3268,\", \",C3268)","v":"SM2: Seifert, Uwe"},{"$f":"VLOOKUP(A3268,bangolf_kategorien!$A$2:$B$11,2,FALSE)","v":"SM2"}]
["og",67438,"Sabine","Seiferth","PTSV Hof, Abt. Minigolf",{"$f":"CONCATENATE(VLOOKUP(A3269,bangolf_kategorien!$A$2:$B$11,2,FALSE),\": \",D3269,\", \",C3269)","v":"SW1: Seiferth, Sabine"},{"$f":"VLOOKUP(A3269,bangolf_kategorien!$A$2:$B$11,2,FALSE)","v":"SW1"}]
["ob",46233,"Uwe","Seiler","MSC Bad Godesberg",{"$f":"CONCATENATE(VLOOKUP(A3270,bangolf_kategorien!$A$2:$B$11,2,FALSE),\": \",D3270,\", \",C3270)","v":"SM1: Seiler, Uwe"},{"$f":"VLOOKUP(A3270,bangolf_kategorien!$A$2:$B$11,2,FALSE)","v":"SM1"}]
["ob",41018,"Oliver","Seilz","Reinickendorfer MGC",{"$f":"CONCATENATE(VLOOKUP(A3271,bangolf_kategorien!$A$2:$B$11,2,FALSE),\": \",D3271,\", \",C3271)","v":"SM1: Seilz, Oliver"},{"$f":"VLOOKUP(A3271,bangolf_kategorien!$A$2:$B$11,2,FALSE)","v":"SM1"}]
["ob",44841,"Rainer","Seinsche","MGC Homburger Land",{"$f":"CONCATENATE(VLOOKUP(A3272,bangolf_kategorien!$A$2:$B$11,2,FALSE),\": \",D3272,\", \",C3272)","v":"SM1: Seinsche, Rainer"},{"$f":"VLOOKUP(A3272,bangolf_kategorien!$A$2:$B$11,2,FALSE)","v":"SM1"}]
["hv",29950,"Michael","Seiz","MGC Schwaikheim",{"$f":"CONCATENATE(VLOOKUP(A3273,bangolf_kategorien!$A$2:$B$11,2,FALSE),\": \",D3273,\", \",C3273)","v":"SM2: Seiz, Michael"},{"$f":"VLOOKUP(A3273,bangolf_kategorien!$A$2:$B$11,2,FALSE)","v":"SM2"}]
["hs",45788,"Heiko","Selka","MSK Neheim-Hüsten",{"$f":"CONCATENATE(VLOOKUP(A3274,bangolf_kategorien!$A$2:$B$11,2,FALSE),\": \",D3274,\", \",C3274)","v":"H: Selka, Heiko"},{"$f":"VLOOKUP(A3274,bangolf_kategorien!$A$2:$B$11,2,FALSE)","v":"H"}]
["ob",45198,"Thorsten","Semrau","SGC \"Glocke\" Castrop",{"$f":"CONCATENATE(VLOOKUP(A3275,bangolf_kategorien!$A$2:$B$11,2,FALSE),\": \",D3275,\", \",C3275)","v":"SM1: Semrau, Thorsten"},{"$f":"VLOOKUP(A3275,bangolf_kategorien!$A$2:$B$11,2,FALSE)","v":"SM1"}]
["ob",66858,"Andreas","Senke","MGC Rot-Weiß Wanne-Eickel",{"$f":"CONCATENATE(VLOOKUP(A3276,bangolf_kategorien!$A$2:$B$11,2,FALSE),\": \",D3276,\", \",C3276)","v":"SM1: Senke, Andreas"},{"$f":"VLOOKUP(A3276,bangolf_kategorien!$A$2:$B$11,2,FALSE)","v":"SM1"}]
["dv",6721,"Bärbel","Senke","MGC Rot-Weiß Wanne-Eickel",{"$f":"CONCATENATE(VLOOKUP(A3277,bangolf_kategorien!$A$2:$B$11,2,FALSE),\": \",D3277,\", \",C3277)","v":"SW2: Senke, Bärbel"},{"$f":"VLOOKUP(A3277,bangolf_kategorien!$A$2:$B$11,2,FALSE)","v":"SW2"}]
["ds",66859,"Jessica","Senke","MGC Rot-Weiß Wanne-Eickel",{"$f":"CONCATENATE(VLOOKUP(A3278,bangolf_kategorien!$A$2:$B$11,2,FALSE),\": \",D3278,\", \",C3278)","v":"D: Senke, Jessica"},{"$f":"VLOOKUP(A3278,bangolf_kategorien!$A$2:$B$11,2,FALSE)","v":"D"}]
["dv",3108934,"Ursula","Seppi","Hobby",{"$f":"CONCATENATE(VLOOKUP(A3279,bangolf_kategorien!$A$2:$B$11,2,FALSE),\": \",D3279,\", \",C3279)","v":"SW2: Seppi, Ursula"},{"$f":"VLOOKUP(A3279,bangolf_kategorien!$A$2:$B$11,2,FALSE)","v":"SW2"}]
["ds",66781,"Corinna","Serfling","MSG Kempten",{"$f":"CONCATENATE(VLOOKUP(A3280,bangolf_kategorien!$A$2:$B$11,2,FALSE),\": \",D3280,\", \",C3280)","v":"D: Serfling, Corinna"},{"$f":"VLOOKUP(A3280,bangolf_kategorien!$A$2:$B$11,2,FALSE)","v":"D"}]
["hj",67237,"Christoph","Sesselmann","1. FMGC Lichtenfels 1961",{"$f":"CONCATENATE(VLOOKUP(A3281,bangolf_kategorien!$A$2:$B$11,2,FALSE),\": \",D3281,\", \",C3281)","v":"JM: Sesselmann, Christoph"},{"$f":"VLOOKUP(A3281,bangolf_kategorien!$A$2:$B$11,2,FALSE)","v":"JM"}]
["hs",66873,"Moritz","Sesselmann","1. FMGC Lichtenfels 1961",{"$f":"CONCATENATE(VLOOKUP(A3282,bangolf_kategorien!$A$2:$B$11,2,FALSE),\": \",D3282,\", \",C3282)","v":"H: Sesselmann, Moritz"},{"$f":"VLOOKUP(A3282,bangolf_kategorien!$A$2:$B$11,2,FALSE)","v":"H"}]
["dv",34717,"Susanne","Sessler","1. BGC Landshut",{"$f":"CONCATENATE(VLOOKUP(A3283,bangolf_kategorien!$A$2:$B$11,2,FALSE),\": \",D3283,\", \",C3283)","v":"SW2: Sessler, Susanne"},{"$f":"VLOOKUP(A3283,bangolf_kategorien!$A$2:$B$11,2,FALSE)","v":"SW2"}]
["hv",34720,"Wolfgang","Sessler","1. BGC Landshut",{"$f":"CONCATENATE(VLOOKUP(A3284,bangolf_kategorien!$A$2:$B$11,2,FALSE),\": \",D3284,\", \",C3284)","v":"SM2: Sessler, Wolfgang"},{"$f":"VLOOKUP(A3284,bangolf_kategorien!$A$2:$B$11,2,FALSE)","v":"SM2"}]
["hv",40401,"Jürgen","Seubert","TV Niederstetten 1862  Abt. Minigolf",{"$f":"CONCATENATE(VLOOKUP(A3285,bangolf_kategorien!$A$2:$B$11,2,FALSE),\": \",D3285,\", \",C3285)","v":"SM2: Seubert, Jürgen"},{"$f":"VLOOKUP(A3285,bangolf_kategorien!$A$2:$B$11,2,FALSE)","v":"SM2"}]
["hs",31289,"Andreas","Seumenicht","TSV Kücknitz Abt. Bahnengolf",{"$f":"CONCATENATE(VLOOKUP(A3286,bangolf_kategorien!$A$2:$B$11,2,FALSE),\": \",D3286,\", \",C3286)","v":"H: Seumenicht, Andreas"},{"$f":"VLOOKUP(A3286,bangolf_kategorien!$A$2:$B$11,2,FALSE)","v":"H"}]
["ob",48952,"Norbert","Seus","MGC Wertheim 91",{"$f":"CONCATENATE(VLOOKUP(A3287,bangolf_kategorien!$A$2:$B$11,2,FALSE),\": \",D3287,\", \",C3287)","v":"SM1: Seus, Norbert"},{"$f":"VLOOKUP(A3287,bangolf_kategorien!$A$2:$B$11,2,FALSE)","v":"SM1"}]
["hs",30411,"Andreas","Seyen","MC \"Möve\" Cuxhaven-Sahlenburg",{"$f":"CONCATENATE(VLOOKUP(A3288,bangolf_kategorien!$A$2:$B$11,2,FALSE),\": \",D3288,\", \",C3288)","v":"H: Seyen, Andreas"},{"$f":"VLOOKUP(A3288,bangolf_kategorien!$A$2:$B$11,2,FALSE)","v":"H"}]
["hv",37012,"Edmund","Sibilski","1. BGC Hannover",{"$f":"CONCATENATE(VLOOKUP(A3289,bangolf_kategorien!$A$2:$B$11,2,FALSE),\": \",D3289,\", \",C3289)","v":"SM2: Sibilski, Edmund"},{"$f":"VLOOKUP(A3289,bangolf_kategorien!$A$2:$B$11,2,FALSE)","v":"SM2"}]
["dv",6728,"Terezia","Sic","MGC Bad Homburg vdH",{"$f":"CONCATENATE(VLOOKUP(A3290,bangolf_kategorien!$A$2:$B$11,2,FALSE),\": \",D3290,\", \",C3290)","v":"SW2: Sic, Terezia"},{"$f":"VLOOKUP(A3290,bangolf_kategorien!$A$2:$B$11,2,FALSE)","v":"SW2"}]
["hv",22127,"Zoltan","Sic","MGC Bad Homburg vdH",{"$f":"CONCATENATE(VLOOKUP(A3291,bangolf_kategorien!$A$2:$B$11,2,FALSE),\": \",D3291,\", \",C3291)","v":"SM2: Sic, Zoltan"},{"$f":"VLOOKUP(A3291,bangolf_kategorien!$A$2:$B$11,2,FALSE)","v":"SM2"}]
["ob",66620,"Markus","Sieber","ASV Pegnitz, Abt. Minigolf",{"$f":"CONCATENATE(VLOOKUP(A3292,bangolf_kategorien!$A$2:$B$11,2,FALSE),\": \",D3292,\", \",C3292)","v":"SM1: Sieber, Markus"},{"$f":"VLOOKUP(A3292,bangolf_kategorien!$A$2:$B$11,2,FALSE)","v":"SM1"}]
["hs",66412,"Timo","Sieber","ASV Pegnitz, Abt. Minigolf",{"$f":"CONCATENATE(VLOOKUP(A3293,bangolf_kategorien!$A$2:$B$11,2,FALSE),\": \",D3293,\", \",C3293)","v":"H: Sieber, Timo"},{"$f":"VLOOKUP(A3293,bangolf_kategorien!$A$2:$B$11,2,FALSE)","v":"H"}]
["hv",34384,"Erich","Siebert","MGC Wetzlar",{"$f":"CONCATENATE(VLOOKUP(A3294,bangolf_kategorien!$A$2:$B$11,2,FALSE),\": \",D3294,\", \",C3294)","v":"SM2: Siebert, Erich"},{"$f":"VLOOKUP(A3294,bangolf_kategorien!$A$2:$B$11,2,FALSE)","v":"SM2"}]
["hs",3211952,"Torsten","Siebert","Hobby",{"$f":"CONCATENATE(VLOOKUP(A3295,bangolf_kategorien!$A$2:$B$11,2,FALSE),\": \",D3295,\", \",C3295)","v":"H: Siebert, Torsten"},{"$f":"VLOOKUP(A3295,bangolf_kategorien!$A$2:$B$11,2,FALSE)","v":"H"}]
["hs",41009,"Thorben","Sielaff","Tempelhofer MV Berlin",{"$f":"CONCATENATE(VLOOKUP(A3296,bangolf_kategorien!$A$2:$B$11,2,FALSE),\": \",D3296,\", \",C3296)","v":"H: Sielaff, Thorben"},{"$f":"VLOOKUP(A3296,bangolf_kategorien!$A$2:$B$11,2,FALSE)","v":"H"}]
["hs",67388,"Jörg","Sienknecht","BGC Schweinfurt",{"$f":"CONCATENATE(VLOOKUP(A3297,bangolf_kategorien!$A$2:$B$11,2,FALSE),\": \",D3297,\", \",C3297)","v":"H: Sienknecht, Jörg"},{"$f":"VLOOKUP(A3297,bangolf_kategorien!$A$2:$B$11,2,FALSE)","v":"H"}]
["ob",41468,"Bernd","Sierakowski","1. MGC Kassel 1964",{"$f":"CONCATENATE(VLOOKUP(A3298,bangolf_kategorien!$A$2:$B$11,2,FALSE),\": \",D3298,\", \",C3298)","v":"SM1: Sierakowski, Bernd"},{"$f":"VLOOKUP(A3298,bangolf_kategorien!$A$2:$B$11,2,FALSE)","v":"SM1"}]
["og",66076,"Andrea","Silex","VFB 21 Neugattersleben",{"$f":"CONCATENATE(VLOOKUP(A3299,bangolf_kategorien!$A$2:$B$11,2,FALSE),\": \",D3299,\", \",C3299)","v":"SW1: Silex, Andrea"},{"$f":"VLOOKUP(A3299,bangolf_kategorien!$A$2:$B$11,2,FALSE)","v":"SW1"}]
["ds",66077,"Claudia","Silex","VFB 21 Neugattersleben",{"$f":"CONCATENATE(VLOOKUP(A3300,bangolf_kategorien!$A$2:$B$11,2,FALSE),\": \",D3300,\", \",C3300)","v":"D: Silex, Claudia"},{"$f":"VLOOKUP(A3300,bangolf_kategorien!$A$2:$B$11,2,FALSE)","v":"D"}]
["ob",65957,"Gerald","Silex","VFB 21 Neugattersleben",{"$f":"CONCATENATE(VLOOKUP(A3301,bangolf_kategorien!$A$2:$B$11,2,FALSE),\": \",D3301,\", \",C3301)","v":"SM1: Silex, Gerald"},{"$f":"VLOOKUP(A3301,bangolf_kategorien!$A$2:$B$11,2,FALSE)","v":"SM1"}]
["ds",66140,"Jasmine","Simmerock","MGC Bad Soden-Salmünster",{"$f":"CONCATENATE(VLOOKUP(A3302,bangolf_kategorien!$A$2:$B$11,2,FALSE),\": \",D3302,\", \",C3302)","v":"D: Simmerock, Jasmine"},{"$f":"VLOOKUP(A3302,bangolf_kategorien!$A$2:$B$11,2,FALSE)","v":"D"}]
["ob",26101,"Frank","Simons","Kölner Miniatur Golf Club",{"$f":"CONCATENATE(VLOOKUP(A3303,bangolf_kategorien!$A$2:$B$11,2,FALSE),\": \",D3303,\", \",C3303)","v":"SM1: Simons, Frank"},{"$f":"VLOOKUP(A3303,bangolf_kategorien!$A$2:$B$11,2,FALSE)","v":"SM1"}]
["ob",48352,"Dirk","Sindorf","1. Minigolf-Club Rheinhausen",{"$f":"CONCATENATE(VLOOKUP(A3304,bangolf_kategorien!$A$2:$B$11,2,FALSE),\": \",D3304,\", \",C3304)","v":"SM1: Sindorf, Dirk"},{"$f":"VLOOKUP(A3304,bangolf_kategorien!$A$2:$B$11,2,FALSE)","v":"SM1"}]
["hv",43922,"Michael","Sinzenich","HMC Büttgen",{"$f":"CONCATENATE(VLOOKUP(A3305,bangolf_kategorien!$A$2:$B$11,2,FALSE),\": \",D3305,\", \",C3305)","v":"SM2: Sinzenich, Michael"},{"$f":"VLOOKUP(A3305,bangolf_kategorien!$A$2:$B$11,2,FALSE)","v":"SM2"}]
["dv",29482,"Renate","Sinzenich","HMC Büttgen",{"$f":"CONCATENATE(VLOOKUP(A3306,bangolf_kategorien!$A$2:$B$11,2,FALSE),\": \",D3306,\", \",C3306)","v":"SW2: Sinzenich, Renate"},{"$f":"VLOOKUP(A3306,bangolf_kategorien!$A$2:$B$11,2,FALSE)","v":"SW2"}]
["hv",34564,"Gerald","Siol","SC Bad Münder Abt. Bahnengolf",{"$f":"CONCATENATE(VLOOKUP(A3307,bangolf_kategorien!$A$2:$B$11,2,FALSE),\": \",D3307,\", \",C3307)","v":"SM2: Siol, Gerald"},{"$f":"VLOOKUP(A3307,bangolf_kategorien!$A$2:$B$11,2,FALSE)","v":"SM2"}]
["ob",31559,"Norbert","Skowronsky","MGC Bad Salzuflen",{"$f":"CONCATENATE(VLOOKUP(A3308,bangolf_kategorien!$A$2:$B$11,2,FALSE),\": \",D3308,\", \",C3308)","v":"SM1: Skowronsky, Norbert"},{"$f":"VLOOKUP(A3308,bangolf_kategorien!$A$2:$B$11,2,FALSE)","v":"SM1"}]
["ob",34954,"Andreas","Slowig","BGC Kiel West",{"$f":"CONCATENATE(VLOOKUP(A3309,bangolf_kategorien!$A$2:$B$11,2,FALSE),\": \",D3309,\", \",C3309)","v":"SM1: Slowig, Andreas"},{"$f":"VLOOKUP(A3309,bangolf_kategorien!$A$2:$B$11,2,FALSE)","v":"SM1"}]
["hs",67166,"Marek","Smejkal","BGS Hardenberg-Pötter",{"$f":"CONCATENATE(VLOOKUP(A3310,bangolf_kategorien!$A$2:$B$11,2,FALSE),\": \",D3310,\", \",C3310)","v":"H: Smejkal, Marek"},{"$f":"VLOOKUP(A3310,bangolf_kategorien!$A$2:$B$11,2,FALSE)","v":"H"}]
["ob",44768,"Thomas","Smyczek","TSV Pfungstadt Abt. Bahnengolf",{"$f":"CONCATENATE(VLOOKUP(A3311,bangolf_kategorien!$A$2:$B$11,2,FALSE),\": \",D3311,\", \",C3311)","v":"SM1: Smyczek, Thomas"},{"$f":"VLOOKUP(A3311,bangolf_kategorien!$A$2:$B$11,2,FALSE)","v":"SM1"}]
["dv",17842,"Herma","Snaga","1. BGC Hannover",{"$f":"CONCATENATE(VLOOKUP(A3312,bangolf_kategorien!$A$2:$B$11,2,FALSE),\": \",D3312,\", \",C3312)","v":"SW2: Snaga, Herma"},{"$f":"VLOOKUP(A3312,bangolf_kategorien!$A$2:$B$11,2,FALSE)","v":"SW2"}]
["hv",34030,"Siegfried","Söchting","SC Bad Münder Abt. Bahnengolf",{"$f":"CONCATENATE(VLOOKUP(A3313,bangolf_kategorien!$A$2:$B$11,2,FALSE),\": \",D3313,\", \",C3313)","v":"SM2: Söchting, Siegfried"},{"$f":"VLOOKUP(A3313,bangolf_kategorien!$A$2:$B$11,2,FALSE)","v":"SM2"}]
["ob",38156,"Markus","Sodenkamp","MSK Neheim-Hüsten",{"$f":"CONCATENATE(VLOOKUP(A3314,bangolf_kategorien!$A$2:$B$11,2,FALSE),\": \",D3314,\", \",C3314)","v":"SM1: Sodenkamp, Markus"},{"$f":"VLOOKUP(A3314,bangolf_kategorien!$A$2:$B$11,2,FALSE)","v":"SM1"}]
["hv",25441,"Bert-Rainer","Soest","MGC Homburger Land",{"$f":"CONCATENATE(VLOOKUP(A3315,bangolf_kategorien!$A$2:$B$11,2,FALSE),\": \",D3315,\", \",C3315)","v":"SM2: Soest, Bert-Rainer"},{"$f":"VLOOKUP(A3315,bangolf_kategorien!$A$2:$B$11,2,FALSE)","v":"SM2"}]
["og",30548,"Heike","Solarski","KGC  Waldstadion Frankfurt am Main",{"$f":"CONCATENATE(VLOOKUP(A3316,bangolf_kategorien!$A$2:$B$11,2,FALSE),\": \",D3316,\", \",C3316)","v":"SW1: Solarski, Heike"},{"$f":"VLOOKUP(A3316,bangolf_kategorien!$A$2:$B$11,2,FALSE)","v":"SW1"}]
["hs",66335,"Matthias","Söldner","MSV Würzburg-Löwenbrücke",{"$f":"CONCATENATE(VLOOKUP(A3317,bangolf_kategorien!$A$2:$B$11,2,FALSE),\": \",D3317,\", \",C3317)","v":"H: Söldner, Matthias"},{"$f":"VLOOKUP(A3317,bangolf_kategorien!$A$2:$B$11,2,FALSE)","v":"H"}]
["hv",25756,"Sebastian","Solleder","MGC Wolnzach",{"$f":"CONCATENATE(VLOOKUP(A3318,bangolf_kategorien!$A$2:$B$11,2,FALSE),\": \",D3318,\", \",C3318)","v":"SM2: Solleder, Sebastian"},{"$f":"VLOOKUP(A3318,bangolf_kategorien!$A$2:$B$11,2,FALSE)","v":"SM2"}]
["og",43152,"Birgit","Sommer","MGC Rot-Weiß Wanne-Eickel",{"$f":"CONCATENATE(VLOOKUP(A3319,bangolf_kategorien!$A$2:$B$11,2,FALSE),\": \",D3319,\", \",C3319)","v":"SW1: Sommer, Birgit"},{"$f":"VLOOKUP(A3319,bangolf_kategorien!$A$2:$B$11,2,FALSE)","v":"SW1"}]
["hs",36488,"Ralf","Sommer","MSG Kempten",{"$f":"CONCATENATE(VLOOKUP(A3320,bangolf_kategorien!$A$2:$B$11,2,FALSE),\": \",D3320,\", \",C3320)","v":"H: Sommer, Ralf"},{"$f":"VLOOKUP(A3320,bangolf_kategorien!$A$2:$B$11,2,FALSE)","v":"H"}]
["hs",66973,"Reto","Sommer","1. MGC Mainz",{"$f":"CONCATENATE(VLOOKUP(A3321,bangolf_kategorien!$A$2:$B$11,2,FALSE),\": \",D3321,\", \",C3321)","v":"H: Sommer, Reto"},{"$f":"VLOOKUP(A3321,bangolf_kategorien!$A$2:$B$11,2,FALSE)","v":"H"}]
["fa",67355,"Zoe-Loreen","Sommer","MSG Kempten",{"$f":"CONCATENATE(VLOOKUP(A3322,bangolf_kategorien!$A$2:$B$11,2,FALSE),\": \",D3322,\", \",C3322)","v":"SCHW: Sommer, Zoe-Loreen"},{"$f":"VLOOKUP(A3322,bangolf_kategorien!$A$2:$B$11,2,FALSE)","v":"SCHW"}]
["ob",3320481,"Holger","Sommerfeld","Hobby",{"$f":"CONCATENATE(VLOOKUP(A3323,bangolf_kategorien!$A$2:$B$11,2,FALSE),\": \",D3323,\", \",C3323)","v":"SM1: Sommerfeld, Holger"},{"$f":"VLOOKUP(A3323,bangolf_kategorien!$A$2:$B$11,2,FALSE)","v":"SM1"}]
["hs",49260,"Christian","Somnitz","MC \"Möve\" Cuxhaven-Sahlenburg",{"$f":"CONCATENATE(VLOOKUP(A3324,bangolf_kategorien!$A$2:$B$11,2,FALSE),\": \",D3324,\", \",C3324)","v":"H: Somnitz, Christian"},{"$f":"VLOOKUP(A3324,bangolf_kategorien!$A$2:$B$11,2,FALSE)","v":"H"}]
["hv",3194210,"Ernst","Sonnenburg","Hobby",{"$f":"CONCATENATE(VLOOKUP(A3325,bangolf_kategorien!$A$2:$B$11,2,FALSE),\": \",D3325,\", \",C3325)","v":"SM2: Sonnenburg, Ernst"},{"$f":"VLOOKUP(A3325,bangolf_kategorien!$A$2:$B$11,2,FALSE)","v":"SM2"}]
["hv",33951,"Rainer","Sorgenfrei","BGC Illertissen",{"$f":"CONCATENATE(VLOOKUP(A3326,bangolf_kategorien!$A$2:$B$11,2,FALSE),\": \",D3326,\", \",C3326)","v":"SM2: Sorgenfrei, Rainer"},{"$f":"VLOOKUP(A3326,bangolf_kategorien!$A$2:$B$11,2,FALSE)","v":"SM2"}]
["ds",33712,"Britta","Spandau","1. MGC Peine von 1965",{"$f":"CONCATENATE(VLOOKUP(A3327,bangolf_kategorien!$A$2:$B$11,2,FALSE),\": \",D3327,\", \",C3327)","v":"D: Spandau, Britta"},{"$f":"VLOOKUP(A3327,bangolf_kategorien!$A$2:$B$11,2,FALSE)","v":"D"}]
["ob",42332,"Christian","Spandau","TSV Salzgitter Abt. Bahnengolf",{"$f":"CONCATENATE(VLOOKUP(A3328,bangolf_kategorien!$A$2:$B$11,2,FALSE),\": \",D3328,\", \",C3328)","v":"SM1: Spandau, Christian"},{"$f":"VLOOKUP(A3328,bangolf_kategorien!$A$2:$B$11,2,FALSE)","v":"SM1"}]
["hv",34546,"Ernst","Spanner","BGC Illertissen",{"$f":"CONCATENATE(VLOOKUP(A3329,bangolf_kategorien!$A$2:$B$11,2,FALSE),\": \",D3329,\", \",C3329)","v":"SM2: Spanner, Ernst"},{"$f":"VLOOKUP(A3329,bangolf_kategorien!$A$2:$B$11,2,FALSE)","v":"SM2"}]
["hs",64594,"Peter","Spehn","MGC Bad Waldsee 1990",{"$f":"CONCATENATE(VLOOKUP(A3330,bangolf_kategorien!$A$2:$B$11,2,FALSE),\": \",D3330,\", \",C3330)","v":"H: Spehn, Peter"},{"$f":"VLOOKUP(A3330,bangolf_kategorien!$A$2:$B$11,2,FALSE)","v":"H"}]
["ob",66545,"Jeffrey","Spence","MGC Bad Homburg vdH",{"$f":"CONCATENATE(VLOOKUP(A3331,bangolf_kategorien!$A$2:$B$11,2,FALSE),\": \",D3331,\", \",C3331)","v":"SM1: Spence, Jeffrey"},{"$f":"VLOOKUP(A3331,bangolf_kategorien!$A$2:$B$11,2,FALSE)","v":"SM1"}]
["og",66546,"Manuela","Spence-Kunz","MGC Bad Homburg vdH",{"$f":"CONCATENATE(VLOOKUP(A3332,bangolf_kategorien!$A$2:$B$11,2,FALSE),\": \",D3332,\", \",C3332)","v":"SW1: Spence-Kunz, Manuela"},{"$f":"VLOOKUP(A3332,bangolf_kategorien!$A$2:$B$11,2,FALSE)","v":"SW1"}]
["hs",37666,"Christian","Spennesberger","MGC Murnau am Staffelsee",{"$f":"CONCATENATE(VLOOKUP(A3333,bangolf_kategorien!$A$2:$B$11,2,FALSE),\": \",D3333,\", \",C3333)","v":"H: Spennesberger, Christian"},{"$f":"VLOOKUP(A3333,bangolf_kategorien!$A$2:$B$11,2,FALSE)","v":"H"}]
["hs",40159,"Sascha","Sperling","BGC Bad Nenndorf",{"$f":"CONCATENATE(VLOOKUP(A3334,bangolf_kategorien!$A$2:$B$11,2,FALSE),\": \",D3334,\", \",C3334)","v":"H: Sperling, Sascha"},{"$f":"VLOOKUP(A3334,bangolf_kategorien!$A$2:$B$11,2,FALSE)","v":"H"}]
["ob",51629,"Sascha","Sperling","MSV 05 Bad Münder / Springe",{"$f":"CONCATENATE(VLOOKUP(A3335,bangolf_kategorien!$A$2:$B$11,2,FALSE),\": \",D3335,\", \",C3335)","v":"SM1: Sperling, Sascha"},{"$f":"VLOOKUP(A3335,bangolf_kategorien!$A$2:$B$11,2,FALSE)","v":"SM1"}]
["ob",35640,"Frank","Spettel","MGC Wertheim 91",{"$f":"CONCATENATE(VLOOKUP(A3336,bangolf_kategorien!$A$2:$B$11,2,FALSE),\": \",D3336,\", \",C3336)","v":"SM1: Spettel, Frank"},{"$f":"VLOOKUP(A3336,bangolf_kategorien!$A$2:$B$11,2,FALSE)","v":"SM1"}]
["dv",6280,"Maria","Spieleder","BGC Neutraubling",{"$f":"CONCATENATE(VLOOKUP(A3337,bangolf_kategorien!$A$2:$B$11,2,FALSE),\": \",D3337,\", \",C3337)","v":"SW2: Spieleder, Maria"},{"$f":"VLOOKUP(A3337,bangolf_kategorien!$A$2:$B$11,2,FALSE)","v":"SW2"}]
["hv",31489,"Detlef","Spielfeld","MGC Dortmund Syburg",{"$f":"CONCATENATE(VLOOKUP(A3338,bangolf_kategorien!$A$2:$B$11,2,FALSE),\": \",D3338,\", \",C3338)","v":"SM2: Spielfeld, Detlef"},{"$f":"VLOOKUP(A3338,bangolf_kategorien!$A$2:$B$11,2,FALSE)","v":"SM2"}]
["ob",31503,"Manfred","Spielfeld","SGC Hagen",{"$f":"CONCATENATE(VLOOKUP(A3339,bangolf_kategorien!$A$2:$B$11,2,FALSE),\": \",D3339,\", \",C3339)","v":"SM1: Spielfeld, Manfred"},{"$f":"VLOOKUP(A3339,bangolf_kategorien!$A$2:$B$11,2,FALSE)","v":"SM1"}]
["hv",31501,"Siegfried","Spielfeld","SGC Hagen",{"$f":"CONCATENATE(VLOOKUP(A3340,bangolf_kategorien!$A$2:$B$11,2,FALSE),\": \",D3340,\", \",C3340)","v":"SM2: Spielfeld, Siegfried"},{"$f":"VLOOKUP(A3340,bangolf_kategorien!$A$2:$B$11,2,FALSE)","v":"SM2"}]
["ob",49066,"Thomas","Spies","HMC Büttgen",{"$f":"CONCATENATE(VLOOKUP(A3341,bangolf_kategorien!$A$2:$B$11,2,FALSE),\": \",D3341,\", \",C3341)","v":"SM1: Spies, Thomas"},{"$f":"VLOOKUP(A3341,bangolf_kategorien!$A$2:$B$11,2,FALSE)","v":"SM1"}]
["ob",41300,"Sepp","Splettstößer","Minigolf Wölfe Rheinstetten 02",{"$f":"CONCATENATE(VLOOKUP(A3342,bangolf_kategorien!$A$2:$B$11,2,FALSE),\": \",D3342,\", \",C3342)","v":"SM1: Splettstößer, Sepp"},{"$f":"VLOOKUP(A3342,bangolf_kategorien!$A$2:$B$11,2,FALSE)","v":"SM1"}]
["ob",26787,"Volker","Spohr","1. BGC Leipzig",{"$f":"CONCATENATE(VLOOKUP(A3343,bangolf_kategorien!$A$2:$B$11,2,FALSE),\": \",D3343,\", \",C3343)","v":"SM1: Spohr, Volker"},{"$f":"VLOOKUP(A3343,bangolf_kategorien!$A$2:$B$11,2,FALSE)","v":"SM1"}]
["hs",36205,"Sascha","Spreier","1. KC Homburg-Saar 1967",{"$f":"CONCATENATE(VLOOKUP(A3344,bangolf_kategorien!$A$2:$B$11,2,FALSE),\": \",D3344,\", \",C3344)","v":"H: Spreier, Sascha"},{"$f":"VLOOKUP(A3344,bangolf_kategorien!$A$2:$B$11,2,FALSE)","v":"H"}]
["hs",65836,"Lars","Sprengkamp","MGF Magdeburg 1995",{"$f":"CONCATENATE(VLOOKUP(A3345,bangolf_kategorien!$A$2:$B$11,2,FALSE),\": \",D3345,\", \",C3345)","v":"H: Sprengkamp, Lars"},{"$f":"VLOOKUP(A3345,bangolf_kategorien!$A$2:$B$11,2,FALSE)","v":"H"}]
["dv",67570,"Marianne","Springer","BGC Bildstock",{"$f":"CONCATENATE(VLOOKUP(A3346,bangolf_kategorien!$A$2:$B$11,2,FALSE),\": \",D3346,\", \",C3346)","v":"SW2: Springer, Marianne"},{"$f":"VLOOKUP(A3346,bangolf_kategorien!$A$2:$B$11,2,FALSE)","v":"SW2"}]
["hs",34782,"Roman","Springer","OMGC Ingolstadt",{"$f":"CONCATENATE(VLOOKUP(A3347,bangolf_kategorien!$A$2:$B$11,2,FALSE),\": \",D3347,\", \",C3347)","v":"H: Springer, Roman"},{"$f":"VLOOKUP(A3347,bangolf_kategorien!$A$2:$B$11,2,FALSE)","v":"H"}]
["dv",34841,"Rosmarie","Springer","OMGC Ingolstadt",{"$f":"CONCATENATE(VLOOKUP(A3348,bangolf_kategorien!$A$2:$B$11,2,FALSE),\": \",D3348,\", \",C3348)","v":"SW2: Springer, Rosmarie"},{"$f":"VLOOKUP(A3348,bangolf_kategorien!$A$2:$B$11,2,FALSE)","v":"SW2"}]
["hv",35081,"Wilfried","Springer","OMGC Ingolstadt",{"$f":"CONCATENATE(VLOOKUP(A3349,bangolf_kategorien!$A$2:$B$11,2,FALSE),\": \",D3349,\", \",C3349)","v":"SM2: Springer, Wilfried"},{"$f":"VLOOKUP(A3349,bangolf_kategorien!$A$2:$B$11,2,FALSE)","v":"SM2"}]
["ds",38017,"Justine","Springob","SSC Attendorn",{"$f":"CONCATENATE(VLOOKUP(A3350,bangolf_kategorien!$A$2:$B$11,2,FALSE),\": \",D3350,\", \",C3350)","v":"D: Springob, Justine"},{"$f":"VLOOKUP(A3350,bangolf_kategorien!$A$2:$B$11,2,FALSE)","v":"D"}]
["hs",31572,"Lars","Springob","SSC Attendorn",{"$f":"CONCATENATE(VLOOKUP(A3351,bangolf_kategorien!$A$2:$B$11,2,FALSE),\": \",D3351,\", \",C3351)","v":"H: Springob, Lars"},{"$f":"VLOOKUP(A3351,bangolf_kategorien!$A$2:$B$11,2,FALSE)","v":"H"}]
["hs",38477,"René","Springob","MSK Neheim-Hüsten",{"$f":"CONCATENATE(VLOOKUP(A3352,bangolf_kategorien!$A$2:$B$11,2,FALSE),\": \",D3352,\", \",C3352)","v":"H: Springob, René"},{"$f":"VLOOKUP(A3352,bangolf_kategorien!$A$2:$B$11,2,FALSE)","v":"H"}]
["ob",64598,"Patric","Sprung","BGC Bad Mergentheim",{"$f":"CONCATENATE(VLOOKUP(A3353,bangolf_kategorien!$A$2:$B$11,2,FALSE),\": \",D3353,\", \",C3353)","v":"SM1: Sprung, Patric"},{"$f":"VLOOKUP(A3353,bangolf_kategorien!$A$2:$B$11,2,FALSE)","v":"SM1"}]
["hv",50895,"Georg","Stabl","SSV Ulm 1846 Abt. Bahnengolf",{"$f":"CONCATENATE(VLOOKUP(A3354,bangolf_kategorien!$A$2:$B$11,2,FALSE),\": \",D3354,\", \",C3354)","v":"SM2: Stabl, Georg"},{"$f":"VLOOKUP(A3354,bangolf_kategorien!$A$2:$B$11,2,FALSE)","v":"SM2"}]
["hs",31903,"Jan","Stachowiak","MGC Rot-Weiß Wanne-Eickel",{"$f":"CONCATENATE(VLOOKUP(A3355,bangolf_kategorien!$A$2:$B$11,2,FALSE),\": \",D3355,\", \",C3355)","v":"H: Stachowiak, Jan"},{"$f":"VLOOKUP(A3355,bangolf_kategorien!$A$2:$B$11,2,FALSE)","v":"H"}]
["pa",67285,"Leon","Staeubert","MSK Olching",{"$f":"CONCATENATE(VLOOKUP(A3356,bangolf_kategorien!$A$2:$B$11,2,FALSE),\": \",D3356,\", \",C3356)","v":"SCHM: Staeubert, Leon"},{"$f":"VLOOKUP(A3356,bangolf_kategorien!$A$2:$B$11,2,FALSE)","v":"SCHM"}]
["hs",64940,"Jan","Stahmann","1. MGC Kassel 1964",{"$f":"CONCATENATE(VLOOKUP(A3357,bangolf_kategorien!$A$2:$B$11,2,FALSE),\": \",D3357,\", \",C3357)","v":"H: Stahmann, Jan"},{"$f":"VLOOKUP(A3357,bangolf_kategorien!$A$2:$B$11,2,FALSE)","v":"H"}]
["pa",67520,"Julius","Stahmann","1. MGC Kassel 1964",{"$f":"CONCATENATE(VLOOKUP(A3358,bangolf_kategorien!$A$2:$B$11,2,FALSE),\": \",D3358,\", \",C3358)","v":"SCHM: Stahmann, Julius"},{"$f":"VLOOKUP(A3358,bangolf_kategorien!$A$2:$B$11,2,FALSE)","v":"SCHM"}]
["hs",66480,"Sebastian","Stallkamp","Osnabrücker M.-C. von 1963",{"$f":"CONCATENATE(VLOOKUP(A3359,bangolf_kategorien!$A$2:$B$11,2,FALSE),\": \",D3359,\", \",C3359)","v":"H: Stallkamp, Sebastian"},{"$f":"VLOOKUP(A3359,bangolf_kategorien!$A$2:$B$11,2,FALSE)","v":"H"}]
["ob",66704,"Thomas","Stallkamp","MC Georgsmarienhütte",{"$f":"CONCATENATE(VLOOKUP(A3360,bangolf_kategorien!$A$2:$B$11,2,FALSE),\": \",D3360,\", \",C3360)","v":"SM1: Stallkamp, Thomas"},{"$f":"VLOOKUP(A3360,bangolf_kategorien!$A$2:$B$11,2,FALSE)","v":"SM1"}]
["ob",43996,"Sebastian","Stallmann","MGC Marl 1960",{"$f":"CONCATENATE(VLOOKUP(A3361,bangolf_kategorien!$A$2:$B$11,2,FALSE),\": \",D3361,\", \",C3361)","v":"SM1: Stallmann, Sebastian"},{"$f":"VLOOKUP(A3361,bangolf_kategorien!$A$2:$B$11,2,FALSE)","v":"SM1"}]
["og",38295,"Anita","Stamm","1. Essener CGC \"Blau-Gold\"",{"$f":"CONCATENATE(VLOOKUP(A3362,bangolf_kategorien!$A$2:$B$11,2,FALSE),\": \",D3362,\", \",C3362)","v":"SW1: Stamm, Anita"},{"$f":"VLOOKUP(A3362,bangolf_kategorien!$A$2:$B$11,2,FALSE)","v":"SW1"}]
["hv",24288,"Dirk","Stamm","1. Essener CGC \"Blau-Gold\"",{"$f":"CONCATENATE(VLOOKUP(A3363,bangolf_kategorien!$A$2:$B$11,2,FALSE),\": \",D3363,\", \",C3363)","v":"SM2: Stamm, Dirk"},{"$f":"VLOOKUP(A3363,bangolf_kategorien!$A$2:$B$11,2,FALSE)","v":"SM2"}]
["ob",33125,"Siegfried","Stanchly","BGC Heilbronn",{"$f":"CONCATENATE(VLOOKUP(A3364,bangolf_kategorien!$A$2:$B$11,2,FALSE),\": \",D3364,\", \",C3364)","v":"SM1: Stanchly, Siegfried"},{"$f":"VLOOKUP(A3364,bangolf_kategorien!$A$2:$B$11,2,FALSE)","v":"SM1"}]
["hs",31756,"Carsten","Stang","MGC Bad Hersfeld",{"$f":"CONCATENATE(VLOOKUP(A3365,bangolf_kategorien!$A$2:$B$11,2,FALSE),\": \",D3365,\", \",C3365)","v":"H: Stang, Carsten"},{"$f":"VLOOKUP(A3365,bangolf_kategorien!$A$2:$B$11,2,FALSE)","v":"H"}]
["og",2241,"Anja","Stange","1. BGC Hannover",{"$f":"CONCATENATE(VLOOKUP(A3366,bangolf_kategorien!$A$2:$B$11,2,FALSE),\": \",D3366,\", \",C3366)","v":"SW1: Stange, Anja"},{"$f":"VLOOKUP(A3366,bangolf_kategorien!$A$2:$B$11,2,FALSE)","v":"SW1"}]
["hv",34799,"Hans-Werner","Stange","SV Lurup Abt. Bahnengolf",{"$f":"CONCATENATE(VLOOKUP(A3367,bangolf_kategorien!$A$2:$B$11,2,FALSE),\": \",D3367,\", \",C3367)","v":"SM2: Stange, Hans-Werner"},{"$f":"VLOOKUP(A3367,bangolf_kategorien!$A$2:$B$11,2,FALSE)","v":"SM2"}]
["ob",1989,"Michael","Stange","1. BGC Hannover",{"$f":"CONCATENATE(VLOOKUP(A3368,bangolf_kategorien!$A$2:$B$11,2,FALSE),\": \",D3368,\", \",C3368)","v":"SM1: Stange, Michael"},{"$f":"VLOOKUP(A3368,bangolf_kategorien!$A$2:$B$11,2,FALSE)","v":"SM1"}]
["hs",64902,"Tim-Niklas","Stange","1. BGC Hannover",{"$f":"CONCATENATE(VLOOKUP(A3369,bangolf_kategorien!$A$2:$B$11,2,FALSE),\": \",D3369,\", \",C3369)","v":"H: Stange, Tim-Niklas"},{"$f":"VLOOKUP(A3369,bangolf_kategorien!$A$2:$B$11,2,FALSE)","v":"H"}]
["hv",66867,"Karl","Stängl","1. BGC Landshut",{"$f":"CONCATENATE(VLOOKUP(A3370,bangolf_kategorien!$A$2:$B$11,2,FALSE),\": \",D3370,\", \",C3370)","v":"SM2: Stängl, Karl"},{"$f":"VLOOKUP(A3370,bangolf_kategorien!$A$2:$B$11,2,FALSE)","v":"SM2"}]
["hs",3149348,"Julian","Stapf","Hobby",{"$f":"CONCATENATE(VLOOKUP(A3371,bangolf_kategorien!$A$2:$B$11,2,FALSE),\": \",D3371,\", \",C3371)","v":"H: Stapf, Julian"},{"$f":"VLOOKUP(A3371,bangolf_kategorien!$A$2:$B$11,2,FALSE)","v":"H"}]
["ob",29997,"Ulrich","Stappenbeck","1. BGC Wesseling 1975",{"$f":"CONCATENATE(VLOOKUP(A3372,bangolf_kategorien!$A$2:$B$11,2,FALSE),\": \",D3372,\", \",C3372)","v":"SM1: Stappenbeck, Ulrich"},{"$f":"VLOOKUP(A3372,bangolf_kategorien!$A$2:$B$11,2,FALSE)","v":"SM1"}]
["hv",45118,"Wolfgang","Stargardt","1. MGC Metzingen",{"$f":"CONCATENATE(VLOOKUP(A3373,bangolf_kategorien!$A$2:$B$11,2,FALSE),\": \",D3373,\", \",C3373)","v":"SM2: Stargardt, Wolfgang"},{"$f":"VLOOKUP(A3373,bangolf_kategorien!$A$2:$B$11,2,FALSE)","v":"SM2"}]
["hv",3108931,"Joachim","Staritz","Hobby",{"$f":"CONCATENATE(VLOOKUP(A3374,bangolf_kategorien!$A$2:$B$11,2,FALSE),\": \",D3374,\", \",C3374)","v":"SM2: Staritz, Joachim"},{"$f":"VLOOKUP(A3374,bangolf_kategorien!$A$2:$B$11,2,FALSE)","v":"SM2"}]
["hv",3524,"Rupert","Stark","OMGC Ingolstadt",{"$f":"CONCATENATE(VLOOKUP(A3375,bangolf_kategorien!$A$2:$B$11,2,FALSE),\": \",D3375,\", \",C3375)","v":"SM2: Stark, Rupert"},{"$f":"VLOOKUP(A3375,bangolf_kategorien!$A$2:$B$11,2,FALSE)","v":"SM2"}]
["hv",3568,"Werner","Starke","MSK Olching",{"$f":"CONCATENATE(VLOOKUP(A3376,bangolf_kategorien!$A$2:$B$11,2,FALSE),\": \",D3376,\", \",C3376)","v":"SM2: Starke, Werner"},{"$f":"VLOOKUP(A3376,bangolf_kategorien!$A$2:$B$11,2,FALSE)","v":"SM2"}]
["ob",32959,"Thomas","Staska","BSV 86 München",{"$f":"CONCATENATE(VLOOKUP(A3377,bangolf_kategorien!$A$2:$B$11,2,FALSE),\": \",D3377,\", \",C3377)","v":"SM1: Staska, Thomas"},{"$f":"VLOOKUP(A3377,bangolf_kategorien!$A$2:$B$11,2,FALSE)","v":"SM1"}]
["hj",66934,"Marcel","Staudt","Miniaturgolf Sportclub Schriesheim",{"$f":"CONCATENATE(VLOOKUP(A3378,bangolf_kategorien!$A$2:$B$11,2,FALSE),\": \",D3378,\", \",C3378)","v":"JM: Staudt, Marcel"},{"$f":"VLOOKUP(A3378,bangolf_kategorien!$A$2:$B$11,2,FALSE)","v":"JM"}]
["hv",34775,"Hans-Georg","Steeg","Bochumer Minigolf-Club 1960",{"$f":"CONCATENATE(VLOOKUP(A3379,bangolf_kategorien!$A$2:$B$11,2,FALSE),\": \",D3379,\", \",C3379)","v":"SM2: Steeg, Hans-Georg"},{"$f":"VLOOKUP(A3379,bangolf_kategorien!$A$2:$B$11,2,FALSE)","v":"SM2"}]
["hv",5053,"Werner","Steeger","SSC Halver",{"$f":"CONCATENATE(VLOOKUP(A3380,bangolf_kategorien!$A$2:$B$11,2,FALSE),\": \",D3380,\", \",C3380)","v":"SM2: Steeger, Werner"},{"$f":"VLOOKUP(A3380,bangolf_kategorien!$A$2:$B$11,2,FALSE)","v":"SM2"}]
["dv",34507,"Waltraud","Steffens","BGC Goslar",{"$f":"CONCATENATE(VLOOKUP(A3381,bangolf_kategorien!$A$2:$B$11,2,FALSE),\": \",D3381,\", \",C3381)","v":"SW2: Steffens, Waltraud"},{"$f":"VLOOKUP(A3381,bangolf_kategorien!$A$2:$B$11,2,FALSE)","v":"SW2"}]
["ds",67304,"Iris","Steffens-Bruelheide","MGC Bad Salzuflen",{"$f":"CONCATENATE(VLOOKUP(A3382,bangolf_kategorien!$A$2:$B$11,2,FALSE),\": \",D3382,\", \",C3382)","v":"D: Steffens-Bruelheide, Iris"},{"$f":"VLOOKUP(A3382,bangolf_kategorien!$A$2:$B$11,2,FALSE)","v":"D"}]
["hs",27838,"Ulf","Stegmaier","BIG ASPERG",{"$f":"CONCATENATE(VLOOKUP(A3383,bangolf_kategorien!$A$2:$B$11,2,FALSE),\": \",D3383,\", \",C3383)","v":"H: Stegmaier, Ulf"},{"$f":"VLOOKUP(A3383,bangolf_kategorien!$A$2:$B$11,2,FALSE)","v":"H"}]
["pa",67585,"Louis","Stegmayr","MGC Bad Feilnbach",{"$f":"CONCATENATE(VLOOKUP(A3384,bangolf_kategorien!$A$2:$B$11,2,FALSE),\": \",D3384,\", \",C3384)","v":"SCHM: Stegmayr, Louis"},{"$f":"VLOOKUP(A3384,bangolf_kategorien!$A$2:$B$11,2,FALSE)","v":"SCHM"}]
["ob",66897,"Udo","Stegmayr","MGC Bad Feilnbach",{"$f":"CONCATENATE(VLOOKUP(A3385,bangolf_kategorien!$A$2:$B$11,2,FALSE),\": \",D3385,\", \",C3385)","v":"SM1: Stegmayr, Udo"},{"$f":"VLOOKUP(A3385,bangolf_kategorien!$A$2:$B$11,2,FALSE)","v":"SM1"}]
["hv",44123,"Uwe","Steier","Niendorfer MC v. 1963",{"$f":"CONCATENATE(VLOOKUP(A3386,bangolf_kategorien!$A$2:$B$11,2,FALSE),\": \",D3386,\", \",C3386)","v":"SM2: Steier, Uwe"},{"$f":"VLOOKUP(A3386,bangolf_kategorien!$A$2:$B$11,2,FALSE)","v":"SM2"}]
["og",44379,"Sonja","Steinburg","MGC Dormagen-Brechten",{"$f":"CONCATENATE(VLOOKUP(A3387,bangolf_kategorien!$A$2:$B$11,2,FALSE),\": \",D3387,\", \",C3387)","v":"SW1: Steinburg, Sonja"},{"$f":"VLOOKUP(A3387,bangolf_kategorien!$A$2:$B$11,2,FALSE)","v":"SW1"}]
["hv",6796,"Ralf","Steinhausen","BGC Bremen",{"$f":"CONCATENATE(VLOOKUP(A3388,bangolf_kategorien!$A$2:$B$11,2,FALSE),\": \",D3388,\", \",C3388)","v":"SM2: Steinhausen, Ralf"},{"$f":"VLOOKUP(A3388,bangolf_kategorien!$A$2:$B$11,2,FALSE)","v":"SM2"}]
["hv",41367,"Hubert","Steinhoff","MSK Neheim-Hüsten",{"$f":"CONCATENATE(VLOOKUP(A3389,bangolf_kategorien!$A$2:$B$11,2,FALSE),\": \",D3389,\", \",C3389)","v":"SM2: Steinhoff, Hubert"},{"$f":"VLOOKUP(A3389,bangolf_kategorien!$A$2:$B$11,2,FALSE)","v":"SM2"}]
["hv",33580,"William","Stellato","MGC Wertheim 91",{"$f":"CONCATENATE(VLOOKUP(A3390,bangolf_kategorien!$A$2:$B$11,2,FALSE),\": \",D3390,\", \",C3390)","v":"SM2: Stellato, William"},{"$f":"VLOOKUP(A3390,bangolf_kategorien!$A$2:$B$11,2,FALSE)","v":"SM2"}]
["hv",21876,"Friedhelm","Steller","CGC Illertal Kellmünz",{"$f":"CONCATENATE(VLOOKUP(A3391,bangolf_kategorien!$A$2:$B$11,2,FALSE),\": \",D3391,\", \",C3391)","v":"SM2: Steller, Friedhelm"},{"$f":"VLOOKUP(A3391,bangolf_kategorien!$A$2:$B$11,2,FALSE)","v":"SM2"}]
["hv",18104,"Jürgen","Stelter","SV Lurup Abt. Bahnengolf",{"$f":"CONCATENATE(VLOOKUP(A3392,bangolf_kategorien!$A$2:$B$11,2,FALSE),\": \",D3392,\", \",C3392)","v":"SM2: Stelter, Jürgen"},{"$f":"VLOOKUP(A3392,bangolf_kategorien!$A$2:$B$11,2,FALSE)","v":"SM2"}]
["dv",6006,"Karin","Stelter","SV Lurup Abt. Bahnengolf",{"$f":"CONCATENATE(VLOOKUP(A3393,bangolf_kategorien!$A$2:$B$11,2,FALSE),\": \",D3393,\", \",C3393)","v":"SW2: Stelter, Karin"},{"$f":"VLOOKUP(A3393,bangolf_kategorien!$A$2:$B$11,2,FALSE)","v":"SW2"}]
["hv",6075,"Klaus","Stelter","SV Lurup Abt. Bahnengolf",{"$f":"CONCATENATE(VLOOKUP(A3394,bangolf_kategorien!$A$2:$B$11,2,FALSE),\": \",D3394,\", \",C3394)","v":"SM2: Stelter, Klaus"},{"$f":"VLOOKUP(A3394,bangolf_kategorien!$A$2:$B$11,2,FALSE)","v":"SM2"}]
["hj",66711,"Kai","Stelzer","1. MGC Paderborn",{"$f":"CONCATENATE(VLOOKUP(A3395,bangolf_kategorien!$A$2:$B$11,2,FALSE),\": \",D3395,\", \",C3395)","v":"JM: Stelzer, Kai"},{"$f":"VLOOKUP(A3395,bangolf_kategorien!$A$2:$B$11,2,FALSE)","v":"JM"}]
["ds",37404,"Franziska","Stemplinger","BGC 90 Ottobrunn",{"$f":"CONCATENATE(VLOOKUP(A3396,bangolf_kategorien!$A$2:$B$11,2,FALSE),\": \",D3396,\", \",C3396)","v":"D: Stemplinger, Franziska"},{"$f":"VLOOKUP(A3396,bangolf_kategorien!$A$2:$B$11,2,FALSE)","v":"D"}]
["hv",33974,"Ludwig","Stemplinger","BGC 90 Ottobrunn",{"$f":"CONCATENATE(VLOOKUP(A3397,bangolf_kategorien!$A$2:$B$11,2,FALSE),\": \",D3397,\", \",C3397)","v":"SM2: Stemplinger, Ludwig"},{"$f":"VLOOKUP(A3397,bangolf_kategorien!$A$2:$B$11,2,FALSE)","v":"SM2"}]
["ds",47402,"Michaela","Stemplinger","BGC 90 Ottobrunn",{"$f":"CONCATENATE(VLOOKUP(A3398,bangolf_kategorien!$A$2:$B$11,2,FALSE),\": \",D3398,\", \",C3398)","v":"D: Stemplinger, Michaela"},{"$f":"VLOOKUP(A3398,bangolf_kategorien!$A$2:$B$11,2,FALSE)","v":"D"}]
["ob",46386,"Christian","Stendel","Reinickendorfer MGC",{"$f":"CONCATENATE(VLOOKUP(A3399,bangolf_kategorien!$A$2:$B$11,2,FALSE),\": \",D3399,\", \",C3399)","v":"SM1: Stendel, Christian"},{"$f":"VLOOKUP(A3399,bangolf_kategorien!$A$2:$B$11,2,FALSE)","v":"SM1"}]
["hs",3112248,"Fabian","Stenzel","Hobby",{"$f":"CONCATENATE(VLOOKUP(A3400,bangolf_kategorien!$A$2:$B$11,2,FALSE),\": \",D3400,\", \",C3400)","v":"H: Stenzel, Fabian"},{"$f":"VLOOKUP(A3400,bangolf_kategorien!$A$2:$B$11,2,FALSE)","v":"H"}]
["hv",4348,"Michael","Stephan","1. BGC Landshut",{"$f":"CONCATENATE(VLOOKUP(A3401,bangolf_kategorien!$A$2:$B$11,2,FALSE),\": \",D3401,\", \",C3401)","v":"SM2: Stephan, Michael"},{"$f":"VLOOKUP(A3401,bangolf_kategorien!$A$2:$B$11,2,FALSE)","v":"SM2"}]
["ob",66285,"Markus","Stern","BGC Bremen",{"$f":"CONCATENATE(VLOOKUP(A3402,bangolf_kategorien!$A$2:$B$11,2,FALSE),\": \",D3402,\", \",C3402)","v":"SM1: Stern, Markus"},{"$f":"VLOOKUP(A3402,bangolf_kategorien!$A$2:$B$11,2,FALSE)","v":"SM1"}]
["hv",10099,"Udo","Sternemann","BGSV Castrop 1961",{"$f":"CONCATENATE(VLOOKUP(A3403,bangolf_kategorien!$A$2:$B$11,2,FALSE),\": \",D3403,\", \",C3403)","v":"SM2: Sternemann, Udo"},{"$f":"VLOOKUP(A3403,bangolf_kategorien!$A$2:$B$11,2,FALSE)","v":"SM2"}]
["dv",66281,"Elisabeth","Stertkamp","BV Sennestadt",{"$f":"CONCATENATE(VLOOKUP(A3404,bangolf_kategorien!$A$2:$B$11,2,FALSE),\": \",D3404,\", \",C3404)","v":"SW2: Stertkamp, Elisabeth"},{"$f":"VLOOKUP(A3404,bangolf_kategorien!$A$2:$B$11,2,FALSE)","v":"SW2"}]
["hs",27348,"Marco","Sterzenbach","Miniaturgolf Sportclub Schriesheim",{"$f":"CONCATENATE(VLOOKUP(A3405,bangolf_kategorien!$A$2:$B$11,2,FALSE),\": \",D3405,\", \",C3405)","v":"H: Sterzenbach, Marco"},{"$f":"VLOOKUP(A3405,bangolf_kategorien!$A$2:$B$11,2,FALSE)","v":"H"}]
["hv",35625,"Helmut","Steuer","BGC Illertissen",{"$f":"CONCATENATE(VLOOKUP(A3406,bangolf_kategorien!$A$2:$B$11,2,FALSE),\": \",D3406,\", \",C3406)","v":"SM2: Steuer, Helmut"},{"$f":"VLOOKUP(A3406,bangolf_kategorien!$A$2:$B$11,2,FALSE)","v":"SM2"}]
["ob",66703,"Stephan","Stewens","1. BGC Landshut",{"$f":"CONCATENATE(VLOOKUP(A3407,bangolf_kategorien!$A$2:$B$11,2,FALSE),\": \",D3407,\", \",C3407)","v":"SM1: Stewens, Stephan"},{"$f":"VLOOKUP(A3407,bangolf_kategorien!$A$2:$B$11,2,FALSE)","v":"SM1"}]
["pa",67019,"Jan Malte","Stief","MC 62 Lüdenscheid",{"$f":"CONCATENATE(VLOOKUP(A3408,bangolf_kategorien!$A$2:$B$11,2,FALSE),\": \",D3408,\", \",C3408)","v":"SCHM: Stief, Jan Malte"},{"$f":"VLOOKUP(A3408,bangolf_kategorien!$A$2:$B$11,2,FALSE)","v":"SCHM"}]
["hv",67223,"Hans-Dieter","Stier","1. MC Weinheim",{"$f":"CONCATENATE(VLOOKUP(A3409,bangolf_kategorien!$A$2:$B$11,2,FALSE),\": \",D3409,\", \",C3409)","v":"SM2: Stier, Hans-Dieter"},{"$f":"VLOOKUP(A3409,bangolf_kategorien!$A$2:$B$11,2,FALSE)","v":"SM2"}]
["hs",67097,"Sören","Stift","MGC Harrislee-Wassersleben",{"$f":"CONCATENATE(VLOOKUP(A3410,bangolf_kategorien!$A$2:$B$11,2,FALSE),\": \",D3410,\", \",C3410)","v":"H: Stift, Sören"},{"$f":"VLOOKUP(A3410,bangolf_kategorien!$A$2:$B$11,2,FALSE)","v":"H"}]
["hs",30319,"Kris","Stille","Niendorfer MC v. 1963",{"$f":"CONCATENATE(VLOOKUP(A3411,bangolf_kategorien!$A$2:$B$11,2,FALSE),\": \",D3411,\", \",C3411)","v":"H: Stille, Kris"},{"$f":"VLOOKUP(A3411,bangolf_kategorien!$A$2:$B$11,2,FALSE)","v":"H"}]
["ob",41929,"Manfred","Stock","MGC Bad Bodendorf",{"$f":"CONCATENATE(VLOOKUP(A3412,bangolf_kategorien!$A$2:$B$11,2,FALSE),\": \",D3412,\", \",C3412)","v":"SM1: Stock, Manfred"},{"$f":"VLOOKUP(A3412,bangolf_kategorien!$A$2:$B$11,2,FALSE)","v":"SM1"}]
["hs",66100,"Thomas","Stock","MGC Bad Bodendorf",{"$f":"CONCATENATE(VLOOKUP(A3413,bangolf_kategorien!$A$2:$B$11,2,FALSE),\": \",D3413,\", \",C3413)","v":"H: Stock, Thomas"},{"$f":"VLOOKUP(A3413,bangolf_kategorien!$A$2:$B$11,2,FALSE)","v":"H"}]
["hs",356,"Martin","Stöckle","Niendorfer MC v. 1963",{"$f":"CONCATENATE(VLOOKUP(A3414,bangolf_kategorien!$A$2:$B$11,2,FALSE),\": \",D3414,\", \",C3414)","v":"H: Stöckle, Martin"},{"$f":"VLOOKUP(A3414,bangolf_kategorien!$A$2:$B$11,2,FALSE)","v":"H"}]
["ob",29959,"Wolfgang","Stöckle","MGF Steinbruch Kempten",{"$f":"CONCATENATE(VLOOKUP(A3415,bangolf_kategorien!$A$2:$B$11,2,FALSE),\": \",D3415,\", \",C3415)","v":"SM1: Stöckle, Wolfgang"},{"$f":"VLOOKUP(A3415,bangolf_kategorien!$A$2:$B$11,2,FALSE)","v":"SM1"}]
["hv",18249,"Hans","Stolt","1. MGC Tuttlingen",{"$f":"CONCATENATE(VLOOKUP(A3416,bangolf_kategorien!$A$2:$B$11,2,FALSE),\": \",D3416,\", \",C3416)","v":"SM2: Stolt, Hans"},{"$f":"VLOOKUP(A3416,bangolf_kategorien!$A$2:$B$11,2,FALSE)","v":"SM2"}]
["hs",27937,"Branislav","Stoparic","MGC Millennium Lorsch",{"$f":"CONCATENATE(VLOOKUP(A3417,bangolf_kategorien!$A$2:$B$11,2,FALSE),\": \",D3417,\", \",C3417)","v":"H: Stoparic, Branislav"},{"$f":"VLOOKUP(A3417,bangolf_kategorien!$A$2:$B$11,2,FALSE)","v":"H"}]
["hs",22496,"Miroslav","Stoparic","1. MGC Mainz",{"$f":"CONCATENATE(VLOOKUP(A3418,bangolf_kategorien!$A$2:$B$11,2,FALSE),\": \",D3418,\", \",C3418)","v":"H: Stoparic, Miroslav"},{"$f":"VLOOKUP(A3418,bangolf_kategorien!$A$2:$B$11,2,FALSE)","v":"H"}]
["dv",31829,"Erika","Stopper","BSV 86 München",{"$f":"CONCATENATE(VLOOKUP(A3419,bangolf_kategorien!$A$2:$B$11,2,FALSE),\": \",D3419,\", \",C3419)","v":"SW2: Stopper, Erika"},{"$f":"VLOOKUP(A3419,bangolf_kategorien!$A$2:$B$11,2,FALSE)","v":"SW2"}]
["hv",28333,"Martin","Stopper","BSV 86 München",{"$f":"CONCATENATE(VLOOKUP(A3420,bangolf_kategorien!$A$2:$B$11,2,FALSE),\": \",D3420,\", \",C3420)","v":"SM2: Stopper, Martin"},{"$f":"VLOOKUP(A3420,bangolf_kategorien!$A$2:$B$11,2,FALSE)","v":"SM2"}]
["og",66637,"Daniela","Störger","MSC Bensheim-Auerbach",{"$f":"CONCATENATE(VLOOKUP(A3421,bangolf_kategorien!$A$2:$B$11,2,FALSE),\": \",D3421,\", \",C3421)","v":"SW1: Störger, Daniela"},{"$f":"VLOOKUP(A3421,bangolf_kategorien!$A$2:$B$11,2,FALSE)","v":"SW1"}]
["ob",43139,"Frank","Störmer","Cobigolf-Verein Hamm 2019",{"$f":"CONCATENATE(VLOOKUP(A3422,bangolf_kategorien!$A$2:$B$11,2,FALSE),\": \",D3422,\", \",C3422)","v":"SM1: Störmer, Frank"},{"$f":"VLOOKUP(A3422,bangolf_kategorien!$A$2:$B$11,2,FALSE)","v":"SM1"}]
["hv",31301,"Hans-Jürgen","Stötzer","1. BGC Wesseling 1975",{"$f":"CONCATENATE(VLOOKUP(A3423,bangolf_kategorien!$A$2:$B$11,2,FALSE),\": \",D3423,\", \",C3423)","v":"SM2: Stötzer, Hans-Jürgen"},{"$f":"VLOOKUP(A3423,bangolf_kategorien!$A$2:$B$11,2,FALSE)","v":"SM2"}]
["hs",36353,"Stephan","Stranka","1. BGC Garmisch-Partenkirchen",{"$f":"CONCATENATE(VLOOKUP(A3424,bangolf_kategorien!$A$2:$B$11,2,FALSE),\": \",D3424,\", \",C3424)","v":"H: Stranka, Stephan"},{"$f":"VLOOKUP(A3424,bangolf_kategorien!$A$2:$B$11,2,FALSE)","v":"H"}]
["hv",66600,"Giuseppe","Strano","BGSC \"Gut Schlag\" Gladbeck",{"$f":"CONCATENATE(VLOOKUP(A3425,bangolf_kategorien!$A$2:$B$11,2,FALSE),\": \",D3425,\", \",C3425)","v":"SM2: Strano, Giuseppe"},{"$f":"VLOOKUP(A3425,bangolf_kategorien!$A$2:$B$11,2,FALSE)","v":"SM2"}]
["hs",64776,"Christian","Strasser","1. BGC Landshut",{"$f":"CONCATENATE(VLOOKUP(A3426,bangolf_kategorien!$A$2:$B$11,2,FALSE),\": \",D3426,\", \",C3426)","v":"H: Strasser, Christian"},{"$f":"VLOOKUP(A3426,bangolf_kategorien!$A$2:$B$11,2,FALSE)","v":"H"}]
["hv",64775,"Johann","Strasser","1. BGC Landshut",{"$f":"CONCATENATE(VLOOKUP(A3427,bangolf_kategorien!$A$2:$B$11,2,FALSE),\": \",D3427,\", \",C3427)","v":"SM2: Strasser, Johann"},{"$f":"VLOOKUP(A3427,bangolf_kategorien!$A$2:$B$11,2,FALSE)","v":"SM2"}]
["ds",3106829,"Eva","Strätz","Hobby",{"$f":"CONCATENATE(VLOOKUP(A3428,bangolf_kategorien!$A$2:$B$11,2,FALSE),\": \",D3428,\", \",C3428)","v":"D: Strätz, Eva"},{"$f":"VLOOKUP(A3428,bangolf_kategorien!$A$2:$B$11,2,FALSE)","v":"D"}]
["hs",33184,"Christian","Straub","MGC Sulzfeld",{"$f":"CONCATENATE(VLOOKUP(A3429,bangolf_kategorien!$A$2:$B$11,2,FALSE),\": \",D3429,\", \",C3429)","v":"H: Straub, Christian"},{"$f":"VLOOKUP(A3429,bangolf_kategorien!$A$2:$B$11,2,FALSE)","v":"H"}]
["hs",35657,"Michael","Straub","MGC Sulzfeld",{"$f":"CONCATENATE(VLOOKUP(A3430,bangolf_kategorien!$A$2:$B$11,2,FALSE),\": \",D3430,\", \",C3430)","v":"H: Straub, Michael"},{"$f":"VLOOKUP(A3430,bangolf_kategorien!$A$2:$B$11,2,FALSE)","v":"H"}]
["dv",37045,"Christa","Streit","Minigolfunion Neviges-Odenthal 1968",{"$f":"CONCATENATE(VLOOKUP(A3431,bangolf_kategorien!$A$2:$B$11,2,FALSE),\": \",D3431,\", \",C3431)","v":"SW2: Streit, Christa"},{"$f":"VLOOKUP(A3431,bangolf_kategorien!$A$2:$B$11,2,FALSE)","v":"SW2"}]
["ob",33658,"Manfred","Strohmaier","SSV Ulm 1846 Abt. Bahnengolf",{"$f":"CONCATENATE(VLOOKUP(A3432,bangolf_kategorien!$A$2:$B$11,2,FALSE),\": \",D3432,\", \",C3432)","v":"SM1: Strohmaier, Manfred"},{"$f":"VLOOKUP(A3432,bangolf_kategorien!$A$2:$B$11,2,FALSE)","v":"SM1"}]
["og",67396,"Claudia","Strohmenger","1. MC Weinheim",{"$f":"CONCATENATE(VLOOKUP(A3433,bangolf_kategorien!$A$2:$B$11,2,FALSE),\": \",D3433,\", \",C3433)","v":"SW1: Strohmenger, Claudia"},{"$f":"VLOOKUP(A3433,bangolf_kategorien!$A$2:$B$11,2,FALSE)","v":"SW1"}]
["hv",67394,"Uwe","Strohmenger","1. MC Weinheim",{"$f":"CONCATENATE(VLOOKUP(A3434,bangolf_kategorien!$A$2:$B$11,2,FALSE),\": \",D3434,\", \",C3434)","v":"SM2: Strohmenger, Uwe"},{"$f":"VLOOKUP(A3434,bangolf_kategorien!$A$2:$B$11,2,FALSE)","v":"SM2"}]
["og",35809,"Catalina","Strube","MGC Bad Soden-Salmünster",{"$f":"CONCATENATE(VLOOKUP(A3435,bangolf_kategorien!$A$2:$B$11,2,FALSE),\": \",D3435,\", \",C3435)","v":"SW1: Strube, Catalina"},{"$f":"VLOOKUP(A3435,bangolf_kategorien!$A$2:$B$11,2,FALSE)","v":"SW1"}]
["ob",34700,"Holger","Strube","MGC Bad Soden-Salmünster",{"$f":"CONCATENATE(VLOOKUP(A3436,bangolf_kategorien!$A$2:$B$11,2,FALSE),\": \",D3436,\", \",C3436)","v":"SM1: Strube, Holger"},{"$f":"VLOOKUP(A3436,bangolf_kategorien!$A$2:$B$11,2,FALSE)","v":"SM1"}]
["dv",3112590,"Ute","Strugholz","Hobby",{"$f":"CONCATENATE(VLOOKUP(A3437,bangolf_kategorien!$A$2:$B$11,2,FALSE),\": \",D3437,\", \",C3437)","v":"SW2: Strugholz, Ute"},{"$f":"VLOOKUP(A3437,bangolf_kategorien!$A$2:$B$11,2,FALSE)","v":"SW2"}]
["hs",35201,"Bernd","Stübgen","1. MGC Peine von 1965",{"$f":"CONCATENATE(VLOOKUP(A3438,bangolf_kategorien!$A$2:$B$11,2,FALSE),\": \",D3438,\", \",C3438)","v":"H: Stübgen, Bernd"},{"$f":"VLOOKUP(A3438,bangolf_kategorien!$A$2:$B$11,2,FALSE)","v":"H"}]
["hj",67042,"Connor","Stübiger","BGSV Aßlar 1987",{"$f":"CONCATENATE(VLOOKUP(A3439,bangolf_kategorien!$A$2:$B$11,2,FALSE),\": \",D3439,\", \",C3439)","v":"JM: Stübiger, Connor"},{"$f":"VLOOKUP(A3439,bangolf_kategorien!$A$2:$B$11,2,FALSE)","v":"JM"}]
["hs",38224,"Martin","Stukan","BGC Schweinfurt",{"$f":"CONCATENATE(VLOOKUP(A3440,bangolf_kategorien!$A$2:$B$11,2,FALSE),\": \",D3440,\", \",C3440)","v":"H: Stukan, Martin"},{"$f":"VLOOKUP(A3440,bangolf_kategorien!$A$2:$B$11,2,FALSE)","v":"H"}]
["hv",38362,"Ingo","Stuppy","1. MGC Mannheim 1968",{"$f":"CONCATENATE(VLOOKUP(A3441,bangolf_kategorien!$A$2:$B$11,2,FALSE),\": \",D3441,\", \",C3441)","v":"SM2: Stuppy, Ingo"},{"$f":"VLOOKUP(A3441,bangolf_kategorien!$A$2:$B$11,2,FALSE)","v":"SM2"}]
["dv",64201,"Dietlind","Sturm","MGC Murnau am Staffelsee",{"$f":"CONCATENATE(VLOOKUP(A3442,bangolf_kategorien!$A$2:$B$11,2,FALSE),\": \",D3442,\", \",C3442)","v":"SW2: Sturm, Dietlind"},{"$f":"VLOOKUP(A3442,bangolf_kategorien!$A$2:$B$11,2,FALSE)","v":"SW2"}]
["ob",27255,"Joachim","Sturm","MGC Dormagen-Brechten",{"$f":"CONCATENATE(VLOOKUP(A3443,bangolf_kategorien!$A$2:$B$11,2,FALSE),\": \",D3443,\", \",C3443)","v":"SM1: Sturm, Joachim"},{"$f":"VLOOKUP(A3443,bangolf_kategorien!$A$2:$B$11,2,FALSE)","v":"SM1"}]
["hv",26576,"Norbert","Sturm","MGC Ingolstadt",{"$f":"CONCATENATE(VLOOKUP(A3444,bangolf_kategorien!$A$2:$B$11,2,FALSE),\": \",D3444,\", \",C3444)","v":"SM2: Sturm, Norbert"},{"$f":"VLOOKUP(A3444,bangolf_kategorien!$A$2:$B$11,2,FALSE)","v":"SM2"}]
["hs",37814,"Tobias","Sturm","MGC Murnau am Staffelsee",{"$f":"CONCATENATE(VLOOKUP(A3445,bangolf_kategorien!$A$2:$B$11,2,FALSE),\": \",D3445,\", \",C3445)","v":"H: Sturm, Tobias"},{"$f":"VLOOKUP(A3445,bangolf_kategorien!$A$2:$B$11,2,FALSE)","v":"H"}]
["hv",29722,"Werner","Sturm","MGC Murnau am Staffelsee",{"$f":"CONCATENATE(VLOOKUP(A3446,bangolf_kategorien!$A$2:$B$11,2,FALSE),\": \",D3446,\", \",C3446)","v":"SM2: Sturm, Werner"},{"$f":"VLOOKUP(A3446,bangolf_kategorien!$A$2:$B$11,2,FALSE)","v":"SM2"}]
["hv",37460,"Klaus","Stürmer","1. KC Homburg-Saar 1967",{"$f":"CONCATENATE(VLOOKUP(A3447,bangolf_kategorien!$A$2:$B$11,2,FALSE),\": \",D3447,\", \",C3447)","v":"SM2: Stürmer, Klaus"},{"$f":"VLOOKUP(A3447,bangolf_kategorien!$A$2:$B$11,2,FALSE)","v":"SM2"}]
["hs",37147,"Sebastian","Stürmer","1. KC Homburg-Saar 1967",{"$f":"CONCATENATE(VLOOKUP(A3448,bangolf_kategorien!$A$2:$B$11,2,FALSE),\": \",D3448,\", \",C3448)","v":"H: Stürmer, Sebastian"},{"$f":"VLOOKUP(A3448,bangolf_kategorien!$A$2:$B$11,2,FALSE)","v":"H"}]
["ob",36587,"Wolfgang","Stute","MGC Schwaikheim",{"$f":"CONCATENATE(VLOOKUP(A3449,bangolf_kategorien!$A$2:$B$11,2,FALSE),\": \",D3449,\", \",C3449)","v":"SM1: Stute, Wolfgang"},{"$f":"VLOOKUP(A3449,bangolf_kategorien!$A$2:$B$11,2,FALSE)","v":"SM1"}]
["hs",37780,"Brian","Suchomel","MC Tigers Künsebeck",{"$f":"CONCATENATE(VLOOKUP(A3450,bangolf_kategorien!$A$2:$B$11,2,FALSE),\": \",D3450,\", \",C3450)","v":"H: Suchomel, Brian"},{"$f":"VLOOKUP(A3450,bangolf_kategorien!$A$2:$B$11,2,FALSE)","v":"H"}]
["hv",43284,"Jürgen","Suckau","MGC Homburger Land",{"$f":"CONCATENATE(VLOOKUP(A3451,bangolf_kategorien!$A$2:$B$11,2,FALSE),\": \",D3451,\", \",C3451)","v":"SM2: Suckau, Jürgen"},{"$f":"VLOOKUP(A3451,bangolf_kategorien!$A$2:$B$11,2,FALSE)","v":"SM2"}]
["ob",44353,"Frank","Südhoff","CGC Grün-Gold Bad Hamm",{"$f":"CONCATENATE(VLOOKUP(A3452,bangolf_kategorien!$A$2:$B$11,2,FALSE),\": \",D3452,\", \",C3452)","v":"SM1: Südhoff, Frank"},{"$f":"VLOOKUP(A3452,bangolf_kategorien!$A$2:$B$11,2,FALSE)","v":"SM1"}]
["ob",26352,"Lutz","Suhrbier","Tempelhofer MV Berlin",{"$f":"CONCATENATE(VLOOKUP(A3453,bangolf_kategorien!$A$2:$B$11,2,FALSE),\": \",D3453,\", \",C3453)","v":"SM1: Suhrbier, Lutz"},{"$f":"VLOOKUP(A3453,bangolf_kategorien!$A$2:$B$11,2,FALSE)","v":"SM1"}]
["ob",44865,"Christopher","Süling","MC \"Möve\" Cuxhaven-Sahlenburg",{"$f":"CONCATENATE(VLOOKUP(A3454,bangolf_kategorien!$A$2:$B$11,2,FALSE),\": \",D3454,\", \",C3454)","v":"SM1: Süling, Christopher"},{"$f":"VLOOKUP(A3454,bangolf_kategorien!$A$2:$B$11,2,FALSE)","v":"SM1"}]
["dv",32850,"Annelie","Sülzen","MGS Hildesheim",{"$f":"CONCATENATE(VLOOKUP(A3455,bangolf_kategorien!$A$2:$B$11,2,FALSE),\": \",D3455,\", \",C3455)","v":"SW2: Sülzen, Annelie"},{"$f":"VLOOKUP(A3455,bangolf_kategorien!$A$2:$B$11,2,FALSE)","v":"SW2"}]
["hv",32849,"Hans-Gerd","Sülzen","MGS Hildesheim",{"$f":"CONCATENATE(VLOOKUP(A3456,bangolf_kategorien!$A$2:$B$11,2,FALSE),\": \",D3456,\", \",C3456)","v":"SM2: Sülzen, Hans-Gerd"},{"$f":"VLOOKUP(A3456,bangolf_kategorien!$A$2:$B$11,2,FALSE)","v":"SM2"}]
["hv",24727,"Jürgen","Summ","MGC Sulzfeld",{"$f":"CONCATENATE(VLOOKUP(A3457,bangolf_kategorien!$A$2:$B$11,2,FALSE),\": \",D3457,\", \",C3457)","v":"SM2: Summ, Jürgen"},{"$f":"VLOOKUP(A3457,bangolf_kategorien!$A$2:$B$11,2,FALSE)","v":"SM2"}]
["hv",6234,"Rudi","Surau","1. MSC Hamburg-Neu Wulmstorf",{"$f":"CONCATENATE(VLOOKUP(A3458,bangolf_kategorien!$A$2:$B$11,2,FALSE),\": \",D3458,\", \",C3458)","v":"SM2: Surau, Rudi"},{"$f":"VLOOKUP(A3458,bangolf_kategorien!$A$2:$B$11,2,FALSE)","v":"SM2"}]
["hv",50830,"Udo","Süß","MSV Bad Kreuznach",{"$f":"CONCATENATE(VLOOKUP(A3459,bangolf_kategorien!$A$2:$B$11,2,FALSE),\": \",D3459,\", \",C3459)","v":"SM2: Süß, Udo"},{"$f":"VLOOKUP(A3459,bangolf_kategorien!$A$2:$B$11,2,FALSE)","v":"SM2"}]
["ob",43693,"Michael","Sussek","1. BGC Wolfsburg",{"$f":"CONCATENATE(VLOOKUP(A3460,bangolf_kategorien!$A$2:$B$11,2,FALSE),\": \",D3460,\", \",C3460)","v":"SM1: Sussek, Michael"},{"$f":"VLOOKUP(A3460,bangolf_kategorien!$A$2:$B$11,2,FALSE)","v":"SM1"}]
["ob",3313803,"Jürgen","Sütterlin","Hobby",{"$f":"CONCATENATE(VLOOKUP(A3461,bangolf_kategorien!$A$2:$B$11,2,FALSE),\": \",D3461,\", \",C3461)","v":"SM1: Sütterlin, Jürgen"},{"$f":"VLOOKUP(A3461,bangolf_kategorien!$A$2:$B$11,2,FALSE)","v":"SM1"}]
["ds",31988,"Daniela","Symanzyk","MC \"Möve\" Cuxhaven-Sahlenburg",{"$f":"CONCATENATE(VLOOKUP(A3462,bangolf_kategorien!$A$2:$B$11,2,FALSE),\": \",D3462,\", \",C3462)","v":"D: Symanzyk, Daniela"},{"$f":"VLOOKUP(A3462,bangolf_kategorien!$A$2:$B$11,2,FALSE)","v":"D"}]
["ob",44243,"André","Szablikowski","1. MGC Mainz",{"$f":"CONCATENATE(VLOOKUP(A3463,bangolf_kategorien!$A$2:$B$11,2,FALSE),\": \",D3463,\", \",C3463)","v":"SM1: Szablikowski, André"},{"$f":"VLOOKUP(A3463,bangolf_kategorien!$A$2:$B$11,2,FALSE)","v":"SM1"}]
["og",29090,"Anke","Szablikowski","1. MGC Mainz",{"$f":"CONCATENATE(VLOOKUP(A3464,bangolf_kategorien!$A$2:$B$11,2,FALSE),\": \",D3464,\", \",C3464)","v":"SW1: Szablikowski, Anke"},{"$f":"VLOOKUP(A3464,bangolf_kategorien!$A$2:$B$11,2,FALSE)","v":"SW1"}]
["hv",25536,"Axel","Szablikowski","1. MGC Mainz",{"$f":"CONCATENATE(VLOOKUP(A3465,bangolf_kategorien!$A$2:$B$11,2,FALSE),\": \",D3465,\", \",C3465)","v":"SM2: Szablikowski, Axel"},{"$f":"VLOOKUP(A3465,bangolf_kategorien!$A$2:$B$11,2,FALSE)","v":"SM2"}]
["ob",30493,"Bernd","Szablikowski","1. MGC Mainz",{"$f":"CONCATENATE(VLOOKUP(A3466,bangolf_kategorien!$A$2:$B$11,2,FALSE),\": \",D3466,\", \",C3466)","v":"SM1: Szablikowski, Bernd"},{"$f":"VLOOKUP(A3466,bangolf_kategorien!$A$2:$B$11,2,FALSE)","v":"SM1"}]
["hs",36570,"Manuel","Szablikowski","1. MGC Mainz",{"$f":"CONCATENATE(VLOOKUP(A3467,bangolf_kategorien!$A$2:$B$11,2,FALSE),\": \",D3467,\", \",C3467)","v":"H: Szablikowski, Manuel"},{"$f":"VLOOKUP(A3467,bangolf_kategorien!$A$2:$B$11,2,FALSE)","v":"H"}]
["og",29092,"Petra","Szablikowski","1. MGC Mainz",{"$f":"CONCATENATE(VLOOKUP(A3468,bangolf_kategorien!$A$2:$B$11,2,FALSE),\": \",D3468,\", \",C3468)","v":"SW1: Szablikowski, Petra"},{"$f":"VLOOKUP(A3468,bangolf_kategorien!$A$2:$B$11,2,FALSE)","v":"SW1"}]
["hs",37981,"Tim","Szablikowski","1. MGC Mainz",{"$f":"CONCATENATE(VLOOKUP(A3469,bangolf_kategorien!$A$2:$B$11,2,FALSE),\": \",D3469,\", \",C3469)","v":"H: Szablikowski, Tim"},{"$f":"VLOOKUP(A3469,bangolf_kategorien!$A$2:$B$11,2,FALSE)","v":"H"}]
["ob",37507,"Harald","Szabo","1. MGC Hechingen",{"$f":"CONCATENATE(VLOOKUP(A3470,bangolf_kategorien!$A$2:$B$11,2,FALSE),\": \",D3470,\", \",C3470)","v":"SM1: Szabo, Harald"},{"$f":"VLOOKUP(A3470,bangolf_kategorien!$A$2:$B$11,2,FALSE)","v":"SM1"}]
["ob",48004,"Jörg","Sziele","MGC Wertheim 91",{"$f":"CONCATENATE(VLOOKUP(A3471,bangolf_kategorien!$A$2:$B$11,2,FALSE),\": \",D3471,\", \",C3471)","v":"SM1: Sziele, Jörg"},{"$f":"VLOOKUP(A3471,bangolf_kategorien!$A$2:$B$11,2,FALSE)","v":"SM1"}]
["dv",67272,"Ilka","Szukowski","BSG Pneumant Fürstenwalde, Abt. Minigolf",{"$f":"CONCATENATE(VLOOKUP(A3472,bangolf_kategorien!$A$2:$B$11,2,FALSE),\": \",D3472,\", \",C3472)","v":"SW2: Szukowski, Ilka"},{"$f":"VLOOKUP(A3472,bangolf_kategorien!$A$2:$B$11,2,FALSE)","v":"SW2"}]
["hv",27974,"Peter","Tabor","MGC \"AS\" Witten 1963",{"$f":"CONCATENATE(VLOOKUP(A3473,bangolf_kategorien!$A$2:$B$11,2,FALSE),\": \",D3473,\", \",C3473)","v":"SM2: Tabor, Peter"},{"$f":"VLOOKUP(A3473,bangolf_kategorien!$A$2:$B$11,2,FALSE)","v":"SM2"}]
["hs",38199,"Daniel","Tafel","1. BGC Garmisch-Partenkirchen",{"$f":"CONCATENATE(VLOOKUP(A3474,bangolf_kategorien!$A$2:$B$11,2,FALSE),\": \",D3474,\", \",C3474)","v":"H: Tafel, Daniel"},{"$f":"VLOOKUP(A3474,bangolf_kategorien!$A$2:$B$11,2,FALSE)","v":"H"}]
["hs",36355,"Julian","Tafel","1. BGC Garmisch-Partenkirchen",{"$f":"CONCATENATE(VLOOKUP(A3475,bangolf_kategorien!$A$2:$B$11,2,FALSE),\": \",D3475,\", \",C3475)","v":"H: Tafel, Julian"},{"$f":"VLOOKUP(A3475,bangolf_kategorien!$A$2:$B$11,2,FALSE)","v":"H"}]
["ob",28604,"Manfred","Tafel","1. BGC Garmisch-Partenkirchen",{"$f":"CONCATENATE(VLOOKUP(A3476,bangolf_kategorien!$A$2:$B$11,2,FALSE),\": \",D3476,\", \",C3476)","v":"SM1: Tafel, Manfred"},{"$f":"VLOOKUP(A3476,bangolf_kategorien!$A$2:$B$11,2,FALSE)","v":"SM1"}]
["ds",36894,"Melanie","Tafel","1. BGC Garmisch-Partenkirchen",{"$f":"CONCATENATE(VLOOKUP(A3477,bangolf_kategorien!$A$2:$B$11,2,FALSE),\": \",D3477,\", \",C3477)","v":"D: Tafel, Melanie"},{"$f":"VLOOKUP(A3477,bangolf_kategorien!$A$2:$B$11,2,FALSE)","v":"D"}]
["og",45237,"Susanne","Tafel","1. BGC Garmisch-Partenkirchen",{"$f":"CONCATENATE(VLOOKUP(A3478,bangolf_kategorien!$A$2:$B$11,2,FALSE),\": \",D3478,\", \",C3478)","v":"SW1: Tafel, Susanne"},{"$f":"VLOOKUP(A3478,bangolf_kategorien!$A$2:$B$11,2,FALSE)","v":"SW1"}]
["dv",65724,"Edeltraut","Tasche","SC Wermelskirchen 1976",{"$f":"CONCATENATE(VLOOKUP(A3479,bangolf_kategorien!$A$2:$B$11,2,FALSE),\": \",D3479,\", \",C3479)","v":"SW2: Tasche, Edeltraut"},{"$f":"VLOOKUP(A3479,bangolf_kategorien!$A$2:$B$11,2,FALSE)","v":"SW2"}]
["hv",65725,"Reinhard","Tasche","SC Wermelskirchen 1976",{"$f":"CONCATENATE(VLOOKUP(A3480,bangolf_kategorien!$A$2:$B$11,2,FALSE),\": \",D3480,\", \",C3480)","v":"SM2: Tasche, Reinhard"},{"$f":"VLOOKUP(A3480,bangolf_kategorien!$A$2:$B$11,2,FALSE)","v":"SM2"}]
["ob",41313,"Angelo","Tatti","BGC Heilbronn",{"$f":"CONCATENATE(VLOOKUP(A3481,bangolf_kategorien!$A$2:$B$11,2,FALSE),\": \",D3481,\", \",C3481)","v":"SM1: Tatti, Angelo"},{"$f":"VLOOKUP(A3481,bangolf_kategorien!$A$2:$B$11,2,FALSE)","v":"SM1"}]
["hv",3621,"Clemente","Tatti","BGC Heilbronn",{"$f":"CONCATENATE(VLOOKUP(A3482,bangolf_kategorien!$A$2:$B$11,2,FALSE),\": \",D3482,\", \",C3482)","v":"SM2: Tatti, Clemente"},{"$f":"VLOOKUP(A3482,bangolf_kategorien!$A$2:$B$11,2,FALSE)","v":"SM2"}]
["ob",30769,"Volker","Tatzelt","Niendorfer MC v. 1963",{"$f":"CONCATENATE(VLOOKUP(A3483,bangolf_kategorien!$A$2:$B$11,2,FALSE),\": \",D3483,\", \",C3483)","v":"SM1: Tatzelt, Volker"},{"$f":"VLOOKUP(A3483,bangolf_kategorien!$A$2:$B$11,2,FALSE)","v":"SM1"}]
["hv",4761,"Peter","Taudien","MSC Bad Godesberg",{"$f":"CONCATENATE(VLOOKUP(A3484,bangolf_kategorien!$A$2:$B$11,2,FALSE),\": \",D3484,\", \",C3484)","v":"SM2: Taudien, Peter"},{"$f":"VLOOKUP(A3484,bangolf_kategorien!$A$2:$B$11,2,FALSE)","v":"SM2"}]
["og",36633,"Carmen","Tauterat","BGC Bad Mergentheim",{"$f":"CONCATENATE(VLOOKUP(A3485,bangolf_kategorien!$A$2:$B$11,2,FALSE),\": \",D3485,\", \",C3485)","v":"SW1: Tauterat, Carmen"},{"$f":"VLOOKUP(A3485,bangolf_kategorien!$A$2:$B$11,2,FALSE)","v":"SW1"}]
["ob",36632,"Gunter","Tauterat","MGC Monrepos",{"$f":"CONCATENATE(VLOOKUP(A3486,bangolf_kategorien!$A$2:$B$11,2,FALSE),\": \",D3486,\", \",C3486)","v":"SM1: Tauterat, Gunter"},{"$f":"VLOOKUP(A3486,bangolf_kategorien!$A$2:$B$11,2,FALSE)","v":"SM1"}]
["dv",33986,"Eleonore","Tautrims","MGC Bad Homburg vdH",{"$f":"CONCATENATE(VLOOKUP(A3487,bangolf_kategorien!$A$2:$B$11,2,FALSE),\": \",D3487,\", \",C3487)","v":"SW2: Tautrims, Eleonore"},{"$f":"VLOOKUP(A3487,bangolf_kategorien!$A$2:$B$11,2,FALSE)","v":"SW2"}]
["hv",4244,"Peter","Tautz","VfM Bottrop",{"$f":"CONCATENATE(VLOOKUP(A3488,bangolf_kategorien!$A$2:$B$11,2,FALSE),\": \",D3488,\", \",C3488)","v":"SM2: Tautz, Peter"},{"$f":"VLOOKUP(A3488,bangolf_kategorien!$A$2:$B$11,2,FALSE)","v":"SM2"}]
["dv",5715,"Brigitte","Te Kamp","SC Wermelskirchen 1976",{"$f":"CONCATENATE(VLOOKUP(A3489,bangolf_kategorien!$A$2:$B$11,2,FALSE),\": \",D3489,\", \",C3489)","v":"SW2: Te Kamp, Brigitte"},{"$f":"VLOOKUP(A3489,bangolf_kategorien!$A$2:$B$11,2,FALSE)","v":"SW2"}]
["pa",67346,"Finn","Teetzen","MGV Bremen",{"$f":"CONCATENATE(VLOOKUP(A3490,bangolf_kategorien!$A$2:$B$11,2,FALSE),\": \",D3490,\", \",C3490)","v":"SCHM: Teetzen, Finn"},{"$f":"VLOOKUP(A3490,bangolf_kategorien!$A$2:$B$11,2,FALSE)","v":"SCHM"}]
["ob",67345,"Michael","Teetzen","MGV Bremen",{"$f":"CONCATENATE(VLOOKUP(A3491,bangolf_kategorien!$A$2:$B$11,2,FALSE),\": \",D3491,\", \",C3491)","v":"SM1: Teetzen, Michael"},{"$f":"VLOOKUP(A3491,bangolf_kategorien!$A$2:$B$11,2,FALSE)","v":"SM1"}]
["hv",6014,"Heinrich","Teine","BGC Dormagen",{"$f":"CONCATENATE(VLOOKUP(A3492,bangolf_kategorien!$A$2:$B$11,2,FALSE),\": \",D3492,\", \",C3492)","v":"SM2: Teine, Heinrich"},{"$f":"VLOOKUP(A3492,bangolf_kategorien!$A$2:$B$11,2,FALSE)","v":"SM2"}]
["hs",33964,"Marco","Templin","BGS Hardenberg-Pötter",{"$f":"CONCATENATE(VLOOKUP(A3493,bangolf_kategorien!$A$2:$B$11,2,FALSE),\": \",D3493,\", \",C3493)","v":"H: Templin, Marco"},{"$f":"VLOOKUP(A3493,bangolf_kategorien!$A$2:$B$11,2,FALSE)","v":"H"}]
["ds",27576,"Bianca","ten Voorde","BGC Bremen",{"$f":"CONCATENATE(VLOOKUP(A3494,bangolf_kategorien!$A$2:$B$11,2,FALSE),\": \",D3494,\", \",C3494)","v":"D: ten Voorde, Bianca"},{"$f":"VLOOKUP(A3494,bangolf_kategorien!$A$2:$B$11,2,FALSE)","v":"D"}]
["hs",33367,"Stefan","ten Voorde","BGC Bremen",{"$f":"CONCATENATE(VLOOKUP(A3495,bangolf_kategorien!$A$2:$B$11,2,FALSE),\": \",D3495,\", \",C3495)","v":"H: ten Voorde, Stefan"},{"$f":"VLOOKUP(A3495,bangolf_kategorien!$A$2:$B$11,2,FALSE)","v":"H"}]
["ds",37319,"Kerstin","Tennigkeit","1. KC Homburg-Saar 1967",{"$f":"CONCATENATE(VLOOKUP(A3496,bangolf_kategorien!$A$2:$B$11,2,FALSE),\": \",D3496,\", \",C3496)","v":"D: Tennigkeit, Kerstin"},{"$f":"VLOOKUP(A3496,bangolf_kategorien!$A$2:$B$11,2,FALSE)","v":"D"}]
["ob",41710,"Michael","Tesch","BGC Schloß Paffendorf",{"$f":"CONCATENATE(VLOOKUP(A3497,bangolf_kategorien!$A$2:$B$11,2,FALSE),\": \",D3497,\", \",C3497)","v":"SM1: Tesch, Michael"},{"$f":"VLOOKUP(A3497,bangolf_kategorien!$A$2:$B$11,2,FALSE)","v":"SM1"}]
["ob",48559,"Jörg","Tetzlaff","Reinickendorfer MGC",{"$f":"CONCATENATE(VLOOKUP(A3498,bangolf_kategorien!$A$2:$B$11,2,FALSE),\": \",D3498,\", \",C3498)","v":"SM1: Tetzlaff, Jörg"},{"$f":"VLOOKUP(A3498,bangolf_kategorien!$A$2:$B$11,2,FALSE)","v":"SM1"}]
["hv",3106546,"Kurt","Teuteberg","Hobby",{"$f":"CONCATENATE(VLOOKUP(A3499,bangolf_kategorien!$A$2:$B$11,2,FALSE),\": \",D3499,\", \",C3499)","v":"SM2: Teuteberg, Kurt"},{"$f":"VLOOKUP(A3499,bangolf_kategorien!$A$2:$B$11,2,FALSE)","v":"SM2"}]
["hs",50596,"Jan-Christoph","Theden","MGC Olympia Kiel",{"$f":"CONCATENATE(VLOOKUP(A3500,bangolf_kategorien!$A$2:$B$11,2,FALSE),\": \",D3500,\", \",C3500)","v":"H: Theden, Jan-Christoph"},{"$f":"VLOOKUP(A3500,bangolf_kategorien!$A$2:$B$11,2,FALSE)","v":"H"}]
["ob",67565,"Andreas","Theilig","MGC Bad Homburg vdH",{"$f":"CONCATENATE(VLOOKUP(A3501,bangolf_kategorien!$A$2:$B$11,2,FALSE),\": \",D3501,\", \",C3501)","v":"SM1: Theilig, Andreas"},{"$f":"VLOOKUP(A3501,bangolf_kategorien!$A$2:$B$11,2,FALSE)","v":"SM1"}]
["og",67564,"Petra","Theilig","MGC Bad Homburg vdH",{"$f":"CONCATENATE(VLOOKUP(A3502,bangolf_kategorien!$A$2:$B$11,2,FALSE),\": \",D3502,\", \",C3502)","v":"SW1: Theilig, Petra"},{"$f":"VLOOKUP(A3502,bangolf_kategorien!$A$2:$B$11,2,FALSE)","v":"SW1"}]
["hv",34879,"Michael","Theimann","BGS Hardenberg-Pötter",{"$f":"CONCATENATE(VLOOKUP(A3503,bangolf_kategorien!$A$2:$B$11,2,FALSE),\": \",D3503,\", \",C3503)","v":"SM2: Theimann, Michael"},{"$f":"VLOOKUP(A3503,bangolf_kategorien!$A$2:$B$11,2,FALSE)","v":"SM2"}]
["hs",66593,"Kai","Theobald","TV Nierstein 1901, Abt. Minigolf",{"$f":"CONCATENATE(VLOOKUP(A3504,bangolf_kategorien!$A$2:$B$11,2,FALSE),\": \",D3504,\", \",C3504)","v":"H: Theobald, Kai"},{"$f":"VLOOKUP(A3504,bangolf_kategorien!$A$2:$B$11,2,FALSE)","v":"H"}]
["hs",66592,"Tobias","Theobald","TV Nierstein 1901, Abt. Minigolf",{"$f":"CONCATENATE(VLOOKUP(A3505,bangolf_kategorien!$A$2:$B$11,2,FALSE),\": \",D3505,\", \",C3505)","v":"H: Theobald, Tobias"},{"$f":"VLOOKUP(A3505,bangolf_kategorien!$A$2:$B$11,2,FALSE)","v":"H"}]
["ob",24892,"Matthias","Thiebes","BGC Bad Mergentheim",{"$f":"CONCATENATE(VLOOKUP(A3506,bangolf_kategorien!$A$2:$B$11,2,FALSE),\": \",D3506,\", \",C3506)","v":"SM1: Thiebes, Matthias"},{"$f":"VLOOKUP(A3506,bangolf_kategorien!$A$2:$B$11,2,FALSE)","v":"SM1"}]
["dv",34361,"Gerda","Thiel","1. BGC Hannover",{"$f":"CONCATENATE(VLOOKUP(A3507,bangolf_kategorien!$A$2:$B$11,2,FALSE),\": \",D3507,\", \",C3507)","v":"SW2: Thiel, Gerda"},{"$f":"VLOOKUP(A3507,bangolf_kategorien!$A$2:$B$11,2,FALSE)","v":"SW2"}]
["hv",34360,"Helmut","Thiel","1. BGC Hannover",{"$f":"CONCATENATE(VLOOKUP(A3508,bangolf_kategorien!$A$2:$B$11,2,FALSE),\": \",D3508,\", \",C3508)","v":"SM2: Thiel, Helmut"},{"$f":"VLOOKUP(A3508,bangolf_kategorien!$A$2:$B$11,2,FALSE)","v":"SM2"}]
["ob",45943,"Stephan","Thiel","MV Lankwitzer Dragons",{"$f":"CONCATENATE(VLOOKUP(A3509,bangolf_kategorien!$A$2:$B$11,2,FALSE),\": \",D3509,\", \",C3509)","v":"SM1: Thiel, Stephan"},{"$f":"VLOOKUP(A3509,bangolf_kategorien!$A$2:$B$11,2,FALSE)","v":"SM1"}]
["og",43548,"Elke","Thiem","MSC Bensheim-Auerbach",{"$f":"CONCATENATE(VLOOKUP(A3510,bangolf_kategorien!$A$2:$B$11,2,FALSE),\": \",D3510,\", \",C3510)","v":"SW1: Thiem, Elke"},{"$f":"VLOOKUP(A3510,bangolf_kategorien!$A$2:$B$11,2,FALSE)","v":"SW1"}]
["hv",36565,"Frank","Thies","BGC Northeim",{"$f":"CONCATENATE(VLOOKUP(A3511,bangolf_kategorien!$A$2:$B$11,2,FALSE),\": \",D3511,\", \",C3511)","v":"SM2: Thies, Frank"},{"$f":"VLOOKUP(A3511,bangolf_kategorien!$A$2:$B$11,2,FALSE)","v":"SM2"}]
["hv",61511,"Paul","Thimm","MPF Hardt",{"$f":"CONCATENATE(VLOOKUP(A3512,bangolf_kategorien!$A$2:$B$11,2,FALSE),\": \",D3512,\", \",C3512)","v":"SM2: Thimm, Paul"},{"$f":"VLOOKUP(A3512,bangolf_kategorien!$A$2:$B$11,2,FALSE)","v":"SM2"}]
["hv",48286,"Hans-Jürgen","Thölke","MGC Murnau am Staffelsee",{"$f":"CONCATENATE(VLOOKUP(A3513,bangolf_kategorien!$A$2:$B$11,2,FALSE),\": \",D3513,\", \",C3513)","v":"SM2: Thölke, Hans-Jürgen"},{"$f":"VLOOKUP(A3513,bangolf_kategorien!$A$2:$B$11,2,FALSE)","v":"SM2"}]
["hs",38597,"Andreas","Thomas","MGC Ostheim / Rhön",{"$f":"CONCATENATE(VLOOKUP(A3514,bangolf_kategorien!$A$2:$B$11,2,FALSE),\": \",D3514,\", \",C3514)","v":"H: Thomas, Andreas"},{"$f":"VLOOKUP(A3514,bangolf_kategorien!$A$2:$B$11,2,FALSE)","v":"H"}]
["hv",67397,"Herbert","Thomas","BGSV Castrop 1961",{"$f":"CONCATENATE(VLOOKUP(A3515,bangolf_kategorien!$A$2:$B$11,2,FALSE),\": \",D3515,\", \",C3515)","v":"SM2: Thomas, Herbert"},{"$f":"VLOOKUP(A3515,bangolf_kategorien!$A$2:$B$11,2,FALSE)","v":"SM2"}]
["hj",67099,"Jan","Thomsen","MGC Harrislee-Wassersleben",{"$f":"CONCATENATE(VLOOKUP(A3516,bangolf_kategorien!$A$2:$B$11,2,FALSE),\": \",D3516,\", \",C3516)","v":"JM: Thomsen, Jan"},{"$f":"VLOOKUP(A3516,bangolf_kategorien!$A$2:$B$11,2,FALSE)","v":"JM"}]
["ds",67100,"Tanja","Thomsen","MGC Harrislee-Wassersleben",{"$f":"CONCATENATE(VLOOKUP(A3517,bangolf_kategorien!$A$2:$B$11,2,FALSE),\": \",D3517,\", \",C3517)","v":"D: Thomsen, Tanja"},{"$f":"VLOOKUP(A3517,bangolf_kategorien!$A$2:$B$11,2,FALSE)","v":"D"}]
["hs",35702,"Tilo","Thomsen","MGC Olympia Kiel",{"$f":"CONCATENATE(VLOOKUP(A3518,bangolf_kategorien!$A$2:$B$11,2,FALSE),\": \",D3518,\", \",C3518)","v":"H: Thomsen, Tilo"},{"$f":"VLOOKUP(A3518,bangolf_kategorien!$A$2:$B$11,2,FALSE)","v":"H"}]
["ob",38501,"Ralf","Thren","MSC Bad Godesberg",{"$f":"CONCATENATE(VLOOKUP(A3519,bangolf_kategorien!$A$2:$B$11,2,FALSE),\": \",D3519,\", \",C3519)","v":"SM1: Thren, Ralf"},{"$f":"VLOOKUP(A3519,bangolf_kategorien!$A$2:$B$11,2,FALSE)","v":"SM1"}]
["og",38502,"Sigrid","Thren-Bös","MSC Bad Godesberg",{"$f":"CONCATENATE(VLOOKUP(A3520,bangolf_kategorien!$A$2:$B$11,2,FALSE),\": \",D3520,\", \",C3520)","v":"SW1: Thren-Bös, Sigrid"},{"$f":"VLOOKUP(A3520,bangolf_kategorien!$A$2:$B$11,2,FALSE)","v":"SW1"}]
["hs",37289,"Marwin","Throne","ASV Pegnitz, Abt. Minigolf",{"$f":"CONCATENATE(VLOOKUP(A3521,bangolf_kategorien!$A$2:$B$11,2,FALSE),\": \",D3521,\", \",C3521)","v":"H: Throne, Marwin"},{"$f":"VLOOKUP(A3521,bangolf_kategorien!$A$2:$B$11,2,FALSE)","v":"H"}]
["hv",37290,"Werner","Throne","PTSV Hof, Abt. Minigolf",{"$f":"CONCATENATE(VLOOKUP(A3522,bangolf_kategorien!$A$2:$B$11,2,FALSE),\": \",D3522,\", \",C3522)","v":"SM2: Throne, Werner"},{"$f":"VLOOKUP(A3522,bangolf_kategorien!$A$2:$B$11,2,FALSE)","v":"SM2"}]
["ob",30924,"Christian","Thümmler","ASV Pegnitz, Abt. Minigolf",{"$f":"CONCATENATE(VLOOKUP(A3523,bangolf_kategorien!$A$2:$B$11,2,FALSE),\": \",D3523,\", \",C3523)","v":"SM1: Thümmler, Christian"},{"$f":"VLOOKUP(A3523,bangolf_kategorien!$A$2:$B$11,2,FALSE)","v":"SM1"}]
["hv",6586,"Dieter","Thun","MGV Bremen",{"$f":"CONCATENATE(VLOOKUP(A3524,bangolf_kategorien!$A$2:$B$11,2,FALSE),\": \",D3524,\", \",C3524)","v":"SM2: Thun, Dieter"},{"$f":"VLOOKUP(A3524,bangolf_kategorien!$A$2:$B$11,2,FALSE)","v":"SM2"}]
["hs",31419,"Timo","Thun","MGV Bremen",{"$f":"CONCATENATE(VLOOKUP(A3525,bangolf_kategorien!$A$2:$B$11,2,FALSE),\": \",D3525,\", \",C3525)","v":"H: Thun, Timo"},{"$f":"VLOOKUP(A3525,bangolf_kategorien!$A$2:$B$11,2,FALSE)","v":"H"}]
["ob",41317,"Thomas","Thusek","BGC Heilbronn",{"$f":"CONCATENATE(VLOOKUP(A3526,bangolf_kategorien!$A$2:$B$11,2,FALSE),\": \",D3526,\", \",C3526)","v":"SM1: Thusek, Thomas"},{"$f":"VLOOKUP(A3526,bangolf_kategorien!$A$2:$B$11,2,FALSE)","v":"SM1"}]
["hv",26670,"Hans-Joachim","Thüsen","MSF Brilon",{"$f":"CONCATENATE(VLOOKUP(A3527,bangolf_kategorien!$A$2:$B$11,2,FALSE),\": \",D3527,\", \",C3527)","v":"SM2: Thüsen, Hans-Joachim"},{"$f":"VLOOKUP(A3527,bangolf_kategorien!$A$2:$B$11,2,FALSE)","v":"SM2"}]
["hs",66788,"Michael","Tiedtke","MGV Bremen",{"$f":"CONCATENATE(VLOOKUP(A3528,bangolf_kategorien!$A$2:$B$11,2,FALSE),\": \",D3528,\", \",C3528)","v":"H: Tiedtke, Michael"},{"$f":"VLOOKUP(A3528,bangolf_kategorien!$A$2:$B$11,2,FALSE)","v":"H"}]
["hv",4732,"Reinhard","Tierling","SC Olympia Dortmund",{"$f":"CONCATENATE(VLOOKUP(A3529,bangolf_kategorien!$A$2:$B$11,2,FALSE),\": \",D3529,\", \",C3529)","v":"SM2: Tierling, Reinhard"},{"$f":"VLOOKUP(A3529,bangolf_kategorien!$A$2:$B$11,2,FALSE)","v":"SM2"}]
["ds",67326,"Marlene","Tietz","1. Essener CGC \"Blau-Gold\"",{"$f":"CONCATENATE(VLOOKUP(A3530,bangolf_kategorien!$A$2:$B$11,2,FALSE),\": \",D3530,\", \",C3530)","v":"D: Tietz, Marlene"},{"$f":"VLOOKUP(A3530,bangolf_kategorien!$A$2:$B$11,2,FALSE)","v":"D"}]
["hs",48644,"Axel Eric","Timm","TSV Pfungstadt Abt. Bahnengolf",{"$f":"CONCATENATE(VLOOKUP(A3531,bangolf_kategorien!$A$2:$B$11,2,FALSE),\": \",D3531,\", \",C3531)","v":"H: Timm, Axel Eric"},{"$f":"VLOOKUP(A3531,bangolf_kategorien!$A$2:$B$11,2,FALSE)","v":"H"}]
["hv",6771,"Dietmar","Tinney","Hamburger MC von 1965",{"$f":"CONCATENATE(VLOOKUP(A3532,bangolf_kategorien!$A$2:$B$11,2,FALSE),\": \",D3532,\", \",C3532)","v":"SM2: Tinney, Dietmar"},{"$f":"VLOOKUP(A3532,bangolf_kategorien!$A$2:$B$11,2,FALSE)","v":"SM2"}]
["hv",29336,"Uwe","Tinzmann","1. MGSV Netphen",{"$f":"CONCATENATE(VLOOKUP(A3533,bangolf_kategorien!$A$2:$B$11,2,FALSE),\": \",D3533,\", \",C3533)","v":"SM2: Tinzmann, Uwe"},{"$f":"VLOOKUP(A3533,bangolf_kategorien!$A$2:$B$11,2,FALSE)","v":"SM2"}]
["hv",43144,"Jürgen","Tismer","MGC Bad Salzuflen",{"$f":"CONCATENATE(VLOOKUP(A3534,bangolf_kategorien!$A$2:$B$11,2,FALSE),\": \",D3534,\", \",C3534)","v":"SM2: Tismer, Jürgen"},{"$f":"VLOOKUP(A3534,bangolf_kategorien!$A$2:$B$11,2,FALSE)","v":"SM2"}]
["hv",5438,"Franz","Tockner","MGC \"AS\" Witten 1963",{"$f":"CONCATENATE(VLOOKUP(A3535,bangolf_kategorien!$A$2:$B$11,2,FALSE),\": \",D3535,\", \",C3535)","v":"SM2: Tockner, Franz"},{"$f":"VLOOKUP(A3535,bangolf_kategorien!$A$2:$B$11,2,FALSE)","v":"SM2"}]
["ob",24603,"Klaus","Todtenhöfer","BGC Dormagen",{"$f":"CONCATENATE(VLOOKUP(A3536,bangolf_kategorien!$A$2:$B$11,2,FALSE),\": \",D3536,\", \",C3536)","v":"SM1: Todtenhöfer, Klaus"},{"$f":"VLOOKUP(A3536,bangolf_kategorien!$A$2:$B$11,2,FALSE)","v":"SM1"}]
["ob",31347,"Ingolf","Tolk","1. MGC Tuttlingen",{"$f":"CONCATENATE(VLOOKUP(A3537,bangolf_kategorien!$A$2:$B$11,2,FALSE),\": \",D3537,\", \",C3537)","v":"SM1: Tolk, Ingolf"},{"$f":"VLOOKUP(A3537,bangolf_kategorien!$A$2:$B$11,2,FALSE)","v":"SM1"}]
["hs",37500,"Mathias","Tomkowitz","Cobigolf-Verein Hamm 2019",{"$f":"CONCATENATE(VLOOKUP(A3538,bangolf_kategorien!$A$2:$B$11,2,FALSE),\": \",D3538,\", \",C3538)","v":"H: Tomkowitz, Mathias"},{"$f":"VLOOKUP(A3538,bangolf_kategorien!$A$2:$B$11,2,FALSE)","v":"H"}]
["ds",32802,"Stefanie","Tomkowitz","Cobigolf-Verein Hamm 2019",{"$f":"CONCATENATE(VLOOKUP(A3539,bangolf_kategorien!$A$2:$B$11,2,FALSE),\": \",D3539,\", \",C3539)","v":"D: Tomkowitz, Stefanie"},{"$f":"VLOOKUP(A3539,bangolf_kategorien!$A$2:$B$11,2,FALSE)","v":"D"}]
["ds",37907,"Eva","Töpelt","1. BGC Leipzig",{"$f":"CONCATENATE(VLOOKUP(A3540,bangolf_kategorien!$A$2:$B$11,2,FALSE),\": \",D3540,\", \",C3540)","v":"D: Töpelt, Eva"},{"$f":"VLOOKUP(A3540,bangolf_kategorien!$A$2:$B$11,2,FALSE)","v":"D"}]
["hs",29648,"Michael","Töpelt","1. BGC Leipzig",{"$f":"CONCATENATE(VLOOKUP(A3541,bangolf_kategorien!$A$2:$B$11,2,FALSE),\": \",D3541,\", \",C3541)","v":"H: Töpelt, Michael"},{"$f":"VLOOKUP(A3541,bangolf_kategorien!$A$2:$B$11,2,FALSE)","v":"H"}]
["hv",37793,"Jürgen","Torka","1. MGC Gelsenkirchen",{"$f":"CONCATENATE(VLOOKUP(A3542,bangolf_kategorien!$A$2:$B$11,2,FALSE),\": \",D3542,\", \",C3542)","v":"SM2: Torka, Jürgen"},{"$f":"VLOOKUP(A3542,bangolf_kategorien!$A$2:$B$11,2,FALSE)","v":"SM2"}]
["ob",30869,"Andreas","Träger","MSC Bensheim-Auerbach",{"$f":"CONCATENATE(VLOOKUP(A3543,bangolf_kategorien!$A$2:$B$11,2,FALSE),\": \",D3543,\", \",C3543)","v":"SM1: Träger, Andreas"},{"$f":"VLOOKUP(A3543,bangolf_kategorien!$A$2:$B$11,2,FALSE)","v":"SM1"}]
["ob",27087,"Harald","Träger","MGC Bad Salzuflen",{"$f":"CONCATENATE(VLOOKUP(A3544,bangolf_kategorien!$A$2:$B$11,2,FALSE),\": \",D3544,\", \",C3544)","v":"SM1: Träger, Harald"},{"$f":"VLOOKUP(A3544,bangolf_kategorien!$A$2:$B$11,2,FALSE)","v":"SM1"}]
["dv",43923,"Petra","Träger","HMC Büttgen",{"$f":"CONCATENATE(VLOOKUP(A3545,bangolf_kategorien!$A$2:$B$11,2,FALSE),\": \",D3545,\", \",C3545)","v":"SW2: Träger, Petra"},{"$f":"VLOOKUP(A3545,bangolf_kategorien!$A$2:$B$11,2,FALSE)","v":"SW2"}]
["hs",66435,"Manuel","Tramp","KSV Baltrum",{"$f":"CONCATENATE(VLOOKUP(A3546,bangolf_kategorien!$A$2:$B$11,2,FALSE),\": \",D3546,\", \",C3546)","v":"H: Tramp, Manuel"},{"$f":"VLOOKUP(A3546,bangolf_kategorien!$A$2:$B$11,2,FALSE)","v":"H"}]
["dv",43715,"Anneliese","Trauner","BSV 86 München",{"$f":"CONCATENATE(VLOOKUP(A3547,bangolf_kategorien!$A$2:$B$11,2,FALSE),\": \",D3547,\", \",C3547)","v":"SW2: Trauner, Anneliese"},{"$f":"VLOOKUP(A3547,bangolf_kategorien!$A$2:$B$11,2,FALSE)","v":"SW2"}]
["hv",43716,"Karl","Trauner","BSV 86 München",{"$f":"CONCATENATE(VLOOKUP(A3548,bangolf_kategorien!$A$2:$B$11,2,FALSE),\": \",D3548,\", \",C3548)","v":"SM2: Trauner, Karl"},{"$f":"VLOOKUP(A3548,bangolf_kategorien!$A$2:$B$11,2,FALSE)","v":"SM2"}]
["ob",36781,"Clemens","Trautmann","1. MGV Spandau Berlin",{"$f":"CONCATENATE(VLOOKUP(A3549,bangolf_kategorien!$A$2:$B$11,2,FALSE),\": \",D3549,\", \",C3549)","v":"SM1: Trautmann, Clemens"},{"$f":"VLOOKUP(A3549,bangolf_kategorien!$A$2:$B$11,2,FALSE)","v":"SM1"}]
["hv",67314,"Herbert","Trautmann","MGC Bad Homburg vdH",{"$f":"CONCATENATE(VLOOKUP(A3550,bangolf_kategorien!$A$2:$B$11,2,FALSE),\": \",D3550,\", \",C3550)","v":"SM2: Trautmann, Herbert"},{"$f":"VLOOKUP(A3550,bangolf_kategorien!$A$2:$B$11,2,FALSE)","v":"SM2"}]
["hv",5274,"Franz","Treffer","OMGC Ingolstadt",{"$f":"CONCATENATE(VLOOKUP(A3551,bangolf_kategorien!$A$2:$B$11,2,FALSE),\": \",D3551,\", \",C3551)","v":"SM2: Treffer, Franz"},{"$f":"VLOOKUP(A3551,bangolf_kategorien!$A$2:$B$11,2,FALSE)","v":"SM2"}]
["ob",47135,"Bernd","Trempenau","MGC Bad Salzuflen",{"$f":"CONCATENATE(VLOOKUP(A3552,bangolf_kategorien!$A$2:$B$11,2,FALSE),\": \",D3552,\", \",C3552)","v":"SM1: Trempenau, Bernd"},{"$f":"VLOOKUP(A3552,bangolf_kategorien!$A$2:$B$11,2,FALSE)","v":"SM1"}]
["hs",38530,"Matthias","Trenz","BGC Bildstock",{"$f":"CONCATENATE(VLOOKUP(A3553,bangolf_kategorien!$A$2:$B$11,2,FALSE),\": \",D3553,\", \",C3553)","v":"H: Trenz, Matthias"},{"$f":"VLOOKUP(A3553,bangolf_kategorien!$A$2:$B$11,2,FALSE)","v":"H"}]
["og",66644,"Christine","Trepesch","1. MGC Tuttlingen",{"$f":"CONCATENATE(VLOOKUP(A3554,bangolf_kategorien!$A$2:$B$11,2,FALSE),\": \",D3554,\", \",C3554)","v":"SW1: Trepesch, Christine"},{"$f":"VLOOKUP(A3554,bangolf_kategorien!$A$2:$B$11,2,FALSE)","v":"SW1"}]
["hv",6191,"Peter","Trettl","MGC putter Künzell 1970",{"$f":"CONCATENATE(VLOOKUP(A3555,bangolf_kategorien!$A$2:$B$11,2,FALSE),\": \",D3555,\", \",C3555)","v":"SM2: Trettl, Peter"},{"$f":"VLOOKUP(A3555,bangolf_kategorien!$A$2:$B$11,2,FALSE)","v":"SM2"}]
["hv",17987,"Adi","Trillges","BGSV Kerpen",{"$f":"CONCATENATE(VLOOKUP(A3556,bangolf_kategorien!$A$2:$B$11,2,FALSE),\": \",D3556,\", \",C3556)","v":"SM2: Trillges, Adi"},{"$f":"VLOOKUP(A3556,bangolf_kategorien!$A$2:$B$11,2,FALSE)","v":"SM2"}]
["dv",4880,"Brigitte","Trillges","BGSV Kerpen",{"$f":"CONCATENATE(VLOOKUP(A3557,bangolf_kategorien!$A$2:$B$11,2,FALSE),\": \",D3557,\", \",C3557)","v":"SW2: Trillges, Brigitte"},{"$f":"VLOOKUP(A3557,bangolf_kategorien!$A$2:$B$11,2,FALSE)","v":"SW2"}]
["dv",36625,"Bettina","Trinkl","MSK Olching",{"$f":"CONCATENATE(VLOOKUP(A3558,bangolf_kategorien!$A$2:$B$11,2,FALSE),\": \",D3558,\", \",C3558)","v":"SW2: Trinkl, Bettina"},{"$f":"VLOOKUP(A3558,bangolf_kategorien!$A$2:$B$11,2,FALSE)","v":"SW2"}]
["hv",36623,"Werner","Trinkl","MSK Olching",{"$f":"CONCATENATE(VLOOKUP(A3559,bangolf_kategorien!$A$2:$B$11,2,FALSE),\": \",D3559,\", \",C3559)","v":"SM2: Trinkl, Werner"},{"$f":"VLOOKUP(A3559,bangolf_kategorien!$A$2:$B$11,2,FALSE)","v":"SM2"}]
["pa",66640,"Levi","Tritsch","MSC Bensheim-Auerbach",{"$f":"CONCATENATE(VLOOKUP(A3560,bangolf_kategorien!$A$2:$B$11,2,FALSE),\": \",D3560,\", \",C3560)","v":"SCHM: Tritsch, Levi"},{"$f":"VLOOKUP(A3560,bangolf_kategorien!$A$2:$B$11,2,FALSE)","v":"SCHM"}]
["ds",36489,"Katharina","Trojak","MSG Kempten",{"$f":"CONCATENATE(VLOOKUP(A3561,bangolf_kategorien!$A$2:$B$11,2,FALSE),\": \",D3561,\", \",C3561)","v":"D: Trojak, Katharina"},{"$f":"VLOOKUP(A3561,bangolf_kategorien!$A$2:$B$11,2,FALSE)","v":"D"}]
["ob",38133,"Jürgen","Tröller","SV 1890 Dreieichenhain, Abt. Bahnengolf",{"$f":"CONCATENATE(VLOOKUP(A3562,bangolf_kategorien!$A$2:$B$11,2,FALSE),\": \",D3562,\", \",C3562)","v":"SM1: Tröller, Jürgen"},{"$f":"VLOOKUP(A3562,bangolf_kategorien!$A$2:$B$11,2,FALSE)","v":"SM1"}]
["ob",63610,"Burkhard","Trümbach","MGC \"Stahlquelle\" Bad Bocklet",{"$f":"CONCATENATE(VLOOKUP(A3563,bangolf_kategorien!$A$2:$B$11,2,FALSE),\": \",D3563,\", \",C3563)","v":"SM1: Trümbach, Burkhard"},{"$f":"VLOOKUP(A3563,bangolf_kategorien!$A$2:$B$11,2,FALSE)","v":"SM1"}]
["hv",40643,"Jürgen","Tschischka","1. MGC München-Feldmoching",{"$f":"CONCATENATE(VLOOKUP(A3564,bangolf_kategorien!$A$2:$B$11,2,FALSE),\": \",D3564,\", \",C3564)","v":"SM2: Tschischka, Jürgen"},{"$f":"VLOOKUP(A3564,bangolf_kategorien!$A$2:$B$11,2,FALSE)","v":"SM2"}]
["og",3212020,"Roswitha","Tschoepe","Hobby",{"$f":"CONCATENATE(VLOOKUP(A3565,bangolf_kategorien!$A$2:$B$11,2,FALSE),\": \",D3565,\", \",C3565)","v":"SW1: Tschoepe, Roswitha"},{"$f":"VLOOKUP(A3565,bangolf_kategorien!$A$2:$B$11,2,FALSE)","v":"SW1"}]
["pa",67546,"Alan","Tuaew","SG Arheilgen Abt. Bahnengolf",{"$f":"CONCATENATE(VLOOKUP(A3566,bangolf_kategorien!$A$2:$B$11,2,FALSE),\": \",D3566,\", \",C3566)","v":"SCHM: Tuaew, Alan"},{"$f":"VLOOKUP(A3566,bangolf_kategorien!$A$2:$B$11,2,FALSE)","v":"SCHM"}]
["fa",67545,"Emilia","Tuaew","SG Arheilgen Abt. Bahnengolf",{"$f":"CONCATENATE(VLOOKUP(A3567,bangolf_kategorien!$A$2:$B$11,2,FALSE),\": \",D3567,\", \",C3567)","v":"SCHW: Tuaew, Emilia"},{"$f":"VLOOKUP(A3567,bangolf_kategorien!$A$2:$B$11,2,FALSE)","v":"SCHW"}]
["dv",5739,"Erika","Tuchs","MGC Murnau am Staffelsee",{"$f":"CONCATENATE(VLOOKUP(A3568,bangolf_kategorien!$A$2:$B$11,2,FALSE),\": \",D3568,\", \",C3568)","v":"SW2: Tuchs, Erika"},{"$f":"VLOOKUP(A3568,bangolf_kategorien!$A$2:$B$11,2,FALSE)","v":"SW2"}]
["hv",36733,"Rudolf","Tümmers","VfM Bottrop",{"$f":"CONCATENATE(VLOOKUP(A3569,bangolf_kategorien!$A$2:$B$11,2,FALSE),\": \",D3569,\", \",C3569)","v":"SM2: Tümmers, Rudolf"},{"$f":"VLOOKUP(A3569,bangolf_kategorien!$A$2:$B$11,2,FALSE)","v":"SM2"}]
["hs",66310,"Cedric Alexander","Türk","MSK Neheim-Hüsten",{"$f":"CONCATENATE(VLOOKUP(A3570,bangolf_kategorien!$A$2:$B$11,2,FALSE),\": \",D3570,\", \",C3570)","v":"H: Türk, Cedric Alexander"},{"$f":"VLOOKUP(A3570,bangolf_kategorien!$A$2:$B$11,2,FALSE)","v":"H"}]
["hs",38309,"Nehemia","Türk","1. MGC Mainz",{"$f":"CONCATENATE(VLOOKUP(A3571,bangolf_kategorien!$A$2:$B$11,2,FALSE),\": \",D3571,\", \",C3571)","v":"H: Türk, Nehemia"},{"$f":"VLOOKUP(A3571,bangolf_kategorien!$A$2:$B$11,2,FALSE)","v":"H"}]
["hv",36173,"Uwe","Tusch","1. MGC 1970 Göttingen",{"$f":"CONCATENATE(VLOOKUP(A3572,bangolf_kategorien!$A$2:$B$11,2,FALSE),\": \",D3572,\", \",C3572)","v":"SM2: Tusch, Uwe"},{"$f":"VLOOKUP(A3572,bangolf_kategorien!$A$2:$B$11,2,FALSE)","v":"SM2"}]
["og",67411,"Marion","Ucka","1. MSC Wesel 6.6.1966",{"$f":"CONCATENATE(VLOOKUP(A3573,bangolf_kategorien!$A$2:$B$11,2,FALSE),\": \",D3573,\", \",C3573)","v":"SW1: Ucka, Marion"},{"$f":"VLOOKUP(A3573,bangolf_kategorien!$A$2:$B$11,2,FALSE)","v":"SW1"}]
["ob",67412,"Wolfgang","Ucka","1. MSC Wesel 6.6.1966",{"$f":"CONCATENATE(VLOOKUP(A3574,bangolf_kategorien!$A$2:$B$11,2,FALSE),\": \",D3574,\", \",C3574)","v":"SM1: Ucka, Wolfgang"},{"$f":"VLOOKUP(A3574,bangolf_kategorien!$A$2:$B$11,2,FALSE)","v":"SM1"}]
["hv",3194215,"Hans-Friedrich","Uebelin","Hobby",{"$f":"CONCATENATE(VLOOKUP(A3575,bangolf_kategorien!$A$2:$B$11,2,FALSE),\": \",D3575,\", \",C3575)","v":"SM2: Uebelin, Hans-Friedrich"},{"$f":"VLOOKUP(A3575,bangolf_kategorien!$A$2:$B$11,2,FALSE)","v":"SM2"}]
["hv",66441,"Heinrich","Uetzmann","Tempelhofer MV Berlin",{"$f":"CONCATENATE(VLOOKUP(A3576,bangolf_kategorien!$A$2:$B$11,2,FALSE),\": \",D3576,\", \",C3576)","v":"SM2: Uetzmann, Heinrich"},{"$f":"VLOOKUP(A3576,bangolf_kategorien!$A$2:$B$11,2,FALSE)","v":"SM2"}]
["pa",67102,"Jason","Uetzmann","Tempelhofer MV Berlin",{"$f":"CONCATENATE(VLOOKUP(A3577,bangolf_kategorien!$A$2:$B$11,2,FALSE),\": \",D3577,\", \",C3577)","v":"SCHM: Uetzmann, Jason"},{"$f":"VLOOKUP(A3577,bangolf_kategorien!$A$2:$B$11,2,FALSE)","v":"SCHM"}]
["og",30695,"Birgit","Uhl","MGC Olympia Kiel",{"$f":"CONCATENATE(VLOOKUP(A3578,bangolf_kategorien!$A$2:$B$11,2,FALSE),\": \",D3578,\", \",C3578)","v":"SW1: Uhl, Birgit"},{"$f":"VLOOKUP(A3578,bangolf_kategorien!$A$2:$B$11,2,FALSE)","v":"SW1"}]
["ds",34151,"Jasmin Astrid","Uhl","MGC Olympia Kiel",{"$f":"CONCATENATE(VLOOKUP(A3579,bangolf_kategorien!$A$2:$B$11,2,FALSE),\": \",D3579,\", \",C3579)","v":"D: Uhl, Jasmin Astrid"},{"$f":"VLOOKUP(A3579,bangolf_kategorien!$A$2:$B$11,2,FALSE)","v":"D"}]
["ob",36133,"Thorsten","Uhlig","MSC Blau-Weiß 2003 München",{"$f":"CONCATENATE(VLOOKUP(A3580,bangolf_kategorien!$A$2:$B$11,2,FALSE),\": \",D3580,\", \",C3580)","v":"SM1: Uhlig, Thorsten"},{"$f":"VLOOKUP(A3580,bangolf_kategorien!$A$2:$B$11,2,FALSE)","v":"SM1"}]
["ob",42068,"Thorsten","Uhlir","Cobigolf-Verein Hamm 2019",{"$f":"CONCATENATE(VLOOKUP(A3581,bangolf_kategorien!$A$2:$B$11,2,FALSE),\": \",D3581,\", \",C3581)","v":"SM1: Uhlir, Thorsten"},{"$f":"VLOOKUP(A3581,bangolf_kategorien!$A$2:$B$11,2,FALSE)","v":"SM1"}]
["ob",47176,"Werner","Uhr","1. MSC Hamburg-Neu Wulmstorf",{"$f":"CONCATENATE(VLOOKUP(A3582,bangolf_kategorien!$A$2:$B$11,2,FALSE),\": \",D3582,\", \",C3582)","v":"SM1: Uhr, Werner"},{"$f":"VLOOKUP(A3582,bangolf_kategorien!$A$2:$B$11,2,FALSE)","v":"SM1"}]
["hs",37956,"Dominik","Ullrich","1. MGC Mainz",{"$f":"CONCATENATE(VLOOKUP(A3583,bangolf_kategorien!$A$2:$B$11,2,FALSE),\": \",D3583,\", \",C3583)","v":"H: Ullrich, Dominik"},{"$f":"VLOOKUP(A3583,bangolf_kategorien!$A$2:$B$11,2,FALSE)","v":"H"}]
["ds",66988,"Miriam","Ulrich","1. MGC Ludwigshafen",{"$f":"CONCATENATE(VLOOKUP(A3584,bangolf_kategorien!$A$2:$B$11,2,FALSE),\": \",D3584,\", \",C3584)","v":"D: Ulrich, Miriam"},{"$f":"VLOOKUP(A3584,bangolf_kategorien!$A$2:$B$11,2,FALSE)","v":"D"}]
["hs",33761,"Stefan","Ulrich","1. MGC Ludwigshafen",{"$f":"CONCATENATE(VLOOKUP(A3585,bangolf_kategorien!$A$2:$B$11,2,FALSE),\": \",D3585,\", \",C3585)","v":"H: Ulrich, Stefan"},{"$f":"VLOOKUP(A3585,bangolf_kategorien!$A$2:$B$11,2,FALSE)","v":"H"}]
["hv",29919,"Uwe","Ulrich","BGC Goslar",{"$f":"CONCATENATE(VLOOKUP(A3586,bangolf_kategorien!$A$2:$B$11,2,FALSE),\": \",D3586,\", \",C3586)","v":"SM2: Ulrich, Uwe"},{"$f":"VLOOKUP(A3586,bangolf_kategorien!$A$2:$B$11,2,FALSE)","v":"SM2"}]
["ob",45991,"Andreas","Umbach","1. MGC Kassel 1964",{"$f":"CONCATENATE(VLOOKUP(A3587,bangolf_kategorien!$A$2:$B$11,2,FALSE),\": \",D3587,\", \",C3587)","v":"SM1: Umbach, Andreas"},{"$f":"VLOOKUP(A3587,bangolf_kategorien!$A$2:$B$11,2,FALSE)","v":"SM1"}]
["hv",2411,"Jens","Umhauer","1. MGC Mainz",{"$f":"CONCATENATE(VLOOKUP(A3588,bangolf_kategorien!$A$2:$B$11,2,FALSE),\": \",D3588,\", \",C3588)","v":"SM2: Umhauer, Jens"},{"$f":"VLOOKUP(A3588,bangolf_kategorien!$A$2:$B$11,2,FALSE)","v":"SM2"}]
["hs",38310,"Lukas","Umhauer","1. MGC Mainz",{"$f":"CONCATENATE(VLOOKUP(A3589,bangolf_kategorien!$A$2:$B$11,2,FALSE),\": \",D3589,\", \",C3589)","v":"H: Umhauer, Lukas"},{"$f":"VLOOKUP(A3589,bangolf_kategorien!$A$2:$B$11,2,FALSE)","v":"H"}]
["dv",1322,"Karin","Umlauf","SC Bad Münder Abt. Bahnengolf",{"$f":"CONCATENATE(VLOOKUP(A3590,bangolf_kategorien!$A$2:$B$11,2,FALSE),\": \",D3590,\", \",C3590)","v":"SW2: Umlauf, Karin"},{"$f":"VLOOKUP(A3590,bangolf_kategorien!$A$2:$B$11,2,FALSE)","v":"SW2"}]
["ob",34732,"Uwe","Ungermann","BSC Ennepetal",{"$f":"CONCATENATE(VLOOKUP(A3591,bangolf_kategorien!$A$2:$B$11,2,FALSE),\": \",D3591,\", \",C3591)","v":"SM1: Ungermann, Uwe"},{"$f":"VLOOKUP(A3591,bangolf_kategorien!$A$2:$B$11,2,FALSE)","v":"SM1"}]
["hs",38216,"Thomas","Unglaube","BGC Dormagen",{"$f":"CONCATENATE(VLOOKUP(A3592,bangolf_kategorien!$A$2:$B$11,2,FALSE),\": \",D3592,\", \",C3592)","v":"H: Unglaube, Thomas"},{"$f":"VLOOKUP(A3592,bangolf_kategorien!$A$2:$B$11,2,FALSE)","v":"H"}]
["ob",67170,"Joerg","Unruh","MGC Millennium Lorsch",{"$f":"CONCATENATE(VLOOKUP(A3593,bangolf_kategorien!$A$2:$B$11,2,FALSE),\": \",D3593,\", \",C3593)","v":"SM1: Unruh, Joerg"},{"$f":"VLOOKUP(A3593,bangolf_kategorien!$A$2:$B$11,2,FALSE)","v":"SM1"}]
["hv",26698,"Horst","Unterleitner","CGC Illertal Kellmünz",{"$f":"CONCATENATE(VLOOKUP(A3594,bangolf_kategorien!$A$2:$B$11,2,FALSE),\": \",D3594,\", \",C3594)","v":"SM2: Unterleitner, Horst"},{"$f":"VLOOKUP(A3594,bangolf_kategorien!$A$2:$B$11,2,FALSE)","v":"SM2"}]
["og",35605,"Angela","Urban","MGC \"AS\" Witten 1963",{"$f":"CONCATENATE(VLOOKUP(A3595,bangolf_kategorien!$A$2:$B$11,2,FALSE),\": \",D3595,\", \",C3595)","v":"SW1: Urban, Angela"},{"$f":"VLOOKUP(A3595,bangolf_kategorien!$A$2:$B$11,2,FALSE)","v":"SW1"}]
["hj",66186,"Dominic","Urban","MGC \"AS\" Witten 1963",{"$f":"CONCATENATE(VLOOKUP(A3596,bangolf_kategorien!$A$2:$B$11,2,FALSE),\": \",D3596,\", \",C3596)","v":"JM: Urban, Dominic"},{"$f":"VLOOKUP(A3596,bangolf_kategorien!$A$2:$B$11,2,FALSE)","v":"JM"}]
["ob",35604,"Volker","Urban","MGC \"AS\" Witten 1963",{"$f":"CONCATENATE(VLOOKUP(A3597,bangolf_kategorien!$A$2:$B$11,2,FALSE),\": \",D3597,\", \",C3597)","v":"SM1: Urban, Volker"},{"$f":"VLOOKUP(A3597,bangolf_kategorien!$A$2:$B$11,2,FALSE)","v":"SM1"}]
["hs",30422,"Patrick","Urbanke","MGC Bad Soden-Salmünster",{"$f":"CONCATENATE(VLOOKUP(A3598,bangolf_kategorien!$A$2:$B$11,2,FALSE),\": \",D3598,\", \",C3598)","v":"H: Urbanke, Patrick"},{"$f":"VLOOKUP(A3598,bangolf_kategorien!$A$2:$B$11,2,FALSE)","v":"H"}]
["ob",41095,"Karsten","Urbanski","1. Essener CGC \"Blau-Gold\"",{"$f":"CONCATENATE(VLOOKUP(A3599,bangolf_kategorien!$A$2:$B$11,2,FALSE),\": \",D3599,\", \",C3599)","v":"SM1: Urbanski, Karsten"},{"$f":"VLOOKUP(A3599,bangolf_kategorien!$A$2:$B$11,2,FALSE)","v":"SM1"}]
["og",23,"Monika","Vahle","MSK Neheim-Hüsten",{"$f":"CONCATENATE(VLOOKUP(A3600,bangolf_kategorien!$A$2:$B$11,2,FALSE),\": \",D3600,\", \",C3600)","v":"SW1: Vahle, Monika"},{"$f":"VLOOKUP(A3600,bangolf_kategorien!$A$2:$B$11,2,FALSE)","v":"SW1"}]
["og",67224,"Kerstin","Vallot","MGC Heringen 1997",{"$f":"CONCATENATE(VLOOKUP(A3601,bangolf_kategorien!$A$2:$B$11,2,FALSE),\": \",D3601,\", \",C3601)","v":"SW1: Vallot, Kerstin"},{"$f":"VLOOKUP(A3601,bangolf_kategorien!$A$2:$B$11,2,FALSE)","v":"SW1"}]
["hs",33059,"Dirk","van der Wals","1. MGC Epe 1978",{"$f":"CONCATENATE(VLOOKUP(A3602,bangolf_kategorien!$A$2:$B$11,2,FALSE),\": \",D3602,\", \",C3602)","v":"H: van der Wals, Dirk"},{"$f":"VLOOKUP(A3602,bangolf_kategorien!$A$2:$B$11,2,FALSE)","v":"H"}]
["hs",29061,"Mark","van der Wals","1. MGC Epe 1978",{"$f":"CONCATENATE(VLOOKUP(A3603,bangolf_kategorien!$A$2:$B$11,2,FALSE),\": \",D3603,\", \",C3603)","v":"H: van der Wals, Mark"},{"$f":"VLOOKUP(A3603,bangolf_kategorien!$A$2:$B$11,2,FALSE)","v":"H"}]
["hv",26404,"Wilfried","van der Wals","1. MGC Epe 1978",{"$f":"CONCATENATE(VLOOKUP(A3604,bangolf_kategorien!$A$2:$B$11,2,FALSE),\": \",D3604,\", \",C3604)","v":"SM2: van der Wals, Wilfried"},{"$f":"VLOOKUP(A3604,bangolf_kategorien!$A$2:$B$11,2,FALSE)","v":"SM2"}]
["hj",38505,"Tom","van Diejen","MSC Bensheim-Auerbach",{"$f":"CONCATENATE(VLOOKUP(A3605,bangolf_kategorien!$A$2:$B$11,2,FALSE),\": \",D3605,\", \",C3605)","v":"JM: van Diejen, Tom"},{"$f":"VLOOKUP(A3605,bangolf_kategorien!$A$2:$B$11,2,FALSE)","v":"JM"}]
["hs",38415,"Jan","van Eickelen","BGV Bergisch Land 1962 / 63",{"$f":"CONCATENATE(VLOOKUP(A3606,bangolf_kategorien!$A$2:$B$11,2,FALSE),\": \",D3606,\", \",C3606)","v":"H: van Eickelen, Jan"},{"$f":"VLOOKUP(A3606,bangolf_kategorien!$A$2:$B$11,2,FALSE)","v":"H"}]
["hv",65919,"Ralf","van Eickelen","BGV Bergisch Land 1962 / 63",{"$f":"CONCATENATE(VLOOKUP(A3607,bangolf_kategorien!$A$2:$B$11,2,FALSE),\": \",D3607,\", \",C3607)","v":"SM2: van Eickelen, Ralf"},{"$f":"VLOOKUP(A3607,bangolf_kategorien!$A$2:$B$11,2,FALSE)","v":"SM2"}]
["hs",36532,"Jan","van Vught","BGC Heilbronn",{"$f":"CONCATENATE(VLOOKUP(A3608,bangolf_kategorien!$A$2:$B$11,2,FALSE),\": \",D3608,\", \",C3608)","v":"H: van Vught, Jan"},{"$f":"VLOOKUP(A3608,bangolf_kategorien!$A$2:$B$11,2,FALSE)","v":"H"}]
["ob",40558,"Peter","Vanselow","MGC Sulzfeld",{"$f":"CONCATENATE(VLOOKUP(A3609,bangolf_kategorien!$A$2:$B$11,2,FALSE),\": \",D3609,\", \",C3609)","v":"SM1: Vanselow, Peter"},{"$f":"VLOOKUP(A3609,bangolf_kategorien!$A$2:$B$11,2,FALSE)","v":"SM1"}]
["ob",67579,"Remco","vanSteenwijk","BGC Uerdingen",{"$f":"CONCATENATE(VLOOKUP(A3610,bangolf_kategorien!$A$2:$B$11,2,FALSE),\": \",D3610,\", \",C3610)","v":"SM1: vanSteenwijk, Remco"},{"$f":"VLOOKUP(A3610,bangolf_kategorien!$A$2:$B$11,2,FALSE)","v":"SM1"}]
["dj",66881,"Svenja","Vatter","1. MGC Ludwigshafen",{"$f":"CONCATENATE(VLOOKUP(A3611,bangolf_kategorien!$A$2:$B$11,2,FALSE),\": \",D3611,\", \",C3611)","v":"JW: Vatter, Svenja"},{"$f":"VLOOKUP(A3611,bangolf_kategorien!$A$2:$B$11,2,FALSE)","v":"JW"}]
["hv",67066,"Rafael","Vazquez Santos","MC \"Möve\" Cuxhaven-Sahlenburg",{"$f":"CONCATENATE(VLOOKUP(A3612,bangolf_kategorien!$A$2:$B$11,2,FALSE),\": \",D3612,\", \",C3612)","v":"SM2: Vazquez Santos, Rafael"},{"$f":"VLOOKUP(A3612,bangolf_kategorien!$A$2:$B$11,2,FALSE)","v":"SM2"}]
["ob",31256,"Bernd","Veit","MGC Wetzlar",{"$f":"CONCATENATE(VLOOKUP(A3613,bangolf_kategorien!$A$2:$B$11,2,FALSE),\": \",D3613,\", \",C3613)","v":"SM1: Veit, Bernd"},{"$f":"VLOOKUP(A3613,bangolf_kategorien!$A$2:$B$11,2,FALSE)","v":"SM1"}]
["hs",67124,"Alexander","Vellone","BGC Bad Nenndorf",{"$f":"CONCATENATE(VLOOKUP(A3614,bangolf_kategorien!$A$2:$B$11,2,FALSE),\": \",D3614,\", \",C3614)","v":"H: Vellone, Alexander"},{"$f":"VLOOKUP(A3614,bangolf_kategorien!$A$2:$B$11,2,FALSE)","v":"H"}]
["ob",27127,"Nicolo","Vellone","BGC Bad Nenndorf",{"$f":"CONCATENATE(VLOOKUP(A3615,bangolf_kategorien!$A$2:$B$11,2,FALSE),\": \",D3615,\", \",C3615)","v":"SM1: Vellone, Nicolo"},{"$f":"VLOOKUP(A3615,bangolf_kategorien!$A$2:$B$11,2,FALSE)","v":"SM1"}]
["ob",48946,"Dirk","Vennemann","VfB Osnabrück",{"$f":"CONCATENATE(VLOOKUP(A3616,bangolf_kategorien!$A$2:$B$11,2,FALSE),\": \",D3616,\", \",C3616)","v":"SM1: Vennemann, Dirk"},{"$f":"VLOOKUP(A3616,bangolf_kategorien!$A$2:$B$11,2,FALSE)","v":"SM1"}]
["ob",65961,"Ralf","Vennemann","VfB Osnabrück",{"$f":"CONCATENATE(VLOOKUP(A3617,bangolf_kategorien!$A$2:$B$11,2,FALSE),\": \",D3617,\", \",C3617)","v":"SM1: Vennemann, Ralf"},{"$f":"VLOOKUP(A3617,bangolf_kategorien!$A$2:$B$11,2,FALSE)","v":"SM1"}]
["ob",67382,"Gerhard","Verges","1. MGC Ladenburg",{"$f":"CONCATENATE(VLOOKUP(A3618,bangolf_kategorien!$A$2:$B$11,2,FALSE),\": \",D3618,\", \",C3618)","v":"SM1: Verges, Gerhard"},{"$f":"VLOOKUP(A3618,bangolf_kategorien!$A$2:$B$11,2,FALSE)","v":"SM1"}]
["ob",29907,"Alfred","Verhoeven","BGC Dormagen",{"$f":"CONCATENATE(VLOOKUP(A3619,bangolf_kategorien!$A$2:$B$11,2,FALSE),\": \",D3619,\", \",C3619)","v":"SM1: Verhoeven, Alfred"},{"$f":"VLOOKUP(A3619,bangolf_kategorien!$A$2:$B$11,2,FALSE)","v":"SM1"}]
["hs",37766,"Julian","Vernaleken","MGC Bad Salzuflen",{"$f":"CONCATENATE(VLOOKUP(A3620,bangolf_kategorien!$A$2:$B$11,2,FALSE),\": \",D3620,\", \",C3620)","v":"H: Vernaleken, Julian"},{"$f":"VLOOKUP(A3620,bangolf_kategorien!$A$2:$B$11,2,FALSE)","v":"H"}]
["ds",33945,"Renate","Vetter","MSC Bensheim-Auerbach",{"$f":"CONCATENATE(VLOOKUP(A3621,bangolf_kategorien!$A$2:$B$11,2,FALSE),\": \",D3621,\", \",C3621)","v":"D: Vetter, Renate"},{"$f":"VLOOKUP(A3621,bangolf_kategorien!$A$2:$B$11,2,FALSE)","v":"D"}]
["dv",36658,"Marieluise","Vielhauer","1. MGC Epe 1978",{"$f":"CONCATENATE(VLOOKUP(A3622,bangolf_kategorien!$A$2:$B$11,2,FALSE),\": \",D3622,\", \",C3622)","v":"SW2: Vielhauer, Marieluise"},{"$f":"VLOOKUP(A3622,bangolf_kategorien!$A$2:$B$11,2,FALSE)","v":"SW2"}]
["hv",36659,"Peter","Vielhauer","1. MGC Epe 1978",{"$f":"CONCATENATE(VLOOKUP(A3623,bangolf_kategorien!$A$2:$B$11,2,FALSE),\": \",D3623,\", \",C3623)","v":"SM2: Vielhauer, Peter"},{"$f":"VLOOKUP(A3623,bangolf_kategorien!$A$2:$B$11,2,FALSE)","v":"SM2"}]
["hv",3287058,"Joachim","Viohl","Hobby",{"$f":"CONCATENATE(VLOOKUP(A3624,bangolf_kategorien!$A$2:$B$11,2,FALSE),\": \",D3624,\", \",C3624)","v":"SM2: Viohl, Joachim"},{"$f":"VLOOKUP(A3624,bangolf_kategorien!$A$2:$B$11,2,FALSE)","v":"SM2"}]
["ob",34501,"Ralf","Vittinghoff","1. MGC Ladenburg",{"$f":"CONCATENATE(VLOOKUP(A3625,bangolf_kategorien!$A$2:$B$11,2,FALSE),\": \",D3625,\", \",C3625)","v":"SM1: Vittinghoff, Ralf"},{"$f":"VLOOKUP(A3625,bangolf_kategorien!$A$2:$B$11,2,FALSE)","v":"SM1"}]
["hv",5272,"Leonhard","Vocht","OMGC Ingolstadt",{"$f":"CONCATENATE(VLOOKUP(A3626,bangolf_kategorien!$A$2:$B$11,2,FALSE),\": \",D3626,\", \",C3626)","v":"SM2: Vocht, Leonhard"},{"$f":"VLOOKUP(A3626,bangolf_kategorien!$A$2:$B$11,2,FALSE)","v":"SM2"}]
["pa",3202289,"Tamino","Voehringer","Hobby",{"$f":"CONCATENATE(VLOOKUP(A3627,bangolf_kategorien!$A$2:$B$11,2,FALSE),\": \",D3627,\", \",C3627)","v":"SCHM: Voehringer, Tamino"},{"$f":"VLOOKUP(A3627,bangolf_kategorien!$A$2:$B$11,2,FALSE)","v":"SCHM"}]
["ob",3106612,"Frank","Vogelpohl","Hobby",{"$f":"CONCATENATE(VLOOKUP(A3628,bangolf_kategorien!$A$2:$B$11,2,FALSE),\": \",D3628,\", \",C3628)","v":"SM1: Vogelpohl, Frank"},{"$f":"VLOOKUP(A3628,bangolf_kategorien!$A$2:$B$11,2,FALSE)","v":"SM1"}]
["hv",282,"Klaus","Vogentanz","1. MGC Bamberg",{"$f":"CONCATENATE(VLOOKUP(A3629,bangolf_kategorien!$A$2:$B$11,2,FALSE),\": \",D3629,\", \",C3629)","v":"SM2: Vogentanz, Klaus"},{"$f":"VLOOKUP(A3629,bangolf_kategorien!$A$2:$B$11,2,FALSE)","v":"SM2"}]
["hv",17977,"Peter","Vogl","ASV Pegnitz, Abt. Minigolf",{"$f":"CONCATENATE(VLOOKUP(A3630,bangolf_kategorien!$A$2:$B$11,2,FALSE),\": \",D3630,\", \",C3630)","v":"SM2: Vogl, Peter"},{"$f":"VLOOKUP(A3630,bangolf_kategorien!$A$2:$B$11,2,FALSE)","v":"SM2"}]
["hv",60895,"Karl-Heinz","Vogt","ASV Pegnitz, Abt. Minigolf",{"$f":"CONCATENATE(VLOOKUP(A3631,bangolf_kategorien!$A$2:$B$11,2,FALSE),\": \",D3631,\", \",C3631)","v":"SM2: Vogt, Karl-Heinz"},{"$f":"VLOOKUP(A3631,bangolf_kategorien!$A$2:$B$11,2,FALSE)","v":"SM2"}]
["ob",44676,"Markus","Vogt","BGC Schloß Paffendorf",{"$f":"CONCATENATE(VLOOKUP(A3632,bangolf_kategorien!$A$2:$B$11,2,FALSE),\": \",D3632,\", \",C3632)","v":"SM1: Vogt, Markus"},{"$f":"VLOOKUP(A3632,bangolf_kategorien!$A$2:$B$11,2,FALSE)","v":"SM1"}]
["ob",47299,"Michael","Vogt","MGC Dormagen-Brechten",{"$f":"CONCATENATE(VLOOKUP(A3633,bangolf_kategorien!$A$2:$B$11,2,FALSE),\": \",D3633,\", \",C3633)","v":"SM1: Vogt, Michael"},{"$f":"VLOOKUP(A3633,bangolf_kategorien!$A$2:$B$11,2,FALSE)","v":"SM1"}]
["hv",5959,"Johannes","Völk","MGC Murnau am Staffelsee",{"$f":"CONCATENATE(VLOOKUP(A3634,bangolf_kategorien!$A$2:$B$11,2,FALSE),\": \",D3634,\", \",C3634)","v":"SM2: Völk, Johannes"},{"$f":"VLOOKUP(A3634,bangolf_kategorien!$A$2:$B$11,2,FALSE)","v":"SM2"}]
["hv",24417,"Erhard","Völkel","1. NMC Kelheim",{"$f":"CONCATENATE(VLOOKUP(A3635,bangolf_kategorien!$A$2:$B$11,2,FALSE),\": \",D3635,\", \",C3635)","v":"SM2: Völkel, Erhard"},{"$f":"VLOOKUP(A3635,bangolf_kategorien!$A$2:$B$11,2,FALSE)","v":"SM2"}]
["ob",27141,"Robert","Völkel","ASV Pegnitz, Abt. Minigolf",{"$f":"CONCATENATE(VLOOKUP(A3636,bangolf_kategorien!$A$2:$B$11,2,FALSE),\": \",D3636,\", \",C3636)","v":"SM1: Völkel, Robert"},{"$f":"VLOOKUP(A3636,bangolf_kategorien!$A$2:$B$11,2,FALSE)","v":"SM1"}]
["ob",47134,"Michael","Volkmer","BV Sennestadt",{"$f":"CONCATENATE(VLOOKUP(A3637,bangolf_kategorien!$A$2:$B$11,2,FALSE),\": \",D3637,\", \",C3637)","v":"SM1: Volkmer, Michael"},{"$f":"VLOOKUP(A3637,bangolf_kategorien!$A$2:$B$11,2,FALSE)","v":"SM1"}]
["og",47133,"Iris","Volkmer-Ruben","BV Sennestadt",{"$f":"CONCATENATE(VLOOKUP(A3638,bangolf_kategorien!$A$2:$B$11,2,FALSE),\": \",D3638,\", \",C3638)","v":"SW1: Volkmer-Ruben, Iris"},{"$f":"VLOOKUP(A3638,bangolf_kategorien!$A$2:$B$11,2,FALSE)","v":"SW1"}]
["hv",43224,"Jürgen","Vollmer","1. BGC Paderborn",{"$f":"CONCATENATE(VLOOKUP(A3639,bangolf_kategorien!$A$2:$B$11,2,FALSE),\": \",D3639,\", \",C3639)","v":"SM2: Vollmer, Jürgen"},{"$f":"VLOOKUP(A3639,bangolf_kategorien!$A$2:$B$11,2,FALSE)","v":"SM2"}]
["ds",66544,"Anja","Vollrath","MGC Bad Homburg vdH",{"$f":"CONCATENATE(VLOOKUP(A3640,bangolf_kategorien!$A$2:$B$11,2,FALSE),\": \",D3640,\", \",C3640)","v":"D: Vollrath, Anja"},{"$f":"VLOOKUP(A3640,bangolf_kategorien!$A$2:$B$11,2,FALSE)","v":"D"}]
["ob",37329,"Frank","Völzke","HMC Büttgen",{"$f":"CONCATENATE(VLOOKUP(A3641,bangolf_kategorien!$A$2:$B$11,2,FALSE),\": \",D3641,\", \",C3641)","v":"SM1: Völzke, Frank"},{"$f":"VLOOKUP(A3641,bangolf_kategorien!$A$2:$B$11,2,FALSE)","v":"SM1"}]
["ob",37670,"Peter","vom Berg","BGC Schloß Paffendorf",{"$f":"CONCATENATE(VLOOKUP(A3642,bangolf_kategorien!$A$2:$B$11,2,FALSE),\": \",D3642,\", \",C3642)","v":"SM1: vom Berg, Peter"},{"$f":"VLOOKUP(A3642,bangolf_kategorien!$A$2:$B$11,2,FALSE)","v":"SM1"}]
["hs",34494,"Felix","vom Bruch","MSK Neheim-Hüsten",{"$f":"CONCATENATE(VLOOKUP(A3643,bangolf_kategorien!$A$2:$B$11,2,FALSE),\": \",D3643,\", \",C3643)","v":"H: vom Bruch, Felix"},{"$f":"VLOOKUP(A3643,bangolf_kategorien!$A$2:$B$11,2,FALSE)","v":"H"}]
["ob",261,"Lars","Vomhof","MSK Neheim-Hüsten",{"$f":"CONCATENATE(VLOOKUP(A3644,bangolf_kategorien!$A$2:$B$11,2,FALSE),\": \",D3644,\", \",C3644)","v":"SM1: Vomhof, Lars"},{"$f":"VLOOKUP(A3644,bangolf_kategorien!$A$2:$B$11,2,FALSE)","v":"SM1"}]
["dv",2320,"Dörthe","von Beuningen","VfL Lohbrügge Abt. Bahnengolf",{"$f":"CONCATENATE(VLOOKUP(A3645,bangolf_kategorien!$A$2:$B$11,2,FALSE),\": \",D3645,\", \",C3645)","v":"SW2: von Beuningen, Dörthe"},{"$f":"VLOOKUP(A3645,bangolf_kategorien!$A$2:$B$11,2,FALSE)","v":"SW2"}]
["hs",49943,"Kay","von Beuningen","VfL Lohbrügge Abt. Bahnengolf",{"$f":"CONCATENATE(VLOOKUP(A3646,bangolf_kategorien!$A$2:$B$11,2,FALSE),\": \",D3646,\", \",C3646)","v":"H: von Beuningen, Kay"},{"$f":"VLOOKUP(A3646,bangolf_kategorien!$A$2:$B$11,2,FALSE)","v":"H"}]
["hs",32379,"Sebastian","von Block","MSC Bad Godesberg",{"$f":"CONCATENATE(VLOOKUP(A3647,bangolf_kategorien!$A$2:$B$11,2,FALSE),\": \",D3647,\", \",C3647)","v":"H: von Block, Sebastian"},{"$f":"VLOOKUP(A3647,bangolf_kategorien!$A$2:$B$11,2,FALSE)","v":"H"}]
["og",46295,"Gabriele","von Contzen","SV Lurup Abt. Bahnengolf",{"$f":"CONCATENATE(VLOOKUP(A3648,bangolf_kategorien!$A$2:$B$11,2,FALSE),\": \",D3648,\", \",C3648)","v":"SW1: von Contzen, Gabriele"},{"$f":"VLOOKUP(A3648,bangolf_kategorien!$A$2:$B$11,2,FALSE)","v":"SW1"}]
["og",36691,"Alexandra","von dem Knesebeck","1. MGC 1970 Göttingen",{"$f":"CONCATENATE(VLOOKUP(A3649,bangolf_kategorien!$A$2:$B$11,2,FALSE),\": \",D3649,\", \",C3649)","v":"SW1: von dem Knesebeck, Alexandra"},{"$f":"VLOOKUP(A3649,bangolf_kategorien!$A$2:$B$11,2,FALSE)","v":"SW1"}]
["ob",25562,"Andreas","von dem Knesebeck","1. MGC 1970 Göttingen",{"$f":"CONCATENATE(VLOOKUP(A3650,bangolf_kategorien!$A$2:$B$11,2,FALSE),\": \",D3650,\", \",C3650)","v":"SM1: von dem Knesebeck, Andreas"},{"$f":"VLOOKUP(A3650,bangolf_kategorien!$A$2:$B$11,2,FALSE)","v":"SM1"}]
["hv",5288,"Ingo","von dem Knesebeck","1. MGC 1970 Göttingen",{"$f":"CONCATENATE(VLOOKUP(A3651,bangolf_kategorien!$A$2:$B$11,2,FALSE),\": \",D3651,\", \",C3651)","v":"SM2: von dem Knesebeck, Ingo"},{"$f":"VLOOKUP(A3651,bangolf_kategorien!$A$2:$B$11,2,FALSE)","v":"SM2"}]
["ob",40235,"Stephan","von der Pütten","MGC Traben-Trarbach",{"$f":"CONCATENATE(VLOOKUP(A3652,bangolf_kategorien!$A$2:$B$11,2,FALSE),\": \",D3652,\", \",C3652)","v":"SM1: von der Pütten, Stephan"},{"$f":"VLOOKUP(A3652,bangolf_kategorien!$A$2:$B$11,2,FALSE)","v":"SM1"}]
["ob",14562,"Axel","von Holten","MC \"Möve\" Cuxhaven-Sahlenburg",{"$f":"CONCATENATE(VLOOKUP(A3653,bangolf_kategorien!$A$2:$B$11,2,FALSE),\": \",D3653,\", \",C3653)","v":"SM1: von Holten, Axel"},{"$f":"VLOOKUP(A3653,bangolf_kategorien!$A$2:$B$11,2,FALSE)","v":"SM1"}]
["ob",66751,"Jens","von Trümbach","Minigolfclub Karlshagen",{"$f":"CONCATENATE(VLOOKUP(A3654,bangolf_kategorien!$A$2:$B$11,2,FALSE),\": \",D3654,\", \",C3654)","v":"SM1: von Trümbach, Jens"},{"$f":"VLOOKUP(A3654,bangolf_kategorien!$A$2:$B$11,2,FALSE)","v":"SM1"}]
["og",66750,"Katarzyna","von Trümbach","Minigolfclub Karlshagen",{"$f":"CONCATENATE(VLOOKUP(A3655,bangolf_kategorien!$A$2:$B$11,2,FALSE),\": \",D3655,\", \",C3655)","v":"SW1: von Trümbach, Katarzyna"},{"$f":"VLOOKUP(A3655,bangolf_kategorien!$A$2:$B$11,2,FALSE)","v":"SW1"}]
["hs",34068,"Waldemar","Voos","SSC Halver",{"$f":"CONCATENATE(VLOOKUP(A3656,bangolf_kategorien!$A$2:$B$11,2,FALSE),\": \",D3656,\", \",C3656)","v":"H: Voos, Waldemar"},{"$f":"VLOOKUP(A3656,bangolf_kategorien!$A$2:$B$11,2,FALSE)","v":"H"}]
["hv",3720,"Hans-Peter","Vosberg","Minigolfunion Neviges-Odenthal 1968",{"$f":"CONCATENATE(VLOOKUP(A3657,bangolf_kategorien!$A$2:$B$11,2,FALSE),\": \",D3657,\", \",C3657)","v":"SM2: Vosberg, Hans-Peter"},{"$f":"VLOOKUP(A3657,bangolf_kategorien!$A$2:$B$11,2,FALSE)","v":"SM2"}]
["hs",49854,"Björn","Voß","MC Flora Elmshorn",{"$f":"CONCATENATE(VLOOKUP(A3658,bangolf_kategorien!$A$2:$B$11,2,FALSE),\": \",D3658,\", \",C3658)","v":"H: Voß, Björn"},{"$f":"VLOOKUP(A3658,bangolf_kategorien!$A$2:$B$11,2,FALSE)","v":"H"}]
["hs",66768,"Christian","Voß","1. MGC Paderborn",{"$f":"CONCATENATE(VLOOKUP(A3659,bangolf_kategorien!$A$2:$B$11,2,FALSE),\": \",D3659,\", \",C3659)","v":"H: Voß, Christian"},{"$f":"VLOOKUP(A3659,bangolf_kategorien!$A$2:$B$11,2,FALSE)","v":"H"}]
["hv",18217,"Fritz","Voss","Cobigolf-Verein Hamm 2019",{"$f":"CONCATENATE(VLOOKUP(A3660,bangolf_kategorien!$A$2:$B$11,2,FALSE),\": \",D3660,\", \",C3660)","v":"SM2: Voss, Fritz"},{"$f":"VLOOKUP(A3660,bangolf_kategorien!$A$2:$B$11,2,FALSE)","v":"SM2"}]
["hv",5675,"Norbert","Voß","MSK Olching",{"$f":"CONCATENATE(VLOOKUP(A3661,bangolf_kategorien!$A$2:$B$11,2,FALSE),\": \",D3661,\", \",C3661)","v":"SM2: Voß, Norbert"},{"$f":"VLOOKUP(A3661,bangolf_kategorien!$A$2:$B$11,2,FALSE)","v":"SM2"}]
["ob",3212054,"Rüdiger","Voß","Hobby",{"$f":"CONCATENATE(VLOOKUP(A3662,bangolf_kategorien!$A$2:$B$11,2,FALSE),\": \",D3662,\", \",C3662)","v":"SM1: Voß, Rüdiger"},{"$f":"VLOOKUP(A3662,bangolf_kategorien!$A$2:$B$11,2,FALSE)","v":"SM1"}]
["hv",30196,"Johannes","Vosschulte","Cobigolf-Verein Hamm 2019",{"$f":"CONCATENATE(VLOOKUP(A3663,bangolf_kategorien!$A$2:$B$11,2,FALSE),\": \",D3663,\", \",C3663)","v":"SM2: Vosschulte, Johannes"},{"$f":"VLOOKUP(A3663,bangolf_kategorien!$A$2:$B$11,2,FALSE)","v":"SM2"}]
["hs",65283,"Manuel Andre","Wächter","MSK Neheim-Hüsten",{"$f":"CONCATENATE(VLOOKUP(A3664,bangolf_kategorien!$A$2:$B$11,2,FALSE),\": \",D3664,\", \",C3664)","v":"H: Wächter, Manuel Andre"},{"$f":"VLOOKUP(A3664,bangolf_kategorien!$A$2:$B$11,2,FALSE)","v":"H"}]
["hv",4261,"Reinhard","Wachtl","MGC Bad Homburg vdH",{"$f":"CONCATENATE(VLOOKUP(A3665,bangolf_kategorien!$A$2:$B$11,2,FALSE),\": \",D3665,\", \",C3665)","v":"SM2: Wachtl, Reinhard"},{"$f":"VLOOKUP(A3665,bangolf_kategorien!$A$2:$B$11,2,FALSE)","v":"SM2"}]
["dv",4260,"Renate","Wachtl","MGC Bad Homburg vdH",{"$f":"CONCATENATE(VLOOKUP(A3666,bangolf_kategorien!$A$2:$B$11,2,FALSE),\": \",D3666,\", \",C3666)","v":"SW2: Wachtl, Renate"},{"$f":"VLOOKUP(A3666,bangolf_kategorien!$A$2:$B$11,2,FALSE)","v":"SW2"}]
["ob",35127,"Sven","Wachtl","MGC Bad Homburg vdH",{"$f":"CONCATENATE(VLOOKUP(A3667,bangolf_kategorien!$A$2:$B$11,2,FALSE),\": \",D3667,\", \",C3667)","v":"SM1: Wachtl, Sven"},{"$f":"VLOOKUP(A3667,bangolf_kategorien!$A$2:$B$11,2,FALSE)","v":"SM1"}]
["dv",5997,"Gertrud","Wäcke","MGC \"Stahlquelle\" Bad Bocklet",{"$f":"CONCATENATE(VLOOKUP(A3668,bangolf_kategorien!$A$2:$B$11,2,FALSE),\": \",D3668,\", \",C3668)","v":"SW2: Wäcke, Gertrud"},{"$f":"VLOOKUP(A3668,bangolf_kategorien!$A$2:$B$11,2,FALSE)","v":"SW2"}]
["hv",26331,"Hans Rolf","Wageck","1. MGC Ludwigshafen",{"$f":"CONCATENATE(VLOOKUP(A3669,bangolf_kategorien!$A$2:$B$11,2,FALSE),\": \",D3669,\", \",C3669)","v":"SM2: Wageck, Hans Rolf"},{"$f":"VLOOKUP(A3669,bangolf_kategorien!$A$2:$B$11,2,FALSE)","v":"SM2"}]
["ob",37142,"Uwe","Wageck","1. BGC Rodalben 1977",{"$f":"CONCATENATE(VLOOKUP(A3670,bangolf_kategorien!$A$2:$B$11,2,FALSE),\": \",D3670,\", \",C3670)","v":"SM1: Wageck, Uwe"},{"$f":"VLOOKUP(A3670,bangolf_kategorien!$A$2:$B$11,2,FALSE)","v":"SM1"}]
["hs",66813,"Christoph","Wagener","MGC Murnau am Staffelsee",{"$f":"CONCATENATE(VLOOKUP(A3671,bangolf_kategorien!$A$2:$B$11,2,FALSE),\": \",D3671,\", \",C3671)","v":"H: Wagener, Christoph"},{"$f":"VLOOKUP(A3671,bangolf_kategorien!$A$2:$B$11,2,FALSE)","v":"H"}]
["pa",67083,"Tobias","Wagener","MGC Murnau am Staffelsee",{"$f":"CONCATENATE(VLOOKUP(A3672,bangolf_kategorien!$A$2:$B$11,2,FALSE),\": \",D3672,\", \",C3672)","v":"SCHM: Wagener, Tobias"},{"$f":"VLOOKUP(A3672,bangolf_kategorien!$A$2:$B$11,2,FALSE)","v":"SCHM"}]
["ob",66313,"Volker","Wagener","MGC Murnau am Staffelsee",{"$f":"CONCATENATE(VLOOKUP(A3673,bangolf_kategorien!$A$2:$B$11,2,FALSE),\": \",D3673,\", \",C3673)","v":"SM1: Wagener, Volker"},{"$f":"VLOOKUP(A3673,bangolf_kategorien!$A$2:$B$11,2,FALSE)","v":"SM1"}]
["dv",4906,"Barbara","Wagner","1. KC Homburg-Saar 1967",{"$f":"CONCATENATE(VLOOKUP(A3674,bangolf_kategorien!$A$2:$B$11,2,FALSE),\": \",D3674,\", \",C3674)","v":"SW2: Wagner, Barbara"},{"$f":"VLOOKUP(A3674,bangolf_kategorien!$A$2:$B$11,2,FALSE)","v":"SW2"}]
["pa",67393,"Ben","Wagner","VfM Bottrop",{"$f":"CONCATENATE(VLOOKUP(A3675,bangolf_kategorien!$A$2:$B$11,2,FALSE),\": \",D3675,\", \",C3675)","v":"SCHM: Wagner, Ben"},{"$f":"VLOOKUP(A3675,bangolf_kategorien!$A$2:$B$11,2,FALSE)","v":"SCHM"}]
["hs",50472,"Christian","Wagner","PTSV Hof, Abt. Minigolf",{"$f":"CONCATENATE(VLOOKUP(A3676,bangolf_kategorien!$A$2:$B$11,2,FALSE),\": \",D3676,\", \",C3676)","v":"H: Wagner, Christian"},{"$f":"VLOOKUP(A3676,bangolf_kategorien!$A$2:$B$11,2,FALSE)","v":"H"}]
["hv",4908,"Franz","Wagner","1. KC Homburg-Saar 1967",{"$f":"CONCATENATE(VLOOKUP(A3677,bangolf_kategorien!$A$2:$B$11,2,FALSE),\": \",D3677,\", \",C3677)","v":"SM2: Wagner, Franz"},{"$f":"VLOOKUP(A3677,bangolf_kategorien!$A$2:$B$11,2,FALSE)","v":"SM2"}]
["hv",61252,"Gerald","Wagner","MSV Würzburg-Löwenbrücke",{"$f":"CONCATENATE(VLOOKUP(A3678,bangolf_kategorien!$A$2:$B$11,2,FALSE),\": \",D3678,\", \",C3678)","v":"SM2: Wagner, Gerald"},{"$f":"VLOOKUP(A3678,bangolf_kategorien!$A$2:$B$11,2,FALSE)","v":"SM2"}]
["dv",3322183,"Gisela","Wagner","Hobby",{"$f":"CONCATENATE(VLOOKUP(A3679,bangolf_kategorien!$A$2:$B$11,2,FALSE),\": \",D3679,\", \",C3679)","v":"SW2: Wagner, Gisela"},{"$f":"VLOOKUP(A3679,bangolf_kategorien!$A$2:$B$11,2,FALSE)","v":"SW2"}]
["hv",5805,"Günter","Wagner","MSC Herscheid 1963",{"$f":"CONCATENATE(VLOOKUP(A3680,bangolf_kategorien!$A$2:$B$11,2,FALSE),\": \",D3680,\", \",C3680)","v":"SM2: Wagner, Günter"},{"$f":"VLOOKUP(A3680,bangolf_kategorien!$A$2:$B$11,2,FALSE)","v":"SM2"}]
["hv",26716,"Hans-Joachim","Wagner","1. MGC Mainz",{"$f":"CONCATENATE(VLOOKUP(A3681,bangolf_kategorien!$A$2:$B$11,2,FALSE),\": \",D3681,\", \",C3681)","v":"SM2: Wagner, Hans-Joachim"},{"$f":"VLOOKUP(A3681,bangolf_kategorien!$A$2:$B$11,2,FALSE)","v":"SM2"}]
["ds",28224,"Imke","Wagner","Miniaturgolf Sportclub Schriesheim",{"$f":"CONCATENATE(VLOOKUP(A3682,bangolf_kategorien!$A$2:$B$11,2,FALSE),\": \",D3682,\", \",C3682)","v":"D: Wagner, Imke"},{"$f":"VLOOKUP(A3682,bangolf_kategorien!$A$2:$B$11,2,FALSE)","v":"D"}]
["hs",45065,"Jürgen","Wagner","Miniaturgolf Sportclub Schriesheim",{"$f":"CONCATENATE(VLOOKUP(A3683,bangolf_kategorien!$A$2:$B$11,2,FALSE),\": \",D3683,\", \",C3683)","v":"H: Wagner, Jürgen"},{"$f":"VLOOKUP(A3683,bangolf_kategorien!$A$2:$B$11,2,FALSE)","v":"H"}]
["dv",36583,"Marita","Wagner","MSC Herscheid 1963",{"$f":"CONCATENATE(VLOOKUP(A3684,bangolf_kategorien!$A$2:$B$11,2,FALSE),\": \",D3684,\", \",C3684)","v":"SW2: Wagner, Marita"},{"$f":"VLOOKUP(A3684,bangolf_kategorien!$A$2:$B$11,2,FALSE)","v":"SW2"}]
["ob",66800,"Robert","Wagner","BSC Ennepetal",{"$f":"CONCATENATE(VLOOKUP(A3685,bangolf_kategorien!$A$2:$B$11,2,FALSE),\": \",D3685,\", \",C3685)","v":"SM1: Wagner, Robert"},{"$f":"VLOOKUP(A3685,bangolf_kategorien!$A$2:$B$11,2,FALSE)","v":"SM1"}]
["ds",30067,"Sandra","Waldherr","MGC Wertheim 91",{"$f":"CONCATENATE(VLOOKUP(A3686,bangolf_kategorien!$A$2:$B$11,2,FALSE),\": \",D3686,\", \",C3686)","v":"D: Waldherr, Sandra"},{"$f":"VLOOKUP(A3686,bangolf_kategorien!$A$2:$B$11,2,FALSE)","v":"D"}]
["ob",43576,"Udo","Waldmann","1. BGC Landshut",{"$f":"CONCATENATE(VLOOKUP(A3687,bangolf_kategorien!$A$2:$B$11,2,FALSE),\": \",D3687,\", \",C3687)","v":"SM1: Waldmann, Udo"},{"$f":"VLOOKUP(A3687,bangolf_kategorien!$A$2:$B$11,2,FALSE)","v":"SM1"}]
["hs",36560,"Marcel","Waleska","1. MGC 1970 Göttingen",{"$f":"CONCATENATE(VLOOKUP(A3688,bangolf_kategorien!$A$2:$B$11,2,FALSE),\": \",D3688,\", \",C3688)","v":"H: Waleska, Marcel"},{"$f":"VLOOKUP(A3688,bangolf_kategorien!$A$2:$B$11,2,FALSE)","v":"H"}]
["dv",1185,"Ingrit","Walkowiak","TSV Salzgitter Abt. Bahnengolf",{"$f":"CONCATENATE(VLOOKUP(A3689,bangolf_kategorien!$A$2:$B$11,2,FALSE),\": \",D3689,\", \",C3689)","v":"SW2: Walkowiak, Ingrit"},{"$f":"VLOOKUP(A3689,bangolf_kategorien!$A$2:$B$11,2,FALSE)","v":"SW2"}]
["ob",38081,"Volker","Wallenski","TSV Kücknitz Abt. Bahnengolf",{"$f":"CONCATENATE(VLOOKUP(A3690,bangolf_kategorien!$A$2:$B$11,2,FALSE),\": \",D3690,\", \",C3690)","v":"SM1: Wallenski, Volker"},{"$f":"VLOOKUP(A3690,bangolf_kategorien!$A$2:$B$11,2,FALSE)","v":"SM1"}]
["hs",38499,"Daniel","Wallich","BGC Bildstock",{"$f":"CONCATENATE(VLOOKUP(A3691,bangolf_kategorien!$A$2:$B$11,2,FALSE),\": \",D3691,\", \",C3691)","v":"H: Wallich, Daniel"},{"$f":"VLOOKUP(A3691,bangolf_kategorien!$A$2:$B$11,2,FALSE)","v":"H"}]
["ob",67547,"Fredrik","Wallin","Niendorfer MC v. 1963",{"$f":"CONCATENATE(VLOOKUP(A3692,bangolf_kategorien!$A$2:$B$11,2,FALSE),\": \",D3692,\", \",C3692)","v":"SM1: Wallin, Fredrik"},{"$f":"VLOOKUP(A3692,bangolf_kategorien!$A$2:$B$11,2,FALSE)","v":"SM1"}]
["hv",24779,"Udo","Walter","VfM Bottrop",{"$f":"CONCATENATE(VLOOKUP(A3693,bangolf_kategorien!$A$2:$B$11,2,FALSE),\": \",D3693,\", \",C3693)","v":"SM2: Walter, Udo"},{"$f":"VLOOKUP(A3693,bangolf_kategorien!$A$2:$B$11,2,FALSE)","v":"SM2"}]
["hv",66885,"Wilfried","Walter","BGC Rheinau-Freistett",{"$f":"CONCATENATE(VLOOKUP(A3694,bangolf_kategorien!$A$2:$B$11,2,FALSE),\": \",D3694,\", \",C3694)","v":"SM2: Walter, Wilfried"},{"$f":"VLOOKUP(A3694,bangolf_kategorien!$A$2:$B$11,2,FALSE)","v":"SM2"}]
["hs",38457,"Denis","Walther","Minigolfclub Karlshagen",{"$f":"CONCATENATE(VLOOKUP(A3695,bangolf_kategorien!$A$2:$B$11,2,FALSE),\": \",D3695,\", \",C3695)","v":"H: Walther, Denis"},{"$f":"VLOOKUP(A3695,bangolf_kategorien!$A$2:$B$11,2,FALSE)","v":"H"}]
["hv",36712,"Hans-Jürgen","Walther","BGC Assindia Essen",{"$f":"CONCATENATE(VLOOKUP(A3696,bangolf_kategorien!$A$2:$B$11,2,FALSE),\": \",D3696,\", \",C3696)","v":"SM2: Walther, Hans-Jürgen"},{"$f":"VLOOKUP(A3696,bangolf_kategorien!$A$2:$B$11,2,FALSE)","v":"SM2"}]
["ob",28026,"Klaus","Walther","BGC Rheinau-Freistett",{"$f":"CONCATENATE(VLOOKUP(A3697,bangolf_kategorien!$A$2:$B$11,2,FALSE),\": \",D3697,\", \",C3697)","v":"SM1: Walther, Klaus"},{"$f":"VLOOKUP(A3697,bangolf_kategorien!$A$2:$B$11,2,FALSE)","v":"SM1"}]
["hs",66125,"Markus","Walther","Minigolfclub Karlshagen",{"$f":"CONCATENATE(VLOOKUP(A3698,bangolf_kategorien!$A$2:$B$11,2,FALSE),\": \",D3698,\", \",C3698)","v":"H: Walther, Markus"},{"$f":"VLOOKUP(A3698,bangolf_kategorien!$A$2:$B$11,2,FALSE)","v":"H"}]
["ob",40893,"Uwe","Walther","1. MGC Süßen",{"$f":"CONCATENATE(VLOOKUP(A3699,bangolf_kategorien!$A$2:$B$11,2,FALSE),\": \",D3699,\", \",C3699)","v":"SM1: Walther, Uwe"},{"$f":"VLOOKUP(A3699,bangolf_kategorien!$A$2:$B$11,2,FALSE)","v":"SM1"}]
["hs",64930,"Fabio","Walz","1. BGC Landshut",{"$f":"CONCATENATE(VLOOKUP(A3700,bangolf_kategorien!$A$2:$B$11,2,FALSE),\": \",D3700,\", \",C3700)","v":"H: Walz, Fabio"},{"$f":"VLOOKUP(A3700,bangolf_kategorien!$A$2:$B$11,2,FALSE)","v":"H"}]
["hs",3320478,"Christian","Walz-Bernreuther","Hobby",{"$f":"CONCATENATE(VLOOKUP(A3701,bangolf_kategorien!$A$2:$B$11,2,FALSE),\": \",D3701,\", \",C3701)","v":"H: Walz-Bernreuther, Christian"},{"$f":"VLOOKUP(A3701,bangolf_kategorien!$A$2:$B$11,2,FALSE)","v":"H"}]
["ob",40495,"Christian","Wamboldt","MSK Olching",{"$f":"CONCATENATE(VLOOKUP(A3702,bangolf_kategorien!$A$2:$B$11,2,FALSE),\": \",D3702,\", \",C3702)","v":"SM1: Wamboldt, Christian"},{"$f":"VLOOKUP(A3702,bangolf_kategorien!$A$2:$B$11,2,FALSE)","v":"SM1"}]
["og",29768,"Christiane","Wamboldt","MSK Olching",{"$f":"CONCATENATE(VLOOKUP(A3703,bangolf_kategorien!$A$2:$B$11,2,FALSE),\": \",D3703,\", \",C3703)","v":"SW1: Wamboldt, Christiane"},{"$f":"VLOOKUP(A3703,bangolf_kategorien!$A$2:$B$11,2,FALSE)","v":"SW1"}]
["hj",66192,"Eric","Wanjek","BGSC \"Gut Schlag\" Gladbeck",{"$f":"CONCATENATE(VLOOKUP(A3704,bangolf_kategorien!$A$2:$B$11,2,FALSE),\": \",D3704,\", \",C3704)","v":"JM: Wanjek, Eric"},{"$f":"VLOOKUP(A3704,bangolf_kategorien!$A$2:$B$11,2,FALSE)","v":"JM"}]
["ob",37030,"Guido","Wanjek","BGSC \"Gut Schlag\" Gladbeck",{"$f":"CONCATENATE(VLOOKUP(A3705,bangolf_kategorien!$A$2:$B$11,2,FALSE),\": \",D3705,\", \",C3705)","v":"SM1: Wanjek, Guido"},{"$f":"VLOOKUP(A3705,bangolf_kategorien!$A$2:$B$11,2,FALSE)","v":"SM1"}]
["og",37029,"Mandy","Wanjek","BGSC \"Gut Schlag\" Gladbeck",{"$f":"CONCATENATE(VLOOKUP(A3706,bangolf_kategorien!$A$2:$B$11,2,FALSE),\": \",D3706,\", \",C3706)","v":"SW1: Wanjek, Mandy"},{"$f":"VLOOKUP(A3706,bangolf_kategorien!$A$2:$B$11,2,FALSE)","v":"SW1"}]
["hv",25071,"Hans-Jörg","Wanner","MGF 77 Sickenhausen",{"$f":"CONCATENATE(VLOOKUP(A3707,bangolf_kategorien!$A$2:$B$11,2,FALSE),\": \",D3707,\", \",C3707)","v":"SM2: Wanner, Hans-Jörg"},{"$f":"VLOOKUP(A3707,bangolf_kategorien!$A$2:$B$11,2,FALSE)","v":"SM2"}]
["ob",33946,"Burkhard","Waptis","BGSV Castrop 1961",{"$f":"CONCATENATE(VLOOKUP(A3708,bangolf_kategorien!$A$2:$B$11,2,FALSE),\": \",D3708,\", \",C3708)","v":"SM1: Waptis, Burkhard"},{"$f":"VLOOKUP(A3708,bangolf_kategorien!$A$2:$B$11,2,FALSE)","v":"SM1"}]
["pa",66830,"Silas","Warkentin","TSV Pfungstadt Abt. Bahnengolf",{"$f":"CONCATENATE(VLOOKUP(A3709,bangolf_kategorien!$A$2:$B$11,2,FALSE),\": \",D3709,\", \",C3709)","v":"SCHM: Warkentin, Silas"},{"$f":"VLOOKUP(A3709,bangolf_kategorien!$A$2:$B$11,2,FALSE)","v":"SCHM"}]
["og",1612,"Jenifer","Warnecke","1. BGC Wolfsburg",{"$f":"CONCATENATE(VLOOKUP(A3710,bangolf_kategorien!$A$2:$B$11,2,FALSE),\": \",D3710,\", \",C3710)","v":"SW1: Warnecke, Jenifer"},{"$f":"VLOOKUP(A3710,bangolf_kategorien!$A$2:$B$11,2,FALSE)","v":"SW1"}]
["og",46911,"Nicole","Warnecke","1. BGC Wolfsburg",{"$f":"CONCATENATE(VLOOKUP(A3711,bangolf_kategorien!$A$2:$B$11,2,FALSE),\": \",D3711,\", \",C3711)","v":"SW1: Warnecke, Nicole"},{"$f":"VLOOKUP(A3711,bangolf_kategorien!$A$2:$B$11,2,FALSE)","v":"SW1"}]
["hs",35215,"Manuel","Warnkens","BGC Bremen",{"$f":"CONCATENATE(VLOOKUP(A3712,bangolf_kategorien!$A$2:$B$11,2,FALSE),\": \",D3712,\", \",C3712)","v":"H: Warnkens, Manuel"},{"$f":"VLOOKUP(A3712,bangolf_kategorien!$A$2:$B$11,2,FALSE)","v":"H"}]
["hv",35214,"Thomas","Warnkens","BGC Bremen",{"$f":"CONCATENATE(VLOOKUP(A3713,bangolf_kategorien!$A$2:$B$11,2,FALSE),\": \",D3713,\", \",C3713)","v":"SM2: Warnkens, Thomas"},{"$f":"VLOOKUP(A3713,bangolf_kategorien!$A$2:$B$11,2,FALSE)","v":"SM2"}]
["hs",65415,"Tobias","Warschkau","SC Wermelskirchen 1976",{"$f":"CONCATENATE(VLOOKUP(A3714,bangolf_kategorien!$A$2:$B$11,2,FALSE),\": \",D3714,\", \",C3714)","v":"H: Warschkau, Tobias"},{"$f":"VLOOKUP(A3714,bangolf_kategorien!$A$2:$B$11,2,FALSE)","v":"H"}]
["hv",24559,"Hans-Werner","Waschbusch","Freizeit Club Bliesen",{"$f":"CONCATENATE(VLOOKUP(A3715,bangolf_kategorien!$A$2:$B$11,2,FALSE),\": \",D3715,\", \",C3715)","v":"SM2: Waschbusch, Hans-Werner"},{"$f":"VLOOKUP(A3715,bangolf_kategorien!$A$2:$B$11,2,FALSE)","v":"SM2"}]
["dv",43441,"Ursula","Waschbusch","Freizeit Club Bliesen",{"$f":"CONCATENATE(VLOOKUP(A3716,bangolf_kategorien!$A$2:$B$11,2,FALSE),\": \",D3716,\", \",C3716)","v":"SW2: Waschbusch, Ursula"},{"$f":"VLOOKUP(A3716,bangolf_kategorien!$A$2:$B$11,2,FALSE)","v":"SW2"}]
["ob",67427,"Michael","Wassberg","MGC Bad Homburg vdH",{"$f":"CONCATENATE(VLOOKUP(A3717,bangolf_kategorien!$A$2:$B$11,2,FALSE),\": \",D3717,\", \",C3717)","v":"SM1: Wassberg, Michael"},{"$f":"VLOOKUP(A3717,bangolf_kategorien!$A$2:$B$11,2,FALSE)","v":"SM1"}]
["hs",34515,"Sven","Wassermann","1. MGC Kassel 1964",{"$f":"CONCATENATE(VLOOKUP(A3718,bangolf_kategorien!$A$2:$B$11,2,FALSE),\": \",D3718,\", \",C3718)","v":"H: Wassermann, Sven"},{"$f":"VLOOKUP(A3718,bangolf_kategorien!$A$2:$B$11,2,FALSE)","v":"H"}]
["dv",65513,"Brigitte","Waßmer","BSV Inzlingen 1979",{"$f":"CONCATENATE(VLOOKUP(A3719,bangolf_kategorien!$A$2:$B$11,2,FALSE),\": \",D3719,\", \",C3719)","v":"SW2: Waßmer, Brigitte"},{"$f":"VLOOKUP(A3719,bangolf_kategorien!$A$2:$B$11,2,FALSE)","v":"SW2"}]
["hv",37371,"Peter","Waßmer","BSV Inzlingen 1979",{"$f":"CONCATENATE(VLOOKUP(A3720,bangolf_kategorien!$A$2:$B$11,2,FALSE),\": \",D3720,\", \",C3720)","v":"SM2: Waßmer, Peter"},{"$f":"VLOOKUP(A3720,bangolf_kategorien!$A$2:$B$11,2,FALSE)","v":"SM2"}]
["hs",65862,"Dirk","Waxmann","MGC Traben-Trarbach",{"$f":"CONCATENATE(VLOOKUP(A3721,bangolf_kategorien!$A$2:$B$11,2,FALSE),\": \",D3721,\", \",C3721)","v":"H: Waxmann, Dirk"},{"$f":"VLOOKUP(A3721,bangolf_kategorien!$A$2:$B$11,2,FALSE)","v":"H"}]
["hs",65861,"Sven","Waxmann","MGC Traben-Trarbach",{"$f":"CONCATENATE(VLOOKUP(A3722,bangolf_kategorien!$A$2:$B$11,2,FALSE),\": \",D3722,\", \",C3722)","v":"H: Waxmann, Sven"},{"$f":"VLOOKUP(A3722,bangolf_kategorien!$A$2:$B$11,2,FALSE)","v":"H"}]
["ob",35116,"Bernd","Weber","VfM Bottrop",{"$f":"CONCATENATE(VLOOKUP(A3723,bangolf_kategorien!$A$2:$B$11,2,FALSE),\": \",D3723,\", \",C3723)","v":"SM1: Weber, Bernd"},{"$f":"VLOOKUP(A3723,bangolf_kategorien!$A$2:$B$11,2,FALSE)","v":"SM1"}]
["hs",23179,"Dennis","Weber","MGC Dortmund Syburg",{"$f":"CONCATENATE(VLOOKUP(A3724,bangolf_kategorien!$A$2:$B$11,2,FALSE),\": \",D3724,\", \",C3724)","v":"H: Weber, Dennis"},{"$f":"VLOOKUP(A3724,bangolf_kategorien!$A$2:$B$11,2,FALSE)","v":"H"}]
["hs",27911,"Dominik","Weber","Cobigolf-Verein Hamm 2019",{"$f":"CONCATENATE(VLOOKUP(A3725,bangolf_kategorien!$A$2:$B$11,2,FALSE),\": \",D3725,\", \",C3725)","v":"H: Weber, Dominik"},{"$f":"VLOOKUP(A3725,bangolf_kategorien!$A$2:$B$11,2,FALSE)","v":"H"}]
["fa",66765,"Elena","Weber","1. BGC Landshut",{"$f":"CONCATENATE(VLOOKUP(A3726,bangolf_kategorien!$A$2:$B$11,2,FALSE),\": \",D3726,\", \",C3726)","v":"SCHW: Weber, Elena"},{"$f":"VLOOKUP(A3726,bangolf_kategorien!$A$2:$B$11,2,FALSE)","v":"SCHW"}]
["ob",29622,"Hans-Dieter","Weber","MSC Bad Godesberg",{"$f":"CONCATENATE(VLOOKUP(A3727,bangolf_kategorien!$A$2:$B$11,2,FALSE),\": \",D3727,\", \",C3727)","v":"SM1: Weber, Hans-Dieter"},{"$f":"VLOOKUP(A3727,bangolf_kategorien!$A$2:$B$11,2,FALSE)","v":"SM1"}]
["hv",3114564,"Herbert","Weber","Hobby",{"$f":"CONCATENATE(VLOOKUP(A3728,bangolf_kategorien!$A$2:$B$11,2,FALSE),\": \",D3728,\", \",C3728)","v":"SM2: Weber, Herbert"},{"$f":"VLOOKUP(A3728,bangolf_kategorien!$A$2:$B$11,2,FALSE)","v":"SM2"}]
["fa",66887,"Janina","Weber","MSC Bad Godesberg",{"$f":"CONCATENATE(VLOOKUP(A3729,bangolf_kategorien!$A$2:$B$11,2,FALSE),\": \",D3729,\", \",C3729)","v":"SCHW: Weber, Janina"},{"$f":"VLOOKUP(A3729,bangolf_kategorien!$A$2:$B$11,2,FALSE)","v":"SCHW"}]
["og",66866,"Jutta","Weber","1. BGC Landshut",{"$f":"CONCATENATE(VLOOKUP(A3730,bangolf_kategorien!$A$2:$B$11,2,FALSE),\": \",D3730,\", \",C3730)","v":"SW1: Weber, Jutta"},{"$f":"VLOOKUP(A3730,bangolf_kategorien!$A$2:$B$11,2,FALSE)","v":"SW1"}]
["hv",6298,"Karl-Otto","Weber","BGC Bad Mergentheim",{"$f":"CONCATENATE(VLOOKUP(A3731,bangolf_kategorien!$A$2:$B$11,2,FALSE),\": \",D3731,\", \",C3731)","v":"SM2: Weber, Karl-Otto"},{"$f":"VLOOKUP(A3731,bangolf_kategorien!$A$2:$B$11,2,FALSE)","v":"SM2"}]
["hs",66802,"Marco","Weber","Miniaturgolf Sportclub Schriesheim",{"$f":"CONCATENATE(VLOOKUP(A3732,bangolf_kategorien!$A$2:$B$11,2,FALSE),\": \",D3732,\", \",C3732)","v":"H: Weber, Marco"},{"$f":"VLOOKUP(A3732,bangolf_kategorien!$A$2:$B$11,2,FALSE)","v":"H"}]
["og",38167,"Marianne","Weber","BGC Bad Mergentheim",{"$f":"CONCATENATE(VLOOKUP(A3733,bangolf_kategorien!$A$2:$B$11,2,FALSE),\": \",D3733,\", \",C3733)","v":"SW1: Weber, Marianne"},{"$f":"VLOOKUP(A3733,bangolf_kategorien!$A$2:$B$11,2,FALSE)","v":"SW1"}]
["ob",3117838,"Ralf","Wedekind","Hobby",{"$f":"CONCATENATE(VLOOKUP(A3734,bangolf_kategorien!$A$2:$B$11,2,FALSE),\": \",D3734,\", \",C3734)","v":"SM1: Wedekind, Ralf"},{"$f":"VLOOKUP(A3734,bangolf_kategorien!$A$2:$B$11,2,FALSE)","v":"SM1"}]
["ob",46606,"Sven","Wedmann","BGC Bad Nenndorf",{"$f":"CONCATENATE(VLOOKUP(A3735,bangolf_kategorien!$A$2:$B$11,2,FALSE),\": \",D3735,\", \",C3735)","v":"SM1: Wedmann, Sven"},{"$f":"VLOOKUP(A3735,bangolf_kategorien!$A$2:$B$11,2,FALSE)","v":"SM1"}]
["ob",35491,"Frank","Wege","BGV Backumer Tal Herten",{"$f":"CONCATENATE(VLOOKUP(A3736,bangolf_kategorien!$A$2:$B$11,2,FALSE),\": \",D3736,\", \",C3736)","v":"SM1: Wege, Frank"},{"$f":"VLOOKUP(A3736,bangolf_kategorien!$A$2:$B$11,2,FALSE)","v":"SM1"}]
["hv",33976,"Hugo","Wehlmann","MGC Sulzfeld",{"$f":"CONCATENATE(VLOOKUP(A3737,bangolf_kategorien!$A$2:$B$11,2,FALSE),\": \",D3737,\", \",C3737)","v":"SM2: Wehlmann, Hugo"},{"$f":"VLOOKUP(A3737,bangolf_kategorien!$A$2:$B$11,2,FALSE)","v":"SM2"}]
["ob",50935,"Markus","Wehmeyer","1. MGC Epe 1978",{"$f":"CONCATENATE(VLOOKUP(A3738,bangolf_kategorien!$A$2:$B$11,2,FALSE),\": \",D3738,\", \",C3738)","v":"SM1: Wehmeyer, Markus"},{"$f":"VLOOKUP(A3738,bangolf_kategorien!$A$2:$B$11,2,FALSE)","v":"SM1"}]
["hv",37139,"Dieter","Wehn","MGC \"Stahlquelle\" Bad Bocklet",{"$f":"CONCATENATE(VLOOKUP(A3739,bangolf_kategorien!$A$2:$B$11,2,FALSE),\": \",D3739,\", \",C3739)","v":"SM2: Wehn, Dieter"},{"$f":"VLOOKUP(A3739,bangolf_kategorien!$A$2:$B$11,2,FALSE)","v":"SM2"}]
["og",37252,"Martina","Wehner","HMC Büttgen",{"$f":"CONCATENATE(VLOOKUP(A3740,bangolf_kategorien!$A$2:$B$11,2,FALSE),\": \",D3740,\", \",C3740)","v":"SW1: Wehner, Martina"},{"$f":"VLOOKUP(A3740,bangolf_kategorien!$A$2:$B$11,2,FALSE)","v":"SW1"}]
["og",66720,"Petra","Wehner","Reinickendorfer MGC",{"$f":"CONCATENATE(VLOOKUP(A3741,bangolf_kategorien!$A$2:$B$11,2,FALSE),\": \",D3741,\", \",C3741)","v":"SW1: Wehner, Petra"},{"$f":"VLOOKUP(A3741,bangolf_kategorien!$A$2:$B$11,2,FALSE)","v":"SW1"}]
["ds",37133,"Svenja","Wehner","HMC Büttgen",{"$f":"CONCATENATE(VLOOKUP(A3742,bangolf_kategorien!$A$2:$B$11,2,FALSE),\": \",D3742,\", \",C3742)","v":"D: Wehner, Svenja"},{"$f":"VLOOKUP(A3742,bangolf_kategorien!$A$2:$B$11,2,FALSE)","v":"D"}]
["ob",27861,"Thomas","Wehner","HMC Büttgen",{"$f":"CONCATENATE(VLOOKUP(A3743,bangolf_kategorien!$A$2:$B$11,2,FALSE),\": \",D3743,\", \",C3743)","v":"SM1: Wehner, Thomas"},{"$f":"VLOOKUP(A3743,bangolf_kategorien!$A$2:$B$11,2,FALSE)","v":"SM1"}]
["ob",31003,"Uwe","Wehner","Reinickendorfer MGC",{"$f":"CONCATENATE(VLOOKUP(A3744,bangolf_kategorien!$A$2:$B$11,2,FALSE),\": \",D3744,\", \",C3744)","v":"SM1: Wehner, Uwe"},{"$f":"VLOOKUP(A3744,bangolf_kategorien!$A$2:$B$11,2,FALSE)","v":"SM1"}]
["ob",67384,"Christofer","Wehrheim","MGC Bad Homburg vdH",{"$f":"CONCATENATE(VLOOKUP(A3745,bangolf_kategorien!$A$2:$B$11,2,FALSE),\": \",D3745,\", \",C3745)","v":"SM1: Wehrheim, Christofer"},{"$f":"VLOOKUP(A3745,bangolf_kategorien!$A$2:$B$11,2,FALSE)","v":"SM1"}]
["hs",35645,"Thorsten","Wehrmann","MGC Bad Salzuflen",{"$f":"CONCATENATE(VLOOKUP(A3746,bangolf_kategorien!$A$2:$B$11,2,FALSE),\": \",D3746,\", \",C3746)","v":"H: Wehrmann, Thorsten"},{"$f":"VLOOKUP(A3746,bangolf_kategorien!$A$2:$B$11,2,FALSE)","v":"H"}]
["og",44007,"Petra","Weibbrecht","1. FMGC Lichtenfels 1961",{"$f":"CONCATENATE(VLOOKUP(A3747,bangolf_kategorien!$A$2:$B$11,2,FALSE),\": \",D3747,\", \",C3747)","v":"SW1: Weibbrecht, Petra"},{"$f":"VLOOKUP(A3747,bangolf_kategorien!$A$2:$B$11,2,FALSE)","v":"SW1"}]
["hv",17335,"Günter","Weide","1. MGC Kassel 1964",{"$f":"CONCATENATE(VLOOKUP(A3748,bangolf_kategorien!$A$2:$B$11,2,FALSE),\": \",D3748,\", \",C3748)","v":"SM2: Weide, Günter"},{"$f":"VLOOKUP(A3748,bangolf_kategorien!$A$2:$B$11,2,FALSE)","v":"SM2"}]
["hs",51729,"Andreas","Weidel","BGC Neutraubling",{"$f":"CONCATENATE(VLOOKUP(A3749,bangolf_kategorien!$A$2:$B$11,2,FALSE),\": \",D3749,\", \",C3749)","v":"H: Weidel, Andreas"},{"$f":"VLOOKUP(A3749,bangolf_kategorien!$A$2:$B$11,2,FALSE)","v":"H"}]
["hv",34555,"Bernhard","Weidemann","TSV Kücknitz Abt. Bahnengolf",{"$f":"CONCATENATE(VLOOKUP(A3750,bangolf_kategorien!$A$2:$B$11,2,FALSE),\": \",D3750,\", \",C3750)","v":"SM2: Weidemann, Bernhard"},{"$f":"VLOOKUP(A3750,bangolf_kategorien!$A$2:$B$11,2,FALSE)","v":"SM2"}]
["hs",32995,"Stefan","Weidl","MSG Kempten",{"$f":"CONCATENATE(VLOOKUP(A3751,bangolf_kategorien!$A$2:$B$11,2,FALSE),\": \",D3751,\", \",C3751)","v":"H: Weidl, Stefan"},{"$f":"VLOOKUP(A3751,bangolf_kategorien!$A$2:$B$11,2,FALSE)","v":"H"}]
["ob",44689,"Ingo","Weidner","1. BGC Hannover",{"$f":"CONCATENATE(VLOOKUP(A3752,bangolf_kategorien!$A$2:$B$11,2,FALSE),\": \",D3752,\", \",C3752)","v":"SM1: Weidner, Ingo"},{"$f":"VLOOKUP(A3752,bangolf_kategorien!$A$2:$B$11,2,FALSE)","v":"SM1"}]
["og",3106609,"Wenke","Weiermüller","Hobby",{"$f":"CONCATENATE(VLOOKUP(A3753,bangolf_kategorien!$A$2:$B$11,2,FALSE),\": \",D3753,\", \",C3753)","v":"SW1: Weiermüller, Wenke"},{"$f":"VLOOKUP(A3753,bangolf_kategorien!$A$2:$B$11,2,FALSE)","v":"SW1"}]
["dv",46277,"Barbara","Weigang","1. BGC Hannover",{"$f":"CONCATENATE(VLOOKUP(A3754,bangolf_kategorien!$A$2:$B$11,2,FALSE),\": \",D3754,\", \",C3754)","v":"SW2: Weigang, Barbara"},{"$f":"VLOOKUP(A3754,bangolf_kategorien!$A$2:$B$11,2,FALSE)","v":"SW2"}]
["hv",6605,"Klaus-Dieter","Weigang","1. BGC Hannover",{"$f":"CONCATENATE(VLOOKUP(A3755,bangolf_kategorien!$A$2:$B$11,2,FALSE),\": \",D3755,\", \",C3755)","v":"SM2: Weigang, Klaus-Dieter"},{"$f":"VLOOKUP(A3755,bangolf_kategorien!$A$2:$B$11,2,FALSE)","v":"SM2"}]
["hv",38019,"Karlheinz","Weigenand","MC Ilvesheim",{"$f":"CONCATENATE(VLOOKUP(A3756,bangolf_kategorien!$A$2:$B$11,2,FALSE),\": \",D3756,\", \",C3756)","v":"SM2: Weigenand, Karlheinz"},{"$f":"VLOOKUP(A3756,bangolf_kategorien!$A$2:$B$11,2,FALSE)","v":"SM2"}]
["hs",41248,"Christian","Weigl","BSV Inzlingen 1979",{"$f":"CONCATENATE(VLOOKUP(A3757,bangolf_kategorien!$A$2:$B$11,2,FALSE),\": \",D3757,\", \",C3757)","v":"H: Weigl, Christian"},{"$f":"VLOOKUP(A3757,bangolf_kategorien!$A$2:$B$11,2,FALSE)","v":"H"}]
["pa",67071,"Dominik","Weihs","BGS Hardenberg-Pötter",{"$f":"CONCATENATE(VLOOKUP(A3758,bangolf_kategorien!$A$2:$B$11,2,FALSE),\": \",D3758,\", \",C3758)","v":"SCHM: Weihs, Dominik"},{"$f":"VLOOKUP(A3758,bangolf_kategorien!$A$2:$B$11,2,FALSE)","v":"SCHM"}]
["dv",3488,"Inge","Weinberger","BGC Neutraubling",{"$f":"CONCATENATE(VLOOKUP(A3759,bangolf_kategorien!$A$2:$B$11,2,FALSE),\": \",D3759,\", \",C3759)","v":"SW2: Weinberger, Inge"},{"$f":"VLOOKUP(A3759,bangolf_kategorien!$A$2:$B$11,2,FALSE)","v":"SW2"}]
["ob",26955,"Reiner","Weinberger","BGC Neutraubling",{"$f":"CONCATENATE(VLOOKUP(A3760,bangolf_kategorien!$A$2:$B$11,2,FALSE),\": \",D3760,\", \",C3760)","v":"SM1: Weinberger, Reiner"},{"$f":"VLOOKUP(A3760,bangolf_kategorien!$A$2:$B$11,2,FALSE)","v":"SM1"}]
["hv",36154,"Reinhold","Weinberger","1. MGC Gelsenkirchen",{"$f":"CONCATENATE(VLOOKUP(A3761,bangolf_kategorien!$A$2:$B$11,2,FALSE),\": \",D3761,\", \",C3761)","v":"SM2: Weinberger, Reinhold"},{"$f":"VLOOKUP(A3761,bangolf_kategorien!$A$2:$B$11,2,FALSE)","v":"SM2"}]
["dv",36153,"Sabine","Weinberger","1. MGC Gelsenkirchen",{"$f":"CONCATENATE(VLOOKUP(A3762,bangolf_kategorien!$A$2:$B$11,2,FALSE),\": \",D3762,\", \",C3762)","v":"SW2: Weinberger, Sabine"},{"$f":"VLOOKUP(A3762,bangolf_kategorien!$A$2:$B$11,2,FALSE)","v":"SW2"}]
["dv",40360,"Martina","Weinhold","1. BGC Leipzig",{"$f":"CONCATENATE(VLOOKUP(A3763,bangolf_kategorien!$A$2:$B$11,2,FALSE),\": \",D3763,\", \",C3763)","v":"SW2: Weinhold, Martina"},{"$f":"VLOOKUP(A3763,bangolf_kategorien!$A$2:$B$11,2,FALSE)","v":"SW2"}]
["hs",35538,"Stefan","Weinhold","1. BGC Wolfsburg",{"$f":"CONCATENATE(VLOOKUP(A3764,bangolf_kategorien!$A$2:$B$11,2,FALSE),\": \",D3764,\", \",C3764)","v":"H: Weinhold, Stefan"},{"$f":"VLOOKUP(A3764,bangolf_kategorien!$A$2:$B$11,2,FALSE)","v":"H"}]
["dv",62043,"Helga","Weinstein","KGC  Waldstadion Frankfurt am Main",{"$f":"CONCATENATE(VLOOKUP(A3765,bangolf_kategorien!$A$2:$B$11,2,FALSE),\": \",D3765,\", \",C3765)","v":"SW2: Weinstein, Helga"},{"$f":"VLOOKUP(A3765,bangolf_kategorien!$A$2:$B$11,2,FALSE)","v":"SW2"}]
["ds",36594,"Claudia","Weinzierl","1. BGC Landshut",{"$f":"CONCATENATE(VLOOKUP(A3766,bangolf_kategorien!$A$2:$B$11,2,FALSE),\": \",D3766,\", \",C3766)","v":"D: Weinzierl, Claudia"},{"$f":"VLOOKUP(A3766,bangolf_kategorien!$A$2:$B$11,2,FALSE)","v":"D"}]
["ob",41137,"Jörg","Weirich","MSC Bensheim-Auerbach",{"$f":"CONCATENATE(VLOOKUP(A3767,bangolf_kategorien!$A$2:$B$11,2,FALSE),\": \",D3767,\", \",C3767)","v":"SM1: Weirich, Jörg"},{"$f":"VLOOKUP(A3767,bangolf_kategorien!$A$2:$B$11,2,FALSE)","v":"SM1"}]
["hv",17988,"Norbert","Weis","BGC Schweinfurt",{"$f":"CONCATENATE(VLOOKUP(A3768,bangolf_kategorien!$A$2:$B$11,2,FALSE),\": \",D3768,\", \",C3768)","v":"SM2: Weis, Norbert"},{"$f":"VLOOKUP(A3768,bangolf_kategorien!$A$2:$B$11,2,FALSE)","v":"SM2"}]
["ob",35006,"Ralf","Weis","1. Münchener MGC",{"$f":"CONCATENATE(VLOOKUP(A3769,bangolf_kategorien!$A$2:$B$11,2,FALSE),\": \",D3769,\", \",C3769)","v":"SM1: Weis, Ralf"},{"$f":"VLOOKUP(A3769,bangolf_kategorien!$A$2:$B$11,2,FALSE)","v":"SM1"}]
["hv",48288,"Franz","Weiser","MGC Murnau am Staffelsee",{"$f":"CONCATENATE(VLOOKUP(A3770,bangolf_kategorien!$A$2:$B$11,2,FALSE),\": \",D3770,\", \",C3770)","v":"SM2: Weiser, Franz"},{"$f":"VLOOKUP(A3770,bangolf_kategorien!$A$2:$B$11,2,FALSE)","v":"SM2"}]
["og",48289,"Silvia","Weiser","MGC Murnau am Staffelsee",{"$f":"CONCATENATE(VLOOKUP(A3771,bangolf_kategorien!$A$2:$B$11,2,FALSE),\": \",D3771,\", \",C3771)","v":"SW1: Weiser, Silvia"},{"$f":"VLOOKUP(A3771,bangolf_kategorien!$A$2:$B$11,2,FALSE)","v":"SW1"}]
["hv",9244,"Wolfgang","Weiser","TSV Pfungstadt Abt. Bahnengolf",{"$f":"CONCATENATE(VLOOKUP(A3772,bangolf_kategorien!$A$2:$B$11,2,FALSE),\": \",D3772,\", \",C3772)","v":"SM2: Weiser, Wolfgang"},{"$f":"VLOOKUP(A3772,bangolf_kategorien!$A$2:$B$11,2,FALSE)","v":"SM2"}]
["hj",66719,"Christian","Weiß","TV Niederstetten 1862  Abt. Minigolf",{"$f":"CONCATENATE(VLOOKUP(A3773,bangolf_kategorien!$A$2:$B$11,2,FALSE),\": \",D3773,\", \",C3773)","v":"JM: Weiß, Christian"},{"$f":"VLOOKUP(A3773,bangolf_kategorien!$A$2:$B$11,2,FALSE)","v":"JM"}]
["pa",67276,"Damon","Weiß","1. MGC Mannheim 1968",{"$f":"CONCATENATE(VLOOKUP(A3774,bangolf_kategorien!$A$2:$B$11,2,FALSE),\": \",D3774,\", \",C3774)","v":"SCHM: Weiß, Damon"},{"$f":"VLOOKUP(A3774,bangolf_kategorien!$A$2:$B$11,2,FALSE)","v":"SCHM"}]
["og",38112,"Jeannette","Weiß","1. MGC Mannheim 1968",{"$f":"CONCATENATE(VLOOKUP(A3775,bangolf_kategorien!$A$2:$B$11,2,FALSE),\": \",D3775,\", \",C3775)","v":"SW1: Weiß, Jeannette"},{"$f":"VLOOKUP(A3775,bangolf_kategorien!$A$2:$B$11,2,FALSE)","v":"SW1"}]
["fa",67558,"Maike","Weiß","1. Münchener MGC",{"$f":"CONCATENATE(VLOOKUP(A3776,bangolf_kategorien!$A$2:$B$11,2,FALSE),\": \",D3776,\", \",C3776)","v":"SCHW: Weiß, Maike"},{"$f":"VLOOKUP(A3776,bangolf_kategorien!$A$2:$B$11,2,FALSE)","v":"SCHW"}]
["ob",38113,"Michael","Weiß","1. MGC Mannheim 1968",{"$f":"CONCATENATE(VLOOKUP(A3777,bangolf_kategorien!$A$2:$B$11,2,FALSE),\": \",D3777,\", \",C3777)","v":"SM1: Weiß, Michael"},{"$f":"VLOOKUP(A3777,bangolf_kategorien!$A$2:$B$11,2,FALSE)","v":"SM1"}]
["ob",36070,"Rolf","Weiß","TV Niederstetten 1862  Abt. Minigolf",{"$f":"CONCATENATE(VLOOKUP(A3778,bangolf_kategorien!$A$2:$B$11,2,FALSE),\": \",D3778,\", \",C3778)","v":"SM1: Weiß, Rolf"},{"$f":"VLOOKUP(A3778,bangolf_kategorien!$A$2:$B$11,2,FALSE)","v":"SM1"}]
["hs",38114,"Steven","Weiß","1. MGC Mainz",{"$f":"CONCATENATE(VLOOKUP(A3779,bangolf_kategorien!$A$2:$B$11,2,FALSE),\": \",D3779,\", \",C3779)","v":"H: Weiß, Steven"},{"$f":"VLOOKUP(A3779,bangolf_kategorien!$A$2:$B$11,2,FALSE)","v":"H"}]
["og",67571,"Susanne","Weiß","1. Münchener MGC",{"$f":"CONCATENATE(VLOOKUP(A3780,bangolf_kategorien!$A$2:$B$11,2,FALSE),\": \",D3780,\", \",C3780)","v":"SW1: Weiß, Susanne"},{"$f":"VLOOKUP(A3780,bangolf_kategorien!$A$2:$B$11,2,FALSE)","v":"SW1"}]
["hs",44173,"Stefan","Weißenberger","TG Höchberg von 1862 Bahnengolf",{"$f":"CONCATENATE(VLOOKUP(A3781,bangolf_kategorien!$A$2:$B$11,2,FALSE),\": \",D3781,\", \",C3781)","v":"H: Weißenberger, Stefan"},{"$f":"VLOOKUP(A3781,bangolf_kategorien!$A$2:$B$11,2,FALSE)","v":"H"}]
["ds",30307,"Angela","Weißer","BGC Heilbronn",{"$f":"CONCATENATE(VLOOKUP(A3782,bangolf_kategorien!$A$2:$B$11,2,FALSE),\": \",D3782,\", \",C3782)","v":"D: Weißer, Angela"},{"$f":"VLOOKUP(A3782,bangolf_kategorien!$A$2:$B$11,2,FALSE)","v":"D"}]
["ob",35784,"Stephan","Weißer","BGC Heilbronn",{"$f":"CONCATENATE(VLOOKUP(A3783,bangolf_kategorien!$A$2:$B$11,2,FALSE),\": \",D3783,\", \",C3783)","v":"SM1: Weißer, Stephan"},{"$f":"VLOOKUP(A3783,bangolf_kategorien!$A$2:$B$11,2,FALSE)","v":"SM1"}]
["hs",33604,"Henning","Weißmann","1. MGC 1970 Göttingen",{"$f":"CONCATENATE(VLOOKUP(A3784,bangolf_kategorien!$A$2:$B$11,2,FALSE),\": \",D3784,\", \",C3784)","v":"H: Weißmann, Henning"},{"$f":"VLOOKUP(A3784,bangolf_kategorien!$A$2:$B$11,2,FALSE)","v":"H"}]
["pa",3326459,"Fabrice","Weithase","Hobby",{"$f":"CONCATENATE(VLOOKUP(A3785,bangolf_kategorien!$A$2:$B$11,2,FALSE),\": \",D3785,\", \",C3785)","v":"SCHM: Weithase, Fabrice"},{"$f":"VLOOKUP(A3785,bangolf_kategorien!$A$2:$B$11,2,FALSE)","v":"SCHM"}]
["hs",34150,"Dennis","Welpmann","MC Tigers Künsebeck",{"$f":"CONCATENATE(VLOOKUP(A3786,bangolf_kategorien!$A$2:$B$11,2,FALSE),\": \",D3786,\", \",C3786)","v":"H: Welpmann, Dennis"},{"$f":"VLOOKUP(A3786,bangolf_kategorien!$A$2:$B$11,2,FALSE)","v":"H"}]
["hs",37781,"Patrick","Welpmann","MC Tigers Künsebeck",{"$f":"CONCATENATE(VLOOKUP(A3787,bangolf_kategorien!$A$2:$B$11,2,FALSE),\": \",D3787,\", \",C3787)","v":"H: Welpmann, Patrick"},{"$f":"VLOOKUP(A3787,bangolf_kategorien!$A$2:$B$11,2,FALSE)","v":"H"}]
["og",67580,"Daniela","Welz","MGC Rot-Weiß Wanne-Eickel",{"$f":"CONCATENATE(VLOOKUP(A3788,bangolf_kategorien!$A$2:$B$11,2,FALSE),\": \",D3788,\", \",C3788)","v":"SW1: Welz, Daniela"},{"$f":"VLOOKUP(A3788,bangolf_kategorien!$A$2:$B$11,2,FALSE)","v":"SW1"}]
["ob",67014,"Ralf","Wendland","1. CGC Blau-Gelb Grötzingen",{"$f":"CONCATENATE(VLOOKUP(A3789,bangolf_kategorien!$A$2:$B$11,2,FALSE),\": \",D3789,\", \",C3789)","v":"SM1: Wendland, Ralf"},{"$f":"VLOOKUP(A3789,bangolf_kategorien!$A$2:$B$11,2,FALSE)","v":"SM1"}]
["ob",49256,"Dieter","Wendlandt","MC \"Möve\" Cuxhaven-Sahlenburg",{"$f":"CONCATENATE(VLOOKUP(A3790,bangolf_kategorien!$A$2:$B$11,2,FALSE),\": \",D3790,\", \",C3790)","v":"SM1: Wendlandt, Dieter"},{"$f":"VLOOKUP(A3790,bangolf_kategorien!$A$2:$B$11,2,FALSE)","v":"SM1"}]
["dj",65834,"Amelie","Wendt","MSG Kempten",{"$f":"CONCATENATE(VLOOKUP(A3791,bangolf_kategorien!$A$2:$B$11,2,FALSE),\": \",D3791,\", \",C3791)","v":"JW: Wendt, Amelie"},{"$f":"VLOOKUP(A3791,bangolf_kategorien!$A$2:$B$11,2,FALSE)","v":"JW"}]
["og",66014,"Elfi","Wendt","BGC Illertissen",{"$f":"CONCATENATE(VLOOKUP(A3792,bangolf_kategorien!$A$2:$B$11,2,FALSE),\": \",D3792,\", \",C3792)","v":"SW1: Wendt, Elfi"},{"$f":"VLOOKUP(A3792,bangolf_kategorien!$A$2:$B$11,2,FALSE)","v":"SW1"}]
["hv",38605,"Klaus","Wendt","MSG Kempten",{"$f":"CONCATENATE(VLOOKUP(A3793,bangolf_kategorien!$A$2:$B$11,2,FALSE),\": \",D3793,\", \",C3793)","v":"SM2: Wendt, Klaus"},{"$f":"VLOOKUP(A3793,bangolf_kategorien!$A$2:$B$11,2,FALSE)","v":"SM2"}]
["og",35896,"Gottholde","Weniger","CGC Rauschenberg",{"$f":"CONCATENATE(VLOOKUP(A3794,bangolf_kategorien!$A$2:$B$11,2,FALSE),\": \",D3794,\", \",C3794)","v":"SW1: Weniger, Gottholde"},{"$f":"VLOOKUP(A3794,bangolf_kategorien!$A$2:$B$11,2,FALSE)","v":"SW1"}]
["hj",66225,"Timo","Wenner","1. CGC Blau-Gelb Grötzingen",{"$f":"CONCATENATE(VLOOKUP(A3795,bangolf_kategorien!$A$2:$B$11,2,FALSE),\": \",D3795,\", \",C3795)","v":"JM: Wenner, Timo"},{"$f":"VLOOKUP(A3795,bangolf_kategorien!$A$2:$B$11,2,FALSE)","v":"JM"}]
["hv",32952,"Henry","Wennrich","SC Bad Münder Abt. Bahnengolf",{"$f":"CONCATENATE(VLOOKUP(A3796,bangolf_kategorien!$A$2:$B$11,2,FALSE),\": \",D3796,\", \",C3796)","v":"SM2: Wennrich, Henry"},{"$f":"VLOOKUP(A3796,bangolf_kategorien!$A$2:$B$11,2,FALSE)","v":"SM2"}]
["hs",37949,"Dominik","Wentzel","Hamburger MC von 1965",{"$f":"CONCATENATE(VLOOKUP(A3797,bangolf_kategorien!$A$2:$B$11,2,FALSE),\": \",D3797,\", \",C3797)","v":"H: Wentzel, Dominik"},{"$f":"VLOOKUP(A3797,bangolf_kategorien!$A$2:$B$11,2,FALSE)","v":"H"}]
["hs",37916,"Marcel","Wentzel","VfL Lohbrügge Abt. Bahnengolf",{"$f":"CONCATENATE(VLOOKUP(A3798,bangolf_kategorien!$A$2:$B$11,2,FALSE),\": \",D3798,\", \",C3798)","v":"H: Wentzel, Marcel"},{"$f":"VLOOKUP(A3798,bangolf_kategorien!$A$2:$B$11,2,FALSE)","v":"H"}]
["dv",37917,"Veronika","Wentzel","VfL Lohbrügge Abt. Bahnengolf",{"$f":"CONCATENATE(VLOOKUP(A3799,bangolf_kategorien!$A$2:$B$11,2,FALSE),\": \",D3799,\", \",C3799)","v":"SW2: Wentzel, Veronika"},{"$f":"VLOOKUP(A3799,bangolf_kategorien!$A$2:$B$11,2,FALSE)","v":"SW2"}]
["hs",31459,"Felix","Wenz","BGSV Kerpen",{"$f":"CONCATENATE(VLOOKUP(A3800,bangolf_kategorien!$A$2:$B$11,2,FALSE),\": \",D3800,\", \",C3800)","v":"H: Wenz, Felix"},{"$f":"VLOOKUP(A3800,bangolf_kategorien!$A$2:$B$11,2,FALSE)","v":"H"}]
["hs",32089,"Tobias","Wenz","BGSV Kerpen",{"$f":"CONCATENATE(VLOOKUP(A3801,bangolf_kategorien!$A$2:$B$11,2,FALSE),\": \",D3801,\", \",C3801)","v":"H: Wenz, Tobias"},{"$f":"VLOOKUP(A3801,bangolf_kategorien!$A$2:$B$11,2,FALSE)","v":"H"}]
["hv",3211945,"Franz","Wenzel","Hobby",{"$f":"CONCATENATE(VLOOKUP(A3802,bangolf_kategorien!$A$2:$B$11,2,FALSE),\": \",D3802,\", \",C3802)","v":"SM2: Wenzel, Franz"},{"$f":"VLOOKUP(A3802,bangolf_kategorien!$A$2:$B$11,2,FALSE)","v":"SM2"}]
["hv",66221,"Norbert","Wenzel","1. BGC Hannover",{"$f":"CONCATENATE(VLOOKUP(A3803,bangolf_kategorien!$A$2:$B$11,2,FALSE),\": \",D3803,\", \",C3803)","v":"SM2: Wenzel, Norbert"},{"$f":"VLOOKUP(A3803,bangolf_kategorien!$A$2:$B$11,2,FALSE)","v":"SM2"}]
["hv",5994,"Karl","Wenzke","MGC \"Stahlquelle\" Bad Bocklet",{"$f":"CONCATENATE(VLOOKUP(A3804,bangolf_kategorien!$A$2:$B$11,2,FALSE),\": \",D3804,\", \",C3804)","v":"SM2: Wenzke, Karl"},{"$f":"VLOOKUP(A3804,bangolf_kategorien!$A$2:$B$11,2,FALSE)","v":"SM2"}]
["hs",35061,"Ulrich","Wernecke","MGC Bad Oldesloe",{"$f":"CONCATENATE(VLOOKUP(A3805,bangolf_kategorien!$A$2:$B$11,2,FALSE),\": \",D3805,\", \",C3805)","v":"H: Wernecke, Ulrich"},{"$f":"VLOOKUP(A3805,bangolf_kategorien!$A$2:$B$11,2,FALSE)","v":"H"}]
["hv",37605,"Uwe","Wernecke","MGC Bad Oldesloe",{"$f":"CONCATENATE(VLOOKUP(A3806,bangolf_kategorien!$A$2:$B$11,2,FALSE),\": \",D3806,\", \",C3806)","v":"SM2: Wernecke, Uwe"},{"$f":"VLOOKUP(A3806,bangolf_kategorien!$A$2:$B$11,2,FALSE)","v":"SM2"}]
["ob",31120,"Hans Jürgen","Werner","MSC Bensheim-Auerbach",{"$f":"CONCATENATE(VLOOKUP(A3807,bangolf_kategorien!$A$2:$B$11,2,FALSE),\": \",D3807,\", \",C3807)","v":"SM1: Werner, Hans Jürgen"},{"$f":"VLOOKUP(A3807,bangolf_kategorien!$A$2:$B$11,2,FALSE)","v":"SM1"}]
["hs",36311,"Lars","Werner","MGC Freizeitzentrum Biebertal",{"$f":"CONCATENATE(VLOOKUP(A3808,bangolf_kategorien!$A$2:$B$11,2,FALSE),\": \",D3808,\", \",C3808)","v":"H: Werner, Lars"},{"$f":"VLOOKUP(A3808,bangolf_kategorien!$A$2:$B$11,2,FALSE)","v":"H"}]
["ds",37386,"Simone","Werner","MGC Murnau am Staffelsee",{"$f":"CONCATENATE(VLOOKUP(A3809,bangolf_kategorien!$A$2:$B$11,2,FALSE),\": \",D3809,\", \",C3809)","v":"D: Werner, Simone"},{"$f":"VLOOKUP(A3809,bangolf_kategorien!$A$2:$B$11,2,FALSE)","v":"D"}]
["ds",35666,"Jana","Wernicke","BGC Neutraubling",{"$f":"CONCATENATE(VLOOKUP(A3810,bangolf_kategorien!$A$2:$B$11,2,FALSE),\": \",D3810,\", \",C3810)","v":"D: Wernicke, Jana"},{"$f":"VLOOKUP(A3810,bangolf_kategorien!$A$2:$B$11,2,FALSE)","v":"D"}]
["ob",28786,"Karlheinz","Werres","1.KGC Mönchengladbach",{"$f":"CONCATENATE(VLOOKUP(A3811,bangolf_kategorien!$A$2:$B$11,2,FALSE),\": \",D3811,\", \",C3811)","v":"SM1: Werres, Karlheinz"},{"$f":"VLOOKUP(A3811,bangolf_kategorien!$A$2:$B$11,2,FALSE)","v":"SM1"}]
["hs",36292,"Eike-Fabian","Wesemann","BGC Diepholz",{"$f":"CONCATENATE(VLOOKUP(A3812,bangolf_kategorien!$A$2:$B$11,2,FALSE),\": \",D3812,\", \",C3812)","v":"H: Wesemann, Eike-Fabian"},{"$f":"VLOOKUP(A3812,bangolf_kategorien!$A$2:$B$11,2,FALSE)","v":"H"}]
["hs",35546,"Florian","Wesemann","BGC Diepholz",{"$f":"CONCATENATE(VLOOKUP(A3813,bangolf_kategorien!$A$2:$B$11,2,FALSE),\": \",D3813,\", \",C3813)","v":"H: Wesemann, Florian"},{"$f":"VLOOKUP(A3813,bangolf_kategorien!$A$2:$B$11,2,FALSE)","v":"H"}]
["hs",50388,"Christoph","Wess","MGC putter Künzell 1970",{"$f":"CONCATENATE(VLOOKUP(A3814,bangolf_kategorien!$A$2:$B$11,2,FALSE),\": \",D3814,\", \",C3814)","v":"H: Wess, Christoph"},{"$f":"VLOOKUP(A3814,bangolf_kategorien!$A$2:$B$11,2,FALSE)","v":"H"}]
["ob",43598,"Volker","Wesselmäcking","TSV Salzgitter Abt. Bahnengolf",{"$f":"CONCATENATE(VLOOKUP(A3815,bangolf_kategorien!$A$2:$B$11,2,FALSE),\": \",D3815,\", \",C3815)","v":"SM1: Wesselmäcking, Volker"},{"$f":"VLOOKUP(A3815,bangolf_kategorien!$A$2:$B$11,2,FALSE)","v":"SM1"}]
["hv",37466,"Klaus","Wessendorf","MC Georgsmarienhütte",{"$f":"CONCATENATE(VLOOKUP(A3816,bangolf_kategorien!$A$2:$B$11,2,FALSE),\": \",D3816,\", \",C3816)","v":"SM2: Wessendorf, Klaus"},{"$f":"VLOOKUP(A3816,bangolf_kategorien!$A$2:$B$11,2,FALSE)","v":"SM2"}]
["hv",66199,"Stefan","Westerfeld","VfB Osnabrück",{"$f":"CONCATENATE(VLOOKUP(A3817,bangolf_kategorien!$A$2:$B$11,2,FALSE),\": \",D3817,\", \",C3817)","v":"SM2: Westerfeld, Stefan"},{"$f":"VLOOKUP(A3817,bangolf_kategorien!$A$2:$B$11,2,FALSE)","v":"SM2"}]
["ob",34970,"Lars","Westermann","1. Porzer MGC Grün-Weiß 1969",{"$f":"CONCATENATE(VLOOKUP(A3818,bangolf_kategorien!$A$2:$B$11,2,FALSE),\": \",D3818,\", \",C3818)","v":"SM1: Westermann, Lars"},{"$f":"VLOOKUP(A3818,bangolf_kategorien!$A$2:$B$11,2,FALSE)","v":"SM1"}]
["ds",67407,"Stefanie","Westerwelle","BV Sennestadt",{"$f":"CONCATENATE(VLOOKUP(A3819,bangolf_kategorien!$A$2:$B$11,2,FALSE),\": \",D3819,\", \",C3819)","v":"D: Westerwelle, Stefanie"},{"$f":"VLOOKUP(A3819,bangolf_kategorien!$A$2:$B$11,2,FALSE)","v":"D"}]
["hv",66696,"Rainer","Wettstädt","MV Lankwitzer Dragons",{"$f":"CONCATENATE(VLOOKUP(A3820,bangolf_kategorien!$A$2:$B$11,2,FALSE),\": \",D3820,\", \",C3820)","v":"SM2: Wettstädt, Rainer"},{"$f":"VLOOKUP(A3820,bangolf_kategorien!$A$2:$B$11,2,FALSE)","v":"SM2"}]
["og",31216,"Cornelia","Wetzel","1. CGC Blau-Gelb Grötzingen",{"$f":"CONCATENATE(VLOOKUP(A3821,bangolf_kategorien!$A$2:$B$11,2,FALSE),\": \",D3821,\", \",C3821)","v":"SW1: Wetzel, Cornelia"},{"$f":"VLOOKUP(A3821,bangolf_kategorien!$A$2:$B$11,2,FALSE)","v":"SW1"}]
["og",44673,"Heike","Wetzel","BGC Dormagen",{"$f":"CONCATENATE(VLOOKUP(A3822,bangolf_kategorien!$A$2:$B$11,2,FALSE),\": \",D3822,\", \",C3822)","v":"SW1: Wetzel, Heike"},{"$f":"VLOOKUP(A3822,bangolf_kategorien!$A$2:$B$11,2,FALSE)","v":"SW1"}]
["hs",37659,"Jonas","Wetzel","BGC Dormagen",{"$f":"CONCATENATE(VLOOKUP(A3823,bangolf_kategorien!$A$2:$B$11,2,FALSE),\": \",D3823,\", \",C3823)","v":"H: Wetzel, Jonas"},{"$f":"VLOOKUP(A3823,bangolf_kategorien!$A$2:$B$11,2,FALSE)","v":"H"}]
["ob",31721,"Klaus","Wetzel","BGC Dormagen",{"$f":"CONCATENATE(VLOOKUP(A3824,bangolf_kategorien!$A$2:$B$11,2,FALSE),\": \",D3824,\", \",C3824)","v":"SM1: Wetzel, Klaus"},{"$f":"VLOOKUP(A3824,bangolf_kategorien!$A$2:$B$11,2,FALSE)","v":"SM1"}]
["ob",42610,"Markus","Wetzel","BGC Dormagen",{"$f":"CONCATENATE(VLOOKUP(A3825,bangolf_kategorien!$A$2:$B$11,2,FALSE),\": \",D3825,\", \",C3825)","v":"SM1: Wetzel, Markus"},{"$f":"VLOOKUP(A3825,bangolf_kategorien!$A$2:$B$11,2,FALSE)","v":"SM1"}]
["hv",5581,"Paul","Wetzel","1. MGC Süßen",{"$f":"CONCATENATE(VLOOKUP(A3826,bangolf_kategorien!$A$2:$B$11,2,FALSE),\": \",D3826,\", \",C3826)","v":"SM2: Wetzel, Paul"},{"$f":"VLOOKUP(A3826,bangolf_kategorien!$A$2:$B$11,2,FALSE)","v":"SM2"}]
["hv",3309,"Christian","Weyandt","SSV Ulm 1846 Abt. Bahnengolf",{"$f":"CONCATENATE(VLOOKUP(A3827,bangolf_kategorien!$A$2:$B$11,2,FALSE),\": \",D3827,\", \",C3827)","v":"SM2: Weyandt, Christian"},{"$f":"VLOOKUP(A3827,bangolf_kategorien!$A$2:$B$11,2,FALSE)","v":"SM2"}]
["ob",46965,"Stefan","Weyers","BGC Uerdingen",{"$f":"CONCATENATE(VLOOKUP(A3828,bangolf_kategorien!$A$2:$B$11,2,FALSE),\": \",D3828,\", \",C3828)","v":"SM1: Weyers, Stefan"},{"$f":"VLOOKUP(A3828,bangolf_kategorien!$A$2:$B$11,2,FALSE)","v":"SM1"}]
["ob",29149,"Frank","Weygold","1. MGC Ladenburg",{"$f":"CONCATENATE(VLOOKUP(A3829,bangolf_kategorien!$A$2:$B$11,2,FALSE),\": \",D3829,\", \",C3829)","v":"SM1: Weygold, Frank"},{"$f":"VLOOKUP(A3829,bangolf_kategorien!$A$2:$B$11,2,FALSE)","v":"SM1"}]
["ob",27809,"Thomas","Weygoldt","1. MGC Ladenburg",{"$f":"CONCATENATE(VLOOKUP(A3830,bangolf_kategorien!$A$2:$B$11,2,FALSE),\": \",D3830,\", \",C3830)","v":"SM1: Weygoldt, Thomas"},{"$f":"VLOOKUP(A3830,bangolf_kategorien!$A$2:$B$11,2,FALSE)","v":"SM1"}]
["ob",45696,"Andreas","Wiards","Cobigolf-Verein Hamm 2019",{"$f":"CONCATENATE(VLOOKUP(A3831,bangolf_kategorien!$A$2:$B$11,2,FALSE),\": \",D3831,\", \",C3831)","v":"SM1: Wiards, Andreas"},{"$f":"VLOOKUP(A3831,bangolf_kategorien!$A$2:$B$11,2,FALSE)","v":"SM1"}]
["ob",43497,"Marcus","Wiche","MSC Bad Godesberg",{"$f":"CONCATENATE(VLOOKUP(A3832,bangolf_kategorien!$A$2:$B$11,2,FALSE),\": \",D3832,\", \",C3832)","v":"SM1: Wiche, Marcus"},{"$f":"VLOOKUP(A3832,bangolf_kategorien!$A$2:$B$11,2,FALSE)","v":"SM1"}]
["hv",3808,"Peter","Wichmann","Niendorfer MC v. 1963",{"$f":"CONCATENATE(VLOOKUP(A3833,bangolf_kategorien!$A$2:$B$11,2,FALSE),\": \",D3833,\", \",C3833)","v":"SM2: Wichmann, Peter"},{"$f":"VLOOKUP(A3833,bangolf_kategorien!$A$2:$B$11,2,FALSE)","v":"SM2"}]
["hs",38324,"Daniel","Wick","MGC Traben-Trarbach",{"$f":"CONCATENATE(VLOOKUP(A3834,bangolf_kategorien!$A$2:$B$11,2,FALSE),\": \",D3834,\", \",C3834)","v":"H: Wick, Daniel"},{"$f":"VLOOKUP(A3834,bangolf_kategorien!$A$2:$B$11,2,FALSE)","v":"H"}]
["hv",30278,"Frank","Wickel","MGC Heven",{"$f":"CONCATENATE(VLOOKUP(A3835,bangolf_kategorien!$A$2:$B$11,2,FALSE),\": \",D3835,\", \",C3835)","v":"SM2: Wickel, Frank"},{"$f":"VLOOKUP(A3835,bangolf_kategorien!$A$2:$B$11,2,FALSE)","v":"SM2"}]
["ds",33510,"Melanie","Wickel-Paffrath","MGC Heven",{"$f":"CONCATENATE(VLOOKUP(A3836,bangolf_kategorien!$A$2:$B$11,2,FALSE),\": \",D3836,\", \",C3836)","v":"D: Wickel-Paffrath, Melanie"},{"$f":"VLOOKUP(A3836,bangolf_kategorien!$A$2:$B$11,2,FALSE)","v":"D"}]
["ob",41894,"Bernd","Widera","1. BGC Wolfsburg",{"$f":"CONCATENATE(VLOOKUP(A3837,bangolf_kategorien!$A$2:$B$11,2,FALSE),\": \",D3837,\", \",C3837)","v":"SM1: Widera, Bernd"},{"$f":"VLOOKUP(A3837,bangolf_kategorien!$A$2:$B$11,2,FALSE)","v":"SM1"}]
["hv",30082,"Peter","Widmair","MGC Bad Feilnbach",{"$f":"CONCATENATE(VLOOKUP(A3838,bangolf_kategorien!$A$2:$B$11,2,FALSE),\": \",D3838,\", \",C3838)","v":"SM2: Widmair, Peter"},{"$f":"VLOOKUP(A3838,bangolf_kategorien!$A$2:$B$11,2,FALSE)","v":"SM2"}]
["hs",47446,"Roland","Widmair","MGC Bad Feilnbach",{"$f":"CONCATENATE(VLOOKUP(A3839,bangolf_kategorien!$A$2:$B$11,2,FALSE),\": \",D3839,\", \",C3839)","v":"H: Widmair, Roland"},{"$f":"VLOOKUP(A3839,bangolf_kategorien!$A$2:$B$11,2,FALSE)","v":"H"}]
["dv",65464,"Christine","Wiebauer","1. MGC Ludwigshafen",{"$f":"CONCATENATE(VLOOKUP(A3840,bangolf_kategorien!$A$2:$B$11,2,FALSE),\": \",D3840,\", \",C3840)","v":"SW2: Wiebauer, Christine"},{"$f":"VLOOKUP(A3840,bangolf_kategorien!$A$2:$B$11,2,FALSE)","v":"SW2"}]
["hv",37722,"Peter","Wiebauer","1. MGC Ludwigshafen",{"$f":"CONCATENATE(VLOOKUP(A3841,bangolf_kategorien!$A$2:$B$11,2,FALSE),\": \",D3841,\", \",C3841)","v":"SM2: Wiebauer, Peter"},{"$f":"VLOOKUP(A3841,bangolf_kategorien!$A$2:$B$11,2,FALSE)","v":"SM2"}]
["hv",32946,"Friedrich","Wiebusch","SC Wermelskirchen 1976",{"$f":"CONCATENATE(VLOOKUP(A3842,bangolf_kategorien!$A$2:$B$11,2,FALSE),\": \",D3842,\", \",C3842)","v":"SM2: Wiebusch, Friedrich"},{"$f":"VLOOKUP(A3842,bangolf_kategorien!$A$2:$B$11,2,FALSE)","v":"SM2"}]
["hv",61922,"Herbert","Wieck","VfL Lüneburg Abt. Bahnengolf",{"$f":"CONCATENATE(VLOOKUP(A3843,bangolf_kategorien!$A$2:$B$11,2,FALSE),\": \",D3843,\", \",C3843)","v":"SM2: Wieck, Herbert"},{"$f":"VLOOKUP(A3843,bangolf_kategorien!$A$2:$B$11,2,FALSE)","v":"SM2"}]
["hv",38379,"Klaus-Heinrich","Wiedemann","VfM Berlin",{"$f":"CONCATENATE(VLOOKUP(A3844,bangolf_kategorien!$A$2:$B$11,2,FALSE),\": \",D3844,\", \",C3844)","v":"SM2: Wiedemann, Klaus-Heinrich"},{"$f":"VLOOKUP(A3844,bangolf_kategorien!$A$2:$B$11,2,FALSE)","v":"SM2"}]
["ob",34736,"Dieter","Wiedmann","TV Niederstetten 1862  Abt. Minigolf",{"$f":"CONCATENATE(VLOOKUP(A3845,bangolf_kategorien!$A$2:$B$11,2,FALSE),\": \",D3845,\", \",C3845)","v":"SM1: Wiedmann, Dieter"},{"$f":"VLOOKUP(A3845,bangolf_kategorien!$A$2:$B$11,2,FALSE)","v":"SM1"}]
["ob",33568,"Stephan","Wiedmann","SG Arheilgen Abt. Bahnengolf",{"$f":"CONCATENATE(VLOOKUP(A3846,bangolf_kategorien!$A$2:$B$11,2,FALSE),\": \",D3846,\", \",C3846)","v":"SM1: Wiedmann, Stephan"},{"$f":"VLOOKUP(A3846,bangolf_kategorien!$A$2:$B$11,2,FALSE)","v":"SM1"}]
["hv",1002,"Dieter","Wiegand","1. BGC Hannover",{"$f":"CONCATENATE(VLOOKUP(A3847,bangolf_kategorien!$A$2:$B$11,2,FALSE),\": \",D3847,\", \",C3847)","v":"SM2: Wiegand, Dieter"},{"$f":"VLOOKUP(A3847,bangolf_kategorien!$A$2:$B$11,2,FALSE)","v":"SM2"}]
["hs",38058,"Florian","Wiegard","MGC putter Künzell 1970",{"$f":"CONCATENATE(VLOOKUP(A3848,bangolf_kategorien!$A$2:$B$11,2,FALSE),\": \",D3848,\", \",C3848)","v":"H: Wiegard, Florian"},{"$f":"VLOOKUP(A3848,bangolf_kategorien!$A$2:$B$11,2,FALSE)","v":"H"}]
["hs",48335,"Michael","Wiegard","MGC putter Künzell 1970",{"$f":"CONCATENATE(VLOOKUP(A3849,bangolf_kategorien!$A$2:$B$11,2,FALSE),\": \",D3849,\", \",C3849)","v":"H: Wiegard, Michael"},{"$f":"VLOOKUP(A3849,bangolf_kategorien!$A$2:$B$11,2,FALSE)","v":"H"}]
["hs",38061,"Marvin","Wiegel","Bochumer Minigolf-Club 1960",{"$f":"CONCATENATE(VLOOKUP(A3850,bangolf_kategorien!$A$2:$B$11,2,FALSE),\": \",D3850,\", \",C3850)","v":"H: Wiegel, Marvin"},{"$f":"VLOOKUP(A3850,bangolf_kategorien!$A$2:$B$11,2,FALSE)","v":"H"}]
["hv",4859,"Reinhold","Wiegelmann","Minigolf Wölfe Rheinstetten 02",{"$f":"CONCATENATE(VLOOKUP(A3851,bangolf_kategorien!$A$2:$B$11,2,FALSE),\": \",D3851,\", \",C3851)","v":"SM2: Wiegelmann, Reinhold"},{"$f":"VLOOKUP(A3851,bangolf_kategorien!$A$2:$B$11,2,FALSE)","v":"SM2"}]
["og",42659,"Beate","Wiemer","TSV Pfungstadt Abt. Bahnengolf",{"$f":"CONCATENATE(VLOOKUP(A3852,bangolf_kategorien!$A$2:$B$11,2,FALSE),\": \",D3852,\", \",C3852)","v":"SW1: Wiemer, Beate"},{"$f":"VLOOKUP(A3852,bangolf_kategorien!$A$2:$B$11,2,FALSE)","v":"SW1"}]
["hv",25211,"Thomas","Wiemer","MSC Bensheim-Auerbach",{"$f":"CONCATENATE(VLOOKUP(A3853,bangolf_kategorien!$A$2:$B$11,2,FALSE),\": \",D3853,\", \",C3853)","v":"SM2: Wiemer, Thomas"},{"$f":"VLOOKUP(A3853,bangolf_kategorien!$A$2:$B$11,2,FALSE)","v":"SM2"}]
["ds",49980,"Ellen","Wienand","1. BGC Paderborn",{"$f":"CONCATENATE(VLOOKUP(A3854,bangolf_kategorien!$A$2:$B$11,2,FALSE),\": \",D3854,\", \",C3854)","v":"D: Wienand, Ellen"},{"$f":"VLOOKUP(A3854,bangolf_kategorien!$A$2:$B$11,2,FALSE)","v":"D"}]
["hs",50367,"Thomas","Wiertz","MGC Bad Salzuflen",{"$f":"CONCATENATE(VLOOKUP(A3855,bangolf_kategorien!$A$2:$B$11,2,FALSE),\": \",D3855,\", \",C3855)","v":"H: Wiertz, Thomas"},{"$f":"VLOOKUP(A3855,bangolf_kategorien!$A$2:$B$11,2,FALSE)","v":"H"}]
["ob",30856,"Lutz","Wierum","BGV Bergisch Land 1962 / 63",{"$f":"CONCATENATE(VLOOKUP(A3856,bangolf_kategorien!$A$2:$B$11,2,FALSE),\": \",D3856,\", \",C3856)","v":"SM1: Wierum, Lutz"},{"$f":"VLOOKUP(A3856,bangolf_kategorien!$A$2:$B$11,2,FALSE)","v":"SM1"}]
["ob",37893,"René","Wieser","HMC Büttgen",{"$f":"CONCATENATE(VLOOKUP(A3857,bangolf_kategorien!$A$2:$B$11,2,FALSE),\": \",D3857,\", \",C3857)","v":"SM1: Wieser, René"},{"$f":"VLOOKUP(A3857,bangolf_kategorien!$A$2:$B$11,2,FALSE)","v":"SM1"}]
["hj",66667,"Julian","Wiesinger","MSK Olching",{"$f":"CONCATENATE(VLOOKUP(A3858,bangolf_kategorien!$A$2:$B$11,2,FALSE),\": \",D3858,\", \",C3858)","v":"JM: Wiesinger, Julian"},{"$f":"VLOOKUP(A3858,bangolf_kategorien!$A$2:$B$11,2,FALSE)","v":"JM"}]
["ds",66730,"Nicole","Wiesinger","MGC Bad Feilnbach",{"$f":"CONCATENATE(VLOOKUP(A3859,bangolf_kategorien!$A$2:$B$11,2,FALSE),\": \",D3859,\", \",C3859)","v":"D: Wiesinger, Nicole"},{"$f":"VLOOKUP(A3859,bangolf_kategorien!$A$2:$B$11,2,FALSE)","v":"D"}]
["ob",66714,"Peter","Wiesinger","MGC Bad Feilnbach",{"$f":"CONCATENATE(VLOOKUP(A3860,bangolf_kategorien!$A$2:$B$11,2,FALSE),\": \",D3860,\", \",C3860)","v":"SM1: Wiesinger, Peter"},{"$f":"VLOOKUP(A3860,bangolf_kategorien!$A$2:$B$11,2,FALSE)","v":"SM1"}]
["hs",46031,"Florian","Wietz","Niendorfer MC v. 1963",{"$f":"CONCATENATE(VLOOKUP(A3861,bangolf_kategorien!$A$2:$B$11,2,FALSE),\": \",D3861,\", \",C3861)","v":"H: Wietz, Florian"},{"$f":"VLOOKUP(A3861,bangolf_kategorien!$A$2:$B$11,2,FALSE)","v":"H"}]
["ob",3212027,"Rui","Wigand","Hobby",{"$f":"CONCATENATE(VLOOKUP(A3862,bangolf_kategorien!$A$2:$B$11,2,FALSE),\": \",D3862,\", \",C3862)","v":"SM1: Wigand, Rui"},{"$f":"VLOOKUP(A3862,bangolf_kategorien!$A$2:$B$11,2,FALSE)","v":"SM1"}]
["og",67025,"Barbara","Wihler","2. MGC Worms",{"$f":"CONCATENATE(VLOOKUP(A3863,bangolf_kategorien!$A$2:$B$11,2,FALSE),\": \",D3863,\", \",C3863)","v":"SW1: Wihler, Barbara"},{"$f":"VLOOKUP(A3863,bangolf_kategorien!$A$2:$B$11,2,FALSE)","v":"SW1"}]
["ob",28564,"Horst","Wihler jun.","2. MGC Worms",{"$f":"CONCATENATE(VLOOKUP(A3864,bangolf_kategorien!$A$2:$B$11,2,FALSE),\": \",D3864,\", \",C3864)","v":"SM1: Wihler jun., Horst"},{"$f":"VLOOKUP(A3864,bangolf_kategorien!$A$2:$B$11,2,FALSE)","v":"SM1"}]
["hs",37443,"Sascha","Wilbrand","MGC Dortmund Syburg",{"$f":"CONCATENATE(VLOOKUP(A3865,bangolf_kategorien!$A$2:$B$11,2,FALSE),\": \",D3865,\", \",C3865)","v":"H: Wilbrand, Sascha"},{"$f":"VLOOKUP(A3865,bangolf_kategorien!$A$2:$B$11,2,FALSE)","v":"H"}]
["dv",10721,"Annemarie","Wild","MGSC Wernau",{"$f":"CONCATENATE(VLOOKUP(A3866,bangolf_kategorien!$A$2:$B$11,2,FALSE),\": \",D3866,\", \",C3866)","v":"SW2: Wild, Annemarie"},{"$f":"VLOOKUP(A3866,bangolf_kategorien!$A$2:$B$11,2,FALSE)","v":"SW2"}]
["hv",24312,"Dieter","Wild","MGSC Wernau",{"$f":"CONCATENATE(VLOOKUP(A3867,bangolf_kategorien!$A$2:$B$11,2,FALSE),\": \",D3867,\", \",C3867)","v":"SM2: Wild, Dieter"},{"$f":"VLOOKUP(A3867,bangolf_kategorien!$A$2:$B$11,2,FALSE)","v":"SM2"}]
["dv",3167204,"Edith","Wildhagen","Hobby",{"$f":"CONCATENATE(VLOOKUP(A3868,bangolf_kategorien!$A$2:$B$11,2,FALSE),\": \",D3868,\", \",C3868)","v":"SW2: Wildhagen, Edith"},{"$f":"VLOOKUP(A3868,bangolf_kategorien!$A$2:$B$11,2,FALSE)","v":"SW2"}]
["hv",29310,"Walter","Wildt","MGF Hammer",{"$f":"CONCATENATE(VLOOKUP(A3869,bangolf_kategorien!$A$2:$B$11,2,FALSE),\": \",D3869,\", \",C3869)","v":"SM2: Wildt, Walter"},{"$f":"VLOOKUP(A3869,bangolf_kategorien!$A$2:$B$11,2,FALSE)","v":"SM2"}]
["hv",4057,"Horst-Peter","Wilhelm","Reinickendorfer MGC",{"$f":"CONCATENATE(VLOOKUP(A3870,bangolf_kategorien!$A$2:$B$11,2,FALSE),\": \",D3870,\", \",C3870)","v":"SM2: Wilhelm, Horst-Peter"},{"$f":"VLOOKUP(A3870,bangolf_kategorien!$A$2:$B$11,2,FALSE)","v":"SM2"}]
["og",46290,"Alexandra","Wilhelms","BSC Ennepetal",{"$f":"CONCATENATE(VLOOKUP(A3871,bangolf_kategorien!$A$2:$B$11,2,FALSE),\": \",D3871,\", \",C3871)","v":"SW1: Wilhelms, Alexandra"},{"$f":"VLOOKUP(A3871,bangolf_kategorien!$A$2:$B$11,2,FALSE)","v":"SW1"}]
["ob",44805,"Ralf","Wilhelms","BSC Ennepetal",{"$f":"CONCATENATE(VLOOKUP(A3872,bangolf_kategorien!$A$2:$B$11,2,FALSE),\": \",D3872,\", \",C3872)","v":"SM1: Wilhelms, Ralf"},{"$f":"VLOOKUP(A3872,bangolf_kategorien!$A$2:$B$11,2,FALSE)","v":"SM1"}]
["dj",66164,"Valerie","Wilhelms","BSC Ennepetal",{"$f":"CONCATENATE(VLOOKUP(A3873,bangolf_kategorien!$A$2:$B$11,2,FALSE),\": \",D3873,\", \",C3873)","v":"JW: Wilhelms, Valerie"},{"$f":"VLOOKUP(A3873,bangolf_kategorien!$A$2:$B$11,2,FALSE)","v":"JW"}]
["hv",3575,"Hans-Peter","Wilkesmann","BGC Dormagen",{"$f":"CONCATENATE(VLOOKUP(A3874,bangolf_kategorien!$A$2:$B$11,2,FALSE),\": \",D3874,\", \",C3874)","v":"SM2: Wilkesmann, Hans-Peter"},{"$f":"VLOOKUP(A3874,bangolf_kategorien!$A$2:$B$11,2,FALSE)","v":"SM2"}]
["ob",42431,"Jan","Wille","BGSC Bochum 1978",{"$f":"CONCATENATE(VLOOKUP(A3875,bangolf_kategorien!$A$2:$B$11,2,FALSE),\": \",D3875,\", \",C3875)","v":"SM1: Wille, Jan"},{"$f":"VLOOKUP(A3875,bangolf_kategorien!$A$2:$B$11,2,FALSE)","v":"SM1"}]
["ob",66006,"Michael","Willeke","MC 62 Lüdenscheid",{"$f":"CONCATENATE(VLOOKUP(A3876,bangolf_kategorien!$A$2:$B$11,2,FALSE),\": \",D3876,\", \",C3876)","v":"SM1: Willeke, Michael"},{"$f":"VLOOKUP(A3876,bangolf_kategorien!$A$2:$B$11,2,FALSE)","v":"SM1"}]
["ob",29879,"Marcus","Willems","1. BGC Wesseling 1975",{"$f":"CONCATENATE(VLOOKUP(A3877,bangolf_kategorien!$A$2:$B$11,2,FALSE),\": \",D3877,\", \",C3877)","v":"SM1: Willems, Marcus"},{"$f":"VLOOKUP(A3877,bangolf_kategorien!$A$2:$B$11,2,FALSE)","v":"SM1"}]
["ds",33849,"Anke","Willenbockel","Minigolfclub Karlshagen",{"$f":"CONCATENATE(VLOOKUP(A3878,bangolf_kategorien!$A$2:$B$11,2,FALSE),\": \",D3878,\", \",C3878)","v":"D: Willenbockel, Anke"},{"$f":"VLOOKUP(A3878,bangolf_kategorien!$A$2:$B$11,2,FALSE)","v":"D"}]
["hv",3839,"Eike","Willenbockel","MC \"Möve\" Cuxhaven-Sahlenburg",{"$f":"CONCATENATE(VLOOKUP(A3879,bangolf_kategorien!$A$2:$B$11,2,FALSE),\": \",D3879,\", \",C3879)","v":"SM2: Willenbockel, Eike"},{"$f":"VLOOKUP(A3879,bangolf_kategorien!$A$2:$B$11,2,FALSE)","v":"SM2"}]
["dv",29796,"Marion","Willenbockel","MC \"Möve\" Cuxhaven-Sahlenburg",{"$f":"CONCATENATE(VLOOKUP(A3880,bangolf_kategorien!$A$2:$B$11,2,FALSE),\": \",D3880,\", \",C3880)","v":"SW2: Willenbockel, Marion"},{"$f":"VLOOKUP(A3880,bangolf_kategorien!$A$2:$B$11,2,FALSE)","v":"SW2"}]
["ds",32333,"Melanie","Willfroth","Cobigolf-Verein Hamm 2019",{"$f":"CONCATENATE(VLOOKUP(A3881,bangolf_kategorien!$A$2:$B$11,2,FALSE),\": \",D3881,\", \",C3881)","v":"D: Willfroth, Melanie"},{"$f":"VLOOKUP(A3881,bangolf_kategorien!$A$2:$B$11,2,FALSE)","v":"D"}]
["hv",38004,"Lothar","Willkommen","TSV Arendsee",{"$f":"CONCATENATE(VLOOKUP(A3882,bangolf_kategorien!$A$2:$B$11,2,FALSE),\": \",D3882,\", \",C3882)","v":"SM2: Willkommen, Lothar"},{"$f":"VLOOKUP(A3882,bangolf_kategorien!$A$2:$B$11,2,FALSE)","v":"SM2"}]
["hj",66123,"Pascal","Willy","BSV 82 Ohlsbach",{"$f":"CONCATENATE(VLOOKUP(A3883,bangolf_kategorien!$A$2:$B$11,2,FALSE),\": \",D3883,\", \",C3883)","v":"JM: Willy, Pascal"},{"$f":"VLOOKUP(A3883,bangolf_kategorien!$A$2:$B$11,2,FALSE)","v":"JM"}]
["ds",37683,"Katrin","Wilms","CGC Grün-Gold Bad Hamm",{"$f":"CONCATENATE(VLOOKUP(A3884,bangolf_kategorien!$A$2:$B$11,2,FALSE),\": \",D3884,\", \",C3884)","v":"D: Wilms, Katrin"},{"$f":"VLOOKUP(A3884,bangolf_kategorien!$A$2:$B$11,2,FALSE)","v":"D"}]
["hv",42963,"Joachim","Wilsch","HMC Büttgen",{"$f":"CONCATENATE(VLOOKUP(A3885,bangolf_kategorien!$A$2:$B$11,2,FALSE),\": \",D3885,\", \",C3885)","v":"SM2: Wilsch, Joachim"},{"$f":"VLOOKUP(A3885,bangolf_kategorien!$A$2:$B$11,2,FALSE)","v":"SM2"}]
["dv",42964,"Petra","Wilsch","HMC Büttgen",{"$f":"CONCATENATE(VLOOKUP(A3886,bangolf_kategorien!$A$2:$B$11,2,FALSE),\": \",D3886,\", \",C3886)","v":"SW2: Wilsch, Petra"},{"$f":"VLOOKUP(A3886,bangolf_kategorien!$A$2:$B$11,2,FALSE)","v":"SW2"}]
["og",33708,"Kirsten","Wimmer","MSC Bensheim-Auerbach",{"$f":"CONCATENATE(VLOOKUP(A3887,bangolf_kategorien!$A$2:$B$11,2,FALSE),\": \",D3887,\", \",C3887)","v":"SW1: Wimmer, Kirsten"},{"$f":"VLOOKUP(A3887,bangolf_kategorien!$A$2:$B$11,2,FALSE)","v":"SW1"}]
["ob",33926,"Andreas","Winkel","MGSC Wernau",{"$f":"CONCATENATE(VLOOKUP(A3888,bangolf_kategorien!$A$2:$B$11,2,FALSE),\": \",D3888,\", \",C3888)","v":"SM1: Winkel, Andreas"},{"$f":"VLOOKUP(A3888,bangolf_kategorien!$A$2:$B$11,2,FALSE)","v":"SM1"}]
["ob",36541,"Dirk","Winkler","BGSC \"Gut Schlag\" Gladbeck",{"$f":"CONCATENATE(VLOOKUP(A3889,bangolf_kategorien!$A$2:$B$11,2,FALSE),\": \",D3889,\", \",C3889)","v":"SM1: Winkler, Dirk"},{"$f":"VLOOKUP(A3889,bangolf_kategorien!$A$2:$B$11,2,FALSE)","v":"SM1"}]
["hs",67421,"Simon","Winter","PTSV Hof, Abt. Minigolf",{"$f":"CONCATENATE(VLOOKUP(A3890,bangolf_kategorien!$A$2:$B$11,2,FALSE),\": \",D3890,\", \",C3890)","v":"H: Winter, Simon"},{"$f":"VLOOKUP(A3890,bangolf_kategorien!$A$2:$B$11,2,FALSE)","v":"H"}]
["hs",38201,"Simon Leon","Winter","MGC Wetzlar",{"$f":"CONCATENATE(VLOOKUP(A3891,bangolf_kategorien!$A$2:$B$11,2,FALSE),\": \",D3891,\", \",C3891)","v":"H: Winter, Simon Leon"},{"$f":"VLOOKUP(A3891,bangolf_kategorien!$A$2:$B$11,2,FALSE)","v":"H"}]
["fa",67424,"Johanna","Winterhoff","BGS Hardenberg-Pötter",{"$f":"CONCATENATE(VLOOKUP(A3892,bangolf_kategorien!$A$2:$B$11,2,FALSE),\": \",D3892,\", \",C3892)","v":"SCHW: Winterhoff, Johanna"},{"$f":"VLOOKUP(A3892,bangolf_kategorien!$A$2:$B$11,2,FALSE)","v":"SCHW"}]
["ob",45644,"Peter","Winters","BGSV Kerpen",{"$f":"CONCATENATE(VLOOKUP(A3893,bangolf_kategorien!$A$2:$B$11,2,FALSE),\": \",D3893,\", \",C3893)","v":"SM1: Winters, Peter"},{"$f":"VLOOKUP(A3893,bangolf_kategorien!$A$2:$B$11,2,FALSE)","v":"SM1"}]
["hs",37763,"Thorsten","Winzer","MGC Freizeitzentrum Biebertal",{"$f":"CONCATENATE(VLOOKUP(A3894,bangolf_kategorien!$A$2:$B$11,2,FALSE),\": \",D3894,\", \",C3894)","v":"H: Winzer, Thorsten"},{"$f":"VLOOKUP(A3894,bangolf_kategorien!$A$2:$B$11,2,FALSE)","v":"H"}]
["ob",36520,"Toni","Wirbals","TSV Kücknitz Abt. Bahnengolf",{"$f":"CONCATENATE(VLOOKUP(A3895,bangolf_kategorien!$A$2:$B$11,2,FALSE),\": \",D3895,\", \",C3895)","v":"SM1: Wirbals, Toni"},{"$f":"VLOOKUP(A3895,bangolf_kategorien!$A$2:$B$11,2,FALSE)","v":"SM1"}]
["hv",25167,"Michael","Wirth","1. Duisburger Minigolf Club 1962",{"$f":"CONCATENATE(VLOOKUP(A3896,bangolf_kategorien!$A$2:$B$11,2,FALSE),\": \",D3896,\", \",C3896)","v":"SM2: Wirth, Michael"},{"$f":"VLOOKUP(A3896,bangolf_kategorien!$A$2:$B$11,2,FALSE)","v":"SM2"}]
["hs",32625,"Karsten","Wischeropp","MGF Magdeburg 1995",{"$f":"CONCATENATE(VLOOKUP(A3897,bangolf_kategorien!$A$2:$B$11,2,FALSE),\": \",D3897,\", \",C3897)","v":"H: Wischeropp, Karsten"},{"$f":"VLOOKUP(A3897,bangolf_kategorien!$A$2:$B$11,2,FALSE)","v":"H"}]
["og",45007,"Birthe","Wischnath","MGC Bad Oldesloe",{"$f":"CONCATENATE(VLOOKUP(A3898,bangolf_kategorien!$A$2:$B$11,2,FALSE),\": \",D3898,\", \",C3898)","v":"SW1: Wischnath, Birthe"},{"$f":"VLOOKUP(A3898,bangolf_kategorien!$A$2:$B$11,2,FALSE)","v":"SW1"}]
["pa",67416,"Fynn","Wischott","MSK Neheim-Hüsten",{"$f":"CONCATENATE(VLOOKUP(A3899,bangolf_kategorien!$A$2:$B$11,2,FALSE),\": \",D3899,\", \",C3899)","v":"SCHM: Wischott, Fynn"},{"$f":"VLOOKUP(A3899,bangolf_kategorien!$A$2:$B$11,2,FALSE)","v":"SCHM"}]
["hs",34695,"Marc","Wisnewski","1. MSC Wesel 6.6.1966",{"$f":"CONCATENATE(VLOOKUP(A3900,bangolf_kategorien!$A$2:$B$11,2,FALSE),\": \",D3900,\", \",C3900)","v":"H: Wisnewski, Marc"},{"$f":"VLOOKUP(A3900,bangolf_kategorien!$A$2:$B$11,2,FALSE)","v":"H"}]
["hs",3111713,"Bernd","Wissing","Hobby",{"$f":"CONCATENATE(VLOOKUP(A3901,bangolf_kategorien!$A$2:$B$11,2,FALSE),\": \",D3901,\", \",C3901)","v":"H: Wissing, Bernd"},{"$f":"VLOOKUP(A3901,bangolf_kategorien!$A$2:$B$11,2,FALSE)","v":"H"}]
["hv",36971,"Thomas","Witte","Tempelhofer MV Berlin",{"$f":"CONCATENATE(VLOOKUP(A3902,bangolf_kategorien!$A$2:$B$11,2,FALSE),\": \",D3902,\", \",C3902)","v":"SM2: Witte, Thomas"},{"$f":"VLOOKUP(A3902,bangolf_kategorien!$A$2:$B$11,2,FALSE)","v":"SM2"}]
["ob",41466,"Peter","Wittek","1. BGC Hannover",{"$f":"CONCATENATE(VLOOKUP(A3903,bangolf_kategorien!$A$2:$B$11,2,FALSE),\": \",D3903,\", \",C3903)","v":"SM1: Wittek, Peter"},{"$f":"VLOOKUP(A3903,bangolf_kategorien!$A$2:$B$11,2,FALSE)","v":"SM1"}]
["ob",29626,"Andreas","Wittke","MGC Dormagen-Brechten",{"$f":"CONCATENATE(VLOOKUP(A3904,bangolf_kategorien!$A$2:$B$11,2,FALSE),\": \",D3904,\", \",C3904)","v":"SM1: Wittke, Andreas"},{"$f":"VLOOKUP(A3904,bangolf_kategorien!$A$2:$B$11,2,FALSE)","v":"SM1"}]
["og",37992,"Helga","Wittkopf","BGC Bremen",{"$f":"CONCATENATE(VLOOKUP(A3905,bangolf_kategorien!$A$2:$B$11,2,FALSE),\": \",D3905,\", \",C3905)","v":"SW1: Wittkopf, Helga"},{"$f":"VLOOKUP(A3905,bangolf_kategorien!$A$2:$B$11,2,FALSE)","v":"SW1"}]
["fa",67339,"Kiara","Wittling","Osnabrücker M.-C. von 1963",{"$f":"CONCATENATE(VLOOKUP(A3906,bangolf_kategorien!$A$2:$B$11,2,FALSE),\": \",D3906,\", \",C3906)","v":"SCHW: Wittling, Kiara"},{"$f":"VLOOKUP(A3906,bangolf_kategorien!$A$2:$B$11,2,FALSE)","v":"SCHW"}]
["hs",67230,"Marcel","Wittling","Osnabrücker M.-C. von 1963",{"$f":"CONCATENATE(VLOOKUP(A3907,bangolf_kategorien!$A$2:$B$11,2,FALSE),\": \",D3907,\", \",C3907)","v":"H: Wittling, Marcel"},{"$f":"VLOOKUP(A3907,bangolf_kategorien!$A$2:$B$11,2,FALSE)","v":"H"}]
["hs",33415,"Christian","Wittwer","MSV Bad Kreuznach",{"$f":"CONCATENATE(VLOOKUP(A3908,bangolf_kategorien!$A$2:$B$11,2,FALSE),\": \",D3908,\", \",C3908)","v":"H: Wittwer, Christian"},{"$f":"VLOOKUP(A3908,bangolf_kategorien!$A$2:$B$11,2,FALSE)","v":"H"}]
["hs",33416,"Daniel","Wittwer","MSV Bad Kreuznach",{"$f":"CONCATENATE(VLOOKUP(A3909,bangolf_kategorien!$A$2:$B$11,2,FALSE),\": \",D3909,\", \",C3909)","v":"H: Wittwer, Daniel"},{"$f":"VLOOKUP(A3909,bangolf_kategorien!$A$2:$B$11,2,FALSE)","v":"H"}]
["ob",37964,"Joachim","Wodok","1. BGC Celle von 1964",{"$f":"CONCATENATE(VLOOKUP(A3910,bangolf_kategorien!$A$2:$B$11,2,FALSE),\": \",D3910,\", \",C3910)","v":"SM1: Wodok, Joachim"},{"$f":"VLOOKUP(A3910,bangolf_kategorien!$A$2:$B$11,2,FALSE)","v":"SM1"}]
["hv",35096,"Joachim","Wohlfarth","MSV Würzburg-Löwenbrücke",{"$f":"CONCATENATE(VLOOKUP(A3911,bangolf_kategorien!$A$2:$B$11,2,FALSE),\": \",D3911,\", \",C3911)","v":"SM2: Wohlfarth, Joachim"},{"$f":"VLOOKUP(A3911,bangolf_kategorien!$A$2:$B$11,2,FALSE)","v":"SM2"}]
["dv",35095,"Luise","Wohlfarth","MSV Würzburg-Löwenbrücke",{"$f":"CONCATENATE(VLOOKUP(A3912,bangolf_kategorien!$A$2:$B$11,2,FALSE),\": \",D3912,\", \",C3912)","v":"SW2: Wohlfarth, Luise"},{"$f":"VLOOKUP(A3912,bangolf_kategorien!$A$2:$B$11,2,FALSE)","v":"SW2"}]
["og",3202282,"Martina","Wohlrab","Hobby",{"$f":"CONCATENATE(VLOOKUP(A3913,bangolf_kategorien!$A$2:$B$11,2,FALSE),\": \",D3913,\", \",C3913)","v":"SW1: Wohlrab, Martina"},{"$f":"VLOOKUP(A3913,bangolf_kategorien!$A$2:$B$11,2,FALSE)","v":"SW1"}]
["ob",67361,"Michael","Wöhrmann","BSV 86 München",{"$f":"CONCATENATE(VLOOKUP(A3914,bangolf_kategorien!$A$2:$B$11,2,FALSE),\": \",D3914,\", \",C3914)","v":"SM1: Wöhrmann, Michael"},{"$f":"VLOOKUP(A3914,bangolf_kategorien!$A$2:$B$11,2,FALSE)","v":"SM1"}]
["ds",67362,"Tatjana","Wöhrmann","BSV 86 München",{"$f":"CONCATENATE(VLOOKUP(A3915,bangolf_kategorien!$A$2:$B$11,2,FALSE),\": \",D3915,\", \",C3915)","v":"D: Wöhrmann, Tatjana"},{"$f":"VLOOKUP(A3915,bangolf_kategorien!$A$2:$B$11,2,FALSE)","v":"D"}]
["hv",66409,"Arnold","Wolf","SC Bastion Rot Weiß Lippstadt",{"$f":"CONCATENATE(VLOOKUP(A3916,bangolf_kategorien!$A$2:$B$11,2,FALSE),\": \",D3916,\", \",C3916)","v":"SM2: Wolf, Arnold"},{"$f":"VLOOKUP(A3916,bangolf_kategorien!$A$2:$B$11,2,FALSE)","v":"SM2"}]
["hv",4639,"Henning","Wolf","BGC Northeim",{"$f":"CONCATENATE(VLOOKUP(A3917,bangolf_kategorien!$A$2:$B$11,2,FALSE),\": \",D3917,\", \",C3917)","v":"SM2: Wolf, Henning"},{"$f":"VLOOKUP(A3917,bangolf_kategorien!$A$2:$B$11,2,FALSE)","v":"SM2"}]
["hv",4835,"Karl-Heinz","Wolf","SC Bastion Rot Weiß Lippstadt",{"$f":"CONCATENATE(VLOOKUP(A3918,bangolf_kategorien!$A$2:$B$11,2,FALSE),\": \",D3918,\", \",C3918)","v":"SM2: Wolf, Karl-Heinz"},{"$f":"VLOOKUP(A3918,bangolf_kategorien!$A$2:$B$11,2,FALSE)","v":"SM2"}]
["ds",35180,"Manuela","Wolf","SC Bastion Rot Weiß Lippstadt",{"$f":"CONCATENATE(VLOOKUP(A3919,bangolf_kategorien!$A$2:$B$11,2,FALSE),\": \",D3919,\", \",C3919)","v":"D: Wolf, Manuela"},{"$f":"VLOOKUP(A3919,bangolf_kategorien!$A$2:$B$11,2,FALSE)","v":"D"}]
["ds",35847,"Stefanie","Wolf","ASV Pegnitz, Abt. Minigolf",{"$f":"CONCATENATE(VLOOKUP(A3920,bangolf_kategorien!$A$2:$B$11,2,FALSE),\": \",D3920,\", \",C3920)","v":"D: Wolf, Stefanie"},{"$f":"VLOOKUP(A3920,bangolf_kategorien!$A$2:$B$11,2,FALSE)","v":"D"}]
["og",548,"Beate","Wolff","BSV 82 Ohlsbach",{"$f":"CONCATENATE(VLOOKUP(A3921,bangolf_kategorien!$A$2:$B$11,2,FALSE),\": \",D3921,\", \",C3921)","v":"SW1: Wolff, Beate"},{"$f":"VLOOKUP(A3921,bangolf_kategorien!$A$2:$B$11,2,FALSE)","v":"SW1"}]
["hv",20690,"Bertram","Wolff","BSV 82 Ohlsbach",{"$f":"CONCATENATE(VLOOKUP(A3922,bangolf_kategorien!$A$2:$B$11,2,FALSE),\": \",D3922,\", \",C3922)","v":"SM2: Wolff, Bertram"},{"$f":"VLOOKUP(A3922,bangolf_kategorien!$A$2:$B$11,2,FALSE)","v":"SM2"}]
["hs",40341,"Julian","Wolff","MC 62 Lüdenscheid",{"$f":"CONCATENATE(VLOOKUP(A3923,bangolf_kategorien!$A$2:$B$11,2,FALSE),\": \",D3923,\", \",C3923)","v":"H: Wolff, Julian"},{"$f":"VLOOKUP(A3923,bangolf_kategorien!$A$2:$B$11,2,FALSE)","v":"H"}]
["hs",66059,"Marko","Wolff","BGC Uerdingen",{"$f":"CONCATENATE(VLOOKUP(A3924,bangolf_kategorien!$A$2:$B$11,2,FALSE),\": \",D3924,\", \",C3924)","v":"H: Wolff, Marko"},{"$f":"VLOOKUP(A3924,bangolf_kategorien!$A$2:$B$11,2,FALSE)","v":"H"}]
["hv",66527,"Ulf-Michael","Wolff","1. BGC Hannover",{"$f":"CONCATENATE(VLOOKUP(A3925,bangolf_kategorien!$A$2:$B$11,2,FALSE),\": \",D3925,\", \",C3925)","v":"SM2: Wolff, Ulf-Michael"},{"$f":"VLOOKUP(A3925,bangolf_kategorien!$A$2:$B$11,2,FALSE)","v":"SM2"}]
["hs",66940,"Stefan","Woller","1. MGC Gelsenkirchen",{"$f":"CONCATENATE(VLOOKUP(A3926,bangolf_kategorien!$A$2:$B$11,2,FALSE),\": \",D3926,\", \",C3926)","v":"H: Woller, Stefan"},{"$f":"VLOOKUP(A3926,bangolf_kategorien!$A$2:$B$11,2,FALSE)","v":"H"}]
["hs",37471,"Maximilian","Wolper","BGV Backumer Tal Herten",{"$f":"CONCATENATE(VLOOKUP(A3927,bangolf_kategorien!$A$2:$B$11,2,FALSE),\": \",D3927,\", \",C3927)","v":"H: Wolper, Maximilian"},{"$f":"VLOOKUP(A3927,bangolf_kategorien!$A$2:$B$11,2,FALSE)","v":"H"}]
["hv",37084,"Dirk","Wolter","MGC Wuppertal-Ronsdorf 1967",{"$f":"CONCATENATE(VLOOKUP(A3928,bangolf_kategorien!$A$2:$B$11,2,FALSE),\": \",D3928,\", \",C3928)","v":"SM2: Wolter, Dirk"},{"$f":"VLOOKUP(A3928,bangolf_kategorien!$A$2:$B$11,2,FALSE)","v":"SM2"}]
["ob",37276,"Martin","Wolyniak","SV 1890 Dreieichenhain, Abt. Bahnengolf",{"$f":"CONCATENATE(VLOOKUP(A3929,bangolf_kategorien!$A$2:$B$11,2,FALSE),\": \",D3929,\", \",C3929)","v":"SM1: Wolyniak, Martin"},{"$f":"VLOOKUP(A3929,bangolf_kategorien!$A$2:$B$11,2,FALSE)","v":"SM1"}]
["ob",66515,"Hajo","Wonka","TSV Pfungstadt Abt. Bahnengolf",{"$f":"CONCATENATE(VLOOKUP(A3930,bangolf_kategorien!$A$2:$B$11,2,FALSE),\": \",D3930,\", \",C3930)","v":"SM1: Wonka, Hajo"},{"$f":"VLOOKUP(A3930,bangolf_kategorien!$A$2:$B$11,2,FALSE)","v":"SM1"}]
["ds",38503,"Sonja","Wontroba","MSC Bad Godesberg",{"$f":"CONCATENATE(VLOOKUP(A3931,bangolf_kategorien!$A$2:$B$11,2,FALSE),\": \",D3931,\", \",C3931)","v":"D: Wontroba, Sonja"},{"$f":"VLOOKUP(A3931,bangolf_kategorien!$A$2:$B$11,2,FALSE)","v":"D"}]
["hv",20394,"Frank-Thomas","Wortmann","CGC Grün-Gold Bad Hamm",{"$f":"CONCATENATE(VLOOKUP(A3932,bangolf_kategorien!$A$2:$B$11,2,FALSE),\": \",D3932,\", \",C3932)","v":"SM2: Wortmann, Frank-Thomas"},{"$f":"VLOOKUP(A3932,bangolf_kategorien!$A$2:$B$11,2,FALSE)","v":"SM2"}]
["ob",547,"Jörg","Wössner","BGSV Kerpen",{"$f":"CONCATENATE(VLOOKUP(A3933,bangolf_kategorien!$A$2:$B$11,2,FALSE),\": \",D3933,\", \",C3933)","v":"SM1: Wössner, Jörg"},{"$f":"VLOOKUP(A3933,bangolf_kategorien!$A$2:$B$11,2,FALSE)","v":"SM1"}]
["hv",66210,"Wolfgang","Wotzlawek","1. BGC Landshut",{"$f":"CONCATENATE(VLOOKUP(A3934,bangolf_kategorien!$A$2:$B$11,2,FALSE),\": \",D3934,\", \",C3934)","v":"SM2: Wotzlawek, Wolfgang"},{"$f":"VLOOKUP(A3934,bangolf_kategorien!$A$2:$B$11,2,FALSE)","v":"SM2"}]
["hv",10260,"Hans","Wriedt","MC Flora Elmshorn",{"$f":"CONCATENATE(VLOOKUP(A3935,bangolf_kategorien!$A$2:$B$11,2,FALSE),\": \",D3935,\", \",C3935)","v":"SM2: Wriedt, Hans"},{"$f":"VLOOKUP(A3935,bangolf_kategorien!$A$2:$B$11,2,FALSE)","v":"SM2"}]
["dv",66919,"Susanne","Wriedt","MC Flora Elmshorn",{"$f":"CONCATENATE(VLOOKUP(A3936,bangolf_kategorien!$A$2:$B$11,2,FALSE),\": \",D3936,\", \",C3936)","v":"SW2: Wriedt, Susanne"},{"$f":"VLOOKUP(A3936,bangolf_kategorien!$A$2:$B$11,2,FALSE)","v":"SW2"}]
["ob",66408,"Wolfgang","Wruck","SC Bastion Rot Weiß Lippstadt",{"$f":"CONCATENATE(VLOOKUP(A3937,bangolf_kategorien!$A$2:$B$11,2,FALSE),\": \",D3937,\", \",C3937)","v":"SM1: Wruck, Wolfgang"},{"$f":"VLOOKUP(A3937,bangolf_kategorien!$A$2:$B$11,2,FALSE)","v":"SM1"}]
["hv",67036,"Dirk","Wulhorst","BGC Bad Nenndorf",{"$f":"CONCATENATE(VLOOKUP(A3938,bangolf_kategorien!$A$2:$B$11,2,FALSE),\": \",D3938,\", \",C3938)","v":"SM2: Wulhorst, Dirk"},{"$f":"VLOOKUP(A3938,bangolf_kategorien!$A$2:$B$11,2,FALSE)","v":"SM2"}]
["ds",33821,"Gaby","Wunderlich","1. MGSV Netphen",{"$f":"CONCATENATE(VLOOKUP(A3939,bangolf_kategorien!$A$2:$B$11,2,FALSE),\": \",D3939,\", \",C3939)","v":"D: Wunderlich, Gaby"},{"$f":"VLOOKUP(A3939,bangolf_kategorien!$A$2:$B$11,2,FALSE)","v":"D"}]
["hv",38072,"Günter","Wunderlich","1. MGSV Netphen",{"$f":"CONCATENATE(VLOOKUP(A3940,bangolf_kategorien!$A$2:$B$11,2,FALSE),\": \",D3940,\", \",C3940)","v":"SM2: Wunderlich, Günter"},{"$f":"VLOOKUP(A3940,bangolf_kategorien!$A$2:$B$11,2,FALSE)","v":"SM2"}]
["ob",43556,"Mario","Wunderlich","SV Lurup Abt. Bahnengolf",{"$f":"CONCATENATE(VLOOKUP(A3941,bangolf_kategorien!$A$2:$B$11,2,FALSE),\": \",D3941,\", \",C3941)","v":"SM1: Wunderlich, Mario"},{"$f":"VLOOKUP(A3941,bangolf_kategorien!$A$2:$B$11,2,FALSE)","v":"SM1"}]
["ob",66541,"Sascha Markus","Würges","BGC Kiel West",{"$f":"CONCATENATE(VLOOKUP(A3942,bangolf_kategorien!$A$2:$B$11,2,FALSE),\": \",D3942,\", \",C3942)","v":"SM1: Würges, Sascha Markus"},{"$f":"VLOOKUP(A3942,bangolf_kategorien!$A$2:$B$11,2,FALSE)","v":"SM1"}]
["hs",65922,"Jan","Würthle","BSV 82 Ohlsbach",{"$f":"CONCATENATE(VLOOKUP(A3943,bangolf_kategorien!$A$2:$B$11,2,FALSE),\": \",D3943,\", \",C3943)","v":"H: Würthle, Jan"},{"$f":"VLOOKUP(A3943,bangolf_kategorien!$A$2:$B$11,2,FALSE)","v":"H"}]
["ob",44527,"Jürgen","Würthle","BSV 82 Ohlsbach",{"$f":"CONCATENATE(VLOOKUP(A3944,bangolf_kategorien!$A$2:$B$11,2,FALSE),\": \",D3944,\", \",C3944)","v":"SM1: Würthle, Jürgen"},{"$f":"VLOOKUP(A3944,bangolf_kategorien!$A$2:$B$11,2,FALSE)","v":"SM1"}]
["ds",38504,"Michelle","Würthle","BSV 82 Ohlsbach",{"$f":"CONCATENATE(VLOOKUP(A3945,bangolf_kategorien!$A$2:$B$11,2,FALSE),\": \",D3945,\", \",C3945)","v":"D: Würthle, Michelle"},{"$f":"VLOOKUP(A3945,bangolf_kategorien!$A$2:$B$11,2,FALSE)","v":"D"}]
["ob",28259,"Christian","Wustrack","MC \"Möve\" Cuxhaven-Sahlenburg",{"$f":"CONCATENATE(VLOOKUP(A3946,bangolf_kategorien!$A$2:$B$11,2,FALSE),\": \",D3946,\", \",C3946)","v":"SM1: Wustrack, Christian"},{"$f":"VLOOKUP(A3946,bangolf_kategorien!$A$2:$B$11,2,FALSE)","v":"SM1"}]
["dv",63375,"Elke","Wuttke","1. BGC Hannover",{"$f":"CONCATENATE(VLOOKUP(A3947,bangolf_kategorien!$A$2:$B$11,2,FALSE),\": \",D3947,\", \",C3947)","v":"SW2: Wuttke, Elke"},{"$f":"VLOOKUP(A3947,bangolf_kategorien!$A$2:$B$11,2,FALSE)","v":"SW2"}]
["og",34420,"Angelika","Wycisk","1. BGC Leipzig",{"$f":"CONCATENATE(VLOOKUP(A3948,bangolf_kategorien!$A$2:$B$11,2,FALSE),\": \",D3948,\", \",C3948)","v":"SW1: Wycisk, Angelika"},{"$f":"VLOOKUP(A3948,bangolf_kategorien!$A$2:$B$11,2,FALSE)","v":"SW1"}]
["dv",50593,"Bettina","Zabel","1. BGC Hannover",{"$f":"CONCATENATE(VLOOKUP(A3949,bangolf_kategorien!$A$2:$B$11,2,FALSE),\": \",D3949,\", \",C3949)","v":"SW2: Zabel, Bettina"},{"$f":"VLOOKUP(A3949,bangolf_kategorien!$A$2:$B$11,2,FALSE)","v":"SW2"}]
["hs",45917,"Jürgen","Zahner","KGC Bad Urach",{"$f":"CONCATENATE(VLOOKUP(A3950,bangolf_kategorien!$A$2:$B$11,2,FALSE),\": \",D3950,\", \",C3950)","v":"H: Zahner, Jürgen"},{"$f":"VLOOKUP(A3950,bangolf_kategorien!$A$2:$B$11,2,FALSE)","v":"H"}]
["ob",41670,"Michael","Zahner","KGC Bad Urach",{"$f":"CONCATENATE(VLOOKUP(A3951,bangolf_kategorien!$A$2:$B$11,2,FALSE),\": \",D3951,\", \",C3951)","v":"SM1: Zahner, Michael"},{"$f":"VLOOKUP(A3951,bangolf_kategorien!$A$2:$B$11,2,FALSE)","v":"SM1"}]
["hv",4495,"Klaus","Zamponi","1. MGSV Netphen",{"$f":"CONCATENATE(VLOOKUP(A3952,bangolf_kategorien!$A$2:$B$11,2,FALSE),\": \",D3952,\", \",C3952)","v":"SM2: Zamponi, Klaus"},{"$f":"VLOOKUP(A3952,bangolf_kategorien!$A$2:$B$11,2,FALSE)","v":"SM2"}]
["hv",30058,"Hilmer","Zander","SG  Weiterstadt 1886",{"$f":"CONCATENATE(VLOOKUP(A3953,bangolf_kategorien!$A$2:$B$11,2,FALSE),\": \",D3953,\", \",C3953)","v":"SM2: Zander, Hilmer"},{"$f":"VLOOKUP(A3953,bangolf_kategorien!$A$2:$B$11,2,FALSE)","v":"SM2"}]
["hs",67568,"Max","Zander","MGC Bad Homburg vdH",{"$f":"CONCATENATE(VLOOKUP(A3954,bangolf_kategorien!$A$2:$B$11,2,FALSE),\": \",D3954,\", \",C3954)","v":"H: Zander, Max"},{"$f":"VLOOKUP(A3954,bangolf_kategorien!$A$2:$B$11,2,FALSE)","v":"H"}]
["hs",37272,"Michel","Zazzi","1. Essener CGC \"Blau-Gold\"",{"$f":"CONCATENATE(VLOOKUP(A3955,bangolf_kategorien!$A$2:$B$11,2,FALSE),\": \",D3955,\", \",C3955)","v":"H: Zazzi, Michel"},{"$f":"VLOOKUP(A3955,bangolf_kategorien!$A$2:$B$11,2,FALSE)","v":"H"}]
["ob",35402,"Thorsten","Zazzi","1. Essener CGC \"Blau-Gold\"",{"$f":"CONCATENATE(VLOOKUP(A3956,bangolf_kategorien!$A$2:$B$11,2,FALSE),\": \",D3956,\", \",C3956)","v":"SM1: Zazzi, Thorsten"},{"$f":"VLOOKUP(A3956,bangolf_kategorien!$A$2:$B$11,2,FALSE)","v":"SM1"}]
["hv",38261,"Johann","Zech","1. Bahnengolf-Club Singen",{"$f":"CONCATENATE(VLOOKUP(A3957,bangolf_kategorien!$A$2:$B$11,2,FALSE),\": \",D3957,\", \",C3957)","v":"SM2: Zech, Johann"},{"$f":"VLOOKUP(A3957,bangolf_kategorien!$A$2:$B$11,2,FALSE)","v":"SM2"}]
["ob",45973,"Michael","Zehe","MGC Ostheim / Rhön",{"$f":"CONCATENATE(VLOOKUP(A3958,bangolf_kategorien!$A$2:$B$11,2,FALSE),\": \",D3958,\", \",C3958)","v":"SM1: Zehe, Michael"},{"$f":"VLOOKUP(A3958,bangolf_kategorien!$A$2:$B$11,2,FALSE)","v":"SM1"}]
["hv",22825,"Alfred","Zehm","SC Bastion Rot Weiß Lippstadt",{"$f":"CONCATENATE(VLOOKUP(A3959,bangolf_kategorien!$A$2:$B$11,2,FALSE),\": \",D3959,\", \",C3959)","v":"SM2: Zehm, Alfred"},{"$f":"VLOOKUP(A3959,bangolf_kategorien!$A$2:$B$11,2,FALSE)","v":"SM2"}]
["dv",66668,"Ingrid","Zehm","SC Bastion Rot Weiß Lippstadt",{"$f":"CONCATENATE(VLOOKUP(A3960,bangolf_kategorien!$A$2:$B$11,2,FALSE),\": \",D3960,\", \",C3960)","v":"SW2: Zehm, Ingrid"},{"$f":"VLOOKUP(A3960,bangolf_kategorien!$A$2:$B$11,2,FALSE)","v":"SW2"}]
["dv",60359,"Emma","Zehtner","BSV 86 München",{"$f":"CONCATENATE(VLOOKUP(A3961,bangolf_kategorien!$A$2:$B$11,2,FALSE),\": \",D3961,\", \",C3961)","v":"SW2: Zehtner, Emma"},{"$f":"VLOOKUP(A3961,bangolf_kategorien!$A$2:$B$11,2,FALSE)","v":"SW2"}]
["hv",47089,"Klaus","Zeisler","SSC Halver",{"$f":"CONCATENATE(VLOOKUP(A3962,bangolf_kategorien!$A$2:$B$11,2,FALSE),\": \",D3962,\", \",C3962)","v":"SM2: Zeisler, Klaus"},{"$f":"VLOOKUP(A3962,bangolf_kategorien!$A$2:$B$11,2,FALSE)","v":"SM2"}]
["hs",50152,"Torsten","Zeisler","SSC Halver",{"$f":"CONCATENATE(VLOOKUP(A3963,bangolf_kategorien!$A$2:$B$11,2,FALSE),\": \",D3963,\", \",C3963)","v":"H: Zeisler, Torsten"},{"$f":"VLOOKUP(A3963,bangolf_kategorien!$A$2:$B$11,2,FALSE)","v":"H"}]
["hv",4438,"Werner","Zeisler","SSC Halver",{"$f":"CONCATENATE(VLOOKUP(A3964,bangolf_kategorien!$A$2:$B$11,2,FALSE),\": \",D3964,\", \",C3964)","v":"SM2: Zeisler, Werner"},{"$f":"VLOOKUP(A3964,bangolf_kategorien!$A$2:$B$11,2,FALSE)","v":"SM2"}]
["ob",40499,"Bernd","Zeller","MSK Olching",{"$f":"CONCATENATE(VLOOKUP(A3965,bangolf_kategorien!$A$2:$B$11,2,FALSE),\": \",D3965,\", \",C3965)","v":"SM1: Zeller, Bernd"},{"$f":"VLOOKUP(A3965,bangolf_kategorien!$A$2:$B$11,2,FALSE)","v":"SM1"}]
["dv",5676,"Edeltraud","Zeller","MSK Olching",{"$f":"CONCATENATE(VLOOKUP(A3966,bangolf_kategorien!$A$2:$B$11,2,FALSE),\": \",D3966,\", \",C3966)","v":"SW2: Zeller, Edeltraud"},{"$f":"VLOOKUP(A3966,bangolf_kategorien!$A$2:$B$11,2,FALSE)","v":"SW2"}]
["hv",3569,"Gerd","Zeller","MSK Olching",{"$f":"CONCATENATE(VLOOKUP(A3967,bangolf_kategorien!$A$2:$B$11,2,FALSE),\": \",D3967,\", \",C3967)","v":"SM2: Zeller, Gerd"},{"$f":"VLOOKUP(A3967,bangolf_kategorien!$A$2:$B$11,2,FALSE)","v":"SM2"}]
["dv",47417,"Monika","Zeller","1. MGC München-Feldmoching",{"$f":"CONCATENATE(VLOOKUP(A3968,bangolf_kategorien!$A$2:$B$11,2,FALSE),\": \",D3968,\", \",C3968)","v":"SW2: Zeller, Monika"},{"$f":"VLOOKUP(A3968,bangolf_kategorien!$A$2:$B$11,2,FALSE)","v":"SW2"}]
["hv",31736,"Helmut","Zender","MGC Bergisch Gladbach Gierath",{"$f":"CONCATENATE(VLOOKUP(A3969,bangolf_kategorien!$A$2:$B$11,2,FALSE),\": \",D3969,\", \",C3969)","v":"SM2: Zender, Helmut"},{"$f":"VLOOKUP(A3969,bangolf_kategorien!$A$2:$B$11,2,FALSE)","v":"SM2"}]
["ob",46752,"Markus","Zender","MGC Bad Bodendorf",{"$f":"CONCATENATE(VLOOKUP(A3970,bangolf_kategorien!$A$2:$B$11,2,FALSE),\": \",D3970,\", \",C3970)","v":"SM1: Zender, Markus"},{"$f":"VLOOKUP(A3970,bangolf_kategorien!$A$2:$B$11,2,FALSE)","v":"SM1"}]
["dv",3211284,"Christine","Zentgraf","Hobby",{"$f":"CONCATENATE(VLOOKUP(A3971,bangolf_kategorien!$A$2:$B$11,2,FALSE),\": \",D3971,\", \",C3971)","v":"SW2: Zentgraf, Christine"},{"$f":"VLOOKUP(A3971,bangolf_kategorien!$A$2:$B$11,2,FALSE)","v":"SW2"}]
["hv",18151,"Heinz","Zideller","BGSC Bochum 1978",{"$f":"CONCATENATE(VLOOKUP(A3972,bangolf_kategorien!$A$2:$B$11,2,FALSE),\": \",D3972,\", \",C3972)","v":"SM2: Zideller, Heinz"},{"$f":"VLOOKUP(A3972,bangolf_kategorien!$A$2:$B$11,2,FALSE)","v":"SM2"}]
["hv",6175,"Klaus","Ziebell","Tempelhofer MV Berlin",{"$f":"CONCATENATE(VLOOKUP(A3973,bangolf_kategorien!$A$2:$B$11,2,FALSE),\": \",D3973,\", \",C3973)","v":"SM2: Ziebell, Klaus"},{"$f":"VLOOKUP(A3973,bangolf_kategorien!$A$2:$B$11,2,FALSE)","v":"SM2"}]
["ob",66330,"Andreas","Ziegler","MSK Olching",{"$f":"CONCATENATE(VLOOKUP(A3974,bangolf_kategorien!$A$2:$B$11,2,FALSE),\": \",D3974,\", \",C3974)","v":"SM1: Ziegler, Andreas"},{"$f":"VLOOKUP(A3974,bangolf_kategorien!$A$2:$B$11,2,FALSE)","v":"SM1"}]
["hs",36994,"Frank","Ziegler","TG Höchberg von 1862 Bahnengolf",{"$f":"CONCATENATE(VLOOKUP(A3975,bangolf_kategorien!$A$2:$B$11,2,FALSE),\": \",D3975,\", \",C3975)","v":"H: Ziegler, Frank"},{"$f":"VLOOKUP(A3975,bangolf_kategorien!$A$2:$B$11,2,FALSE)","v":"H"}]
["hv",36995,"Roland","Ziegler","MGV Ansbach",{"$f":"CONCATENATE(VLOOKUP(A3976,bangolf_kategorien!$A$2:$B$11,2,FALSE),\": \",D3976,\", \",C3976)","v":"SM2: Ziegler, Roland"},{"$f":"VLOOKUP(A3976,bangolf_kategorien!$A$2:$B$11,2,FALSE)","v":"SM2"}]
["hs",38485,"Thomas","Ziegler","BGSV Kerpen",{"$f":"CONCATENATE(VLOOKUP(A3977,bangolf_kategorien!$A$2:$B$11,2,FALSE),\": \",D3977,\", \",C3977)","v":"H: Ziegler, Thomas"},{"$f":"VLOOKUP(A3977,bangolf_kategorien!$A$2:$B$11,2,FALSE)","v":"H"}]
["ob",66643,"Uwe","Ziegler","MGC \"Stahlquelle\" Bad Bocklet",{"$f":"CONCATENATE(VLOOKUP(A3978,bangolf_kategorien!$A$2:$B$11,2,FALSE),\": \",D3978,\", \",C3978)","v":"SM1: Ziegler, Uwe"},{"$f":"VLOOKUP(A3978,bangolf_kategorien!$A$2:$B$11,2,FALSE)","v":"SM1"}]
["ob",67543,"Rüdiger","Ziel","1. Minigolf-Club Rheinhausen",{"$f":"CONCATENATE(VLOOKUP(A3979,bangolf_kategorien!$A$2:$B$11,2,FALSE),\": \",D3979,\", \",C3979)","v":"SM1: Ziel, Rüdiger"},{"$f":"VLOOKUP(A3979,bangolf_kategorien!$A$2:$B$11,2,FALSE)","v":"SM1"}]
["dv",67542,"Ute","Ziel","1. Minigolf-Club Rheinhausen",{"$f":"CONCATENATE(VLOOKUP(A3980,bangolf_kategorien!$A$2:$B$11,2,FALSE),\": \",D3980,\", \",C3980)","v":"SW2: Ziel, Ute"},{"$f":"VLOOKUP(A3980,bangolf_kategorien!$A$2:$B$11,2,FALSE)","v":"SW2"}]
["hs",38205,"Christian","Zielaff","1. MSC Wesel 6.6.1966",{"$f":"CONCATENATE(VLOOKUP(A3981,bangolf_kategorien!$A$2:$B$11,2,FALSE),\": \",D3981,\", \",C3981)","v":"H: Zielaff, Christian"},{"$f":"VLOOKUP(A3981,bangolf_kategorien!$A$2:$B$11,2,FALSE)","v":"H"}]
["ob",33643,"Robert","Zierl","MGC Wertheim 91",{"$f":"CONCATENATE(VLOOKUP(A3982,bangolf_kategorien!$A$2:$B$11,2,FALSE),\": \",D3982,\", \",C3982)","v":"SM1: Zierl, Robert"},{"$f":"VLOOKUP(A3982,bangolf_kategorien!$A$2:$B$11,2,FALSE)","v":"SM1"}]
["dv",35462,"Sabine","Zierl","MGC Wertheim 91",{"$f":"CONCATENATE(VLOOKUP(A3983,bangolf_kategorien!$A$2:$B$11,2,FALSE),\": \",D3983,\", \",C3983)","v":"SW2: Zierl, Sabine"},{"$f":"VLOOKUP(A3983,bangolf_kategorien!$A$2:$B$11,2,FALSE)","v":"SW2"}]
["ds",38398,"Nicole","Ziesing","MSV Berliner Bär",{"$f":"CONCATENATE(VLOOKUP(A3984,bangolf_kategorien!$A$2:$B$11,2,FALSE),\": \",D3984,\", \",C3984)","v":"D: Ziesing, Nicole"},{"$f":"VLOOKUP(A3984,bangolf_kategorien!$A$2:$B$11,2,FALSE)","v":"D"}]
["ob",38515,"René","Ziesing","MSV Berliner Bär",{"$f":"CONCATENATE(VLOOKUP(A3985,bangolf_kategorien!$A$2:$B$11,2,FALSE),\": \",D3985,\", \",C3985)","v":"SM1: Ziesing, René"},{"$f":"VLOOKUP(A3985,bangolf_kategorien!$A$2:$B$11,2,FALSE)","v":"SM1"}]
["ds",67398,"Clara","Zimmermann","MSV Bad Kreuznach",{"$f":"CONCATENATE(VLOOKUP(A3986,bangolf_kategorien!$A$2:$B$11,2,FALSE),\": \",D3986,\", \",C3986)","v":"D: Zimmermann, Clara"},{"$f":"VLOOKUP(A3986,bangolf_kategorien!$A$2:$B$11,2,FALSE)","v":"D"}]
["ob",66463,"Dieter","Zimmermann","1. BGC Paderborn",{"$f":"CONCATENATE(VLOOKUP(A3987,bangolf_kategorien!$A$2:$B$11,2,FALSE),\": \",D3987,\", \",C3987)","v":"SM1: Zimmermann, Dieter"},{"$f":"VLOOKUP(A3987,bangolf_kategorien!$A$2:$B$11,2,FALSE)","v":"SM1"}]
["pa",67334,"Iven","Zimmermann","MSV Bad Kreuznach",{"$f":"CONCATENATE(VLOOKUP(A3988,bangolf_kategorien!$A$2:$B$11,2,FALSE),\": \",D3988,\", \",C3988)","v":"SCHM: Zimmermann, Iven"},{"$f":"VLOOKUP(A3988,bangolf_kategorien!$A$2:$B$11,2,FALSE)","v":"SCHM"}]
["pa",67333,"Lowis","Zimmermann","MSV Bad Kreuznach",{"$f":"CONCATENATE(VLOOKUP(A3989,bangolf_kategorien!$A$2:$B$11,2,FALSE),\": \",D3989,\", \",C3989)","v":"SCHM: Zimmermann, Lowis"},{"$f":"VLOOKUP(A3989,bangolf_kategorien!$A$2:$B$11,2,FALSE)","v":"SCHM"}]
["hs",36344,"Lukas","Zimmermann","BGC Heilbronn",{"$f":"CONCATENATE(VLOOKUP(A3990,bangolf_kategorien!$A$2:$B$11,2,FALSE),\": \",D3990,\", \",C3990)","v":"H: Zimmermann, Lukas"},{"$f":"VLOOKUP(A3990,bangolf_kategorien!$A$2:$B$11,2,FALSE)","v":"H"}]
["hj",67335,"Malte","Zimmermann","MSV Bad Kreuznach",{"$f":"CONCATENATE(VLOOKUP(A3991,bangolf_kategorien!$A$2:$B$11,2,FALSE),\": \",D3991,\", \",C3991)","v":"JM: Zimmermann, Malte"},{"$f":"VLOOKUP(A3991,bangolf_kategorien!$A$2:$B$11,2,FALSE)","v":"JM"}]
["ob",67332,"Torsten","Zimmermann","MSV Bad Kreuznach",{"$f":"CONCATENATE(VLOOKUP(A3992,bangolf_kategorien!$A$2:$B$11,2,FALSE),\": \",D3992,\", \",C3992)","v":"SM1: Zimmermann, Torsten"},{"$f":"VLOOKUP(A3992,bangolf_kategorien!$A$2:$B$11,2,FALSE)","v":"SM1"}]
["hs",36086,"Christopher","Zink","BGC Northeim",{"$f":"CONCATENATE(VLOOKUP(A3993,bangolf_kategorien!$A$2:$B$11,2,FALSE),\": \",D3993,\", \",C3993)","v":"H: Zink, Christopher"},{"$f":"VLOOKUP(A3993,bangolf_kategorien!$A$2:$B$11,2,FALSE)","v":"H"}]
["ob",3106815,"Armin","Zipfel","Hobby",{"$f":"CONCATENATE(VLOOKUP(A3994,bangolf_kategorien!$A$2:$B$11,2,FALSE),\": \",D3994,\", \",C3994)","v":"SM1: Zipfel, Armin"},{"$f":"VLOOKUP(A3994,bangolf_kategorien!$A$2:$B$11,2,FALSE)","v":"SM1"}]
["hv",45833,"Gerhard","Zipfel","BGC Illertissen",{"$f":"CONCATENATE(VLOOKUP(A3995,bangolf_kategorien!$A$2:$B$11,2,FALSE),\": \",D3995,\", \",C3995)","v":"SM2: Zipfel, Gerhard"},{"$f":"VLOOKUP(A3995,bangolf_kategorien!$A$2:$B$11,2,FALSE)","v":"SM2"}]
["ds",35900,"Bianca","Zirkenbach","MGC Bad Homburg vdH",{"$f":"CONCATENATE(VLOOKUP(A3996,bangolf_kategorien!$A$2:$B$11,2,FALSE),\": \",D3996,\", \",C3996)","v":"D: Zirkenbach, Bianca"},{"$f":"VLOOKUP(A3996,bangolf_kategorien!$A$2:$B$11,2,FALSE)","v":"D"}]
["fa",67569,"Kiara","Zirkenbach","MGC Bad Homburg vdH",{"$f":"CONCATENATE(VLOOKUP(A3997,bangolf_kategorien!$A$2:$B$11,2,FALSE),\": \",D3997,\", \",C3997)","v":"SCHW: Zirkenbach, Kiara"},{"$f":"VLOOKUP(A3997,bangolf_kategorien!$A$2:$B$11,2,FALSE)","v":"SCHW"}]
["fa",65132,"Lavinia","Zirkenbach","MGC Bad Homburg vdH",{"$f":"CONCATENATE(VLOOKUP(A3998,bangolf_kategorien!$A$2:$B$11,2,FALSE),\": \",D3998,\", \",C3998)","v":"SCHW: Zirkenbach, Lavinia"},{"$f":"VLOOKUP(A3998,bangolf_kategorien!$A$2:$B$11,2,FALSE)","v":"SCHW"}]
["pa",67492,"Marlin","Zirkenbach","MGC Bad Homburg vdH",{"$f":"CONCATENATE(VLOOKUP(A3999,bangolf_kategorien!$A$2:$B$11,2,FALSE),\": \",D3999,\", \",C3999)","v":"SCHM: Zirkenbach, Marlin"},{"$f":"VLOOKUP(A3999,bangolf_kategorien!$A$2:$B$11,2,FALSE)","v":"SCHM"}]
["ds",50153,"Bianca","Zodrow-Wenke","1. MGC 1970 Göttingen",{"$f":"CONCATENATE(VLOOKUP(A4000,bangolf_kategorien!$A$2:$B$11,2,FALSE),\": \",D4000,\", \",C4000)","v":"D: Zodrow-Wenke, Bianca"},{"$f":"VLOOKUP(A4000,bangolf_kategorien!$A$2:$B$11,2,FALSE)","v":"D"}]
["dv",3510,"Sieglinde","Zollinger","MGF Hilzingen 80",{"$f":"CONCATENATE(VLOOKUP(A4001,bangolf_kategorien!$A$2:$B$11,2,FALSE),\": \",D4001,\", \",C4001)","v":"SW2: Zollinger, Sieglinde"},{"$f":"VLOOKUP(A4001,bangolf_kategorien!$A$2:$B$11,2,FALSE)","v":"SW2"}]
["hs",32674,"Lars","Zornstein","Cobigolf-Verein Hamm 2019",{"$f":"CONCATENATE(VLOOKUP(A4002,bangolf_kategorien!$A$2:$B$11,2,FALSE),\": \",D4002,\", \",C4002)","v":"H: Zornstein, Lars"},{"$f":"VLOOKUP(A4002,bangolf_kategorien!$A$2:$B$11,2,FALSE)","v":"H"}]
["ds",36168,"Nicole","Zornstein","Cobigolf-Verein Hamm 2019",{"$f":"CONCATENATE(VLOOKUP(A4003,bangolf_kategorien!$A$2:$B$11,2,FALSE),\": \",D4003,\", \",C4003)","v":"D: Zornstein, Nicole"},{"$f":"VLOOKUP(A4003,bangolf_kategorien!$A$2:$B$11,2,FALSE)","v":"D"}]
["hv",36914,"Ronald","Zoschke","MGF Magdeburg 1995",{"$f":"CONCATENATE(VLOOKUP(A4004,bangolf_kategorien!$A$2:$B$11,2,FALSE),\": \",D4004,\", \",C4004)","v":"SM2: Zoschke, Ronald"},{"$f":"VLOOKUP(A4004,bangolf_kategorien!$A$2:$B$11,2,FALSE)","v":"SM2"}]
["ds",38006,"Hannah","Zschäpe","VfB Osnabrück",{"$f":"CONCATENATE(VLOOKUP(A4005,bangolf_kategorien!$A$2:$B$11,2,FALSE),\": \",D4005,\", \",C4005)","v":"D: Zschäpe, Hannah"},{"$f":"VLOOKUP(A4005,bangolf_kategorien!$A$2:$B$11,2,FALSE)","v":"D"}]
["hv",37751,"Jens-Bob","Zschäpe","VfB Osnabrück",{"$f":"CONCATENATE(VLOOKUP(A4006,bangolf_kategorien!$A$2:$B$11,2,FALSE),\": \",D4006,\", \",C4006)","v":"SM2: Zschäpe, Jens-Bob"},{"$f":"VLOOKUP(A4006,bangolf_kategorien!$A$2:$B$11,2,FALSE)","v":"SM2"}]
["ds",37750,"Ruth Friederike","Zschäpe","VfB Osnabrück",{"$f":"CONCATENATE(VLOOKUP(A4007,bangolf_kategorien!$A$2:$B$11,2,FALSE),\": \",D4007,\", \",C4007)","v":"D: Zschäpe, Ruth Friederike"},{"$f":"VLOOKUP(A4007,bangolf_kategorien!$A$2:$B$11,2,FALSE)","v":"D"}]
["hv",25152,"Jörg","Zseby","1. MGV Spandau Berlin",{"$f":"CONCATENATE(VLOOKUP(A4008,bangolf_kategorien!$A$2:$B$11,2,FALSE),\": \",D4008,\", \",C4008)","v":"SM2: Zseby, Jörg"},{"$f":"VLOOKUP(A4008,bangolf_kategorien!$A$2:$B$11,2,FALSE)","v":"SM2"}]
["ds",37389,"Michaela","Zwirlein","TG Höchberg von 1862 Bahnengolf",{"$f":"CONCATENATE(VLOOKUP(A4009,bangolf_kategorien!$A$2:$B$11,2,FALSE),\": \",D4009,\", \",C4009)","v":"D: Zwirlein, Michaela"},{"$f":"VLOOKUP(A4009,bangolf_kategorien!$A$2:$B$11,2,FALSE)","v":"D"}]
["ob",37390,"Rainer","Zwirlein","MGC Murnau am Staffelsee",{"$f":"CONCATENATE(VLOOKUP(A4010,bangolf_kategorien!$A$2:$B$11,2,FALSE),\": \",D4010,\", \",C4010)","v":"SM1: Zwirlein, Rainer"},{"$f":"VLOOKUP(A4010,bangolf_kategorien!$A$2:$B$11,2,FALSE)","v":"SM1"}]
["hv",67051,"Johann","Zymelka","BGC Bildstock",{"$f":"CONCATENATE(VLOOKUP(A4011,bangolf_kategorien!$A$2:$B$11,2,FALSE),\": \",D4011,\", \",C4011)","v":"SM2: Zymelka, Johann"},{"$f":"VLOOKUP(A4011,bangolf_kategorien!$A$2:$B$11,2,FALSE)","v":"SM2"}]
["hv","Hobby1","Peter","Hesse","Hobby",{"$f":"CONCATENATE(VLOOKUP(A4012,bangolf_kategorien!$A$2:$B$11,2,FALSE),\": \",D4012,\", \",C4012)","v":"SM2: Hesse, Peter"},{"$f":"VLOOKUP(A4012,bangolf_kategorien!$A$2:$B$11,2,FALSE)","v":"SM2"}]
["dv","Hobby2","Ulla","Barthauer","Hobby",{"$f":"CONCATENATE(VLOOKUP(A4013,bangolf_kategorien!$A$2:$B$11,2,FALSE),\": \",D4013,\", \",C4013)","v":"SW2: Barthauer, Ulla"},{"$f":"VLOOKUP(A4013,bangolf_kategorien!$A$2:$B$11,2,FALSE)","v":"SW2"}]
["hv","Hobby3","Bernd","Preißinger","Hobby",{"$f":"CONCATENATE(VLOOKUP(A4014,bangolf_kategorien!$A$2:$B$11,2,FALSE),\": \",D4014,\", \",C4014)","v":"SM2: Preißinger, Bernd"},{"$f":"VLOOKUP(A4014,bangolf_kategorien!$A$2:$B$11,2,FALSE)","v":"SM2"}]
["hv","Hobby4","Günter","Schmidtbauer","Hobby",{"$f":"CONCATENATE(VLOOKUP(A4015,bangolf_kategorien!$A$2:$B$11,2,FALSE),\": \",D4015,\", \",C4015)","v":"SM2: Schmidtbauer, Günter"},{"$f":"VLOOKUP(A4015,bangolf_kategorien!$A$2:$B$11,2,FALSE)","v":"SM2"}]
["hs","Hobby5","Thorsten","Goldau","Hobby",{"$f":"CONCATENATE(VLOOKUP(A4016,bangolf_kategorien!$A$2:$B$11,2,FALSE),\": \",D4016,\", \",C4016)","v":"H: Goldau, Thorsten"},{"$f":"VLOOKUP(A4016,bangolf_kategorien!$A$2:$B$11,2,FALSE)","v":"H"}]
["og","Hobby6","Brigitte","Börgmann","Hobby",{"$f":"CONCATENATE(VLOOKUP(A4017,bangolf_kategorien!$A$2:$B$11,2,FALSE),\": \",D4017,\", \",C4017)","v":"SW1: Börgmann, Brigitte"},{"$f":"VLOOKUP(A4017,bangolf_kategorien!$A$2:$B$11,2,FALSE)","v":"SW1"}]
["ds","Hobby7","Nicole","Lieber","Hobby",{"$f":"CONCATENATE(VLOOKUP(A4018,bangolf_kategorien!$A$2:$B$11,2,FALSE),\": \",D4018,\", \",C4018)","v":"D: Lieber, Nicole"},{"$f":"VLOOKUP(A4018,bangolf_kategorien!$A$2:$B$11,2,FALSE)","v":"D"}]
["og","Hobby9","Marita","Keuth","Hobby",{"$f":"CONCATENATE(VLOOKUP(A4019,bangolf_kategorien!$A$2:$B$11,2,FALSE),\": \",D4019,\", \",C4019)","v":"SW1: Keuth, Marita"},{"$f":"VLOOKUP(A4019,bangolf_kategorien!$A$2:$B$11,2,FALSE)","v":"SW1"}]
["hs","Hobby10","Frank","Skischalli","Hobby",{"$f":"CONCATENATE(VLOOKUP(A4020,bangolf_kategorien!$A$2:$B$11,2,FALSE),\": \",D4020,\", \",C4020)","v":"H: Skischalli, Frank"},{"$f":"VLOOKUP(A4020,bangolf_kategorien!$A$2:$B$11,2,FALSE)","v":"H"}]
["hv","Hobby11","Michael","Puschner","Hobby",{"$f":"CONCATENATE(VLOOKUP(A4021,bangolf_kategorien!$A$2:$B$11,2,FALSE),\": \",D4021,\", \",C4021)","v":"SM2: Puschner, Michael"},{"$f":"VLOOKUP(A4021,bangolf_kategorien!$A$2:$B$11,2,FALSE)","v":"SM2"}]
["hv","Hobby13","Walter","Lütje","Hobby",{"$f":"CONCATENATE(VLOOKUP(A4022,bangolf_kategorien!$A$2:$B$11,2,FALSE),\": \",D4022,\", \",C4022)","v":"SM2: Lütje, Walter"},{"$f":"VLOOKUP(A4022,bangolf_kategorien!$A$2:$B$11,2,FALSE)","v":"SM2"}]
["dv","Hobby14","Ursula","Lütje","Hobby",{"$f":"CONCATENATE(VLOOKUP(A4023,bangolf_kategorien!$A$2:$B$11,2,FALSE),\": \",D4023,\", \",C4023)","v":"SW2: Lütje, Ursula"},{"$f":"VLOOKUP(A4023,bangolf_kategorien!$A$2:$B$11,2,FALSE)","v":"SW2"}]
["ob","Hobby15","Ulrich","Börgmann","Hobby",{"$f":"CONCATENATE(VLOOKUP(A4024,bangolf_kategorien!$A$2:$B$11,2,FALSE),\": \",D4024,\", \",C4024)","v":"SM1: Börgmann, Ulrich"},{"$f":"VLOOKUP(A4024,bangolf_kategorien!$A$2:$B$11,2,FALSE)","v":"SM1"}]
["ob","Hobby16","Karsten","Gattner","Hobby",{"$f":"CONCATENATE(VLOOKUP(A4025,bangolf_kategorien!$A$2:$B$11,2,FALSE),\": \",D4025,\", \",C4025)","v":"SM1: Gattner, Karsten"},{"$f":"VLOOKUP(A4025,bangolf_kategorien!$A$2:$B$11,2,FALSE)","v":"SM1"}]
["dv","Hobby17","Ellen","Keruth","Hobby",{"$f":"CONCATENATE(VLOOKUP(A4026,bangolf_kategorien!$A$2:$B$11,2,FALSE),\": \",D4026,\", \",C4026)","v":"SW2: Keruth, Ellen"},{"$f":"VLOOKUP(A4026,bangolf_kategorien!$A$2:$B$11,2,FALSE)","v":"SW2"}]
["dv","Hobby18","Ursula","Koch","Hobby",{"$f":"CONCATENATE(VLOOKUP(A4027,bangolf_kategorien!$A$2:$B$11,2,FALSE),\": \",D4027,\", \",C4027)","v":"SW2: Koch, Ursula"},{"$f":"VLOOKUP(A4027,bangolf_kategorien!$A$2:$B$11,2,FALSE)","v":"SW2"}]
["dv","Hobby19","Silke","Puschner","Hobby",{"$f":"CONCATENATE(VLOOKUP(A4028,bangolf_kategorien!$A$2:$B$11,2,FALSE),\": \",D4028,\", \",C4028)","v":"SW2: Puschner, Silke"},{"$f":"VLOOKUP(A4028,bangolf_kategorien!$A$2:$B$11,2,FALSE)","v":"SW2"}]
["hs","Hobby20","Endres","Puschner","Hobby",{"$f":"CONCATENATE(VLOOKUP(A4029,bangolf_kategorien!$A$2:$B$11,2,FALSE),\": \",D4029,\", \",C4029)","v":"H: Puschner, Endres"},{"$f":"VLOOKUP(A4029,bangolf_kategorien!$A$2:$B$11,2,FALSE)","v":"H"}]
["hv","Hobby21","Klaus","Fechner","Hobby",{"$f":"CONCATENATE(VLOOKUP(A4030,bangolf_kategorien!$A$2:$B$11,2,FALSE),\": \",D4030,\", \",C4030)","v":"SM2: Fechner, Klaus"},{"$f":"VLOOKUP(A4030,bangolf_kategorien!$A$2:$B$11,2,FALSE)","v":"SM2"}]
["ob","Hobby22","Christian","Nopens","Hobby",{"$f":"CONCATENATE(VLOOKUP(A4031,bangolf_kategorien!$A$2:$B$11,2,FALSE),\": \",D4031,\", \",C4031)","v":"SM1: Nopens, Christian"},{"$f":"VLOOKUP(A4031,bangolf_kategorien!$A$2:$B$11,2,FALSE)","v":"SM1"}]
["og","Hobby23","Ute","Nopens","Hobby",{"$f":"CONCATENATE(VLOOKUP(A4032,bangolf_kategorien!$A$2:$B$11,2,FALSE),\": \",D4032,\", \",C4032)","v":"SW1: Nopens, Ute"},{"$f":"VLOOKUP(A4032,bangolf_kategorien!$A$2:$B$11,2,FALSE)","v":"SW1"}]
["ds","Hobby25","Petra","Hünnebeck","Hobby",{"$f":"CONCATENATE(VLOOKUP(A4033,bangolf_kategorien!$A$2:$B$11,2,FALSE),\": \",D4033,\", \",C4033)","v":"D: Hünnebeck, Petra"},{"$f":"VLOOKUP(A4033,bangolf_kategorien!$A$2:$B$11,2,FALSE)","v":"D"}]
["dv","Hobby26","Angela","Janz","Hobby",{"$f":"CONCATENATE(VLOOKUP(A4034,bangolf_kategorien!$A$2:$B$11,2,FALSE),\": \",D4034,\", \",C4034)","v":"SW2: Janz, Angela"},{"$f":"VLOOKUP(A4034,bangolf_kategorien!$A$2:$B$11,2,FALSE)","v":"SW2"}]
["hs","Hobby27","Saddrik","Leibrandt","Hobby",{"$f":"CONCATENATE(VLOOKUP(A4035,bangolf_kategorien!$A$2:$B$11,2,FALSE),\": \",D4035,\", \",C4035)","v":"H: Leibrandt, Saddrik"},{"$f":"VLOOKUP(A4035,bangolf_kategorien!$A$2:$B$11,2,FALSE)","v":"H"}]
["hv","Hobby28","Uwe","Frost","Hobby",{"$f":"CONCATENATE(VLOOKUP(A4036,bangolf_kategorien!$A$2:$B$11,2,FALSE),\": \",D4036,\", \",C4036)","v":"SM2: Frost, Uwe"},{"$f":"VLOOKUP(A4036,bangolf_kategorien!$A$2:$B$11,2,FALSE)","v":"SM2"}]
["hv","Hobby29","Thomas","Hoffmann","Hobby",{"$f":"CONCATENATE(VLOOKUP(A4037,bangolf_kategorien!$A$2:$B$11,2,FALSE),\": \",D4037,\", \",C4037)","v":"SM2: Hoffmann, Thomas"},{"$f":"VLOOKUP(A4037,bangolf_kategorien!$A$2:$B$11,2,FALSE)","v":"SM2"}]
["og","Hobby31","Sabine","Kortmann","Hobby",{"$f":"CONCATENATE(VLOOKUP(A4038,bangolf_kategorien!$A$2:$B$11,2,FALSE),\": \",D4038,\", \",C4038)","v":"SW1: Kortmann, Sabine"},{"$f":"VLOOKUP(A4038,bangolf_kategorien!$A$2:$B$11,2,FALSE)","v":"SW1"}]
["ob","Hobby32","Uwe","Kortmann","Hobby",{"$f":"CONCATENATE(VLOOKUP(A4039,bangolf_kategorien!$A$2:$B$11,2,FALSE),\": \",D4039,\", \",C4039)","v":"SM1: Kortmann, Uwe"},{"$f":"VLOOKUP(A4039,bangolf_kategorien!$A$2:$B$11,2,FALSE)","v":"SM1"}]
["hv","Hobby34","Bernd","Peine","Hobby",{"$f":"CONCATENATE(VLOOKUP(A4040,bangolf_kategorien!$A$2:$B$11,2,FALSE),\": \",D4040,\", \",C4040)","v":"SM2: Peine, Bernd"},{"$f":"VLOOKUP(A4040,bangolf_kategorien!$A$2:$B$11,2,FALSE)","v":"SM2"}]
["og","Hobby35","Ute","Nopens","Hobby",{"$f":"CONCATENATE(VLOOKUP(A4041,bangolf_kategorien!$A$2:$B$11,2,FALSE),\": \",D4041,\", \",C4041)","v":"SW1: Nopens, Ute"},{"$f":"VLOOKUP(A4041,bangolf_kategorien!$A$2:$B$11,2,FALSE)","v":"SW1"}]
["ob","Hobby36","Christian","Nopens","Hobby",{"$f":"CONCATENATE(VLOOKUP(A4042,bangolf_kategorien!$A$2:$B$11,2,FALSE),\": \",D4042,\", \",C4042)","v":"SM1: Nopens, Christian"},{"$f":"VLOOKUP(A4042,bangolf_kategorien!$A$2:$B$11,2,FALSE)","v":"SM1"}]
["ds","Hobby37","Anna","Kortmann","Hobby",{"$f":"CONCATENATE(VLOOKUP(A4043,bangolf_kategorien!$A$2:$B$11,2,FALSE),\": \",D4043,\", \",C4043)","v":"D: Kortmann, Anna"},{"$f":"VLOOKUP(A4043,bangolf_kategorien!$A$2:$B$11,2,FALSE)","v":"D"}]
["ob","Hobby38","Frank","Brunnenkant","Hobby",{"$f":"CONCATENATE(VLOOKUP(A4044,bangolf_kategorien!$A$2:$B$11,2,FALSE),\": \",D4044,\", \",C4044)","v":"SM1: Brunnenkant, Frank"},{"$f":"VLOOKUP(A4044,bangolf_kategorien!$A$2:$B$11,2,FALSE)","v":"SM1"}]
["ob","Hobby39","Andreas","Wilke","Hobby",{"$f":"CONCATENATE(VLOOKUP(A4045,bangolf_kategorien!$A$2:$B$11,2,FALSE),\": \",D4045,\", \",C4045)","v":"SM1: Wilke, Andreas"},{"$f":"VLOOKUP(A4045,bangolf_kategorien!$A$2:$B$11,2,FALSE)","v":"SM1"}]
["ob","Hobby40","Martin","Kunz","Hobby",{"$f":"CONCATENATE(VLOOKUP(A4046,bangolf_kategorien!$A$2:$B$11,2,FALSE),\": \",D4046,\", \",C4046)","v":"SM1: Kunz, Martin"},{"$f":"VLOOKUP(A4046,bangolf_kategorien!$A$2:$B$11,2,FALSE)","v":"SM1"}]
["pa","Hobby41","Jonas","Rabe","Hobby",{"$f":"CONCATENATE(VLOOKUP(A4047,bangolf_kategorien!$A$2:$B$11,2,FALSE),\": \",D4047,\", \",C4047)","v":"SCHM: Rabe, Jonas"},{"$f":"VLOOKUP(A4047,bangolf_kategorien!$A$2:$B$11,2,FALSE)","v":"SCHM"}]
["hs","Hobby42","Christian","Becker","Hobby",{"$f":"CONCATENATE(VLOOKUP(A4048,bangolf_kategorien!$A$2:$B$11,2,FALSE),\": \",D4048,\", \",C4048)","v":"H: Becker, Christian"},{"$f":"VLOOKUP(A4048,bangolf_kategorien!$A$2:$B$11,2,FALSE)","v":"H"}]

{"sheet":"Vereine","index":26,"n_rows":29,"n_cols":2,"rows_kept":29,"cut":false,"hidden":true,"merged":[]}
["Vereinsname","Kürzel"]
["MGC \"AS\" Witten 1963","ASW"]
["MSK Neheim-Hüsten","NEH"]
["Niendorfer MC v. 1963","NIE"]
["1. MGC Köln 1961","KÖL"]
["SGC Hagen","HAG"]
["HMC Büttgen","BÜT"]
["BGC Assindia Essen","ASS"]
["BGSC Bochum 1978","BGSC"]
["SG Arheilgen Abt. Bahnengolf","Arheilg."]
["BGS Hardenberg-Pötter","Hardenb."]
["Hobby","Hobby"]
["MGC Felderbachtal 1964","FEL"]
["1. MGC Gelsenkirchen","Gels."]
["BGV Bergisch Land 1962 / 63","B.-Land"]
["BSC Ennepetal","Ennep."]
["Bochumer Minigolf-Club 1960","BMC"]
["BGSV Castrop 1961","CAS"]
["SC Bastion Rot Weiß Lippstadt","LIP"]
["1. Essener CGC \"Blau-Gold\"","1. CGC"]
["1. MGC Paderborn","Paderb."]
["SSC Halver","Halver"]
["MSC Herscheid 1963","Hersch."]
["SC Olympia Dortmund","Oly"]
["MGC Dormagen-Brechten","Do-Bre"]
["MGC Heven","HEV"]
["MGV Eibenstock","Eiben."]
["MC 62 Lüdenscheid","Lüd."]
["1. MSC Wesel 6.6.1966","Wesel"]

{"sheet":"bangolf_kategorien","index":27,"n_rows":11,"n_cols":2,"rows_kept":11,"cut":false,"hidden":true,"merged":[]}
["Bangolf","Kategorie"]
["dv","SW2"]
["og","SW1"]
["ds","D"]
["hv","SM2"]
["ob","SM1"]
["hs","H"]
["dj","JW"]
["hj","JM"]
["fa","SCHW"]
["pa","SCHM"]

{"sheet":"Punkteschema","index":28,"n_rows":101,"n_cols":2,"rows_kept":101,"cut":false,"hidden":true,"merged":[]}
["Platz","Punkte"]
[0,0]
[1,25]
[2,21]
[3,18]
[4,15]
[5,15]
[6,15]
[7,10]
[8,10]
[9,10]
[10,10]
[11,5]
[12,5]
[13,5]
[14,5]
[15,5]
[16,3]
[17,3]
[18,3]
[19,3]
[20,3]
[21,1]
[22,1]
[23,1]
[24,1]
[25,1]
[26,1]
[27,1]
[28,1]
[29,1]
[30,1]
[31,1]
[32,1]
[33,1]
[34,1]
[35,1]
[36,1]
[37,1]
[38,1]
[39,1]
[40,1]
[41,1]
[42,1]
[43,1]
[44,1]
[45,1]
[46,1]
[47,1]
[48,1]
[49,1]
[50,1]
[51,1]
[52,1]
[53,1]
[54,1]
[55,1]
[56,1]
[57,1]
[58,1]
[59,1]
[60,1]
[61,1]
[62,1]
[63,1]
[64,1]
[65,1]
[66,1]
[67,1]
[68,1]
[69,1]
[70,1]
[71,1]
[72,1]
[73,1]
[74,1]
[75,1]
[76,1]
[77,1]
[78,1]
[79,1]
[80,1]
[81,1]
[82,1]
[83,1]
[84,1]
[85,1]
[86,1]
[87,1]
[88,1]
[89,1]
[90,1]
[91,1]
[92,1]
[93,1]
[94,1]
[95,1]
[96,1]
[97,1]
[98,1]
[99,1]

{"sheet":"Hilfe","index":29,"n_rows":14,"n_cols":5,"rows_kept":14,"cut":false,"hidden":true,"merged":[]}
[8,"<- die besten … Punktzahlen werden gewertet"]
[null,"(8 von 12, also die besten ca. 67% der Spieltage)"]
[null,"Quali für Preise: mindestens 13 von 18 Spieltagen,"]
[null,"also etwa an mindestens 72% der Spieltage"]
[]
[null,"war mal 9 von 13, 8 von 12 reicht diesmal"]
[]
[null,null,"Standard","aktuell","gerundet"]
[null,"gesamt",17,16,{"$f":"ROUND(D9,0)","v":16}]
[null,"gewertet",11,{"$f":"D9/$C$9*$C10","v":10.352941176470589},{"$f":"ROUND(D10,0)","v":10}]
[null,"Mindestteilnahme",12,{"$f":"D9/$C$9*$C11","v":11.294117647058822},{"$f":"ROUND(D11,0)","v":11}]
[]
[null,"% gewertet",{"$f":"C10/C9","v":0.6470588235294118},{"$f":"D10/D9","v":0.6470588235294118},{"$f":"E10/E9","v":0.625}]
[null,"% Mindestteilnahme",{"$f":"C11/C9","v":0.70588235294117652},{"$f":"D11/D9","v":0.70588235294117641},{"$f":"E11/E9","v":0.6875}]

{"sheet":"Preise","index":30,"n_rows":16,"n_cols":5,"rows_kept":16,"cut":false,"hidden":true,"merged":[]}
[20,"Teilnehmer"]
[13,"Starts"]
[{"$f":"A2*A1","v":260},"TN*Starts"]
[{"$f":"1123.5/389","v":2.8881748071979434},"Mittel bis Tag18"]
[5,"Startgeld"]
[{"$f":"A5*A3","v":1300},"Einnahmen"]
[{"$f":"Gesamtstand!Z42","v":992.5},"Einnahmen echt"]
[]
[null,"Ausschreibung","% Einnahmen","analog","% analog"]
[1,185,{"$f":"B10/A$6","v":0.1423076923076923},{"$f":"ROUND(C10*A$7,-1)","v":140},{"$f":"IF(A$7=0,0,D10/A$7)","v":0.14105793450881612}]
[2,140,{"$f":"B11/A$6","v":0.1076923076923077},110,{"$f":"IF(A$7=0,0,D11/A$7)","v":0.11083123425692695}]
[3,110,8.461538461538462E-2,80,8.0604534005037781E-2]
[4,90,6.9230769230769235E-2,70,7.0528967254408062E-2]
[5,70,5.3846153846153849E-2,50,5.0377833753148617E-2]
[6,55,4.230769230769231E-2,40,4.0302267002518891E-2]
["Summe",{"$f":"SUM(B10:B15)","v":650},0.5,{"$f":"SUM(D10:D15)","v":490},0.49370277078085645]