{"text_format":"1","workbook":"xlsx","n_sheets":29,"sheets":["Gesamtstand","Bahnenstatistik","Verlosungen","Einzelwertung1","Einzelwertung2","Einzelwertung3","Einzelwertung4","Einzelwertung5","Einzelwertung6","Einzelwertung7","Einzelwertung8","Einzelwertung9","Einzelwertung10","Einzelwertung11","Einzelwertung12","Einzelwertung13","Einzelwertung14","Einzelwertung15","Einzelwertung16","Bahnenergebnisse","Einzelwertung17","Einzelwertung18","Statistik","Teilnehmer","bangolf_players","Vereine","Punkteschema","Hilfe","Preise"],"not_rendered":{"charts":0,"images":0,"macros":1,"external_links":0,"defined_names":24,"comments":0,"pivot_tables":0},"unopened":[],"bounds":{"document_bytes":16777216,"sheet_cells":100000,"rows_first":2000,"rows_last":500,"rows_between":2000,"halvings":0,"cell_chars":16384,"cell_head_chars":4096},"cells_cut":0,"cells_raw":0,"read":"whole","date_system":"1900"}

{"sheet":"Gesamtstand","index":0,"n_rows":41,"n_cols":26,"rows_kept":41,"cut":false,"hidden":false,"merged":[[0,1,0,23],[40,1,40,4]]}
[null,"Sommer-Cup 2022 im Freizeittreff Herbede - Gesamtstand"]
["Pl.","Spieler","Verein","Passnr.","Kat.","2022-05-05",{"$f":"F2+7","v":"2022-05-12"},{"$f":"G2+7","v":"2022-05-19"},{"$f":"H2+6","v":"2022-05-25"},{"$f":"I2+8","v":"2022-06-02"},{"$f":"J2+7","v":"2022-06-09"},{"$f":"K2+6","v":"2022-06-15"},{"$f":"L2+8","v":"2022-06-23"},{"$f":"M2+7","v":"2022-06-30"},"2022-07-07","2022-07-14","2022-07-21","2022-07-28","2022-08-04","2022-08-11","2022-08-18","2022-08-25","2022-09-01","Pkt. ges.","Starts","Startgeld"]
[1,"Rabe, Jonas",{"$f":"VLOOKUP($B3,Teilnehmer!$A$3:$E$119,2,FALSE)","v":"Hardenb."},{"$f":"VLOOKUP($B3,Teilnehmer!$A$3:$E$119,3,FALSE)","v":67860},{"$f":"VLOOKUP($B3,Teilnehmer!$A$3:$E$119,4,FALSE)","v":"JM"},{"$f":"SUMIF(Einzelwertung1!$A$3:$A$55,$B3,Einzelwertung1!$J$3:$J$55)+0.017","v":25.016999999999999},{"$f":"SUMIF(Einzelwertung2!$A$3:$A$55,$B3,Einzelwertung2!$J$3:$J$55)+0.016","v":1.6E-2},{"$f":"SUMIF(Einzelwertung3!$A$3:$A$55,$B3,Einzelwertung3!$J$3:$J$55)+0.015","v":21.015000000000001},{"$f":"SUMIF(Einzelwertung4!$A$3:$A$55,$B3,Einzelwertung4!$J$3:$J$55)+0.014","v":1.4E-2},{"$f":"SUMIF(Einzelwertung5!$A$3:$A$55,$B3,Einzelwertung5!$J$3:$J$55)+0.013","v":25.013000000000002},{"$f":"SUMIF(Einzelwertung6!$A$3:$A$55,$B3,Einzelwertung6!$J$3:$J$55)+0.012","v":15.012},{"$f":"SUMIF(Einzelwertung7!$A$3:$A$55,$B3,Einzelwertung7!$J$3:$J$55)+0.011","v":25.010999999999999},{"$f":"SUMIF(Einzelwertung8!$A$3:$A$55,$B3,Einzelwertung8!$J$3:$J$55)+0.01","v":15.01},{"$f":"SUMIF(Einzelwertung9!$A$3:$A$55,$B3,Einzelwertung9!$J$3:$J$55)+0.009","v":25.009},{"$f":"SUMIF(Einzelwertung10!$A$3:$A$55,$B3,Einzelwertung10!$J$3:$J$55)+0.008","v":8.0000000000000002E-3},{"$f":"SUMIF(Einzelwertung11!$A$3:$A$55,$B3,Einzelwertung11!$J$3:$J$55)+0.007","v":7.0000000000000001E-3},{"$f":"SUMIF(Einzelwertung12!$A$3:$A$55,$B3,Einzelwertung12!$J$3:$J$55)+0.006","v":25.006},{"$f":"SUMIF(Einzelwertung13!$A$3:$A$55,$B3,Einzelwertung13!$J$3:$J$55)+0.005","v":25.004999999999999},{"$f":"SUMIF(Einzelwertung14!$A$3:$A$55,$B3,Einzelwertung14!$J$3:$J$55)+0.004","v":4.0000000000000001E-3},{"$f":"SUMIF(Einzelwertung15!$A$3:$A$67,$B3,Einzelwertung15!$J$3:$J$67)+0.003","v":25.003},{"$f":"SUMIF(Einzelwertung16!$A$3:$A$55,$B3,Einzelwertung16!$J$3:$J$55)+0.002","v":21.001999999999999},{"$f":"SUMIF(Einzelwertung17!$A$3:$A$55,$B3,Einzelwertung17!$J$3:$J$55)+0.001","v":1E-3},{"$f":"SUMIF(Einzelwertung18!$A$3:$A$55,$B3,Einzelwertung18!$J$3:$J$55)+0","v":0},{"$f":"INT(IF(COUNTIF(F3:W3,CONCATENATE(\">\",1/10))<=Hilfe!$A$1,SUM(F3:W3),SUMIF(F3:W3,CONCATENATE(\">=\",LARGE(F3:W3,Hilfe!$A$1)),F3:W3)))","v":247},{"$f":"COUNTIF(E3:W3,\">1\")","v":11},{"$f":"IF(ISERROR(SEARCH(CONCATENATE(\" \",E3,\" \"),\" JM JW SCHM SCHW \")),5,2.5)*Y3","v":27.5}]
[2,"Buchholz, Ansgar",{"$f":"VLOOKUP($B4,Teilnehmer!$A$3:$E$119,2,FALSE)","v":"ASW"},{"$f":"VLOOKUP($B4,Teilnehmer!$A$3:$E$119,3,FALSE)","v":31513},{"$f":"VLOOKUP($B4,Teilnehmer!$A$3:$E$119,4,FALSE)","v":"SM1"},{"$f":"SUMIF(Einzelwertung1!$A$3:$A$55,$B4,Einzelwertung1!$J$3:$J$55)+0.017","v":25.016999999999999},{"$f":"SUMIF(Einzelwertung2!$A$3:$A$55,$B4,Einzelwertung2!$J$3:$J$55)+0.016","v":21.015999999999998},{"$f":"SUMIF(Einzelwertung3!$A$3:$A$55,$B4,Einzelwertung3!$J$3:$J$55)+0.015","v":21.015000000000001},{"$f":"SUMIF(Einzelwertung4!$A$3:$A$55,$B4,Einzelwertung4!$J$3:$J$55)+0.014","v":25.013999999999999},{"$f":"SUMIF(Einzelwertung5!$A$3:$A$55,$B4,Einzelwertung5!$J$3:$J$55)+0.013","v":15.013},{"$f":"SUMIF(Einzelwertung6!$A$3:$A$55,$B4,Einzelwertung6!$J$3:$J$55)+0.012","v":15.012},{"$f":"SUMIF(Einzelwertung7!$A$3:$A$55,$B4,Einzelwertung7!$J$3:$J$55)+0.011","v":18.010999999999999},{"$f":"SUMIF(Einzelwertung8!$A$3:$A$55,$B4,Einzelwertung8!$J$3:$J$55)+0.01","v":25.01},{"$f":"SUMIF(Einzelwertung9!$A$3:$A$55,$B4,Einzelwertung9!$J$3:$J$55)+0.009","v":8.9999999999999993E-3},{"$f":"SUMIF(Einzelwertung10!$A$3:$A$55,$B4,Einzelwertung10!$J$3:$J$55)+0.008","v":25.007999999999999},{"$f":"SUMIF(Einzelwertung11!$A$3:$A$55,$B4,Einzelwertung11!$J$3:$J$55)+0.007","v":25.007000000000001},{"$f":"SUMIF(Einzelwertung12!$A$3:$A$55,$B4,Einzelwertung12!$J$3:$J$55)+0.006","v":6.0000000000000001E-3},{"$f":"SUMIF(Einzelwertung13!$A$3:$A$55,$B4,Einzelwertung13!$J$3:$J$55)+0.005","v":5.0000000000000001E-3},{"$f":"SUMIF(Einzelwertung14!$A$3:$A$55,$B4,Einzelwertung14!$J$3:$J$55)+0.004","v":25.004000000000001},{"$f":"SUMIF(Einzelwertung15!$A$3:$A$67,$B4,Einzelwertung15!$J$3:$J$67)+0.003","v":3.0000000000000001E-3},{"$f":"SUMIF(Einzelwertung16!$A$3:$A$55,$B4,Einzelwertung16!$J$3:$J$55)+0.002","v":15.002000000000001},{"$f":"SUMIF(Einzelwertung17!$A$3:$A$55,$B4,Einzelwertung17!$J$3:$J$55)+0.001","v":1E-3},{"$f":"SUMIF(Einzelwertung18!$A$3:$A$55,$B4,Einzelwertung18!$J$3:$J$55)+0","v":0},{"$f":"INT(IF(COUNTIF(F4:W4,CONCATENATE(\">\",1/10))<=Hilfe!$A$1,SUM(F4:W4),SUMIF(F4:W4,CONCATENATE(\">=\",LARGE(F4:W4,Hilfe!$A$1)),F4:W4)))","v":240},12,60]
[3,"Rade, Marcus",{"$f":"VLOOKUP($B5,Teilnehmer!$A$3:$E$119,2,FALSE)","v":"Osna"},{"$f":"VLOOKUP($B5,Teilnehmer!$A$3:$E$119,3,FALSE)","v":38625},{"$f":"VLOOKUP($B5,Teilnehmer!$A$3:$E$119,4,FALSE)","v":"SM1"},{"$f":"SUMIF(Einzelwertung1!$A$3:$A$55,$B5,Einzelwertung1!$J$3:$J$55)+0.017","v":15.016999999999999},{"$f":"SUMIF(Einzelwertung2!$A$3:$A$55,$B5,Einzelwertung2!$J$3:$J$55)+0.016","v":1.6E-2},{"$f":"SUMIF(Einzelwertung3!$A$3:$A$55,$B5,Einzelwertung3!$J$3:$J$55)+0.015","v":25.015000000000001},{"$f":"SUMIF(Einzelwertung4!$A$3:$A$55,$B5,Einzelwertung4!$J$3:$J$55)+0.014","v":21.013999999999999},{"$f":"SUMIF(Einzelwertung5!$A$3:$A$55,$B5,Einzelwertung5!$J$3:$J$55)+0.013","v":21.013000000000002},{"$f":"SUMIF(Einzelwertung6!$A$3:$A$55,$B5,Einzelwertung6!$J$3:$J$55)+0.012","v":18.012},{"$f":"SUMIF(Einzelwertung7!$A$3:$A$55,$B5,Einzelwertung7!$J$3:$J$55)+0.011","v":10.010999999999999},{"$f":"SUMIF(Einzelwertung8!$A$3:$A$55,$B5,Einzelwertung8!$J$3:$J$55)+0.01","v":25.01},{"$f":"SUMIF(Einzelwertung9!$A$3:$A$55,$B5,Einzelwertung9!$J$3:$J$55)+0.009","v":21.009},{"$f":"SUMIF(Einzelwertung10!$A$3:$A$55,$B5,Einzelwertung10!$J$3:$J$55)+0.008","v":21.007999999999999},{"$f":"SUMIF(Einzelwertung11!$A$3:$A$55,$B5,Einzelwertung11!$J$3:$J$55)+0.007","v":18.007000000000001},{"$f":"SUMIF(Einzelwertung12!$A$3:$A$55,$B5,Einzelwertung12!$J$3:$J$55)+0.006","v":6.0000000000000001E-3},{"$f":"SUMIF(Einzelwertung13!$A$3:$A$55,$B5,Einzelwertung13!$J$3:$J$55)+0.005","v":21.004999999999999},{"$f":"SUMIF(Einzelwertung14!$A$3:$A$55,$B5,Einzelwertung14!$J$3:$J$55)+0.004","v":21.004000000000001},{"$f":"SUMIF(Einzelwertung15!$A$3:$A$67,$B5,Einzelwertung15!$J$3:$J$67)+0.003","v":3.0000000000000001E-3},{"$f":"SUMIF(Einzelwertung16!$A$3:$A$55,$B5,Einzelwertung16!$J$3:$J$55)+0.002","v":15.002000000000001},{"$f":"SUMIF(Einzelwertung17!$A$3:$A$55,$B5,Einzelwertung17!$J$3:$J$55)+0.001","v":1E-3},{"$f":"SUMIF(Einzelwertung18!$A$3:$A$55,$B5,Einzelwertung18!$J$3:$J$55)+0","v":0},{"$f":"INT(IF(COUNTIF(F5:W5,CONCATENATE(\">\",1/10))<=Hilfe!$A$1,SUM(F5:W5),SUMIF(F5:W5,CONCATENATE(\">=\",LARGE(F5:W5,Hilfe!$A$1)),F5:W5)))","v":227},13,65]
[4,"Urban, Volker",{"$f":"VLOOKUP($B6,Teilnehmer!$A$3:$E$119,2,FALSE)","v":"ASW"},{"$f":"VLOOKUP($B6,Teilnehmer!$A$3:$E$119,3,FALSE)","v":35604},{"$f":"VLOOKUP($B6,Teilnehmer!$A$3:$E$119,4,FALSE)","v":"SM1"},{"$f":"SUMIF(Einzelwertung1!$A$3:$A$55,$B6,Einzelwertung1!$J$3:$J$55)+0.017","v":21.016999999999999},{"$f":"SUMIF(Einzelwertung2!$A$3:$A$55,$B6,Einzelwertung2!$J$3:$J$55)+0.016","v":15.016},{"$f":"SUMIF(Einzelwertung3!$A$3:$A$55,$B6,Einzelwertung3!$J$3:$J$55)+0.015","v":15.015000000000001},{"$f":"SUMIF(Einzelwertung4!$A$3:$A$55,$B6,Einzelwertung4!$J$3:$J$55)+0.014","v":18.013999999999999},{"$f":"SUMIF(Einzelwertung5!$A$3:$A$55,$B6,Einzelwertung5!$J$3:$J$55)+0.013","v":18.013000000000002},{"$f":"SUMIF(Einzelwertung6!$A$3:$A$55,$B6,Einzelwertung6!$J$3:$J$55)+0.012","v":1.2E-2},{"$f":"SUMIF(Einzelwertung7!$A$3:$A$55,$B6,Einzelwertung7!$J$3:$J$55)+0.011","v":15.010999999999999},{"$f":"SUMIF(Einzelwertung8!$A$3:$A$55,$B6,Einzelwertung8!$J$3:$J$55)+0.01","v":25.01},{"$f":"SUMIF(Einzelwertung9!$A$3:$A$55,$B6,Einzelwertung9!$J$3:$J$55)+0.009","v":8.9999999999999993E-3},{"$f":"SUMIF(Einzelwertung10!$A$3:$A$55,$B6,Einzelwertung10!$J$3:$J$55)+0.008","v":8.0000000000000002E-3},{"$f":"SUMIF(Einzelwertung11!$A$3:$A$55,$B6,Einzelwertung11!$J$3:$J$55)+0.007","v":18.007000000000001},{"$f":"SUMIF(Einzelwertung12!$A$3:$A$55,$B6,Einzelwertung12!$J$3:$J$55)+0.006","v":6.0000000000000001E-3},{"$f":"SUMIF(Einzelwertung13!$A$3:$A$55,$B6,Einzelwertung13!$J$3:$J$55)+0.005","v":25.004999999999999},{"$f":"SUMIF(Einzelwertung14!$A$3:$A$55,$B6,Einzelwertung14!$J$3:$J$55)+0.004","v":21.004000000000001},{"$f":"SUMIF(Einzelwertung15!$A$3:$A$67,$B6,Einzelwertung15!$J$3:$J$67)+0.003","v":15.003},{"$f":"SUMIF(Einzelwertung16!$A$3:$A$55,$B6,Einzelwertung16!$J$3:$J$55)+0.002","v":25.001999999999999},{"$f":"SUMIF(Einzelwertung17!$A$3:$A$55,$B6,Einzelwertung17!$J$3:$J$55)+0.001","v":1E-3},{"$f":"SUMIF(Einzelwertung18!$A$3:$A$55,$B6,Einzelwertung18!$J$3:$J$55)+0","v":0},{"$f":"INT(IF(COUNTIF(F6:W6,CONCATENATE(\">\",1/10))<=Hilfe!$A$1,SUM(F6:W6),SUMIF(F6:W6,CONCATENATE(\">=\",LARGE(F6:W6,Hilfe!$A$1)),F6:W6)))","v":216},12,60]
[5,"Lenk, Rolf",{"$f":"VLOOKUP($B7,Teilnehmer!$A$3:$E$119,2,FALSE)","v":"ASW"},{"$f":"VLOOKUP($B7,Teilnehmer!$A$3:$E$119,3,FALSE)","v":61716},{"$f":"VLOOKUP($B7,Teilnehmer!$A$3:$E$119,4,FALSE)","v":"SM2"},{"$f":"SUMIF(Einzelwertung1!$A$3:$A$55,$B7,Einzelwertung1!$J$3:$J$55)+0.017","v":15.016999999999999},{"$f":"SUMIF(Einzelwertung2!$A$3:$A$55,$B7,Einzelwertung2!$J$3:$J$55)+0.016","v":25.015999999999998},{"$f":"SUMIF(Einzelwertung3!$A$3:$A$55,$B7,Einzelwertung3!$J$3:$J$55)+0.015","v":1.4999999999999999E-2},{"$f":"SUMIF(Einzelwertung4!$A$3:$A$55,$B7,Einzelwertung4!$J$3:$J$55)+0.014","v":21.013999999999999},{"$f":"SUMIF(Einzelwertung5!$A$3:$A$55,$B7,Einzelwertung5!$J$3:$J$55)+0.013","v":10.013},{"$f":"SUMIF(Einzelwertung6!$A$3:$A$55,$B7,Einzelwertung6!$J$3:$J$55)+0.012","v":21.012},{"$f":"SUMIF(Einzelwertung7!$A$3:$A$55,$B7,Einzelwertung7!$J$3:$J$55)+0.011","v":21.010999999999999},{"$f":"SUMIF(Einzelwertung8!$A$3:$A$55,$B7,Einzelwertung8!$J$3:$J$55)+0.01","v":10.01},{"$f":"SUMIF(Einzelwertung9!$A$3:$A$55,$B7,Einzelwertung9!$J$3:$J$55)+0.009","v":10.009},{"$f":"SUMIF(Einzelwertung10!$A$3:$A$55,$B7,Einzelwertung10!$J$3:$J$55)+0.008","v":18.007999999999999},{"$f":"SUMIF(Einzelwertung11!$A$3:$A$55,$B7,Einzelwertung11!$J$3:$J$55)+0.007","v":21.007000000000001},{"$f":"SUMIF(Einzelwertung12!$A$3:$A$55,$B7,Einzelwertung12!$J$3:$J$55)+0.006","v":21.006},{"$f":"SUMIF(Einzelwertung13!$A$3:$A$55,$B7,Einzelwertung13!$J$3:$J$55)+0.005","v":10.005000000000001},{"$f":"SUMIF(Einzelwertung14!$A$3:$A$55,$B7,Einzelwertung14!$J$3:$J$55)+0.004","v":15.004},{"$f":"SUMIF(Einzelwertung15!$A$3:$A$67,$B7,Einzelwertung15!$J$3:$J$67)+0.003","v":15.003},{"$f":"SUMIF(Einzelwertung16!$A$3:$A$55,$B7,Einzelwertung16!$J$3:$J$55)+0.002","v":15.002000000000001},{"$f":"SUMIF(Einzelwertung17!$A$3:$A$55,$B7,Einzelwertung17!$J$3:$J$55)+0.001","v":1E-3},{"$f":"SUMIF(Einzelwertung18!$A$3:$A$55,$B7,Einzelwertung18!$J$3:$J$55)+0","v":0},{"$f":"INT(IF(COUNTIF(F7:W7,CONCATENATE(\">\",1/10))<=Hilfe!$A$1,SUM(F7:W7),SUMIF(F7:W7,CONCATENATE(\">=\",LARGE(F7:W7,Hilfe!$A$1)),F7:W7)))","v":208},15,75]
[6,"Brunnenkant, Frank",{"$f":"VLOOKUP($B8,Teilnehmer!$A$3:$E$119,2,FALSE)","v":"HEV"},{"$f":"VLOOKUP($B8,Teilnehmer!$A$3:$E$119,3,FALSE)","v":67882},{"$f":"VLOOKUP($B8,Teilnehmer!$A$3:$E$119,4,FALSE)","v":"SM1"},{"$f":"SUMIF(Einzelwertung1!$A$3:$A$55,$B8,Einzelwertung1!$J$3:$J$55)+0.017","v":21.016999999999999},{"$f":"SUMIF(Einzelwertung2!$A$3:$A$55,$B8,Einzelwertung2!$J$3:$J$55)+0.016","v":10.016},{"$f":"SUMIF(Einzelwertung3!$A$3:$A$55,$B8,Einzelwertung3!$J$3:$J$55)+0.015","v":1.4999999999999999E-2},{"$f":"SUMIF(Einzelwertung4!$A$3:$A$55,$B8,Einzelwertung4!$J$3:$J$55)+0.014","v":15.013999999999999},{"$f":"SUMIF(Einzelwertung5!$A$3:$A$55,$B8,Einzelwertung5!$J$3:$J$55)+0.013","v":15.013},{"$f":"SUMIF(Einzelwertung6!$A$3:$A$55,$B8,Einzelwertung6!$J$3:$J$55)+0.012","v":25.012},{"$f":"SUMIF(Einzelwertung7!$A$3:$A$55,$B8,Einzelwertung7!$J$3:$J$55)+0.011","v":15.010999999999999},{"$f":"SUMIF(Einzelwertung8!$A$3:$A$55,$B8,Einzelwertung8!$J$3:$J$55)+0.01","v":15.01},{"$f":"SUMIF(Einzelwertung9!$A$3:$A$55,$B8,Einzelwertung9!$J$3:$J$55)+0.009","v":15.009},{"$f":"SUMIF(Einzelwertung10!$A$3:$A$55,$B8,Einzelwertung10!$J$3:$J$55)+0.008","v":8.0000000000000002E-3},{"$f":"SUMIF(Einzelwertung11!$A$3:$A$55,$B8,Einzelwertung11!$J$3:$J$55)+0.007","v":7.0000000000000001E-3},{"$f":"SUMIF(Einzelwertung12!$A$3:$A$55,$B8,Einzelwertung12!$J$3:$J$55)+0.006","v":6.0000000000000001E-3},{"$f":"SUMIF(Einzelwertung13!$A$3:$A$55,$B8,Einzelwertung13!$J$3:$J$55)+0.005","v":21.004999999999999},{"$f":"SUMIF(Einzelwertung14!$A$3:$A$55,$B8,Einzelwertung14!$J$3:$J$55)+0.004","v":18.004000000000001},{"$f":"SUMIF(Einzelwertung15!$A$3:$A$67,$B8,Einzelwertung15!$J$3:$J$67)+0.003","v":21.003},{"$f":"SUMIF(Einzelwertung16!$A$3:$A$55,$B8,Einzelwertung16!$J$3:$J$55)+0.002","v":15.002000000000001},{"$f":"SUMIF(Einzelwertung17!$A$3:$A$55,$B8,Einzelwertung17!$J$3:$J$55)+0.001","v":1E-3},{"$f":"SUMIF(Einzelwertung18!$A$3:$A$55,$B8,Einzelwertung18!$J$3:$J$55)+0","v":0},{"$f":"INT(IF(COUNTIF(F8:W8,CONCATENATE(\">\",1/10))<=Hilfe!$A$1,SUM(F8:W8),SUMIF(F8:W8,CONCATENATE(\">=\",LARGE(F8:W8,Hilfe!$A$1)),F8:W8)))","v":196},12,60]
[7,"Kortmann, Sabine",{"$f":"VLOOKUP($B9,Teilnehmer!$A$3:$E$119,2,FALSE)","v":"Hobby"},{"$f":"VLOOKUP($B9,Teilnehmer!$A$3:$E$119,3,FALSE)","v":"Hobby31"},{"$f":"VLOOKUP($B9,Teilnehmer!$A$3:$E$119,4,FALSE)","v":"SW1"},{"$f":"SUMIF(Einzelwertung1!$A$3:$A$55,$B9,Einzelwertung1!$J$3:$J$55)+0.017","v":21.016999999999999},{"$f":"SUMIF(Einzelwertung2!$A$3:$A$55,$B9,Einzelwertung2!$J$3:$J$55)+0.016","v":10.016},{"$f":"SUMIF(Einzelwertung3!$A$3:$A$55,$B9,Einzelwertung3!$J$3:$J$55)+0.015","v":10.015000000000001},{"$f":"SUMIF(Einzelwertung4!$A$3:$A$55,$B9,Einzelwertung4!$J$3:$J$55)+0.014","v":15.013999999999999},{"$f":"SUMIF(Einzelwertung5!$A$3:$A$55,$B9,Einzelwertung5!$J$3:$J$55)+0.013","v":18.013000000000002},{"$f":"SUMIF(Einzelwertung6!$A$3:$A$55,$B9,Einzelwertung6!$J$3:$J$55)+0.012","v":1.2E-2},{"$f":"SUMIF(Einzelwertung7!$A$3:$A$55,$B9,Einzelwertung7!$J$3:$J$55)+0.011","v":15.010999999999999},{"$f":"SUMIF(Einzelwertung8!$A$3:$A$55,$B9,Einzelwertung8!$J$3:$J$55)+0.01","v":15.01},{"$f":"SUMIF(Einzelwertung9!$A$3:$A$55,$B9,Einzelwertung9!$J$3:$J$55)+0.009","v":18.009},{"$f":"SUMIF(Einzelwertung10!$A$3:$A$55,$B9,Einzelwertung10!$J$3:$J$55)+0.008","v":15.007999999999999},{"$f":"SUMIF(Einzelwertung11!$A$3:$A$55,$B9,Einzelwertung11!$J$3:$J$55)+0.007","v":21.007000000000001},{"$f":"SUMIF(Einzelwertung12!$A$3:$A$55,$B9,Einzelwertung12!$J$3:$J$55)+0.006","v":21.006},{"$f":"SUMIF(Einzelwertung13!$A$3:$A$55,$B9,Einzelwertung13!$J$3:$J$55)+0.005","v":15.005000000000001},{"$f":"SUMIF(Einzelwertung14!$A$3:$A$55,$B9,Einzelwertung14!$J$3:$J$55)+0.004","v":15.004},{"$f":"SUMIF(Einzelwertung15!$A$3:$A$67,$B9,Einzelwertung15!$J$3:$J$67)+0.003","v":21.003},{"$f":"SUMIF(Einzelwertung16!$A$3:$A$55,$B9,Einzelwertung16!$J$3:$J$55)+0.002","v":10.002000000000001},{"$f":"SUMIF(Einzelwertung17!$A$3:$A$55,$B9,Einzelwertung17!$J$3:$J$55)+0.001","v":1E-3},{"$f":"SUMIF(Einzelwertung18!$A$3:$A$55,$B9,Einzelwertung18!$J$3:$J$55)+0","v":0},{"$f":"INT(IF(COUNTIF(F9:W9,CONCATENATE(\">\",1/10))<=Hilfe!$A$1,SUM(F9:W9),SUMIF(F9:W9,CONCATENATE(\">=\",LARGE(F9:W9,Hilfe!$A$1)),F9:W9)))","v":195},15,75]
[8,"Puschner, Michael",{"$f":"VLOOKUP($B10,Teilnehmer!$A$3:$E$119,2,FALSE)","v":"Hobby"},{"$f":"VLOOKUP($B10,Teilnehmer!$A$3:$E$119,3,FALSE)","v":"Hobby11"},{"$f":"VLOOKUP($B10,Teilnehmer!$A$3:$E$119,4,FALSE)","v":"SM2"},{"$f":"SUMIF(Einzelwertung1!$A$3:$A$55,$B10,Einzelwertung1!$J$3:$J$55)+0.017","v":15.016999999999999},{"$f":"SUMIF(Einzelwertung2!$A$3:$A$55,$B10,Einzelwertung2!$J$3:$J$55)+0.016","v":25.015999999999998},{"$f":"SUMIF(Einzelwertung3!$A$3:$A$55,$B10,Einzelwertung3!$J$3:$J$55)+0.015","v":10.015000000000001},{"$f":"SUMIF(Einzelwertung4!$A$3:$A$55,$B10,Einzelwertung4!$J$3:$J$55)+0.014","v":18.013999999999999},{"$f":"SUMIF(Einzelwertung5!$A$3:$A$55,$B10,Einzelwertung5!$J$3:$J$55)+0.013","v":10.013},{"$f":"SUMIF(Einzelwertung6!$A$3:$A$55,$B10,Einzelwertung6!$J$3:$J$55)+0.012","v":15.012},{"$f":"SUMIF(Einzelwertung7!$A$3:$A$55,$B10,Einzelwertung7!$J$3:$J$55)+0.011","v":10.010999999999999},{"$f":"SUMIF(Einzelwertung8!$A$3:$A$55,$B10,Einzelwertung8!$J$3:$J$55)+0.01","v":15.01},{"$f":"SUMIF(Einzelwertung9!$A$3:$A$55,$B10,Einzelwertung9!$J$3:$J$55)+0.009","v":15.009},{"$f":"SUMIF(Einzelwertung10!$A$3:$A$55,$B10,Einzelwertung10!$J$3:$J$55)+0.008","v":15.007999999999999},{"$f":"SUMIF(Einzelwertung11!$A$3:$A$55,$B10,Einzelwertung11!$J$3:$J$55)+0.007","v":15.007},{"$f":"SUMIF(Einzelwertung12!$A$3:$A$55,$B10,Einzelwertung12!$J$3:$J$55)+0.006","v":15.006},{"$f":"SUMIF(Einzelwertung13!$A$3:$A$55,$B10,Einzelwertung13!$J$3:$J$55)+0.005","v":25.004999999999999},{"$f":"SUMIF(Einzelwertung14!$A$3:$A$55,$B10,Einzelwertung14!$J$3:$J$55)+0.004","v":4.0000000000000001E-3},{"$f":"SUMIF(Einzelwertung15!$A$3:$A$67,$B10,Einzelwertung15!$J$3:$J$67)+0.003","v":3.0000000000000001E-3},{"$f":"SUMIF(Einzelwertung16!$A$3:$A$55,$B10,Einzelwertung16!$J$3:$J$55)+0.002","v":15.002000000000001},{"$f":"SUMIF(Einzelwertung17!$A$3:$A$55,$B10,Einzelwertung17!$J$3:$J$55)+0.001","v":1E-3},{"$f":"SUMIF(Einzelwertung18!$A$3:$A$55,$B10,Einzelwertung18!$J$3:$J$55)+0","v":0},{"$f":"INT(IF(COUNTIF(F10:W10,CONCATENATE(\">\",1/10))<=Hilfe!$A$1,SUM(F10:W10),SUMIF(F10:W10,CONCATENATE(\">=\",LARGE(F10:W10,Hilfe!$A$1)),F10:W10)))","v":188},14,70]
[9,"Kunz, Martin",{"$f":"VLOOKUP($B11,Teilnehmer!$A$3:$E$119,2,FALSE)","v":"Hobby"},{"$f":"VLOOKUP($B11,Teilnehmer!$A$3:$E$119,3,FALSE)","v":"Hobby40"},{"$f":"VLOOKUP($B11,Teilnehmer!$A$3:$E$119,4,FALSE)","v":"SM1"},{"$f":"SUMIF(Einzelwertung1!$A$3:$A$55,$B11,Einzelwertung1!$J$3:$J$55)+0.017","v":5.0170000000000003},{"$f":"SUMIF(Einzelwertung2!$A$3:$A$55,$B11,Einzelwertung2!$J$3:$J$55)+0.016","v":21.015999999999998},{"$f":"SUMIF(Einzelwertung3!$A$3:$A$55,$B11,Einzelwertung3!$J$3:$J$55)+0.015","v":21.015000000000001},{"$f":"SUMIF(Einzelwertung4!$A$3:$A$55,$B11,Einzelwertung4!$J$3:$J$55)+0.014","v":10.013999999999999},{"$f":"SUMIF(Einzelwertung5!$A$3:$A$55,$B11,Einzelwertung5!$J$3:$J$55)+0.013","v":15.013},{"$f":"SUMIF(Einzelwertung6!$A$3:$A$55,$B11,Einzelwertung6!$J$3:$J$55)+0.012","v":21.012},{"$f":"SUMIF(Einzelwertung7!$A$3:$A$55,$B11,Einzelwertung7!$J$3:$J$55)+0.011","v":10.010999999999999},{"$f":"SUMIF(Einzelwertung8!$A$3:$A$55,$B11,Einzelwertung8!$J$3:$J$55)+0.01","v":10.01},{"$f":"SUMIF(Einzelwertung9!$A$3:$A$55,$B11,Einzelwertung9!$J$3:$J$55)+0.009","v":8.9999999999999993E-3},{"$f":"SUMIF(Einzelwertung10!$A$3:$A$55,$B11,Einzelwertung10!$J$3:$J$55)+0.008","v":18.007999999999999},{"$f":"SUMIF(Einzelwertung11!$A$3:$A$55,$B11,Einzelwertung11!$J$3:$J$55)+0.007","v":15.007},{"$f":"SUMIF(Einzelwertung12!$A$3:$A$55,$B11,Einzelwertung12!$J$3:$J$55)+0.006","v":6.0000000000000001E-3},{"$f":"SUMIF(Einzelwertung13!$A$3:$A$55,$B11,Einzelwertung13!$J$3:$J$55)+0.005","v":15.005000000000001},{"$f":"SUMIF(Einzelwertung14!$A$3:$A$55,$B11,Einzelwertung14!$J$3:$J$55)+0.004","v":15.004},{"$f":"SUMIF(Einzelwertung15!$A$3:$A$67,$B11,Einzelwertung15!$J$3:$J$67)+0.003","v":21.003},{"$f":"SUMIF(Einzelwertung16!$A$3:$A$55,$B11,Einzelwertung16!$J$3:$J$55)+0.002","v":10.002000000000001},{"$f":"SUMIF(Einzelwertung17!$A$3:$A$55,$B11,Einzelwertung17!$J$3:$J$55)+0.001","v":1E-3},{"$f":"SUMIF(Einzelwertung18!$A$3:$A$55,$B11,Einzelwertung18!$J$3:$J$55)+0","v":0},{"$f":"INT(IF(COUNTIF(F11:W11,CONCATENATE(\">\",1/10))<=Hilfe!$A$1,SUM(F11:W11),SUMIF(F11:W11,CONCATENATE(\">=\",LARGE(F11:W11,Hilfe!$A$1)),F11:W11)))","v":182},14,70]
[10,"Börgmann, Ulrich",{"$f":"VLOOKUP($B12,Teilnehmer!$A$3:$E$119,2,FALSE)","v":"Hobby"},{"$f":"VLOOKUP($B12,Teilnehmer!$A$3:$E$119,3,FALSE)","v":"Hobby15"},{"$f":"VLOOKUP($B12,Teilnehmer!$A$3:$E$119,4,FALSE)","v":"SM1"},{"$f":"SUMIF(Einzelwertung1!$A$3:$A$55,$B12,Einzelwertung1!$J$3:$J$55)+0.017","v":5.0170000000000003},{"$f":"SUMIF(Einzelwertung2!$A$3:$A$55,$B12,Einzelwertung2!$J$3:$J$55)+0.016","v":5.016},{"$f":"SUMIF(Einzelwertung3!$A$3:$A$55,$B12,Einzelwertung3!$J$3:$J$55)+0.015","v":1.4999999999999999E-2},{"$f":"SUMIF(Einzelwertung4!$A$3:$A$55,$B12,Einzelwertung4!$J$3:$J$55)+0.014","v":10.013999999999999},{"$f":"SUMIF(Einzelwertung5!$A$3:$A$55,$B12,Einzelwertung5!$J$3:$J$55)+0.013","v":5.0129999999999999},{"$f":"SUMIF(Einzelwertung6!$A$3:$A$55,$B12,Einzelwertung6!$J$3:$J$55)+0.012","v":1.2E-2},{"$f":"SUMIF(Einzelwertung7!$A$3:$A$55,$B12,Einzelwertung7!$J$3:$J$55)+0.011","v":1.0999999999999999E-2},{"$f":"SUMIF(Einzelwertung8!$A$3:$A$55,$B12,Einzelwertung8!$J$3:$J$55)+0.01","v":0.01},{"$f":"SUMIF(Einzelwertung9!$A$3:$A$55,$B12,Einzelwertung9!$J$3:$J$55)+0.009","v":15.009},{"$f":"SUMIF(Einzelwertung10!$A$3:$A$55,$B12,Einzelwertung10!$J$3:$J$55)+0.008","v":25.007999999999999},{"$f":"SUMIF(Einzelwertung11!$A$3:$A$55,$B12,Einzelwertung11!$J$3:$J$55)+0.007","v":15.007},{"$f":"SUMIF(Einzelwertung12!$A$3:$A$55,$B12,Einzelwertung12!$J$3:$J$55)+0.006","v":6.0000000000000001E-3},{"$f":"SUMIF(Einzelwertung13!$A$3:$A$55,$B12,Einzelwertung13!$J$3:$J$55)+0.005","v":15.005000000000001},{"$f":"SUMIF(Einzelwertung14!$A$3:$A$55,$B12,Einzelwertung14!$J$3:$J$55)+0.004","v":15.004},{"$f":"SUMIF(Einzelwertung15!$A$3:$A$67,$B12,Einzelwertung15!$J$3:$J$67)+0.003","v":10.003},{"$f":"SUMIF(Einzelwertung16!$A$3:$A$55,$B12,Einzelwertung16!$J$3:$J$55)+0.002","v":15.002000000000001},{"$f":"SUMIF(Einzelwertung17!$A$3:$A$55,$B12,Einzelwertung17!$J$3:$J$55)+0.001","v":1E-3},{"$f":"SUMIF(Einzelwertung18!$A$3:$A$55,$B12,Einzelwertung18!$J$3:$J$55)+0","v":0},{"$f":"INT(IF(COUNTIF(F12:W12,CONCATENATE(\">\",1/10))<=Hilfe!$A$1,SUM(F12:W12),SUMIF(F12:W12,CONCATENATE(\">=\",LARGE(F12:W12,Hilfe!$A$1)),F12:W12)))","v":135},11,55]
[11,"Gattner, Karsten",{"$f":"VLOOKUP($B13,Teilnehmer!$A$3:$E$119,2,FALSE)","v":"ASW"},{"$f":"VLOOKUP($B13,Teilnehmer!$A$3:$E$119,3,FALSE)","v":67881},{"$f":"VLOOKUP($B13,Teilnehmer!$A$3:$E$119,4,FALSE)","v":"SM1"},{"$f":"SUMIF(Einzelwertung1!$A$3:$A$55,$B13,Einzelwertung1!$J$3:$J$55)+0.017","v":10.016999999999999},{"$f":"SUMIF(Einzelwertung2!$A$3:$A$55,$B13,Einzelwertung2!$J$3:$J$55)+0.016","v":5.016},{"$f":"SUMIF(Einzelwertung3!$A$3:$A$55,$B13,Einzelwertung3!$J$3:$J$55)+0.015","v":1.4999999999999999E-2},{"$f":"SUMIF(Einzelwertung4!$A$3:$A$55,$B13,Einzelwertung4!$J$3:$J$55)+0.014","v":5.0140000000000002},{"$f":"SUMIF(Einzelwertung5!$A$3:$A$55,$B13,Einzelwertung5!$J$3:$J$55)+0.013","v":5.0129999999999999},{"$f":"SUMIF(Einzelwertung6!$A$3:$A$55,$B13,Einzelwertung6!$J$3:$J$55)+0.012","v":10.012},{"$f":"SUMIF(Einzelwertung7!$A$3:$A$55,$B13,Einzelwertung7!$J$3:$J$55)+0.011","v":10.010999999999999},{"$f":"SUMIF(Einzelwertung8!$A$3:$A$55,$B13,Einzelwertung8!$J$3:$J$55)+0.01","v":10.01},{"$f":"SUMIF(Einzelwertung9!$A$3:$A$55,$B13,Einzelwertung9!$J$3:$J$55)+0.009","v":10.009},{"$f":"SUMIF(Einzelwertung10!$A$3:$A$55,$B13,Einzelwertung10!$J$3:$J$55)+0.008","v":10.007999999999999},{"$f":"SUMIF(Einzelwertung11!$A$3:$A$55,$B13,Einzelwertung11!$J$3:$J$55)+0.007","v":7.0000000000000001E-3},{"$f":"SUMIF(Einzelwertung12!$A$3:$A$55,$B13,Einzelwertung12!$J$3:$J$55)+0.006","v":6.0000000000000001E-3},{"$f":"SUMIF(Einzelwertung13!$A$3:$A$55,$B13,Einzelwertung13!$J$3:$J$55)+0.005","v":21.004999999999999},{"$f":"SUMIF(Einzelwertung14!$A$3:$A$55,$B13,Einzelwertung14!$J$3:$J$55)+0.004","v":10.004},{"$f":"SUMIF(Einzelwertung15!$A$3:$A$67,$B13,Einzelwertung15!$J$3:$J$67)+0.003","v":10.003},{"$f":"SUMIF(Einzelwertung16!$A$3:$A$55,$B13,Einzelwertung16!$J$3:$J$55)+0.002","v":15.002000000000001},{"$f":"SUMIF(Einzelwertung17!$A$3:$A$55,$B13,Einzelwertung17!$J$3:$J$55)+0.001","v":1E-3},{"$f":"SUMIF(Einzelwertung18!$A$3:$A$55,$B13,Einzelwertung18!$J$3:$J$55)+0","v":0},{"$f":"INT(IF(COUNTIF(F13:W13,CONCATENATE(\">\",1/10))<=Hilfe!$A$1,SUM(F13:W13),SUMIF(F13:W13,CONCATENATE(\">=\",LARGE(F13:W13,Hilfe!$A$1)),F13:W13)))","v":121},13,65]
[null,"Schmidtbauer, Günter",{"$f":"VLOOKUP($B14,Teilnehmer!$A$3:$E$119,2,FALSE)","v":"Hobby"},{"$f":"VLOOKUP($B14,Teilnehmer!$A$3:$E$119,3,FALSE)","v":"Hobby4"},{"$f":"VLOOKUP($B14,Teilnehmer!$A$3:$E$119,4,FALSE)","v":"SM2"},{"$f":"SUMIF(Einzelwertung1!$A$3:$A$55,$B14,Einzelwertung1!$J$3:$J$55)+0.017","v":5.0170000000000003},{"$f":"SUMIF(Einzelwertung2!$A$3:$A$55,$B14,Einzelwertung2!$J$3:$J$55)+0.016","v":3.016},{"$f":"SUMIF(Einzelwertung3!$A$3:$A$55,$B14,Einzelwertung3!$J$3:$J$55)+0.015","v":10.015000000000001},{"$f":"SUMIF(Einzelwertung4!$A$3:$A$55,$B14,Einzelwertung4!$J$3:$J$55)+0.014","v":5.0140000000000002},{"$f":"SUMIF(Einzelwertung5!$A$3:$A$55,$B14,Einzelwertung5!$J$3:$J$55)+0.013","v":3.0129999999999999},{"$f":"SUMIF(Einzelwertung6!$A$3:$A$55,$B14,Einzelwertung6!$J$3:$J$55)+0.012","v":5.0119999999999996},{"$f":"SUMIF(Einzelwertung7!$A$3:$A$55,$B14,Einzelwertung7!$J$3:$J$55)+0.011","v":5.0110000000000001},{"$f":"SUMIF(Einzelwertung8!$A$3:$A$55,$B14,Einzelwertung8!$J$3:$J$55)+0.01","v":10.01},{"$f":"SUMIF(Einzelwertung9!$A$3:$A$55,$B14,Einzelwertung9!$J$3:$J$55)+0.009","v":10.009},{"$f":"SUMIF(Einzelwertung10!$A$3:$A$55,$B14,Einzelwertung10!$J$3:$J$55)+0.008","v":10.007999999999999},{"$f":"SUMIF(Einzelwertung11!$A$3:$A$55,$B14,Einzelwertung11!$J$3:$J$55)+0.007","v":10.007},{"$f":"SUMIF(Einzelwertung12!$A$3:$A$55,$B14,Einzelwertung12!$J$3:$J$55)+0.006","v":15.006},{"$f":"SUMIF(Einzelwertung13!$A$3:$A$55,$B14,Einzelwertung13!$J$3:$J$55)+0.005","v":21.004999999999999},{"$f":"SUMIF(Einzelwertung14!$A$3:$A$55,$B14,Einzelwertung14!$J$3:$J$55)+0.004","v":10.004},{"$f":"SUMIF(Einzelwertung15!$A$3:$A$67,$B14,Einzelwertung15!$J$3:$J$67)+0.003","v":10.003},{"$f":"SUMIF(Einzelwertung16!$A$3:$A$55,$B14,Einzelwertung16!$J$3:$J$55)+0.002","v":10.002000000000001},{"$f":"SUMIF(Einzelwertung17!$A$3:$A$55,$B14,Einzelwertung17!$J$3:$J$55)+0.001","v":1E-3},{"$f":"SUMIF(Einzelwertung18!$A$3:$A$55,$B14,Einzelwertung18!$J$3:$J$55)+0","v":0},{"$f":"INT(IF(COUNTIF(F14:W14,CONCATENATE(\">\",1/10))<=Hilfe!$A$1,SUM(F14:W14),SUMIF(F14:W14,CONCATENATE(\">=\",LARGE(F14:W14,Hilfe!$A$1)),F14:W14)))","v":121},16,80]
[13,"Paffrath, Ben",{"$f":"VLOOKUP($B15,Teilnehmer!$A$3:$E$119,2,FALSE)","v":"HEV"},{"$f":"VLOOKUP($B15,Teilnehmer!$A$3:$E$119,3,FALSE)","v":66565},{"$f":"VLOOKUP($B15,Teilnehmer!$A$3:$E$119,4,FALSE)","v":"JM"},{"$f":"SUMIF(Einzelwertung1!$A$3:$A$55,$B15,Einzelwertung1!$J$3:$J$55)+0.017","v":15.016999999999999},{"$f":"SUMIF(Einzelwertung2!$A$3:$A$55,$B15,Einzelwertung2!$J$3:$J$55)+0.016","v":15.016},{"$f":"SUMIF(Einzelwertung3!$A$3:$A$55,$B15,Einzelwertung3!$J$3:$J$55)+0.015","v":10.015000000000001},{"$f":"SUMIF(Einzelwertung4!$A$3:$A$55,$B15,Einzelwertung4!$J$3:$J$55)+0.014","v":1.4E-2},{"$f":"SUMIF(Einzelwertung5!$A$3:$A$55,$B15,Einzelwertung5!$J$3:$J$55)+0.013","v":15.013},{"$f":"SUMIF(Einzelwertung6!$A$3:$A$55,$B15,Einzelwertung6!$J$3:$J$55)+0.012","v":10.012},{"$f":"SUMIF(Einzelwertung7!$A$3:$A$55,$B15,Einzelwertung7!$J$3:$J$55)+0.011","v":1.0999999999999999E-2},{"$f":"SUMIF(Einzelwertung8!$A$3:$A$55,$B15,Einzelwertung8!$J$3:$J$55)+0.01","v":10.01},{"$f":"SUMIF(Einzelwertung9!$A$3:$A$55,$B15,Einzelwertung9!$J$3:$J$55)+0.009","v":15.009},{"$f":"SUMIF(Einzelwertung10!$A$3:$A$55,$B15,Einzelwertung10!$J$3:$J$55)+0.008","v":15.007999999999999},{"$f":"SUMIF(Einzelwertung11!$A$3:$A$55,$B15,Einzelwertung11!$J$3:$J$55)+0.007","v":7.0000000000000001E-3},{"$f":"SUMIF(Einzelwertung12!$A$3:$A$55,$B15,Einzelwertung12!$J$3:$J$55)+0.006","v":6.0000000000000001E-3},{"$f":"SUMIF(Einzelwertung13!$A$3:$A$55,$B15,Einzelwertung13!$J$3:$J$55)+0.005","v":5.0000000000000001E-3},{"$f":"SUMIF(Einzelwertung14!$A$3:$A$55,$B15,Einzelwertung14!$J$3:$J$55)+0.004","v":4.0000000000000001E-3},{"$f":"SUMIF(Einzelwertung15!$A$3:$A$67,$B15,Einzelwertung15!$J$3:$J$67)+0.003","v":3.0000000000000001E-3},{"$f":"SUMIF(Einzelwertung16!$A$3:$A$55,$B15,Einzelwertung16!$J$3:$J$55)+0.002","v":2E-3},{"$f":"SUMIF(Einzelwertung17!$A$3:$A$55,$B15,Einzelwertung17!$J$3:$J$55)+0.001","v":1E-3},{"$f":"SUMIF(Einzelwertung18!$A$3:$A$55,$B15,Einzelwertung18!$J$3:$J$55)+0","v":0},{"$f":"INT(IF(COUNTIF(F15:W15,CONCATENATE(\">\",1/10))<=Hilfe!$A$1,SUM(F15:W15),SUMIF(F15:W15,CONCATENATE(\">=\",LARGE(F15:W15,Hilfe!$A$1)),F15:W15)))","v":105},8,20]
[14,"Urban, Dominic",{"$f":"VLOOKUP($B16,Teilnehmer!$A$3:$E$119,2,FALSE)","v":"ASW"},{"$f":"VLOOKUP($B16,Teilnehmer!$A$3:$E$119,3,FALSE)","v":66186},{"$f":"VLOOKUP($B16,Teilnehmer!$A$3:$E$119,4,FALSE)","v":"JM"},{"$f":"SUMIF(Einzelwertung1!$A$3:$A$55,$B16,Einzelwertung1!$J$3:$J$55)+0.017","v":1.7000000000000001E-2},{"$f":"SUMIF(Einzelwertung2!$A$3:$A$55,$B16,Einzelwertung2!$J$3:$J$55)+0.016","v":18.015999999999998},{"$f":"SUMIF(Einzelwertung3!$A$3:$A$55,$B16,Einzelwertung3!$J$3:$J$55)+0.015","v":21.015000000000001},{"$f":"SUMIF(Einzelwertung4!$A$3:$A$55,$B16,Einzelwertung4!$J$3:$J$55)+0.014","v":15.013999999999999},{"$f":"SUMIF(Einzelwertung5!$A$3:$A$55,$B16,Einzelwertung5!$J$3:$J$55)+0.013","v":25.013000000000002},{"$f":"SUMIF(Einzelwertung6!$A$3:$A$55,$B16,Einzelwertung6!$J$3:$J$55)+0.012","v":1.2E-2},{"$f":"SUMIF(Einzelwertung7!$A$3:$A$55,$B16,Einzelwertung7!$J$3:$J$55)+0.011","v":21.010999999999999},{"$f":"SUMIF(Einzelwertung8!$A$3:$A$55,$B16,Einzelwertung8!$J$3:$J$55)+0.01","v":0.01},{"$f":"SUMIF(Einzelwertung9!$A$3:$A$55,$B16,Einzelwertung9!$J$3:$J$55)+0.009","v":8.9999999999999993E-3},{"$f":"SUMIF(Einzelwertung10!$A$3:$A$55,$B16,Einzelwertung10!$J$3:$J$55)+0.008","v":8.0000000000000002E-3},{"$f":"SUMIF(Einzelwertung11!$A$3:$A$55,$B16,Einzelwertung11!$J$3:$J$55)+0.007","v":7.0000000000000001E-3},{"$f":"SUMIF(Einzelwertung12!$A$3:$A$55,$B16,Einzelwertung12!$J$3:$J$55)+0.006","v":6.0000000000000001E-3},{"$f":"SUMIF(Einzelwertung13!$A$3:$A$55,$B16,Einzelwertung13!$J$3:$J$55)+0.005","v":5.0000000000000001E-3},{"$f":"SUMIF(Einzelwertung14!$A$3:$A$55,$B16,Einzelwertung14!$J$3:$J$55)+0.004","v":4.0000000000000001E-3},{"$f":"SUMIF(Einzelwertung15!$A$3:$A$67,$B16,Einzelwertung15!$J$3:$J$67)+0.003","v":3.0000000000000001E-3},{"$f":"SUMIF(Einzelwertung16!$A$3:$A$55,$B16,Einzelwertung16!$J$3:$J$55)+0.002","v":2E-3},{"$f":"SUMIF(Einzelwertung17!$A$3:$A$55,$B16,Einzelwertung17!$J$3:$J$55)+0.001","v":1E-3},{"$f":"SUMIF(Einzelwertung18!$A$3:$A$55,$B16,Einzelwertung18!$J$3:$J$55)+0","v":0},{"$f":"INT(IF(COUNTIF(F16:W16,CONCATENATE(\">\",1/10))<=Hilfe!$A$1,SUM(F16:W16),SUMIF(F16:W16,CONCATENATE(\">=\",LARGE(F16:W16,Hilfe!$A$1)),F16:W16)))","v":100},5,12.5]
[15,"Börgmann, Brigitte",{"$f":"VLOOKUP($B17,Teilnehmer!$A$3:$E$119,2,FALSE)","v":"Hobby"},{"$f":"VLOOKUP($B17,Teilnehmer!$A$3:$E$119,3,FALSE)","v":"Hobby6"},{"$f":"VLOOKUP($B17,Teilnehmer!$A$3:$E$119,4,FALSE)","v":"SW1"},{"$f":"SUMIF(Einzelwertung1!$A$3:$A$55,$B17,Einzelwertung1!$J$3:$J$55)+0.017","v":5.0170000000000003},{"$f":"SUMIF(Einzelwertung2!$A$3:$A$55,$B17,Einzelwertung2!$J$3:$J$55)+0.016","v":15.016},{"$f":"SUMIF(Einzelwertung3!$A$3:$A$55,$B17,Einzelwertung3!$J$3:$J$55)+0.015","v":1.4999999999999999E-2},{"$f":"SUMIF(Einzelwertung4!$A$3:$A$55,$B17,Einzelwertung4!$J$3:$J$55)+0.014","v":5.0140000000000002},{"$f":"SUMIF(Einzelwertung5!$A$3:$A$55,$B17,Einzelwertung5!$J$3:$J$55)+0.013","v":15.013},{"$f":"SUMIF(Einzelwertung6!$A$3:$A$55,$B17,Einzelwertung6!$J$3:$J$55)+0.012","v":1.2E-2},{"$f":"SUMIF(Einzelwertung7!$A$3:$A$55,$B17,Einzelwertung7!$J$3:$J$55)+0.011","v":1.0999999999999999E-2},{"$f":"SUMIF(Einzelwertung8!$A$3:$A$55,$B17,Einzelwertung8!$J$3:$J$55)+0.01","v":0.01},{"$f":"SUMIF(Einzelwertung9!$A$3:$A$55,$B17,Einzelwertung9!$J$3:$J$55)+0.009","v":5.0090000000000003},{"$f":"SUMIF(Einzelwertung10!$A$3:$A$55,$B17,Einzelwertung10!$J$3:$J$55)+0.008","v":10.007999999999999},{"$f":"SUMIF(Einzelwertung11!$A$3:$A$55,$B17,Einzelwertung11!$J$3:$J$55)+0.007","v":5.0069999999999997},{"$f":"SUMIF(Einzelwertung12!$A$3:$A$55,$B17,Einzelwertung12!$J$3:$J$55)+0.006","v":6.0000000000000001E-3},{"$f":"SUMIF(Einzelwertung13!$A$3:$A$55,$B17,Einzelwertung13!$J$3:$J$55)+0.005","v":10.005000000000001},{"$f":"SUMIF(Einzelwertung14!$A$3:$A$55,$B17,Einzelwertung14!$J$3:$J$55)+0.004","v":10.004},{"$f":"SUMIF(Einzelwertung15!$A$3:$A$67,$B17,Einzelwertung15!$J$3:$J$67)+0.003","v":10.003},{"$f":"SUMIF(Einzelwertung16!$A$3:$A$55,$B17,Einzelwertung16!$J$3:$J$55)+0.002","v":2E-3},{"$f":"SUMIF(Einzelwertung17!$A$3:$A$55,$B17,Einzelwertung17!$J$3:$J$55)+0.001","v":1E-3},{"$f":"SUMIF(Einzelwertung18!$A$3:$A$55,$B17,Einzelwertung18!$J$3:$J$55)+0","v":0},{"$f":"INT(IF(COUNTIF(F17:W17,CONCATENATE(\">\",1/10))<=Hilfe!$A$1,SUM(F17:W17),SUMIF(F17:W17,CONCATENATE(\">=\",LARGE(F17:W17,Hilfe!$A$1)),F17:W17)))","v":90},10,50]
[16,"Dreischer, Burkhard",{"$f":"VLOOKUP($B18,Teilnehmer!$A$3:$E$119,2,FALSE)","v":"Oly"},{"$f":"VLOOKUP($B18,Teilnehmer!$A$3:$E$119,3,FALSE)","v":23778},{"$f":"VLOOKUP($B18,Teilnehmer!$A$3:$E$119,4,FALSE)","v":"SM2"},{"$f":"SUMIF(Einzelwertung1!$A$3:$A$55,$B18,Einzelwertung1!$J$3:$J$55)+0.017","v":1.7000000000000001E-2},{"$f":"SUMIF(Einzelwertung2!$A$3:$A$55,$B18,Einzelwertung2!$J$3:$J$55)+0.016","v":1.6E-2},{"$f":"SUMIF(Einzelwertung3!$A$3:$A$55,$B18,Einzelwertung3!$J$3:$J$55)+0.015","v":1.4999999999999999E-2},{"$f":"SUMIF(Einzelwertung4!$A$3:$A$55,$B18,Einzelwertung4!$J$3:$J$55)+0.014","v":1.4E-2},{"$f":"SUMIF(Einzelwertung5!$A$3:$A$55,$B18,Einzelwertung5!$J$3:$J$55)+0.013","v":5.0129999999999999},{"$f":"SUMIF(Einzelwertung6!$A$3:$A$55,$B18,Einzelwertung6!$J$3:$J$55)+0.012","v":1.2E-2},{"$f":"SUMIF(Einzelwertung7!$A$3:$A$55,$B18,Einzelwertung7!$J$3:$J$55)+0.011","v":5.0110000000000001},{"$f":"SUMIF(Einzelwertung8!$A$3:$A$55,$B18,Einzelwertung8!$J$3:$J$55)+0.01","v":0.01},{"$f":"SUMIF(Einzelwertung9!$A$3:$A$55,$B18,Einzelwertung9!$J$3:$J$55)+0.009","v":8.9999999999999993E-3},{"$f":"SUMIF(Einzelwertung10!$A$3:$A$55,$B18,Einzelwertung10!$J$3:$J$55)+0.008","v":8.0000000000000002E-3},{"$f":"SUMIF(Einzelwertung11!$A$3:$A$55,$B18,Einzelwertung11!$J$3:$J$55)+0.007","v":10.007},{"$f":"SUMIF(Einzelwertung12!$A$3:$A$55,$B18,Einzelwertung12!$J$3:$J$55)+0.006","v":15.006},{"$f":"SUMIF(Einzelwertung13!$A$3:$A$55,$B18,Einzelwertung13!$J$3:$J$55)+0.005","v":10.005000000000001},{"$f":"SUMIF(Einzelwertung14!$A$3:$A$55,$B18,Einzelwertung14!$J$3:$J$55)+0.004","v":15.004},{"$f":"SUMIF(Einzelwertung15!$A$3:$A$67,$B18,Einzelwertung15!$J$3:$J$67)+0.003","v":15.003},{"$f":"SUMIF(Einzelwertung16!$A$3:$A$55,$B18,Einzelwertung16!$J$3:$J$55)+0.002","v":10.002000000000001},{"$f":"SUMIF(Einzelwertung17!$A$3:$A$55,$B18,Einzelwertung17!$J$3:$J$55)+0.001","v":1E-3},{"$f":"SUMIF(Einzelwertung18!$A$3:$A$55,$B18,Einzelwertung18!$J$3:$J$55)+0","v":0},{"$f":"INT(IF(COUNTIF(F18:W18,CONCATENATE(\">\",1/10))<=Hilfe!$A$1,SUM(F18:W18),SUMIF(F18:W18,CONCATENATE(\">=\",LARGE(F18:W18,Hilfe!$A$1)),F18:W18)))","v":85},8,40]
[17,"Paffrath, Siegfried",{"$f":"VLOOKUP($B19,Teilnehmer!$A$3:$E$119,2,FALSE)","v":"HEV"},{"$f":"VLOOKUP($B19,Teilnehmer!$A$3:$E$119,3,FALSE)","v":33511},{"$f":"VLOOKUP($B19,Teilnehmer!$A$3:$E$119,4,FALSE)","v":"SM2"},{"$f":"SUMIF(Einzelwertung1!$A$3:$A$55,$B19,Einzelwertung1!$J$3:$J$55)+0.017","v":10.016999999999999},{"$f":"SUMIF(Einzelwertung2!$A$3:$A$55,$B19,Einzelwertung2!$J$3:$J$55)+0.016","v":10.016},{"$f":"SUMIF(Einzelwertung3!$A$3:$A$55,$B19,Einzelwertung3!$J$3:$J$55)+0.015","v":21.015000000000001},{"$f":"SUMIF(Einzelwertung4!$A$3:$A$55,$B19,Einzelwertung4!$J$3:$J$55)+0.014","v":1.4E-2},{"$f":"SUMIF(Einzelwertung5!$A$3:$A$55,$B19,Einzelwertung5!$J$3:$J$55)+0.013","v":15.013},{"$f":"SUMIF(Einzelwertung6!$A$3:$A$55,$B19,Einzelwertung6!$J$3:$J$55)+0.012","v":15.012},{"$f":"SUMIF(Einzelwertung7!$A$3:$A$55,$B19,Einzelwertung7!$J$3:$J$55)+0.011","v":1.0999999999999999E-2},{"$f":"SUMIF(Einzelwertung8!$A$3:$A$55,$B19,Einzelwertung8!$J$3:$J$55)+0.01","v":0.01},{"$f":"SUMIF(Einzelwertung9!$A$3:$A$55,$B19,Einzelwertung9!$J$3:$J$55)+0.009","v":8.9999999999999993E-3},{"$f":"SUMIF(Einzelwertung10!$A$3:$A$55,$B19,Einzelwertung10!$J$3:$J$55)+0.008","v":8.0000000000000002E-3},{"$f":"SUMIF(Einzelwertung11!$A$3:$A$55,$B19,Einzelwertung11!$J$3:$J$55)+0.007","v":7.0000000000000001E-3},{"$f":"SUMIF(Einzelwertung12!$A$3:$A$55,$B19,Einzelwertung12!$J$3:$J$55)+0.006","v":6.0000000000000001E-3},{"$f":"SUMIF(Einzelwertung13!$A$3:$A$55,$B19,Einzelwertung13!$J$3:$J$55)+0.005","v":5.0000000000000001E-3},{"$f":"SUMIF(Einzelwertung14!$A$3:$A$55,$B19,Einzelwertung14!$J$3:$J$55)+0.004","v":4.0000000000000001E-3},{"$f":"SUMIF(Einzelwertung15!$A$3:$A$67,$B19,Einzelwertung15!$J$3:$J$67)+0.003","v":3.0000000000000001E-3},{"$f":"SUMIF(Einzelwertung16!$A$3:$A$55,$B19,Einzelwertung16!$J$3:$J$55)+0.002","v":2E-3},{"$f":"SUMIF(Einzelwertung17!$A$3:$A$55,$B19,Einzelwertung17!$J$3:$J$55)+0.001","v":1E-3},{"$f":"SUMIF(Einzelwertung18!$A$3:$A$55,$B19,Einzelwertung18!$J$3:$J$55)+0","v":0},{"$f":"INT(IF(COUNTIF(F19:W19,CONCATENATE(\">\",1/10))<=Hilfe!$A$1,SUM(F19:W19),SUMIF(F19:W19,CONCATENATE(\">=\",LARGE(F19:W19,Hilfe!$A$1)),F19:W19)))","v":71},5,25]
[18,"Kersch, Uwe",{"$f":"VLOOKUP($B20,Teilnehmer!$A$3:$E$119,2,FALSE)","v":"Hobby"},{"$f":"VLOOKUP($B20,Teilnehmer!$A$3:$E$119,3,FALSE)","v":"Hobby33"},{"$f":"VLOOKUP($B20,Teilnehmer!$A$3:$E$119,4,FALSE)","v":"SM2"},{"$f":"SUMIF(Einzelwertung1!$A$3:$A$55,$B20,Einzelwertung1!$J$3:$J$55)+0.017","v":5.0170000000000003},{"$f":"SUMIF(Einzelwertung2!$A$3:$A$55,$B20,Einzelwertung2!$J$3:$J$55)+0.016","v":15.016},{"$f":"SUMIF(Einzelwertung3!$A$3:$A$55,$B20,Einzelwertung3!$J$3:$J$55)+0.015","v":1.4999999999999999E-2},{"$f":"SUMIF(Einzelwertung4!$A$3:$A$55,$B20,Einzelwertung4!$J$3:$J$55)+0.014","v":5.0140000000000002},{"$f":"SUMIF(Einzelwertung5!$A$3:$A$55,$B20,Einzelwertung5!$J$3:$J$55)+0.013","v":5.0129999999999999},{"$f":"SUMIF(Einzelwertung6!$A$3:$A$55,$B20,Einzelwertung6!$J$3:$J$55)+0.012","v":1.2E-2},{"$f":"SUMIF(Einzelwertung7!$A$3:$A$55,$B20,Einzelwertung7!$J$3:$J$55)+0.011","v":1.0999999999999999E-2},{"$f":"SUMIF(Einzelwertung8!$A$3:$A$55,$B20,Einzelwertung8!$J$3:$J$55)+0.01","v":0.01},{"$f":"SUMIF(Einzelwertung9!$A$3:$A$55,$B20,Einzelwertung9!$J$3:$J$55)+0.009","v":8.9999999999999993E-3},{"$f":"SUMIF(Einzelwertung10!$A$3:$A$55,$B20,Einzelwertung10!$J$3:$J$55)+0.008","v":8.0000000000000002E-3},{"$f":"SUMIF(Einzelwertung11!$A$3:$A$55,$B20,Einzelwertung11!$J$3:$J$55)+0.007","v":10.007},{"$f":"SUMIF(Einzelwertung12!$A$3:$A$55,$B20,Einzelwertung12!$J$3:$J$55)+0.006","v":15.006},{"$f":"SUMIF(Einzelwertung13!$A$3:$A$55,$B20,Einzelwertung13!$J$3:$J$55)+0.005","v":5.0000000000000001E-3},{"$f":"SUMIF(Einzelwertung14!$A$3:$A$55,$B20,Einzelwertung14!$J$3:$J$55)+0.004","v":10.004},{"$f":"SUMIF(Einzelwertung15!$A$3:$A$67,$B20,Einzelwertung15!$J$3:$J$67)+0.003","v":3.0000000000000001E-3},{"$f":"SUMIF(Einzelwertung16!$A$3:$A$55,$B20,Einzelwertung16!$J$3:$J$55)+0.002","v":5.0019999999999998},{"$f":"SUMIF(Einzelwertung17!$A$3:$A$55,$B20,Einzelwertung17!$J$3:$J$55)+0.001","v":1E-3},{"$f":"SUMIF(Einzelwertung18!$A$3:$A$55,$B20,Einzelwertung18!$J$3:$J$55)+0","v":0},{"$f":"INT(IF(COUNTIF(F20:W20,CONCATENATE(\">\",1/10))<=Hilfe!$A$1,SUM(F20:W20),SUMIF(F20:W20,CONCATENATE(\">=\",LARGE(F20:W20,Hilfe!$A$1)),F20:W20)))","v":70},8,40]
[19,"Urban, Angela",{"$f":"VLOOKUP($B21,Teilnehmer!$A$3:$E$119,2,FALSE)","v":"ASW"},{"$f":"VLOOKUP($B21,Teilnehmer!$A$3:$E$119,3,FALSE)","v":35605},{"$f":"VLOOKUP($B21,Teilnehmer!$A$3:$E$119,4,FALSE)","v":"SW1"},{"$f":"SUMIF(Einzelwertung1!$A$3:$A$55,$B21,Einzelwertung1!$J$3:$J$55)+0.017","v":1.7000000000000001E-2},{"$f":"SUMIF(Einzelwertung2!$A$3:$A$55,$B21,Einzelwertung2!$J$3:$J$55)+0.016","v":5.016},{"$f":"SUMIF(Einzelwertung3!$A$3:$A$55,$B21,Einzelwertung3!$J$3:$J$55)+0.015","v":10.015000000000001},{"$f":"SUMIF(Einzelwertung4!$A$3:$A$55,$B21,Einzelwertung4!$J$3:$J$55)+0.014","v":5.0140000000000002},{"$f":"SUMIF(Einzelwertung5!$A$3:$A$55,$B21,Einzelwertung5!$J$3:$J$55)+0.013","v":1.2999999999999999E-2},{"$f":"SUMIF(Einzelwertung6!$A$3:$A$55,$B21,Einzelwertung6!$J$3:$J$55)+0.012","v":1.2E-2},{"$f":"SUMIF(Einzelwertung7!$A$3:$A$55,$B21,Einzelwertung7!$J$3:$J$55)+0.011","v":1.0999999999999999E-2},{"$f":"SUMIF(Einzelwertung8!$A$3:$A$55,$B21,Einzelwertung8!$J$3:$J$55)+0.01","v":10.01},{"$f":"SUMIF(Einzelwertung9!$A$3:$A$55,$B21,Einzelwertung9!$J$3:$J$55)+0.009","v":8.9999999999999993E-3},{"$f":"SUMIF(Einzelwertung10!$A$3:$A$55,$B21,Einzelwertung10!$J$3:$J$55)+0.008","v":8.0000000000000002E-3},{"$f":"SUMIF(Einzelwertung11!$A$3:$A$55,$B21,Einzelwertung11!$J$3:$J$55)+0.007","v":10.007},{"$f":"SUMIF(Einzelwertung12!$A$3:$A$55,$B21,Einzelwertung12!$J$3:$J$55)+0.006","v":6.0000000000000001E-3},{"$f":"SUMIF(Einzelwertung13!$A$3:$A$55,$B21,Einzelwertung13!$J$3:$J$55)+0.005","v":5.0049999999999999},{"$f":"SUMIF(Einzelwertung14!$A$3:$A$55,$B21,Einzelwertung14!$J$3:$J$55)+0.004","v":5.0039999999999996},{"$f":"SUMIF(Einzelwertung15!$A$3:$A$67,$B21,Einzelwertung15!$J$3:$J$67)+0.003","v":3.0000000000000001E-3},{"$f":"SUMIF(Einzelwertung16!$A$3:$A$55,$B21,Einzelwertung16!$J$3:$J$55)+0.002","v":2E-3},{"$f":"SUMIF(Einzelwertung17!$A$3:$A$55,$B21,Einzelwertung17!$J$3:$J$55)+0.001","v":1E-3},{"$f":"SUMIF(Einzelwertung18!$A$3:$A$55,$B21,Einzelwertung18!$J$3:$J$55)+0","v":0},{"$f":"INT(IF(COUNTIF(F21:W21,CONCATENATE(\">\",1/10))<=Hilfe!$A$1,SUM(F21:W21),SUMIF(F21:W21,CONCATENATE(\">=\",LARGE(F21:W21,Hilfe!$A$1)),F21:W21)))","v":50},7,35]
[20,"Greiffendorf, Hellmut",{"$f":"VLOOKUP($B22,Teilnehmer!$A$3:$E$119,2,FALSE)","v":"ASW"},{"$f":"VLOOKUP($B22,Teilnehmer!$A$3:$E$119,3,FALSE)","v":3800},{"$f":"VLOOKUP($B22,Teilnehmer!$A$3:$E$119,4,FALSE)","v":"SM2"},{"$f":"SUMIF(Einzelwertung1!$A$3:$A$55,$B22,Einzelwertung1!$J$3:$J$55)+0.017","v":25.016999999999999},{"$f":"SUMIF(Einzelwertung2!$A$3:$A$55,$B22,Einzelwertung2!$J$3:$J$55)+0.016","v":5.016},{"$f":"SUMIF(Einzelwertung3!$A$3:$A$55,$B22,Einzelwertung3!$J$3:$J$55)+0.015","v":1.4999999999999999E-2},{"$f":"SUMIF(Einzelwertung4!$A$3:$A$55,$B22,Einzelwertung4!$J$3:$J$55)+0.014","v":15.013999999999999},{"$f":"SUMIF(Einzelwertung5!$A$3:$A$55,$B22,Einzelwertung5!$J$3:$J$55)+0.013","v":1.2999999999999999E-2},{"$f":"SUMIF(Einzelwertung6!$A$3:$A$55,$B22,Einzelwertung6!$J$3:$J$55)+0.012","v":1.2E-2},{"$f":"SUMIF(Einzelwertung7!$A$3:$A$55,$B22,Einzelwertung7!$J$3:$J$55)+0.011","v":1.0999999999999999E-2},{"$f":"SUMIF(Einzelwertung8!$A$3:$A$55,$B22,Einzelwertung8!$J$3:$J$55)+0.01","v":0.01},{"$f":"SUMIF(Einzelwertung9!$A$3:$A$55,$B22,Einzelwertung9!$J$3:$J$55)+0.009","v":8.9999999999999993E-3},{"$f":"SUMIF(Einzelwertung10!$A$3:$A$55,$B22,Einzelwertung10!$J$3:$J$55)+0.008","v":8.0000000000000002E-3},{"$f":"SUMIF(Einzelwertung11!$A$3:$A$55,$B22,Einzelwertung11!$J$3:$J$55)+0.007","v":7.0000000000000001E-3},{"$f":"SUMIF(Einzelwertung12!$A$3:$A$55,$B22,Einzelwertung12!$J$3:$J$55)+0.006","v":6.0000000000000001E-3},{"$f":"SUMIF(Einzelwertung13!$A$3:$A$55,$B22,Einzelwertung13!$J$3:$J$55)+0.005","v":5.0000000000000001E-3},{"$f":"SUMIF(Einzelwertung14!$A$3:$A$55,$B22,Einzelwertung14!$J$3:$J$55)+0.004","v":4.0000000000000001E-3},{"$f":"SUMIF(Einzelwertung15!$A$3:$A$67,$B22,Einzelwertung15!$J$3:$J$67)+0.003","v":3.0000000000000001E-3},{"$f":"SUMIF(Einzelwertung16!$A$3:$A$55,$B22,Einzelwertung16!$J$3:$J$55)+0.002","v":2E-3},{"$f":"SUMIF(Einzelwertung17!$A$3:$A$55,$B22,Einzelwertung17!$J$3:$J$55)+0.001","v":1E-3},{"$f":"SUMIF(Einzelwertung18!$A$3:$A$55,$B22,Einzelwertung18!$J$3:$J$55)+0","v":0},{"$f":"INT(IF(COUNTIF(F22:W22,CONCATENATE(\">\",1/10))<=Hilfe!$A$1,SUM(F22:W22),SUMIF(F22:W22,CONCATENATE(\">=\",LARGE(F22:W22,Hilfe!$A$1)),F22:W22)))","v":45},3,15]
[21,"Wilke, Andreas",{"$f":"VLOOKUP($B23,Teilnehmer!$A$3:$E$119,2,FALSE)","v":"Hobby"},{"$f":"VLOOKUP($B23,Teilnehmer!$A$3:$E$119,3,FALSE)","v":"Hobby39"},{"$f":"VLOOKUP($B23,Teilnehmer!$A$3:$E$119,4,FALSE)","v":"SM1"},{"$f":"SUMIF(Einzelwertung1!$A$3:$A$55,$B23,Einzelwertung1!$J$3:$J$55)+0.017","v":1.7000000000000001E-2},{"$f":"SUMIF(Einzelwertung2!$A$3:$A$55,$B23,Einzelwertung2!$J$3:$J$55)+0.016","v":1.6E-2},{"$f":"SUMIF(Einzelwertung3!$A$3:$A$55,$B23,Einzelwertung3!$J$3:$J$55)+0.015","v":1.4999999999999999E-2},{"$f":"SUMIF(Einzelwertung4!$A$3:$A$55,$B23,Einzelwertung4!$J$3:$J$55)+0.014","v":1.4E-2},{"$f":"SUMIF(Einzelwertung5!$A$3:$A$55,$B23,Einzelwertung5!$J$3:$J$55)+0.013","v":1.2999999999999999E-2},{"$f":"SUMIF(Einzelwertung6!$A$3:$A$55,$B23,Einzelwertung6!$J$3:$J$55)+0.012","v":1.2E-2},{"$f":"SUMIF(Einzelwertung7!$A$3:$A$55,$B23,Einzelwertung7!$J$3:$J$55)+0.011","v":1.0999999999999999E-2},{"$f":"SUMIF(Einzelwertung8!$A$3:$A$55,$B23,Einzelwertung8!$J$3:$J$55)+0.01","v":0.01},{"$f":"SUMIF(Einzelwertung9!$A$3:$A$55,$B23,Einzelwertung9!$J$3:$J$55)+0.009","v":8.9999999999999993E-3},{"$f":"SUMIF(Einzelwertung10!$A$3:$A$55,$B23,Einzelwertung10!$J$3:$J$55)+0.008","v":8.0000000000000002E-3},{"$f":"SUMIF(Einzelwertung11!$A$3:$A$55,$B23,Einzelwertung11!$J$3:$J$55)+0.007","v":7.0000000000000001E-3},{"$f":"SUMIF(Einzelwertung12!$A$3:$A$55,$B23,Einzelwertung12!$J$3:$J$55)+0.006","v":6.0000000000000001E-3},{"$f":"SUMIF(Einzelwertung13!$A$3:$A$55,$B23,Einzelwertung13!$J$3:$J$55)+0.005","v":5.0000000000000001E-3},{"$f":"SUMIF(Einzelwertung14!$A$3:$A$55,$B23,Einzelwertung14!$J$3:$J$55)+0.004","v":4.0000000000000001E-3},{"$f":"SUMIF(Einzelwertung15!$A$3:$A$67,$B23,Einzelwertung15!$J$3:$J$67)+0.003","v":3.0000000000000001E-3},{"$f":"SUMIF(Einzelwertung16!$A$3:$A$55,$B23,Einzelwertung16!$J$3:$J$55)+0.002","v":25.001999999999999},{"$f":"SUMIF(Einzelwertung17!$A$3:$A$55,$B23,Einzelwertung17!$J$3:$J$55)+0.001","v":1E-3},{"$f":"SUMIF(Einzelwertung18!$A$3:$A$55,$B23,Einzelwertung18!$J$3:$J$55)+0","v":0},{"$f":"INT(IF(COUNTIF(F23:W23,CONCATENATE(\">\",1/10))<=Hilfe!$A$1,SUM(F23:W23),SUMIF(F23:W23,CONCATENATE(\">=\",LARGE(F23:W23,Hilfe!$A$1)),F23:W23)))","v":25},1,5]
[null,"Kortmann, Uwe",{"$f":"VLOOKUP($B24,Teilnehmer!$A$3:$E$119,2,FALSE)","v":"Hobby"},{"$f":"VLOOKUP($B24,Teilnehmer!$A$3:$E$119,3,FALSE)","v":"Hobby32"},{"$f":"VLOOKUP($B24,Teilnehmer!$A$3:$E$119,4,FALSE)","v":"SM1"},{"$f":"SUMIF(Einzelwertung1!$A$3:$A$55,$B24,Einzelwertung1!$J$3:$J$55)+0.017","v":15.016999999999999},{"$f":"SUMIF(Einzelwertung2!$A$3:$A$55,$B24,Einzelwertung2!$J$3:$J$55)+0.016","v":5.016},{"$f":"SUMIF(Einzelwertung3!$A$3:$A$55,$B24,Einzelwertung3!$J$3:$J$55)+0.015","v":1.4999999999999999E-2},{"$f":"SUMIF(Einzelwertung4!$A$3:$A$55,$B24,Einzelwertung4!$J$3:$J$55)+0.014","v":1.4E-2},{"$f":"SUMIF(Einzelwertung5!$A$3:$A$55,$B24,Einzelwertung5!$J$3:$J$55)+0.013","v":1.2999999999999999E-2},{"$f":"SUMIF(Einzelwertung6!$A$3:$A$55,$B24,Einzelwertung6!$J$3:$J$55)+0.012","v":1.2E-2},{"$f":"SUMIF(Einzelwertung7!$A$3:$A$55,$B24,Einzelwertung7!$J$3:$J$55)+0.011","v":1.0999999999999999E-2},{"$f":"SUMIF(Einzelwertung8!$A$3:$A$55,$B24,Einzelwertung8!$J$3:$J$55)+0.01","v":0.01},{"$f":"SUMIF(Einzelwertung9!$A$3:$A$55,$B24,Einzelwertung9!$J$3:$J$55)+0.009","v":8.9999999999999993E-3},{"$f":"SUMIF(Einzelwertung10!$A$3:$A$55,$B24,Einzelwertung10!$J$3:$J$55)+0.008","v":8.0000000000000002E-3},{"$f":"SUMIF(Einzelwertung11!$A$3:$A$55,$B24,Einzelwertung11!$J$3:$J$55)+0.007","v":7.0000000000000001E-3},{"$f":"SUMIF(Einzelwertung12!$A$3:$A$55,$B24,Einzelwertung12!$J$3:$J$55)+0.006","v":6.0000000000000001E-3},{"$f":"SUMIF(Einzelwertung13!$A$3:$A$55,$B24,Einzelwertung13!$J$3:$J$55)+0.005","v":5.0000000000000001E-3},{"$f":"SUMIF(Einzelwertung14!$A$3:$A$55,$B24,Einzelwertung14!$J$3:$J$55)+0.004","v":4.0000000000000001E-3},{"$f":"SUMIF(Einzelwertung15!$A$3:$A$67,$B24,Einzelwertung15!$J$3:$J$67)+0.003","v":3.0000000000000001E-3},{"$f":"SUMIF(Einzelwertung16!$A$3:$A$55,$B24,Einzelwertung16!$J$3:$J$55)+0.002","v":5.0019999999999998},{"$f":"SUMIF(Einzelwertung17!$A$3:$A$55,$B24,Einzelwertung17!$J$3:$J$55)+0.001","v":1E-3},{"$f":"SUMIF(Einzelwertung18!$A$3:$A$55,$B24,Einzelwertung18!$J$3:$J$55)+0","v":0},{"$f":"INT(IF(COUNTIF(F24:W24,CONCATENATE(\">\",1/10))<=Hilfe!$A$1,SUM(F24:W24),SUMIF(F24:W24,CONCATENATE(\">=\",LARGE(F24:W24,Hilfe!$A$1)),F24:W24)))","v":25},3,15]
[23,"Arens, Ingo",{"$f":"VLOOKUP($B25,Teilnehmer!$A$3:$E$119,2,FALSE)","v":"Osna"},{"$f":"VLOOKUP($B25,Teilnehmer!$A$3:$E$119,3,FALSE)","v":27450},{"$f":"VLOOKUP($B25,Teilnehmer!$A$3:$E$119,4,FALSE)","v":"SM1"},{"$f":"SUMIF(Einzelwertung1!$A$3:$A$55,$B25,Einzelwertung1!$J$3:$J$55)+0.017","v":1.7000000000000001E-2},{"$f":"SUMIF(Einzelwertung2!$A$3:$A$55,$B25,Einzelwertung2!$J$3:$J$55)+0.016","v":1.6E-2},{"$f":"SUMIF(Einzelwertung3!$A$3:$A$55,$B25,Einzelwertung3!$J$3:$J$55)+0.015","v":1.4999999999999999E-2},{"$f":"SUMIF(Einzelwertung4!$A$3:$A$55,$B25,Einzelwertung4!$J$3:$J$55)+0.014","v":15.013999999999999},{"$f":"SUMIF(Einzelwertung5!$A$3:$A$55,$B25,Einzelwertung5!$J$3:$J$55)+0.013","v":1.2999999999999999E-2},{"$f":"SUMIF(Einzelwertung6!$A$3:$A$55,$B25,Einzelwertung6!$J$3:$J$55)+0.012","v":1.2E-2},{"$f":"SUMIF(Einzelwertung7!$A$3:$A$55,$B25,Einzelwertung7!$J$3:$J$55)+0.011","v":1.0999999999999999E-2},{"$f":"SUMIF(Einzelwertung8!$A$3:$A$55,$B25,Einzelwertung8!$J$3:$J$55)+0.01","v":0.01},{"$f":"SUMIF(Einzelwertung9!$A$3:$A$55,$B25,Einzelwertung9!$J$3:$J$55)+0.009","v":8.9999999999999993E-3},{"$f":"SUMIF(Einzelwertung10!$A$3:$A$55,$B25,Einzelwertung10!$J$3:$J$55)+0.008","v":8.0000000000000002E-3},{"$f":"SUMIF(Einzelwertung11!$A$3:$A$55,$B25,Einzelwertung11!$J$3:$J$55)+0.007","v":7.0000000000000001E-3},{"$f":"SUMIF(Einzelwertung12!$A$3:$A$55,$B25,Einzelwertung12!$J$3:$J$55)+0.006","v":6.0000000000000001E-3},{"$f":"SUMIF(Einzelwertung13!$A$3:$A$55,$B25,Einzelwertung13!$J$3:$J$55)+0.005","v":5.0000000000000001E-3},{"$f":"SUMIF(Einzelwertung14!$A$3:$A$55,$B25,Einzelwertung14!$J$3:$J$55)+0.004","v":4.0000000000000001E-3},{"$f":"SUMIF(Einzelwertung15!$A$3:$A$67,$B25,Einzelwertung15!$J$3:$J$67)+0.003","v":3.0000000000000001E-3},{"$f":"SUMIF(Einzelwertung16!$A$3:$A$55,$B25,Einzelwertung16!$J$3:$J$55)+0.002","v":2E-3},{"$f":"SUMIF(Einzelwertung17!$A$3:$A$55,$B25,Einzelwertung17!$J$3:$J$55)+0.001","v":1E-3},{"$f":"SUMIF(Einzelwertung18!$A$3:$A$55,$B25,Einzelwertung18!$J$3:$J$55)+0","v":0},{"$f":"INT(IF(COUNTIF(F25:W25,CONCATENATE(\">\",1/10))<=Hilfe!$A$1,SUM(F25:W25),SUMIF(F25:W25,CONCATENATE(\">=\",LARGE(F25:W25,Hilfe!$A$1)),F25:W25)))","v":15},1,5]
[null,"Puschner, Silke",{"$f":"VLOOKUP($B26,Teilnehmer!$A$3:$E$119,2,FALSE)","v":"Hobby"},{"$f":"VLOOKUP($B26,Teilnehmer!$A$3:$E$119,3,FALSE)","v":"Hobby19"},{"$f":"VLOOKUP($B26,Teilnehmer!$A$3:$E$119,4,FALSE)","v":"SW2"},{"$f":"SUMIF(Einzelwertung1!$A$3:$A$55,$B26,Einzelwertung1!$J$3:$J$55)+0.017","v":1.7000000000000001E-2},{"$f":"SUMIF(Einzelwertung2!$A$3:$A$55,$B26,Einzelwertung2!$J$3:$J$55)+0.016","v":1.6E-2},{"$f":"SUMIF(Einzelwertung3!$A$3:$A$55,$B26,Einzelwertung3!$J$3:$J$55)+0.015","v":5.0149999999999997},{"$f":"SUMIF(Einzelwertung4!$A$3:$A$55,$B26,Einzelwertung4!$J$3:$J$55)+0.014","v":5.0140000000000002},{"$f":"SUMIF(Einzelwertung5!$A$3:$A$55,$B26,Einzelwertung5!$J$3:$J$55)+0.013","v":1.2999999999999999E-2},{"$f":"SUMIF(Einzelwertung6!$A$3:$A$55,$B26,Einzelwertung6!$J$3:$J$55)+0.012","v":1.2E-2},{"$f":"SUMIF(Einzelwertung7!$A$3:$A$55,$B26,Einzelwertung7!$J$3:$J$55)+0.011","v":1.0999999999999999E-2},{"$f":"SUMIF(Einzelwertung8!$A$3:$A$55,$B26,Einzelwertung8!$J$3:$J$55)+0.01","v":0.01},{"$f":"SUMIF(Einzelwertung9!$A$3:$A$55,$B26,Einzelwertung9!$J$3:$J$55)+0.009","v":8.9999999999999993E-3},{"$f":"SUMIF(Einzelwertung10!$A$3:$A$55,$B26,Einzelwertung10!$J$3:$J$55)+0.008","v":8.0000000000000002E-3},{"$f":"SUMIF(Einzelwertung11!$A$3:$A$55,$B26,Einzelwertung11!$J$3:$J$55)+0.007","v":7.0000000000000001E-3},{"$f":"SUMIF(Einzelwertung12!$A$3:$A$55,$B26,Einzelwertung12!$J$3:$J$55)+0.006","v":6.0000000000000001E-3},{"$f":"SUMIF(Einzelwertung13!$A$3:$A$55,$B26,Einzelwertung13!$J$3:$J$55)+0.005","v":5.0000000000000001E-3},{"$f":"SUMIF(Einzelwertung14!$A$3:$A$55,$B26,Einzelwertung14!$J$3:$J$55)+0.004","v":4.0000000000000001E-3},{"$f":"SUMIF(Einzelwertung15!$A$3:$A$67,$B26,Einzelwertung15!$J$3:$J$67)+0.003","v":3.0000000000000001E-3},{"$f":"SUMIF(Einzelwertung16!$A$3:$A$55,$B26,Einzelwertung16!$J$3:$J$55)+0.002","v":5.0019999999999998},{"$f":"SUMIF(Einzelwertung17!$A$3:$A$55,$B26,Einzelwertung17!$J$3:$J$55)+0.001","v":1E-3},{"$f":"SUMIF(Einzelwertung18!$A$3:$A$55,$B26,Einzelwertung18!$J$3:$J$55)+0","v":0},{"$f":"INT(IF(COUNTIF(F26:W26,CONCATENATE(\">\",1/10))<=Hilfe!$A$1,SUM(F26:W26),SUMIF(F26:W26,CONCATENATE(\">=\",LARGE(F26:W26,Hilfe!$A$1)),F26:W26)))","v":15},3,15]
[25,"Tabor, Peter",{"$f":"VLOOKUP($B27,Teilnehmer!$A$3:$E$119,2,FALSE)","v":"ASW"},{"$f":"VLOOKUP($B27,Teilnehmer!$A$3:$E$119,3,FALSE)","v":65804},{"$f":"VLOOKUP($B27,Teilnehmer!$A$3:$E$119,4,FALSE)","v":"SM2"},{"$f":"SUMIF(Einzelwertung1!$A$3:$A$55,$B27,Einzelwertung1!$J$3:$J$55)+0.017","v":1.7000000000000001E-2},{"$f":"SUMIF(Einzelwertung2!$A$3:$A$55,$B27,Einzelwertung2!$J$3:$J$55)+0.016","v":1.6E-2},{"$f":"SUMIF(Einzelwertung3!$A$3:$A$55,$B27,Einzelwertung3!$J$3:$J$55)+0.015","v":1.4999999999999999E-2},{"$f":"SUMIF(Einzelwertung4!$A$3:$A$55,$B27,Einzelwertung4!$J$3:$J$55)+0.014","v":1.4E-2},{"$f":"SUMIF(Einzelwertung5!$A$3:$A$55,$B27,Einzelwertung5!$J$3:$J$55)+0.013","v":1.2999999999999999E-2},{"$f":"SUMIF(Einzelwertung6!$A$3:$A$55,$B27,Einzelwertung6!$J$3:$J$55)+0.012","v":1.2E-2},{"$f":"SUMIF(Einzelwertung7!$A$3:$A$55,$B27,Einzelwertung7!$J$3:$J$55)+0.011","v":1.0999999999999999E-2},{"$f":"SUMIF(Einzelwertung8!$A$3:$A$55,$B27,Einzelwertung8!$J$3:$J$55)+0.01","v":0.01},{"$f":"SUMIF(Einzelwertung9!$A$3:$A$55,$B27,Einzelwertung9!$J$3:$J$55)+0.009","v":8.9999999999999993E-3},{"$f":"SUMIF(Einzelwertung10!$A$3:$A$55,$B27,Einzelwertung10!$J$3:$J$55)+0.008","v":8.0000000000000002E-3},{"$f":"SUMIF(Einzelwertung11!$A$3:$A$55,$B27,Einzelwertung11!$J$3:$J$55)+0.007","v":5.0069999999999997},{"$f":"SUMIF(Einzelwertung12!$A$3:$A$55,$B27,Einzelwertung12!$J$3:$J$55)+0.006","v":6.0000000000000001E-3},{"$f":"SUMIF(Einzelwertung13!$A$3:$A$55,$B27,Einzelwertung13!$J$3:$J$55)+0.005","v":5.0000000000000001E-3},{"$f":"SUMIF(Einzelwertung14!$A$3:$A$55,$B27,Einzelwertung14!$J$3:$J$55)+0.004","v":4.0000000000000001E-3},{"$f":"SUMIF(Einzelwertung15!$A$3:$A$67,$B27,Einzelwertung15!$J$3:$J$67)+0.003","v":3.0000000000000001E-3},{"$f":"SUMIF(Einzelwertung16!$A$3:$A$55,$B27,Einzelwertung16!$J$3:$J$55)+0.002","v":2E-3},{"$f":"SUMIF(Einzelwertung17!$A$3:$A$55,$B27,Einzelwertung17!$J$3:$J$55)+0.001","v":1E-3},{"$f":"SUMIF(Einzelwertung18!$A$3:$A$55,$B27,Einzelwertung18!$J$3:$J$55)+0","v":0},{"$f":"INT(IF(COUNTIF(F27:W27,CONCATENATE(\">\",1/10))<=Hilfe!$A$1,SUM(F27:W27),SUMIF(F27:W27,CONCATENATE(\">=\",LARGE(F27:W27,Hilfe!$A$1)),F27:W27)))","v":5},1,5]
[26,"Hettrich, Willi",{"$f":"VLOOKUP($B28,Teilnehmer!$A$3:$E$119,2,FALSE)","v":"CAS"},{"$f":"VLOOKUP($B28,Teilnehmer!$A$3:$E$119,3,FALSE)","v":35236},{"$f":"VLOOKUP($B28,Teilnehmer!$A$3:$E$119,4,FALSE)","v":"SM2"},{"$f":"SUMIF(Einzelwertung1!$A$3:$A$55,$B28,Einzelwertung1!$J$3:$J$55)+0.017","v":1.7000000000000001E-2},{"$f":"SUMIF(Einzelwertung2!$A$3:$A$55,$B28,Einzelwertung2!$J$3:$J$55)+0.016","v":1.6E-2},{"$f":"SUMIF(Einzelwertung3!$A$3:$A$55,$B28,Einzelwertung3!$J$3:$J$55)+0.015","v":1.4999999999999999E-2},{"$f":"SUMIF(Einzelwertung4!$A$3:$A$55,$B28,Einzelwertung4!$J$3:$J$55)+0.014","v":1.4E-2},{"$f":"SUMIF(Einzelwertung5!$A$3:$A$55,$B28,Einzelwertung5!$J$3:$J$55)+0.013","v":1.2999999999999999E-2},{"$f":"SUMIF(Einzelwertung6!$A$3:$A$55,$B28,Einzelwertung6!$J$3:$J$55)+0.012","v":1.2E-2},{"$f":"SUMIF(Einzelwertung7!$A$3:$A$55,$B28,Einzelwertung7!$J$3:$J$55)+0.011","v":1.0999999999999999E-2},{"$f":"SUMIF(Einzelwertung8!$A$3:$A$55,$B28,Einzelwertung8!$J$3:$J$55)+0.01","v":0.01},{"$f":"SUMIF(Einzelwertung9!$A$3:$A$55,$B28,Einzelwertung9!$J$3:$J$55)+0.009","v":8.9999999999999993E-3},{"$f":"SUMIF(Einzelwertung10!$A$3:$A$55,$B28,Einzelwertung10!$J$3:$J$55)+0.008","v":8.0000000000000002E-3},{"$f":"SUMIF(Einzelwertung11!$A$3:$A$55,$B28,Einzelwertung11!$J$3:$J$55)+0.007","v":7.0000000000000001E-3},{"$f":"SUMIF(Einzelwertung12!$A$3:$A$55,$B28,Einzelwertung12!$J$3:$J$55)+0.006","v":6.0000000000000001E-3},{"$f":"SUMIF(Einzelwertung13!$A$3:$A$55,$B28,Einzelwertung13!$J$3:$J$55)+0.005","v":5.0000000000000001E-3},{"$f":"SUMIF(Einzelwertung14!$A$3:$A$55,$B28,Einzelwertung14!$J$3:$J$55)+0.004","v":4.0000000000000001E-3},{"$f":"SUMIF(Einzelwertung15!$A$3:$A$67,$B28,Einzelwertung15!$J$3:$J$67)+0.003","v":3.0000000000000001E-3},{"$f":"SUMIF(Einzelwertung16!$A$3:$A$55,$B28,Einzelwertung16!$J$3:$J$55)+0.002","v":2E-3},{"$f":"SUMIF(Einzelwertung17!$A$3:$A$55,$B28,Einzelwertung17!$J$3:$J$55)+0.001","v":1E-3},{"$f":"SUMIF(Einzelwertung18!$A$3:$A$55,$B28,Einzelwertung18!$J$3:$J$55)+0","v":0},{"$f":"INT(IF(COUNTIF(F28:W28,CONCATENATE(\">\",1/10))<=Hilfe!$A$1,SUM(F28:W28),SUMIF(F28:W28,CONCATENATE(\">=\",LARGE(F28:W28,Hilfe!$A$1)),F28:W28)))","v":0},0,0]
[null,"Hickert, Peter",{"$f":"VLOOKUP($B29,Teilnehmer!$A$3:$E$119,2,FALSE)","v":"ASW"},{"$f":"VLOOKUP($B29,Teilnehmer!$A$3:$E$119,3,FALSE)","v":46250},{"$f":"VLOOKUP($B29,Teilnehmer!$A$3:$E$119,4,FALSE)","v":"SM2"},{"$f":"SUMIF(Einzelwertung1!$A$3:$A$55,$B29,Einzelwertung1!$J$3:$J$55)+0.017","v":1.7000000000000001E-2},{"$f":"SUMIF(Einzelwertung2!$A$3:$A$55,$B29,Einzelwertung2!$J$3:$J$55)+0.016","v":1.6E-2},{"$f":"SUMIF(Einzelwertung3!$A$3:$A$55,$B29,Einzelwertung3!$J$3:$J$55)+0.015","v":1.4999999999999999E-2},{"$f":"SUMIF(Einzelwertung4!$A$3:$A$55,$B29,Einzelwertung4!$J$3:$J$55)+0.014","v":1.4E-2},{"$f":"SUMIF(Einzelwertung5!$A$3:$A$55,$B29,Einzelwertung5!$J$3:$J$55)+0.013","v":1.2999999999999999E-2},{"$f":"SUMIF(Einzelwertung6!$A$3:$A$55,$B29,Einzelwertung6!$J$3:$J$55)+0.012","v":1.2E-2},{"$f":"SUMIF(Einzelwertung7!$A$3:$A$55,$B29,Einzelwertung7!$J$3:$J$55)+0.011","v":1.0999999999999999E-2},{"$f":"SUMIF(Einzelwertung8!$A$3:$A$55,$B29,Einzelwertung8!$J$3:$J$55)+0.01","v":0.01},{"$f":"SUMIF(Einzelwertung9!$A$3:$A$55,$B29,Einzelwertung9!$J$3:$J$55)+0.009","v":8.9999999999999993E-3},{"$f":"SUMIF(Einzelwertung10!$A$3:$A$55,$B29,Einzelwertung10!$J$3:$J$55)+0.008","v":8.0000000000000002E-3},{"$f":"SUMIF(Einzelwertung11!$A$3:$A$55,$B29,Einzelwertung11!$J$3:$J$55)+0.007","v":7.0000000000000001E-3},{"$f":"SUMIF(Einzelwertung12!$A$3:$A$55,$B29,Einzelwertung12!$J$3:$J$55)+0.006","v":6.0000000000000001E-3},{"$f":"SUMIF(Einzelwertung13!$A$3:$A$55,$B29,Einzelwertung13!$J$3:$J$55)+0.005","v":5.0000000000000001E-3},{"$f":"SUMIF(Einzelwertung14!$A$3:$A$55,$B29,Einzelwertung14!$J$3:$J$55)+0.004","v":4.0000000000000001E-3},{"$f":"SUMIF(Einzelwertung15!$A$3:$A$67,$B29,Einzelwertung15!$J$3:$J$67)+0.003","v":3.0000000000000001E-3},{"$f":"SUMIF(Einzelwertung16!$A$3:$A$55,$B29,Einzelwertung16!$J$3:$J$55)+0.002","v":2E-3},{"$f":"SUMIF(Einzelwertung17!$A$3:$A$55,$B29,Einzelwertung17!$J$3:$J$55)+0.001","v":1E-3},{"$f":"SUMIF(Einzelwertung18!$A$3:$A$55,$B29,Einzelwertung18!$J$3:$J$55)+0","v":0},{"$f":"INT(IF(COUNTIF(F29:W29,CONCATENATE(\">\",1/10))<=Hilfe!$A$1,SUM(F29:W29),SUMIF(F29:W29,CONCATENATE(\">=\",LARGE(F29:W29,Hilfe!$A$1)),F29:W29)))","v":0},0,0]
[null,"Hoffmann, Thomas",{"$f":"VLOOKUP($B30,Teilnehmer!$A$3:$E$119,2,FALSE)","v":"Hobby"},{"$f":"VLOOKUP($B30,Teilnehmer!$A$3:$E$119,3,FALSE)","v":"Hobby29"},{"$f":"VLOOKUP($B30,Teilnehmer!$A$3:$E$119,4,FALSE)","v":"SM2"},{"$f":"SUMIF(Einzelwertung1!$A$3:$A$55,$B30,Einzelwertung1!$J$3:$J$55)+0.017","v":1.7000000000000001E-2},{"$f":"SUMIF(Einzelwertung2!$A$3:$A$55,$B30,Einzelwertung2!$J$3:$J$55)+0.016","v":1.6E-2},{"$f":"SUMIF(Einzelwertung3!$A$3:$A$55,$B30,Einzelwertung3!$J$3:$J$55)+0.015","v":1.4999999999999999E-2},{"$f":"SUMIF(Einzelwertung4!$A$3:$A$55,$B30,Einzelwertung4!$J$3:$J$55)+0.014","v":1.4E-2},{"$f":"SUMIF(Einzelwertung5!$A$3:$A$55,$B30,Einzelwertung5!$J$3:$J$55)+0.013","v":1.2999999999999999E-2},{"$f":"SUMIF(Einzelwertung6!$A$3:$A$55,$B30,Einzelwertung6!$J$3:$J$55)+0.012","v":1.2E-2},{"$f":"SUMIF(Einzelwertung7!$A$3:$A$55,$B30,Einzelwertung7!$J$3:$J$55)+0.011","v":1.0999999999999999E-2},{"$f":"SUMIF(Einzelwertung8!$A$3:$A$55,$B30,Einzelwertung8!$J$3:$J$55)+0.01","v":0.01},{"$f":"SUMIF(Einzelwertung9!$A$3:$A$55,$B30,Einzelwertung9!$J$3:$J$55)+0.009","v":8.9999999999999993E-3},{"$f":"SUMIF(Einzelwertung10!$A$3:$A$55,$B30,Einzelwertung10!$J$3:$J$55)+0.008","v":8.0000000000000002E-3},{"$f":"SUMIF(Einzelwertung11!$A$3:$A$55,$B30,Einzelwertung11!$J$3:$J$55)+0.007","v":7.0000000000000001E-3},{"$f":"SUMIF(Einzelwertung12!$A$3:$A$55,$B30,Einzelwertung12!$J$3:$J$55)+0.006","v":6.0000000000000001E-3},{"$f":"SUMIF(Einzelwertung13!$A$3:$A$55,$B30,Einzelwertung13!$J$3:$J$55)+0.005","v":5.0000000000000001E-3},{"$f":"SUMIF(Einzelwertung14!$A$3:$A$55,$B30,Einzelwertung14!$J$3:$J$55)+0.004","v":4.0000000000000001E-3},{"$f":"SUMIF(Einzelwertung15!$A$3:$A$67,$B30,Einzelwertung15!$J$3:$J$67)+0.003","v":3.0000000000000001E-3},{"$f":"SUMIF(Einzelwertung16!$A$3:$A$55,$B30,Einzelwertung16!$J$3:$J$55)+0.002","v":2E-3},{"$f":"SUMIF(Einzelwertung17!$A$3:$A$55,$B30,Einzelwertung17!$J$3:$J$55)+0.001","v":1E-3},{"$f":"SUMIF(Einzelwertung18!$A$3:$A$55,$B30,Einzelwertung18!$J$3:$J$55)+0","v":0},{"$f":"INT(IF(COUNTIF(F30:W30,CONCATENATE(\">\",1/10))<=Hilfe!$A$1,SUM(F30:W30),SUMIF(F30:W30,CONCATENATE(\">=\",LARGE(F30:W30,Hilfe!$A$1)),F30:W30)))","v":0},0,0]
[null,"Kalhöfer, Anna",{"$f":"VLOOKUP($B31,Teilnehmer!$A$3:$E$119,2,FALSE)","v":"ASW"},{"$f":"VLOOKUP($B31,Teilnehmer!$A$3:$E$119,3,FALSE)","v":4222},{"$f":"VLOOKUP($B31,Teilnehmer!$A$3:$E$119,4,FALSE)","v":"SW2"},{"$f":"SUMIF(Einzelwertung1!$A$3:$A$55,$B31,Einzelwertung1!$J$3:$J$55)+0.017","v":1.7000000000000001E-2},{"$f":"SUMIF(Einzelwertung2!$A$3:$A$55,$B31,Einzelwertung2!$J$3:$J$55)+0.016","v":1.6E-2},{"$f":"SUMIF(Einzelwertung3!$A$3:$A$55,$B31,Einzelwertung3!$J$3:$J$55)+0.015","v":1.4999999999999999E-2},{"$f":"SUMIF(Einzelwertung4!$A$3:$A$55,$B31,Einzelwertung4!$J$3:$J$55)+0.014","v":1.4E-2},{"$f":"SUMIF(Einzelwertung5!$A$3:$A$55,$B31,Einzelwertung5!$J$3:$J$55)+0.013","v":1.2999999999999999E-2},{"$f":"SUMIF(Einzelwertung6!$A$3:$A$55,$B31,Einzelwertung6!$J$3:$J$55)+0.012","v":1.2E-2},{"$f":"SUMIF(Einzelwertung7!$A$3:$A$55,$B31,Einzelwertung7!$J$3:$J$55)+0.011","v":1.0999999999999999E-2},{"$f":"SUMIF(Einzelwertung8!$A$3:$A$55,$B31,Einzelwertung8!$J$3:$J$55)+0.01","v":0.01},{"$f":"SUMIF(Einzelwertung9!$A$3:$A$55,$B31,Einzelwertung9!$J$3:$J$55)+0.009","v":8.9999999999999993E-3},{"$f":"SUMIF(Einzelwertung10!$A$3:$A$55,$B31,Einzelwertung10!$J$3:$J$55)+0.008","v":8.0000000000000002E-3},{"$f":"SUMIF(Einzelwertung11!$A$3:$A$55,$B31,Einzelwertung11!$J$3:$J$55)+0.007","v":7.0000000000000001E-3},{"$f":"SUMIF(Einzelwertung12!$A$3:$A$55,$B31,Einzelwertung12!$J$3:$J$55)+0.006","v":6.0000000000000001E-3},{"$f":"SUMIF(Einzelwertung13!$A$3:$A$55,$B31,Einzelwertung13!$J$3:$J$55)+0.005","v":5.0000000000000001E-3},{"$f":"SUMIF(Einzelwertung14!$A$3:$A$55,$B31,Einzelwertung14!$J$3:$J$55)+0.004","v":4.0000000000000001E-3},{"$f":"SUMIF(Einzelwertung15!$A$3:$A$67,$B31,Einzelwertung15!$J$3:$J$67)+0.003","v":3.0000000000000001E-3},{"$f":"SUMIF(Einzelwertung16!$A$3:$A$55,$B31,Einzelwertung16!$J$3:$J$55)+0.002","v":2E-3},{"$f":"SUMIF(Einzelwertung17!$A$3:$A$55,$B31,Einzelwertung17!$J$3:$J$55)+0.001","v":1E-3},{"$f":"SUMIF(Einzelwertung18!$A$3:$A$55,$B31,Einzelwertung18!$J$3:$J$55)+0","v":0},{"$f":"INT(IF(COUNTIF(F31:W31,CONCATENATE(\">\",1/10))<=Hilfe!$A$1,SUM(F31:W31),SUMIF(F31:W31,CONCATENATE(\">=\",LARGE(F31:W31,Hilfe!$A$1)),F31:W31)))","v":0},0,0]
[null,"Lehmann, Niclas",{"$f":"VLOOKUP($B32,Teilnehmer!$A$3:$E$119,2,FALSE)","v":"Oly"},{"$f":"VLOOKUP($B32,Teilnehmer!$A$3:$E$119,3,FALSE)","v":67372},{"$f":"VLOOKUP($B32,Teilnehmer!$A$3:$E$119,4,FALSE)","v":"H"},{"$f":"SUMIF(Einzelwertung1!$A$3:$A$55,$B32,Einzelwertung1!$J$3:$J$55)+0.017","v":1.7000000000000001E-2},{"$f":"SUMIF(Einzelwertung2!$A$3:$A$55,$B32,Einzelwertung2!$J$3:$J$55)+0.016","v":1.6E-2},{"$f":"SUMIF(Einzelwertung3!$A$3:$A$55,$B32,Einzelwertung3!$J$3:$J$55)+0.015","v":1.4999999999999999E-2},{"$f":"SUMIF(Einzelwertung4!$A$3:$A$55,$B32,Einzelwertung4!$J$3:$J$55)+0.014","v":1.4E-2},{"$f":"SUMIF(Einzelwertung5!$A$3:$A$55,$B32,Einzelwertung5!$J$3:$J$55)+0.013","v":1.2999999999999999E-2},{"$f":"SUMIF(Einzelwertung6!$A$3:$A$55,$B32,Einzelwertung6!$J$3:$J$55)+0.012","v":1.2E-2},{"$f":"SUMIF(Einzelwertung7!$A$3:$A$55,$B32,Einzelwertung7!$J$3:$J$55)+0.011","v":1.0999999999999999E-2},{"$f":"SUMIF(Einzelwertung8!$A$3:$A$55,$B32,Einzelwertung8!$J$3:$J$55)+0.01","v":0.01},{"$f":"SUMIF(Einzelwertung9!$A$3:$A$55,$B32,Einzelwertung9!$J$3:$J$55)+0.009","v":8.9999999999999993E-3},{"$f":"SUMIF(Einzelwertung10!$A$3:$A$55,$B32,Einzelwertung10!$J$3:$J$55)+0.008","v":8.0000000000000002E-3},{"$f":"SUMIF(Einzelwertung11!$A$3:$A$55,$B32,Einzelwertung11!$J$3:$J$55)+0.007","v":7.0000000000000001E-3},{"$f":"SUMIF(Einzelwertung12!$A$3:$A$55,$B32,Einzelwertung12!$J$3:$J$55)+0.006","v":6.0000000000000001E-3},{"$f":"SUMIF(Einzelwertung13!$A$3:$A$55,$B32,Einzelwertung13!$J$3:$J$55)+0.005","v":5.0000000000000001E-3},{"$f":"SUMIF(Einzelwertung14!$A$3:$A$55,$B32,Einzelwertung14!$J$3:$J$55)+0.004","v":4.0000000000000001E-3},{"$f":"SUMIF(Einzelwertung15!$A$3:$A$67,$B32,Einzelwertung15!$J$3:$J$67)+0.003","v":3.0000000000000001E-3},{"$f":"SUMIF(Einzelwertung16!$A$3:$A$55,$B32,Einzelwertung16!$J$3:$J$55)+0.002","v":2E-3},{"$f":"SUMIF(Einzelwertung17!$A$3:$A$55,$B32,Einzelwertung17!$J$3:$J$55)+0.001","v":1E-3},{"$f":"SUMIF(Einzelwertung18!$A$3:$A$55,$B32,Einzelwertung18!$J$3:$J$55)+0","v":0},{"$f":"INT(IF(COUNTIF(F32:W32,CONCATENATE(\">\",1/10))<=Hilfe!$A$1,SUM(F32:W32),SUMIF(F32:W32,CONCATENATE(\">=\",LARGE(F32:W32,Hilfe!$A$1)),F32:W32)))","v":0},0,0]
[null,"Lieber, Nicole",{"$f":"VLOOKUP($B33,Teilnehmer!$A$3:$E$119,2,FALSE)","v":"Hobby"},{"$f":"VLOOKUP($B33,Teilnehmer!$A$3:$E$119,3,FALSE)","v":"Hobby7"},{"$f":"VLOOKUP($B33,Teilnehmer!$A$3:$E$119,4,FALSE)","v":"D"},{"$f":"SUMIF(Einzelwertung1!$A$3:$A$55,$B33,Einzelwertung1!$J$3:$J$55)+0.017","v":1.7000000000000001E-2},{"$f":"SUMIF(Einzelwertung2!$A$3:$A$55,$B33,Einzelwertung2!$J$3:$J$55)+0.016","v":1.6E-2},{"$f":"SUMIF(Einzelwertung3!$A$3:$A$55,$B33,Einzelwertung3!$J$3:$J$55)+0.015","v":1.4999999999999999E-2},{"$f":"SUMIF(Einzelwertung4!$A$3:$A$55,$B33,Einzelwertung4!$J$3:$J$55)+0.014","v":1.4E-2},{"$f":"SUMIF(Einzelwertung5!$A$3:$A$55,$B33,Einzelwertung5!$J$3:$J$55)+0.013","v":1.2999999999999999E-2},{"$f":"SUMIF(Einzelwertung6!$A$3:$A$55,$B33,Einzelwertung6!$J$3:$J$55)+0.012","v":1.2E-2},{"$f":"SUMIF(Einzelwertung7!$A$3:$A$55,$B33,Einzelwertung7!$J$3:$J$55)+0.011","v":1.0999999999999999E-2},{"$f":"SUMIF(Einzelwertung8!$A$3:$A$55,$B33,Einzelwertung8!$J$3:$J$55)+0.01","v":0.01},{"$f":"SUMIF(Einzelwertung9!$A$3:$A$55,$B33,Einzelwertung9!$J$3:$J$55)+0.009","v":8.9999999999999993E-3},{"$f":"SUMIF(Einzelwertung10!$A$3:$A$55,$B33,Einzelwertung10!$J$3:$J$55)+0.008","v":8.0000000000000002E-3},{"$f":"SUMIF(Einzelwertung11!$A$3:$A$55,$B33,Einzelwertung11!$J$3:$J$55)+0.007","v":7.0000000000000001E-3},{"$f":"SUMIF(Einzelwertung12!$A$3:$A$55,$B33,Einzelwertung12!$J$3:$J$55)+0.006","v":6.0000000000000001E-3},{"$f":"SUMIF(Einzelwertung13!$A$3:$A$55,$B33,Einzelwertung13!$J$3:$J$55)+0.005","v":5.0000000000000001E-3},{"$f":"SUMIF(Einzelwertung14!$A$3:$A$55,$B33,Einzelwertung14!$J$3:$J$55)+0.004","v":4.0000000000000001E-3},{"$f":"SUMIF(Einzelwertung15!$A$3:$A$67,$B33,Einzelwertung15!$J$3:$J$67)+0.003","v":3.0000000000000001E-3},{"$f":"SUMIF(Einzelwertung16!$A$3:$A$55,$B33,Einzelwertung16!$J$3:$J$55)+0.002","v":2E-3},{"$f":"SUMIF(Einzelwertung17!$A$3:$A$55,$B33,Einzelwertung17!$J$3:$J$55)+0.001","v":1E-3},{"$f":"SUMIF(Einzelwertung18!$A$3:$A$55,$B33,Einzelwertung18!$J$3:$J$55)+0","v":0},{"$f":"INT(IF(COUNTIF(F33:W33,CONCATENATE(\">\",1/10))<=Hilfe!$A$1,SUM(F33:W33),SUMIF(F33:W33,CONCATENATE(\">=\",LARGE(F33:W33,Hilfe!$A$1)),F33:W33)))","v":0},0,0]
[null,"Scharpe, Sabine",{"$f":"VLOOKUP($B34,Teilnehmer!$A$3:$E$119,2,FALSE)","v":"Ennep."},{"$f":"VLOOKUP($B34,Teilnehmer!$A$3:$E$119,3,FALSE)","v":67147},{"$f":"VLOOKUP($B34,Teilnehmer!$A$3:$E$119,4,FALSE)","v":"SW1"},{"$f":"SUMIF(Einzelwertung1!$A$3:$A$55,$B34,Einzelwertung1!$J$3:$J$55)+0.017","v":1.7000000000000001E-2},{"$f":"SUMIF(Einzelwertung2!$A$3:$A$55,$B34,Einzelwertung2!$J$3:$J$55)+0.016","v":1.6E-2},{"$f":"SUMIF(Einzelwertung3!$A$3:$A$55,$B34,Einzelwertung3!$J$3:$J$55)+0.015","v":1.4999999999999999E-2},{"$f":"SUMIF(Einzelwertung4!$A$3:$A$55,$B34,Einzelwertung4!$J$3:$J$55)+0.014","v":1.4E-2},{"$f":"SUMIF(Einzelwertung5!$A$3:$A$55,$B34,Einzelwertung5!$J$3:$J$55)+0.013","v":1.2999999999999999E-2},{"$f":"SUMIF(Einzelwertung6!$A$3:$A$55,$B34,Einzelwertung6!$J$3:$J$55)+0.012","v":1.2E-2},{"$f":"SUMIF(Einzelwertung7!$A$3:$A$55,$B34,Einzelwertung7!$J$3:$J$55)+0.011","v":1.0999999999999999E-2},{"$f":"SUMIF(Einzelwertung8!$A$3:$A$55,$B34,Einzelwertung8!$J$3:$J$55)+0.01","v":0.01},{"$f":"SUMIF(Einzelwertung9!$A$3:$A$55,$B34,Einzelwertung9!$J$3:$J$55)+0.009","v":8.9999999999999993E-3},{"$f":"SUMIF(Einzelwertung10!$A$3:$A$55,$B34,Einzelwertung10!$J$3:$J$55)+0.008","v":8.0000000000000002E-3},{"$f":"SUMIF(Einzelwertung11!$A$3:$A$55,$B34,Einzelwertung11!$J$3:$J$55)+0.007","v":7.0000000000000001E-3},{"$f":"SUMIF(Einzelwertung12!$A$3:$A$55,$B34,Einzelwertung12!$J$3:$J$55)+0.006","v":6.0000000000000001E-3},{"$f":"SUMIF(Einzelwertung13!$A$3:$A$55,$B34,Einzelwertung13!$J$3:$J$55)+0.005","v":5.0000000000000001E-3},{"$f":"SUMIF(Einzelwertung14!$A$3:$A$55,$B34,Einzelwertung14!$J$3:$J$55)+0.004","v":4.0000000000000001E-3},{"$f":"SUMIF(Einzelwertung15!$A$3:$A$67,$B34,Einzelwertung15!$J$3:$J$67)+0.003","v":3.0000000000000001E-3},{"$f":"SUMIF(Einzelwertung16!$A$3:$A$55,$B34,Einzelwertung16!$J$3:$J$55)+0.002","v":2E-3},{"$f":"SUMIF(Einzelwertung17!$A$3:$A$55,$B34,Einzelwertung17!$J$3:$J$55)+0.001","v":1E-3},{"$f":"SUMIF(Einzelwertung18!$A$3:$A$55,$B34,Einzelwertung18!$J$3:$J$55)+0","v":0},{"$f":"INT(IF(COUNTIF(F34:W34,CONCATENATE(\">\",1/10))<=Hilfe!$A$1,SUM(F34:W34),SUMIF(F34:W34,CONCATENATE(\">=\",LARGE(F34:W34,Hilfe!$A$1)),F34:W34)))","v":0},0,0]
[null,"Schmidt, Barbara",{"$f":"VLOOKUP($B35,Teilnehmer!$A$3:$E$119,2,FALSE)","v":"Hobby"},{"$f":"VLOOKUP($B35,Teilnehmer!$A$3:$E$119,3,FALSE)","v":"Hobby41"},{"$f":"VLOOKUP($B35,Teilnehmer!$A$3:$E$119,4,FALSE)","v":"SW2"},{"$f":"SUMIF(Einzelwertung1!$A$3:$A$55,$B35,Einzelwertung1!$J$3:$J$55)+0.017","v":1.7000000000000001E-2},{"$f":"SUMIF(Einzelwertung2!$A$3:$A$55,$B35,Einzelwertung2!$J$3:$J$55)+0.016","v":1.6E-2},{"$f":"SUMIF(Einzelwertung3!$A$3:$A$55,$B35,Einzelwertung3!$J$3:$J$55)+0.015","v":1.4999999999999999E-2},{"$f":"SUMIF(Einzelwertung4!$A$3:$A$55,$B35,Einzelwertung4!$J$3:$J$55)+0.014","v":1.4E-2},{"$f":"SUMIF(Einzelwertung5!$A$3:$A$55,$B35,Einzelwertung5!$J$3:$J$55)+0.013","v":1.2999999999999999E-2},{"$f":"SUMIF(Einzelwertung6!$A$3:$A$55,$B35,Einzelwertung6!$J$3:$J$55)+0.012","v":1.2E-2},{"$f":"SUMIF(Einzelwertung7!$A$3:$A$55,$B35,Einzelwertung7!$J$3:$J$55)+0.011","v":1.0999999999999999E-2},{"$f":"SUMIF(Einzelwertung8!$A$3:$A$55,$B35,Einzelwertung8!$J$3:$J$55)+0.01","v":0.01},{"$f":"SUMIF(Einzelwertung9!$A$3:$A$55,$B35,Einzelwertung9!$J$3:$J$55)+0.009","v":8.9999999999999993E-3},{"$f":"SUMIF(Einzelwertung10!$A$3:$A$55,$B35,Einzelwertung10!$J$3:$J$55)+0.008","v":8.0000000000000002E-3},{"$f":"SUMIF(Einzelwertung11!$A$3:$A$55,$B35,Einzelwertung11!$J$3:$J$55)+0.007","v":7.0000000000000001E-3},{"$f":"SUMIF(Einzelwertung12!$A$3:$A$55,$B35,Einzelwertung12!$J$3:$J$55)+0.006","v":6.0000000000000001E-3},{"$f":"SUMIF(Einzelwertung13!$A$3:$A$55,$B35,Einzelwertung13!$J$3:$J$55)+0.005","v":5.0000000000000001E-3},{"$f":"SUMIF(Einzelwertung14!$A$3:$A$55,$B35,Einzelwertung14!$J$3:$J$55)+0.004","v":4.0000000000000001E-3},{"$f":"SUMIF(Einzelwertung15!$A$3:$A$67,$B35,Einzelwertung15!$J$3:$J$67)+0.003","v":3.0000000000000001E-3},{"$f":"SUMIF(Einzelwertung16!$A$3:$A$55,$B35,Einzelwertung16!$J$3:$J$55)+0.002","v":2E-3},{"$f":"SUMIF(Einzelwertung17!$A$3:$A$55,$B35,Einzelwertung17!$J$3:$J$55)+0.001","v":1E-3},{"$f":"SUMIF(Einzelwertung18!$A$3:$A$55,$B35,Einzelwertung18!$J$3:$J$55)+0","v":0},{"$f":"INT(IF(COUNTIF(F35:W35,CONCATENATE(\">\",1/10))<=Hilfe!$A$1,SUM(F35:W35),SUMIF(F35:W35,CONCATENATE(\">=\",LARGE(F35:W35,Hilfe!$A$1)),F35:W35)))","v":0},0,0]
[null,"Schmitt, Jürgen",{"$f":"VLOOKUP($B36,Teilnehmer!$A$3:$E$119,2,FALSE)","v":"ASW"},{"$f":"VLOOKUP($B36,Teilnehmer!$A$3:$E$119,3,FALSE)","v":44955},{"$f":"VLOOKUP($B36,Teilnehmer!$A$3:$E$119,4,FALSE)","v":"SM1"},{"$f":"SUMIF(Einzelwertung1!$A$3:$A$55,$B36,Einzelwertung1!$J$3:$J$55)+0.017","v":1.7000000000000001E-2},{"$f":"SUMIF(Einzelwertung2!$A$3:$A$55,$B36,Einzelwertung2!$J$3:$J$55)+0.016","v":1.6E-2},{"$f":"SUMIF(Einzelwertung3!$A$3:$A$55,$B36,Einzelwertung3!$J$3:$J$55)+0.015","v":1.4999999999999999E-2},{"$f":"SUMIF(Einzelwertung4!$A$3:$A$55,$B36,Einzelwertung4!$J$3:$J$55)+0.014","v":1.4E-2},{"$f":"SUMIF(Einzelwertung5!$A$3:$A$55,$B36,Einzelwertung5!$J$3:$J$55)+0.013","v":1.2999999999999999E-2},{"$f":"SUMIF(Einzelwertung6!$A$3:$A$55,$B36,Einzelwertung6!$J$3:$J$55)+0.012","v":1.2E-2},{"$f":"SUMIF(Einzelwertung7!$A$3:$A$55,$B36,Einzelwertung7!$J$3:$J$55)+0.011","v":1.0999999999999999E-2},{"$f":"SUMIF(Einzelwertung8!$A$3:$A$55,$B36,Einzelwertung8!$J$3:$J$55)+0.01","v":0.01},{"$f":"SUMIF(Einzelwertung9!$A$3:$A$55,$B36,Einzelwertung9!$J$3:$J$55)+0.009","v":8.9999999999999993E-3},{"$f":"SUMIF(Einzelwertung10!$A$3:$A$55,$B36,Einzelwertung10!$J$3:$J$55)+0.008","v":8.0000000000000002E-3},{"$f":"SUMIF(Einzelwertung11!$A$3:$A$55,$B36,Einzelwertung11!$J$3:$J$55)+0.007","v":7.0000000000000001E-3},{"$f":"SUMIF(Einzelwertung12!$A$3:$A$55,$B36,Einzelwertung12!$J$3:$J$55)+0.006","v":6.0000000000000001E-3},{"$f":"SUMIF(Einzelwertung13!$A$3:$A$55,$B36,Einzelwertung13!$J$3:$J$55)+0.005","v":5.0000000000000001E-3},{"$f":"SUMIF(Einzelwertung14!$A$3:$A$55,$B36,Einzelwertung14!$J$3:$J$55)+0.004","v":4.0000000000000001E-3},{"$f":"SUMIF(Einzelwertung15!$A$3:$A$67,$B36,Einzelwertung15!$J$3:$J$67)+0.003","v":3.0000000000000001E-3},{"$f":"SUMIF(Einzelwertung16!$A$3:$A$55,$B36,Einzelwertung16!$J$3:$J$55)+0.002","v":2E-3},{"$f":"SUMIF(Einzelwertung17!$A$3:$A$55,$B36,Einzelwertung17!$J$3:$J$55)+0.001","v":1E-3},{"$f":"SUMIF(Einzelwertung18!$A$3:$A$55,$B36,Einzelwertung18!$J$3:$J$55)+0","v":0},{"$f":"INT(IF(COUNTIF(F36:W36,CONCATENATE(\">\",1/10))<=Hilfe!$A$1,SUM(F36:W36),SUMIF(F36:W36,CONCATENATE(\">=\",LARGE(F36:W36,Hilfe!$A$1)),F36:W36)))","v":0},0,0]
[null,"Wickel-Paffrath, Melanie",{"$f":"VLOOKUP($B37,Teilnehmer!$A$3:$E$119,2,FALSE)","v":"HEV"},{"$f":"VLOOKUP($B37,Teilnehmer!$A$3:$E$119,3,FALSE)","v":33510},{"$f":"VLOOKUP($B37,Teilnehmer!$A$3:$E$119,4,FALSE)","v":"D"},{"$f":"SUMIF(Einzelwertung1!$A$3:$A$55,$B37,Einzelwertung1!$J$3:$J$55)+0.017","v":1.7000000000000001E-2},{"$f":"SUMIF(Einzelwertung2!$A$3:$A$55,$B37,Einzelwertung2!$J$3:$J$55)+0.016","v":1.6E-2},{"$f":"SUMIF(Einzelwertung3!$A$3:$A$55,$B37,Einzelwertung3!$J$3:$J$55)+0.015","v":1.4999999999999999E-2},{"$f":"SUMIF(Einzelwertung4!$A$3:$A$55,$B37,Einzelwertung4!$J$3:$J$55)+0.014","v":1.4E-2},{"$f":"SUMIF(Einzelwertung5!$A$3:$A$55,$B37,Einzelwertung5!$J$3:$J$55)+0.013","v":1.2999999999999999E-2},{"$f":"SUMIF(Einzelwertung6!$A$3:$A$55,$B37,Einzelwertung6!$J$3:$J$55)+0.012","v":1.2E-2},{"$f":"SUMIF(Einzelwertung7!$A$3:$A$55,$B37,Einzelwertung7!$J$3:$J$55)+0.011","v":1.0999999999999999E-2},{"$f":"SUMIF(Einzelwertung8!$A$3:$A$55,$B37,Einzelwertung8!$J$3:$J$55)+0.01","v":0.01},{"$f":"SUMIF(Einzelwertung9!$A$3:$A$55,$B37,Einzelwertung9!$J$3:$J$55)+0.009","v":8.9999999999999993E-3},{"$f":"SUMIF(Einzelwertung10!$A$3:$A$55,$B37,Einzelwertung10!$J$3:$J$55)+0.008","v":8.0000000000000002E-3},{"$f":"SUMIF(Einzelwertung11!$A$3:$A$55,$B37,Einzelwertung11!$J$3:$J$55)+0.007","v":7.0000000000000001E-3},{"$f":"SUMIF(Einzelwertung12!$A$3:$A$55,$B37,Einzelwertung12!$J$3:$J$55)+0.006","v":6.0000000000000001E-3},{"$f":"SUMIF(Einzelwertung13!$A$3:$A$55,$B37,Einzelwertung13!$J$3:$J$55)+0.005","v":5.0000000000000001E-3},{"$f":"SUMIF(Einzelwertung14!$A$3:$A$55,$B37,Einzelwertung14!$J$3:$J$55)+0.004","v":4.0000000000000001E-3},{"$f":"SUMIF(Einzelwertung15!$A$3:$A$67,$B37,Einzelwertung15!$J$3:$J$67)+0.003","v":3.0000000000000001E-3},{"$f":"SUMIF(Einzelwertung16!$A$3:$A$55,$B37,Einzelwertung16!$J$3:$J$55)+0.002","v":2E-3},{"$f":"SUMIF(Einzelwertung17!$A$3:$A$55,$B37,Einzelwertung17!$J$3:$J$55)+0.001","v":1E-3},{"$f":"SUMIF(Einzelwertung18!$A$3:$A$55,$B37,Einzelwertung18!$J$3:$J$55)+0","v":0},{"$f":"INT(IF(COUNTIF(F37:W37,CONCATENATE(\">\",1/10))<=Hilfe!$A$1,SUM(F37:W37),SUMIF(F37:W37,CONCATENATE(\">=\",LARGE(F37:W37,Hilfe!$A$1)),F37:W37)))","v":0},0,0]
[null,"Wolf, Arnold",{"$f":"VLOOKUP($B38,Teilnehmer!$A$3:$E$119,2,FALSE)","v":"LIP"},{"$f":"VLOOKUP($B38,Teilnehmer!$A$3:$E$119,3,FALSE)","v":66409},{"$f":"VLOOKUP($B38,Teilnehmer!$A$3:$E$119,4,FALSE)","v":"SM2"},{"$f":"SUMIF(Einzelwertung1!$A$3:$A$55,$B38,Einzelwertung1!$J$3:$J$55)+0.017","v":1.7000000000000001E-2},{"$f":"SUMIF(Einzelwertung2!$A$3:$A$55,$B38,Einzelwertung2!$J$3:$J$55)+0.016","v":1.6E-2},{"$f":"SUMIF(Einzelwertung3!$A$3:$A$55,$B38,Einzelwertung3!$J$3:$J$55)+0.015","v":1.4999999999999999E-2},{"$f":"SUMIF(Einzelwertung4!$A$3:$A$55,$B38,Einzelwertung4!$J$3:$J$55)+0.014","v":1.4E-2},{"$f":"SUMIF(Einzelwertung5!$A$3:$A$55,$B38,Einzelwertung5!$J$3:$J$55)+0.013","v":1.2999999999999999E-2},{"$f":"SUMIF(Einzelwertung6!$A$3:$A$55,$B38,Einzelwertung6!$J$3:$J$55)+0.012","v":1.2E-2},{"$f":"SUMIF(Einzelwertung7!$A$3:$A$55,$B38,Einzelwertung7!$J$3:$J$55)+0.011","v":1.0999999999999999E-2},{"$f":"SUMIF(Einzelwertung8!$A$3:$A$55,$B38,Einzelwertung8!$J$3:$J$55)+0.01","v":0.01},{"$f":"SUMIF(Einzelwertung9!$A$3:$A$55,$B38,Einzelwertung9!$J$3:$J$55)+0.009","v":8.9999999999999993E-3},{"$f":"SUMIF(Einzelwertung10!$A$3:$A$55,$B38,Einzelwertung10!$J$3:$J$55)+0.008","v":8.0000000000000002E-3},{"$f":"SUMIF(Einzelwertung11!$A$3:$A$55,$B38,Einzelwertung11!$J$3:$J$55)+0.007","v":7.0000000000000001E-3},{"$f":"SUMIF(Einzelwertung12!$A$3:$A$55,$B38,Einzelwertung12!$J$3:$J$55)+0.006","v":6.0000000000000001E-3},{"$f":"SUMIF(Einzelwertung13!$A$3:$A$55,$B38,Einzelwertung13!$J$3:$J$55)+0.005","v":5.0000000000000001E-3},{"$f":"SUMIF(Einzelwertung14!$A$3:$A$55,$B38,Einzelwertung14!$J$3:$J$55)+0.004","v":4.0000000000000001E-3},{"$f":"SUMIF(Einzelwertung15!$A$3:$A$67,$B38,Einzelwertung15!$J$3:$J$67)+0.003","v":3.0000000000000001E-3},{"$f":"SUMIF(Einzelwertung16!$A$3:$A$55,$B38,Einzelwertung16!$J$3:$J$55)+0.002","v":2E-3},{"$f":"SUMIF(Einzelwertung17!$A$3:$A$55,$B38,Einzelwertung17!$J$3:$J$55)+0.001","v":1E-3},{"$f":"SUMIF(Einzelwertung18!$A$3:$A$55,$B38,Einzelwertung18!$J$3:$J$55)+0","v":0},{"$f":"INT(IF(COUNTIF(F38:W38,CONCATENATE(\">\",1/10))<=Hilfe!$A$1,SUM(F38:W38),SUMIF(F38:W38,CONCATENATE(\">=\",LARGE(F38:W38,Hilfe!$A$1)),F38:W38)))","v":0},0,0]
[null,"Wruck, Wolfgang",{"$f":"VLOOKUP($B39,Teilnehmer!$A$3:$E$119,2,FALSE)","v":"LIP"},{"$f":"VLOOKUP($B39,Teilnehmer!$A$3:$E$119,3,FALSE)","v":66408},{"$f":"VLOOKUP($B39,Teilnehmer!$A$3:$E$119,4,FALSE)","v":"SM1"},{"$f":"SUMIF(Einzelwertung1!$A$3:$A$55,$B39,Einzelwertung1!$J$3:$J$55)+0.017","v":1.7000000000000001E-2},{"$f":"SUMIF(Einzelwertung2!$A$3:$A$55,$B39,Einzelwertung2!$J$3:$J$55)+0.016","v":1.6E-2},{"$f":"SUMIF(Einzelwertung3!$A$3:$A$55,$B39,Einzelwertung3!$J$3:$J$55)+0.015","v":1.4999999999999999E-2},{"$f":"SUMIF(Einzelwertung4!$A$3:$A$55,$B39,Einzelwertung4!$J$3:$J$55)+0.014","v":1.4E-2},{"$f":"SUMIF(Einzelwertung5!$A$3:$A$55,$B39,Einzelwertung5!$J$3:$J$55)+0.013","v":1.2999999999999999E-2},{"$f":"SUMIF(Einzelwertung6!$A$3:$A$55,$B39,Einzelwertung6!$J$3:$J$55)+0.012","v":1.2E-2},{"$f":"SUMIF(Einzelwertung7!$A$3:$A$55,$B39,Einzelwertung7!$J$3:$J$55)+0.011","v":1.0999999999999999E-2},{"$f":"SUMIF(Einzelwertung8!$A$3:$A$55,$B39,Einzelwertung8!$J$3:$J$55)+0.01","v":0.01},{"$f":"SUMIF(Einzelwertung9!$A$3:$A$55,$B39,Einzelwertung9!$J$3:$J$55)+0.009","v":8.9999999999999993E-3},{"$f":"SUMIF(Einzelwertung10!$A$3:$A$55,$B39,Einzelwertung10!$J$3:$J$55)+0.008","v":8.0000000000000002E-3},{"$f":"SUMIF(Einzelwertung11!$A$3:$A$55,$B39,Einzelwertung11!$J$3:$J$55)+0.007","v":7.0000000000000001E-3},{"$f":"SUMIF(Einzelwertung12!$A$3:$A$55,$B39,Einzelwertung12!$J$3:$J$55)+0.006","v":6.0000000000000001E-3},{"$f":"SUMIF(Einzelwertung13!$A$3:$A$55,$B39,Einzelwertung13!$J$3:$J$55)+0.005","v":5.0000000000000001E-3},{"$f":"SUMIF(Einzelwertung14!$A$3:$A$55,$B39,Einzelwertung14!$J$3:$J$55)+0.004","v":4.0000000000000001E-3},{"$f":"SUMIF(Einzelwertung15!$A$3:$A$67,$B39,Einzelwertung15!$J$3:$J$67)+0.003","v":3.0000000000000001E-3},{"$f":"SUMIF(Einzelwertung16!$A$3:$A$55,$B39,Einzelwertung16!$J$3:$J$55)+0.002","v":2E-3},{"$f":"SUMIF(Einzelwertung17!$A$3:$A$55,$B39,Einzelwertung17!$J$3:$J$55)+0.001","v":1E-3},{"$f":"SUMIF(Einzelwertung18!$A$3:$A$55,$B39,Einzelwertung18!$J$3:$J$55)+0","v":0},{"$f":"INT(IF(COUNTIF(F39:W39,CONCATENATE(\">\",1/10))<=Hilfe!$A$1,SUM(F39:W39),SUMIF(F39:W39,CONCATENATE(\">=\",LARGE(F39:W39,Hilfe!$A$1)),F39:W39)))","v":0},0,0]
[]
[null,"Teilnehmer pro Spieltag und im Mittel",null,null,null,{"$f":"COUNTIF(F3:F39,\">0.1\")","v":18},18,13,18,18,11,13,13,11,11,14,7,14,14,11,17,0,0,{"$f":"IF(SUM(F41:W41)>0,SUM(F41:W41)/COUNTIF(F41:W41,\">0\"),0)","v":13.8125},{"$f":"SUM(Y3:Y39)","v":221},{"$f":"SUM(Z3:Z39)","v":1045}]

{"sheet":"Bahnenstatistik","index":1,"n_rows":42,"n_cols":10,"rows_kept":42,"cut":false,"hidden":false,"merged":[[0,0,0,9],[1,0,1,9]]}
["7. Sommer-Cup - Freizeittreff Herbede"]
["Bahnenstatistik"]
[]
[null,1,2,3,4,5,6,7,"Schnitt","As-Quote"]
["Pyramiden",{"$f":"COUNTIF(Bahnenergebnisse!$K$2:$K$250,B$4)","v":145},{"$f":"COUNTIF(Bahnenergebnisse!$K$2:$K$250,C$4)","v":56},{"$f":"COUNTIF(Bahnenergebnisse!$K$2:$K$250,D$4)","v":18},{"$f":"COUNTIF(Bahnenergebnisse!$K$2:$K$250,E$4)","v":1},{"$f":"COUNTIF(Bahnenergebnisse!$K$2:$K$250,F$4)","v":1},{"$f":"COUNTIF(Bahnenergebnisse!$K$2:$K$250,G$4)","v":0},{"$f":"COUNTIF(Bahnenergebnisse!$K$2:$K$250,H$4)","v":0},{"$f":"SUMPRODUCT(B5:H5,B$4:H$4)/SUM(B5:H5)","v":1.4479638009049773},{"$f":"B5/SUM(B5:H5)","v":0.65610859728506787}]
["Rohrhügel",{"$f":"COUNTIF(Bahnenergebnisse!$L$2:$L$250,B$4)","v":91},{"$f":"COUNTIF(Bahnenergebnisse!$L$2:$L$250,C$4)","v":64},{"$f":"COUNTIF(Bahnenergebnisse!$L$2:$L$250,D$4)","v":23},{"$f":"COUNTIF(Bahnenergebnisse!$L$2:$L$250,E$4)","v":17},{"$f":"COUNTIF(Bahnenergebnisse!$L$2:$L$250,F$4)","v":11},{"$f":"COUNTIF(Bahnenergebnisse!$L$2:$L$250,G$4)","v":8},{"$f":"COUNTIF(Bahnenergebnisse!$L$2:$L$250,H$4)","v":7},{"$f":"SUMPRODUCT(B6:H6,B$4:H$4)/SUM(B6:H6)","v":2.2986425339366514},{"$f":"B6/SUM(B6:H6)","v":0.41176470588235292}]
["Winkel",{"$f":"COUNTIF(Bahnenergebnisse!$M$2:$M$250,B$4)","v":130},{"$f":"COUNTIF(Bahnenergebnisse!$M$2:$M$250,C$4)","v":89},{"$f":"COUNTIF(Bahnenergebnisse!$M$2:$M$250,D$4)","v":2},{"$f":"COUNTIF(Bahnenergebnisse!$M$2:$M$250,E$4)","v":0},{"$f":"COUNTIF(Bahnenergebnisse!$M$2:$M$250,F$4)","v":0},{"$f":"COUNTIF(Bahnenergebnisse!$M$2:$M$250,G$4)","v":0},{"$f":"COUNTIF(Bahnenergebnisse!$M$2:$M$250,H$4)","v":0},1.4208144796380091,0.58823529411764708]
["Doppelwelle",{"$f":"COUNTIF(Bahnenergebnisse!$N$2:$N$250,B$4)","v":79},{"$f":"COUNTIF(Bahnenergebnisse!$N$2:$N$250,C$4)","v":140},{"$f":"COUNTIF(Bahnenergebnisse!$N$2:$N$250,D$4)","v":2},{"$f":"COUNTIF(Bahnenergebnisse!$N$2:$N$250,E$4)","v":0},{"$f":"COUNTIF(Bahnenergebnisse!$N$2:$N$250,F$4)","v":0},{"$f":"COUNTIF(Bahnenergebnisse!$N$2:$N$250,G$4)","v":0},{"$f":"COUNTIF(Bahnenergebnisse!$N$2:$N$250,H$4)","v":0},1.6515837104072397,0.3574660633484163]
["Schleife",{"$f":"COUNTIF(Bahnenergebnisse!$O$2:$O$250,B$4)","v":147},{"$f":"COUNTIF(Bahnenergebnisse!$O$2:$O$250,C$4)","v":59},{"$f":"COUNTIF(Bahnenergebnisse!$O$2:$O$250,D$4)","v":9},{"$f":"COUNTIF(Bahnenergebnisse!$O$2:$O$250,E$4)","v":3},{"$f":"COUNTIF(Bahnenergebnisse!$O$2:$O$250,F$4)","v":1},{"$f":"COUNTIF(Bahnenergebnisse!$O$2:$O$250,G$4)","v":2},{"$f":"COUNTIF(Bahnenergebnisse!$O$2:$O$250,H$4)","v":0},1.4524886877828054,0.66515837104072395]
["Labyrinth",{"$f":"COUNTIF(Bahnenergebnisse!$P$2:$P$250,B$4)","v":163},{"$f":"COUNTIF(Bahnenergebnisse!$P$2:$P$250,C$4)","v":41},{"$f":"COUNTIF(Bahnenergebnisse!$P$2:$P$250,D$4)","v":9},{"$f":"COUNTIF(Bahnenergebnisse!$P$2:$P$250,E$4)","v":6},{"$f":"COUNTIF(Bahnenergebnisse!$P$2:$P$250,F$4)","v":2},{"$f":"COUNTIF(Bahnenergebnisse!$P$2:$P$250,G$4)","v":0},{"$f":"COUNTIF(Bahnenergebnisse!$P$2:$P$250,H$4)","v":0},1.3846153846153846,0.73755656108597289]
["Mittelhügel",{"$f":"COUNTIF(Bahnenergebnisse!$Q$2:$Q$250,B$4)","v":148},{"$f":"COUNTIF(Bahnenergebnisse!$Q$2:$Q$250,C$4)","v":44},{"$f":"COUNTIF(Bahnenergebnisse!$Q$2:$Q$250,D$4)","v":14},{"$f":"COUNTIF(Bahnenergebnisse!$Q$2:$Q$250,E$4)","v":5},{"$f":"COUNTIF(Bahnenergebnisse!$Q$2:$Q$250,F$4)","v":3},{"$f":"COUNTIF(Bahnenergebnisse!$Q$2:$Q$250,G$4)","v":3},{"$f":"COUNTIF(Bahnenergebnisse!$Q$2:$Q$250,H$4)","v":4},1.6244343891402715,0.66968325791855199]
["Netz",{"$f":"COUNTIF(Bahnenergebnisse!$R$2:$R$250,B$4)","v":147},{"$f":"COUNTIF(Bahnenergebnisse!$R$2:$R$250,C$4)","v":46},{"$f":"COUNTIF(Bahnenergebnisse!$R$2:$R$250,D$4)","v":12},{"$f":"COUNTIF(Bahnenergebnisse!$R$2:$R$250,E$4)","v":6},{"$f":"COUNTIF(Bahnenergebnisse!$R$2:$R$250,F$4)","v":5},{"$f":"COUNTIF(Bahnenergebnisse!$R$2:$R$250,G$4)","v":2},{"$f":"COUNTIF(Bahnenergebnisse!$R$2:$R$250,H$4)","v":3},1.6153846153846154,0.66515837104072395]
["Brücke",{"$f":"COUNTIF(Bahnenergebnisse!$S$2:$S$250,B$4)","v":77},{"$f":"COUNTIF(Bahnenergebnisse!$S$2:$S$250,C$4)","v":142},{"$f":"COUNTIF(Bahnenergebnisse!$S$2:$S$250,D$4)","v":2},{"$f":"COUNTIF(Bahnenergebnisse!$S$2:$S$250,E$4)","v":0},{"$f":"COUNTIF(Bahnenergebnisse!$S$2:$S$250,F$4)","v":0},{"$f":"COUNTIF(Bahnenergebnisse!$S$2:$S$250,G$4)","v":0},{"$f":"COUNTIF(Bahnenergebnisse!$S$2:$S$250,H$4)","v":0},1.660633484162896,0.34841628959276016]
["Radkappen",{"$f":"COUNTIF(Bahnenergebnisse!$T$2:$T$250,B$4)","v":95},{"$f":"COUNTIF(Bahnenergebnisse!$T$2:$T$250,C$4)","v":120},{"$f":"COUNTIF(Bahnenergebnisse!$T$2:$T$250,D$4)","v":6},{"$f":"COUNTIF(Bahnenergebnisse!$T$2:$T$250,E$4)","v":0},{"$f":"COUNTIF(Bahnenergebnisse!$T$2:$T$250,F$4)","v":0},{"$f":"COUNTIF(Bahnenergebnisse!$T$2:$T$250,G$4)","v":0},{"$f":"COUNTIF(Bahnenergebnisse!$T$2:$T$250,H$4)","v":0},1.5972850678733033,0.42986425339366519]
["Vulkan",{"$f":"COUNTIF(Bahnenergebnisse!$U$2:$U$250,B$4)","v":175},{"$f":"COUNTIF(Bahnenergebnisse!$U$2:$U$250,C$4)","v":37},{"$f":"COUNTIF(Bahnenergebnisse!$U$2:$U$250,D$4)","v":7},{"$f":"COUNTIF(Bahnenergebnisse!$U$2:$U$250,E$4)","v":2},{"$f":"COUNTIF(Bahnenergebnisse!$U$2:$U$250,F$4)","v":0},{"$f":"COUNTIF(Bahnenergebnisse!$U$2:$U$250,G$4)","v":0},{"$f":"COUNTIF(Bahnenergebnisse!$U$2:$U$250,H$4)","v":0},1.2579185520361991,0.79185520361990946]
["Niere",{"$f":"COUNTIF(Bahnenergebnisse!$V$2:$V$250,B$4)","v":128},{"$f":"COUNTIF(Bahnenergebnisse!$V$2:$V$250,C$4)","v":60},{"$f":"COUNTIF(Bahnenergebnisse!$V$2:$V$250,D$4)","v":22},{"$f":"COUNTIF(Bahnenergebnisse!$V$2:$V$250,E$4)","v":5},{"$f":"COUNTIF(Bahnenergebnisse!$V$2:$V$250,F$4)","v":3},{"$f":"COUNTIF(Bahnenergebnisse!$V$2:$V$250,G$4)","v":3},{"$f":"COUNTIF(Bahnenergebnisse!$V$2:$V$250,H$4)","v":0},1.660633484162896,0.579185520361991]
["Fenster",{"$f":"COUNTIF(Bahnenergebnisse!$W$2:$W$250,B$4)","v":74},{"$f":"COUNTIF(Bahnenergebnisse!$W$2:$W$250,C$4)","v":87},{"$f":"COUNTIF(Bahnenergebnisse!$W$2:$W$250,D$4)","v":36},{"$f":"COUNTIF(Bahnenergebnisse!$W$2:$W$250,E$4)","v":15},{"$f":"COUNTIF(Bahnenergebnisse!$W$2:$W$250,F$4)","v":8},{"$f":"COUNTIF(Bahnenergebnisse!$W$2:$W$250,G$4)","v":1},{"$f":"COUNTIF(Bahnenergebnisse!$W$2:$W$250,H$4)","v":0},2.0904977375565612,0.33484162895927599]
["Banane",{"$f":"COUNTIF(Bahnenergebnisse!$X$2:$X$250,B$4)","v":134},{"$f":"COUNTIF(Bahnenergebnisse!$X$2:$X$250,C$4)","v":43},{"$f":"COUNTIF(Bahnenergebnisse!$X$2:$X$250,D$4)","v":28},{"$f":"COUNTIF(Bahnenergebnisse!$X$2:$X$250,E$4)","v":7},{"$f":"COUNTIF(Bahnenergebnisse!$X$2:$X$250,F$4)","v":4},{"$f":"COUNTIF(Bahnenergebnisse!$X$2:$X$250,G$4)","v":1},{"$f":"COUNTIF(Bahnenergebnisse!$X$2:$X$250,H$4)","v":4},1.746606334841629,0.60633484162895923]
["Salto",{"$f":"COUNTIF(Bahnenergebnisse!$Y$2:$Y$250,B$4)","v":9},{"$f":"COUNTIF(Bahnenergebnisse!$Y$2:$Y$250,C$4)","v":182},{"$f":"COUNTIF(Bahnenergebnisse!$Y$2:$Y$250,D$4)","v":21},{"$f":"COUNTIF(Bahnenergebnisse!$Y$2:$Y$250,E$4)","v":5},{"$f":"COUNTIF(Bahnenergebnisse!$Y$2:$Y$250,F$4)","v":3},{"$f":"COUNTIF(Bahnenergebnisse!$Y$2:$Y$250,G$4)","v":1},{"$f":"COUNTIF(Bahnenergebnisse!$Y$2:$Y$250,H$4)","v":0},2.1583710407239818,4.072398190045249E-2]
["Töter",{"$f":"COUNTIF(Bahnenergebnisse!$Z$2:$Z$250,B$4)","v":82},{"$f":"COUNTIF(Bahnenergebnisse!$Z$2:$Z$250,C$4)","v":88},{"$f":"COUNTIF(Bahnenergebnisse!$Z$2:$Z$250,D$4)","v":25},{"$f":"COUNTIF(Bahnenergebnisse!$Z$2:$Z$250,E$4)","v":9},{"$f":"COUNTIF(Bahnenergebnisse!$Z$2:$Z$250,F$4)","v":7},{"$f":"COUNTIF(Bahnenergebnisse!$Z$2:$Z$250,G$4)","v":2},{"$f":"COUNTIF(Bahnenergebnisse!$Z$2:$Z$250,H$4)","v":8},2.1357466063348416,0.37104072398190047]
["Passagen",{"$f":"COUNTIF(Bahnenergebnisse!$AA$2:$AA$250,B$4)","v":92},{"$f":"COUNTIF(Bahnenergebnisse!$AA$2:$AA$250,C$4)","v":103},{"$f":"COUNTIF(Bahnenergebnisse!$AA$2:$AA$250,D$4)","v":19},{"$f":"COUNTIF(Bahnenergebnisse!$AA$2:$AA$250,E$4)","v":6},{"$f":"COUNTIF(Bahnenergebnisse!$AA$2:$AA$250,F$4)","v":0},{"$f":"COUNTIF(Bahnenergebnisse!$AA$2:$AA$250,G$4)","v":0},{"$f":"COUNTIF(Bahnenergebnisse!$AA$2:$AA$250,H$4)","v":1},1.746606334841629,0.41628959276018102]
["Blitz",{"$f":"COUNTIF(Bahnenergebnisse!$AB$2:$AB$250,B$4)","v":68},{"$f":"COUNTIF(Bahnenergebnisse!$AB$2:$AB$250,C$4)","v":100},{"$f":"COUNTIF(Bahnenergebnisse!$AB$2:$AB$250,D$4)","v":41},{"$f":"COUNTIF(Bahnenergebnisse!$AB$2:$AB$250,E$4)","v":6},{"$f":"COUNTIF(Bahnenergebnisse!$AB$2:$AB$250,F$4)","v":4},{"$f":"COUNTIF(Bahnenergebnisse!$AB$2:$AB$250,G$4)","v":0},{"$f":"COUNTIF(Bahnenergebnisse!$AB$2:$AB$250,H$4)","v":2},2.0316742081447963,0.30769230769230771]
[]
[null,1,2,3,4,5,6,7,"Schnitt","As-Quote"]
["Bahn 1",{"$f":"COUNTIF(Bahnenergebnisse!$AD$2:$AD$250,B$24)","v":40},{"$f":"COUNTIF(Bahnenergebnisse!$AD$2:$AD$250,C$24)","v":152},{"$f":"COUNTIF(Bahnenergebnisse!$AD$2:$AD$250,D$24)","v":10},{"$f":"COUNTIF(Bahnenergebnisse!$AD$2:$AD$250,E$24)","v":1},{"$f":"COUNTIF(Bahnenergebnisse!$AD$2:$AD$250,F$24)","v":0},{"$f":"COUNTIF(Bahnenergebnisse!$AD$2:$AD$250,G$24)","v":0},{"$f":"COUNTIF(Bahnenergebnisse!$AD$2:$AD$250,H$24)","v":0},{"$f":"SUMPRODUCT(B25:H25,B$24:H$24)/SUM(B25:H25)","v":1.8620689655172413},{"$f":"B25/SUM(B25:H25)","v":0.19704433497536947}]
["Bahn 2",{"$f":"COUNTIF(Bahnenergebnisse!$AE$2:$AE$250,B$24)","v":36},{"$f":"COUNTIF(Bahnenergebnisse!$AE$2:$AE$250,C$24)","v":124},{"$f":"COUNTIF(Bahnenergebnisse!$AE$2:$AE$250,D$24)","v":37},{"$f":"COUNTIF(Bahnenergebnisse!$AE$2:$AE$250,E$24)","v":5},{"$f":"COUNTIF(Bahnenergebnisse!$AE$2:$AE$250,F$24)","v":1},{"$f":"COUNTIF(Bahnenergebnisse!$AE$2:$AE$250,G$24)","v":0},{"$f":"COUNTIF(Bahnenergebnisse!$AE$2:$AE$250,H$24)","v":0},{"$f":"SUMPRODUCT(B26:H26,B$24:H$24)/SUM(B26:H26)","v":2.0689655172413794},0.17733990147783252]
["Bahn 3",{"$f":"COUNTIF(Bahnenergebnisse!$AF$2:$AF$250,B$24)","v":43},{"$f":"COUNTIF(Bahnenergebnisse!$AF$2:$AF$250,C$24)","v":129},{"$f":"COUNTIF(Bahnenergebnisse!$AF$2:$AF$250,D$24)","v":26},{"$f":"COUNTIF(Bahnenergebnisse!$AF$2:$AF$250,E$24)","v":4},{"$f":"COUNTIF(Bahnenergebnisse!$AF$2:$AF$250,F$24)","v":1},{"$f":"COUNTIF(Bahnenergebnisse!$AF$2:$AF$250,G$24)","v":0},{"$f":"COUNTIF(Bahnenergebnisse!$AF$2:$AF$250,H$24)","v":0},1.9704433497536946,0.21182266009852216]
["Bahn 4",{"$f":"COUNTIF(Bahnenergebnisse!$AG$2:$AG$250,B$24)","v":21},{"$f":"COUNTIF(Bahnenergebnisse!$AG$2:$AG$250,C$24)","v":85},{"$f":"COUNTIF(Bahnenergebnisse!$AG$2:$AG$250,D$24)","v":50},{"$f":"COUNTIF(Bahnenergebnisse!$AG$2:$AG$250,E$24)","v":19},{"$f":"COUNTIF(Bahnenergebnisse!$AG$2:$AG$250,F$24)","v":10},{"$f":"COUNTIF(Bahnenergebnisse!$AG$2:$AG$250,G$24)","v":9},{"$f":"COUNTIF(Bahnenergebnisse!$AG$2:$AG$250,H$24)","v":9},2.8768472906403941,0.10344827586206896]
["Bahn 5",{"$f":"COUNTIF(Bahnenergebnisse!$AH$2:$AH$250,B$24)","v":73},{"$f":"COUNTIF(Bahnenergebnisse!$AH$2:$AH$250,C$24)","v":107},{"$f":"COUNTIF(Bahnenergebnisse!$AH$2:$AH$250,D$24)","v":16},{"$f":"COUNTIF(Bahnenergebnisse!$AH$2:$AH$250,E$24)","v":3},{"$f":"COUNTIF(Bahnenergebnisse!$AH$2:$AH$250,F$24)","v":3},{"$f":"COUNTIF(Bahnenergebnisse!$AH$2:$AH$250,G$24)","v":0},{"$f":"COUNTIF(Bahnenergebnisse!$AH$2:$AH$250,H$24)","v":1},1.8177339901477831,0.35960591133004927]
["Bahn 6",{"$f":"COUNTIF(Bahnenergebnisse!$AI$2:$AI$250,B$24)","v":16},{"$f":"COUNTIF(Bahnenergebnisse!$AI$2:$AI$250,C$24)","v":154},{"$f":"COUNTIF(Bahnenergebnisse!$AI$2:$AI$250,D$24)","v":27},{"$f":"COUNTIF(Bahnenergebnisse!$AI$2:$AI$250,E$24)","v":3},{"$f":"COUNTIF(Bahnenergebnisse!$AI$2:$AI$250,F$24)","v":1},{"$f":"COUNTIF(Bahnenergebnisse!$AI$2:$AI$250,G$24)","v":2},{"$f":"COUNTIF(Bahnenergebnisse!$AI$2:$AI$250,H$24)","v":0},2.1379310344827585,7.8817733990147784E-2]
["Bahn 7",{"$f":"COUNTIF(Bahnenergebnisse!$AJ$2:$AJ$250,B$24)","v":106},{"$f":"COUNTIF(Bahnenergebnisse!$AJ$2:$AJ$250,C$24)","v":63},{"$f":"COUNTIF(Bahnenergebnisse!$AJ$2:$AJ$250,D$24)","v":25},{"$f":"COUNTIF(Bahnenergebnisse!$AJ$2:$AJ$250,E$24)","v":7},{"$f":"COUNTIF(Bahnenergebnisse!$AJ$2:$AJ$250,F$24)","v":1},{"$f":"COUNTIF(Bahnenergebnisse!$AJ$2:$AJ$250,G$24)","v":0},{"$f":"COUNTIF(Bahnenergebnisse!$AJ$2:$AJ$250,H$24)","v":1},1.7093596059113301,0.52216748768472909]
["Bahn 8",{"$f":"COUNTIF(Bahnenergebnisse!$AK$2:$AK$250,B$24)","v":36},{"$f":"COUNTIF(Bahnenergebnisse!$AK$2:$AK$250,C$24)","v":135},{"$f":"COUNTIF(Bahnenergebnisse!$AK$2:$AK$250,D$24)","v":25},{"$f":"COUNTIF(Bahnenergebnisse!$AK$2:$AK$250,E$24)","v":7},{"$f":"COUNTIF(Bahnenergebnisse!$AK$2:$AK$250,F$24)","v":0},{"$f":"COUNTIF(Bahnenergebnisse!$AK$2:$AK$250,G$24)","v":0},{"$f":"COUNTIF(Bahnenergebnisse!$AK$2:$AK$250,H$24)","v":0},2.0147783251231526,0.17733990147783252]
["Bahn 9",{"$f":"COUNTIF(Bahnenergebnisse!$AL$2:$AL$250,B$24)","v":22},{"$f":"COUNTIF(Bahnenergebnisse!$AL$2:$AL$250,C$24)","v":116},{"$f":"COUNTIF(Bahnenergebnisse!$AL$2:$AL$250,D$24)","v":40},{"$f":"COUNTIF(Bahnenergebnisse!$AL$2:$AL$250,E$24)","v":17},{"$f":"COUNTIF(Bahnenergebnisse!$AL$2:$AL$250,F$24)","v":3},{"$f":"COUNTIF(Bahnenergebnisse!$AL$2:$AL$250,G$24)","v":3},{"$f":"COUNTIF(Bahnenergebnisse!$AL$2:$AL$250,H$24)","v":2},2.4088669950738915,0.10837438423645321]
["Bahn 10",{"$f":"COUNTIF(Bahnenergebnisse!$AM$2:$AM$250,B$24)","v":33},{"$f":"COUNTIF(Bahnenergebnisse!$AM$2:$AM$250,C$24)","v":156},{"$f":"COUNTIF(Bahnenergebnisse!$AM$2:$AM$250,D$24)","v":13},{"$f":"COUNTIF(Bahnenergebnisse!$AM$2:$AM$250,E$24)","v":1},{"$f":"COUNTIF(Bahnenergebnisse!$AM$2:$AM$250,F$24)","v":0},{"$f":"COUNTIF(Bahnenergebnisse!$AM$2:$AM$250,G$24)","v":0},{"$f":"COUNTIF(Bahnenergebnisse!$AM$2:$AM$250,H$24)","v":0},1.9113300492610839,0.1625615763546798]
["Bahn 11",{"$f":"COUNTIF(Bahnenergebnisse!$AN$2:$AN$250,B$24)","v":179},{"$f":"COUNTIF(Bahnenergebnisse!$AN$2:$AN$250,C$24)","v":22},{"$f":"COUNTIF(Bahnenergebnisse!$AN$2:$AN$250,D$24)","v":2},{"$f":"COUNTIF(Bahnenergebnisse!$AN$2:$AN$250,E$24)","v":0},{"$f":"COUNTIF(Bahnenergebnisse!$AN$2:$AN$250,F$24)","v":0},{"$f":"COUNTIF(Bahnenergebnisse!$AN$2:$AN$250,G$24)","v":0},{"$f":"COUNTIF(Bahnenergebnisse!$AN$2:$AN$250,H$24)","v":0},1.1280788177339902,0.88177339901477836]
["Bahn 12",{"$f":"COUNTIF(Bahnenergebnisse!$AO$2:$AO$250,B$24)","v":86},{"$f":"COUNTIF(Bahnenergebnisse!$AO$2:$AO$250,C$24)","v":92},{"$f":"COUNTIF(Bahnenergebnisse!$AO$2:$AO$250,D$24)","v":24},{"$f":"COUNTIF(Bahnenergebnisse!$AO$2:$AO$250,E$24)","v":1},{"$f":"COUNTIF(Bahnenergebnisse!$AO$2:$AO$250,F$24)","v":0},{"$f":"COUNTIF(Bahnenergebnisse!$AO$2:$AO$250,G$24)","v":0},{"$f":"COUNTIF(Bahnenergebnisse!$AO$2:$AO$250,H$24)","v":0},1.7044334975369457,0.42364532019704432]
["Bahn 13",{"$f":"COUNTIF(Bahnenergebnisse!$AP$2:$AP$250,B$24)","v":28},{"$f":"COUNTIF(Bahnenergebnisse!$AP$2:$AP$250,C$24)","v":161},{"$f":"COUNTIF(Bahnenergebnisse!$AP$2:$AP$250,D$24)","v":13},{"$f":"COUNTIF(Bahnenergebnisse!$AP$2:$AP$250,E$24)","v":1},{"$f":"COUNTIF(Bahnenergebnisse!$AP$2:$AP$250,F$24)","v":0},{"$f":"COUNTIF(Bahnenergebnisse!$AP$2:$AP$250,G$24)","v":0},{"$f":"COUNTIF(Bahnenergebnisse!$AP$2:$AP$250,H$24)","v":0},1.9359605911330049,0.13793103448275862]
["Bahn 14",{"$f":"COUNTIF(Bahnenergebnisse!$AQ$2:$AQ$250,B$24)","v":40},{"$f":"COUNTIF(Bahnenergebnisse!$AQ$2:$AQ$250,C$24)","v":145},{"$f":"COUNTIF(Bahnenergebnisse!$AQ$2:$AQ$250,D$24)","v":12},{"$f":"COUNTIF(Bahnenergebnisse!$AQ$2:$AQ$250,E$24)","v":4},{"$f":"COUNTIF(Bahnenergebnisse!$AQ$2:$AQ$250,F$24)","v":1},{"$f":"COUNTIF(Bahnenergebnisse!$AQ$2:$AQ$250,G$24)","v":0},{"$f":"COUNTIF(Bahnenergebnisse!$AQ$2:$AQ$250,H$24)","v":1},1.9408866995073892,0.19704433497536947]
["Bahn 15",{"$f":"COUNTIF(Bahnenergebnisse!$AR$2:$AR$250,B$24)","v":7},{"$f":"COUNTIF(Bahnenergebnisse!$AR$2:$AR$250,C$24)","v":128},{"$f":"COUNTIF(Bahnenergebnisse!$AR$2:$AR$250,D$24)","v":43},{"$f":"COUNTIF(Bahnenergebnisse!$AR$2:$AR$250,E$24)","v":13},{"$f":"COUNTIF(Bahnenergebnisse!$AR$2:$AR$250,F$24)","v":5},{"$f":"COUNTIF(Bahnenergebnisse!$AR$2:$AR$250,G$24)","v":6},{"$f":"COUNTIF(Bahnenergebnisse!$AR$2:$AR$250,H$24)","v":1},2.5221674876847291,3.4482758620689655E-2]
["Bahn 16",{"$f":"COUNTIF(Bahnenergebnisse!$AS$2:$AS$250,B$24)","v":11},{"$f":"COUNTIF(Bahnenergebnisse!$AS$2:$AS$250,C$24)","v":142},{"$f":"COUNTIF(Bahnenergebnisse!$AS$2:$AS$250,D$24)","v":33},{"$f":"COUNTIF(Bahnenergebnisse!$AS$2:$AS$250,E$24)","v":9},{"$f":"COUNTIF(Bahnenergebnisse!$AS$2:$AS$250,F$24)","v":5},{"$f":"COUNTIF(Bahnenergebnisse!$AS$2:$AS$250,G$24)","v":1},{"$f":"COUNTIF(Bahnenergebnisse!$AS$2:$AS$250,H$24)","v":2},2.3399014778325125,5.4187192118226604E-2]
["Bahn 17",{"$f":"COUNTIF(Bahnenergebnisse!$AT$2:$AT$250,B$24)","v":29},{"$f":"COUNTIF(Bahnenergebnisse!$AT$2:$AT$250,C$24)","v":139},{"$f":"COUNTIF(Bahnenergebnisse!$AT$2:$AT$250,D$24)","v":26},{"$f":"COUNTIF(Bahnenergebnisse!$AT$2:$AT$250,E$24)","v":8},{"$f":"COUNTIF(Bahnenergebnisse!$AT$2:$AT$250,F$24)","v":1},{"$f":"COUNTIF(Bahnenergebnisse!$AT$2:$AT$250,G$24)","v":0},{"$f":"COUNTIF(Bahnenergebnisse!$AT$2:$AT$250,H$24)","v":0},2.0788177339901477,0.14285714285714285]
["Bahn 18",{"$f":"COUNTIF(Bahnenergebnisse!$AU$2:$AU$250,B$24)","v":122},{"$f":"COUNTIF(Bahnenergebnisse!$AU$2:$AU$250,C$24)","v":49},{"$f":"COUNTIF(Bahnenergebnisse!$AU$2:$AU$250,D$24)","v":15},{"$f":"COUNTIF(Bahnenergebnisse!$AU$2:$AU$250,E$24)","v":11},{"$f":"COUNTIF(Bahnenergebnisse!$AU$2:$AU$250,F$24)","v":2},{"$f":"COUNTIF(Bahnenergebnisse!$AU$2:$AU$250,G$24)","v":2},{"$f":"COUNTIF(Bahnenergebnisse!$AU$2:$AU$250,H$24)","v":2},1.6995073891625616,0.60098522167487689]

{"sheet":"Verlosungen","index":2,"n_rows":46,"n_cols":4,"rows_kept":46,"cut":false,"hidden":false,"merged":[[0,0,0,2],[1,0,1,2]]}
["Sommer-Cup 2022 im Freizeittreff Herbede - verloste Preise"]
[{"$f":"CONCATENATE(,COUNTIF(D4:D46,1),\" Ballpreise\",\", \",COUNTIF(D4:D46,2),\" andere Preise\")","v":"13 Ballpreise, 30 andere Preise"}]
["Teilnehmer","Gewinn","Spieltag","Ball?"]
["Urban, Volker","1 Flasche Merlot",1,2]
["Rade, Marcus","1 Ballsauger mit Ball",1,1]
["Kortmann, Sabine","1 Getränke-Set \"Malibu\"",1,2]
["Börgmann, Brigitte","1 Mini-Garten",2,2]
["Brunnenkant, Frank","1 Wetterstation",2,2]
["Kunz, Martin","1 Schinken",2,2]
["Buchholz, Ansgar","1 Verzehrgutschein",3,2]
["Rade, Marcus","1 Ballsauger mit Ball",3,1]
["Urban, Volker","1 Flasche Dornfelder Sekt",3,2]
["Urban, Volker","1 Flasche Wein",4,2]
["Urban, Dominic","1 Dose Weingummi",4,2]
["Kortmann, Sabine","1 Solar-Gartenleuchte",4,2]
["Paffrath, Ben","1 Großpackung Toffifee",5,2]
["Rabe, Jonas","1 Ball Cobi 2018",5,1]
["Schmidtbauer, Günter","1 Flasche Merlot",5,2]
["Kunz, Martin","1 Flasche Merlot",6,2]
["Buchholz, Ansgar","1 Minigolfball",6,2]
["Kortmann, Sabine","1 Minigolfball DJM 2014",7,1]
["Puschner, Michael","2 Peanuts-Tassen",7,2]
["Urban, Volker","1 Sitzkissen",7,2]
["Kunz, Martin","1 Dose Haribo Color-Rado",8,2]
["Gattner, Karsten","1 Minigolfball 3D 846",8,1]
["Schmidtbauer, Günter","1 Verzehrgutschein",8,2]
["Rabe, Jonas","1 Minigolfball",9,1]
["Kortmann, Sabine","1 Dose Haribo Fresh&Fruity",9,2]
["Börgmann, Brigitte","1 Minigolfball Maier spec",10,1]
["Börgmann, Ulrich","1 Brita Wasserkocher",10,2]
["Dreischer, Burkhard","1 Minigolfball",11,1]
["Kunz, Martin","1 Flasche Rotwein",11,2]
["Puschner, Michael","1 Cutterset",11,2]
["Schmidtbauer, Günter","1 Minigolfball",12,1]
["Börgmann, Ulrich","1 Minigolfball migo Grenchen 92",13,1]
["Kunz, Martin","1 Verzehrgutschein",13,2]
["Dreischer, Burkhard","1 Partymix Cocktails",13,2]
["Kunz, Martin","1 Minigolfball A22",14,1]
["Börgmann, Ulrich","1 Flasche Merlot",14,2]
["Urban, Volker","1 Dose Haribo Color-Rado",14,2]
["Schmidtbauer, Günter","1 Minigolfball MGC RW Wanne-Eickel 2001",15,1]
["Urban, Volker","1 Flasche Vanillelikör",15,2]
["Brunnenkant, Frank","1 Verzehrgutschein",15,2]
["Kersch, Uwe","1 Minigolfball",16,1]
["Wilke, Andreas","1 Dose Haribo Color-Rado",16,2]
["Puschner, Michael","1 Flasche Vanillelikör",16,2]

{"sheet":"Einzelwertung1","index":3,"n_rows":64,"n_cols":10,"rows_kept":64,"cut":false,"hidden":false,"merged":[[0,0,0,9]]}
[{"$f":"CONCATENATE(\"7. Sommer-Cup - Freizeittreff Herbede - \",TEXT(Gesamtstand!$F$2,\"TT.MM.JJ\"))","v":"7. Sommer-Cup - Freizeittreff Herbede - 05.05.22"}]
["Spieler","Runde 1","Runde 2","Gesamt","bessere?","Pl. R1","Pl. R2","Pl. Ges.","gewertet","Punkte"]
["Buchholz, Ansgar",24,30,{"$f":"IF(B3>0,C3+B3,\"\")","v":54},true,{"$f":"IF(B3>0,COUNTIF(B$3:B$55,\"<\"&B3)+1,\"\")","v":2},{"$f":"IF(C3>0,COUNTIF(C$3:C$55,\"<\"&C3)+1,\"\")","v":2},{"$f":"IF(AND(B3>0,C3>0),COUNTIF(D$3:D$55,\"<\"&D3)+1,\"\")","v":1},{"$f":"IF(B3>0,IF(E3,MIN(F3:H3),SUM(F3:H3)-MAX(F3:H3)-MIN(F3:H3)),\"\")","v":1},{"$f":"IF(B3>0,VLOOKUP(I3,Punkteschema!$A$2:$B$101,2,FALSE),\"\")","v":25}]
["Rabe, Jonas",23,33,56,true,1,6,2,{"$f":"IF(B4>0,IF(E4,MIN(F4:H4),SUM(F4:H4)-MAX(F4:H4)-MIN(F4:H4)),\"\")","v":1},{"$f":"IF(B4>0,VLOOKUP(I4,Punkteschema!$A$2:$B$101,2,FALSE),\"\")","v":25}]
["Greiffendorf, Hellmut",32,28,60,true,11,1,4,1,{"$f":"IF(B5>0,VLOOKUP(I5,Punkteschema!$A$2:$B$101,2,FALSE),\"\")","v":25}]
["Brunnenkant, Frank",27,30,57,true,6,2,3,2,{"$f":"IF(B6>0,VLOOKUP(I6,Punkteschema!$A$2:$B$101,2,FALSE),\"\")","v":21}]
["Urban, Volker",30,30,60,true,10,2,4,2,{"$f":"IF(B7>0,VLOOKUP(I7,Punkteschema!$A$2:$B$101,2,FALSE),\"\")","v":21}]
["Kortmann, Sabine",24,42,66,true,2,15,10,2,{"$f":"IF(B8>0,VLOOKUP(I8,Punkteschema!$A$2:$B$101,2,FALSE),\"\")","v":21}]
["Rade, Marcus",27,33,60,true,6,6,4,4,{"$f":"IF(B9>0,VLOOKUP(I9,Punkteschema!$A$2:$B$101,2,FALSE),\"\")","v":15}]
["Paffrath, Ben",28,32,60,true,8,5,4,4,{"$f":"IF(B10>0,VLOOKUP(I10,Punkteschema!$A$2:$B$101,2,FALSE),\"\")","v":15}]
["Puschner, Michael",26,36,62,true,4,10,8,4,{"$f":"IF(B11>0,VLOOKUP(I11,Punkteschema!$A$2:$B$101,2,FALSE),\"\")","v":15}]
["Lenk, Rolf",26,36,62,true,4,10,8,4,{"$f":"IF(B12>0,VLOOKUP(I12,Punkteschema!$A$2:$B$101,2,FALSE),\"\")","v":15}]
["Kortmann, Uwe",36,33,69,true,14,6,11,6,{"$f":"IF(B13>0,VLOOKUP(I13,Punkteschema!$A$2:$B$101,2,FALSE),\"\")","v":15}]
["Paffrath, Siegfried",29,40,69,true,9,13,11,9,{"$f":"IF(B14>0,VLOOKUP(I14,Punkteschema!$A$2:$B$101,2,FALSE),\"\")","v":10}]
["Gattner, Karsten",39,35,74,true,17,9,14,9,{"$f":"IF(B15>0,VLOOKUP(I15,Punkteschema!$A$2:$B$101,2,FALSE),\"\")","v":10}]
["Kunz, Martin",33,40,73,true,12,13,13,12,{"$f":"IF(B16>0,VLOOKUP(I16,Punkteschema!$A$2:$B$101,2,FALSE),\"\")","v":5}]
["Börgmann, Ulrich",39,37,76,true,17,12,15,12,{"$f":"IF(B17>0,VLOOKUP(I17,Punkteschema!$A$2:$B$101,2,FALSE),\"\")","v":5}]
["Schmidtbauer, Günter",35,45,80,true,13,18,17,13,{"$f":"IF(B18>0,VLOOKUP(I18,Punkteschema!$A$2:$B$101,2,FALSE),\"\")","v":5}]
["Börgmann, Brigitte",36,42,78,true,14,15,16,14,{"$f":"IF(B19>0,VLOOKUP(I19,Punkteschema!$A$2:$B$101,2,FALSE),\"\")","v":5}]
["Kersch, Uwe",38,42,80,true,16,15,17,15,{"$f":"IF(B20>0,VLOOKUP(I20,Punkteschema!$A$2:$B$101,2,FALSE),\"\")","v":5}]
[null,null,null,{"$f":"IF(B21>0,C21+B21,\"\")","v":""},true,{"$f":"IF(B21>0,COUNTIF(B$3:B$55,\"<\"&B21)+1,\"\")","v":""},"",{"$f":"IF(AND(B21>0,C21>0),COUNTIF(D$3:D$55,\"<\"&D21)+1,\"\")","v":""},"",{"$f":"IF(B21>0,VLOOKUP(I21,Punkteschema!$A$2:$B$101,2,FALSE),\"\")","v":""}]
[null,null,null,"",true,"","","","",{"$f":"IF(B22>0,VLOOKUP(I22,Punkteschema!$A$2:$B$101,2,FALSE),\"\")","v":""}]
[null,null,null,"",true,"","","","",{"$f":"IF(B23>0,VLOOKUP(I23,Punkteschema!$A$2:$B$101,2,FALSE),\"\")","v":""}]
[null,null,null,"",true,"","","","",{"$f":"IF(B24>0,VLOOKUP(I24,Punkteschema!$A$2:$B$101,2,FALSE),\"\")","v":""}]
[null,null,null,"",true,"","","","",{"$f":"IF(B25>0,VLOOKUP(I25,Punkteschema!$A$2:$B$101,2,FALSE),\"\")","v":""}]
[null,null,null,"",true,"","","","",{"$f":"IF(B26>0,VLOOKUP(I26,Punkteschema!$A$2:$B$101,2,FALSE),\"\")","v":""}]
[null,null,null,"",true,"","","","",{"$f":"IF(B27>0,VLOOKUP(I27,Punkteschema!$A$2:$B$101,2,FALSE),\"\")","v":""}]
[null,null,null,"",true,"","","","",{"$f":"IF(B28>0,VLOOKUP(I28,Punkteschema!$A$2:$B$101,2,FALSE),\"\")","v":""}]
[null,null,null,"",true,"","","","",{"$f":"IF(B29>0,VLOOKUP(I29,Punkteschema!$A$2:$B$101,2,FALSE),\"\")","v":""}]
[null,null,null,"",true,"","","","",{"$f":"IF(B30>0,VLOOKUP(I30,Punkteschema!$A$2:$B$101,2,FALSE),\"\")","v":""}]
[null,null,null,"",true,"","","","",{"$f":"IF(B31>0,VLOOKUP(I31,Punkteschema!$A$2:$B$101,2,FALSE),\"\")","v":""}]
[null,null,null,"",true,"","","","",{"$f":"IF(B32>0,VLOOKUP(I32,Punkteschema!$A$2:$B$101,2,FALSE),\"\")","v":""}]
[null,null,null,"",true,"","","","",{"$f":"IF(B33>0,VLOOKUP(I33,Punkteschema!$A$2:$B$101,2,FALSE),\"\")","v":""}]
[null,null,null,"",true,"","","","",{"$f":"IF(B34>0,VLOOKUP(I34,Punkteschema!$A$2:$B$101,2,FALSE),\"\")","v":""}]
[null,null,null,"",true,"","","","",{"$f":"IF(B35>0,VLOOKUP(I35,Punkteschema!$A$2:$B$101,2,FALSE),\"\")","v":""}]
[null,null,null,"",true,"","","","",{"$f":"IF(B36>0,VLOOKUP(I36,Punkteschema!$A$2:$B$101,2,FALSE),\"\")","v":""}]
[null,null,null,"",true,"","","","",{"$f":"IF(B37>0,VLOOKUP(I37,Punkteschema!$A$2:$B$101,2,FALSE),\"\")","v":""}]
[null,null,null,"",true,"","","","",{"$f":"IF(B38>0,VLOOKUP(I38,Punkteschema!$A$2:$B$101,2,FALSE),\"\")","v":""}]
[null,null,null,"",true,"","","","",{"$f":"IF(B39>0,VLOOKUP(I39,Punkteschema!$A$2:$B$101,2,FALSE),\"\")","v":""}]
[null,null,null,"",true,"","","","",{"$f":"IF(B40>0,VLOOKUP(I40,Punkteschema!$A$2:$B$101,2,FALSE),\"\")","v":""}]
[null,null,null,"",true,"","","","",{"$f":"IF(B41>0,VLOOKUP(I41,Punkteschema!$A$2:$B$101,2,FALSE),\"\")","v":""}]
[null,null,null,"",true,"","","","",{"$f":"IF(B42>0,VLOOKUP(I42,Punkteschema!$A$2:$B$101,2,FALSE),\"\")","v":""}]
[null,null,null,"",true,"","","","",{"$f":"IF(B43>0,VLOOKUP(I43,Punkteschema!$A$2:$B$101,2,FALSE),\"\")","v":""}]
[null,null,null,"",true,"","","","",{"$f":"IF(B44>0,VLOOKUP(I44,Punkteschema!$A$2:$B$101,2,FALSE),\"\")","v":""}]
[null,null,null,"",true,"","","","",{"$f":"IF(B45>0,VLOOKUP(I45,Punkteschema!$A$2:$B$101,2,FALSE),\"\")","v":""}]
[null,null,null,"",true,"","","","",{"$f":"IF(B46>0,VLOOKUP(I46,Punkteschema!$A$2:$B$101,2,FALSE),\"\")","v":""}]
[null,null,null,"",true,"","","","",{"$f":"IF(B47>0,VLOOKUP(I47,Punkteschema!$A$2:$B$101,2,FALSE),\"\")","v":""}]
[null,null,null,"",true,"","","","",{"$f":"IF(B48>0,VLOOKUP(I48,Punkteschema!$A$2:$B$101,2,FALSE),\"\")","v":""}]
[null,null,null,"",true,"","","","",{"$f":"IF(B49>0,VLOOKUP(I49,Punkteschema!$A$2:$B$101,2,FALSE),\"\")","v":""}]
[null,null,null,"",true,"","","","",{"$f":"IF(B50>0,VLOOKUP(I50,Punkteschema!$A$2:$B$101,2,FALSE),\"\")","v":""}]
[null,null,null,"",true,"","","","",{"$f":"IF(B51>0,VLOOKUP(I51,Punkteschema!$A$2:$B$101,2,FALSE),\"\")","v":""}]
[null,null,null,"",true,"","","","",{"$f":"IF(B52>0,VLOOKUP(I52,Punkteschema!$A$2:$B$101,2,FALSE),\"\")","v":""}]
[null,null,null,"",true,{"$f":"IF(B53>0,COUNTIF(B$3:B$55,\"<\"&B53)+1,\"\")","v":""},"",{"$f":"IF(AND(B53>0,C53>0),COUNTIF(D$3:D$55,\"<\"&D53)+1,\"\")","v":""},"",{"$f":"IF(B53>0,VLOOKUP(I53,Punkteschema!$A$2:$B$101,2,FALSE),\"\")","v":""}]
[null,null,null,"",true,"","",{"$f":"IF(AND(B54>0,C54>0),COUNTIF(D$3:D$55,\"<\"&D54)+1,\"\")","v":""},"",{"$f":"IF(B54>0,VLOOKUP(I54,Punkteschema!$A$2:$B$101,2,FALSE),\"\")","v":""}]
[null,null,null,"",true,"","",{"$f":"IF(AND(B55>0,C55>0),COUNTIF(D$3:D$55,\"<\"&D55)+1,\"\")","v":""},"",{"$f":"IF(B55>0,VLOOKUP(I55,Punkteschema!$A$2:$B$101,2,FALSE),\"\")","v":""}]
[]
["OS: Paffrath, Siegfried (HEV)",null,null,null,"Runde 1:","E","<- E/B"]
["S: Urban, Volker (ASW)",null,null,null,"Runde 2:","B","<- E/B"]
["S: Buchholz, Ansgar (ASW)"]
[]
["Verloste Preise:"]
["Urban, Volker","1 Flasche Merlot"]
["Rade, Marcus","1 Ballsauger mit Ball"]
["Kortmann, Sabine","1 Getränke-Set \"Malibu\""]

{"sheet":"Einzelwertung2","index":4,"n_rows":64,"n_cols":10,"rows_kept":64,"cut":false,"hidden":false,"merged":[[0,0,0,9]]}
[{"$f":"CONCATENATE(\"7. Sommer-Cup - Freizeittreff Herbede - \",TEXT(Gesamtstand!$G$2,\"TT.MM.JJ\"))","v":"7. Sommer-Cup - Freizeittreff Herbede - 12.05.22"}]
["Spieler","Runde 1","Runde 2","Gesamt","bessere?","Pl. R1","Pl. R2","Pl. Ges.","gewertet","Punkte"]
["Lenk, Rolf",23,34,{"$f":"IF(B3>0,C3+B3,\"\")","v":57},true,{"$f":"IF(B3>0,COUNTIF(B$3:B$55,\"<\"&B3)+1,\"\")","v":1},{"$f":"IF(C3>0,COUNTIF(C$3:C$55,\"<\"&C3)+1,\"\")","v":4},{"$f":"IF(AND(B3>0,C3>0),COUNTIF(D$3:D$55,\"<\"&D3)+1,\"\")","v":2},{"$f":"IF(B3>0,IF(E3,MIN(F3:H3),SUM(F3:H3)-MAX(F3:H3)-MIN(F3:H3)),\"\")","v":1},{"$f":"IF(B3>0,VLOOKUP(I3,Punkteschema!$A$2:$B$101,2,FALSE),\"\")","v":25}]
["Puschner, Michael",33,29,62,true,11,1,4,1,{"$f":"IF(B4>0,VLOOKUP(I4,Punkteschema!$A$2:$B$101,2,FALSE),\"\")","v":25}]
["Buchholz, Ansgar",25,30,55,false,3,2,1,2,{"$f":"IF(B5>0,VLOOKUP(I5,Punkteschema!$A$2:$B$101,2,FALSE),\"\")","v":21}]
["Kunz, Martin",24,41,65,true,2,15,6,2,{"$f":"IF(B6>0,VLOOKUP(I6,Punkteschema!$A$2:$B$101,2,FALSE),\"\")","v":21}]
["Urban, Dominic",27,33,60,true,4,3,3,3,{"$f":"IF(B7>0,VLOOKUP(I7,Punkteschema!$A$2:$B$101,2,FALSE),\"\")","v":18}]
["Kersch, Uwe",28,36,64,true,5,7,5,5,{"$f":"IF(B8>0,VLOOKUP(I8,Punkteschema!$A$2:$B$101,2,FALSE),\"\")","v":15}]
["Börgmann, Brigitte",35,35,70,true,13,5,12,5,{"$f":"IF(B9>0,VLOOKUP(I9,Punkteschema!$A$2:$B$101,2,FALSE),\"\")","v":15}]
["Paffrath, Ben",29,36,65,true,7,7,6,6,{"$f":"IF(B10>0,VLOOKUP(I10,Punkteschema!$A$2:$B$101,2,FALSE),\"\")","v":15}]
["Urban, Volker",30,35,65,false,8,5,6,6,{"$f":"IF(B11>0,VLOOKUP(I11,Punkteschema!$A$2:$B$101,2,FALSE),\"\")","v":15}]
["Paffrath, Siegfried",35,36,71,true,13,7,13,7,{"$f":"IF(B12>0,VLOOKUP(I12,Punkteschema!$A$2:$B$101,2,FALSE),\"\")","v":10}]
["Brunnenkant, Frank",30,37,67,false,8,11,9,9,{"$f":"IF(B13>0,VLOOKUP(I13,Punkteschema!$A$2:$B$101,2,FALSE),\"\")","v":10}]
["Kortmann, Sabine",32,36,68,false,10,7,10,10,{"$f":"IF(B14>0,VLOOKUP(I14,Punkteschema!$A$2:$B$101,2,FALSE),\"\")","v":10}]
["Greiffendorf, Hellmut",28,41,69,false,5,15,11,11,{"$f":"IF(B15>0,VLOOKUP(I15,Punkteschema!$A$2:$B$101,2,FALSE),\"\")","v":5}]
["Urban, Angela",40,37,77,true,17,11,16,11,{"$f":"IF(B16>0,VLOOKUP(I16,Punkteschema!$A$2:$B$101,2,FALSE),\"\")","v":5}]
["Börgmann, Ulrich",34,39,73,true,12,13,14,12,{"$f":"IF(B17>0,VLOOKUP(I17,Punkteschema!$A$2:$B$101,2,FALSE),\"\")","v":5}]
["Gattner, Karsten",36,39,75,true,16,13,15,13,{"$f":"IF(B18>0,VLOOKUP(I18,Punkteschema!$A$2:$B$101,2,FALSE),\"\")","v":5}]
["Kortmann, Uwe",35,46,81,true,13,18,17,13,{"$f":"IF(B19>0,VLOOKUP(I19,Punkteschema!$A$2:$B$101,2,FALSE),\"\")","v":5}]
["Schmidtbauer, Günter",54,44,98,true,18,17,18,17,{"$f":"IF(B20>0,VLOOKUP(I20,Punkteschema!$A$2:$B$101,2,FALSE),\"\")","v":3}]
[null,null,null,"",true,"","","","",{"$f":"IF(B21>0,VLOOKUP(I21,Punkteschema!$A$2:$B$101,2,FALSE),\"\")","v":""}]
[null,null,null,"",true,"","","","",{"$f":"IF(B22>0,VLOOKUP(I22,Punkteschema!$A$2:$B$101,2,FALSE),\"\")","v":""}]
[null,null,null,"",true,"","","","",{"$f":"IF(B23>0,VLOOKUP(I23,Punkteschema!$A$2:$B$101,2,FALSE),\"\")","v":""}]
[null,null,null,"",true,"","","","",{"$f":"IF(B24>0,VLOOKUP(I24,Punkteschema!$A$2:$B$101,2,FALSE),\"\")","v":""}]
[null,null,null,"",true,"","","","",{"$f":"IF(B25>0,VLOOKUP(I25,Punkteschema!$A$2:$B$101,2,FALSE),\"\")","v":""}]
[null,null,null,"",true,"","","","",{"$f":"IF(B26>0,VLOOKUP(I26,Punkteschema!$A$2:$B$101,2,FALSE),\"\")","v":""}]
[null,null,null,"",true,"","","","",{"$f":"IF(B27>0,VLOOKUP(I27,Punkteschema!$A$2:$B$101,2,FALSE),\"\")","v":""}]
[null,null,null,"",true,"","","","",{"$f":"IF(B28>0,VLOOKUP(I28,Punkteschema!$A$2:$B$101,2,FALSE),\"\")","v":""}]
[null,null,null,"",true,"","","","",{"$f":"IF(B29>0,VLOOKUP(I29,Punkteschema!$A$2:$B$101,2,FALSE),\"\")","v":""}]
[null,null,null,"",true,"","","","",{"$f":"IF(B30>0,VLOOKUP(I30,Punkteschema!$A$2:$B$101,2,FALSE),\"\")","v":""}]
[null,null,null,"",true,"","","","",{"$f":"IF(B31>0,VLOOKUP(I31,Punkteschema!$A$2:$B$101,2,FALSE),\"\")","v":""}]
[null,null,null,"",true,"","","","",{"$f":"IF(B32>0,VLOOKUP(I32,Punkteschema!$A$2:$B$101,2,FALSE),\"\")","v":""}]
[null,null,null,"",true,"","","","",{"$f":"IF(B33>0,VLOOKUP(I33,Punkteschema!$A$2:$B$101,2,FALSE),\"\")","v":""}]
[null,null,null,"",true,"","","","",{"$f":"IF(B34>0,VLOOKUP(I34,Punkteschema!$A$2:$B$101,2,FALSE),\"\")","v":""}]
[null,null,null,{"$f":"IF(B35>0,C35+B35,\"\")","v":""},true,{"$f":"IF(B35>0,COUNTIF(B$3:B$55,\"<\"&B35)+1,\"\")","v":""},{"$f":"IF(C35>0,COUNTIF(C$3:C$55,\"<\"&C35)+1,\"\")","v":""},{"$f":"IF(AND(B35>0,C35>0),COUNTIF(D$3:D$55,\"<\"&D35)+1,\"\")","v":""},{"$f":"IF(B35>0,IF(E35,MIN(F35:H35),SUM(F35:H35)-MAX(F35:H35)-MIN(F35:H35)),\"\")","v":""},{"$f":"IF(B35>0,VLOOKUP(I35,Punkteschema!$A$2:$B$101,2,FALSE),\"\")","v":""}]
[null,null,null,"",true,"","","","",{"$f":"IF(B36>0,VLOOKUP(I36,Punkteschema!$A$2:$B$101,2,FALSE),\"\")","v":""}]
[null,null,null,"",true,"","","","",{"$f":"IF(B37>0,VLOOKUP(I37,Punkteschema!$A$2:$B$101,2,FALSE),\"\")","v":""}]
[null,null,null,"",true,"","","","",{"$f":"IF(B38>0,VLOOKUP(I38,Punkteschema!$A$2:$B$101,2,FALSE),\"\")","v":""}]
[null,null,null,"",true,"","","","",{"$f":"IF(B39>0,VLOOKUP(I39,Punkteschema!$A$2:$B$101,2,FALSE),\"\")","v":""}]
[null,null,null,"",true,"","","","",{"$f":"IF(B40>0,VLOOKUP(I40,Punkteschema!$A$2:$B$101,2,FALSE),\"\")","v":""}]
[null,null,null,"",true,"","","","",{"$f":"IF(B41>0,VLOOKUP(I41,Punkteschema!$A$2:$B$101,2,FALSE),\"\")","v":""}]
[null,null,null,"",true,"","","","",{"$f":"IF(B42>0,VLOOKUP(I42,Punkteschema!$A$2:$B$101,2,FALSE),\"\")","v":""}]
[null,null,null,"",true,"","","","",{"$f":"IF(B43>0,VLOOKUP(I43,Punkteschema!$A$2:$B$101,2,FALSE),\"\")","v":""}]
[null,null,null,"",true,"","","","",{"$f":"IF(B44>0,VLOOKUP(I44,Punkteschema!$A$2:$B$101,2,FALSE),\"\")","v":""}]
[null,null,null,"",true,"","","","",{"$f":"IF(B45>0,VLOOKUP(I45,Punkteschema!$A$2:$B$101,2,FALSE),\"\")","v":""}]
[null,null,null,"",true,"","","","",{"$f":"IF(B46>0,VLOOKUP(I46,Punkteschema!$A$2:$B$101,2,FALSE),\"\")","v":""}]
[null,null,null,"",true,"","","","",{"$f":"IF(B47>0,VLOOKUP(I47,Punkteschema!$A$2:$B$101,2,FALSE),\"\")","v":""}]
[null,null,null,"",true,"","","","",{"$f":"IF(B48>0,VLOOKUP(I48,Punkteschema!$A$2:$B$101,2,FALSE),\"\")","v":""}]
[null,null,null,"",true,"","","","",{"$f":"IF(B49>0,VLOOKUP(I49,Punkteschema!$A$2:$B$101,2,FALSE),\"\")","v":""}]
[null,null,null,"",true,"","","","",{"$f":"IF(B50>0,VLOOKUP(I50,Punkteschema!$A$2:$B$101,2,FALSE),\"\")","v":""}]
[null,null,null,"",true,"","","","",{"$f":"IF(B51>0,VLOOKUP(I51,Punkteschema!$A$2:$B$101,2,FALSE),\"\")","v":""}]
[null,null,null,"",true,"","","","",{"$f":"IF(B52>0,VLOOKUP(I52,Punkteschema!$A$2:$B$101,2,FALSE),\"\")","v":""}]
[null,null,null,"",true,"","","","",{"$f":"IF(B53>0,VLOOKUP(I53,Punkteschema!$A$2:$B$101,2,FALSE),\"\")","v":""}]
[null,null,null,"",true,"","","","",{"$f":"IF(B54>0,VLOOKUP(I54,Punkteschema!$A$2:$B$101,2,FALSE),\"\")","v":""}]
[null,null,null,"",true,"","","","",{"$f":"IF(B55>0,VLOOKUP(I55,Punkteschema!$A$2:$B$101,2,FALSE),\"\")","v":""}]
[]
["OS: Paffrath, Siegfried (HEV)",null,null,null,"Runde 1:","E","<- E/B"]
["S: Urban, Dominic (ASW)",null,null,null,"Runde 2:","B","<- E/B"]
["S: Buchholz, Ansgar (ASW)"]
[]
["Verloste Preise:"]
["Börgmann, Brigitte","1 Mini-Garten"]
["Brunnenkant, Frank","1 Wetterstation"]
["Kunz, Martin","1 Schinken"]

{"sheet":"Einzelwertung3","index":5,"n_rows":64,"n_cols":10,"rows_kept":64,"cut":false,"hidden":false,"merged":[[0,0,0,9]]}
[{"$f":"CONCATENATE(\"7. Sommer-Cup - Freizeittreff Herbede - \",TEXT(Gesamtstand!$H$2,\"TT.MM.JJ\"))","v":"7. Sommer-Cup - Freizeittreff Herbede - 19.05.22"}]
["Spieler","Runde 1","Runde 2","Gesamt","bessere?","Pl. R1","Pl. R2","Pl. Ges.","gewertet","Punkte"]
["Rade, Marcus",23,33,{"$f":"IF(B3>0,C3+B3,\"\")","v":56},true,{"$f":"IF(B3>0,COUNTIF(B$3:B$55,\"<\"&B3)+1,\"\")","v":1},{"$f":"IF(C3>0,COUNTIF(C$3:C$55,\"<\"&C3)+1,\"\")","v":2},{"$f":"IF(AND(B3>0,C3>0),COUNTIF(D$3:D$55,\"<\"&D3)+1,\"\")","v":1},{"$f":"IF(B3>0,IF(E3,MIN(F3:H3),SUM(F3:H3)-MAX(F3:H3)-MIN(F3:H3)),\"\")","v":1},{"$f":"IF(B3>0,VLOOKUP(I3,Punkteschema!$A$2:$B$101,2,FALSE),\"\")","v":25}]
["Kunz, Martin",26,34,60,true,3,4,2,2,{"$f":"IF(B4>0,VLOOKUP(I4,Punkteschema!$A$2:$B$101,2,FALSE),\"\")","v":21}]
["Urban, Dominic",26,34,60,true,3,4,2,2,{"$f":"IF(B5>0,VLOOKUP(I5,Punkteschema!$A$2:$B$101,2,FALSE),\"\")","v":21}]
["Rabe, Jonas",26,34,60,true,3,4,2,2,{"$f":"IF(B6>0,VLOOKUP(I6,Punkteschema!$A$2:$B$101,2,FALSE),\"\")","v":21}]
["Buchholz, Ansgar",30,30,60,false,7,1,2,2,{"$f":"IF(B7>0,VLOOKUP(I7,Punkteschema!$A$2:$B$101,2,FALSE),\"\")","v":21}]
["Paffrath, Siegfried",24,40,64,true,2,11,7,2,{"$f":"IF(B8>0,VLOOKUP(I8,Punkteschema!$A$2:$B$101,2,FALSE),\"\")","v":21}]
["Urban, Volker",27,35,62,false,6,7,6,6,{"$f":"IF(B9>0,VLOOKUP(I9,Punkteschema!$A$2:$B$101,2,FALSE),\"\")","v":15}]
["Puschner, Michael",37,33,70,false,11,2,8,8,{"$f":"IF(B10>0,VLOOKUP(I10,Punkteschema!$A$2:$B$101,2,FALSE),\"\")","v":10}]
["Kortmann, Sabine",33,39,72,true,8,10,9,8,{"$f":"IF(B11>0,VLOOKUP(I11,Punkteschema!$A$2:$B$101,2,FALSE),\"\")","v":10}]
["Paffrath, Ben",35,37,72,true,10,8,9,8,{"$f":"IF(B12>0,VLOOKUP(I12,Punkteschema!$A$2:$B$101,2,FALSE),\"\")","v":10}]
["Urban, Angela",37,37,74,true,11,8,11,8,{"$f":"IF(B13>0,VLOOKUP(I13,Punkteschema!$A$2:$B$101,2,FALSE),\"\")","v":10}]
["Schmidtbauer, Günter",34,44,78,true,9,13,12,9,{"$f":"IF(B14>0,VLOOKUP(I14,Punkteschema!$A$2:$B$101,2,FALSE),\"\")","v":10}]
["Puschner, Silke",44,43,87,true,13,12,13,12,{"$f":"IF(B15>0,VLOOKUP(I15,Punkteschema!$A$2:$B$101,2,FALSE),\"\")","v":5}]
[null,null,null,{"$f":"IF(B16>0,C16+B16,\"\")","v":""},true,{"$f":"IF(B16>0,COUNTIF(B$3:B$55,\"<\"&B16)+1,\"\")","v":""},"",{"$f":"IF(AND(B16>0,C16>0),COUNTIF(D$3:D$55,\"<\"&D16)+1,\"\")","v":""},{"$f":"IF(B16>0,IF(E16,MIN(F16:H16),SUM(F16:H16)-MAX(F16:H16)-MIN(F16:H16)),\"\")","v":""},{"$f":"IF(B16>0,VLOOKUP(I16,Punkteschema!$A$2:$B$101,2,FALSE),\"\")","v":""}]
[null,null,null,"",true,"","","","",{"$f":"IF(B17>0,VLOOKUP(I17,Punkteschema!$A$2:$B$101,2,FALSE),\"\")","v":""}]
[null,null,null,"",true,"","","","",{"$f":"IF(B18>0,VLOOKUP(I18,Punkteschema!$A$2:$B$101,2,FALSE),\"\")","v":""}]
[null,null,null,"",true,{"$f":"IF(B19>0,COUNTIF(B$3:B$55,\"<\"&B19)+1,\"\")","v":""},"","","",{"$f":"IF(B19>0,VLOOKUP(I19,Punkteschema!$A$2:$B$101,2,FALSE),\"\")","v":""}]
[null,null,null,"",true,"","","","",{"$f":"IF(B20>0,VLOOKUP(I20,Punkteschema!$A$2:$B$101,2,FALSE),\"\")","v":""}]
[null,null,null,"",true,"","","","",{"$f":"IF(B21>0,VLOOKUP(I21,Punkteschema!$A$2:$B$101,2,FALSE),\"\")","v":""}]
[null,null,null,"",true,"","","","",{"$f":"IF(B22>0,VLOOKUP(I22,Punkteschema!$A$2:$B$101,2,FALSE),\"\")","v":""}]
[null,null,null,"",true,"","","","",{"$f":"IF(B23>0,VLOOKUP(I23,Punkteschema!$A$2:$B$101,2,FALSE),\"\")","v":""}]
[null,null,null,"",true,"","","","",{"$f":"IF(B24>0,VLOOKUP(I24,Punkteschema!$A$2:$B$101,2,FALSE),\"\")","v":""}]
[null,null,null,"",true,"","","","",{"$f":"IF(B25>0,VLOOKUP(I25,Punkteschema!$A$2:$B$101,2,FALSE),\"\")","v":""}]
[null,null,null,"",true,"","","","",{"$f":"IF(B26>0,VLOOKUP(I26,Punkteschema!$A$2:$B$101,2,FALSE),\"\")","v":""}]
[null,null,null,"",true,"","","","",{"$f":"IF(B27>0,VLOOKUP(I27,Punkteschema!$A$2:$B$101,2,FALSE),\"\")","v":""}]
[null,null,null,"",true,"","","","",{"$f":"IF(B28>0,VLOOKUP(I28,Punkteschema!$A$2:$B$101,2,FALSE),\"\")","v":""}]
[null,null,null,"",true,"","","","",{"$f":"IF(B29>0,VLOOKUP(I29,Punkteschema!$A$2:$B$101,2,FALSE),\"\")","v":""}]
[null,null,null,"",true,"","","","",{"$f":"IF(B30>0,VLOOKUP(I30,Punkteschema!$A$2:$B$101,2,FALSE),\"\")","v":""}]
[null,null,null,"",true,"","","","",{"$f":"IF(B31>0,VLOOKUP(I31,Punkteschema!$A$2:$B$101,2,FALSE),\"\")","v":""}]
[null,null,null,"",true,"","","","",{"$f":"IF(B32>0,VLOOKUP(I32,Punkteschema!$A$2:$B$101,2,FALSE),\"\")","v":""}]
[null,null,null,"",true,"","","","",{"$f":"IF(B33>0,VLOOKUP(I33,Punkteschema!$A$2:$B$101,2,FALSE),\"\")","v":""}]
[null,null,null,"",true,"","","","",{"$f":"IF(B34>0,VLOOKUP(I34,Punkteschema!$A$2:$B$101,2,FALSE),\"\")","v":""}]
[null,null,null,"",true,"","","","",{"$f":"IF(B35>0,VLOOKUP(I35,Punkteschema!$A$2:$B$101,2,FALSE),\"\")","v":""}]
[null,null,null,"",true,"","","","",{"$f":"IF(B36>0,VLOOKUP(I36,Punkteschema!$A$2:$B$101,2,FALSE),\"\")","v":""}]
[null,null,null,"",true,"","","","",{"$f":"IF(B37>0,VLOOKUP(I37,Punkteschema!$A$2:$B$101,2,FALSE),\"\")","v":""}]
[null,null,null,"",true,"","","","",{"$f":"IF(B38>0,VLOOKUP(I38,Punkteschema!$A$2:$B$101,2,FALSE),\"\")","v":""}]
[null,null,null,"",true,"","","","",{"$f":"IF(B39>0,VLOOKUP(I39,Punkteschema!$A$2:$B$101,2,FALSE),\"\")","v":""}]
[null,null,null,"",true,"","","","",{"$f":"IF(B40>0,VLOOKUP(I40,Punkteschema!$A$2:$B$101,2,FALSE),\"\")","v":""}]
[null,null,null,"",true,"","","","",{"$f":"IF(B41>0,VLOOKUP(I41,Punkteschema!$A$2:$B$101,2,FALSE),\"\")","v":""}]
[null,null,null,"",true,"","","","",{"$f":"IF(B42>0,VLOOKUP(I42,Punkteschema!$A$2:$B$101,2,FALSE),\"\")","v":""}]
[null,null,null,"",true,"","","","",{"$f":"IF(B43>0,VLOOKUP(I43,Punkteschema!$A$2:$B$101,2,FALSE),\"\")","v":""}]
[null,null,null,"",true,"","","","",{"$f":"IF(B44>0,VLOOKUP(I44,Punkteschema!$A$2:$B$101,2,FALSE),\"\")","v":""}]
[null,null,null,"",true,"","","","",{"$f":"IF(B45>0,VLOOKUP(I45,Punkteschema!$A$2:$B$101,2,FALSE),\"\")","v":""}]
[null,null,null,"",true,"","","","",{"$f":"IF(B46>0,VLOOKUP(I46,Punkteschema!$A$2:$B$101,2,FALSE),\"\")","v":""}]
[null,null,null,"",true,"","","","",{"$f":"IF(B47>0,VLOOKUP(I47,Punkteschema!$A$2:$B$101,2,FALSE),\"\")","v":""}]
[null,null,null,"",true,"","","","",{"$f":"IF(B48>0,VLOOKUP(I48,Punkteschema!$A$2:$B$101,2,FALSE),\"\")","v":""}]
[null,null,null,"",true,"","","","",{"$f":"IF(B49>0,VLOOKUP(I49,Punkteschema!$A$2:$B$101,2,FALSE),\"\")","v":""}]
[null,null,null,"",true,"","","","",{"$f":"IF(B50>0,VLOOKUP(I50,Punkteschema!$A$2:$B$101,2,FALSE),\"\")","v":""}]
[null,null,null,"",true,"","","","",{"$f":"IF(B51>0,VLOOKUP(I51,Punkteschema!$A$2:$B$101,2,FALSE),\"\")","v":""}]
[null,null,null,"",true,"","","","",{"$f":"IF(B52>0,VLOOKUP(I52,Punkteschema!$A$2:$B$101,2,FALSE),\"\")","v":""}]
[null,null,null,"",true,{"$f":"IF(B53>0,COUNTIF(B$3:B$55,\"<\"&B53)+1,\"\")","v":""},"",{"$f":"IF(AND(B53>0,C53>0),COUNTIF(D$3:D$55,\"<\"&D53)+1,\"\")","v":""},"",{"$f":"IF(B53>0,VLOOKUP(I53,Punkteschema!$A$2:$B$101,2,FALSE),\"\")","v":""}]
[null,null,null,"",true,"","",{"$f":"IF(AND(B54>0,C54>0),COUNTIF(D$3:D$55,\"<\"&D54)+1,\"\")","v":""},"",{"$f":"IF(B54>0,VLOOKUP(I54,Punkteschema!$A$2:$B$101,2,FALSE),\"\")","v":""}]
[null,null,null,"",true,"","",{"$f":"IF(AND(B55>0,C55>0),COUNTIF(D$3:D$55,\"<\"&D55)+1,\"\")","v":""},"",{"$f":"IF(B55>0,VLOOKUP(I55,Punkteschema!$A$2:$B$101,2,FALSE),\"\")","v":""}]
[]
["OS: Paffrath, Siegfried (HEV)",null,null,null,"Runde 1:","E","<- E/B"]
["S: Urban, Volker (ASW)",null,null,null,"Runde 2:","B","<- E/B"]
["S: Puschner, Michael (HOB)"]
[]
["Verloste Preise:"]
["Buchholz, Ansgar","1 Verzehrgutschein"]
["Rade, Marcus","1 Ballsauger mit Ball"]
["Urban, Volker","1 Flasche Dornfelder Sekt"]

{"sheet":"Einzelwertung4","index":6,"n_rows":64,"n_cols":10,"rows_kept":64,"cut":false,"hidden":false,"merged":[[0,0,0,9]]}
[{"$f":"CONCATENATE(\"7. Sommer-Cup - Freizeittreff Herbede - \",TEXT(Gesamtstand!$I$2,\"TT.MM.JJ\"))","v":"7. Sommer-Cup - Freizeittreff Herbede - 25.05.22"}]
["Spieler","Runde 1","Runde 2","Gesamt","bessere?","Pl. R1","Pl. R2","Pl. Ges.","gewertet","Punkte"]
["Buchholz, Ansgar",22,29,{"$f":"IF(B3>0,C3+B3,\"\")","v":51},false,{"$f":"IF(B3>0,COUNTIF(B$3:B$55,\"<\"&B3)+1,\"\")","v":1},{"$f":"IF(C3>0,COUNTIF(C$3:C$55,\"<\"&C3)+1,\"\")","v":1},{"$f":"IF(AND(B3>0,C3>0),COUNTIF(D$3:D$55,\"<\"&D3)+1,\"\")","v":1},{"$f":"IF(B3>0,IF(E3,MIN(F3:H3),SUM(F3:H3)-MAX(F3:H3)-MIN(F3:H3)),\"\")","v":1},{"$f":"IF(B3>0,VLOOKUP(I3,Punkteschema!$A$2:$B$101,2,FALSE),\"\")","v":25}]
["Rade, Marcus",25,30,55,true,3,2,2,2,{"$f":"IF(B4>0,VLOOKUP(I4,Punkteschema!$A$2:$B$101,2,FALSE),\"\")","v":21}]
["Lenk, Rolf",24,36,60,true,2,10,3,2,{"$f":"IF(B5>0,VLOOKUP(I5,Punkteschema!$A$2:$B$101,2,FALSE),\"\")","v":21}]
["Puschner, Michael",25,35,60,false,3,5,3,3,{"$f":"IF(B6>0,VLOOKUP(I6,Punkteschema!$A$2:$B$101,2,FALSE),\"\")","v":18}]
["Urban, Volker",27,33,60,false,5,3,3,3,{"$f":"IF(B7>0,VLOOKUP(I7,Punkteschema!$A$2:$B$101,2,FALSE),\"\")","v":18}]
["Brunnenkant, Frank",28,34,62,true,6,4,6,4,{"$f":"IF(B8>0,VLOOKUP(I8,Punkteschema!$A$2:$B$101,2,FALSE),\"\")","v":15}]
["Kortmann, Sabine",28,35,63,true,6,5,7,5,{"$f":"IF(B9>0,VLOOKUP(I9,Punkteschema!$A$2:$B$101,2,FALSE),\"\")","v":15}]
["Arens, Ingo",28,35,63,true,6,5,7,5,{"$f":"IF(B10>0,VLOOKUP(I10,Punkteschema!$A$2:$B$101,2,FALSE),\"\")","v":15}]
["Urban, Dominic",28,35,63,true,6,5,7,5,{"$f":"IF(B11>0,VLOOKUP(I11,Punkteschema!$A$2:$B$101,2,FALSE),\"\")","v":15}]
["Greiffendorf, Hellmut",29,35,64,true,10,5,10,5,{"$f":"IF(B12>0,VLOOKUP(I12,Punkteschema!$A$2:$B$101,2,FALSE),\"\")","v":15}]
["Kunz, Martin",32,36,68,true,12,10,11,10,{"$f":"IF(B13>0,VLOOKUP(I13,Punkteschema!$A$2:$B$101,2,FALSE),\"\")","v":10}]
["Börgmann, Ulrich",29,47,76,true,10,17,13,10,{"$f":"IF(B14>0,VLOOKUP(I14,Punkteschema!$A$2:$B$101,2,FALSE),\"\")","v":10}]
["Urban, Angela",36,39,75,true,15,12,12,12,{"$f":"IF(B15>0,VLOOKUP(I15,Punkteschema!$A$2:$B$101,2,FALSE),\"\")","v":5}]
["Börgmann, Brigitte",40,39,79,true,17,12,15,12,{"$f":"IF(B16>0,VLOOKUP(I16,Punkteschema!$A$2:$B$101,2,FALSE),\"\")","v":5}]
["Kersch, Uwe",34,46,80,true,13,16,16,13,{"$f":"IF(B17>0,VLOOKUP(I17,Punkteschema!$A$2:$B$101,2,FALSE),\"\")","v":5}]
["Puschner, Silke",34,57,91,true,13,18,18,13,{"$f":"IF(B18>0,VLOOKUP(I18,Punkteschema!$A$2:$B$101,2,FALSE),\"\")","v":5}]
["Schmidtbauer, Günter",36,42,78,true,15,14,14,14,{"$f":"IF(B19>0,VLOOKUP(I19,Punkteschema!$A$2:$B$101,2,FALSE),\"\")","v":5}]
["Gattner, Karsten",41,44,85,true,18,15,17,15,{"$f":"IF(B20>0,VLOOKUP(I20,Punkteschema!$A$2:$B$101,2,FALSE),\"\")","v":5}]
[null,null,null,{"$f":"IF(B21>0,C21+B21,\"\")","v":""},true,{"$f":"IF(B21>0,COUNTIF(B$3:B$55,\"<\"&B21)+1,\"\")","v":""},"",{"$f":"IF(AND(B21>0,C21>0),COUNTIF(D$3:D$55,\"<\"&D21)+1,\"\")","v":""},{"$f":"IF(B21>0,IF(E21,MIN(F21:H21),SUM(F21:H21)-MAX(F21:H21)-MIN(F21:H21)),\"\")","v":""},{"$f":"IF(B21>0,VLOOKUP(I21,Punkteschema!$A$2:$B$101,2,FALSE),\"\")","v":""}]
[null,null,null,"",true,"","","","",{"$f":"IF(B22>0,VLOOKUP(I22,Punkteschema!$A$2:$B$101,2,FALSE),\"\")","v":""}]
[null,null,null,"",true,"","","","",{"$f":"IF(B23>0,VLOOKUP(I23,Punkteschema!$A$2:$B$101,2,FALSE),\"\")","v":""}]
[null,null,null,"",true,"","","","",{"$f":"IF(B24>0,VLOOKUP(I24,Punkteschema!$A$2:$B$101,2,FALSE),\"\")","v":""}]
[null,null,null,"",true,"","","","",{"$f":"IF(B25>0,VLOOKUP(I25,Punkteschema!$A$2:$B$101,2,FALSE),\"\")","v":""}]
[null,null,null,"",true,"","","","",{"$f":"IF(B26>0,VLOOKUP(I26,Punkteschema!$A$2:$B$101,2,FALSE),\"\")","v":""}]
[null,null,null,"",true,"","","","",{"$f":"IF(B27>0,VLOOKUP(I27,Punkteschema!$A$2:$B$101,2,FALSE),\"\")","v":""}]
[null,null,null,"",true,"","","","",{"$f":"IF(B28>0,VLOOKUP(I28,Punkteschema!$A$2:$B$101,2,FALSE),\"\")","v":""}]
[null,null,null,"",true,"","","","",{"$f":"IF(B29>0,VLOOKUP(I29,Punkteschema!$A$2:$B$101,2,FALSE),\"\")","v":""}]
[null,null,null,"",true,"","","","",{"$f":"IF(B30>0,VLOOKUP(I30,Punkteschema!$A$2:$B$101,2,FALSE),\"\")","v":""}]
[null,null,null,"",true,"","","","",{"$f":"IF(B31>0,VLOOKUP(I31,Punkteschema!$A$2:$B$101,2,FALSE),\"\")","v":""}]
[null,null,null,"",true,"","","","",{"$f":"IF(B32>0,VLOOKUP(I32,Punkteschema!$A$2:$B$101,2,FALSE),\"\")","v":""}]
[null,null,null,"",true,"","","","",{"$f":"IF(B33>0,VLOOKUP(I33,Punkteschema!$A$2:$B$101,2,FALSE),\"\")","v":""}]
[null,null,null,"",true,"","","","",{"$f":"IF(B34>0,VLOOKUP(I34,Punkteschema!$A$2:$B$101,2,FALSE),\"\")","v":""}]
[null,null,null,"",true,"","","","",{"$f":"IF(B35>0,VLOOKUP(I35,Punkteschema!$A$2:$B$101,2,FALSE),\"\")","v":""}]
[null,null,null,"",true,"","","","",{"$f":"IF(B36>0,VLOOKUP(I36,Punkteschema!$A$2:$B$101,2,FALSE),\"\")","v":""}]
[null,null,null,"",true,"","","","",{"$f":"IF(B37>0,VLOOKUP(I37,Punkteschema!$A$2:$B$101,2,FALSE),\"\")","v":""}]
[null,null,null,"",true,"","","","",{"$f":"IF(B38>0,VLOOKUP(I38,Punkteschema!$A$2:$B$101,2,FALSE),\"\")","v":""}]
[null,null,null,"",true,"","","","",{"$f":"IF(B39>0,VLOOKUP(I39,Punkteschema!$A$2:$B$101,2,FALSE),\"\")","v":""}]
[null,null,null,"",true,"","","","",{"$f":"IF(B40>0,VLOOKUP(I40,Punkteschema!$A$2:$B$101,2,FALSE),\"\")","v":""}]
[null,null,null,"",true,"","","","",{"$f":"IF(B41>0,VLOOKUP(I41,Punkteschema!$A$2:$B$101,2,FALSE),\"\")","v":""}]
[null,null,null,"",true,"","","","",{"$f":"IF(B42>0,VLOOKUP(I42,Punkteschema!$A$2:$B$101,2,FALSE),\"\")","v":""}]
[null,null,null,"",true,"","","","",{"$f":"IF(B43>0,VLOOKUP(I43,Punkteschema!$A$2:$B$101,2,FALSE),\"\")","v":""}]
[null,null,null,"",true,"","","","",{"$f":"IF(B44>0,VLOOKUP(I44,Punkteschema!$A$2:$B$101,2,FALSE),\"\")","v":""}]
[null,null,null,"",true,"","","","",{"$f":"IF(B45>0,VLOOKUP(I45,Punkteschema!$A$2:$B$101,2,FALSE),\"\")","v":""}]
[null,null,null,"",true,"","","","",{"$f":"IF(B46>0,VLOOKUP(I46,Punkteschema!$A$2:$B$101,2,FALSE),\"\")","v":""}]
[null,null,null,"",true,"","","","",{"$f":"IF(B47>0,VLOOKUP(I47,Punkteschema!$A$2:$B$101,2,FALSE),\"\")","v":""}]
[null,null,null,"",true,"","","","",{"$f":"IF(B48>0,VLOOKUP(I48,Punkteschema!$A$2:$B$101,2,FALSE),\"\")","v":""}]
[null,null,null,"",true,"","","","",{"$f":"IF(B49>0,VLOOKUP(I49,Punkteschema!$A$2:$B$101,2,FALSE),\"\")","v":""}]
[null,null,null,"",true,"","","","",{"$f":"IF(B50>0,VLOOKUP(I50,Punkteschema!$A$2:$B$101,2,FALSE),\"\")","v":""}]
[null,null,null,"",true,"","","","",{"$f":"IF(B51>0,VLOOKUP(I51,Punkteschema!$A$2:$B$101,2,FALSE),\"\")","v":""}]
[null,null,null,"",true,"","","","",{"$f":"IF(B52>0,VLOOKUP(I52,Punkteschema!$A$2:$B$101,2,FALSE),\"\")","v":""}]
[null,null,null,"",true,{"$f":"IF(B53>0,COUNTIF(B$3:B$55,\"<\"&B53)+1,\"\")","v":""},"",{"$f":"IF(AND(B53>0,C53>0),COUNTIF(D$3:D$55,\"<\"&D53)+1,\"\")","v":""},"",{"$f":"IF(B53>0,VLOOKUP(I53,Punkteschema!$A$2:$B$101,2,FALSE),\"\")","v":""}]
[null,null,null,"",true,"","",{"$f":"IF(AND(B54>0,C54>0),COUNTIF(D$3:D$55,\"<\"&D54)+1,\"\")","v":""},"",{"$f":"IF(B54>0,VLOOKUP(I54,Punkteschema!$A$2:$B$101,2,FALSE),\"\")","v":""}]
[null,null,null,"",true,"","",{"$f":"IF(AND(B55>0,C55>0),COUNTIF(D$3:D$55,\"<\"&D55)+1,\"\")","v":""},"",{"$f":"IF(B55>0,VLOOKUP(I55,Punkteschema!$A$2:$B$101,2,FALSE),\"\")","v":""}]
[]
["OS: Urban, Volker (ASW)",null,null,null,"Runde 1:","E","<- E/B"]
["S: Buchholz, Ansgar (ASW)",null,null,null,"Runde 2:","B","<- E/B"]
["S: Puschner, Michael (HOB)"]
[]
["Verloste Preise:"]
["Urban, Volker","1 Flasche Wein"]
["Urban, Dominic","1 Dose Weingummi"]
["Kortmann, Sabine","1 Solar-Gartenleuchte"]

{"sheet":"Einzelwertung5","index":7,"n_rows":64,"n_cols":10,"rows_kept":64,"cut":false,"hidden":false,"merged":[[0,0,0,9]]}
[{"$f":"CONCATENATE(\"7. Sommer-Cup - Freizeittreff Herbede - \",TEXT(Gesamtstand!$J$2,\"TT.MM.JJ\"))","v":"7. Sommer-Cup - Freizeittreff Herbede - 02.06.22"}]
["Spieler","Runde 1","Runde 2","Gesamt","bessere?","Pl. R1","Pl. R2","Pl. Ges.","gewertet","Punkte"]
["Urban, Dominic",21,35,{"$f":"IF(B3>0,C3+B3,\"\")","v":56},true,{"$f":"IF(B3>0,COUNTIF(B$3:B$55,\"<\"&B3)+1,\"\")","v":1},{"$f":"IF(C3>0,COUNTIF(C$3:C$55,\"<\"&C3)+1,\"\")","v":8},{"$f":"IF(AND(B3>0,C3>0),COUNTIF(D$3:D$55,\"<\"&D3)+1,\"\")","v":1},{"$f":"IF(B3>0,IF(E3,MIN(F3:H3),SUM(F3:H3)-MAX(F3:H3)-MIN(F3:H3)),\"\")","v":1},{"$f":"IF(B3>0,VLOOKUP(I3,Punkteschema!$A$2:$B$101,2,FALSE),\"\")","v":25}]
["Rabe, Jonas",23,33,56,true,2,4,1,1,{"$f":"IF(B4>0,VLOOKUP(I4,Punkteschema!$A$2:$B$101,2,FALSE),\"\")","v":25}]
["Rade, Marcus",31,32,63,true,10,2,4,2,{"$f":"IF(B5>0,VLOOKUP(I5,Punkteschema!$A$2:$B$101,2,FALSE),\"\")","v":21}]
["Urban, Volker",30,31,61,false,7,1,3,3,{"$f":"IF(B6>0,VLOOKUP(I6,Punkteschema!$A$2:$B$101,2,FALSE),\"\")","v":18}]
["Kortmann, Sabine",26,39,65,true,3,15,9,3,{"$f":"IF(B7>0,VLOOKUP(I7,Punkteschema!$A$2:$B$101,2,FALSE),\"\")","v":18}]
["Paffrath, Siegfried",28,35,63,true,4,8,4,4,{"$f":"IF(B8>0,VLOOKUP(I8,Punkteschema!$A$2:$B$101,2,FALSE),\"\")","v":15}]
["Kunz, Martin",28,36,64,true,4,10,6,4,{"$f":"IF(B9>0,VLOOKUP(I9,Punkteschema!$A$2:$B$101,2,FALSE),\"\")","v":15}]
["Paffrath, Ben",30,34,64,true,7,6,6,6,{"$f":"IF(B10>0,VLOOKUP(I10,Punkteschema!$A$2:$B$101,2,FALSE),\"\")","v":15}]
["Buchholz, Ansgar",31,33,64,false,10,4,6,6,{"$f":"IF(B11>0,VLOOKUP(I11,Punkteschema!$A$2:$B$101,2,FALSE),\"\")","v":15}]
["Brunnenkant, Frank",29,38,67,true,6,12,10,6,{"$f":"IF(B12>0,VLOOKUP(I12,Punkteschema!$A$2:$B$101,2,FALSE),\"\")","v":15}]
["Börgmann, Brigitte",38,34,72,true,16,6,13,6,{"$f":"IF(B13>0,VLOOKUP(I13,Punkteschema!$A$2:$B$101,2,FALSE),\"\")","v":15}]
["Lenk, Rolf",30,38,68,true,7,12,12,7,{"$f":"IF(B14>0,VLOOKUP(I14,Punkteschema!$A$2:$B$101,2,FALSE),\"\")","v":10}]
["Puschner, Michael",35,32,67,false,13,2,10,10,{"$f":"IF(B15>0,VLOOKUP(I15,Punkteschema!$A$2:$B$101,2,FALSE),\"\")","v":10}]
["Kersch, Uwe",39,37,76,true,17,11,16,11,{"$f":"IF(B16>0,VLOOKUP(I16,Punkteschema!$A$2:$B$101,2,FALSE),\"\")","v":5}]
["Börgmann, Ulrich",35,38,73,true,13,12,14,12,{"$f":"IF(B17>0,VLOOKUP(I17,Punkteschema!$A$2:$B$101,2,FALSE),\"\")","v":5}]
["Gattner, Karsten",32,42,74,true,12,16,15,12,{"$f":"IF(B18>0,VLOOKUP(I18,Punkteschema!$A$2:$B$101,2,FALSE),\"\")","v":5}]
["Dreischer, Burkhard",37,44,81,true,15,17,17,15,{"$f":"IF(B19>0,VLOOKUP(I19,Punkteschema!$A$2:$B$101,2,FALSE),\"\")","v":5}]
["Schmidtbauer, Günter",43,47,90,true,18,18,18,18,{"$f":"IF(B20>0,VLOOKUP(I20,Punkteschema!$A$2:$B$101,2,FALSE),\"\")","v":3}]
[null,null,null,"",true,"","","","",{"$f":"IF(B21>0,VLOOKUP(I21,Punkteschema!$A$2:$B$101,2,FALSE),\"\")","v":""}]
[null,null,null,"",true,"","","","",{"$f":"IF(B22>0,VLOOKUP(I22,Punkteschema!$A$2:$B$101,2,FALSE),\"\")","v":""}]
[null,null,null,"",true,"","","","",{"$f":"IF(B23>0,VLOOKUP(I23,Punkteschema!$A$2:$B$101,2,FALSE),\"\")","v":""}]
[null,null,null,"",true,"","","","",{"$f":"IF(B24>0,VLOOKUP(I24,Punkteschema!$A$2:$B$101,2,FALSE),\"\")","v":""}]
[null,null,null,"",true,"","","","",{"$f":"IF(B25>0,VLOOKUP(I25,Punkteschema!$A$2:$B$101,2,FALSE),\"\")","v":""}]
[null,null,null,"",true,"","","","",{"$f":"IF(B26>0,VLOOKUP(I26,Punkteschema!$A$2:$B$101,2,FALSE),\"\")","v":""}]
[null,null,null,"",true,"","","","",{"$f":"IF(B27>0,VLOOKUP(I27,Punkteschema!$A$2:$B$101,2,FALSE),\"\")","v":""}]
[null,null,null,"",true,"","","","",{"$f":"IF(B28>0,VLOOKUP(I28,Punkteschema!$A$2:$B$101,2,FALSE),\"\")","v":""}]
[null,null,null,"",true,"","","","",{"$f":"IF(B29>0,VLOOKUP(I29,Punkteschema!$A$2:$B$101,2,FALSE),\"\")","v":""}]
[null,null,null,"",true,"","","","",{"$f":"IF(B30>0,VLOOKUP(I30,Punkteschema!$A$2:$B$101,2,FALSE),\"\")","v":""}]
[null,null,null,"",true,"","","","",{"$f":"IF(B31>0,VLOOKUP(I31,Punkteschema!$A$2:$B$101,2,FALSE),\"\")","v":""}]
[null,null,null,"",true,"","","","",{"$f":"IF(B32>0,VLOOKUP(I32,Punkteschema!$A$2:$B$101,2,FALSE),\"\")","v":""}]
[null,null,null,"",true,"","","","",{"$f":"IF(B33>0,VLOOKUP(I33,Punkteschema!$A$2:$B$101,2,FALSE),\"\")","v":""}]
[null,null,null,"",true,"","","","",{"$f":"IF(B34>0,VLOOKUP(I34,Punkteschema!$A$2:$B$101,2,FALSE),\"\")","v":""}]
[null,null,null,{"$f":"IF(B35>0,C35+B35,\"\")","v":""},true,{"$f":"IF(B35>0,COUNTIF(B$3:B$55,\"<\"&B35)+1,\"\")","v":""},{"$f":"IF(C35>0,COUNTIF(C$3:C$55,\"<\"&C35)+1,\"\")","v":""},{"$f":"IF(AND(B35>0,C35>0),COUNTIF(D$3:D$55,\"<\"&D35)+1,\"\")","v":""},{"$f":"IF(B35>0,IF(E35,MIN(F35:H35),SUM(F35:H35)-MAX(F35:H35)-MIN(F35:H35)),\"\")","v":""},{"$f":"IF(B35>0,VLOOKUP(I35,Punkteschema!$A$2:$B$101,2,FALSE),\"\")","v":""}]
[null,null,null,"",true,"","","","",{"$f":"IF(B36>0,VLOOKUP(I36,Punkteschema!$A$2:$B$101,2,FALSE),\"\")","v":""}]
[null,null,null,"",true,"","","","",{"$f":"IF(B37>0,VLOOKUP(I37,Punkteschema!$A$2:$B$101,2,FALSE),\"\")","v":""}]
[null,null,null,"",true,"","","","",{"$f":"IF(B38>0,VLOOKUP(I38,Punkteschema!$A$2:$B$101,2,FALSE),\"\")","v":""}]
[null,null,null,"",true,"","","","",{"$f":"IF(B39>0,VLOOKUP(I39,Punkteschema!$A$2:$B$101,2,FALSE),\"\")","v":""}]
[null,null,null,"",true,"","","","",{"$f":"IF(B40>0,VLOOKUP(I40,Punkteschema!$A$2:$B$101,2,FALSE),\"\")","v":""}]
[null,null,null,"",true,"","","","",{"$f":"IF(B41>0,VLOOKUP(I41,Punkteschema!$A$2:$B$101,2,FALSE),\"\")","v":""}]
[null,null,null,"",true,"","","","",{"$f":"IF(B42>0,VLOOKUP(I42,Punkteschema!$A$2:$B$101,2,FALSE),\"\")","v":""}]
[null,null,null,"",true,"","","","",{"$f":"IF(B43>0,VLOOKUP(I43,Punkteschema!$A$2:$B$101,2,FALSE),\"\")","v":""}]
[null,null,null,"",true,"","","","",{"$f":"IF(B44>0,VLOOKUP(I44,Punkteschema!$A$2:$B$101,2,FALSE),\"\")","v":""}]
[null,null,null,"",true,"","","","",{"$f":"IF(B45>0,VLOOKUP(I45,Punkteschema!$A$2:$B$101,2,FALSE),\"\")","v":""}]
[null,null,null,"",true,"","","","",{"$f":"IF(B46>0,VLOOKUP(I46,Punkteschema!$A$2:$B$101,2,FALSE),\"\")","v":""}]
[null,null,null,"",true,"","","","",{"$f":"IF(B47>0,VLOOKUP(I47,Punkteschema!$A$2:$B$101,2,FALSE),\"\")","v":""}]
[null,null,null,"",true,"","","","",{"$f":"IF(B48>0,VLOOKUP(I48,Punkteschema!$A$2:$B$101,2,FALSE),\"\")","v":""}]
[null,null,null,"",true,"","","","",{"$f":"IF(B49>0,VLOOKUP(I49,Punkteschema!$A$2:$B$101,2,FALSE),\"\")","v":""}]
[null,null,null,"",true,"","","","",{"$f":"IF(B50>0,VLOOKUP(I50,Punkteschema!$A$2:$B$101,2,FALSE),\"\")","v":""}]
[null,null,null,"",true,"","","","",{"$f":"IF(B51>0,VLOOKUP(I51,Punkteschema!$A$2:$B$101,2,FALSE),\"\")","v":""}]
[null,null,null,"",true,"","","","",{"$f":"IF(B52>0,VLOOKUP(I52,Punkteschema!$A$2:$B$101,2,FALSE),\"\")","v":""}]
[null,null,null,"",true,"","","","",{"$f":"IF(B53>0,VLOOKUP(I53,Punkteschema!$A$2:$B$101,2,FALSE),\"\")","v":""}]
[null,null,null,"",true,"","","","",{"$f":"IF(B54>0,VLOOKUP(I54,Punkteschema!$A$2:$B$101,2,FALSE),\"\")","v":""}]
[null,null,null,"",true,"","","","",{"$f":"IF(B55>0,VLOOKUP(I55,Punkteschema!$A$2:$B$101,2,FALSE),\"\")","v":""}]
[]
["OS: Paffrath, Siegfried (HEV)",null,null,null,"Runde 1:","E","<- E/B"]
["S: Urban, Volker (ASW)",null,null,null,"Runde 2:","B","<- E/B"]
["S: Puschner, Michael (HOB)"]
[]
["Verloste Preise:"]
["Paffrath, Ben","1 Großpackung Toffifee"]
["Rabe, Jonas","1 Ball Cobi 2018"]
["Schmidtbauer, Günter","1 Flasche Merlot"]

{"sheet":"Einzelwertung6","index":8,"n_rows":63,"n_cols":10,"rows_kept":63,"cut":false,"hidden":false,"merged":[[0,0,0,9]]}
[{"$f":"CONCATENATE(\"7. Sommer-Cup - Freizeittreff Herbede - \",TEXT(Gesamtstand!$K$2,\"TT.MM.JJ\"))","v":"7. Sommer-Cup - Freizeittreff Herbede - 09.06.22"}]
["Spieler","Runde 1","Runde 2","Gesamt","bessere?","Pl. R1","Pl. R2","Pl. Ges.","gewertet","Punkte"]
["Brunnenkant, Frank",24,33,{"$f":"IF(B3>0,C3+B3,\"\")","v":57},true,{"$f":"IF(B3>0,COUNTIF(B$3:B$55,\"<\"&B3)+1,\"\")","v":1},{"$f":"IF(C3>0,COUNTIF(C$3:C$55,\"<\"&C3)+1,\"\")","v":3},{"$f":"IF(AND(B3>0,C3>0),COUNTIF(D$3:D$55,\"<\"&D3)+1,\"\")","v":1},{"$f":"IF(B3>0,IF(E3,MIN(F3:H3),SUM(F3:H3)-MAX(F3:H3)-MIN(F3:H3)),\"\")","v":1},{"$f":"IF(B3>0,VLOOKUP(I3,Punkteschema!$A$2:$B$101,2,FALSE),\"\")","v":25}]
["Kunz, Martin",28,31,59,true,4,2,2,2,{"$f":"IF(B4>0,VLOOKUP(I4,Punkteschema!$A$2:$B$101,2,FALSE),\"\")","v":21}]
["Lenk, Rolf",27,33,60,true,2,3,3,2,{"$f":"IF(B5>0,VLOOKUP(I5,Punkteschema!$A$2:$B$101,2,FALSE),\"\")","v":21}]
["Rade, Marcus",27,33,60,false,2,3,3,3,{"$f":"IF(B6>0,VLOOKUP(I6,Punkteschema!$A$2:$B$101,2,FALSE),\"\")","v":18}]
["Buchholz, Ansgar",33,30,63,false,8,1,5,5,{"$f":"IF(B7>0,VLOOKUP(I7,Punkteschema!$A$2:$B$101,2,FALSE),\"\")","v":15}]
["Paffrath, Siegfried",31,41,72,true,5,10,9,5,{"$f":"IF(B8>0,VLOOKUP(I8,Punkteschema!$A$2:$B$101,2,FALSE),\"\")","v":15}]
["Puschner, Michael",32,34,66,false,6,6,6,6,{"$f":"IF(B9>0,VLOOKUP(I9,Punkteschema!$A$2:$B$101,2,FALSE),\"\")","v":15}]
["Rabe, Jonas",32,34,66,true,6,6,6,6,{"$f":"IF(B10>0,VLOOKUP(I10,Punkteschema!$A$2:$B$101,2,FALSE),\"\")","v":15}]
["Paffrath, Ben",35,36,71,true,9,8,8,8,{"$f":"IF(B11>0,VLOOKUP(I11,Punkteschema!$A$2:$B$101,2,FALSE),\"\")","v":10}]
["Gattner, Karsten",36,37,73,true,10,9,10,9,{"$f":"IF(B12>0,VLOOKUP(I12,Punkteschema!$A$2:$B$101,2,FALSE),\"\")","v":10}]
["Schmidtbauer, Günter",45,48,93,true,11,11,11,11,{"$f":"IF(B13>0,VLOOKUP(I13,Punkteschema!$A$2:$B$101,2,FALSE),\"\")","v":5}]
[null,null,null,{"$f":"IF(B14>0,C14+B14,\"\")","v":""},true,{"$f":"IF(B14>0,COUNTIF(B$3:B$55,\"<\"&B14)+1,\"\")","v":""},"",{"$f":"IF(AND(B14>0,C14>0),COUNTIF(D$3:D$55,\"<\"&D14)+1,\"\")","v":""},{"$f":"IF(B14>0,IF(E14,MIN(F14:H14),SUM(F14:H14)-MAX(F14:H14)-MIN(F14:H14)),\"\")","v":""},{"$f":"IF(B14>0,VLOOKUP(I14,Punkteschema!$A$2:$B$101,2,FALSE),\"\")","v":""}]
[null,null,null,"",true,"","","","",{"$f":"IF(B15>0,VLOOKUP(I15,Punkteschema!$A$2:$B$101,2,FALSE),\"\")","v":""}]
[null,null,null,"",true,"","","","",{"$f":"IF(B16>0,VLOOKUP(I16,Punkteschema!$A$2:$B$101,2,FALSE),\"\")","v":""}]
[null,null,null,"",true,"","","","",{"$f":"IF(B17>0,VLOOKUP(I17,Punkteschema!$A$2:$B$101,2,FALSE),\"\")","v":""}]
[null,null,null,"",true,"","","","",{"$f":"IF(B18>0,VLOOKUP(I18,Punkteschema!$A$2:$B$101,2,FALSE),\"\")","v":""}]
[null,null,null,"",true,{"$f":"IF(B19>0,COUNTIF(B$3:B$55,\"<\"&B19)+1,\"\")","v":""},"","","",{"$f":"IF(B19>0,VLOOKUP(I19,Punkteschema!$A$2:$B$101,2,FALSE),\"\")","v":""}]
[null,null,null,"",true,"","","","",{"$f":"IF(B20>0,VLOOKUP(I20,Punkteschema!$A$2:$B$101,2,FALSE),\"\")","v":""}]
[null,null,null,"",true,"","","","",{"$f":"IF(B21>0,VLOOKUP(I21,Punkteschema!$A$2:$B$101,2,FALSE),\"\")","v":""}]
[null,null,null,"",true,"","","","",{"$f":"IF(B22>0,VLOOKUP(I22,Punkteschema!$A$2:$B$101,2,FALSE),\"\")","v":""}]
[null,null,null,"",true,"","","","",{"$f":"IF(B23>0,VLOOKUP(I23,Punkteschema!$A$2:$B$101,2,FALSE),\"\")","v":""}]
[null,null,null,"",true,"","","","",{"$f":"IF(B24>0,VLOOKUP(I24,Punkteschema!$A$2:$B$101,2,FALSE),\"\")","v":""}]
[null,null,null,"",true,"","","","",{"$f":"IF(B25>0,VLOOKUP(I25,Punkteschema!$A$2:$B$101,2,FALSE),\"\")","v":""}]
[null,null,null,"",true,"","","","",{"$f":"IF(B26>0,VLOOKUP(I26,Punkteschema!$A$2:$B$101,2,FALSE),\"\")","v":""}]
[null,null,null,"",true,"","","","",{"$f":"IF(B27>0,VLOOKUP(I27,Punkteschema!$A$2:$B$101,2,FALSE),\"\")","v":""}]
[null,null,null,"",true,"","","","",{"$f":"IF(B28>0,VLOOKUP(I28,Punkteschema!$A$2:$B$101,2,FALSE),\"\")","v":""}]
[null,null,null,"",true,"","","","",{"$f":"IF(B29>0,VLOOKUP(I29,Punkteschema!$A$2:$B$101,2,FALSE),\"\")","v":""}]
[null,null,null,"",true,"","","","",{"$f":"IF(B30>0,VLOOKUP(I30,Punkteschema!$A$2:$B$101,2,FALSE),\"\")","v":""}]
[null,null,null,"",true,"","","","",{"$f":"IF(B31>0,VLOOKUP(I31,Punkteschema!$A$2:$B$101,2,FALSE),\"\")","v":""}]
[null,null,null,"",true,"","","","",{"$f":"IF(B32>0,VLOOKUP(I32,Punkteschema!$A$2:$B$101,2,FALSE),\"\")","v":""}]
[null,null,null,"",true,"","","","",{"$f":"IF(B33>0,VLOOKUP(I33,Punkteschema!$A$2:$B$101,2,FALSE),\"\")","v":""}]
[null,null,null,"",true,"","","","",{"$f":"IF(B34>0,VLOOKUP(I34,Punkteschema!$A$2:$B$101,2,FALSE),\"\")","v":""}]
[null,null,null,"",true,"","","","",{"$f":"IF(B35>0,VLOOKUP(I35,Punkteschema!$A$2:$B$101,2,FALSE),\"\")","v":""}]
[null,null,null,"",true,"","","","",{"$f":"IF(B36>0,VLOOKUP(I36,Punkteschema!$A$2:$B$101,2,FALSE),\"\")","v":""}]
[null,null,null,"",true,"","","","",{"$f":"IF(B37>0,VLOOKUP(I37,Punkteschema!$A$2:$B$101,2,FALSE),\"\")","v":""}]
[null,null,null,"",true,"","","","",{"$f":"IF(B38>0,VLOOKUP(I38,Punkteschema!$A$2:$B$101,2,FALSE),\"\")","v":""}]
[null,null,null,"",true,"","","","",{"$f":"IF(B39>0,VLOOKUP(I39,Punkteschema!$A$2:$B$101,2,FALSE),\"\")","v":""}]
[null,null,null,"",true,"","","","",{"$f":"IF(B40>0,VLOOKUP(I40,Punkteschema!$A$2:$B$101,2,FALSE),\"\")","v":""}]
[null,null,null,"",true,"","","","",{"$f":"IF(B41>0,VLOOKUP(I41,Punkteschema!$A$2:$B$101,2,FALSE),\"\")","v":""}]
[null,null,null,"",true,"","","","",{"$f":"IF(B42>0,VLOOKUP(I42,Punkteschema!$A$2:$B$101,2,FALSE),\"\")","v":""}]
[null,null,null,"",true,"","","","",{"$f":"IF(B43>0,VLOOKUP(I43,Punkteschema!$A$2:$B$101,2,FALSE),\"\")","v":""}]
[null,null,null,"",true,"","","","",{"$f":"IF(B44>0,VLOOKUP(I44,Punkteschema!$A$2:$B$101,2,FALSE),\"\")","v":""}]
[null,null,null,"",true,"","","","",{"$f":"IF(B45>0,VLOOKUP(I45,Punkteschema!$A$2:$B$101,2,FALSE),\"\")","v":""}]
[null,null,null,"",true,"","","","",{"$f":"IF(B46>0,VLOOKUP(I46,Punkteschema!$A$2:$B$101,2,FALSE),\"\")","v":""}]
[null,null,null,"",true,"","","","",{"$f":"IF(B47>0,VLOOKUP(I47,Punkteschema!$A$2:$B$101,2,FALSE),\"\")","v":""}]
[null,null,null,"",true,"","","","",{"$f":"IF(B48>0,VLOOKUP(I48,Punkteschema!$A$2:$B$101,2,FALSE),\"\")","v":""}]
[null,null,null,"",true,"","","","",{"$f":"IF(B49>0,VLOOKUP(I49,Punkteschema!$A$2:$B$101,2,FALSE),\"\")","v":""}]
[null,null,null,"",true,"","","","",{"$f":"IF(B50>0,VLOOKUP(I50,Punkteschema!$A$2:$B$101,2,FALSE),\"\")","v":""}]
[null,null,null,"",true,"","","","",{"$f":"IF(B51>0,VLOOKUP(I51,Punkteschema!$A$2:$B$101,2,FALSE),\"\")","v":""}]
[null,null,null,"",true,"","","","",{"$f":"IF(B52>0,VLOOKUP(I52,Punkteschema!$A$2:$B$101,2,FALSE),\"\")","v":""}]
[null,null,null,"",true,{"$f":"IF(B53>0,COUNTIF(B$3:B$55,\"<\"&B53)+1,\"\")","v":""},"",{"$f":"IF(AND(B53>0,C53>0),COUNTIF(D$3:D$55,\"<\"&D53)+1,\"\")","v":""},"",{"$f":"IF(B53>0,VLOOKUP(I53,Punkteschema!$A$2:$B$101,2,FALSE),\"\")","v":""}]
[null,null,null,"",true,"","",{"$f":"IF(AND(B54>0,C54>0),COUNTIF(D$3:D$55,\"<\"&D54)+1,\"\")","v":""},"",{"$f":"IF(B54>0,VLOOKUP(I54,Punkteschema!$A$2:$B$101,2,FALSE),\"\")","v":""}]
[null,null,null,"",true,"","",{"$f":"IF(AND(B55>0,C55>0),COUNTIF(D$3:D$55,\"<\"&D55)+1,\"\")","v":""},"",{"$f":"IF(B55>0,VLOOKUP(I55,Punkteschema!$A$2:$B$101,2,FALSE),\"\")","v":""}]
[]
["OS: Buchholz, Ansgar (ASW)",null,null,null,"Runde 1:","E","<- E/B"]
["S: Puschner, Michael (HOB)",null,null,null,"Runde 2:","B","<- E/B"]
["S: Paffrath, Sigi (HEV)"]
[]
["Verloste Preise:"]
["Kunz, Martin","1 Flasche Merlot"]
["Buchholz, Ansgar","1 Minigolfball"]

{"sheet":"Einzelwertung7","index":9,"n_rows":64,"n_cols":10,"rows_kept":64,"cut":false,"hidden":false,"merged":[[0,0,0,9]]}
[{"$f":"CONCATENATE(\"7. Sommer-Cup - Freizeittreff Herbede - \",TEXT(Gesamtstand!$L$2,\"TT.MM.JJ\"))","v":"7. Sommer-Cup - Freizeittreff Herbede - 15.06.22"}]
["Spieler","Runde 1","Runde 2","Gesamt","bessere?","Pl. R1","Pl. R2","Pl. Ges.","gewertet","Punkte"]
["Rabe, Jonas",23,31,{"$f":"IF(B3>0,C3+B3,\"\")","v":54},true,{"$f":"IF(B3>0,COUNTIF(B$3:B$55,\"<\"&B3)+1,\"\")","v":1},{"$f":"IF(C3>0,COUNTIF(C$3:C$55,\"<\"&C3)+1,\"\")","v":1},{"$f":"IF(AND(B3>0,C3>0),COUNTIF(D$3:D$55,\"<\"&D3)+1,\"\")","v":1},{"$f":"IF(B3>0,IF(E3,MIN(F3:H3),SUM(F3:H3)-MAX(F3:H3)-MIN(F3:H3)),\"\")","v":1},{"$f":"IF(B3>0,VLOOKUP(I3,Punkteschema!$A$2:$B$101,2,FALSE),\"\")","v":25}]
["Lenk, Rolf",26,32,58,true,4,3,2,2,{"$f":"IF(B4>0,VLOOKUP(I4,Punkteschema!$A$2:$B$101,2,FALSE),\"\")","v":21}]
["Urban, Dominic",24,35,59,true,2,8,3,2,{"$f":"IF(B5>0,VLOOKUP(I5,Punkteschema!$A$2:$B$101,2,FALSE),\"\")","v":21}]
["Buchholz, Ansgar",27,32,59,false,5,3,3,3,{"$f":"IF(B6>0,VLOOKUP(I6,Punkteschema!$A$2:$B$101,2,FALSE),\"\")","v":18}]
["Brunnenkant, Frank",27,33,60,true,5,5,5,5,{"$f":"IF(B7>0,VLOOKUP(I7,Punkteschema!$A$2:$B$101,2,FALSE),\"\")","v":15}]
["Urban, Volker",28,33,61,true,7,5,6,5,{"$f":"IF(B8>0,VLOOKUP(I8,Punkteschema!$A$2:$B$101,2,FALSE),\"\")","v":15}]
["Kortmann, Sabine",34,33,67,true,10,5,9,5,{"$f":"IF(B9>0,VLOOKUP(I9,Punkteschema!$A$2:$B$101,2,FALSE),\"\")","v":15}]
["Rade, Marcus",25,37,62,false,3,10,7,7,{"$f":"IF(B10>0,VLOOKUP(I10,Punkteschema!$A$2:$B$101,2,FALSE),\"\")","v":10}]
["Puschner, Michael",31,31,62,false,9,1,7,7,{"$f":"IF(B11>0,VLOOKUP(I11,Punkteschema!$A$2:$B$101,2,FALSE),\"\")","v":10}]
["Gattner, Karsten",35,35,70,true,11,8,11,8,{"$f":"IF(B12>0,VLOOKUP(I12,Punkteschema!$A$2:$B$101,2,FALSE),\"\")","v":10}]
["Kunz, Martin",29,39,68,false,8,11,10,10,{"$f":"IF(B13>0,VLOOKUP(I13,Punkteschema!$A$2:$B$101,2,FALSE),\"\")","v":10}]
["Schmidtbauer, Günter",39,48,87,true,12,13,12,12,{"$f":"IF(B14>0,VLOOKUP(I14,Punkteschema!$A$2:$B$101,2,FALSE),\"\")","v":5}]
["Dreischer, Burkhard",46,42,88,true,13,12,13,12,{"$f":"IF(B15>0,VLOOKUP(I15,Punkteschema!$A$2:$B$101,2,FALSE),\"\")","v":5}]
[null,null,null,{"$f":"IF(B16>0,C16+B16,\"\")","v":""},true,{"$f":"IF(B16>0,COUNTIF(B$3:B$55,\"<\"&B16)+1,\"\")","v":""},"",{"$f":"IF(AND(B16>0,C16>0),COUNTIF(D$3:D$55,\"<\"&D16)+1,\"\")","v":""},{"$f":"IF(B16>0,IF(E16,MIN(F16:H16),SUM(F16:H16)-MAX(F16:H16)-MIN(F16:H16)),\"\")","v":""},{"$f":"IF(B16>0,VLOOKUP(I16,Punkteschema!$A$2:$B$101,2,FALSE),\"\")","v":""}]
[null,null,null,"",true,"","","","",{"$f":"IF(B17>0,VLOOKUP(I17,Punkteschema!$A$2:$B$101,2,FALSE),\"\")","v":""}]
[null,null,null,"",true,"","","","",{"$f":"IF(B18>0,VLOOKUP(I18,Punkteschema!$A$2:$B$101,2,FALSE),\"\")","v":""}]
[null,null,null,"",true,{"$f":"IF(B19>0,COUNTIF(B$3:B$55,\"<\"&B19)+1,\"\")","v":""},"","","",{"$f":"IF(B19>0,VLOOKUP(I19,Punkteschema!$A$2:$B$101,2,FALSE),\"\")","v":""}]
[null,null,null,"",true,"","","","",{"$f":"IF(B20>0,VLOOKUP(I20,Punkteschema!$A$2:$B$101,2,FALSE),\"\")","v":""}]
[null,null,null,"",true,"","","","",{"$f":"IF(B21>0,VLOOKUP(I21,Punkteschema!$A$2:$B$101,2,FALSE),\"\")","v":""}]
[null,null,null,"",true,"","","","",{"$f":"IF(B22>0,VLOOKUP(I22,Punkteschema!$A$2:$B$101,2,FALSE),\"\")","v":""}]
[null,null,null,"",true,"","","","",{"$f":"IF(B23>0,VLOOKUP(I23,Punkteschema!$A$2:$B$101,2,FALSE),\"\")","v":""}]
[null,null,null,"",true,"","","","",{"$f":"IF(B24>0,VLOOKUP(I24,Punkteschema!$A$2:$B$101,2,FALSE),\"\")","v":""}]
[null,null,null,"",true,"","","","",{"$f":"IF(B25>0,VLOOKUP(I25,Punkteschema!$A$2:$B$101,2,FALSE),\"\")","v":""}]
[null,null,null,"",true,"","","","",{"$f":"IF(B26>0,VLOOKUP(I26,Punkteschema!$A$2:$B$101,2,FALSE),\"\")","v":""}]
[null,null,null,"",true,"","","","",{"$f":"IF(B27>0,VLOOKUP(I27,Punkteschema!$A$2:$B$101,2,FALSE),\"\")","v":""}]
[null,null,null,"",true,"","","","",{"$f":"IF(B28>0,VLOOKUP(I28,Punkteschema!$A$2:$B$101,2,FALSE),\"\")","v":""}]
[null,null,null,"",true,"","","","",{"$f":"IF(B29>0,VLOOKUP(I29,Punkteschema!$A$2:$B$101,2,FALSE),\"\")","v":""}]
[null,null,null,"",true,"","","","",{"$f":"IF(B30>0,VLOOKUP(I30,Punkteschema!$A$2:$B$101,2,FALSE),\"\")","v":""}]
[null,null,null,"",true,"","","","",{"$f":"IF(B31>0,VLOOKUP(I31,Punkteschema!$A$2:$B$101,2,FALSE),\"\")","v":""}]
[null,null,null,"",true,"","","","",{"$f":"IF(B32>0,VLOOKUP(I32,Punkteschema!$A$2:$B$101,2,FALSE),\"\")","v":""}]
[null,null,null,"",true,"","","","",{"$f":"IF(B33>0,VLOOKUP(I33,Punkteschema!$A$2:$B$101,2,FALSE),\"\")","v":""}]
[null,null,null,"",true,"","","","",{"$f":"IF(B34>0,VLOOKUP(I34,Punkteschema!$A$2:$B$101,2,FALSE),\"\")","v":""}]
[null,null,null,"",true,"","","","",{"$f":"IF(B35>0,VLOOKUP(I35,Punkteschema!$A$2:$B$101,2,FALSE),\"\")","v":""}]
[null,null,null,"",true,"","","","",{"$f":"IF(B36>0,VLOOKUP(I36,Punkteschema!$A$2:$B$101,2,FALSE),\"\")","v":""}]
[null,null,null,"",true,"","","","",{"$f":"IF(B37>0,VLOOKUP(I37,Punkteschema!$A$2:$B$101,2,FALSE),\"\")","v":""}]
[null,null,null,"",true,"","","","",{"$f":"IF(B38>0,VLOOKUP(I38,Punkteschema!$A$2:$B$101,2,FALSE),\"\")","v":""}]
[null,null,null,"",true,"","","","",{"$f":"IF(B39>0,VLOOKUP(I39,Punkteschema!$A$2:$B$101,2,FALSE),\"\")","v":""}]
[null,null,null,"",true,"","","","",{"$f":"IF(B40>0,VLOOKUP(I40,Punkteschema!$A$2:$B$101,2,FALSE),\"\")","v":""}]
[null,null,null,"",true,"","","","",{"$f":"IF(B41>0,VLOOKUP(I41,Punkteschema!$A$2:$B$101,2,FALSE),\"\")","v":""}]
[null,null,null,"",true,"","","","",{"$f":"IF(B42>0,VLOOKUP(I42,Punkteschema!$A$2:$B$101,2,FALSE),\"\")","v":""}]
[null,null,null,"",true,"","","","",{"$f":"IF(B43>0,VLOOKUP(I43,Punkteschema!$A$2:$B$101,2,FALSE),\"\")","v":""}]
[null,null,null,"",true,"","","","",{"$f":"IF(B44>0,VLOOKUP(I44,Punkteschema!$A$2:$B$101,2,FALSE),\"\")","v":""}]
[null,null,null,"",true,"","","","",{"$f":"IF(B45>0,VLOOKUP(I45,Punkteschema!$A$2:$B$101,2,FALSE),\"\")","v":""}]
[null,null,null,"",true,"","","","",{"$f":"IF(B46>0,VLOOKUP(I46,Punkteschema!$A$2:$B$101,2,FALSE),\"\")","v":""}]
[null,null,null,"",true,"","","","",{"$f":"IF(B47>0,VLOOKUP(I47,Punkteschema!$A$2:$B$101,2,FALSE),\"\")","v":""}]
[null,null,null,"",true,"","","","",{"$f":"IF(B48>0,VLOOKUP(I48,Punkteschema!$A$2:$B$101,2,FALSE),\"\")","v":""}]
[null,null,null,"",true,"","","","",{"$f":"IF(B49>0,VLOOKUP(I49,Punkteschema!$A$2:$B$101,2,FALSE),\"\")","v":""}]
[null,null,null,"",true,"","","","",{"$f":"IF(B50>0,VLOOKUP(I50,Punkteschema!$A$2:$B$101,2,FALSE),\"\")","v":""}]
[null,null,null,"",true,"","","","",{"$f":"IF(B51>0,VLOOKUP(I51,Punkteschema!$A$2:$B$101,2,FALSE),\"\")","v":""}]
[null,null,null,"",true,"","","","",{"$f":"IF(B52>0,VLOOKUP(I52,Punkteschema!$A$2:$B$101,2,FALSE),\"\")","v":""}]
[null,null,null,"",true,{"$f":"IF(B53>0,COUNTIF(B$3:B$55,\"<\"&B53)+1,\"\")","v":""},"",{"$f":"IF(AND(B53>0,C53>0),COUNTIF(D$3:D$55,\"<\"&D53)+1,\"\")","v":""},"",{"$f":"IF(B53>0,VLOOKUP(I53,Punkteschema!$A$2:$B$101,2,FALSE),\"\")","v":""}]
[null,null,null,"",true,"","",{"$f":"IF(AND(B54>0,C54>0),COUNTIF(D$3:D$55,\"<\"&D54)+1,\"\")","v":""},"",{"$f":"IF(B54>0,VLOOKUP(I54,Punkteschema!$A$2:$B$101,2,FALSE),\"\")","v":""}]
[null,null,null,"",true,"","",{"$f":"IF(AND(B55>0,C55>0),COUNTIF(D$3:D$55,\"<\"&D55)+1,\"\")","v":""},"",{"$f":"IF(B55>0,VLOOKUP(I55,Punkteschema!$A$2:$B$101,2,FALSE),\"\")","v":""}]
[]
["OS: Urban, Volker (ASW)",null,null,null,"Runde 1:","E","<- E/B"]
["S: Puschner, Michael (HOB)",null,null,null,"Runde 2:","B","<- E/B"]
["S: Buchholz, Ansgar (ASW)"]
[]
["Verloste Preise:"]
["Kortmann, Sabine","1 Minigolfball DJM 2014"]
["Puschner, Michael","2 Peanuts-Tassen"]
["Urban, Volker","1 Sitzkissen"]

{"sheet":"Einzelwertung8","index":10,"n_rows":64,"n_cols":10,"rows_kept":64,"cut":false,"hidden":false,"merged":[[0,0,0,9]]}
[{"$f":"CONCATENATE(\"7. Sommer-Cup - Freizeittreff Herbede - \",TEXT(Gesamtstand!$M$2,\"TT.MM.JJ\"))","v":"7. Sommer-Cup - Freizeittreff Herbede - 23.06.22"}]
["Spieler","Runde 1","Runde 2","Gesamt","bessere?","Pl. R1","Pl. R2","Pl. Ges.","gewertet","Punkte"]
["Buchholz, Ansgar",24,28,{"$f":"IF(B3>0,C3+B3,\"\")","v":52},false,{"$f":"IF(B3>0,COUNTIF(B$3:B$55,\"<\"&B3)+1,\"\")","v":1},{"$f":"IF(C3>0,COUNTIF(C$3:C$55,\"<\"&C3)+1,\"\")","v":1},{"$f":"IF(AND(B3>0,C3>0),COUNTIF(D$3:D$55,\"<\"&D3)+1,\"\")","v":1},{"$f":"IF(B3>0,IF(E3,MIN(F3:H3),SUM(F3:H3)-MAX(F3:H3)-MIN(F3:H3)),\"\")","v":1},{"$f":"IF(B3>0,VLOOKUP(I3,Punkteschema!$A$2:$B$101,2,FALSE),\"\")","v":25}]
["Rade, Marcus",24,31,55,true,1,2,2,1,{"$f":"IF(B4>0,VLOOKUP(I4,Punkteschema!$A$2:$B$101,2,FALSE),\"\")","v":25}]
["Urban, Volker",24,35,59,true,1,4,3,1,{"$f":"IF(B5>0,VLOOKUP(I5,Punkteschema!$A$2:$B$101,2,FALSE),\"\")","v":25}]
["Rabe, Jonas",29,34,63,false,5,3,4,4,{"$f":"IF(B6>0,VLOOKUP(I6,Punkteschema!$A$2:$B$101,2,FALSE),\"\")","v":15}]
["Brunnenkant, Frank",29,35,64,true,5,4,5,4,{"$f":"IF(B7>0,VLOOKUP(I7,Punkteschema!$A$2:$B$101,2,FALSE),\"\")","v":15}]
["Kortmann, Sabine",28,37,65,true,4,7,6,4,{"$f":"IF(B8>0,VLOOKUP(I8,Punkteschema!$A$2:$B$101,2,FALSE),\"\")","v":15}]
["Puschner, Michael",34,35,69,true,12,4,7,4,{"$f":"IF(B9>0,VLOOKUP(I9,Punkteschema!$A$2:$B$101,2,FALSE),\"\")","v":15}]
["Lenk, Rolf",30,39,69,false,7,10,7,7,{"$f":"IF(B10>0,VLOOKUP(I10,Punkteschema!$A$2:$B$101,2,FALSE),\"\")","v":10}]
["Paffrath, Ben",33,38,71,true,8,8,9,8,{"$f":"IF(B11>0,VLOOKUP(I11,Punkteschema!$A$2:$B$101,2,FALSE),\"\")","v":10}]
["Schmidtbauer, Günter",33,38,71,true,8,8,9,8,{"$f":"IF(B12>0,VLOOKUP(I12,Punkteschema!$A$2:$B$101,2,FALSE),\"\")","v":10}]
["Gattner, Karsten",33,42,75,true,8,12,11,8,{"$f":"IF(B13>0,VLOOKUP(I13,Punkteschema!$A$2:$B$101,2,FALSE),\"\")","v":10}]
["Kunz, Martin",33,43,76,true,8,13,12,8,{"$f":"IF(B14>0,VLOOKUP(I14,Punkteschema!$A$2:$B$101,2,FALSE),\"\")","v":10}]
["Urban, Angela",37,39,76,true,13,10,12,10,{"$f":"IF(B15>0,VLOOKUP(I15,Punkteschema!$A$2:$B$101,2,FALSE),\"\")","v":10}]
[null,null,null,{"$f":"IF(B16>0,C16+B16,\"\")","v":""},true,{"$f":"IF(B16>0,COUNTIF(B$3:B$55,\"<\"&B16)+1,\"\")","v":""},"",{"$f":"IF(AND(B16>0,C16>0),COUNTIF(D$3:D$55,\"<\"&D16)+1,\"\")","v":""},{"$f":"IF(B16>0,IF(E16,MIN(F16:H16),SUM(F16:H16)-MAX(F16:H16)-MIN(F16:H16)),\"\")","v":""},{"$f":"IF(B16>0,VLOOKUP(I16,Punkteschema!$A$2:$B$101,2,FALSE),\"\")","v":""}]
[null,null,null,"",true,"","","","",{"$f":"IF(B17>0,VLOOKUP(I17,Punkteschema!$A$2:$B$101,2,FALSE),\"\")","v":""}]
[null,null,null,"",true,"","","","",{"$f":"IF(B18>0,VLOOKUP(I18,Punkteschema!$A$2:$B$101,2,FALSE),\"\")","v":""}]
[null,null,null,"",true,{"$f":"IF(B19>0,COUNTIF(B$3:B$55,\"<\"&B19)+1,\"\")","v":""},"","","",{"$f":"IF(B19>0,VLOOKUP(I19,Punkteschema!$A$2:$B$101,2,FALSE),\"\")","v":""}]
[null,null,null,"",true,"","","","",{"$f":"IF(B20>0,VLOOKUP(I20,Punkteschema!$A$2:$B$101,2,FALSE),\"\")","v":""}]
[null,null,null,"",true,"","","","",{"$f":"IF(B21>0,VLOOKUP(I21,Punkteschema!$A$2:$B$101,2,FALSE),\"\")","v":""}]
[null,null,null,"",true,"","","","",{"$f":"IF(B22>0,VLOOKUP(I22,Punkteschema!$A$2:$B$101,2,FALSE),\"\")","v":""}]
[null,null,null,"",true,"","","","",{"$f":"IF(B23>0,VLOOKUP(I23,Punkteschema!$A$2:$B$101,2,FALSE),\"\")","v":""}]
[null,null,null,"",true,"","","","",{"$f":"IF(B24>0,VLOOKUP(I24,Punkteschema!$A$2:$B$101,2,FALSE),\"\")","v":""}]
[null,null,null,"",true,"","","","",{"$f":"IF(B25>0,VLOOKUP(I25,Punkteschema!$A$2:$B$101,2,FALSE),\"\")","v":""}]
[null,null,null,"",true,"","","","",{"$f":"IF(B26>0,VLOOKUP(I26,Punkteschema!$A$2:$B$101,2,FALSE),\"\")","v":""}]
[null,null,null,"",true,"","","","",{"$f":"IF(B27>0,VLOOKUP(I27,Punkteschema!$A$2:$B$101,2,FALSE),\"\")","v":""}]
[null,null,null,"",true,"","","","",{"$f":"IF(B28>0,VLOOKUP(I28,Punkteschema!$A$2:$B$101,2,FALSE),\"\")","v":""}]
[null,null,null,"",true,"","","","",{"$f":"IF(B29>0,VLOOKUP(I29,Punkteschema!$A$2:$B$101,2,FALSE),\"\")","v":""}]
[null,null,null,"",true,"","","","",{"$f":"IF(B30>0,VLOOKUP(I30,Punkteschema!$A$2:$B$101,2,FALSE),\"\")","v":""}]
[null,null,null,"",true,"","","","",{"$f":"IF(B31>0,VLOOKUP(I31,Punkteschema!$A$2:$B$101,2,FALSE),\"\")","v":""}]
[null,null,null,"",true,"","","","",{"$f":"IF(B32>0,VLOOKUP(I32,Punkteschema!$A$2:$B$101,2,FALSE),\"\")","v":""}]
[null,null,null,"",true,"","","","",{"$f":"IF(B33>0,VLOOKUP(I33,Punkteschema!$A$2:$B$101,2,FALSE),\"\")","v":""}]
[null,null,null,"",true,"","","","",{"$f":"IF(B34>0,VLOOKUP(I34,Punkteschema!$A$2:$B$101,2,FALSE),\"\")","v":""}]
[null,null,null,"",true,"","","","",{"$f":"IF(B35>0,VLOOKUP(I35,Punkteschema!$A$2:$B$101,2,FALSE),\"\")","v":""}]
[null,null,null,"",true,"","","","",{"$f":"IF(B36>0,VLOOKUP(I36,Punkteschema!$A$2:$B$101,2,FALSE),\"\")","v":""}]
[null,null,null,"",true,"","","","",{"$f":"IF(B37>0,VLOOKUP(I37,Punkteschema!$A$2:$B$101,2,FALSE),\"\")","v":""}]
[null,null,null,"",true,"","","","",{"$f":"IF(B38>0,VLOOKUP(I38,Punkteschema!$A$2:$B$101,2,FALSE),\"\")","v":""}]
[null,null,null,"",true,"","","","",{"$f":"IF(B39>0,VLOOKUP(I39,Punkteschema!$A$2:$B$101,2,FALSE),\"\")","v":""}]
[null,null,null,"",true,"","","","",{"$f":"IF(B40>0,VLOOKUP(I40,Punkteschema!$A$2:$B$101,2,FALSE),\"\")","v":""}]
[null,null,null,"",true,"","","","",{"$f":"IF(B41>0,VLOOKUP(I41,Punkteschema!$A$2:$B$101,2,FALSE),\"\")","v":""}]
[null,null,null,"",true,"","","","",{"$f":"IF(B42>0,VLOOKUP(I42,Punkteschema!$A$2:$B$101,2,FALSE),\"\")","v":""}]
[null,null,null,"",true,"","","","",{"$f":"IF(B43>0,VLOOKUP(I43,Punkteschema!$A$2:$B$101,2,FALSE),\"\")","v":""}]
[null,null,null,"",true,"","","","",{"$f":"IF(B44>0,VLOOKUP(I44,Punkteschema!$A$2:$B$101,2,FALSE),\"\")","v":""}]
[null,null,null,"",true,"","","","",{"$f":"IF(B45>0,VLOOKUP(I45,Punkteschema!$A$2:$B$101,2,FALSE),\"\")","v":""}]
[null,null,null,"",true,"","","","",{"$f":"IF(B46>0,VLOOKUP(I46,Punkteschema!$A$2:$B$101,2,FALSE),\"\")","v":""}]
[null,null,null,"",true,"","","","",{"$f":"IF(B47>0,VLOOKUP(I47,Punkteschema!$A$2:$B$101,2,FALSE),\"\")","v":""}]
[null,null,null,"",true,"","","","",{"$f":"IF(B48>0,VLOOKUP(I48,Punkteschema!$A$2:$B$101,2,FALSE),\"\")","v":""}]
[null,null,null,"",true,"","","","",{"$f":"IF(B49>0,VLOOKUP(I49,Punkteschema!$A$2:$B$101,2,FALSE),\"\")","v":""}]
[null,null,null,"",true,"","","","",{"$f":"IF(B50>0,VLOOKUP(I50,Punkteschema!$A$2:$B$101,2,FALSE),\"\")","v":""}]
[null,null,null,"",true,"","","","",{"$f":"IF(B51>0,VLOOKUP(I51,Punkteschema!$A$2:$B$101,2,FALSE),\"\")","v":""}]
[null,null,null,"",true,"","","","",{"$f":"IF(B52>0,VLOOKUP(I52,Punkteschema!$A$2:$B$101,2,FALSE),\"\")","v":""}]
[null,null,null,"",true,{"$f":"IF(B53>0,COUNTIF(B$3:B$55,\"<\"&B53)+1,\"\")","v":""},"",{"$f":"IF(AND(B53>0,C53>0),COUNTIF(D$3:D$55,\"<\"&D53)+1,\"\")","v":""},"",{"$f":"IF(B53>0,VLOOKUP(I53,Punkteschema!$A$2:$B$101,2,FALSE),\"\")","v":""}]
[null,null,null,"",true,"","",{"$f":"IF(AND(B54>0,C54>0),COUNTIF(D$3:D$55,\"<\"&D54)+1,\"\")","v":""},"",{"$f":"IF(B54>0,VLOOKUP(I54,Punkteschema!$A$2:$B$101,2,FALSE),\"\")","v":""}]
[null,null,null,"",true,"","",{"$f":"IF(AND(B55>0,C55>0),COUNTIF(D$3:D$55,\"<\"&D55)+1,\"\")","v":""},"",{"$f":"IF(B55>0,VLOOKUP(I55,Punkteschema!$A$2:$B$101,2,FALSE),\"\")","v":""}]
[]
["OS: Buchholz, Ansgar (ASW)",null,null,null,"Runde 1:","E","<- E/B"]
["S: Puschner, Michael (HOB)",null,null,null,"Runde 2:","B","<- E/B"]
["S: Urban, Volker (ASW)"]
[]
["Verloste Preise:"]
["Kunz, Martin","1 Dose Haribo Color-Rado"]
["Gattner, Karsten","1 Minigolfball 3D 846"]
["Schmidtbauer, Günter","1 Verzehrgutschein"]

{"sheet":"Einzelwertung9","index":11,"n_rows":65,"n_cols":10,"rows_kept":65,"cut":false,"hidden":false,"merged":[[0,0,0,9]]}
[{"$f":"CONCATENATE(\"7. Sommer-Cup - Freizeittreff Herbede - \",TEXT(Gesamtstand!$N$2,\"TT.MM.JJ\"))","v":"7. Sommer-Cup - Freizeittreff Herbede - 30.06.22"}]
["Spieler","Runde 1","Runde 2","Gesamt","bessere?","Pl. R1","Pl. R2","Pl. Ges.","gewertet","Punkte"]
["Rabe, Jonas",21,null,{"$f":"IF(B3>0,C3+B3,\"\")","v":21},true,{"$f":"IF(B3>0,COUNTIF(B$3:B$55,\"<\"&B3)+1,\"\")","v":1},{"$f":"IF(C3>0,COUNTIF(C$3:C$55,\"<\"&C3)+1,\"\")","v":""},{"$f":"IF(AND(B3>0,C3>0),COUNTIF(D$3:D$55,\"<\"&D3)+1,\"\")","v":""},{"$f":"IF(B3>0,IF(E3,MIN(F3:H3),SUM(F3:H3)-MAX(F3:H3)-MIN(F3:H3)),\"\")","v":1},{"$f":"IF(B3>0,VLOOKUP(I3,Punkteschema!$A$2:$B$101,2,FALSE),\"\")","v":25}]
["Rade, Marcus",25,null,25,true,2,"","",2,{"$f":"IF(B4>0,VLOOKUP(I4,Punkteschema!$A$2:$B$101,2,FALSE),\"\")","v":21}]
["Kortmann, Sabine",26,null,26,true,3,"","",3,{"$f":"IF(B5>0,VLOOKUP(I5,Punkteschema!$A$2:$B$101,2,FALSE),\"\")","v":18}]
["Börgmann, Ulrich",28,null,28,true,4,"","",4,{"$f":"IF(B6>0,VLOOKUP(I6,Punkteschema!$A$2:$B$101,2,FALSE),\"\")","v":15}]
["Puschner, Michael",29,null,29,true,5,"","",5,{"$f":"IF(B7>0,VLOOKUP(I7,Punkteschema!$A$2:$B$101,2,FALSE),\"\")","v":15}]
["Paffrath, Ben",31,null,31,true,6,"","",6,{"$f":"IF(B8>0,VLOOKUP(I8,Punkteschema!$A$2:$B$101,2,FALSE),\"\")","v":15}]
["Brunnenkant, Frank",31,null,31,true,6,"","",6,{"$f":"IF(B9>0,VLOOKUP(I9,Punkteschema!$A$2:$B$101,2,FALSE),\"\")","v":15}]
["Gattner, Karsten",36,null,36,true,8,"","",8,{"$f":"IF(B10>0,VLOOKUP(I10,Punkteschema!$A$2:$B$101,2,FALSE),\"\")","v":10}]
["Schmidtbauer, Günter",37,null,37,true,9,"","",9,{"$f":"IF(B11>0,VLOOKUP(I11,Punkteschema!$A$2:$B$101,2,FALSE),\"\")","v":10}]
["Lenk, Rolf",37,null,37,true,9,"","",9,{"$f":"IF(B12>0,VLOOKUP(I12,Punkteschema!$A$2:$B$101,2,FALSE),\"\")","v":10}]
["Börgmann, Brigitte",41,null,41,true,11,"","",11,{"$f":"IF(B13>0,VLOOKUP(I13,Punkteschema!$A$2:$B$101,2,FALSE),\"\")","v":5}]
[null,null,null,{"$f":"IF(B14>0,C14+B14,\"\")","v":""},true,{"$f":"IF(B14>0,COUNTIF(B$3:B$55,\"<\"&B14)+1,\"\")","v":""},"",{"$f":"IF(AND(B14>0,C14>0),COUNTIF(D$3:D$55,\"<\"&D14)+1,\"\")","v":""},{"$f":"IF(B14>0,IF(E14,MIN(F14:H14),SUM(F14:H14)-MAX(F14:H14)-MIN(F14:H14)),\"\")","v":""},{"$f":"IF(B14>0,VLOOKUP(I14,Punkteschema!$A$2:$B$101,2,FALSE),\"\")","v":""}]
[null,null,null,"",true,"","","","",{"$f":"IF(B15>0,VLOOKUP(I15,Punkteschema!$A$2:$B$101,2,FALSE),\"\")","v":""}]
[null,null,null,"",true,"","","","",{"$f":"IF(B16>0,VLOOKUP(I16,Punkteschema!$A$2:$B$101,2,FALSE),\"\")","v":""}]
[null,null,null,"",true,"","","","",{"$f":"IF(B17>0,VLOOKUP(I17,Punkteschema!$A$2:$B$101,2,FALSE),\"\")","v":""}]
[null,null,null,"",true,"","","","",{"$f":"IF(B18>0,VLOOKUP(I18,Punkteschema!$A$2:$B$101,2,FALSE),\"\")","v":""}]
[null,null,null,"",true,{"$f":"IF(B19>0,COUNTIF(B$3:B$55,\"<\"&B19)+1,\"\")","v":""},"","","",{"$f":"IF(B19>0,VLOOKUP(I19,Punkteschema!$A$2:$B$101,2,FALSE),\"\")","v":""}]
[null,null,null,"",true,"","","","",{"$f":"IF(B20>0,VLOOKUP(I20,Punkteschema!$A$2:$B$101,2,FALSE),\"\")","v":""}]
[null,null,null,"",true,"","","","",{"$f":"IF(B21>0,VLOOKUP(I21,Punkteschema!$A$2:$B$101,2,FALSE),\"\")","v":""}]
[null,null,null,"",true,"","","","",{"$f":"IF(B22>0,VLOOKUP(I22,Punkteschema!$A$2:$B$101,2,FALSE),\"\")","v":""}]
[null,null,null,"",true,"","","","",{"$f":"IF(B23>0,VLOOKUP(I23,Punkteschema!$A$2:$B$101,2,FALSE),\"\")","v":""}]
[null,null,null,"",true,"","","","",{"$f":"IF(B24>0,VLOOKUP(I24,Punkteschema!$A$2:$B$101,2,FALSE),\"\")","v":""}]
[null,null,null,"",true,"","","","",{"$f":"IF(B25>0,VLOOKUP(I25,Punkteschema!$A$2:$B$101,2,FALSE),\"\")","v":""}]
[null,null,null,"",true,"","","","",{"$f":"IF(B26>0,VLOOKUP(I26,Punkteschema!$A$2:$B$101,2,FALSE),\"\")","v":""}]
[null,null,null,"",true,"","","","",{"$f":"IF(B27>0,VLOOKUP(I27,Punkteschema!$A$2:$B$101,2,FALSE),\"\")","v":""}]
[null,null,null,"",true,"","","","",{"$f":"IF(B28>0,VLOOKUP(I28,Punkteschema!$A$2:$B$101,2,FALSE),\"\")","v":""}]
[null,null,null,"",true,"","","","",{"$f":"IF(B29>0,VLOOKUP(I29,Punkteschema!$A$2:$B$101,2,FALSE),\"\")","v":""}]
[null,null,null,"",true,"","","","",{"$f":"IF(B30>0,VLOOKUP(I30,Punkteschema!$A$2:$B$101,2,FALSE),\"\")","v":""}]
[null,null,null,"",true,"","","","",{"$f":"IF(B31>0,VLOOKUP(I31,Punkteschema!$A$2:$B$101,2,FALSE),\"\")","v":""}]
[null,null,null,"",true,"","","","",{"$f":"IF(B32>0,VLOOKUP(I32,Punkteschema!$A$2:$B$101,2,FALSE),\"\")","v":""}]
[null,null,null,"",true,"","","","",{"$f":"IF(B33>0,VLOOKUP(I33,Punkteschema!$A$2:$B$101,2,FALSE),\"\")","v":""}]
[null,null,null,"",true,"","","","",{"$f":"IF(B34>0,VLOOKUP(I34,Punkteschema!$A$2:$B$101,2,FALSE),\"\")","v":""}]
[null,null,null,"",true,"","","","",{"$f":"IF(B35>0,VLOOKUP(I35,Punkteschema!$A$2:$B$101,2,FALSE),\"\")","v":""}]
[null,null,null,"",true,"","","","",{"$f":"IF(B36>0,VLOOKUP(I36,Punkteschema!$A$2:$B$101,2,FALSE),\"\")","v":""}]
[null,null,null,"",true,"","","","",{"$f":"IF(B37>0,VLOOKUP(I37,Punkteschema!$A$2:$B$101,2,FALSE),\"\")","v":""}]
[null,null,null,"",true,"","","","",{"$f":"IF(B38>0,VLOOKUP(I38,Punkteschema!$A$2:$B$101,2,FALSE),\"\")","v":""}]
[null,null,null,"",true,"","","","",{"$f":"IF(B39>0,VLOOKUP(I39,Punkteschema!$A$2:$B$101,2,FALSE),\"\")","v":""}]
[null,null,null,"",true,"","","","",{"$f":"IF(B40>0,VLOOKUP(I40,Punkteschema!$A$2:$B$101,2,FALSE),\"\")","v":""}]
[null,null,null,"",true,"","","","",{"$f":"IF(B41>0,VLOOKUP(I41,Punkteschema!$A$2:$B$101,2,FALSE),\"\")","v":""}]
[null,null,null,"",true,"","","","",{"$f":"IF(B42>0,VLOOKUP(I42,Punkteschema!$A$2:$B$101,2,FALSE),\"\")","v":""}]
[null,null,null,"",true,"","","","",{"$f":"IF(B43>0,VLOOKUP(I43,Punkteschema!$A$2:$B$101,2,FALSE),\"\")","v":""}]
[null,null,null,"",true,"","","","",{"$f":"IF(B44>0,VLOOKUP(I44,Punkteschema!$A$2:$B$101,2,FALSE),\"\")","v":""}]
[null,null,null,"",true,"","","","",{"$f":"IF(B45>0,VLOOKUP(I45,Punkteschema!$A$2:$B$101,2,FALSE),\"\")","v":""}]
[null,null,null,"",true,"","","","",{"$f":"IF(B46>0,VLOOKUP(I46,Punkteschema!$A$2:$B$101,2,FALSE),\"\")","v":""}]
[null,null,null,"",true,"","","","",{"$f":"IF(B47>0,VLOOKUP(I47,Punkteschema!$A$2:$B$101,2,FALSE),\"\")","v":""}]
[null,null,null,"",true,"","","","",{"$f":"IF(B48>0,VLOOKUP(I48,Punkteschema!$A$2:$B$101,2,FALSE),\"\")","v":""}]
[null,null,null,"",true,"","","","",{"$f":"IF(B49>0,VLOOKUP(I49,Punkteschema!$A$2:$B$101,2,FALSE),\"\")","v":""}]
[null,null,null,"",true,"","","","",{"$f":"IF(B50>0,VLOOKUP(I50,Punkteschema!$A$2:$B$101,2,FALSE),\"\")","v":""}]
[null,null,null,"",true,"","","","",{"$f":"IF(B51>0,VLOOKUP(I51,Punkteschema!$A$2:$B$101,2,FALSE),\"\")","v":""}]
[null,null,null,"",true,"","","","",{"$f":"IF(B52>0,VLOOKUP(I52,Punkteschema!$A$2:$B$101,2,FALSE),\"\")","v":""}]
[null,null,null,"",true,{"$f":"IF(B53>0,COUNTIF(B$3:B$55,\"<\"&B53)+1,\"\")","v":""},"",{"$f":"IF(AND(B53>0,C53>0),COUNTIF(D$3:D$55,\"<\"&D53)+1,\"\")","v":""},"",{"$f":"IF(B53>0,VLOOKUP(I53,Punkteschema!$A$2:$B$101,2,FALSE),\"\")","v":""}]
[null,null,null,"",true,"","",{"$f":"IF(AND(B54>0,C54>0),COUNTIF(D$3:D$55,\"<\"&D54)+1,\"\")","v":""},"",{"$f":"IF(B54>0,VLOOKUP(I54,Punkteschema!$A$2:$B$101,2,FALSE),\"\")","v":""}]
[null,null,null,"",true,"","",{"$f":"IF(AND(B55>0,C55>0),COUNTIF(D$3:D$55,\"<\"&D55)+1,\"\")","v":""},"",{"$f":"IF(B55>0,VLOOKUP(I55,Punkteschema!$A$2:$B$101,2,FALSE),\"\")","v":""}]
[]
["OS: Rade, Marcus (OSN)",null,null,null,"Runde 1:","E","<- E/B"]
["S: Paffrath, Ben (Hev)",null,null,null,"Runde 2:","B","<- E/B"]
["S: Puschner, Michael (HOB)"]
[]
["Verloste Preise:"]
["Rabe, Jonas","1 Minigolfball"]
["Kortmann, Sabine","1 Dose Haribo Fresh&Fruity"]
[]
["Wegen eines heranziehenden Gewitters wurde die Betonrunde unterbrochen und später abgebrochen."]

{"sheet":"Einzelwertung10","index":12,"n_rows":63,"n_cols":10,"rows_kept":63,"cut":false,"hidden":false,"merged":[[0,0,0,9]]}
[{"$f":"CONCATENATE(\"7. Sommer-Cup - Freizeittreff Herbede - \",TEXT(Gesamtstand!$O$2,\"TT.MM.JJ\"))","v":"7. Sommer-Cup - Freizeittreff Herbede - 07.07.22"}]
["Spieler","Runde 1","Runde 2","Gesamt","bessere?","Pl. R1","Pl. R2","Pl. Ges.","gewertet","Punkte"]
["Buchholz, Ansgar",22,31,{"$f":"IF(B3>0,C3+B3,\"\")","v":53},false,{"$f":"IF(B3>0,COUNTIF(B$3:B$55,\"<\"&B3)+1,\"\")","v":1},{"$f":"IF(C3>0,COUNTIF(C$3:C$55,\"<\"&C3)+1,\"\")","v":1},{"$f":"IF(AND(B3>0,C3>0),COUNTIF(D$3:D$55,\"<\"&D3)+1,\"\")","v":1},{"$f":"IF(B3>0,IF(E3,MIN(F3:H3),SUM(F3:H3)-MAX(F3:H3)-MIN(F3:H3)),\"\")","v":1},{"$f":"IF(B3>0,VLOOKUP(I3,Punkteschema!$A$2:$B$101,2,FALSE),\"\")","v":25}]
["Börgmann, Ulrich",32,31,63,true,7,1,5,1,{"$f":"IF(B4>0,VLOOKUP(I4,Punkteschema!$A$2:$B$101,2,FALSE),\"\")","v":25}]
["Rade, Marcus",25,33,58,false,2,4,2,2,{"$f":"IF(B5>0,VLOOKUP(I5,Punkteschema!$A$2:$B$101,2,FALSE),\"\")","v":21}]
["Lenk, Rolf",30,31,61,false,5,1,3,3,{"$f":"IF(B6>0,VLOOKUP(I6,Punkteschema!$A$2:$B$101,2,FALSE),\"\")","v":18}]
["Kunz, Martin",28,35,63,true,3,8,5,3,{"$f":"IF(B7>0,VLOOKUP(I7,Punkteschema!$A$2:$B$101,2,FALSE),\"\")","v":18}]
["Puschner, Michael",28,34,62,false,3,5,4,4,{"$f":"IF(B8>0,VLOOKUP(I8,Punkteschema!$A$2:$B$101,2,FALSE),\"\")","v":15}]
["Kortmann, Sabine",31,34,65,true,6,5,7,5,{"$f":"IF(B9>0,VLOOKUP(I9,Punkteschema!$A$2:$B$101,2,FALSE),\"\")","v":15}]
["Paffrath, Ben",33,34,67,true,8,5,8,5,{"$f":"IF(B10>0,VLOOKUP(I10,Punkteschema!$A$2:$B$101,2,FALSE),\"\")","v":15}]
["Schmidtbauer, Günter",35,39,74,true,9,9,9,9,{"$f":"IF(B11>0,VLOOKUP(I11,Punkteschema!$A$2:$B$101,2,FALSE),\"\")","v":10}]
["Börgmann, Brigitte",35,42,77,true,9,11,10,9,{"$f":"IF(B12>0,VLOOKUP(I12,Punkteschema!$A$2:$B$101,2,FALSE),\"\")","v":10}]
["Gattner, Karsten",38,41,79,true,11,10,11,10,{"$f":"IF(B13>0,VLOOKUP(I13,Punkteschema!$A$2:$B$101,2,FALSE),\"\")","v":10}]
[null,null,null,{"$f":"IF(B14>0,C14+B14,\"\")","v":""},true,{"$f":"IF(B14>0,COUNTIF(B$3:B$55,\"<\"&B14)+1,\"\")","v":""},"",{"$f":"IF(AND(B14>0,C14>0),COUNTIF(D$3:D$55,\"<\"&D14)+1,\"\")","v":""},{"$f":"IF(B14>0,IF(E14,MIN(F14:H14),SUM(F14:H14)-MAX(F14:H14)-MIN(F14:H14)),\"\")","v":""},{"$f":"IF(B14>0,VLOOKUP(I14,Punkteschema!$A$2:$B$101,2,FALSE),\"\")","v":""}]
[null,null,null,"",true,"","","","",{"$f":"IF(B15>0,VLOOKUP(I15,Punkteschema!$A$2:$B$101,2,FALSE),\"\")","v":""}]
[null,null,null,"",true,"","","","",{"$f":"IF(B16>0,VLOOKUP(I16,Punkteschema!$A$2:$B$101,2,FALSE),\"\")","v":""}]
[null,null,null,"",true,"","","","",{"$f":"IF(B17>0,VLOOKUP(I17,Punkteschema!$A$2:$B$101,2,FALSE),\"\")","v":""}]
[null,null,null,"",true,"","","","",{"$f":"IF(B18>0,VLOOKUP(I18,Punkteschema!$A$2:$B$101,2,FALSE),\"\")","v":""}]
[null,null,null,"",true,{"$f":"IF(B19>0,COUNTIF(B$3:B$55,\"<\"&B19)+1,\"\")","v":""},"","","",{"$f":"IF(B19>0,VLOOKUP(I19,Punkteschema!$A$2:$B$101,2,FALSE),\"\")","v":""}]
[null,null,null,"",true,"","","","",{"$f":"IF(B20>0,VLOOKUP(I20,Punkteschema!$A$2:$B$101,2,FALSE),\"\")","v":""}]
[null,null,null,"",true,"","","","",{"$f":"IF(B21>0,VLOOKUP(I21,Punkteschema!$A$2:$B$101,2,FALSE),\"\")","v":""}]
[null,null,null,"",true,"","","","",{"$f":"IF(B22>0,VLOOKUP(I22,Punkteschema!$A$2:$B$101,2,FALSE),\"\")","v":""}]
[null,null,null,"",true,"","","","",{"$f":"IF(B23>0,VLOOKUP(I23,Punkteschema!$A$2:$B$101,2,FALSE),\"\")","v":""}]
[null,null,null,"",true,"","","","",{"$f":"IF(B24>0,VLOOKUP(I24,Punkteschema!$A$2:$B$101,2,FALSE),\"\")","v":""}]
[null,null,null,"",true,"","","","",{"$f":"IF(B25>0,VLOOKUP(I25,Punkteschema!$A$2:$B$101,2,FALSE),\"\")","v":""}]
[null,null,null,"",true,"","","","",{"$f":"IF(B26>0,VLOOKUP(I26,Punkteschema!$A$2:$B$101,2,FALSE),\"\")","v":""}]
[null,null,null,"",true,"","","","",{"$f":"IF(B27>0,VLOOKUP(I27,Punkteschema!$A$2:$B$101,2,FALSE),\"\")","v":""}]
[null,null,null,"",true,"","","","",{"$f":"IF(B28>0,VLOOKUP(I28,Punkteschema!$A$2:$B$101,2,FALSE),\"\")","v":""}]
[null,null,null,"",true,"","","","",{"$f":"IF(B29>0,VLOOKUP(I29,Punkteschema!$A$2:$B$101,2,FALSE),\"\")","v":""}]
[null,null,null,"",true,"","","","",{"$f":"IF(B30>0,VLOOKUP(I30,Punkteschema!$A$2:$B$101,2,FALSE),\"\")","v":""}]
[null,null,null,"",true,"","","","",{"$f":"IF(B31>0,VLOOKUP(I31,Punkteschema!$A$2:$B$101,2,FALSE),\"\")","v":""}]
[null,null,null,"",true,"","","","",{"$f":"IF(B32>0,VLOOKUP(I32,Punkteschema!$A$2:$B$101,2,FALSE),\"\")","v":""}]
[null,null,null,"",true,"","","","",{"$f":"IF(B33>0,VLOOKUP(I33,Punkteschema!$A$2:$B$101,2,FALSE),\"\")","v":""}]
[null,null,null,"",true,"","","","",{"$f":"IF(B34>0,VLOOKUP(I34,Punkteschema!$A$2:$B$101,2,FALSE),\"\")","v":""}]
[null,null,null,"",true,"","","","",{"$f":"IF(B35>0,VLOOKUP(I35,Punkteschema!$A$2:$B$101,2,FALSE),\"\")","v":""}]
[null,null,null,"",true,"","","","",{"$f":"IF(B36>0,VLOOKUP(I36,Punkteschema!$A$2:$B$101,2,FALSE),\"\")","v":""}]
[null,null,null,"",true,"","","","",{"$f":"IF(B37>0,VLOOKUP(I37,Punkteschema!$A$2:$B$101,2,FALSE),\"\")","v":""}]
[null,null,null,"",true,"","","","",{"$f":"IF(B38>0,VLOOKUP(I38,Punkteschema!$A$2:$B$101,2,FALSE),\"\")","v":""}]
[null,null,null,"",true,"","","","",{"$f":"IF(B39>0,VLOOKUP(I39,Punkteschema!$A$2:$B$101,2,FALSE),\"\")","v":""}]
[null,null,null,"",true,"","","","",{"$f":"IF(B40>0,VLOOKUP(I40,Punkteschema!$A$2:$B$101,2,FALSE),\"\")","v":""}]
[null,null,null,"",true,"","","","",{"$f":"IF(B41>0,VLOOKUP(I41,Punkteschema!$A$2:$B$101,2,FALSE),\"\")","v":""}]
[null,null,null,"",true,"","","","",{"$f":"IF(B42>0,VLOOKUP(I42,Punkteschema!$A$2:$B$101,2,FALSE),\"\")","v":""}]
[null,null,null,"",true,"","","","",{"$f":"IF(B43>0,VLOOKUP(I43,Punkteschema!$A$2:$B$101,2,FALSE),\"\")","v":""}]
[null,null,null,"",true,"","","","",{"$f":"IF(B44>0,VLOOKUP(I44,Punkteschema!$A$2:$B$101,2,FALSE),\"\")","v":""}]
[null,null,null,"",true,"","","","",{"$f":"IF(B45>0,VLOOKUP(I45,Punkteschema!$A$2:$B$101,2,FALSE),\"\")","v":""}]
[null,null,null,"",true,"","","","",{"$f":"IF(B46>0,VLOOKUP(I46,Punkteschema!$A$2:$B$101,2,FALSE),\"\")","v":""}]
[null,null,null,"",true,"","","","",{"$f":"IF(B47>0,VLOOKUP(I47,Punkteschema!$A$2:$B$101,2,FALSE),\"\")","v":""}]
[null,null,null,"",true,"","","","",{"$f":"IF(B48>0,VLOOKUP(I48,Punkteschema!$A$2:$B$101,2,FALSE),\"\")","v":""}]
[null,null,null,"",true,"","","","",{"$f":"IF(B49>0,VLOOKUP(I49,Punkteschema!$A$2:$B$101,2,FALSE),\"\")","v":""}]
[null,null,null,"",true,"","","","",{"$f":"IF(B50>0,VLOOKUP(I50,Punkteschema!$A$2:$B$101,2,FALSE),\"\")","v":""}]
[null,null,null,"",true,"","","","",{"$f":"IF(B51>0,VLOOKUP(I51,Punkteschema!$A$2:$B$101,2,FALSE),\"\")","v":""}]
[null,null,null,"",true,"","","","",{"$f":"IF(B52>0,VLOOKUP(I52,Punkteschema!$A$2:$B$101,2,FALSE),\"\")","v":""}]
[null,null,null,"",true,{"$f":"IF(B53>0,COUNTIF(B$3:B$55,\"<\"&B53)+1,\"\")","v":""},"",{"$f":"IF(AND(B53>0,C53>0),COUNTIF(D$3:D$55,\"<\"&D53)+1,\"\")","v":""},"",{"$f":"IF(B53>0,VLOOKUP(I53,Punkteschema!$A$2:$B$101,2,FALSE),\"\")","v":""}]
[null,null,null,"",true,"","",{"$f":"IF(AND(B54>0,C54>0),COUNTIF(D$3:D$55,\"<\"&D54)+1,\"\")","v":""},"",{"$f":"IF(B54>0,VLOOKUP(I54,Punkteschema!$A$2:$B$101,2,FALSE),\"\")","v":""}]
[null,null,null,"",true,"","",{"$f":"IF(AND(B55>0,C55>0),COUNTIF(D$3:D$55,\"<\"&D55)+1,\"\")","v":""},"",{"$f":"IF(B55>0,VLOOKUP(I55,Punkteschema!$A$2:$B$101,2,FALSE),\"\")","v":""}]
[]
["OS: Buchholz, Ansgar (ASW)",null,null,null,"Runde 1:","E","<- E/B"]
["S: Paffrath, Ben (Hev)",null,null,null,"Runde 2:","B","<- E/B"]
["S: Puschner, Michael (HOB)"]
[]
["Verloste Preise:"]
["Börgmann, Brigitte","1 Minigolfball Maier spec"]
["Börgmann, Ulrich","1 Brita Wasserkocher"]

{"sheet":"Einzelwertung11","index":13,"n_rows":64,"n_cols":10,"rows_kept":64,"cut":false,"hidden":false,"merged":[[0,0,0,9]]}
[{"$f":"CONCATENATE(\"7. Sommer-Cup - Freizeittreff Herbede - \",TEXT(Gesamtstand!$P$2,\"TT.MM.JJ\"))","v":"7. Sommer-Cup - Freizeittreff Herbede - 14.07.22"}]
["Spieler","Runde 1","Runde 2","Gesamt","bessere?","Pl. R1","Pl. R2","Pl. Ges.","gewertet","Punkte"]
["Buchholz, Ansgar",24,27,{"$f":"IF(B3>0,C3+B3,\"\")","v":51},false,{"$f":"IF(B3>0,COUNTIF(B$3:B$55,\"<\"&B3)+1,\"\")","v":1},{"$f":"IF(C3>0,COUNTIF(C$3:C$55,\"<\"&C3)+1,\"\")","v":1},{"$f":"IF(AND(B3>0,C3>0),COUNTIF(D$3:D$55,\"<\"&D3)+1,\"\")","v":1},{"$f":"IF(B3>0,IF(E3,MIN(F3:H3),SUM(F3:H3)-MAX(F3:H3)-MIN(F3:H3)),\"\")","v":1},{"$f":"IF(B3>0,VLOOKUP(I3,Punkteschema!$A$2:$B$101,2,FALSE),\"\")","v":25}]
["Lenk, Rolf",24,30,54,false,1,2,2,2,{"$f":"IF(B4>0,VLOOKUP(I4,Punkteschema!$A$2:$B$101,2,FALSE),\"\")","v":21}]
["Kortmann, Sabine",30,30,60,true,7,2,4,2,{"$f":"IF(B5>0,VLOOKUP(I5,Punkteschema!$A$2:$B$101,2,FALSE),\"\")","v":21}]
["Rade, Marcus",26,30,56,false,4,2,3,3,{"$f":"IF(B6>0,VLOOKUP(I6,Punkteschema!$A$2:$B$101,2,FALSE),\"\")","v":18}]
["Urban, Volker",25,35,60,true,3,7,4,3,{"$f":"IF(B7>0,VLOOKUP(I7,Punkteschema!$A$2:$B$101,2,FALSE),\"\")","v":18}]
["Kunz, Martin",28,32,60,true,6,5,4,4,{"$f":"IF(B8>0,VLOOKUP(I8,Punkteschema!$A$2:$B$101,2,FALSE),\"\")","v":15}]
["Puschner, Michael",30,32,62,true,7,5,7,5,{"$f":"IF(B9>0,VLOOKUP(I9,Punkteschema!$A$2:$B$101,2,FALSE),\"\")","v":15}]
["Börgmann, Ulrich",27,39,66,true,5,10,8,5,{"$f":"IF(B10>0,VLOOKUP(I10,Punkteschema!$A$2:$B$101,2,FALSE),\"\")","v":15}]
["Dreischer, Burkhard",35,37,72,true,10,8,9,8,{"$f":"IF(B11>0,VLOOKUP(I11,Punkteschema!$A$2:$B$101,2,FALSE),\"\")","v":10}]
["Schmidtbauer, Günter",43,37,80,true,13,8,11,8,{"$f":"IF(B12>0,VLOOKUP(I12,Punkteschema!$A$2:$B$101,2,FALSE),\"\")","v":10}]
["Urban, Angela",32,41,73,true,9,13,10,9,{"$f":"IF(B13>0,VLOOKUP(I13,Punkteschema!$A$2:$B$101,2,FALSE),\"\")","v":10}]
["Kersch, Uwe",35,50,85,true,10,14,13,10,{"$f":"IF(B14>0,VLOOKUP(I14,Punkteschema!$A$2:$B$101,2,FALSE),\"\")","v":10}]
["Tabor, Peter",42,40,82,true,12,11,12,11,{"$f":"IF(B15>0,VLOOKUP(I15,Punkteschema!$A$2:$B$101,2,FALSE),\"\")","v":5}]
["Börgmann, Brigitte",46,40,86,true,14,11,14,11,{"$f":"IF(B16>0,VLOOKUP(I16,Punkteschema!$A$2:$B$101,2,FALSE),\"\")","v":5}]
[null,null,null,{"$f":"IF(B17>0,C17+B17,\"\")","v":""},true,{"$f":"IF(B17>0,COUNTIF(B$3:B$55,\"<\"&B17)+1,\"\")","v":""},"",{"$f":"IF(AND(B17>0,C17>0),COUNTIF(D$3:D$55,\"<\"&D17)+1,\"\")","v":""},{"$f":"IF(B17>0,IF(E17,MIN(F17:H17),SUM(F17:H17)-MAX(F17:H17)-MIN(F17:H17)),\"\")","v":""},{"$f":"IF(B17>0,VLOOKUP(I17,Punkteschema!$A$2:$B$101,2,FALSE),\"\")","v":""}]
[null,null,null,"",true,"","","","",{"$f":"IF(B18>0,VLOOKUP(I18,Punkteschema!$A$2:$B$101,2,FALSE),\"\")","v":""}]
[null,null,null,"",true,{"$f":"IF(B19>0,COUNTIF(B$3:B$55,\"<\"&B19)+1,\"\")","v":""},"","","",{"$f":"IF(B19>0,VLOOKUP(I19,Punkteschema!$A$2:$B$101,2,FALSE),\"\")","v":""}]
[null,null,null,"",true,"","","","",{"$f":"IF(B20>0,VLOOKUP(I20,Punkteschema!$A$2:$B$101,2,FALSE),\"\")","v":""}]
[null,null,null,"",true,"","","","",{"$f":"IF(B21>0,VLOOKUP(I21,Punkteschema!$A$2:$B$101,2,FALSE),\"\")","v":""}]
[null,null,null,"",true,"","","","",{"$f":"IF(B22>0,VLOOKUP(I22,Punkteschema!$A$2:$B$101,2,FALSE),\"\")","v":""}]
[null,null,null,"",true,"","","","",{"$f":"IF(B23>0,VLOOKUP(I23,Punkteschema!$A$2:$B$101,2,FALSE),\"\")","v":""}]
[null,null,null,"",true,"","","","",{"$f":"IF(B24>0,VLOOKUP(I24,Punkteschema!$A$2:$B$101,2,FALSE),\"\")","v":""}]
[null,null,null,"",true,"","","","",{"$f":"IF(B25>0,VLOOKUP(I25,Punkteschema!$A$2:$B$101,2,FALSE),\"\")","v":""}]
[null,null,null,"",true,"","","","",{"$f":"IF(B26>0,VLOOKUP(I26,Punkteschema!$A$2:$B$101,2,FALSE),\"\")","v":""}]
[null,null,null,"",true,"","","","",{"$f":"IF(B27>0,VLOOKUP(I27,Punkteschema!$A$2:$B$101,2,FALSE),\"\")","v":""}]
[null,null,null,"",true,"","","","",{"$f":"IF(B28>0,VLOOKUP(I28,Punkteschema!$A$2:$B$101,2,FALSE),\"\")","v":""}]
[null,null,null,"",true,"","","","",{"$f":"IF(B29>0,VLOOKUP(I29,Punkteschema!$A$2:$B$101,2,FALSE),\"\")","v":""}]
[null,null,null,"",true,"","","","",{"$f":"IF(B30>0,VLOOKUP(I30,Punkteschema!$A$2:$B$101,2,FALSE),\"\")","v":""}]
[null,null,null,"",true,"","","","",{"$f":"IF(B31>0,VLOOKUP(I31,Punkteschema!$A$2:$B$101,2,FALSE),\"\")","v":""}]
[null,null,null,"",true,"","","","",{"$f":"IF(B32>0,VLOOKUP(I32,Punkteschema!$A$2:$B$101,2,FALSE),\"\")","v":""}]
[null,null,null,"",true,"","","","",{"$f":"IF(B33>0,VLOOKUP(I33,Punkteschema!$A$2:$B$101,2,FALSE),\"\")","v":""}]
[null,null,null,"",true,"","","","",{"$f":"IF(B34>0,VLOOKUP(I34,Punkteschema!$A$2:$B$101,2,FALSE),\"\")","v":""}]
[null,null,null,"",true,"","","","",{"$f":"IF(B35>0,VLOOKUP(I35,Punkteschema!$A$2:$B$101,2,FALSE),\"\")","v":""}]
[null,null,null,"",true,"","","","",{"$f":"IF(B36>0,VLOOKUP(I36,Punkteschema!$A$2:$B$101,2,FALSE),\"\")","v":""}]
[null,null,null,"",true,"","","","",{"$f":"IF(B37>0,VLOOKUP(I37,Punkteschema!$A$2:$B$101,2,FALSE),\"\")","v":""}]
[null,null,null,"",true,"","","","",{"$f":"IF(B38>0,VLOOKUP(I38,Punkteschema!$A$2:$B$101,2,FALSE),\"\")","v":""}]
[null,null,null,"",true,"","","","",{"$f":"IF(B39>0,VLOOKUP(I39,Punkteschema!$A$2:$B$101,2,FALSE),\"\")","v":""}]
[null,null,null,"",true,"","","","",{"$f":"IF(B40>0,VLOOKUP(I40,Punkteschema!$A$2:$B$101,2,FALSE),\"\")","v":""}]
[null,null,null,"",true,"","","","",{"$f":"IF(B41>0,VLOOKUP(I41,Punkteschema!$A$2:$B$101,2,FALSE),\"\")","v":""}]
[null,null,null,"",true,"","","","",{"$f":"IF(B42>0,VLOOKUP(I42,Punkteschema!$A$2:$B$101,2,FALSE),\"\")","v":""}]
[null,null,null,"",true,"","","","",{"$f":"IF(B43>0,VLOOKUP(I43,Punkteschema!$A$2:$B$101,2,FALSE),\"\")","v":""}]
[null,null,null,"",true,"","","","",{"$f":"IF(B44>0,VLOOKUP(I44,Punkteschema!$A$2:$B$101,2,FALSE),\"\")","v":""}]
[null,null,null,"",true,"","","","",{"$f":"IF(B45>0,VLOOKUP(I45,Punkteschema!$A$2:$B$101,2,FALSE),\"\")","v":""}]
[null,null,null,"",true,"","","","",{"$f":"IF(B46>0,VLOOKUP(I46,Punkteschema!$A$2:$B$101,2,FALSE),\"\")","v":""}]
[null,null,null,"",true,"","","","",{"$f":"IF(B47>0,VLOOKUP(I47,Punkteschema!$A$2:$B$101,2,FALSE),\"\")","v":""}]
[null,null,null,"",true,"","","","",{"$f":"IF(B48>0,VLOOKUP(I48,Punkteschema!$A$2:$B$101,2,FALSE),\"\")","v":""}]
[null,null,null,"",true,"","","","",{"$f":"IF(B49>0,VLOOKUP(I49,Punkteschema!$A$2:$B$101,2,FALSE),\"\")","v":""}]
[null,null,null,"",true,"","","","",{"$f":"IF(B50>0,VLOOKUP(I50,Punkteschema!$A$2:$B$101,2,FALSE),\"\")","v":""}]
[null,null,null,"",true,"","","","",{"$f":"IF(B51>0,VLOOKUP(I51,Punkteschema!$A$2:$B$101,2,FALSE),\"\")","v":""}]
[null,null,null,"",true,"","","","",{"$f":"IF(B52>0,VLOOKUP(I52,Punkteschema!$A$2:$B$101,2,FALSE),\"\")","v":""}]
[null,null,null,"",true,{"$f":"IF(B53>0,COUNTIF(B$3:B$55,\"<\"&B53)+1,\"\")","v":""},"",{"$f":"IF(AND(B53>0,C53>0),COUNTIF(D$3:D$55,\"<\"&D53)+1,\"\")","v":""},"",{"$f":"IF(B53>0,VLOOKUP(I53,Punkteschema!$A$2:$B$101,2,FALSE),\"\")","v":""}]
[null,null,null,"",true,"","",{"$f":"IF(AND(B54>0,C54>0),COUNTIF(D$3:D$55,\"<\"&D54)+1,\"\")","v":""},"",{"$f":"IF(B54>0,VLOOKUP(I54,Punkteschema!$A$2:$B$101,2,FALSE),\"\")","v":""}]
[null,null,null,"",true,"","",{"$f":"IF(AND(B55>0,C55>0),COUNTIF(D$3:D$55,\"<\"&D55)+1,\"\")","v":""},"",{"$f":"IF(B55>0,VLOOKUP(I55,Punkteschema!$A$2:$B$101,2,FALSE),\"\")","v":""}]
[]
["OS: Urban, Volker (ASW)",null,null,null,"Runde 1:","E","<- E/B"]
["S: Puschner, Michael (HOB)",null,null,null,"Runde 2:","B","<- E/B"]
["S: Buchholz, Ansgar (ASW)"]
[]
["Verloste Preise:"]
["Dreischer, Burkhard","1 Minigolfball"]
["Kunz, Martin","1 Flasche Rotwein"]
["Puschner, Michael","1 Cutterset"]

{"sheet":"Einzelwertung12","index":14,"n_rows":65,"n_cols":10,"rows_kept":65,"cut":false,"hidden":false,"merged":[[0,0,0,9]]}
[{"$f":"CONCATENATE(\"7. Sommer-Cup - Freizeittreff Herbede - \",TEXT(Gesamtstand!$Q$2,\"TT.MM.JJ\"))","v":"7. Sommer-Cup - Freizeittreff Herbede - 21.07.22"}]
["Spieler","Runde 1","Runde 2","Gesamt","bessere?","Pl. R1","Pl. R2","Pl. Ges.","gewertet","Punkte"]
["Rabe, Jonas",27,null,{"$f":"IF(B3>0,C3+B3,\"\")","v":27},true,{"$f":"IF(B3>0,COUNTIF(B$3:B$55,\"<\"&B3)+1,\"\")","v":1},"",{"$f":"IF(AND(B3>0,C3>0),COUNTIF(D$3:D$55,\"<\"&D3)+1,\"\")","v":""},{"$f":"IF(B3>0,IF(E3,MIN(F3:H3),SUM(F3:H3)-MAX(F3:H3)-MIN(F3:H3)),\"\")","v":1},{"$f":"IF(B3>0,VLOOKUP(I3,Punkteschema!$A$2:$B$101,2,FALSE),\"\")","v":25}]
["Lenk, Rolf",32,null,32,true,2,"","",2,{"$f":"IF(B4>0,VLOOKUP(I4,Punkteschema!$A$2:$B$101,2,FALSE),\"\")","v":21}]
["Kortmann, Sabine",32,null,32,true,2,"","",2,{"$f":"IF(B5>0,VLOOKUP(I5,Punkteschema!$A$2:$B$101,2,FALSE),\"\")","v":21}]
["Puschner, Michael",34,null,34,true,4,"","",4,{"$f":"IF(B6>0,VLOOKUP(I6,Punkteschema!$A$2:$B$101,2,FALSE),\"\")","v":15}]
["Dreischer, Burkhard",38,null,38,true,5,"","",5,{"$f":"IF(B7>0,VLOOKUP(I7,Punkteschema!$A$2:$B$101,2,FALSE),\"\")","v":15}]
["Kersch, Uwe",43,null,43,true,6,"","",6,{"$f":"IF(B8>0,VLOOKUP(I8,Punkteschema!$A$2:$B$101,2,FALSE),\"\")","v":15}]
["Schmidtbauer, Günter",43,null,43,true,6,"","",6,{"$f":"IF(B9>0,VLOOKUP(I9,Punkteschema!$A$2:$B$101,2,FALSE),\"\")","v":15}]
[null,null,null,{"$f":"IF(B10>0,C10+B10,\"\")","v":""},true,{"$f":"IF(B10>0,COUNTIF(B$3:B$55,\"<\"&B10)+1,\"\")","v":""},"",{"$f":"IF(AND(B10>0,C10>0),COUNTIF(D$3:D$55,\"<\"&D10)+1,\"\")","v":""},{"$f":"IF(B10>0,IF(E10,MIN(F10:H10),SUM(F10:H10)-MAX(F10:H10)-MIN(F10:H10)),\"\")","v":""},{"$f":"IF(B10>0,VLOOKUP(I10,Punkteschema!$A$2:$B$101,2,FALSE),\"\")","v":""}]
[null,null,null,"",true,"","","","",{"$f":"IF(B11>0,VLOOKUP(I11,Punkteschema!$A$2:$B$101,2,FALSE),\"\")","v":""}]
[null,null,null,"",true,"","","","",{"$f":"IF(B12>0,VLOOKUP(I12,Punkteschema!$A$2:$B$101,2,FALSE),\"\")","v":""}]
[null,null,null,"",true,"","","","",{"$f":"IF(B13>0,VLOOKUP(I13,Punkteschema!$A$2:$B$101,2,FALSE),\"\")","v":""}]
[null,null,null,"",true,"","","","",{"$f":"IF(B14>0,VLOOKUP(I14,Punkteschema!$A$2:$B$101,2,FALSE),\"\")","v":""}]
[null,null,null,"",true,"","","","",{"$f":"IF(B15>0,VLOOKUP(I15,Punkteschema!$A$2:$B$101,2,FALSE),\"\")","v":""}]
[null,null,null,"",true,"","","","",{"$f":"IF(B16>0,VLOOKUP(I16,Punkteschema!$A$2:$B$101,2,FALSE),\"\")","v":""}]
[null,null,null,"",true,"","","","",{"$f":"IF(B17>0,VLOOKUP(I17,Punkteschema!$A$2:$B$101,2,FALSE),\"\")","v":""}]
[null,null,null,"",true,"","","","",{"$f":"IF(B18>0,VLOOKUP(I18,Punkteschema!$A$2:$B$101,2,FALSE),\"\")","v":""}]
[null,null,null,"",true,{"$f":"IF(B19>0,COUNTIF(B$3:B$55,\"<\"&B19)+1,\"\")","v":""},"","","",{"$f":"IF(B19>0,VLOOKUP(I19,Punkteschema!$A$2:$B$101,2,FALSE),\"\")","v":""}]
[null,null,null,"",true,"","","","",{"$f":"IF(B20>0,VLOOKUP(I20,Punkteschema!$A$2:$B$101,2,FALSE),\"\")","v":""}]
[null,null,null,"",true,"","","","",{"$f":"IF(B21>0,VLOOKUP(I21,Punkteschema!$A$2:$B$101,2,FALSE),\"\")","v":""}]
[null,null,null,"",true,"","","","",{"$f":"IF(B22>0,VLOOKUP(I22,Punkteschema!$A$2:$B$101,2,FALSE),\"\")","v":""}]
[null,null,null,"",true,"","","","",{"$f":"IF(B23>0,VLOOKUP(I23,Punkteschema!$A$2:$B$101,2,FALSE),\"\")","v":""}]
[null,null,null,"",true,"","","","",{"$f":"IF(B24>0,VLOOKUP(I24,Punkteschema!$A$2:$B$101,2,FALSE),\"\")","v":""}]
[null,null,null,"",true,"","","","",{"$f":"IF(B25>0,VLOOKUP(I25,Punkteschema!$A$2:$B$101,2,FALSE),\"\")","v":""}]
[null,null,null,"",true,"","","","",{"$f":"IF(B26>0,VLOOKUP(I26,Punkteschema!$A$2:$B$101,2,FALSE),\"\")","v":""}]
[null,null,null,"",true,"","","","",{"$f":"IF(B27>0,VLOOKUP(I27,Punkteschema!$A$2:$B$101,2,FALSE),\"\")","v":""}]
[null,null,null,"",true,"","","","",{"$f":"IF(B28>0,VLOOKUP(I28,Punkteschema!$A$2:$B$101,2,FALSE),\"\")","v":""}]
[null,null,null,"",true,"","","","",{"$f":"IF(B29>0,VLOOKUP(I29,Punkteschema!$A$2:$B$101,2,FALSE),\"\")","v":""}]
[null,null,null,"",true,"","","","",{"$f":"IF(B30>0,VLOOKUP(I30,Punkteschema!$A$2:$B$101,2,FALSE),\"\")","v":""}]
[null,null,null,"",true,"","","","",{"$f":"IF(B31>0,VLOOKUP(I31,Punkteschema!$A$2:$B$101,2,FALSE),\"\")","v":""}]
[null,null,null,"",true,"","","","",{"$f":"IF(B32>0,VLOOKUP(I32,Punkteschema!$A$2:$B$101,2,FALSE),\"\")","v":""}]
[null,null,null,"",true,"","","","",{"$f":"IF(B33>0,VLOOKUP(I33,Punkteschema!$A$2:$B$101,2,FALSE),\"\")","v":""}]
[null,null,null,"",true,"","","","",{"$f":"IF(B34>0,VLOOKUP(I34,Punkteschema!$A$2:$B$101,2,FALSE),\"\")","v":""}]
[null,null,null,"",true,"","","","",{"$f":"IF(B35>0,VLOOKUP(I35,Punkteschema!$A$2:$B$101,2,FALSE),\"\")","v":""}]
[null,null,null,"",true,"","","","",{"$f":"IF(B36>0,VLOOKUP(I36,Punkteschema!$A$2:$B$101,2,FALSE),\"\")","v":""}]
[null,null,null,"",true,"","","","",{"$f":"IF(B37>0,VLOOKUP(I37,Punkteschema!$A$2:$B$101,2,FALSE),\"\")","v":""}]
[null,null,null,"",true,"","","","",{"$f":"IF(B38>0,VLOOKUP(I38,Punkteschema!$A$2:$B$101,2,FALSE),\"\")","v":""}]
[null,null,null,"",true,"","","","",{"$f":"IF(B39>0,VLOOKUP(I39,Punkteschema!$A$2:$B$101,2,FALSE),\"\")","v":""}]
[null,null,null,"",true,"","","","",{"$f":"IF(B40>0,VLOOKUP(I40,Punkteschema!$A$2:$B$101,2,FALSE),\"\")","v":""}]
[null,null,null,"",true,"","","","",{"$f":"IF(B41>0,VLOOKUP(I41,Punkteschema!$A$2:$B$101,2,FALSE),\"\")","v":""}]
[null,null,null,"",true,"","","","",{"$f":"IF(B42>0,VLOOKUP(I42,Punkteschema!$A$2:$B$101,2,FALSE),\"\")","v":""}]
[null,null,null,"",true,"","","","",{"$f":"IF(B43>0,VLOOKUP(I43,Punkteschema!$A$2:$B$101,2,FALSE),\"\")","v":""}]
[null,null,null,"",true,"","","","",{"$f":"IF(B44>0,VLOOKUP(I44,Punkteschema!$A$2:$B$101,2,FALSE),\"\")","v":""}]
[null,null,null,"",true,"","","","",{"$f":"IF(B45>0,VLOOKUP(I45,Punkteschema!$A$2:$B$101,2,FALSE),\"\")","v":""}]
[null,null,null,"",true,"","","","",{"$f":"IF(B46>0,VLOOKUP(I46,Punkteschema!$A$2:$B$101,2,FALSE),\"\")","v":""}]
[null,null,null,"",true,"","","","",{"$f":"IF(B47>0,VLOOKUP(I47,Punkteschema!$A$2:$B$101,2,FALSE),\"\")","v":""}]
[null,null,null,"",true,"","","","",{"$f":"IF(B48>0,VLOOKUP(I48,Punkteschema!$A$2:$B$101,2,FALSE),\"\")","v":""}]
[null,null,null,"",true,"","","","",{"$f":"IF(B49>0,VLOOKUP(I49,Punkteschema!$A$2:$B$101,2,FALSE),\"\")","v":""}]
[null,null,null,"",true,"","","","",{"$f":"IF(B50>0,VLOOKUP(I50,Punkteschema!$A$2:$B$101,2,FALSE),\"\")","v":""}]
[null,null,null,"",true,"","","","",{"$f":"IF(B51>0,VLOOKUP(I51,Punkteschema!$A$2:$B$101,2,FALSE),\"\")","v":""}]
[null,null,null,"",true,"","","","",{"$f":"IF(B52>0,VLOOKUP(I52,Punkteschema!$A$2:$B$101,2,FALSE),\"\")","v":""}]
[null,null,null,"",true,{"$f":"IF(B53>0,COUNTIF(B$3:B$55,\"<\"&B53)+1,\"\")","v":""},"",{"$f":"IF(AND(B53>0,C53>0),COUNTIF(D$3:D$55,\"<\"&D53)+1,\"\")","v":""},"",{"$f":"IF(B53>0,VLOOKUP(I53,Punkteschema!$A$2:$B$101,2,FALSE),\"\")","v":""}]
[null,null,null,"",true,"","",{"$f":"IF(AND(B54>0,C54>0),COUNTIF(D$3:D$55,\"<\"&D54)+1,\"\")","v":""},"",{"$f":"IF(B54>0,VLOOKUP(I54,Punkteschema!$A$2:$B$101,2,FALSE),\"\")","v":""}]
[null,null,null,"",true,"","",{"$f":"IF(AND(B55>0,C55>0),COUNTIF(D$3:D$55,\"<\"&D55)+1,\"\")","v":""},"",{"$f":"IF(B55>0,VLOOKUP(I55,Punkteschema!$A$2:$B$101,2,FALSE),\"\")","v":""}]
[]
["OS: Dreischer, Burkhard (OLY)",null,null,null,"Runde 1:","E","<- E/B"]
["S: Rabe, Jonas (HAR)",null,null,null,"Runde 2:","B","<- E/B"]
["S: Lenk, Rolf (ASW)"]
[]
["Verloste Preise:"]
["Schmidtbauer, Günter","1 Minigolfball"]
[]
["Während der Runde auf Beton musste durch Regen bedingt"]
["zunächst unter- und dann abgebrochen werden."]

{"sheet":"Einzelwertung13","index":15,"n_rows":64,"n_cols":10,"rows_kept":64,"cut":false,"hidden":false,"merged":[[0,0,0,9]]}
[{"$f":"CONCATENATE(\"7. Sommer-Cup - Freizeittreff Herbede - \",TEXT(Gesamtstand!$R$2,\"TT.MM.JJ\"))","v":"7. Sommer-Cup - Freizeittreff Herbede - 28.07.22"}]
["Spieler","Runde 1","Runde 2","Gesamt","bessere?","Pl. R1","Pl. R2","Pl. Ges.","gewertet","Punkte"]
["Rabe, Jonas",26,29,{"$f":"IF(B3>0,C3+B3,\"\")","v":55},true,{"$f":"IF(B3>0,COUNTIF(B$3:B$55,\"<\"&B3)+1,\"\")","v":5},{"$f":"IF(C3>0,COUNTIF(C$3:C$55,\"<\"&C3)+1,\"\")","v":1},{"$f":"IF(AND(B3>0,C3>0),COUNTIF(D$3:D$55,\"<\"&D3)+1,\"\")","v":1},{"$f":"IF(B3>0,IF(E3,MIN(F3:H3),SUM(F3:H3)-MAX(F3:H3)-MIN(F3:H3)),\"\")","v":1},{"$f":"IF(B3>0,VLOOKUP(I3,Punkteschema!$A$2:$B$101,2,FALSE),\"\")","v":25}]
["Urban, Volker",23,33,56,true,1,6,2,1,{"$f":"IF(B4>0,VLOOKUP(I4,Punkteschema!$A$2:$B$101,2,FALSE),\"\")","v":25}]
["Puschner, Michael",23,35,58,true,1,8,4,1,{"$f":"IF(B5>0,VLOOKUP(I5,Punkteschema!$A$2:$B$101,2,FALSE),\"\")","v":25}]
["Rade, Marcus",25,31,56,false,3,2,2,2,{"$f":"IF(B6>0,VLOOKUP(I6,Punkteschema!$A$2:$B$101,2,FALSE),\"\")","v":21}]
["Gattner, Karsten",29,31,60,true,8,2,5,2,{"$f":"IF(B7>0,VLOOKUP(I7,Punkteschema!$A$2:$B$101,2,FALSE),\"\")","v":21}]
["Schmidtbauer, Günter",33,31,64,true,10,2,8,2,{"$f":"IF(B8>0,VLOOKUP(I8,Punkteschema!$A$2:$B$101,2,FALSE),\"\")","v":21}]
["Brunnenkant, Frank",34,31,65,true,12,2,10,2,{"$f":"IF(B9>0,VLOOKUP(I9,Punkteschema!$A$2:$B$101,2,FALSE),\"\")","v":21}]
["Kortmann, Sabine",25,37,62,false,3,11,6,6,{"$f":"IF(B10>0,VLOOKUP(I10,Punkteschema!$A$2:$B$101,2,FALSE),\"\")","v":15}]
["Kunz, Martin",31,33,64,true,9,6,8,6,{"$f":"IF(B11>0,VLOOKUP(I11,Punkteschema!$A$2:$B$101,2,FALSE),\"\")","v":15}]
["Börgmann, Ulrich",28,37,65,true,6,11,10,6,{"$f":"IF(B12>0,VLOOKUP(I12,Punkteschema!$A$2:$B$101,2,FALSE),\"\")","v":15}]
["Lenk, Rolf",28,35,63,false,6,8,7,7,{"$f":"IF(B13>0,VLOOKUP(I13,Punkteschema!$A$2:$B$101,2,FALSE),\"\")","v":10}]
["Börgmann, Brigitte",38,36,74,true,14,10,12,10,{"$f":"IF(B14>0,VLOOKUP(I14,Punkteschema!$A$2:$B$101,2,FALSE),\"\")","v":10}]
["Dreischer, Burkhard",33,43,76,true,10,14,14,10,{"$f":"IF(B15>0,VLOOKUP(I15,Punkteschema!$A$2:$B$101,2,FALSE),\"\")","v":10}]
["Urban, Angela",36,38,74,true,13,13,12,12,{"$f":"IF(B16>0,VLOOKUP(I16,Punkteschema!$A$2:$B$101,2,FALSE),\"\")","v":5}]
[null,null,null,{"$f":"IF(B17>0,C17+B17,\"\")","v":""},true,{"$f":"IF(B17>0,COUNTIF(B$3:B$55,\"<\"&B17)+1,\"\")","v":""},"",{"$f":"IF(AND(B17>0,C17>0),COUNTIF(D$3:D$55,\"<\"&D17)+1,\"\")","v":""},{"$f":"IF(B17>0,IF(E17,MIN(F17:H17),SUM(F17:H17)-MAX(F17:H17)-MIN(F17:H17)),\"\")","v":""},{"$f":"IF(B17>0,VLOOKUP(I17,Punkteschema!$A$2:$B$101,2,FALSE),\"\")","v":""}]
[null,null,null,"",true,"","","","",{"$f":"IF(B18>0,VLOOKUP(I18,Punkteschema!$A$2:$B$101,2,FALSE),\"\")","v":""}]
[null,null,null,"",true,{"$f":"IF(B19>0,COUNTIF(B$3:B$55,\"<\"&B19)+1,\"\")","v":""},"","","",{"$f":"IF(B19>0,VLOOKUP(I19,Punkteschema!$A$2:$B$101,2,FALSE),\"\")","v":""}]
[null,null,null,"",true,"","","","",{"$f":"IF(B20>0,VLOOKUP(I20,Punkteschema!$A$2:$B$101,2,FALSE),\"\")","v":""}]
[null,null,null,"",true,"","","","",{"$f":"IF(B21>0,VLOOKUP(I21,Punkteschema!$A$2:$B$101,2,FALSE),\"\")","v":""}]
[null,null,null,"",true,"","","","",{"$f":"IF(B22>0,VLOOKUP(I22,Punkteschema!$A$2:$B$101,2,FALSE),\"\")","v":""}]
[null,null,null,"",true,"","","","",{"$f":"IF(B23>0,VLOOKUP(I23,Punkteschema!$A$2:$B$101,2,FALSE),\"\")","v":""}]
[null,null,null,"",true,"","","","",{"$f":"IF(B24>0,VLOOKUP(I24,Punkteschema!$A$2:$B$101,2,FALSE),\"\")","v":""}]
[null,null,null,"",true,"","","","",{"$f":"IF(B25>0,VLOOKUP(I25,Punkteschema!$A$2:$B$101,2,FALSE),\"\")","v":""}]
[null,null,null,"",true,"","","","",{"$f":"IF(B26>0,VLOOKUP(I26,Punkteschema!$A$2:$B$101,2,FALSE),\"\")","v":""}]
[null,null,null,"",true,"","","","",{"$f":"IF(B27>0,VLOOKUP(I27,Punkteschema!$A$2:$B$101,2,FALSE),\"\")","v":""}]
[null,null,null,"",true,"","","","",{"$f":"IF(B28>0,VLOOKUP(I28,Punkteschema!$A$2:$B$101,2,FALSE),\"\")","v":""}]
[null,null,null,"",true,"","","","",{"$f":"IF(B29>0,VLOOKUP(I29,Punkteschema!$A$2:$B$101,2,FALSE),\"\")","v":""}]
[null,null,null,"",true,"","","","",{"$f":"IF(B30>0,VLOOKUP(I30,Punkteschema!$A$2:$B$101,2,FALSE),\"\")","v":""}]
[null,null,null,"",true,"","","","",{"$f":"IF(B31>0,VLOOKUP(I31,Punkteschema!$A$2:$B$101,2,FALSE),\"\")","v":""}]
[null,null,null,"",true,"","","","",{"$f":"IF(B32>0,VLOOKUP(I32,Punkteschema!$A$2:$B$101,2,FALSE),\"\")","v":""}]
[null,null,null,"",true,"","","","",{"$f":"IF(B33>0,VLOOKUP(I33,Punkteschema!$A$2:$B$101,2,FALSE),\"\")","v":""}]
[null,null,null,"",true,"","","","",{"$f":"IF(B34>0,VLOOKUP(I34,Punkteschema!$A$2:$B$101,2,FALSE),\"\")","v":""}]
[null,null,null,"",true,"","","","",{"$f":"IF(B35>0,VLOOKUP(I35,Punkteschema!$A$2:$B$101,2,FALSE),\"\")","v":""}]
[null,null,null,"",true,"","","","",{"$f":"IF(B36>0,VLOOKUP(I36,Punkteschema!$A$2:$B$101,2,FALSE),\"\")","v":""}]
[null,null,null,"",true,"","","","",{"$f":"IF(B37>0,VLOOKUP(I37,Punkteschema!$A$2:$B$101,2,FALSE),\"\")","v":""}]
[null,null,null,"",true,"","","","",{"$f":"IF(B38>0,VLOOKUP(I38,Punkteschema!$A$2:$B$101,2,FALSE),\"\")","v":""}]
[null,null,null,"",true,"","","","",{"$f":"IF(B39>0,VLOOKUP(I39,Punkteschema!$A$2:$B$101,2,FALSE),\"\")","v":""}]
[null,null,null,"",true,"","","","",{"$f":"IF(B40>0,VLOOKUP(I40,Punkteschema!$A$2:$B$101,2,FALSE),\"\")","v":""}]
[null,null,null,"",true,"","","","",{"$f":"IF(B41>0,VLOOKUP(I41,Punkteschema!$A$2:$B$101,2,FALSE),\"\")","v":""}]
[null,null,null,"",true,"","","","",{"$f":"IF(B42>0,VLOOKUP(I42,Punkteschema!$A$2:$B$101,2,FALSE),\"\")","v":""}]
[null,null,null,"",true,"","","","",{"$f":"IF(B43>0,VLOOKUP(I43,Punkteschema!$A$2:$B$101,2,FALSE),\"\")","v":""}]
[null,null,null,"",true,"","","","",{"$f":"IF(B44>0,VLOOKUP(I44,Punkteschema!$A$2:$B$101,2,FALSE),\"\")","v":""}]
[null,null,null,"",true,"","","","",{"$f":"IF(B45>0,VLOOKUP(I45,Punkteschema!$A$2:$B$101,2,FALSE),\"\")","v":""}]
[null,null,null,"",true,"","","","",{"$f":"IF(B46>0,VLOOKUP(I46,Punkteschema!$A$2:$B$101,2,FALSE),\"\")","v":""}]
[null,null,null,"",true,"","","","",{"$f":"IF(B47>0,VLOOKUP(I47,Punkteschema!$A$2:$B$101,2,FALSE),\"\")","v":""}]
[null,null,null,"",true,"","","","",{"$f":"IF(B48>0,VLOOKUP(I48,Punkteschema!$A$2:$B$101,2,FALSE),\"\")","v":""}]
[null,null,null,"",true,"","","","",{"$f":"IF(B49>0,VLOOKUP(I49,Punkteschema!$A$2:$B$101,2,FALSE),\"\")","v":""}]
[null,null,null,"",true,"","","","",{"$f":"IF(B50>0,VLOOKUP(I50,Punkteschema!$A$2:$B$101,2,FALSE),\"\")","v":""}]
[null,null,null,"",true,"","","","",{"$f":"IF(B51>0,VLOOKUP(I51,Punkteschema!$A$2:$B$101,2,FALSE),\"\")","v":""}]
[null,null,null,"",true,"","","","",{"$f":"IF(B52>0,VLOOKUP(I52,Punkteschema!$A$2:$B$101,2,FALSE),\"\")","v":""}]
[null,null,null,"",true,{"$f":"IF(B53>0,COUNTIF(B$3:B$55,\"<\"&B53)+1,\"\")","v":""},"",{"$f":"IF(AND(B53>0,C53>0),COUNTIF(D$3:D$55,\"<\"&D53)+1,\"\")","v":""},"",{"$f":"IF(B53>0,VLOOKUP(I53,Punkteschema!$A$2:$B$101,2,FALSE),\"\")","v":""}]
[null,null,null,"",true,"","",{"$f":"IF(AND(B54>0,C54>0),COUNTIF(D$3:D$55,\"<\"&D54)+1,\"\")","v":""},"",{"$f":"IF(B54>0,VLOOKUP(I54,Punkteschema!$A$2:$B$101,2,FALSE),\"\")","v":""}]
[null,null,null,"",true,"","",{"$f":"IF(AND(B55>0,C55>0),COUNTIF(D$3:D$55,\"<\"&D55)+1,\"\")","v":""},"",{"$f":"IF(B55>0,VLOOKUP(I55,Punkteschema!$A$2:$B$101,2,FALSE),\"\")","v":""}]
[]
["OS: Urban, Volker (ASW)",null,null,null,"Runde 1:","E","<- E/B"]
["S: Puschner, Michael (HOB)",null,null,null,"Runde 2:","B","<- E/B"]
["S: Rabe, Jonas (HAR)"]
[]
["Verloste Preise:"]
["Börgmann, Ulrich","1 Minigolfball migo Grenchen 92"]
["Kunz, Martin","1 Verzehrgutschein"]
["Dreischer, Burkhard","1 Partymix Cocktails"]

{"sheet":"Einzelwertung14","index":16,"n_rows":64,"n_cols":10,"rows_kept":64,"cut":false,"hidden":false,"merged":[[0,0,0,9]]}
[{"$f":"CONCATENATE(\"7. Sommer-Cup - Freizeittreff Herbede - \",TEXT(Gesamtstand!$S$2,\"TT.MM.JJ\"))","v":"7. Sommer-Cup - Freizeittreff Herbede - 04.08.22"}]
["Spieler","Runde 1","Runde 2","Gesamt","bessere?","Pl. R1","Pl. R2","Pl. Ges.","gewertet","Punkte"]
["Buchholz, Ansgar",26,27,{"$f":"IF(B3>0,C3+B3,\"\")","v":53},false,{"$f":"IF(B3>0,COUNTIF(B$3:B$55,\"<\"&B3)+1,\"\")","v":3},{"$f":"IF(C3>0,COUNTIF(C$3:C$55,\"<\"&C3)+1,\"\")","v":1},{"$f":"IF(AND(B3>0,C3>0),COUNTIF(D$3:D$55,\"<\"&D3)+1,\"\")","v":1},{"$f":"IF(B3>0,IF(E3,MIN(F3:H3),SUM(F3:H3)-MAX(F3:H3)-MIN(F3:H3)),\"\")","v":1},{"$f":"IF(B3>0,VLOOKUP(I3,Punkteschema!$A$2:$B$101,2,FALSE),\"\")","v":25}]
["Rade, Marcus",23,31,54,false,1,2,2,2,{"$f":"IF(B4>0,VLOOKUP(I4,Punkteschema!$A$2:$B$101,2,FALSE),\"\")","v":21}]
["Urban, Volker",24,31,55,true,2,2,3,2,{"$f":"IF(B5>0,VLOOKUP(I5,Punkteschema!$A$2:$B$101,2,FALSE),\"\")","v":21}]
["Brunnenkant, Frank",26,36,62,true,3,6,4,3,{"$f":"IF(B6>0,VLOOKUP(I6,Punkteschema!$A$2:$B$101,2,FALSE),\"\")","v":18}]
["Börgmann, Ulrich",38,34,72,true,13,4,11,4,{"$f":"IF(B7>0,VLOOKUP(I7,Punkteschema!$A$2:$B$101,2,FALSE),\"\")","v":15}]
["Lenk, Rolf",31,34,65,false,7,4,5,5,{"$f":"IF(B8>0,VLOOKUP(I8,Punkteschema!$A$2:$B$101,2,FALSE),\"\")","v":15}]
["Kunz, Martin",28,38,66,true,5,9,6,5,{"$f":"IF(B9>0,VLOOKUP(I9,Punkteschema!$A$2:$B$101,2,FALSE),\"\")","v":15}]
["Dreischer, Burkhard",29,39,68,true,6,11,7,6,{"$f":"IF(B10>0,VLOOKUP(I10,Punkteschema!$A$2:$B$101,2,FALSE),\"\")","v":15}]
["Kortmann, Sabine",32,36,68,true,9,6,7,6,{"$f":"IF(B11>0,VLOOKUP(I11,Punkteschema!$A$2:$B$101,2,FALSE),\"\")","v":15}]
["Kersch, Uwe",31,40,71,true,7,13,10,7,{"$f":"IF(B12>0,VLOOKUP(I12,Punkteschema!$A$2:$B$101,2,FALSE),\"\")","v":10}]
["Börgmann, Brigitte",32,37,69,true,9,8,9,8,{"$f":"IF(B13>0,VLOOKUP(I13,Punkteschema!$A$2:$B$101,2,FALSE),\"\")","v":10}]
["Schmidtbauer, Günter",32,42,74,true,9,14,13,9,{"$f":"IF(B14>0,VLOOKUP(I14,Punkteschema!$A$2:$B$101,2,FALSE),\"\")","v":10}]
["Gattner, Karsten",42,38,80,true,14,9,14,9,{"$f":"IF(B15>0,VLOOKUP(I15,Punkteschema!$A$2:$B$101,2,FALSE),\"\")","v":10}]
["Urban, Angela",34,39,73,true,12,11,12,11,{"$f":"IF(B16>0,VLOOKUP(I16,Punkteschema!$A$2:$B$101,2,FALSE),\"\")","v":5}]
[null,null,null,{"$f":"IF(B17>0,C17+B17,\"\")","v":""},true,{"$f":"IF(B17>0,COUNTIF(B$3:B$55,\"<\"&B17)+1,\"\")","v":""},"",{"$f":"IF(AND(B17>0,C17>0),COUNTIF(D$3:D$55,\"<\"&D17)+1,\"\")","v":""},{"$f":"IF(B17>0,IF(E17,MIN(F17:H17),SUM(F17:H17)-MAX(F17:H17)-MIN(F17:H17)),\"\")","v":""},{"$f":"IF(B17>0,VLOOKUP(I17,Punkteschema!$A$2:$B$101,2,FALSE),\"\")","v":""}]
[null,null,null,"",true,"","","","",{"$f":"IF(B18>0,VLOOKUP(I18,Punkteschema!$A$2:$B$101,2,FALSE),\"\")","v":""}]
[null,null,null,"",true,{"$f":"IF(B19>0,COUNTIF(B$3:B$55,\"<\"&B19)+1,\"\")","v":""},"","","",{"$f":"IF(B19>0,VLOOKUP(I19,Punkteschema!$A$2:$B$101,2,FALSE),\"\")","v":""}]
[null,null,null,"",true,"","","","",{"$f":"IF(B20>0,VLOOKUP(I20,Punkteschema!$A$2:$B$101,2,FALSE),\"\")","v":""}]
[null,null,null,"",true,"","","","",{"$f":"IF(B21>0,VLOOKUP(I21,Punkteschema!$A$2:$B$101,2,FALSE),\"\")","v":""}]
[null,null,null,"",true,"","","","",{"$f":"IF(B22>0,VLOOKUP(I22,Punkteschema!$A$2:$B$101,2,FALSE),\"\")","v":""}]
[null,null,null,"",true,"","","","",{"$f":"IF(B23>0,VLOOKUP(I23,Punkteschema!$A$2:$B$101,2,FALSE),\"\")","v":""}]
[null,null,null,"",true,"","","","",{"$f":"IF(B24>0,VLOOKUP(I24,Punkteschema!$A$2:$B$101,2,FALSE),\"\")","v":""}]
[null,null,null,"",true,"","","","",{"$f":"IF(B25>0,VLOOKUP(I25,Punkteschema!$A$2:$B$101,2,FALSE),\"\")","v":""}]
[null,null,null,"",true,"","","","",{"$f":"IF(B26>0,VLOOKUP(I26,Punkteschema!$A$2:$B$101,2,FALSE),\"\")","v":""}]
[null,null,null,"",true,"","","","",{"$f":"IF(B27>0,VLOOKUP(I27,Punkteschema!$A$2:$B$101,2,FALSE),\"\")","v":""}]
[null,null,null,"",true,"","","","",{"$f":"IF(B28>0,VLOOKUP(I28,Punkteschema!$A$2:$B$101,2,FALSE),\"\")","v":""}]
[null,null,null,"",true,"","","","",{"$f":"IF(B29>0,VLOOKUP(I29,Punkteschema!$A$2:$B$101,2,FALSE),\"\")","v":""}]
[null,null,null,"",true,"","","","",{"$f":"IF(B30>0,VLOOKUP(I30,Punkteschema!$A$2:$B$101,2,FALSE),\"\")","v":""}]
[null,null,null,"",true,"","","","",{"$f":"IF(B31>0,VLOOKUP(I31,Punkteschema!$A$2:$B$101,2,FALSE),\"\")","v":""}]
[null,null,null,"",true,"","","","",{"$f":"IF(B32>0,VLOOKUP(I32,Punkteschema!$A$2:$B$101,2,FALSE),\"\")","v":""}]
[null,null,null,"",true,"","","","",{"$f":"IF(B33>0,VLOOKUP(I33,Punkteschema!$A$2:$B$101,2,FALSE),\"\")","v":""}]
[null,null,null,"",true,"","","","",{"$f":"IF(B34>0,VLOOKUP(I34,Punkteschema!$A$2:$B$101,2,FALSE),\"\")","v":""}]
[null,null,null,"",true,"","","","",{"$f":"IF(B35>0,VLOOKUP(I35,Punkteschema!$A$2:$B$101,2,FALSE),\"\")","v":""}]
[null,null,null,"",true,"","","","",{"$f":"IF(B36>0,VLOOKUP(I36,Punkteschema!$A$2:$B$101,2,FALSE),\"\")","v":""}]
[null,null,null,"",true,"","","","",{"$f":"IF(B37>0,VLOOKUP(I37,Punkteschema!$A$2:$B$101,2,FALSE),\"\")","v":""}]
[null,null,null,"",true,"","","","",{"$f":"IF(B38>0,VLOOKUP(I38,Punkteschema!$A$2:$B$101,2,FALSE),\"\")","v":""}]
[null,null,null,"",true,"","","","",{"$f":"IF(B39>0,VLOOKUP(I39,Punkteschema!$A$2:$B$101,2,FALSE),\"\")","v":""}]
[null,null,null,"",true,"","","","",{"$f":"IF(B40>0,VLOOKUP(I40,Punkteschema!$A$2:$B$101,2,FALSE),\"\")","v":""}]
[null,null,null,"",true,"","","","",{"$f":"IF(B41>0,VLOOKUP(I41,Punkteschema!$A$2:$B$101,2,FALSE),\"\")","v":""}]
[null,null,null,"",true,"","","","",{"$f":"IF(B42>0,VLOOKUP(I42,Punkteschema!$A$2:$B$101,2,FALSE),\"\")","v":""}]
[null,null,null,"",true,"","","","",{"$f":"IF(B43>0,VLOOKUP(I43,Punkteschema!$A$2:$B$101,2,FALSE),\"\")","v":""}]
[null,null,null,"",true,"","","","",{"$f":"IF(B44>0,VLOOKUP(I44,Punkteschema!$A$2:$B$101,2,FALSE),\"\")","v":""}]
[null,null,null,"",true,"","","","",{"$f":"IF(B45>0,VLOOKUP(I45,Punkteschema!$A$2:$B$101,2,FALSE),\"\")","v":""}]
[null,null,null,"",true,"","","","",{"$f":"IF(B46>0,VLOOKUP(I46,Punkteschema!$A$2:$B$101,2,FALSE),\"\")","v":""}]
[null,null,null,"",true,"","","","",{"$f":"IF(B47>0,VLOOKUP(I47,Punkteschema!$A$2:$B$101,2,FALSE),\"\")","v":""}]
[null,null,null,"",true,"","","","",{"$f":"IF(B48>0,VLOOKUP(I48,Punkteschema!$A$2:$B$101,2,FALSE),\"\")","v":""}]
[null,null,null,"",true,"","","","",{"$f":"IF(B49>0,VLOOKUP(I49,Punkteschema!$A$2:$B$101,2,FALSE),\"\")","v":""}]
[null,null,null,"",true,"","","","",{"$f":"IF(B50>0,VLOOKUP(I50,Punkteschema!$A$2:$B$101,2,FALSE),\"\")","v":""}]
[null,null,null,"",true,"","","","",{"$f":"IF(B51>0,VLOOKUP(I51,Punkteschema!$A$2:$B$101,2,FALSE),\"\")","v":""}]
[null,null,null,"",true,"","","","",{"$f":"IF(B52>0,VLOOKUP(I52,Punkteschema!$A$2:$B$101,2,FALSE),\"\")","v":""}]
[null,null,null,"",true,{"$f":"IF(B53>0,COUNTIF(B$3:B$55,\"<\"&B53)+1,\"\")","v":""},"",{"$f":"IF(AND(B53>0,C53>0),COUNTIF(D$3:D$55,\"<\"&D53)+1,\"\")","v":""},"",{"$f":"IF(B53>0,VLOOKUP(I53,Punkteschema!$A$2:$B$101,2,FALSE),\"\")","v":""}]
[null,null,null,"",true,"","",{"$f":"IF(AND(B54>0,C54>0),COUNTIF(D$3:D$55,\"<\"&D54)+1,\"\")","v":""},"",{"$f":"IF(B54>0,VLOOKUP(I54,Punkteschema!$A$2:$B$101,2,FALSE),\"\")","v":""}]
[null,null,null,"",true,"","",{"$f":"IF(AND(B55>0,C55>0),COUNTIF(D$3:D$55,\"<\"&D55)+1,\"\")","v":""},"",{"$f":"IF(B55>0,VLOOKUP(I55,Punkteschema!$A$2:$B$101,2,FALSE),\"\")","v":""}]
[]
["OS: Urban, Volker (ASW)",null,null,null,"Runde 1:","E","<- E/B"]
["S: Rade, Marcus (OSN)",null,null,null,"Runde 2:","B","<- E/B"]
["S: Lenk, Rolf (ASW)"]
[]
["Verloste Preise:"]
["Kunz, Martin","1 Minigolfball A22"]
["Börgmann, Ulrich","1 Flasche Merlot"]
["Urban, Volker","1 Dose Haribo Color-Rado"]

{"sheet":"Einzelwertung15","index":17,"n_rows":64,"n_cols":10,"rows_kept":64,"cut":false,"hidden":false,"merged":[[0,0,0,9]]}
[{"$f":"CONCATENATE(\"7. Sommer-Cup - Freizeittreff Herbede - \",TEXT(Gesamtstand!$T$2,\"TT.MM.JJ\"))","v":"7. Sommer-Cup - Freizeittreff Herbede - 11.08.22"}]
["Spieler","Runde 1","Runde 2","Gesamt","bessere?","Pl. R1","Pl. R2","Pl. Ges.","gewertet","Punkte"]
["Rabe, Jonas",24,34,{"$f":"IF(B3>0,C3+B3,\"\")","v":58},false,{"$f":"IF(B3>0,COUNTIF(B$3:B$55,\"<\"&B3)+1,\"\")","v":1},{"$f":"IF(C3>0,COUNTIF(C$3:C$55,\"<\"&C3)+1,\"\")","v":4},{"$f":"IF(AND(B3>0,C3>0),COUNTIF(D$3:D$55,\"<\"&D3)+1,\"\")","v":1},{"$f":"IF(B3>0,IF(E3,MIN(F3:H3),SUM(F3:H3)-MAX(F3:H3)-MIN(F3:H3)),\"\")","v":1},{"$f":"IF(B3>0,VLOOKUP(I3,Punkteschema!$A$2:$B$101,2,FALSE),\"\")","v":25}]
["Brunnenkant, Frank",27,34,61,true,2,4,2,2,{"$f":"IF(B4>0,VLOOKUP(I4,Punkteschema!$A$2:$B$101,2,FALSE),\"\")","v":21}]
["Kortmann, Sabine",29,33,62,true,3,2,3,2,{"$f":"IF(B5>0,VLOOKUP(I5,Punkteschema!$A$2:$B$101,2,FALSE),\"\")","v":21}]
["Kunz, Martin",34,33,67,true,8,2,7,2,{"$f":"IF(B6>0,VLOOKUP(I6,Punkteschema!$A$2:$B$101,2,FALSE),\"\")","v":21}]
["Dreischer, Burkhard",31,34,65,true,5,4,5,4,{"$f":"IF(B7>0,VLOOKUP(I7,Punkteschema!$A$2:$B$101,2,FALSE),\"\")","v":15}]
["Urban, Volker",32,31,63,false,6,1,4,4,{"$f":"IF(B8>0,VLOOKUP(I8,Punkteschema!$A$2:$B$101,2,FALSE),\"\")","v":15}]
["Lenk, Rolf",30,36,66,false,4,8,6,6,{"$f":"IF(B9>0,VLOOKUP(I9,Punkteschema!$A$2:$B$101,2,FALSE),\"\")","v":15}]
["Gattner, Karsten",33,35,68,true,7,7,8,7,{"$f":"IF(B10>0,VLOOKUP(I10,Punkteschema!$A$2:$B$101,2,FALSE),\"\")","v":10}]
["Schmidtbauer, Günter",35,36,71,true,9,8,9,8,{"$f":"IF(B11>0,VLOOKUP(I11,Punkteschema!$A$2:$B$101,2,FALSE),\"\")","v":10}]
["Börgmann, Ulrich",35,44,79,true,9,11,10,9,{"$f":"IF(B12>0,VLOOKUP(I12,Punkteschema!$A$2:$B$101,2,FALSE),\"\")","v":10}]
["Börgmann, Brigitte",40,40,80,true,11,10,11,10,{"$f":"IF(B13>0,VLOOKUP(I13,Punkteschema!$A$2:$B$101,2,FALSE),\"\")","v":10}]
[null,null,null,{"$f":"IF(B14>0,C14+B14,\"\")","v":""},true,{"$f":"IF(B14>0,COUNTIF(B$3:B$55,\"<\"&B14)+1,\"\")","v":""},"",{"$f":"IF(AND(B14>0,C14>0),COUNTIF(D$3:D$55,\"<\"&D14)+1,\"\")","v":""},{"$f":"IF(B14>0,IF(E14,MIN(F14:H14),SUM(F14:H14)-MAX(F14:H14)-MIN(F14:H14)),\"\")","v":""},{"$f":"IF(B14>0,VLOOKUP(I14,Punkteschema!$A$2:$B$101,2,FALSE),\"\")","v":""}]
[null,null,null,"",true,"","","","",{"$f":"IF(B15>0,VLOOKUP(I15,Punkteschema!$A$2:$B$101,2,FALSE),\"\")","v":""}]
[null,null,null,"",true,"","","","",{"$f":"IF(B16>0,VLOOKUP(I16,Punkteschema!$A$2:$B$101,2,FALSE),\"\")","v":""}]
[null,null,null,"",true,"","","","",{"$f":"IF(B17>0,VLOOKUP(I17,Punkteschema!$A$2:$B$101,2,FALSE),\"\")","v":""}]
[null,null,null,"",true,"","","","",{"$f":"IF(B18>0,VLOOKUP(I18,Punkteschema!$A$2:$B$101,2,FALSE),\"\")","v":""}]
[null,null,null,"",true,{"$f":"IF(B19>0,COUNTIF(B$3:B$55,\"<\"&B19)+1,\"\")","v":""},"","","",{"$f":"IF(B19>0,VLOOKUP(I19,Punkteschema!$A$2:$B$101,2,FALSE),\"\")","v":""}]
[null,null,null,"",true,"","","","",{"$f":"IF(B20>0,VLOOKUP(I20,Punkteschema!$A$2:$B$101,2,FALSE),\"\")","v":""}]
[null,null,null,"",true,"","","","",{"$f":"IF(B21>0,VLOOKUP(I21,Punkteschema!$A$2:$B$101,2,FALSE),\"\")","v":""}]
[null,null,null,"",true,"","","","",{"$f":"IF(B22>0,VLOOKUP(I22,Punkteschema!$A$2:$B$101,2,FALSE),\"\")","v":""}]
[null,null,null,"",true,"","","","",{"$f":"IF(B23>0,VLOOKUP(I23,Punkteschema!$A$2:$B$101,2,FALSE),\"\")","v":""}]
[null,null,null,"",true,"","","","",{"$f":"IF(B24>0,VLOOKUP(I24,Punkteschema!$A$2:$B$101,2,FALSE),\"\")","v":""}]
[null,null,null,"",true,"","","","",{"$f":"IF(B25>0,VLOOKUP(I25,Punkteschema!$A$2:$B$101,2,FALSE),\"\")","v":""}]
[null,null,null,"",true,"","","","",{"$f":"IF(B26>0,VLOOKUP(I26,Punkteschema!$A$2:$B$101,2,FALSE),\"\")","v":""}]
[null,null,null,"",true,"","","","",{"$f":"IF(B27>0,VLOOKUP(I27,Punkteschema!$A$2:$B$101,2,FALSE),\"\")","v":""}]
[null,null,null,"",true,"","","","",{"$f":"IF(B28>0,VLOOKUP(I28,Punkteschema!$A$2:$B$101,2,FALSE),\"\")","v":""}]
[null,null,null,"",true,"","","","",{"$f":"IF(B29>0,VLOOKUP(I29,Punkteschema!$A$2:$B$101,2,FALSE),\"\")","v":""}]
[null,null,null,"",true,"","","","",{"$f":"IF(B30>0,VLOOKUP(I30,Punkteschema!$A$2:$B$101,2,FALSE),\"\")","v":""}]
[null,null,null,"",true,"","","","",{"$f":"IF(B31>0,VLOOKUP(I31,Punkteschema!$A$2:$B$101,2,FALSE),\"\")","v":""}]
[null,null,null,"",true,"","","","",{"$f":"IF(B32>0,VLOOKUP(I32,Punkteschema!$A$2:$B$101,2,FALSE),\"\")","v":""}]
[null,null,null,"",true,"","","","",{"$f":"IF(B33>0,VLOOKUP(I33,Punkteschema!$A$2:$B$101,2,FALSE),\"\")","v":""}]
[null,null,null,"",true,"","","","",{"$f":"IF(B34>0,VLOOKUP(I34,Punkteschema!$A$2:$B$101,2,FALSE),\"\")","v":""}]
[null,null,null,"",true,"","","","",{"$f":"IF(B35>0,VLOOKUP(I35,Punkteschema!$A$2:$B$101,2,FALSE),\"\")","v":""}]
[null,null,null,"",true,"","","","",{"$f":"IF(B36>0,VLOOKUP(I36,Punkteschema!$A$2:$B$101,2,FALSE),\"\")","v":""}]
[null,null,null,"",true,"","","","",{"$f":"IF(B37>0,VLOOKUP(I37,Punkteschema!$A$2:$B$101,2,FALSE),\"\")","v":""}]
[null,null,null,"",true,"","","","",{"$f":"IF(B38>0,VLOOKUP(I38,Punkteschema!$A$2:$B$101,2,FALSE),\"\")","v":""}]
[null,null,null,"",true,"","","","",{"$f":"IF(B39>0,VLOOKUP(I39,Punkteschema!$A$2:$B$101,2,FALSE),\"\")","v":""}]
[null,null,null,"",true,"","","","",{"$f":"IF(B40>0,VLOOKUP(I40,Punkteschema!$A$2:$B$101,2,FALSE),\"\")","v":""}]
[null,null,null,"",true,"","","","",{"$f":"IF(B41>0,VLOOKUP(I41,Punkteschema!$A$2:$B$101,2,FALSE),\"\")","v":""}]
[null,null,null,"",true,"","","","",{"$f":"IF(B42>0,VLOOKUP(I42,Punkteschema!$A$2:$B$101,2,FALSE),\"\")","v":""}]
[null,null,null,"",true,"","","","",{"$f":"IF(B43>0,VLOOKUP(I43,Punkteschema!$A$2:$B$101,2,FALSE),\"\")","v":""}]
[null,null,null,"",true,"","","","",{"$f":"IF(B44>0,VLOOKUP(I44,Punkteschema!$A$2:$B$101,2,FALSE),\"\")","v":""}]
[null,null,null,"",true,"","","","",{"$f":"IF(B45>0,VLOOKUP(I45,Punkteschema!$A$2:$B$101,2,FALSE),\"\")","v":""}]
[null,null,null,"",true,"","","","",{"$f":"IF(B46>0,VLOOKUP(I46,Punkteschema!$A$2:$B$101,2,FALSE),\"\")","v":""}]
[null,null,null,"",true,"","","","",{"$f":"IF(B47>0,VLOOKUP(I47,Punkteschema!$A$2:$B$101,2,FALSE),\"\")","v":""}]
[null,null,null,"",true,"","","","",{"$f":"IF(B48>0,VLOOKUP(I48,Punkteschema!$A$2:$B$101,2,FALSE),\"\")","v":""}]
[null,null,null,"",true,"","","","",{"$f":"IF(B49>0,VLOOKUP(I49,Punkteschema!$A$2:$B$101,2,FALSE),\"\")","v":""}]
[null,null,null,"",true,"","","","",{"$f":"IF(B50>0,VLOOKUP(I50,Punkteschema!$A$2:$B$101,2,FALSE),\"\")","v":""}]
[null,null,null,"",true,"","","","",{"$f":"IF(B51>0,VLOOKUP(I51,Punkteschema!$A$2:$B$101,2,FALSE),\"\")","v":""}]
[null,null,null,"",true,"","","","",{"$f":"IF(B52>0,VLOOKUP(I52,Punkteschema!$A$2:$B$101,2,FALSE),\"\")","v":""}]
[null,null,null,"",true,{"$f":"IF(B53>0,COUNTIF(B$3:B$55,\"<\"&B53)+1,\"\")","v":""},"",{"$f":"IF(AND(B53>0,C53>0),COUNTIF(D$3:D$55,\"<\"&D53)+1,\"\")","v":""},"",{"$f":"IF(B53>0,VLOOKUP(I53,Punkteschema!$A$2:$B$101,2,FALSE),\"\")","v":""}]
[null,null,null,"",true,"","",{"$f":"IF(AND(B54>0,C54>0),COUNTIF(D$3:D$55,\"<\"&D54)+1,\"\")","v":""},"",{"$f":"IF(B54>0,VLOOKUP(I54,Punkteschema!$A$2:$B$101,2,FALSE),\"\")","v":""}]
[null,null,null,"",true,"","",{"$f":"IF(AND(B55>0,C55>0),COUNTIF(D$3:D$55,\"<\"&D55)+1,\"\")","v":""},"",{"$f":"IF(B55>0,VLOOKUP(I55,Punkteschema!$A$2:$B$101,2,FALSE),\"\")","v":""}]
[]
["OS: Urban, Volker (ASW)",null,null,null,"Runde 1:","E","<- E/B"]
["S: Rabe, Jonas (HAR)",null,null,null,"Runde 2:","B","<- E/B"]
["S: Lenk, Rolf (ASW)"]
[]
["Verloste Preise:"]
["Schmidtbauer, Günter","1 Minigolfball MGC RW Wanne-Eickel 2001"]
["Urban, Volker","1 Flasche Vanillelikör"]
["Brunnenkant, Frank","1 Verzehrgutschein"]

{"sheet":"Einzelwertung16","index":18,"n_rows":64,"n_cols":10,"rows_kept":64,"cut":false,"hidden":false,"merged":[[0,0,0,9]]}
[{"$f":"CONCATENATE(\"7. Sommer-Cup - Freizeittreff Herbede - \",TEXT(Gesamtstand!$U$2,\"TT.MM.JJ\"))","v":"7. Sommer-Cup - Freizeittreff Herbede - 18.08.22"}]
["Spieler","Runde 1","Runde 2","Gesamt","bessere?","Pl. R1","Pl. R2","Pl. Ges.","gewertet","Punkte"]
["Urban, Volker",25,31,{"$f":"IF(B3>0,C3+B3,\"\")","v":56},true,{"$f":"IF(B3>0,COUNTIF(B$3:B$55,\"<\"&B3)+1,\"\")","v":2},{"$f":"IF(C3>0,COUNTIF(C$3:C$55,\"<\"&C3)+1,\"\")","v":2},{"$f":"IF(AND(B3>0,C3>0),COUNTIF(D$3:D$55,\"<\"&D3)+1,\"\")","v":1},{"$f":"IF(B3>0,IF(E3,MIN(F3:H3),SUM(F3:H3)-MAX(F3:H3)-MIN(F3:H3)),\"\")","v":1},{"$f":"IF(B3>0,VLOOKUP(I3,Punkteschema!$A$2:$B$101,2,FALSE),\"\")","v":25}]
["Wilke, Andreas",29,28,57,true,10,1,2,1,{"$f":"IF(B4>0,VLOOKUP(I4,Punkteschema!$A$2:$B$101,2,FALSE),\"\")","v":25}]
["Rabe, Jonas",26,31,57,false,4,2,2,2,{"$f":"IF(B5>0,VLOOKUP(I5,Punkteschema!$A$2:$B$101,2,FALSE),\"\")","v":21}]
["Buchholz, Ansgar",25,34,59,false,2,5,4,4,{"$f":"IF(B6>0,VLOOKUP(I6,Punkteschema!$A$2:$B$101,2,FALSE),\"\")","v":15}]
["Puschner, Michael",26,33,59,true,4,4,4,4,{"$f":"IF(B7>0,VLOOKUP(I7,Punkteschema!$A$2:$B$101,2,FALSE),\"\")","v":15}]
["Gattner, Karsten",26,36,62,true,4,8,7,4,{"$f":"IF(B8>0,VLOOKUP(I8,Punkteschema!$A$2:$B$101,2,FALSE),\"\")","v":15}]
["Börgmann, Ulrich",26,43,69,true,4,16,13,4,{"$f":"IF(B9>0,VLOOKUP(I9,Punkteschema!$A$2:$B$101,2,FALSE),\"\")","v":15}]
["Rade, Marcus",22,38,60,false,1,10,6,6,{"$f":"IF(B10>0,VLOOKUP(I10,Punkteschema!$A$2:$B$101,2,FALSE),\"\")","v":15}]
["Lenk, Rolf",28,35,63,true,9,6,8,6,{"$f":"IF(B11>0,VLOOKUP(I11,Punkteschema!$A$2:$B$101,2,FALSE),\"\")","v":15}]
["Brunnenkant, Frank",29,35,64,true,10,6,9,6,{"$f":"IF(B12>0,VLOOKUP(I12,Punkteschema!$A$2:$B$101,2,FALSE),\"\")","v":15}]
["Kortmann, Sabine",27,39,66,true,8,13,10,8,{"$f":"IF(B13>0,VLOOKUP(I13,Punkteschema!$A$2:$B$101,2,FALSE),\"\")","v":10}]
["Schmidtbauer, Günter",32,36,68,true,14,8,11,8,{"$f":"IF(B14>0,VLOOKUP(I14,Punkteschema!$A$2:$B$101,2,FALSE),\"\")","v":10}]
["Kunz, Martin",30,38,68,true,12,10,11,10,{"$f":"IF(B15>0,VLOOKUP(I15,Punkteschema!$A$2:$B$101,2,FALSE),\"\")","v":10}]
["Dreischer, Burkhard",31,38,69,true,13,10,13,10,{"$f":"IF(B16>0,VLOOKUP(I16,Punkteschema!$A$2:$B$101,2,FALSE),\"\")","v":10}]
["Kersch, Uwe",44,40,84,true,17,14,16,14,{"$f":"IF(B17>0,VLOOKUP(I17,Punkteschema!$A$2:$B$101,2,FALSE),\"\")","v":5}]
["Puschner, Silke",35,50,85,true,15,17,17,15,{"$f":"IF(B18>0,VLOOKUP(I18,Punkteschema!$A$2:$B$101,2,FALSE),\"\")","v":5}]
["Kortmann, Uwe",42,41,83,true,16,15,15,15,{"$f":"IF(B19>0,VLOOKUP(I19,Punkteschema!$A$2:$B$101,2,FALSE),\"\")","v":5}]
[null,null,null,{"$f":"IF(B20>0,C20+B20,\"\")","v":""},true,{"$f":"IF(B20>0,COUNTIF(B$3:B$55,\"<\"&B20)+1,\"\")","v":""},"",{"$f":"IF(AND(B20>0,C20>0),COUNTIF(D$3:D$55,\"<\"&D20)+1,\"\")","v":""},{"$f":"IF(B20>0,IF(E20,MIN(F20:H20),SUM(F20:H20)-MAX(F20:H20)-MIN(F20:H20)),\"\")","v":""},{"$f":"IF(B20>0,VLOOKUP(I20,Punkteschema!$A$2:$B$101,2,FALSE),\"\")","v":""}]
[null,null,null,"",true,"","","","",{"$f":"IF(B21>0,VLOOKUP(I21,Punkteschema!$A$2:$B$101,2,FALSE),\"\")","v":""}]
[null,null,null,"",true,"","","","",{"$f":"IF(B22>0,VLOOKUP(I22,Punkteschema!$A$2:$B$101,2,FALSE),\"\")","v":""}]
[null,null,null,"",true,"","","","",{"$f":"IF(B23>0,VLOOKUP(I23,Punkteschema!$A$2:$B$101,2,FALSE),\"\")","v":""}]
[null,null,null,"",true,"","","","",{"$f":"IF(B24>0,VLOOKUP(I24,Punkteschema!$A$2:$B$101,2,FALSE),\"\")","v":""}]
[null,null,null,"",true,"","","","",{"$f":"IF(B25>0,VLOOKUP(I25,Punkteschema!$A$2:$B$101,2,FALSE),\"\")","v":""}]
[null,null,null,"",true,"","","","",{"$f":"IF(B26>0,VLOOKUP(I26,Punkteschema!$A$2:$B$101,2,FALSE),\"\")","v":""}]
[null,null,null,"",true,"","","","",{"$f":"IF(B27>0,VLOOKUP(I27,Punkteschema!$A$2:$B$101,2,FALSE),\"\")","v":""}]
[null,null,null,"",true,"","","","",{"$f":"IF(B28>0,VLOOKUP(I28,Punkteschema!$A$2:$B$101,2,FALSE),\"\")","v":""}]
[null,null,null,"",true,"","","","",{"$f":"IF(B29>0,VLOOKUP(I29,Punkteschema!$A$2:$B$101,2,FALSE),\"\")","v":""}]
[null,null,null,"",true,"","","","",{"$f":"IF(B30>0,VLOOKUP(I30,Punkteschema!$A$2:$B$101,2,FALSE),\"\")","v":""}]
[null,null,null,"",true,"","","","",{"$f":"IF(B31>0,VLOOKUP(I31,Punkteschema!$A$2:$B$101,2,FALSE),\"\")","v":""}]
[null,null,null,"",true,"","","","",{"$f":"IF(B32>0,VLOOKUP(I32,Punkteschema!$A$2:$B$101,2,FALSE),\"\")","v":""}]
[null,null,null,"",true,"","","","",{"$f":"IF(B33>0,VLOOKUP(I33,Punkteschema!$A$2:$B$101,2,FALSE),\"\")","v":""}]
[null,null,null,"",true,"","","","",{"$f":"IF(B34>0,VLOOKUP(I34,Punkteschema!$A$2:$B$101,2,FALSE),\"\")","v":""}]
[null,null,null,"",true,"","","","",{"$f":"IF(B35>0,VLOOKUP(I35,Punkteschema!$A$2:$B$101,2,FALSE),\"\")","v":""}]
[null,null,null,"",true,"","","","",{"$f":"IF(B36>0,VLOOKUP(I36,Punkteschema!$A$2:$B$101,2,FALSE),\"\")","v":""}]
[null,null,null,"",true,"","","","",{"$f":"IF(B37>0,VLOOKUP(I37,Punkteschema!$A$2:$B$101,2,FALSE),\"\")","v":""}]
[null,null,null,"",true,"","","","",{"$f":"IF(B38>0,VLOOKUP(I38,Punkteschema!$A$2:$B$101,2,FALSE),\"\")","v":""}]
[null,null,null,"",true,"","","","",{"$f":"IF(B39>0,VLOOKUP(I39,Punkteschema!$A$2:$B$101,2,FALSE),\"\")","v":""}]
[null,null,null,"",true,"","","","",{"$f":"IF(B40>0,VLOOKUP(I40,Punkteschema!$A$2:$B$101,2,FALSE),\"\")","v":""}]
[null,null,null,"",true,"","","","",{"$f":"IF(B41>0,VLOOKUP(I41,Punkteschema!$A$2:$B$101,2,FALSE),\"\")","v":""}]
[null,null,null,"",true,"","","","",{"$f":"IF(B42>0,VLOOKUP(I42,Punkteschema!$A$2:$B$101,2,FALSE),\"\")","v":""}]
[null,null,null,"",true,"","","","",{"$f":"IF(B43>0,VLOOKUP(I43,Punkteschema!$A$2:$B$101,2,FALSE),\"\")","v":""}]
[null,null,null,"",true,"","","","",{"$f":"IF(B44>0,VLOOKUP(I44,Punkteschema!$A$2:$B$101,2,FALSE),\"\")","v":""}]
[null,null,null,"",true,"","","","",{"$f":"IF(B45>0,VLOOKUP(I45,Punkteschema!$A$2:$B$101,2,FALSE),\"\")","v":""}]
[null,null,null,"",true,"","","","",{"$f":"IF(B46>0,VLOOKUP(I46,Punkteschema!$A$2:$B$101,2,FALSE),\"\")","v":""}]
[null,null,null,"",true,"","","","",{"$f":"IF(B47>0,VLOOKUP(I47,Punkteschema!$A$2:$B$101,2,FALSE),\"\")","v":""}]
[null,null,null,"",true,"","","","",{"$f":"IF(B48>0,VLOOKUP(I48,Punkteschema!$A$2:$B$101,2,FALSE),\"\")","v":""}]
[null,null,null,"",true,"","","","",{"$f":"IF(B49>0,VLOOKUP(I49,Punkteschema!$A$2:$B$101,2,FALSE),\"\")","v":""}]
[null,null,null,"",true,"","","","",{"$f":"IF(B50>0,VLOOKUP(I50,Punkteschema!$A$2:$B$101,2,FALSE),\"\")","v":""}]
[null,null,null,"",true,"","","","",{"$f":"IF(B51>0,VLOOKUP(I51,Punkteschema!$A$2:$B$101,2,FALSE),\"\")","v":""}]
[null,null,null,"",true,"","","","",{"$f":"IF(B52>0,VLOOKUP(I52,Punkteschema!$A$2:$B$101,2,FALSE),\"\")","v":""}]
[null,null,null,"",true,{"$f":"IF(B53>0,COUNTIF(B$3:B$55,\"<\"&B53)+1,\"\")","v":""},"",{"$f":"IF(AND(B53>0,C53>0),COUNTIF(D$3:D$55,\"<\"&D53)+1,\"\")","v":""},"",{"$f":"IF(B53>0,VLOOKUP(I53,Punkteschema!$A$2:$B$101,2,FALSE),\"\")","v":""}]
[null,null,null,"",true,"","",{"$f":"IF(AND(B54>0,C54>0),COUNTIF(D$3:D$55,\"<\"&D54)+1,\"\")","v":""},"",{"$f":"IF(B54>0,VLOOKUP(I54,Punkteschema!$A$2:$B$101,2,FALSE),\"\")","v":""}]
[null,null,null,"",true,"","",{"$f":"IF(AND(B55>0,C55>0),COUNTIF(D$3:D$55,\"<\"&D55)+1,\"\")","v":""},"",{"$f":"IF(B55>0,VLOOKUP(I55,Punkteschema!$A$2:$B$101,2,FALSE),\"\")","v":""}]
[]
["OS: Buchholz, Ansgar (ASW)",null,null,null,"Runde 1:","E","<- E/B"]
["S: Puschner, Michael (HOB)",null,null,null,"Runde 2:","B","<- E/B"]
["S: Urban, Volker (ASW)"]
[]
["Verloste Preise:"]
["Kersch, Uwe","1 Minigolfball"]
["Wilke, Andreas","1 Dose Haribo Color-Rado"]
["Puschner, Michael","1 Flasche Vanillelikör"]

{"sheet":"Bahnenergebnisse","index":19,"n_rows":250,"n_cols":48,"rows_kept":250,"cut":false,"hidden":false,"merged":[]}
["Datum","Spieler","R1","R2","R1","R2","L1","L2","Sys1","Sys2","E1","E2","E3","E4","E5","E6","E7","E8","E9","E10","E11","E12","E13","E14","E15","E16","E17","E18","E_Sum","B1","B2","B3","B4","B5","B6","B7","B8","B9","B10","B11","B12","B13","B14","B15","B16","B17","B18","B_Sum"]
["2022-05-05","Paffrath, Siegfried",{"$f":"IF(ISBLANK(E2),\"\",MID(E2,1,1)+MID(E2,2,1)+MID(E2,3,1)+MID(E2,4,1)+MID(E2,5,1)+MID(E2,6,1)+MID(E2,7,1)+MID(E2,8,1)+MID(E2,9,1)+MID(E2,10,1)+MID(E2,11,1)+MID(E2,12,1)+MID(E2,13,1)+MID(E2,14,1)+MID(E2,15,1)+MID(E2,16,1)+MID(E2,17,1)+MID(E2,18,1))","v":29},{"$f":"IF(ISBLANK(F2),\"\",MID(F2,1,1)+MID(F2,2,1)+MID(F2,3,1)+MID(F2,4,1)+MID(F2,5,1)+MID(F2,6,1)+MID(F2,7,1)+MID(F2,8,1)+MID(F2,9,1)+MID(F2,10,1)+MID(F2,11,1)+MID(F2,12,1)+MID(F2,13,1)+MID(F2,14,1)+MID(F2,15,1)+MID(F2,16,1)+MID(F2,17,1)+MID(F2,18,1))","v":40},"171111112111212122","221311123211225722",{"$f":"LEN(E2)","v":18},{"$f":"LEN(F2)","v":18},"E","B",{"$f":"IF($I2=MID(K$1,1,1),IF(ISBLANK($E2),\"\",VALUE(MID($E2,VALUE(MID(K$1,2,LEN(K$1)-1)),1))),IF($J2=MID(K$1,1,1),IF(ISBLANK($F2),\"\",VALUE(MID($F2,VALUE(MID(K$1,2,LEN(K$1)-1)),1)))))","v":1},7,1,1,1,1,1,1,2,1,1,1,2,1,2,1,{"$f":"IF($I2=MID(AA$1,1,1),IF(ISBLANK($E2),\"\",VALUE(MID($E2,VALUE(MID(AA$1,2,LEN(AA$1)-1)),1))),IF($J2=MID(AA$1,1,1),IF(ISBLANK($F2),\"\",VALUE(MID($F2,VALUE(MID(AA$1,2,LEN(AA$1)-1)),1)))))","v":2},2,{"$f":"IF(SUM(K2:AB2)>0,SUM(K2:AB2),0)","v":29},{"$f":"IF($I2=MID(AD$1,1,1),IF(ISBLANK($E2),\"\",VALUE(MID($E2,VALUE(MID(AD$1,2,LEN(AD$1)-1)),1))),IF($J2=MID(AD$1,1,1),IF(ISBLANK($F2),\"\",VALUE(MID($F2,VALUE(MID(AD$1,2,LEN(AD$1)-1)),1)))))","v":2},2,1,3,1,1,1,2,3,2,1,1,2,2,5,7,2,2,{"$f":"IF(SUM(AD2:AU2)>0,SUM(AD2:AU2),0)","v":40}]
["2022-05-05","Paffrath, Ben",28,{"$f":"IF(ISBLANK(F3),\"\",MID(F3,1,1)+MID(F3,2,1)+MID(F3,3,1)+MID(F3,4,1)+MID(F3,5,1)+MID(F3,6,1)+MID(F3,7,1)+MID(F3,8,1)+MID(F3,9,1)+MID(F3,10,1)+MID(F3,11,1)+MID(F3,12,1)+MID(F3,13,1)+MID(F3,14,1)+MID(F3,15,1)+MID(F3,16,1)+MID(F3,17,1)+MID(F3,18,1))","v":32},"311211111111322222","222422122211221112",{"$f":"LEN(E3)","v":18},{"$f":"LEN(F3)","v":18},"E","B",3,1,1,2,1,1,1,1,1,1,1,1,3,2,2,2,2,2,{"$f":"IF(SUM(K3:AB3)>0,SUM(K3:AB3),0)","v":28},2,2,2,4,2,2,1,2,2,2,1,1,2,2,1,1,1,2,{"$f":"IF(SUM(AD3:AU3)>0,SUM(AD3:AU3),0)","v":32}]
["2022-05-05","Rade, Marcus",27,{"$f":"IF(ISBLANK(F4),\"\",MID(F4,1,1)+MID(F4,2,1)+MID(F4,3,1)+MID(F4,4,1)+MID(F4,5,1)+MID(F4,6,1)+MID(F4,7,1)+MID(F4,8,1)+MID(F4,9,1)+MID(F4,10,1)+MID(F4,11,1)+MID(F4,12,1)+MID(F4,13,1)+MID(F4,14,1)+MID(F4,15,1)+MID(F4,16,1)+MID(F4,17,1)+MID(F4,18,1))","v":33},"122123112211121121","111422122221212322",18,18,"E","B",1,2,2,1,2,3,1,1,2,2,1,1,1,2,1,1,2,1,27,1,1,1,4,2,2,1,2,2,2,2,1,2,1,2,3,2,2,33]
["2022-05-05","Urban, Volker",30,30,"122131122211212222","212222122211212221",18,18,"E","B",1,2,2,1,3,1,1,2,2,2,1,1,2,1,2,2,2,2,30,2,1,2,2,2,2,1,2,2,2,1,1,2,1,2,2,2,1,30]
["2022-05-05","Börgmann, Brigitte",36,42,"172231212221122212","222321224312216322",18,18,"E","B",1,7,2,2,3,1,2,1,2,2,2,1,1,2,2,2,1,2,36,2,2,2,3,2,1,2,2,4,3,1,2,2,1,6,3,2,2,42]
["2022-05-05","Börgmann, Ulrich",39,37,"351111132113315223","223222322212221223",18,18,"E","B",3,5,1,1,1,1,1,3,2,1,1,3,3,1,5,2,2,3,39,2,2,3,2,2,2,3,2,2,2,1,2,2,2,1,2,2,3,37]
["2022-05-05","Kortmann, Uwe",36,33,"131211212133522222","221322312111223221",18,18,"E","B",1,3,1,2,1,1,2,1,2,1,3,3,5,2,2,2,2,2,36,2,2,1,3,2,2,3,1,2,1,1,1,2,2,3,2,2,1,33]
["2022-05-05","Kortmann, Sabine",24,42,"111121112111232111","242312227212222231",18,18,"E","B",1,1,1,1,2,1,1,1,2,1,1,1,2,3,2,1,1,1,24,2,4,2,3,1,2,2,2,7,2,1,2,2,2,2,2,3,1,42]
["2022-05-05","Kunz, Martin",33,40,"112122142114232112","213612123213222223",18,18,"E","B",1,1,2,1,2,2,1,4,2,1,1,4,2,3,2,1,1,2,33,2,1,3,6,1,2,1,2,3,2,1,3,2,2,2,2,2,3,40]
["2022-05-05","Rabe, Jonas",23,33,"211211111211112211","122212141212214221",18,18,"E","B",2,1,1,2,1,1,1,1,1,2,1,1,1,1,2,2,1,1,23,1,2,2,2,1,2,1,4,1,2,1,2,2,1,4,2,2,1,33]
["2022-05-05","Puschner, Michael",26,36,"121111312221212111","132222122211223521",18,18,"E","B",1,2,1,1,1,1,3,1,2,2,2,1,2,1,2,1,1,1,26,1,3,2,2,2,2,1,2,2,2,1,1,2,2,3,5,2,1,36]
["2022-05-05","Schmidtbauer, Günter",35,45,"561211122211212122","433121346112243221",18,18,"E","B",5,6,1,2,1,1,1,2,2,2,1,1,2,1,2,1,2,2,35,4,3,3,1,2,1,3,4,6,1,1,2,2,4,3,2,2,1,45]
["2022-05-05","Buchholz, Ansgar",24,30,"111111122111121123","222113212211222211",18,18,"E","B",1,1,1,1,1,1,1,2,2,1,1,1,1,2,1,1,2,3,24,2,2,2,1,1,3,2,1,2,2,1,1,2,2,2,2,1,1,30]
["2022-05-05","Gattner, Karsten",39,35,"152312521212312312","112331232112212521",18,18,"E","B",1,5,2,3,1,2,5,2,1,2,1,2,3,1,2,3,1,2,39,1,1,2,3,3,1,2,3,{"$f":"IF($I15=MID(AL$1,1,1),IF(ISBLANK($E15),\"\",VALUE(MID($E15,VALUE(MID(AL$1,2,LEN(AL$1)-1)),1))),IF($J15=MID(AL$1,1,1),IF(ISBLANK($F15),\"\",VALUE(MID($F15,VALUE(MID(AL$1,2,LEN(AL$1)-1)),1)))))","v":2},1,1,2,2,1,2,5,2,1,35]
["2022-05-05","Lenk, Rolf",26,36,"211111111211412122","212512122212213241",18,18,"E","B",2,1,1,1,1,1,1,1,1,2,1,1,4,1,2,1,2,2,26,{"$f":"IF($I16=MID(AD$1,1,1),IF(ISBLANK($E16),\"\",VALUE(MID($E16,VALUE(MID(AD$1,2,LEN(AD$1)-1)),1))),IF($J16=MID(AD$1,1,1),IF(ISBLANK($F16),\"\",VALUE(MID($F16,VALUE(MID(AD$1,2,LEN(AD$1)-1)),1)))))","v":2},1,2,5,1,2,1,2,2,2,1,2,2,1,3,2,4,1,36]
["2022-05-05","Greiffendorf, Hellmut",{"$f":"IF(ISBLANK(E17),\"\",MID(E17,1,1)+MID(E17,2,1)+MID(E17,3,1)+MID(E17,4,1)+MID(E17,5,1)+MID(E17,6,1)+MID(E17,7,1)+MID(E17,8,1)+MID(E17,9,1)+MID(E17,10,1)+MID(E17,11,1)+MID(E17,12,1)+MID(E17,13,1)+MID(E17,14,1)+MID(E17,15,1)+MID(E17,16,1)+MID(E17,17,1)+MID(E17,18,1))","v":32},{"$f":"IF(ISBLANK(F17),\"\",MID(F17,1,1)+MID(F17,2,1)+MID(F17,3,1)+MID(F17,4,1)+MID(F17,5,1)+MID(F17,6,1)+MID(F17,7,1)+MID(F17,8,1)+MID(F17,9,1)+MID(F17,10,1)+MID(F17,11,1)+MID(F17,12,1)+MID(F17,13,1)+MID(F17,14,1)+MID(F17,15,1)+MID(F17,16,1)+MID(F17,17,1)+MID(F17,18,1))","v":28},"152211112121412221","221212112211213211",{"$f":"LEN(E17)","v":18},{"$f":"LEN(F17)","v":18},"E","B",1,5,2,2,1,1,1,1,2,1,2,1,4,1,2,{"$f":"IF($I17=MID(Z$1,1,1),IF(ISBLANK($E17),\"\",VALUE(MID($E17,VALUE(MID(Z$1,2,LEN(Z$1)-1)),1))),IF($J17=MID(Z$1,1,1),IF(ISBLANK($F17),\"\",VALUE(MID($F17,VALUE(MID(Z$1,2,LEN(Z$1)-1)),1)))))","v":2},2,1,32,2,2,1,2,1,2,1,1,2,2,1,1,2,1,3,2,1,1,28]
["2022-05-05","Kersch, Uwe",38,42,"271231122221232212","122322323211324234",18,18,"E","B",{"$f":"IF($I18=MID(K$1,1,1),IF(ISBLANK($E18),\"\",VALUE(MID($E18,VALUE(MID(K$1,2,LEN(K$1)-1)),1))),IF($J18=MID(K$1,1,1),IF(ISBLANK($F18),\"\",VALUE(MID($F18,VALUE(MID(K$1,2,LEN(K$1)-1)),1)))))","v":2},7,1,2,3,1,1,2,2,2,2,1,2,3,2,2,1,2,38,1,2,2,3,2,2,3,2,3,2,1,1,3,2,4,2,3,4,42]
["2022-05-05","Brunnenkant, Frank",27,30,"111111112123222122","122222131211222121",18,18,"E","B",1,1,1,1,1,1,1,1,2,1,2,3,2,2,2,1,2,2,27,1,2,2,2,2,2,1,3,1,2,1,1,2,2,2,1,2,1,30]
["2022-05-12","Kunz, Martin",24,41,"211211122111112211","233222235212222222",18,18,"E","B",2,1,1,2,1,1,1,2,2,1,1,1,1,1,2,2,1,1,24,2,3,3,2,2,2,2,3,5,2,1,2,2,2,2,2,2,2,41]
["2022-05-12","Urban, Dominic",27,33,"121212111121132122","221322122111222421",18,18,"E","B",1,2,1,2,1,2,1,1,1,1,2,1,1,3,2,1,2,2,27,2,2,1,3,2,2,1,2,2,1,1,1,2,2,2,4,2,1,33]
["2022-05-12","Urban, Angela",40,37,"132215312131233223","222312322211242321",18,18,"E","B",1,3,2,2,1,5,3,1,2,1,3,1,2,3,3,2,2,3,40,2,2,2,3,1,2,3,2,2,2,1,1,2,4,2,3,2,1,37]
["2022-05-12","Urban, Volker",30,35,"411222112212112221","122212122212223323",18,18,"E","B",4,1,1,2,2,2,1,1,2,2,1,2,1,1,2,2,2,1,30,1,2,2,2,1,2,1,2,2,2,1,2,2,2,3,3,2,3,35]
["2022-05-12","Kortmann, Sabine",32,36,"121221212212242311","223322212211223321",18,18,"E","B",1,2,1,2,2,1,2,1,2,2,1,2,2,4,2,3,1,1,32,2,2,3,3,2,2,2,1,2,2,1,1,2,2,3,3,2,1,36]
["2022-05-12","Börgmann, Ulrich",34,39,"111211312112525122","313522122113125221",18,18,"E","B",1,1,1,2,1,1,3,1,2,1,1,2,5,2,5,1,2,2,34,3,1,3,5,2,2,1,2,2,1,1,3,1,2,5,2,2,1,39]
["2022-05-12","Börgmann, Brigitte",35,35,"222221222112152321","222322312112232221",18,18,"E","B",2,2,2,2,2,1,2,2,2,1,1,2,1,5,2,3,2,1,35,2,2,2,3,2,2,3,1,2,1,1,2,2,3,2,2,2,1,35]
["2022-05-12","Brunnenkant, Frank",30,37,"132221211222122121","112413122112323323",18,18,"E","B",1,3,2,2,2,1,2,1,1,2,2,2,1,2,2,1,2,1,30,1,1,2,4,1,3,1,2,2,1,1,2,3,2,3,3,2,3,37]
["2022-05-12","Puschner, Michael",33,29,"222221142221112123","231222111211212221",18,18,"E","B",2,2,2,2,2,1,1,4,2,2,2,1,1,1,2,1,2,3,33,2,3,1,2,2,2,1,1,1,2,1,1,2,1,2,2,2,1,29]
["2022-05-12","Lenk, Rolf",23,34,"111211111121112113","222212222212222141",18,18,"E","B",1,1,1,2,1,1,1,1,1,1,2,1,1,1,2,1,1,3,23,2,2,2,2,1,2,2,2,{"$f":"IF($I29=MID(AL$1,1,1),IF(ISBLANK($E29),\"\",VALUE(MID($E29,VALUE(MID(AL$1,2,LEN(AL$1)-1)),1))),IF($J29=MID(AL$1,1,1),IF(ISBLANK($F29),\"\",VALUE(MID($F29,VALUE(MID(AL$1,2,LEN(AL$1)-1)),1)))))","v":2},2,1,2,2,2,2,1,4,1,34]
["2022-05-12","Kortmann, Uwe",35,46,"221111112123322712","233712223321222324",18,18,"E","B",2,2,1,1,1,1,1,1,2,1,2,3,3,2,2,7,1,2,35,{"$f":"IF($I30=MID(AD$1,1,1),IF(ISBLANK($E30),\"\",VALUE(MID($E30,VALUE(MID(AD$1,2,LEN(AD$1)-1)),1))),IF($J30=MID(AD$1,1,1),IF(ISBLANK($F30),\"\",VALUE(MID($F30,VALUE(MID(AD$1,2,LEN(AD$1)-1)),1)))))","v":2},3,3,7,1,2,2,2,3,3,2,1,2,2,2,3,2,4,46]
["2022-05-12","Paffrath, Ben",29,36,"112141112111122322","321522312212221221",18,18,"E","B",1,1,2,1,4,1,1,1,2,1,1,1,1,2,2,3,2,2,29,3,2,1,5,2,2,3,1,2,2,1,2,2,2,1,2,2,1,36]
["2022-05-12","Paffrath, Siegfried",35,36,"121221212213332511","221322422112122322",18,18,"E","B",1,2,1,2,2,1,2,1,2,2,1,3,3,3,2,5,1,1,35,2,2,1,3,2,2,4,2,2,1,1,2,1,2,2,3,2,2,36]
["2022-05-12","Greiffendorf, Hellmut",28,41,"161111112111312121","224312223211216511",18,18,"E","B",1,6,1,1,1,1,1,1,2,1,1,1,3,1,2,1,2,1,28,2,2,4,3,1,2,2,2,3,2,1,1,2,1,6,5,1,1,41]
["2022-05-12","Schmidtbauer, Günter",54,44,"2121343122335553723","232622112222226322",19,18,"E","B",{"$f":"IF($I34=MID(K$1,1,1),IF(ISBLANK($E34),\"\",VALUE(MID($E34,VALUE(MID(K$1,2,LEN(K$1)-1)),1))),IF($J34=MID(K$1,1,1),IF(ISBLANK($F34),\"\",VALUE(MID($F34,VALUE(MID(K$1,2,LEN(K$1)-1)),1)))))","v":2},1,2,1,3,4,3,1,2,2,3,3,5,5,5,3,7,2,54,2,3,2,6,2,2,1,1,2,2,2,2,2,2,6,3,2,2,44]
["2022-05-12","Kersch, Uwe",28,36,"132212122211112121","221213113214224212",18,18,"E","B",1,3,2,2,1,2,1,2,2,2,1,1,1,1,2,1,2,1,28,2,2,1,2,1,3,1,1,3,2,1,4,2,2,4,2,1,2,36]
["2022-05-12","Buchholz, Ansgar",25,30,"112211121211112221","212223122112222111",18,18,"E","B",1,1,2,2,1,1,1,2,1,2,1,1,1,1,2,2,2,1,25,2,1,2,2,2,3,1,2,2,1,1,2,2,2,2,1,1,1,30]
["2022-05-12","Gattner, Karsten",36,39,"322212212321213223","222522222112342221",18,18,"E","B",3,2,2,2,1,2,2,1,2,3,2,1,2,1,3,2,{"$f":"IF($I37=MID(AA$1,1,1),IF(ISBLANK($E37),\"\",VALUE(MID($E37,VALUE(MID(AA$1,2,LEN(AA$1)-1)),1))),IF($J37=MID(AA$1,1,1),IF(ISBLANK($F37),\"\",VALUE(MID($F37,VALUE(MID(AA$1,2,LEN(AA$1)-1)),1)))))","v":2},3,36,2,2,2,5,2,2,2,2,2,1,1,2,3,4,2,2,2,1,39]
["2022-05-19","Kunz, Martin",26,34,"131111122111142111","222322222212212221",18,18,"E","B",1,3,1,1,1,1,1,2,2,1,1,1,1,4,2,1,1,1,26,2,2,2,3,2,2,2,2,2,2,1,2,2,1,2,2,2,1,34]
["2022-05-19","Rade, Marcus",23,33,"211211112111112211","112232122212222222",18,18,"E","B",2,1,1,2,1,1,1,1,2,1,1,1,1,1,2,2,1,1,23,1,1,2,2,3,2,1,2,2,2,1,2,2,2,2,2,2,2,33]
["2022-05-19","Urban, Volker",27,35,"121211132112212121","221422132212222221",18,18,"E","B",1,2,1,2,1,1,1,3,2,1,1,2,2,1,2,1,2,1,27,2,2,1,4,2,2,1,3,2,2,1,2,2,2,2,2,2,1,35]
["2022-05-19","Urban, Dominic",26,34,"111121111211214212","223222122213222211",18,18,"E","B",1,1,1,1,2,1,1,1,1,2,1,1,2,1,4,2,1,2,26,2,2,3,2,2,2,1,2,2,2,1,3,2,2,2,2,1,1,34]
["2022-05-19","Puschner, Michael",37,33,"322211111212213237","221222123211222231",18,18,"E","B",{"$f":"IF($I42=MID(K$1,1,1),IF(ISBLANK($E42),\"\",VALUE(MID($E42,VALUE(MID(K$1,2,LEN(K$1)-1)),1))),IF($J42=MID(K$1,1,1),IF(ISBLANK($F42),\"\",VALUE(MID($F42,VALUE(MID(K$1,2,LEN(K$1)-1)),1)))))","v":3},2,2,2,1,1,1,1,1,2,1,2,2,1,3,2,3,7,37,2,2,1,2,2,2,1,2,3,2,1,1,2,2,2,2,3,1,33]
["2022-05-19","Puschner, Silke",44,43,"252211152125333213","231232522111252351",18,18,"E","B",{"$f":"IF($I43=MID(K$1,1,1),IF(ISBLANK($E43),\"\",VALUE(MID($E43,VALUE(MID(K$1,2,LEN(K$1)-1)),1))),IF($J43=MID(K$1,1,1),IF(ISBLANK($F43),\"\",VALUE(MID($F43,VALUE(MID(K$1,2,LEN(K$1)-1)),1)))))","v":2},5,2,2,1,1,1,5,2,1,2,5,3,3,3,2,1,3,44,2,3,1,2,3,2,5,2,{"$f":"IF($I43=MID(AL$1,1,1),IF(ISBLANK($E43),\"\",VALUE(MID($E43,VALUE(MID(AL$1,2,LEN(AL$1)-1)),1))),IF($J43=MID(AL$1,1,1),IF(ISBLANK($F43),\"\",VALUE(MID($F43,VALUE(MID(AL$1,2,LEN(AL$1)-1)),1)))))","v":2},1,1,1,2,5,2,3,5,1,43]
["2022-05-19","Paffrath, Ben",35,37,"172122121111232123","321342222211222231",18,18,"E","B",1,7,2,1,2,2,1,2,1,1,1,1,2,3,2,1,2,3,35,{"$f":"IF($I44=MID(AD$1,1,1),IF(ISBLANK($E44),\"\",VALUE(MID($E44,VALUE(MID(AD$1,2,LEN(AD$1)-1)),1))),IF($J44=MID(AD$1,1,1),IF(ISBLANK($F44),\"\",VALUE(MID($F44,VALUE(MID(AD$1,2,LEN(AD$1)-1)),1)))))","v":3},2,1,3,4,2,2,2,2,2,1,1,2,2,2,2,3,1,37]
["2022-05-19","Paffrath, Siegfried",24,40,"111221111221122111","222332125222222222",18,18,"E","B",1,1,1,2,2,1,1,1,1,2,2,1,1,2,2,1,1,1,24,2,2,2,3,3,2,1,2,5,2,2,2,2,2,2,2,2,2,40]
["2022-05-19","Rabe, Jonas",26,34,"111221112212212112","222221221222222222",18,18,"E","B",1,1,1,2,2,1,1,1,2,2,1,2,2,1,2,1,1,2,26,2,2,2,2,2,1,2,2,1,2,2,2,2,2,2,2,2,2,34]
["2022-05-19","Schmidtbauer, Günter",34,44,"213212122221112243","224312243423223221",18,18,"E","B",2,1,3,2,1,2,1,2,2,2,2,1,1,1,2,2,4,3,34,2,2,4,3,1,2,2,4,3,4,2,3,2,2,3,2,2,1,44]
["2022-05-19","Kortmann, Sabine",33,39,"141211111114242231","222352133211223221",18,18,"E","B",1,4,1,2,1,1,1,1,1,1,1,4,2,4,2,2,3,1,33,2,2,2,3,5,2,1,3,3,2,1,1,2,2,3,2,2,1,39]
["2022-05-19","Buchholz, Ansgar",30,30,"212311112112232221","121422112211212221",18,18,"E","B",2,1,2,3,1,1,1,1,2,1,1,2,2,3,2,2,2,1,30,1,2,1,4,2,2,1,1,2,2,1,1,2,1,2,2,2,1,30]
["2022-05-19","Urban, Angela",37,37,"262231112111212135","222313222111223422",18,18,"E","B",2,6,2,2,3,1,1,1,2,1,1,1,2,1,2,1,3,5,37,2,2,2,3,1,3,2,2,2,1,1,1,2,2,3,4,2,2,37]
["2022-05-25","Buchholz, Ansgar",{"$f":"IF(ISBLANK(E51),\"\",MID(E51,1,1)+MID(E51,2,1)+MID(E51,3,1)+MID(E51,4,1)+MID(E51,5,1)+MID(E51,6,1)+MID(E51,7,1)+MID(E51,8,1)+MID(E51,9,1)+MID(E51,10,1)+MID(E51,11,1)+MID(E51,12,1)+MID(E51,13,1)+MID(E51,14,1)+MID(E51,15,1)+MID(E51,16,1)+MID(E51,17,1)+MID(E51,18,1))","v":22},{"$f":"IF(ISBLANK(F51),\"\",MID(F51,1,1)+MID(F51,2,1)+MID(F51,3,1)+MID(F51,4,1)+MID(F51,5,1)+MID(F51,6,1)+MID(F51,7,1)+MID(F51,8,1)+MID(F51,9,1)+MID(F51,10,1)+MID(F51,11,1)+MID(F51,12,1)+MID(F51,13,1)+MID(F51,14,1)+MID(F51,15,1)+MID(F51,16,1)+MID(F51,17,1)+MID(F51,18,1))","v":29},"121211111211112111","211122122212212221",{"$f":"LEN(E51)","v":18},{"$f":"LEN(F51)","v":18},"E","B",1,2,1,2,1,1,1,1,1,2,1,1,1,1,2,1,1,1,22,2,1,1,1,2,2,1,2,2,2,1,2,2,1,2,2,2,1,29]
["2022-05-25","Kortmann, Sabine",28,35,"141111132111212113","222312123211232321",18,18,"E","B",1,4,1,1,1,1,1,3,2,1,1,1,2,1,2,1,1,3,28,2,2,2,3,1,2,1,2,3,2,1,1,2,3,2,3,2,1,35]
["2022-05-25","Arens, Ingo",28,35,"111222112211132122","232223122212222221",18,18,"E","B",1,1,1,2,2,2,1,1,2,2,1,1,1,3,2,1,2,2,28,2,3,2,2,2,3,1,2,2,2,1,2,2,2,2,2,2,1,35]
["2022-05-25","Börgmann, Brigitte",40,39,"172222212122313142","223213322212222242",18,18,"E","B",1,7,2,2,2,2,2,1,2,1,2,2,3,1,3,1,4,2,40,2,2,3,2,1,3,3,2,2,2,1,2,2,2,2,2,4,2,39]
["2022-05-25","Lenk, Rolf",24,36,"112211111111122212","113212332312214221",18,18,"E","B",1,1,2,2,1,1,1,1,1,1,1,1,1,2,2,2,1,2,24,1,1,3,2,1,2,3,3,2,3,1,2,2,1,4,2,2,1,36]
["2022-05-25","Brunnenkant, Frank",28,34,"122211212111132122","211512222221222221",18,18,"E","B",1,2,2,2,1,1,2,1,2,1,1,1,1,3,2,1,2,2,28,2,1,1,5,1,2,2,2,2,2,2,1,2,2,2,2,2,1,34]
["2022-05-25","Greiffendorf, Hellmut",29,35,"112212111211612211","122522122212212321",18,18,"E","B",1,1,2,2,1,2,1,1,1,2,1,1,6,1,2,2,{"$f":"IF($I57=MID(AA$1,1,1),IF(ISBLANK($E57),\"\",VALUE(MID($E57,VALUE(MID(AA$1,2,LEN(AA$1)-1)),1))),IF($J57=MID(AA$1,1,1),IF(ISBLANK($F57),\"\",VALUE(MID($F57,VALUE(MID(AA$1,2,LEN(AA$1)-1)),1)))))","v":1},1,29,1,2,2,5,2,2,1,2,{"$f":"IF($I57=MID(AL$1,1,1),IF(ISBLANK($E57),\"\",VALUE(MID($E57,VALUE(MID(AL$1,2,LEN(AL$1)-1)),1))),IF($J57=MID(AL$1,1,1),IF(ISBLANK($F57),\"\",VALUE(MID($F57,VALUE(MID(AL$1,2,LEN(AL$1)-1)),1)))))","v":2},2,1,2,2,1,2,3,2,1,35]
["2022-05-25","Puschner, Michael",25,35,"111221112111112222","222212121113223422",18,18,"E","B",1,1,1,2,2,1,1,1,2,1,1,1,1,1,2,2,2,2,25,{"$f":"IF($I58=MID(AD$1,1,1),IF(ISBLANK($E58),\"\",VALUE(MID($E58,VALUE(MID(AD$1,2,LEN(AD$1)-1)),1))),IF($J58=MID(AD$1,1,1),IF(ISBLANK($F58),\"\",VALUE(MID($F58,VALUE(MID(AD$1,2,LEN(AD$1)-1)),1)))))","v":2},2,2,2,1,2,1,2,1,1,1,3,2,2,3,4,2,2,35]
["2022-05-25","Puschner, Silke",34,57,"152211112111242133","243442732222222734",18,18,"E","B",{"$f":"IF($I59=MID(K$1,1,1),IF(ISBLANK($E59),\"\",VALUE(MID($E59,VALUE(MID(K$1,2,LEN(K$1)-1)),1))),IF($J59=MID(K$1,1,1),IF(ISBLANK($F59),\"\",VALUE(MID($F59,VALUE(MID(K$1,2,LEN(K$1)-1)),1)))))","v":1},5,2,2,1,1,1,1,2,1,1,1,2,4,2,1,3,3,34,2,4,3,4,4,2,7,3,2,2,2,2,2,2,2,7,3,4,57]
["2022-05-25","Kersch, Uwe",34,46,"242121122212112224","322522237212232231",18,18,"E","B",2,4,2,1,2,1,1,2,2,2,1,2,1,1,2,2,2,4,34,3,2,2,5,2,2,2,3,7,2,1,2,2,3,2,2,3,1,46]
["2022-05-25","Kunz, Martin",32,36,"242112231221112221","231412132112222322",18,18,"E","B",2,4,2,1,1,2,2,3,1,2,2,1,1,1,2,2,2,1,32,2,3,1,4,1,2,1,3,2,1,1,2,2,2,2,3,2,2,36]
["2022-05-25","Börgmann, Ulrich",29,47,"121221211112212124","224622242212212227",18,18,"E","B",1,2,1,2,2,1,2,1,1,1,1,2,2,1,2,1,2,4,29,2,2,4,6,2,2,2,4,2,2,1,2,2,1,2,2,2,7,47]
["2022-05-25","Urban, Angela",{"$f":"IF(ISBLANK(E63),\"\",MID(E63,1,1)+MID(E63,2,1)+MID(E63,3,1)+MID(E63,4,1)+MID(E63,5,1)+MID(E63,6,1)+MID(E63,7,1)+MID(E63,8,1)+MID(E63,9,1)+MID(E63,10,1)+MID(E63,11,1)+MID(E63,12,1)+MID(E63,13,1)+MID(E63,14,1)+MID(E63,15,1)+MID(E63,16,1)+MID(E63,17,1)+MID(E63,18,1))","v":36},{"$f":"IF(ISBLANK(F63),\"\",MID(F63,1,1)+MID(F63,2,1)+MID(F63,3,1)+MID(F63,4,1)+MID(F63,5,1)+MID(F63,6,1)+MID(F63,7,1)+MID(F63,8,1)+MID(F63,9,1)+MID(F63,10,1)+MID(F63,11,1)+MID(F63,12,1)+MID(F63,13,1)+MID(F63,14,1)+MID(F63,15,1)+MID(F63,16,1)+MID(F63,17,1)+MID(F63,18,1))","v":39},"262212221211112224","231226112211123324",{"$f":"LEN(E63)","v":18},{"$f":"LEN(F63)","v":18},"E","B",2,6,2,2,1,2,2,2,1,2,1,1,1,1,2,2,2,4,36,2,3,1,2,2,6,1,1,2,2,1,1,1,2,3,3,2,4,39]
["2022-05-25","Rade, Marcus",{"$f":"IF(ISBLANK(E64),\"\",MID(E64,1,1)+MID(E64,2,1)+MID(E64,3,1)+MID(E64,4,1)+MID(E64,5,1)+MID(E64,6,1)+MID(E64,7,1)+MID(E64,8,1)+MID(E64,9,1)+MID(E64,10,1)+MID(E64,11,1)+MID(E64,12,1)+MID(E64,13,1)+MID(E64,14,1)+MID(E64,15,1)+MID(E64,16,1)+MID(E64,17,1)+MID(E64,18,1))","v":25},{"$f":"IF(ISBLANK(F64),\"\",MID(F64,1,1)+MID(F64,2,1)+MID(F64,3,1)+MID(F64,4,1)+MID(F64,5,1)+MID(F64,6,1)+MID(F64,7,1)+MID(F64,8,1)+MID(F64,9,1)+MID(F64,10,1)+MID(F64,11,1)+MID(F64,12,1)+MID(F64,13,1)+MID(F64,14,1)+MID(F64,15,1)+MID(F64,16,1)+MID(F64,17,1)+MID(F64,18,1))","v":30},"121221112111222111","221113221212122212",{"$f":"LEN(E64)","v":18},{"$f":"LEN(F64)","v":18},"E","B",1,2,1,2,2,1,1,1,2,1,1,1,2,2,2,1,1,1,25,2,2,1,1,1,3,2,2,1,2,1,2,1,2,2,2,1,2,30]
["2022-05-25","Urban, Volker",27,33,"111211112213112222","122212222312222221",18,18,"E","B",1,1,1,2,1,1,1,1,2,2,1,3,1,1,2,2,2,2,27,1,2,2,2,1,2,2,2,2,3,1,2,2,2,2,2,2,1,33]
["2022-05-25","Urban, Dominic",28,35,"121221112211231122","222211124213222222",18,18,"E","B",1,2,1,2,2,1,1,1,2,2,1,1,2,3,1,1,2,2,28,2,2,2,2,1,1,1,2,4,2,1,3,2,2,2,2,2,2,35]
["2022-05-25","Schmidtbauer, Günter",36,42,"131213112211312722","232522322211224331",18,18,"E","B",1,3,1,2,1,3,1,1,2,2,1,1,3,1,2,7,2,2,{"$f":"IF(SUM(K67:AB67)>0,SUM(K67:AB67),0)","v":36},2,3,2,5,2,2,3,2,2,2,1,1,2,2,4,3,3,1,{"$f":"IF(SUM(AD67:AU67)>0,SUM(AD67:AU67),0)","v":42}]
["2022-05-25","Gattner, Karsten",41,44,"241211212213313624","222225122311232624",18,18,"E","B",2,4,1,2,1,1,2,1,2,2,1,3,3,1,3,6,2,4,41,2,2,2,2,2,5,1,2,2,3,1,1,2,3,2,6,2,4,44]
["2022-06-02","Börgmann, Brigitte",38,34,"151221252211222223","121322224112222122",18,18,"E","B",1,5,1,2,2,1,2,5,2,2,1,1,2,2,2,2,2,3,38,1,2,1,3,2,2,2,2,4,1,1,2,2,2,2,1,2,2,34]
["2022-06-02","Börgmann, Ulrich",35,38,"112211111124412244","222422224211123321",18,18,"E","B",1,1,2,2,1,1,1,1,1,1,2,4,4,1,2,2,4,4,35,2,2,2,4,2,2,2,2,4,2,1,1,1,2,3,3,2,1,38]
["2022-06-02","Brunnenkant, Frank",29,38,"121221111111142223","232222224212122421",18,18,"E","B",1,2,1,2,2,1,1,1,1,1,1,1,1,4,2,2,2,3,29,2,3,2,2,2,2,2,2,{"$f":"IF($I71=MID(AL$1,1,1),IF(ISBLANK($E71),\"\",VALUE(MID($E71,VALUE(MID(AL$1,2,LEN(AL$1)-1)),1))),IF($J71=MID(AL$1,1,1),IF(ISBLANK($F71),\"\",VALUE(MID($F71,VALUE(MID(AL$1,2,LEN(AL$1)-1)),1)))))","v":4},2,1,2,1,2,2,4,2,1,38]
["2022-06-02","Kortmann, Sabine",26,39,"111222111112212122","222412322211223242",18,18,"E","B",1,1,1,2,2,2,1,1,1,1,1,2,2,1,2,1,2,2,26,{"$f":"IF($I72=MID(AD$1,1,1),IF(ISBLANK($E72),\"\",VALUE(MID($E72,VALUE(MID(AD$1,2,LEN(AD$1)-1)),1))),IF($J72=MID(AD$1,1,1),IF(ISBLANK($F72),\"\",VALUE(MID($F72,VALUE(MID(AD$1,2,LEN(AD$1)-1)),1)))))","v":2},2,2,4,1,2,3,2,2,2,1,1,2,2,3,2,4,2,39]
["2022-06-02","Kunz, Martin",28,36,"241211111111132212","223322222211222231",18,18,"E","B",2,4,1,2,1,1,1,1,1,1,1,1,1,3,2,2,1,2,28,2,2,3,3,2,2,2,2,2,2,1,1,2,2,2,2,3,1,36]
["2022-06-02","Lenk, Rolf",30,38,"121222211112312123","223322322212222222",18,18,"E","B",1,2,1,2,2,2,2,1,1,1,1,2,3,1,2,{"$f":"IF($I74=MID(Z$1,1,1),IF(ISBLANK($E74),\"\",VALUE(MID($E74,VALUE(MID(Z$1,2,LEN(Z$1)-1)),1))),IF($J74=MID(Z$1,1,1),IF(ISBLANK($F74),\"\",VALUE(MID($F74,VALUE(MID(Z$1,2,LEN(Z$1)-1)),1)))))","v":1},2,3,30,2,2,3,3,2,2,3,2,2,2,1,2,2,2,2,2,2,2,38]
["2022-06-02","Paffrath, Ben",30,34,"121111122213212322","222222224211212221",18,18,"E","B",{"$f":"IF($I75=MID(K$1,1,1),IF(ISBLANK($E75),\"\",VALUE(MID($E75,VALUE(MID(K$1,2,LEN(K$1)-1)),1))),IF($J75=MID(K$1,1,1),IF(ISBLANK($F75),\"\",VALUE(MID($F75,VALUE(MID(K$1,2,LEN(K$1)-1)),1)))))","v":1},2,1,1,1,1,1,2,2,2,1,3,2,1,2,3,2,2,30,2,2,2,2,2,2,2,2,4,2,1,1,2,1,2,2,2,1,34]
["2022-06-02","Paffrath, Siegfried",28,35,"121121321111412211","221412122212223321",18,18,"E","B",1,2,1,1,2,1,3,2,1,1,1,1,4,1,2,2,1,1,28,2,2,1,4,1,2,1,2,2,2,1,2,2,2,3,3,2,1,35]
["2022-06-02","Puschner, Michael",35,32,"121211312111352512","222212122212222221",18,18,"E","B",1,2,1,2,1,1,3,1,2,1,1,1,3,5,2,5,1,2,35,2,2,2,2,1,2,1,2,2,2,1,2,2,2,2,2,2,1,32]
["2022-06-02","Rabe, Jonas",23,33,"112111111211122211","231322121212232211",18,18,"E","B",1,1,2,1,1,1,1,1,1,2,1,1,1,2,2,2,1,1,23,2,3,1,3,2,2,1,2,1,2,1,2,2,3,2,2,1,1,33]
["2022-06-02","Rade, Marcus",31,32,"222223221211112122","222312122211222221",18,18,"E","B",2,2,2,2,2,3,2,2,1,2,1,1,1,1,2,1,2,2,31,2,2,2,3,1,2,1,2,2,2,1,1,2,2,2,2,2,1,32]
["2022-06-02","Schmidtbauer, Günter",43,47,"122153422112112733","323733432222222221",18,18,"E","B",1,2,2,1,5,3,4,2,2,1,1,2,1,1,2,7,3,3,43,3,2,3,7,3,3,4,3,2,2,2,2,2,2,2,2,2,1,47]
["2022-06-02","Urban, Dominic",21,35,"111111111111211221","211322322212212223",18,18,"E","B",1,1,1,1,1,1,1,1,1,1,1,1,2,1,1,2,2,1,21,2,1,1,3,2,2,3,2,2,2,1,2,2,1,2,2,2,3,35]
["2022-06-02","Urban, Volker",30,31,"131212112211212322","221222211211222222",18,18,"E","B",1,3,1,2,1,2,1,1,2,2,1,1,2,1,2,3,2,2,30,2,2,1,2,2,2,2,1,1,2,1,1,2,2,2,2,2,2,31]
["2022-06-02","Kersch, Uwe",39,37,"171231312211223142","222223123213123222",18,18,"E","B",1,7,1,2,3,1,3,1,2,2,1,1,2,2,3,1,4,2,39,2,2,2,2,2,3,1,2,3,2,1,3,1,2,3,2,2,2,37]
["2022-06-02","Dreischer, Burkhard",37,44,"131222422111412233","211632422213222531",18,18,"E","B",1,3,1,2,2,2,4,2,2,1,1,1,4,1,2,2,3,3,37,2,1,1,6,3,2,4,2,2,2,1,3,2,2,2,5,3,1,44]
["2022-06-02","Buchholz, Ansgar",31,33,"121211112213222322","232212321211212222",18,18,"E","B",1,2,1,2,1,1,1,1,2,2,1,3,2,2,2,3,2,2,31,2,3,2,2,1,2,3,2,{"$f":"IF($I85=MID(AL$1,1,1),IF(ISBLANK($E85),\"\",VALUE(MID($E85,VALUE(MID(AL$1,2,LEN(AL$1)-1)),1))),IF($J85=MID(AL$1,1,1),IF(ISBLANK($F85),\"\",VALUE(MID($F85,VALUE(MID(AL$1,2,LEN(AL$1)-1)),1)))))","v":1},2,1,1,2,1,2,2,2,2,33]
["2022-06-02","Gattner, Karsten",32,42,"122212121221352111","132223324323222312",18,18,"E","B",1,2,2,2,1,2,1,2,1,2,2,1,3,5,2,1,1,1,32,{"$f":"IF($I86=MID(AD$1,1,1),IF(ISBLANK($E86),\"\",VALUE(MID($E86,VALUE(MID(AD$1,2,LEN(AD$1)-1)),1))),IF($J86=MID(AD$1,1,1),IF(ISBLANK($F86),\"\",VALUE(MID($F86,VALUE(MID(AD$1,2,LEN(AD$1)-1)),1)))))","v":1},3,2,2,2,3,3,2,4,3,2,3,2,2,2,3,1,2,42]
["2022-06-09","Lenk, Rolf",27,33,"121111211111112522","222113122211224221",18,18,"E","B",1,2,1,1,1,1,2,1,1,1,1,1,1,1,2,5,2,2,27,2,2,2,1,1,3,1,2,2,2,1,1,2,2,4,2,2,1,33]
["2022-06-09","Schmidtbauer, Günter",45,48,"142211212211276721","242712223232233341",18,18,"E","B",1,4,2,2,1,1,2,1,2,2,1,1,2,7,6,7,2,1,45,2,4,2,7,1,2,2,2,3,2,3,2,2,3,3,3,4,1,48]
["2022-06-09","Puschner, Michael",32,34,"221111112111212723","212312122111226131",18,18,"E","B",2,2,1,1,1,1,1,1,2,1,1,1,2,1,2,7,2,3,32,2,1,2,3,1,2,1,2,2,1,1,1,2,2,6,1,3,1,34]
["2022-06-09","Brunnenkant, Frank",24,33,"122111112112112121","212312124211222221",18,18,"E","B",1,2,2,1,1,1,1,1,2,1,1,2,1,1,2,1,2,1,24,2,1,2,3,1,2,1,2,4,2,1,1,2,2,2,2,2,1,33]
["2022-06-09","Rabe, Jonas",32,34,"112111112113412225","212521123311222211",18,18,"E","B",{"$f":"IF($I91=MID(K$1,1,1),IF(ISBLANK($E91),\"\",VALUE(MID($E91,VALUE(MID(K$1,2,LEN(K$1)-1)),1))),IF($J91=MID(K$1,1,1),IF(ISBLANK($F91),\"\",VALUE(MID($F91,VALUE(MID(K$1,2,LEN(K$1)-1)),1)))))","v":1},1,2,1,1,1,1,1,2,1,1,3,4,1,2,2,2,5,32,2,1,2,5,2,1,1,2,3,3,1,1,2,2,2,2,1,1,34]
["2022-06-09","Rade, Marcus",27,33,"122211511111112112","222212312212212231",18,18,"E","B",1,2,2,2,1,1,5,1,1,1,1,1,1,1,2,1,1,2,27,2,2,2,2,1,2,3,1,2,2,1,2,2,1,2,2,3,1,33]
["2022-06-09","Paffrath, Siegfried",31,41,"152223112121112121","122322213212226224",18,18,"E","B",1,5,2,2,2,3,1,1,2,1,2,1,1,1,2,1,2,1,31,1,2,2,3,2,2,2,1,3,2,1,2,2,2,6,2,2,4,41]
["2022-06-09","Paffrath, Ben",35,36,"142221112215122132","222312224212222221",18,18,"E","B",1,4,2,2,2,1,1,1,2,2,1,5,1,2,2,1,{"$f":"IF($I94=MID(AA$1,1,1),IF(ISBLANK($E94),\"\",VALUE(MID($E94,VALUE(MID(AA$1,2,LEN(AA$1)-1)),1))),IF($J94=MID(AA$1,1,1),IF(ISBLANK($F94),\"\",VALUE(MID($F94,VALUE(MID(AA$1,2,LEN(AA$1)-1)),1)))))","v":3},2,35,2,2,2,3,1,2,2,2,4,2,1,2,2,2,2,2,2,1,36]
["2022-06-09","Kunz, Martin",28,31,"112211212212213112","212212122111124222",18,18,"E","B",1,1,2,2,1,1,2,1,2,2,1,2,2,1,3,1,1,2,28,2,1,2,2,1,2,1,2,2,1,1,1,1,2,4,2,2,2,31]
["2022-06-09","Buchholz, Ansgar",33,30,"121111112225312412","122112123211222221",18,18,"E","B",1,2,1,1,1,1,1,1,2,2,2,5,3,1,2,4,1,2,33,1,2,2,1,1,2,1,2,3,2,1,1,2,2,2,2,2,1,30]
["2022-06-09","Gattner, Karsten",36,37,"232212121121312721","233222122212322321",18,18,"E","B",2,3,2,2,1,2,1,2,1,1,2,1,3,1,2,7,2,1,36,2,3,3,2,2,2,1,2,2,2,1,2,3,2,2,3,2,1,37]
["2022-06-15","Lenk, Rolf",26,32,"211211112212212112","132212122211222222",18,18,"E","B",2,1,1,2,1,1,1,1,2,2,1,2,2,1,2,1,1,2,26,1,3,2,2,1,2,1,2,2,2,1,1,2,2,2,2,2,2,32]
["2022-06-15","Dreischer, Burkhard",46,42,"371214122212372411","222323341222224222",18,18,"E","B",3,7,1,2,1,4,1,2,2,2,1,2,3,7,2,4,1,1,46,2,2,2,3,2,3,3,4,{"$f":"IF($I99=MID(AL$1,1,1),IF(ISBLANK($E99),\"\",VALUE(MID($E99,VALUE(MID(AL$1,2,LEN(AL$1)-1)),1))),IF($J99=MID(AL$1,1,1),IF(ISBLANK($F99),\"\",VALUE(MID($F99,VALUE(MID(AL$1,2,LEN(AL$1)-1)),1)))))","v":1},2,2,2,2,2,4,2,2,2,42]
["2022-06-15","Urban, Volker",28,33,"121211112213212122","222422111121222222",18,18,"E","B",1,2,1,2,1,1,1,1,2,2,1,3,2,1,2,1,2,2,28,{"$f":"IF($I100=MID(AD$1,1,1),IF(ISBLANK($E100),\"\",VALUE(MID($E100,VALUE(MID(AD$1,2,LEN(AD$1)-1)),1))),IF($J100=MID(AD$1,1,1),IF(ISBLANK($F100),\"\",VALUE(MID($F100,VALUE(MID(AD$1,2,LEN(AD$1)-1)),1)))))","v":2},2,2,4,2,2,1,1,1,1,2,1,2,2,2,2,2,2,33]
["2022-06-15","Rabe, Jonas",23,31,"111121111212212111","122312212211212411",18,18,"E","B",1,1,1,1,2,1,1,1,1,2,1,2,2,1,2,1,1,1,23,1,2,2,3,1,2,2,1,2,2,1,1,2,1,2,4,1,1,31]
["2022-06-15","Schmidtbauer, Günter",39,48,"122211232223422413","213326122132273341",18,18,"E","B",1,2,2,2,1,1,2,3,2,2,2,3,4,2,2,4,1,3,39,2,1,3,3,2,6,1,2,2,1,3,2,2,7,3,3,4,1,48]
["2022-06-15","Kunz, Martin",29,39,"131221211212412111","323222223213222231",18,18,"E","B",1,3,1,2,2,1,2,1,1,2,1,2,4,1,2,1,1,1,29,3,2,3,2,2,2,2,2,3,2,1,3,2,2,2,2,3,1,39]
["2022-06-15","Buchholz, Ansgar",27,32,"132112121211211212","222212222211222221",18,18,"E","B",1,3,2,1,1,2,1,2,1,2,1,1,2,1,1,2,1,2,27,2,2,2,2,1,2,2,2,2,2,1,1,2,2,2,2,2,1,32]
["2022-06-15","Rade, Marcus",25,37,"111211111211312212","232212223211224222",18,18,"E","B",1,1,1,2,1,1,1,1,1,2,1,1,3,1,2,2,1,2,25,2,3,2,2,1,2,2,2,3,2,1,1,2,2,4,2,2,2,37]
["2022-06-15","Gattner, Karsten",35,35,"142212412212132221","223122133211222213",18,18,"E","B",1,4,2,2,1,2,4,1,2,2,1,2,1,3,2,2,2,1,35,2,2,3,1,2,2,1,3,3,2,1,1,2,2,2,2,1,3,35]
["2022-06-15","Brunnenkant, Frank",27,33,"112211211212212212","123124113211223211",18,18,"E","B",{"$f":"IF($I107=MID(K$1,1,1),IF(ISBLANK($E107),\"\",VALUE(MID($E107,VALUE(MID(K$1,2,LEN(K$1)-1)),1))),IF($J107=MID(K$1,1,1),IF(ISBLANK($F107),\"\",VALUE(MID($F107,VALUE(MID(K$1,2,LEN(K$1)-1)),1)))))","v":1},1,2,2,1,1,2,1,1,2,1,2,2,1,2,2,1,2,27,1,2,3,1,2,4,1,1,3,2,1,1,2,2,3,2,1,1,33]
["2022-06-15","Puschner, Michael",31,31,"311111111211132523","222221123211122221",18,18,"E","B",3,1,1,1,1,1,1,1,1,2,1,1,1,3,2,5,2,3,31,2,2,2,2,2,1,1,2,3,2,1,1,1,2,2,2,2,1,31]
["2022-06-15","Kortmann, Sabine",34,33,"211144212211312213","232112321212122222",18,18,"E","B",2,1,1,1,4,4,2,1,2,2,1,1,3,1,2,2,1,3,34,2,3,2,1,1,2,3,2,1,2,1,2,1,2,2,2,2,2,33]
["2022-06-15","Urban, Dominic",24,35,"111111112212112212","222212132223122123",18,18,"E","B",1,1,1,1,1,1,1,1,2,2,1,2,1,1,2,2,1,2,24,2,2,2,2,1,2,1,3,2,2,2,3,1,2,2,1,2,3,35]
["2022-06-23","Puschner, Michael",34,35,"311261132111222221","222221112312232331",18,18,"E","B",3,1,1,2,6,1,1,3,2,1,1,1,2,2,2,2,2,1,34,2,2,2,2,2,1,1,1,2,3,1,2,2,3,2,3,3,1,35]
["2022-06-23","Lenk, Rolf",30,39,"311221112211222213","212232312211223226",18,18,"E","B",3,1,1,2,2,1,1,1,2,2,1,1,2,2,2,2,1,3,30,2,1,2,2,3,2,3,1,2,2,1,1,2,2,3,2,2,6,39]
["2022-06-23","Kortmann, Sabine",28,37,"212221112123112112","222212223212225221",18,18,"E","B",2,1,2,2,2,1,1,1,2,1,2,3,1,1,2,1,1,2,28,2,2,2,2,1,2,2,2,{"$f":"IF($I113=MID(AL$1,1,1),IF(ISBLANK($E113),\"\",VALUE(MID($E113,VALUE(MID(AL$1,2,LEN(AL$1)-1)),1))),IF($J113=MID(AL$1,1,1),IF(ISBLANK($F113),\"\",VALUE(MID($F113,VALUE(MID(AL$1,2,LEN(AL$1)-1)),1)))))","v":3},2,1,2,2,2,5,2,2,1,37]
["2022-06-23","Rade, Marcus",24,31,"121212111111112122","122222122212112222",18,18,"E","B",1,2,1,2,1,2,1,1,1,1,1,1,1,1,2,1,{"$f":"IF($I114=MID(AA$1,1,1),IF(ISBLANK($E114),\"\",VALUE(MID($E114,VALUE(MID(AA$1,2,LEN(AA$1)-1)),1))),IF($J114=MID(AA$1,1,1),IF(ISBLANK($F114),\"\",VALUE(MID($F114,VALUE(MID(AA$1,2,LEN(AA$1)-1)),1)))))","v":2},2,24,{"$f":"IF($I114=MID(AD$1,1,1),IF(ISBLANK($E114),\"\",VALUE(MID($E114,VALUE(MID(AD$1,2,LEN(AD$1)-1)),1))),IF($J114=MID(AD$1,1,1),IF(ISBLANK($F114),\"\",VALUE(MID($F114,VALUE(MID(AD$1,2,LEN(AD$1)-1)),1)))))","v":1},2,2,2,2,2,1,2,2,2,1,2,1,1,2,2,2,2,31]
["2022-06-23","Paffrath, Ben",33,38,"262221111112212132","322322423111222222",18,18,"E","B",2,6,2,2,2,1,1,1,1,1,1,2,2,1,2,1,3,2,33,3,2,2,3,2,2,4,2,3,1,1,1,2,2,2,2,2,2,38]
["2022-06-23","Urban, Volker",24,35,"112211112111212211","232212213212222312",18,18,"E","B",1,1,2,2,1,1,1,1,2,1,1,1,2,1,2,2,1,1,24,2,3,2,2,1,2,2,1,3,2,1,2,2,2,2,3,1,2,35]
["2022-06-23","Buchholz, Ansgar",24,28,"111212112111122211","212112112112222221",18,18,"E","B",1,1,1,2,1,2,1,1,2,1,1,1,1,2,2,2,1,1,24,2,1,2,1,1,2,1,1,2,1,1,2,2,2,2,2,2,1,28]
["2022-06-23","Kunz, Martin",33,43,"111121112222362122","332223123213213334",18,18,"E","B",1,1,1,1,2,1,1,1,2,2,2,2,3,6,2,1,2,2,33,3,3,2,2,2,3,1,2,3,2,1,3,2,1,3,3,3,4,43]
["2022-06-23","Gattner, Karsten",33,42,"112161121111312341","123712122212134233",18,18,"E","B",1,1,2,1,6,1,1,2,1,1,1,1,3,1,2,3,4,1,33,1,2,3,7,1,2,1,2,2,2,1,2,1,3,4,2,3,3,42]
["2022-06-23","Rabe, Jonas",29,34,"112212322212112211","112223222211222223",18,18,"E","B",1,1,2,2,1,2,3,2,2,2,1,2,1,1,2,2,1,1,29,1,1,2,2,2,3,2,2,2,2,1,1,2,2,2,2,2,3,34]
["2022-06-23","Urban, Angela",37,39,"311212111316112622","232713222211123221",18,18,"E","B",3,1,1,2,1,2,1,1,1,3,1,6,1,1,2,6,2,2,37,2,3,2,7,1,3,2,2,2,2,1,1,1,2,3,2,2,1,39]
["2022-06-23","Schmidtbauer, Günter",33,38,"122211212233312221","122224123211323232",18,18,"E","B",1,2,2,2,1,1,2,1,2,2,3,3,3,1,2,{"$f":"IF($I122=MID(Z$1,1,1),IF(ISBLANK($E122),\"\",VALUE(MID($E122,VALUE(MID(Z$1,2,LEN(Z$1)-1)),1))),IF($J122=MID(Z$1,1,1),IF(ISBLANK($F122),\"\",VALUE(MID($F122,VALUE(MID(Z$1,2,LEN(Z$1)-1)),1)))))","v":2},2,1,33,1,2,2,2,2,4,1,2,3,2,1,1,3,2,3,2,3,2,38]
["2022-06-23","Brunnenkant, Frank",29,35,"211211311121213132","212223323211222221",18,18,"E","B",{"$f":"IF($I123=MID(K$1,1,1),IF(ISBLANK($E123),\"\",VALUE(MID($E123,VALUE(MID(K$1,2,LEN(K$1)-1)),1))),IF($J123=MID(K$1,1,1),IF(ISBLANK($F123),\"\",VALUE(MID($F123,VALUE(MID(K$1,2,LEN(K$1)-1)),1)))))","v":2},1,1,2,1,1,3,1,1,1,2,1,2,1,3,1,3,2,29,2,1,2,2,2,3,3,2,3,2,1,1,2,2,2,2,2,1,35]
["2022-06-30","Schmidtbauer, Günter",37,"","222111372212212222",null,18,0,"E","B",2,2,2,1,1,1,3,7,2,2,1,2,2,1,2,2,2,2,37,"","","","","","","","","","","","","","","","","","",0]
["2022-06-30","Rabe, Jonas",21,"","111111112211112111",null,18,0,"E","B",1,1,1,1,1,1,1,1,2,2,1,1,1,1,2,1,1,1,21,"","","","","","","","","","","","","","","","","","",0]
["2022-06-30","Lenk, Rolf",37,"","121123212221422117",null,18,0,"E","B",1,2,1,1,2,3,2,1,2,2,2,1,4,2,2,1,1,7,37,"","","","","","","","","","","","","","","","","","",0]
["2022-06-30","Puschner, Michael",29,"","121111132211212223",null,18,0,"E","B",1,2,1,1,1,1,1,3,2,2,1,1,2,1,2,2,2,3,29,"","","","","","","","",{"$f":"IF($I127=MID(AL$1,1,1),IF(ISBLANK($E127),\"\",VALUE(MID($E127,VALUE(MID(AL$1,2,LEN(AL$1)-1)),1))),IF($J127=MID(AL$1,1,1),IF(ISBLANK($F127),\"\",VALUE(MID($F127,VALUE(MID(AL$1,2,LEN(AL$1)-1)),1)))))","v":""},"","","","","","","","","",0]
["2022-06-30","Börgmann, Brigitte",{"$f":"IF(ISBLANK(E128),\"\",MID(E128,1,1)+MID(E128,2,1)+MID(E128,3,1)+MID(E128,4,1)+MID(E128,5,1)+MID(E128,6,1)+MID(E128,7,1)+MID(E128,8,1)+MID(E128,9,1)+MID(E128,10,1)+MID(E128,11,1)+MID(E128,12,1)+MID(E128,13,1)+MID(E128,14,1)+MID(E128,15,1)+MID(E128,16,1)+MID(E128,17,1)+MID(E128,18,1))","v":41},{"$f":"IF(ISBLANK(F128),\"\",MID(F128,1,1)+MID(F128,2,1)+MID(F128,3,1)+MID(F128,4,1)+MID(F128,5,1)+MID(F128,6,1)+MID(F128,7,1)+MID(F128,8,1)+MID(F128,9,1)+MID(F128,10,1)+MID(F128,11,1)+MID(F128,12,1)+MID(F128,13,1)+MID(F128,14,1)+MID(F128,15,1)+MID(F128,16,1)+MID(F128,17,1)+MID(F128,18,1))","v":""},"232121133332313422",null,{"$f":"LEN(E128)","v":18},{"$f":"LEN(F128)","v":0},"E","B",2,3,2,1,2,1,1,3,3,3,3,2,3,1,3,4,2,2,41,{"$f":"IF($I128=MID(AD$1,1,1),IF(ISBLANK($E128),\"\",VALUE(MID($E128,VALUE(MID(AD$1,2,LEN(AD$1)-1)),1))),IF($J128=MID(AD$1,1,1),IF(ISBLANK($F128),\"\",VALUE(MID($F128,VALUE(MID(AD$1,2,LEN(AD$1)-1)),1)))))","v":""},"","","","","","","","","","","","","","","","","",0]
["2022-06-30","Rade, Marcus",25,"","121211112111111412",null,18,0,"E","B",1,2,1,2,1,1,1,1,2,1,1,1,1,1,1,4,1,2,25,"","","","","","","","","","","","","","","","","","",0]
["2022-06-30","Börgmann, Ulrich",28,"","122211111221122222",null,18,0,"E","B",1,2,2,2,1,1,1,1,1,2,2,1,1,2,2,2,2,2,28,"","","","","","","","","","","","","","","","","","",0]
["2022-06-30","Kortmann, Sabine",26,"","111121112212112222",null,18,0,"E","B",1,1,1,1,2,1,1,1,2,2,1,2,1,1,2,2,2,2,{"$f":"IF(SUM(K131:AB131)>0,SUM(K131:AB131),0)","v":26},"","","","","","","","","","","","","","","","","","",{"$f":"IF(SUM(AD131:AU131)>0,SUM(AD131:AU131),0)","v":0}]
["2022-06-30","Paffrath, Ben",31,"","212211122222232112",null,18,0,"E","B",2,1,2,2,1,1,1,2,2,2,2,2,2,3,2,1,1,2,31,"","","","","","","","","","","","","","","","","","",0]
["2022-06-30","Brunnenkant, Frank",31,"","221111221211222323",null,18,0,"E","B",2,2,1,1,1,1,2,2,1,2,1,1,2,2,2,3,2,3,31,"","","","","","","","","","","","","","","","","","",0]
["2022-06-30","Gattner, Karsten",36,"","141221121313312242",null,18,0,"E","B",1,4,1,2,2,1,1,2,1,3,1,3,3,1,2,2,4,2,36,"","","","","","","","","","","","","","","","","","",0]
["2022-07-07","Gattner, Karsten",38,41,"151111112334242222","222312423223321232",18,18,"E","B",1,5,1,1,1,1,1,1,2,3,3,4,2,4,2,2,2,2,38,2,2,2,3,1,2,4,2,3,2,2,3,3,2,1,2,3,2,41]
["2022-07-07","Buchholz, Ansgar",22,31,"121211112111112111","222112322211112222",18,18,"E","B",1,2,1,2,1,1,1,1,2,1,1,1,1,1,2,1,1,1,22,2,2,2,1,1,2,3,2,2,2,1,1,1,1,2,2,2,2,31]
["2022-07-07","Börgmann, Brigitte",35,42,"132211122112272122","212622222212226231",18,18,"E","B",1,3,2,2,1,1,1,2,2,1,1,2,2,7,2,1,2,2,35,2,1,2,6,2,2,2,2,2,2,1,2,2,2,6,2,3,1,42]
["2022-07-07","Börgmann, Ulrich",32,31,"222121112113233221","233112112211222221",18,18,"E","B",2,2,2,1,2,1,1,1,2,1,1,3,2,3,3,2,2,1,32,2,3,3,1,1,2,1,1,2,2,1,1,2,2,2,2,2,1,31]
["2022-07-07","Kortmann, Sabine",31,34,"112115211113112223","122222123212124221",18,18,"E","B",{"$f":"IF($I139=MID(K$1,1,1),IF(ISBLANK($E139),\"\",VALUE(MID($E139,VALUE(MID(K$1,2,LEN(K$1)-1)),1))),IF($J139=MID(K$1,1,1),IF(ISBLANK($F139),\"\",VALUE(MID($F139,VALUE(MID(K$1,2,LEN(K$1)-1)),1)))))","v":1},1,2,1,1,5,2,1,1,1,1,3,1,1,2,2,2,3,31,1,2,2,2,2,2,1,2,3,2,1,2,1,2,4,2,2,1,34]
["2022-07-07","Kunz, Martin",28,35,"211211112212112322","222212125212223211",18,18,"E","B",2,1,1,2,1,1,1,1,2,2,1,2,1,1,2,3,2,2,28,2,2,2,2,1,2,1,2,5,2,1,2,2,2,3,2,1,1,35]
["2022-07-07","Lenk, Rolf",30,31,"211111211212512222","121312222212122221",18,18,"E","B",2,1,1,1,1,1,2,1,1,2,1,2,5,1,2,2,2,2,30,1,2,1,3,1,2,2,2,{"$f":"IF($I141=MID(AL$1,1,1),IF(ISBLANK($E141),\"\",VALUE(MID($E141,VALUE(MID(AL$1,2,LEN(AL$1)-1)),1))),IF($J141=MID(AL$1,1,1),IF(ISBLANK($F141),\"\",VALUE(MID($F141,VALUE(MID(AL$1,2,LEN(AL$1)-1)),1)))))","v":2},2,1,2,1,2,2,2,2,1,31]
["2022-07-07","Paffrath, Ben",33,34,"311112421212132222","232112122212222241",18,18,"E","B",3,1,1,1,1,2,4,2,1,2,1,2,1,3,2,2,{"$f":"IF($I142=MID(AA$1,1,1),IF(ISBLANK($E142),\"\",VALUE(MID($E142,VALUE(MID(AA$1,2,LEN(AA$1)-1)),1))),IF($J142=MID(AA$1,1,1),IF(ISBLANK($F142),\"\",VALUE(MID($F142,VALUE(MID(AA$1,2,LEN(AA$1)-1)),1)))))","v":2},2,33,{"$f":"IF($I142=MID(AD$1,1,1),IF(ISBLANK($E142),\"\",VALUE(MID($E142,VALUE(MID(AD$1,2,LEN(AD$1)-1)),1))),IF($J142=MID(AD$1,1,1),IF(ISBLANK($F142),\"\",VALUE(MID($F142,VALUE(MID(AD$1,2,LEN(AD$1)-1)),1)))))","v":2},3,2,1,1,2,1,2,2,2,1,2,2,2,2,2,4,1,34]
["2022-07-07","Puschner, Michael",28,34,"111221311111222123","222232222211222221",18,18,"E","B",1,1,1,2,2,1,3,1,1,1,1,1,2,2,2,1,2,3,28,2,2,2,2,3,2,2,2,2,2,1,1,2,2,2,2,2,1,34]
["2022-07-07","Rade, Marcus",25,33,"211111112211212221","222321222212212221",18,18,"E","B",2,1,1,1,1,1,1,1,2,2,1,1,2,1,2,2,2,1,25,2,2,2,3,2,1,2,2,2,2,1,2,2,1,2,2,2,1,33]
["2022-07-07","Schmidtbauer, Günter",35,39,"241112252212112222","232422222211225221",18,18,"E","B",2,4,1,1,1,2,2,5,2,2,1,2,1,1,2,2,2,2,35,2,3,2,4,2,2,2,2,2,2,1,1,2,2,5,2,2,1,39]
["2022-07-14","Lenk, Rolf",24,30,"111112111212212112","221212321212112221",18,18,"E","B",1,1,1,1,1,2,1,1,1,2,1,2,2,1,2,1,1,2,24,2,2,1,2,1,2,3,2,1,2,1,2,1,1,2,2,2,1,30]
["2022-07-14","Urban, Volker",25,35,"121211112111113221","121212122313223223",18,18,"E","B",1,2,1,2,1,1,1,1,2,1,1,1,1,1,3,2,2,1,25,1,2,1,2,1,2,1,2,2,3,1,3,2,2,3,2,2,3,35]
["2022-07-14","Schmidtbauer, Günter",43,37,"112211752212132523","122322132211132324",18,18,"E","B",1,1,2,2,1,1,7,5,2,2,1,2,1,3,2,5,2,3,43,1,2,2,3,2,2,1,3,2,2,1,1,1,3,2,3,2,4,37]
["2022-07-14","Börgmann, Ulrich",27,39,"132111112212212112","213222122212127223",18,18,"E","B",1,3,2,1,1,1,1,1,2,2,1,2,2,1,2,1,1,2,27,2,1,3,2,2,2,1,2,2,2,1,2,1,2,7,2,2,3,39]
["2022-07-14","Urban, Angela",32,41,"111211731121212122","231223234211222234",18,18,"E","B",1,1,1,2,1,1,7,3,1,1,2,1,2,1,2,1,2,2,32,2,3,1,2,2,3,2,3,4,2,1,1,2,2,2,2,3,4,41]
["2022-07-14","Kortmann, Sabine",30,30,"211114112211212313","222321122112222111",18,18,"E","B",2,1,1,1,1,4,1,1,2,2,1,1,2,1,2,3,1,3,30,2,2,2,3,2,1,1,2,2,1,1,2,2,2,2,1,1,1,30]
["2022-07-14","Börgmann, Brigitte",46,40,"122224272216232222","121612216212222232",18,18,"E","B",1,2,2,2,2,4,2,7,2,2,1,6,2,3,2,2,2,2,46,1,2,1,6,1,2,2,1,6,2,1,2,2,2,2,2,3,2,40]
["2022-07-14","Kunz, Martin",28,32,"221111212221312211","221322311221112222",18,18,"E","B",2,2,1,1,1,1,2,1,2,2,2,1,3,1,2,2,1,1,28,2,2,1,3,2,2,3,1,1,2,2,1,1,1,2,2,2,2,32]
["2022-07-14","Buchholz, Ansgar",24,27,"112111112211112212","122211122212211211",18,18,"E","B",1,1,2,1,1,1,1,1,2,2,1,1,1,1,2,2,1,2,24,1,2,2,2,1,1,1,2,2,2,1,2,2,1,1,2,1,1,27]
["2022-07-14","Puschner, Michael",30,32,"112111122212212332","122221222213122221",18,18,"E","B",{"$f":"IF($I155=MID(K$1,1,1),IF(ISBLANK($E155),\"\",VALUE(MID($E155,VALUE(MID(K$1,2,LEN(K$1)-1)),1))),IF($J155=MID(K$1,1,1),IF(ISBLANK($F155),\"\",VALUE(MID($F155,VALUE(MID(K$1,2,LEN(K$1)-1)),1)))))","v":1},1,2,1,1,1,1,2,2,2,1,2,2,1,2,3,3,2,30,1,2,2,2,2,1,2,2,{"$f":"IF($I155=MID(AL$1,1,1),IF(ISBLANK($E155),\"\",VALUE(MID($E155,VALUE(MID(AL$1,2,LEN(AL$1)-1)),1))),IF($J155=MID(AL$1,1,1),IF(ISBLANK($F155),\"\",VALUE(MID($F155,VALUE(MID(AL$1,2,LEN(AL$1)-1)),1)))))","v":2},2,1,3,1,2,2,2,2,1,32]
["2022-07-14","Rade, Marcus",26,30,"241111112211112112","211222122212222211",18,18,"E","B",2,4,1,1,1,1,1,1,2,2,1,1,1,1,2,1,1,2,26,{"$f":"IF($I156=MID(AD$1,1,1),IF(ISBLANK($E156),\"\",VALUE(MID($E156,VALUE(MID(AD$1,2,LEN(AD$1)-1)),1))),IF($J156=MID(AD$1,1,1),IF(ISBLANK($F156),\"\",VALUE(MID($F156,VALUE(MID(AD$1,2,LEN(AD$1)-1)),1)))))","v":2},1,1,2,2,2,1,2,2,2,1,2,2,2,2,2,1,1,30]
["2022-07-14","Kersch, Uwe",35,50,"232213242211113212","152252434312222343",18,18,"E","B",2,3,2,2,1,3,2,4,2,2,1,1,1,1,3,2,1,2,35,1,5,2,2,5,2,4,3,4,3,1,2,2,2,2,3,4,3,50]
["2022-07-14","Dreischer, Burkhard",35,37,"142221122111412323","122422222211323222",18,18,"E","B",1,4,2,2,2,1,1,2,2,1,1,1,4,1,2,3,2,3,35,1,2,2,4,2,2,2,2,2,2,1,1,3,2,3,2,2,2,37]
["2022-07-14","Tabor, Peter",42,40,"212231623112524311","312622122213223231",18,18,"E","B",2,1,2,2,3,1,6,2,3,1,1,2,5,2,4,3,1,1,42,3,1,2,6,2,2,1,2,2,2,1,3,2,2,3,2,3,1,40]
["2022-07-21","Kersch, Uwe",43,"","131213242242223225",null,18,0,"E","B",1,3,1,2,1,3,2,4,2,2,4,2,2,2,3,2,2,5,43,"","","","","","","","","","","","","","","","","","",0]
["2022-07-21","Puschner, Michael",34,"","242111122212422113",null,18,0,"E","B",2,4,2,1,1,1,1,2,2,2,1,2,4,2,2,1,1,3,34,"","","","","","","","","","","","","","","","","","",0]
["2022-07-21","Lenk, Rolf",32,"","311221121211322124",null,18,0,"E","B",3,1,1,2,2,1,1,2,1,2,1,1,3,2,2,1,{"$f":"IF($I162=MID(AA$1,1,1),IF(ISBLANK($E162),\"\",VALUE(MID($E162,VALUE(MID(AA$1,2,LEN(AA$1)-1)),1))),IF($J162=MID(AA$1,1,1),IF(ISBLANK($F162),\"\",VALUE(MID($F162,VALUE(MID(AA$1,2,LEN(AA$1)-1)),1)))))","v":2},4,32,"","","","","","","","","","","","","","","","","","",0]
["2022-07-21","Rabe, Jonas",27,"","212211122212212111",null,18,0,"E","B",2,1,2,2,1,1,1,2,2,2,1,2,2,1,2,1,1,1,27,"","","","","","","","","","","","","","","","","","",0]
["2022-07-21","Kortmann, Sabine",32,"","111221222212222223",null,18,0,"E","B",1,1,1,2,2,1,2,2,2,2,1,2,2,2,2,2,2,3,32,"","","","","","","","","","","","","","","","","","",0]
["2022-07-21","Schmidtbauer, Günter",43,"","322111762211332231",null,18,0,"E","B",3,2,2,1,1,1,7,6,2,2,1,1,3,3,2,2,3,1,43,"","","","","","","","","","","","","","","","","","",0]
["2022-07-21","Dreischer, Burkhard",38,"","162211111214242421",null,18,0,"E","B",1,6,2,2,1,1,1,1,1,2,1,4,2,4,2,4,2,1,38,"","","","","","","","","","","","","","","","","","",0]
["2022-07-28","Brunnenkant, Frank",34,31,"222111112212513322","222112123221212221",18,18,"E","B",2,2,2,1,1,1,1,1,2,2,1,2,5,1,3,3,2,2,34,2,2,2,1,1,2,1,2,3,2,2,1,2,1,2,2,2,1,31]
["2022-07-28","Kortmann, Sabine",25,37,"111221111111212213","223432124211212221",18,18,"E","B",1,1,1,2,2,1,1,1,1,1,1,1,2,1,2,2,1,3,25,2,2,3,4,3,2,1,2,4,2,1,1,2,1,2,2,2,1,37]
["2022-07-28","Börgmann, Ulrich",28,37,"111112232111212132","211612131212222224",18,18,"E","B",1,1,1,1,1,2,2,3,2,1,1,1,2,1,2,1,3,2,28,2,1,1,6,1,2,1,3,{"$f":"IF($I169=MID(AL$1,1,1),IF(ISBLANK($E169),\"\",VALUE(MID($E169,VALUE(MID(AL$1,2,LEN(AL$1)-1)),1))),IF($J169=MID(AL$1,1,1),IF(ISBLANK($F169),\"\",VALUE(MID($F169,VALUE(MID(AL$1,2,LEN(AL$1)-1)),1)))))","v":1},2,1,2,2,2,2,2,2,4,37]
["2022-07-28","Gattner, Karsten",29,31,"132211112113121123","222222112212123211",18,18,"E","B",1,3,2,2,1,1,1,1,2,1,1,3,1,2,1,{"$f":"IF($I170=MID(Z$1,1,1),IF(ISBLANK($E170),\"\",VALUE(MID($E170,VALUE(MID(Z$1,2,LEN(Z$1)-1)),1))),IF($J170=MID(Z$1,1,1),IF(ISBLANK($F170),\"\",VALUE(MID($F170,VALUE(MID(Z$1,2,LEN(Z$1)-1)),1)))))","v":1},2,3,29,{"$f":"IF($I170=MID(AD$1,1,1),IF(ISBLANK($E170),\"\",VALUE(MID($E170,VALUE(MID(AD$1,2,LEN(AD$1)-1)),1))),IF($J170=MID(AD$1,1,1),IF(ISBLANK($F170),\"\",VALUE(MID($F170,VALUE(MID(AD$1,2,LEN(AD$1)-1)),1)))))","v":2},2,2,2,2,2,1,1,2,2,1,2,1,2,3,2,1,1,31]
["2022-07-28","Urban, Volker",23,33,"211111111211212112","221222222312122221",18,18,"E","B",{"$f":"IF($I171=MID(K$1,1,1),IF(ISBLANK($E171),\"\",VALUE(MID($E171,VALUE(MID(K$1,2,LEN(K$1)-1)),1))),IF($J171=MID(K$1,1,1),IF(ISBLANK($F171),\"\",VALUE(MID($F171,VALUE(MID(K$1,2,LEN(K$1)-1)),1)))))","v":2},1,1,1,1,1,1,1,1,2,1,1,2,1,2,1,1,2,23,2,2,1,2,2,2,2,2,2,3,1,2,1,2,2,2,2,1,33]
["2022-07-28","Lenk, Rolf",28,35,"111111122121232123","222322224112222211",18,18,"E","B",1,1,1,1,1,1,1,2,2,1,2,1,2,3,2,1,2,3,28,2,2,2,3,2,2,2,2,4,1,1,2,2,2,2,2,1,1,35]
["2022-07-28","Rade, Marcus",25,31,"111211111212132211","222212112211223221",18,18,"E","B",1,1,1,2,1,1,1,1,1,2,1,2,1,3,2,2,1,1,25,2,2,2,2,1,2,1,1,2,2,1,1,2,2,3,2,2,1,31]
["2022-07-28","Kunz, Martin",31,33,"241222121111114212","121512124211212311",18,18,"E","B",2,4,1,2,2,2,1,2,1,1,1,1,1,1,4,2,1,2,31,1,2,1,5,1,2,1,2,4,2,1,1,2,1,2,3,1,1,33]
["2022-07-28","Rabe, Jonas",26,29,"111211112212212212","212122123211112221",18,18,"E","B",1,1,1,2,1,1,1,1,2,2,1,2,2,1,2,2,1,2,26,2,1,2,1,2,2,1,2,3,2,1,1,1,1,2,2,2,1,29]
["2022-07-28","Börgmann, Brigitte",38,36,"341221171122222311","222212134122214221",18,18,"E","B",3,4,1,2,2,1,1,7,1,1,2,2,2,2,2,3,1,1,38,2,2,2,2,1,2,1,3,4,1,2,2,2,1,4,2,2,1,36]
["2022-07-28","Urban, Angela",36,38,"151212132211512222","222323222111322233",18,18,"E","B",1,5,1,2,1,2,1,3,2,2,1,1,5,1,2,2,2,2,36,2,2,2,3,2,3,2,2,2,1,1,1,3,2,2,2,3,3,38]
["2022-07-28","Puschner, Michael",23,35,"111111112121112122","232122123212222231",18,18,"E","B",1,1,1,1,1,1,1,1,2,1,2,1,1,1,2,1,2,2,23,2,3,2,1,2,2,1,2,3,2,1,2,2,2,2,2,3,1,35]
["2022-07-28","Dreischer, Burkhard",33,43,"311212112211412413","224471133122222221",18,18,"E","B",3,1,1,2,1,2,1,1,2,2,1,1,4,1,2,4,1,3,33,2,2,4,4,7,1,1,3,3,1,2,2,2,2,2,2,2,1,43]
["2022-07-28","Schmidtbauer, Günter",33,31,"212231111111532222","221212122211222222",18,18,"E","B",2,1,2,2,3,1,1,1,1,1,1,1,5,3,2,2,2,2,33,2,2,1,2,1,2,1,2,2,2,1,1,2,2,2,2,2,2,31]
["2022-08-04","Börgmann, Brigitte",32,37,"122221212141222113","222222231113223232",18,18,"E","B",1,2,2,2,2,1,2,1,2,1,4,1,2,2,2,1,1,3,32,2,2,2,2,2,2,2,3,1,1,1,3,2,2,3,2,3,2,37]
["2022-08-04","Börgmann, Ulrich",38,34,"322221511212233312","222212112211233223",18,18,"E","B",3,2,2,2,2,1,5,1,1,2,1,2,2,3,3,3,1,2,38,2,2,2,2,1,2,1,1,2,2,1,1,2,3,3,2,2,3,34]
["2022-08-04","Brunnenkant, Frank",26,36,"122211112111312112","222242122212222321",18,18,"E","B",1,2,2,2,1,1,1,1,2,1,1,1,3,1,2,1,1,2,26,2,2,2,2,4,2,1,2,{"$f":"IF($I183=MID(AL$1,1,1),IF(ISBLANK($E183),\"\",VALUE(MID($E183,VALUE(MID(AL$1,2,LEN(AL$1)-1)),1))),IF($J183=MID(AL$1,1,1),IF(ISBLANK($F183),\"\",VALUE(MID($F183,VALUE(MID(AL$1,2,LEN(AL$1)-1)),1)))))","v":2},2,1,2,2,2,2,3,2,1,36]
["2022-08-04","Buchholz, Ansgar",26,27,"121111111212412211","121122122111222121",18,18,"E","B",1,2,1,1,1,1,1,1,1,2,1,2,4,1,2,2,1,1,26,{"$f":"IF($I184=MID(AD$1,1,1),IF(ISBLANK($E184),\"\",VALUE(MID($E184,VALUE(MID(AD$1,2,LEN(AD$1)-1)),1))),IF($J184=MID(AD$1,1,1),IF(ISBLANK($F184),\"\",VALUE(MID($F184,VALUE(MID(AD$1,2,LEN(AD$1)-1)),1)))))","v":1},2,1,1,2,2,1,2,2,1,1,1,2,2,2,1,2,1,27]
["2022-08-04","Dreischer, Burkhard",29,39,"221212122221212112","232153222222222221",18,18,"E","B",2,2,1,2,1,2,1,2,2,2,2,1,2,1,2,1,1,2,29,2,3,2,1,5,3,2,2,2,2,2,2,2,2,2,2,2,1,39]
["2022-08-04","Gattner, Karsten",42,38,"222211152113333712","243322312211313221",18,18,"E","B",2,2,2,2,1,1,1,5,2,1,1,3,3,3,3,7,1,2,42,2,4,3,3,2,2,3,1,2,2,1,1,3,1,3,2,2,1,38]
["2022-08-04","Kortmann, Sabine",32,36,"112211621111312132","221322221212222215",18,18,"E","B",{"$f":"IF($I187=MID(K$1,1,1),IF(ISBLANK($E187),\"\",VALUE(MID($E187,VALUE(MID(K$1,2,LEN(K$1)-1)),1))),IF($J187=MID(K$1,1,1),IF(ISBLANK($F187),\"\",VALUE(MID($F187,VALUE(MID(K$1,2,LEN(K$1)-1)),1)))))","v":1},1,2,2,1,1,6,2,1,1,1,1,3,1,2,1,3,2,32,2,2,1,3,2,2,2,2,1,2,1,2,2,2,2,2,1,5,36]
["2022-08-04","Lenk, Rolf",31,34,"132111112211322223","122232222113223211",18,18,"E","B",1,3,2,1,1,1,1,1,2,2,1,1,3,2,2,2,2,3,31,1,2,2,2,3,2,2,2,2,1,1,3,2,2,3,2,1,1,34]
["2022-08-04","Rade, Marcus",23,31,"111211112121212111","222222122211213211",18,18,"E","B",1,1,1,2,1,1,1,1,2,1,2,1,2,1,2,1,1,1,23,2,2,2,2,2,2,1,2,2,2,1,1,2,1,3,2,1,1,31]
["2022-08-04","Schmidtbauer, Günter",32,42,"142211142212111123","232413121223223225",18,18,"E","B",1,4,2,2,1,1,1,4,2,2,1,2,1,1,1,1,{"$f":"IF($I190=MID(AA$1,1,1),IF(ISBLANK($E190),\"\",VALUE(MID($E190,VALUE(MID(AA$1,2,LEN(AA$1)-1)),1))),IF($J190=MID(AA$1,1,1),IF(ISBLANK($F190),\"\",VALUE(MID($F190,VALUE(MID(AA$1,2,LEN(AA$1)-1)),1)))))","v":2},3,32,2,3,2,4,1,3,1,2,1,2,2,3,2,2,3,2,2,5,42]
["2022-08-04","Urban, Angela",34,39,"222111142212422113","312223233312242121",18,18,"E","B",2,2,2,1,1,1,1,4,2,2,1,2,4,2,2,1,1,3,34,3,1,2,2,2,3,2,3,3,3,1,2,2,4,2,1,2,1,39]
["2022-08-04","Urban, Volker",{"$f":"IF(ISBLANK(E192),\"\",MID(E192,1,1)+MID(E192,2,1)+MID(E192,3,1)+MID(E192,4,1)+MID(E192,5,1)+MID(E192,6,1)+MID(E192,7,1)+MID(E192,8,1)+MID(E192,9,1)+MID(E192,10,1)+MID(E192,11,1)+MID(E192,12,1)+MID(E192,13,1)+MID(E192,14,1)+MID(E192,15,1)+MID(E192,16,1)+MID(E192,17,1)+MID(E192,18,1))","v":24},{"$f":"IF(ISBLANK(F192),\"\",MID(F192,1,1)+MID(F192,2,1)+MID(F192,3,1)+MID(F192,4,1)+MID(F192,5,1)+MID(F192,6,1)+MID(F192,7,1)+MID(F192,8,1)+MID(F192,9,1)+MID(F192,10,1)+MID(F192,11,1)+MID(F192,12,1)+MID(F192,13,1)+MID(F192,14,1)+MID(F192,15,1)+MID(F192,16,1)+MID(F192,17,1)+MID(F192,18,1))","v":31},"111211111211212311","222223112212122211",{"$f":"LEN(E192)","v":18},{"$f":"LEN(F192)","v":18},"E","B",1,1,1,2,1,1,1,1,1,2,1,1,2,1,2,3,1,1,24,2,2,2,2,2,3,1,1,2,2,1,2,1,2,2,2,1,1,31]
["2022-08-04","Kunz, Martin",28,38,"211212112111214212","222733111212222221",18,18,"E","B",2,1,1,2,1,2,1,1,2,1,1,1,2,1,4,2,1,2,28,2,2,2,7,3,3,1,1,1,2,1,2,2,2,2,2,2,1,38]
["2022-08-04","Kersch, Uwe",31,40,"122121161111212222","222333123222222322",18,18,"E","B",1,2,2,1,2,1,1,6,1,1,1,1,2,1,2,2,2,2,31,2,2,2,3,3,3,1,2,3,2,2,2,2,2,2,3,2,2,40]
["2022-08-11","Lenk, Rolf",30,36,"221211121211322231","222312122212222422",18,18,"E","B",2,2,1,2,1,1,1,2,1,2,1,1,3,2,2,2,3,1,{"$f":"IF(SUM(K195:AB195)>0,SUM(K195:AB195),0)","v":30},2,2,2,3,1,2,1,2,2,2,1,2,2,2,2,4,2,2,{"$f":"IF(SUM(AD195:AU195)>0,SUM(AD195:AU195),0)","v":36}]
["2022-08-11","Börgmann, Ulrich",35,44,"161111411211314222","223322226211323224",18,18,"E","B",1,6,1,1,1,1,4,1,1,2,1,1,3,1,4,2,2,2,35,2,2,3,3,2,2,2,2,6,2,1,1,3,2,3,2,2,4,44]
["2022-08-11","Urban, Volker",32,31,"212121111112222433","112322123211122221",18,18,"E","B",2,1,2,1,2,1,1,1,1,1,1,2,2,2,2,4,3,3,32,1,1,2,3,2,2,1,2,{"$f":"IF($I197=MID(AL$1,1,1),IF(ISBLANK($E197),\"\",VALUE(MID($E197,VALUE(MID(AL$1,2,LEN(AL$1)-1)),1))),IF($J197=MID(AL$1,1,1),IF(ISBLANK($F197),\"\",VALUE(MID($F197,VALUE(MID(AL$1,2,LEN(AL$1)-1)),1)))))","v":3},2,1,1,1,2,2,2,2,1,31]
["2022-08-11","Gattner, Karsten",33,35,"232221112213212312","222222223212212321",18,18,"E","B",2,3,2,2,2,1,1,1,2,2,1,3,2,1,2,3,1,2,33,{"$f":"IF($I198=MID(AD$1,1,1),IF(ISBLANK($E198),\"\",VALUE(MID($E198,VALUE(MID(AD$1,2,LEN(AD$1)-1)),1))),IF($J198=MID(AD$1,1,1),IF(ISBLANK($F198),\"\",VALUE(MID($F198,VALUE(MID(AD$1,2,LEN(AD$1)-1)),1)))))","v":2},2,2,2,2,2,2,2,3,2,1,2,2,1,2,3,2,1,35]
["2022-08-11","Brunnenkant, Frank",27,34,"121121212212112131","232422112211222221",18,18,"E","B",1,2,1,1,2,1,2,1,2,2,1,2,1,1,2,1,3,1,27,2,3,2,4,2,2,1,1,2,2,1,1,2,2,2,2,2,1,34]
["2022-08-11","Rabe, Jonas",24,34,"121211111211212112","231221222213222221",18,18,"E","B",1,2,1,2,1,1,1,1,1,2,1,1,2,1,2,1,1,2,24,2,3,1,2,2,1,2,2,2,2,1,3,2,2,2,2,2,1,34]
["2022-08-11","Börgmann, Brigitte",40,40,"212242111223312722","212722132212224221",18,18,"E","B",2,1,2,2,4,2,1,1,1,2,2,3,3,1,2,7,2,2,40,2,1,2,7,2,2,1,3,2,2,1,2,2,2,4,2,2,1,40]
["2022-08-11","Schmidtbauer, Günter",35,36,"211111321311213533","112224224211221421",18,18,"E","B",2,1,1,1,1,1,3,2,1,3,1,1,2,1,3,5,3,3,35,1,1,2,2,2,4,2,2,4,2,1,1,2,2,1,4,2,1,36]
["2022-08-11","Kortmann, Sabine",29,33,"131214112111222211","222232112211222222",18,18,"E","B",{"$f":"IF($I203=MID(K$1,1,1),IF(ISBLANK($E203),\"\",VALUE(MID($E203,VALUE(MID(K$1,2,LEN(K$1)-1)),1))),IF($J203=MID(K$1,1,1),IF(ISBLANK($F203),\"\",VALUE(MID($F203,VALUE(MID(K$1,2,LEN(K$1)-1)),1)))))","v":1},3,1,2,1,4,1,1,2,1,1,1,2,2,2,2,1,1,29,2,2,2,2,3,2,1,1,2,2,1,1,2,2,2,2,2,2,33]
["2022-08-11","Dreischer, Burkhard",31,34,"111221112212123521","232221222112223221",18,18,"E","B",1,1,1,2,2,1,1,1,2,2,1,2,1,2,3,5,2,1,31,2,3,2,2,2,1,2,2,2,1,1,2,2,2,3,2,2,1,34]
["2022-08-11","Kunz, Martin",34,33,"121112212212272212","222312112213213311",18,18,"E","B",1,2,1,1,1,2,2,1,2,2,1,2,2,7,2,2,1,2,34,2,2,2,3,1,2,1,1,2,2,1,3,2,1,3,3,1,1,33]
["2022-08-18","Börgmann, Ulrich",26,43,"121212312111112112","223222123212223426",18,18,"E","B",1,2,1,2,1,2,3,1,2,1,1,1,1,1,2,1,1,2,26,2,2,3,2,2,2,1,2,3,2,1,2,2,2,3,4,2,6,43]
["2022-08-18","Brunnenkant, Frank",{"$f":"IF(ISBLANK(E207),\"\",MID(E207,1,1)+MID(E207,2,1)+MID(E207,3,1)+MID(E207,4,1)+MID(E207,5,1)+MID(E207,6,1)+MID(E207,7,1)+MID(E207,8,1)+MID(E207,9,1)+MID(E207,10,1)+MID(E207,11,1)+MID(E207,12,1)+MID(E207,13,1)+MID(E207,14,1)+MID(E207,15,1)+MID(E207,16,1)+MID(E207,17,1)+MID(E207,18,1))","v":29},{"$f":"IF(ISBLANK(F207),\"\",MID(F207,1,1)+MID(F207,2,1)+MID(F207,3,1)+MID(F207,4,1)+MID(F207,5,1)+MID(F207,6,1)+MID(F207,7,1)+MID(F207,8,1)+MID(F207,9,1)+MID(F207,10,1)+MID(F207,11,1)+MID(F207,12,1)+MID(F207,13,1)+MID(F207,14,1)+MID(F207,15,1)+MID(F207,16,1)+MID(F207,17,1)+MID(F207,18,1))","v":35},"221111312211212321","232422122212222211",{"$f":"LEN(E207)","v":18},{"$f":"LEN(F207)","v":18},"E","B",{"$f":"IF($I207=MID(K$1,1,1),IF(ISBLANK($E207),\"\",VALUE(MID($E207,VALUE(MID(K$1,2,LEN(K$1)-1)),1))),IF($J207=MID(K$1,1,1),IF(ISBLANK($F207),\"\",VALUE(MID($F207,VALUE(MID(K$1,2,LEN(K$1)-1)),1)))))","v":2},2,1,1,1,1,3,1,2,2,1,1,2,1,2,3,2,1,{"$f":"IF(SUM(K207:AB207)>0,SUM(K207:AB207),0)","v":29},{"$f":"IF($I207=MID(AD$1,1,1),IF(ISBLANK($E207),\"\",VALUE(MID($E207,VALUE(MID(AD$1,2,LEN(AD$1)-1)),1))),IF($J207=MID(AD$1,1,1),IF(ISBLANK($F207),\"\",VALUE(MID($F207,VALUE(MID(AD$1,2,LEN(AD$1)-1)),1)))))","v":2},3,2,4,2,2,1,2,2,2,1,2,2,2,2,2,{"$f":"IF($I207=MID(AT$1,1,1),IF(ISBLANK($E207),\"\",VALUE(MID($E207,VALUE(MID(AT$1,2,LEN(AT$1)-1)),1))),IF($J207=MID(AT$1,1,1),IF(ISBLANK($F207),\"\",VALUE(MID($F207,VALUE(MID(AT$1,2,LEN(AT$1)-1)),1)))))","v":1},1,{"$f":"IF(SUM(AD207:AU207)>0,SUM(AD207:AU207),0)","v":35}]
["2022-08-18","Dreischer, Burkhard",31,38,"131222222111212312","235122132212232221",18,18,"E","B",1,3,1,2,2,2,2,2,2,1,1,1,2,1,2,3,1,2,31,2,3,5,1,2,2,1,3,2,2,1,2,2,3,2,2,2,1,38]
["2022-08-18","Buchholz, Ansgar",25,34,"111211111212212311","221322113312122222",18,18,"E","B",1,1,1,2,1,1,1,1,1,2,1,2,2,1,2,3,1,1,25,2,2,1,3,2,2,1,1,3,3,1,2,1,2,2,2,2,2,34]
["2022-08-18","Gattner, Karsten",26,36,"331111211111111231","122212333212223221",18,18,"E","B",3,3,1,1,1,1,2,1,1,1,1,1,1,1,1,2,3,1,26,1,2,2,2,1,2,3,3,3,2,1,2,2,2,3,2,2,1,36]
["2022-08-18","Kortmann, Uwe",42,41,"362212212236112411","211713142211213531",18,18,"E","B",3,6,2,2,1,2,2,1,2,2,3,6,1,1,2,4,1,1,42,2,1,1,7,1,3,1,4,2,2,1,1,2,1,3,5,3,1,41]
["2022-08-18","Kortmann, Sabine",27,39,"132211212111112212","222232221213225222",18,18,"E","B",1,3,2,2,1,1,2,1,2,1,1,1,1,1,2,2,1,2,27,2,2,2,2,3,2,2,2,1,2,1,3,2,2,5,2,2,2,39]
["2022-08-18","Kunz, Martin",30,38,"111211611211113222","231622122121222232",18,18,"E","B",1,1,1,2,1,1,6,1,1,2,1,1,1,1,3,2,2,2,30,2,3,1,6,2,2,1,2,2,1,2,1,2,2,2,2,3,2,38]
["2022-08-18","Lenk, Rolf",28,35,"311221212211212112","222422222211212222",18,18,"E","B",3,1,1,2,2,1,2,1,2,2,1,1,2,1,2,1,1,2,28,2,2,2,4,2,2,2,2,2,2,1,1,2,1,2,2,2,2,35]
["2022-08-18","Puschner, Michael",26,33,"121211111111312321","212212134212212221",18,18,"E","B",1,2,1,2,1,1,1,1,1,1,1,1,3,1,2,3,2,1,26,2,1,2,2,1,2,1,3,4,2,1,2,2,1,2,2,2,1,33]
["2022-08-18","Puschner, Silke",35,50,"151233212122132211","242722233113422127",18,18,"E","B",1,5,1,2,3,3,2,1,2,1,2,2,1,3,2,2,1,1,35,2,4,2,7,2,2,2,3,3,1,1,3,4,2,2,1,2,7,50]
["2022-08-18","Rade, Marcus",22,38,"111111111111222112","232222422211223222",18,18,"E","B",1,1,1,1,1,1,1,1,1,1,1,1,2,2,2,1,1,2,22,2,3,2,2,2,2,4,2,2,2,1,1,2,2,3,2,2,2,38]
["2022-08-18","Rabe, Jonas",26,31,"112112111111122223","232112121211322311",18,18,"E","B",1,1,2,1,1,2,1,1,1,1,1,1,1,2,2,2,2,3,26,2,3,2,1,1,2,1,2,1,2,1,1,3,2,2,3,1,1,31]
["2022-08-18","Schmidtbauer, Günter",32,36,"113221112211423212","222232222213221321",18,18,"E","B",1,1,3,2,2,1,1,1,2,2,1,1,4,2,3,2,1,2,32,2,2,2,2,3,2,2,2,2,2,1,3,2,2,1,3,2,1,36]
["2022-08-18","Urban, Volker",25,31,"111111122211312121","122333111211212221",18,18,"E","B",1,1,1,1,1,1,1,2,2,2,1,1,3,1,2,1,2,1,25,1,2,2,3,3,3,1,1,1,2,1,1,2,1,2,2,2,1,31]
["2022-08-18","Wilke, Andreas",29,28,"122212132111132112","211122112111322221",18,18,"E","B",1,2,2,2,1,2,1,3,2,1,1,1,1,3,2,1,1,2,29,2,1,1,1,2,2,1,1,2,1,1,1,3,2,2,2,2,1,28]
["2022-08-18","Kersch, Uwe",44,40,"151221722211312335","222222142211332423",18,18,"E","B",1,5,1,2,2,1,7,2,2,2,1,1,3,1,2,{"$f":"IF($I222=MID(Z$1,1,1),IF(ISBLANK($E222),\"\",VALUE(MID($E222,VALUE(MID(Z$1,2,LEN(Z$1)-1)),1))),IF($J222=MID(Z$1,1,1),IF(ISBLANK($F222),\"\",VALUE(MID($F222,VALUE(MID(Z$1,2,LEN(Z$1)-1)),1)))))","v":3},3,5,44,2,2,2,2,2,2,1,4,2,2,1,1,3,3,2,{"$f":"IF($I222=MID(AS$1,1,1),IF(ISBLANK($E222),\"\",VALUE(MID($E222,VALUE(MID(AS$1,2,LEN(AS$1)-1)),1))),IF($J222=MID(AS$1,1,1),IF(ISBLANK($F222),\"\",VALUE(MID($F222,VALUE(MID(AS$1,2,LEN(AS$1)-1)),1)))))","v":4},2,3,40]
[null,null,"","",null,null,0,0,"E","B","","","","","","","","","","","","","","","","","","",0,{"$f":"IF($I223=MID(AD$1,1,1),IF(ISBLANK($E223),\"\",VALUE(MID($E223,VALUE(MID(AD$1,2,LEN(AD$1)-1)),1))),IF($J223=MID(AD$1,1,1),IF(ISBLANK($F223),\"\",VALUE(MID($F223,VALUE(MID(AD$1,2,LEN(AD$1)-1)),1)))))","v":""},"","","","","","","","","","","","","","","","","",0]
[null,null,"","",null,null,0,0,"E","B","","","","","","","","","","","","","","","","","","",0,"","","","","","","","","","","","","","","","","","",0]
[null,null,"","",null,null,0,0,"E","B","","","","","","","","","","","","","","","","","","",0,"","","","","","","","","","","","","","","","","","",0]
[null,null,"","",null,null,0,0,"E","B","","","","","","","","","","","","","","","","","","",0,"","","","","","","","","","","","","","","","","","",0]
[null,null,{"$f":"IF(ISBLANK(E227),\"\",MID(E227,1,1)+MID(E227,2,1)+MID(E227,3,1)+MID(E227,4,1)+MID(E227,5,1)+MID(E227,6,1)+MID(E227,7,1)+MID(E227,8,1)+MID(E227,9,1)+MID(E227,10,1)+MID(E227,11,1)+MID(E227,12,1)+MID(E227,13,1)+MID(E227,14,1)+MID(E227,15,1)+MID(E227,16,1)+MID(E227,17,1)+MID(E227,18,1))","v":""},{"$f":"IF(ISBLANK(F227),\"\",MID(F227,1,1)+MID(F227,2,1)+MID(F227,3,1)+MID(F227,4,1)+MID(F227,5,1)+MID(F227,6,1)+MID(F227,7,1)+MID(F227,8,1)+MID(F227,9,1)+MID(F227,10,1)+MID(F227,11,1)+MID(F227,12,1)+MID(F227,13,1)+MID(F227,14,1)+MID(F227,15,1)+MID(F227,16,1)+MID(F227,17,1)+MID(F227,18,1))","v":""},null,null,{"$f":"LEN(E227)","v":0},{"$f":"LEN(F227)","v":0},"E","B","","","","","","","","","","","","","","","","","","",{"$f":"IF(SUM(K227:AB227)>0,SUM(K227:AB227),0)","v":0},"","","","","","","","","","","","","","","","","","",{"$f":"IF(SUM(AD227:AU227)>0,SUM(AD227:AU227),0)","v":0}]
[null,null,"","",null,null,0,0,"E","B","","","","","","","","","","","","","","","","","","",0,"","","","","","","","","","","","","","","","","","",0]
[null,null,"","",null,null,0,0,"E","B","","","","","","","","","","","","","","","","","","",0,"","","","","","","","","","","","","","","","","","",0]
[null,null,"","",null,null,0,0,"E","B","","","","","","","","","","","","","","","","","","",0,"","","",{"$f":"IF($I230=MID(AG$1,1,1),IF(ISBLANK($E230),\"\",VALUE(MID($E230,VALUE(MID(AG$1,2,LEN(AG$1)-1)),1))),IF($J230=MID(AG$1,1,1),IF(ISBLANK($F230),\"\",VALUE(MID($F230,VALUE(MID(AG$1,2,LEN(AG$1)-1)),1)))))","v":""},"","","","","","","","","","","","","","",0]
[null,null,"","",null,null,0,0,"E","B","","","","","","","","","","","","","","","","","","",0,{"$f":"IF($I231=MID(AD$1,1,1),IF(ISBLANK($E231),\"\",VALUE(MID($E231,VALUE(MID(AD$1,2,LEN(AD$1)-1)),1))),IF($J231=MID(AD$1,1,1),IF(ISBLANK($F231),\"\",VALUE(MID($F231,VALUE(MID(AD$1,2,LEN(AD$1)-1)),1)))))","v":""},"","","","","","","","","","","","","","","","","",0]
[null,null,"","",null,null,0,0,"E","B","","","","","","","","","","","","","","","","","","",0,"","","","","","","","","","","","","","","","","","",0]
[null,null,"","",null,null,0,0,"E","B","","","","","","","","","","","","","","","","","","",0,"","","","","","","","","","","","","","","","","","",0]
[null,null,"","",null,null,0,0,"E","B","","","","","","","","","","","","","","","","","","",0,"","","","","","","","","","","","","","","","","","",0]
[null,null,"","",null,null,0,0,"E","B","","","","","","","","","","","","","","","","","","",0,"","","","","","","","","","","","","","","","","","",0]
[null,null,"","",null,null,0,0,"E","B","","","","","","","","","","","","","","","",{"$f":"IF($I236=MID(Z$1,1,1),IF(ISBLANK($E236),\"\",VALUE(MID($E236,VALUE(MID(Z$1,2,LEN(Z$1)-1)),1))),IF($J236=MID(Z$1,1,1),IF(ISBLANK($F236),\"\",VALUE(MID($F236,VALUE(MID(Z$1,2,LEN(Z$1)-1)),1)))))","v":""},"","",0,"","","","","","","","","","","","","","","","","","",0]
[null,null,"","",null,null,0,0,"E","B","","","","","","","","","","","","","","","","","","",0,"","","","","","","","","","","","","","","","","","",0]
[null,null,"","",null,null,0,0,"E","B","","","","","","","","","","","","","","","","","","",0,"","","","","","","","","","","","","","","","","","",0]
[null,null,"","",null,null,0,0,"E","B","","","","","","","","","","","","","","","","","","",0,"","","","","","","","","","","","","","","","","","",0]
[null,null,"","",null,null,0,0,"E","B","","","","","","","","","","","","","","","","","","",0,"","","","","","","","","","","","","","","","","","",0]
[null,null,{"$f":"IF(ISBLANK(E241),\"\",MID(E241,1,1)+MID(E241,2,1)+MID(E241,3,1)+MID(E241,4,1)+MID(E241,5,1)+MID(E241,6,1)+MID(E241,7,1)+MID(E241,8,1)+MID(E241,9,1)+MID(E241,10,1)+MID(E241,11,1)+MID(E241,12,1)+MID(E241,13,1)+MID(E241,14,1)+MID(E241,15,1)+MID(E241,16,1)+MID(E241,17,1)+MID(E241,18,1))","v":""},{"$f":"IF(ISBLANK(F241),\"\",MID(F241,1,1)+MID(F241,2,1)+MID(F241,3,1)+MID(F241,4,1)+MID(F241,5,1)+MID(F241,6,1)+MID(F241,7,1)+MID(F241,8,1)+MID(F241,9,1)+MID(F241,10,1)+MID(F241,11,1)+MID(F241,12,1)+MID(F241,13,1)+MID(F241,14,1)+MID(F241,15,1)+MID(F241,16,1)+MID(F241,17,1)+MID(F241,18,1))","v":""},null,null,{"$f":"LEN(E241)","v":0},{"$f":"LEN(F241)","v":0},"E","B","","","","","","","","","","","","","","","","","","",{"$f":"IF(SUM(K241:AB241)>0,SUM(K241:AB241),0)","v":0},"","","","","","","","","","","","","","","","","","",{"$f":"IF(SUM(AD241:AU241)>0,SUM(AD241:AU241),0)","v":0}]
[null,null,"","",null,null,0,0,"E","B","","","","","","","","","","","","","","","","","","",0,"","","","","","","","","","","","","","","","","","",0]
[null,null,"","",null,null,0,0,"E","B","","","","","","","","","","","","","","","","","","",0,"","","","","","","","","","","","","","","","","","",0]
[null,null,"","",null,null,0,0,"E","B","","","","","","","","","","","","","","","","","","",0,"","","","","","","","","","","","","","","",{"$f":"IF($I244=MID(AS$1,1,1),IF(ISBLANK($E244),\"\",VALUE(MID($E244,VALUE(MID(AS$1,2,LEN(AS$1)-1)),1))),IF($J244=MID(AS$1,1,1),IF(ISBLANK($F244),\"\",VALUE(MID($F244,VALUE(MID(AS$1,2,LEN(AS$1)-1)),1)))))","v":""},"","",0]
[null,null,"","",null,null,0,0,"E","B","","","","","","","","","","","","","","","","","","",0,"","","","","","","","","","","","","","","","","","",0]
[null,null,"","",null,null,0,0,"E","B","","","","","","","","","","","","","","","","","","",0,"","","","","","","","","","","","","","","","","","",0]
[null,null,"","",null,null,0,0,"E","B","","","","","","","","","","","","","","","","","","",0,"","","","","","","","","","","","","","","","","","",0]
[null,null,"","",null,null,0,0,"E","B","","","","","","","","","","","","","","","","","","",0,"","","","","","","","","","","","","","","","","","",0]
[null,null,"","",null,null,0,0,"E","B","","","","","","","","","","","","","","","","","","",0,"","","","","","","","","","","","","","","","","","",0]
[null,null,"","",null,null,0,0,"E","B","","","","","","","","","","","","","","",{"$f":"IF($I250=MID(Y$1,1,1),IF(ISBLANK($E250),\"\",VALUE(MID($E250,VALUE(MID(Y$1,2,LEN(Y$1)-1)),1))),IF($J250=MID(Y$1,1,1),IF(ISBLANK($F250),\"\",VALUE(MID($F250,VALUE(MID(Y$1,2,LEN(Y$1)-1)),1)))))","v":""},"","","",0,"","","","","","","","","","","","","","","","","","",0]

{"sheet":"Einzelwertung17","index":20,"n_rows":61,"n_cols":10,"rows_kept":61,"cut":false,"hidden":false,"merged":[[0,0,0,9]]}
[{"$f":"CONCATENATE(\"7. Sommer-Cup - Freizeittreff Herbede - \",TEXT(Gesamtstand!$V$2,\"TT.MM.JJ\"))","v":"7. Sommer-Cup - Freizeittreff Herbede - 25.08.22"}]
["Spieler","Runde 1","Runde 2","Gesamt","bessere?","Pl. R1","Pl. R2","Pl. Ges.","gewertet","Punkte"]
[null,null,null,{"$f":"IF(B3>0,C3+B3,\"\")","v":""},true,{"$f":"IF(B3>0,COUNTIF(B$3:B$55,\"<\"&B3)+1,\"\")","v":""},"",{"$f":"IF(AND(B3>0,C3>0),COUNTIF(D$3:D$55,\"<\"&D3)+1,\"\")","v":""},{"$f":"IF(B3>0,IF(E3,MIN(F3:H3),SUM(F3:H3)-MAX(F3:H3)-MIN(F3:H3)),\"\")","v":""},{"$f":"IF(B3>0,VLOOKUP(I3,Punkteschema!$A$2:$B$101,2,FALSE),\"\")","v":""}]
[null,null,null,"",true,"","","",{"$f":"IF(B4>0,IF(E4,MIN(F4:H4),SUM(F4:H4)-MAX(F4:H4)-MIN(F4:H4)),\"\")","v":""},{"$f":"IF(B4>0,VLOOKUP(I4,Punkteschema!$A$2:$B$101,2,FALSE),\"\")","v":""}]
[null,null,null,"",true,"","","","",{"$f":"IF(B5>0,VLOOKUP(I5,Punkteschema!$A$2:$B$101,2,FALSE),\"\")","v":""}]
[null,null,null,"",true,"","","","",{"$f":"IF(B6>0,VLOOKUP(I6,Punkteschema!$A$2:$B$101,2,FALSE),\"\")","v":""}]
[null,null,null,"",true,"","","","",{"$f":"IF(B7>0,VLOOKUP(I7,Punkteschema!$A$2:$B$101,2,FALSE),\"\")","v":""}]
[null,null,null,"",true,"","","","",{"$f":"IF(B8>0,VLOOKUP(I8,Punkteschema!$A$2:$B$101,2,FALSE),\"\")","v":""}]
[null,null,null,"",true,"","","","",{"$f":"IF(B9>0,VLOOKUP(I9,Punkteschema!$A$2:$B$101,2,FALSE),\"\")","v":""}]
[null,null,null,"",true,"","","","",{"$f":"IF(B10>0,VLOOKUP(I10,Punkteschema!$A$2:$B$101,2,FALSE),\"\")","v":""}]
[null,null,null,"",true,"","","","",{"$f":"IF(B11>0,VLOOKUP(I11,Punkteschema!$A$2:$B$101,2,FALSE),\"\")","v":""}]
[null,null,null,"",true,"","","","",{"$f":"IF(B12>0,VLOOKUP(I12,Punkteschema!$A$2:$B$101,2,FALSE),\"\")","v":""}]
[null,null,null,"",true,"","","","",{"$f":"IF(B13>0,VLOOKUP(I13,Punkteschema!$A$2:$B$101,2,FALSE),\"\")","v":""}]
[null,null,null,"",true,"","","","",{"$f":"IF(B14>0,VLOOKUP(I14,Punkteschema!$A$2:$B$101,2,FALSE),\"\")","v":""}]
[null,null,null,"",true,"","","","",{"$f":"IF(B15>0,VLOOKUP(I15,Punkteschema!$A$2:$B$101,2,FALSE),\"\")","v":""}]
[null,null,null,"",true,"","","","",{"$f":"IF(B16>0,VLOOKUP(I16,Punkteschema!$A$2:$B$101,2,FALSE),\"\")","v":""}]
[null,null,null,"",true,"","","","",{"$f":"IF(B17>0,VLOOKUP(I17,Punkteschema!$A$2:$B$101,2,FALSE),\"\")","v":""}]
[null,null,null,"",true,"","","","",{"$f":"IF(B18>0,VLOOKUP(I18,Punkteschema!$A$2:$B$101,2,FALSE),\"\")","v":""}]
[null,null,null,"",true,{"$f":"IF(B19>0,COUNTIF(B$3:B$55,\"<\"&B19)+1,\"\")","v":""},"","","",{"$f":"IF(B19>0,VLOOKUP(I19,Punkteschema!$A$2:$B$101,2,FALSE),\"\")","v":""}]
[null,null,null,"",true,"","","","",{"$f":"IF(B20>0,VLOOKUP(I20,Punkteschema!$A$2:$B$101,2,FALSE),\"\")","v":""}]
[null,null,null,"",true,"","","","",{"$f":"IF(B21>0,VLOOKUP(I21,Punkteschema!$A$2:$B$101,2,FALSE),\"\")","v":""}]
[null,null,null,"",true,"","","","",{"$f":"IF(B22>0,VLOOKUP(I22,Punkteschema!$A$2:$B$101,2,FALSE),\"\")","v":""}]
[null,null,null,"",true,"","","","",{"$f":"IF(B23>0,VLOOKUP(I23,Punkteschema!$A$2:$B$101,2,FALSE),\"\")","v":""}]
[null,null,null,"",true,"","","","",{"$f":"IF(B24>0,VLOOKUP(I24,Punkteschema!$A$2:$B$101,2,FALSE),\"\")","v":""}]
[null,null,null,"",true,"","","","",{"$f":"IF(B25>0,VLOOKUP(I25,Punkteschema!$A$2:$B$101,2,FALSE),\"\")","v":""}]
[null,null,null,"",true,"","","","",{"$f":"IF(B26>0,VLOOKUP(I26,Punkteschema!$A$2:$B$101,2,FALSE),\"\")","v":""}]
[null,null,null,"",true,"","","","",{"$f":"IF(B27>0,VLOOKUP(I27,Punkteschema!$A$2:$B$101,2,FALSE),\"\")","v":""}]
[null,null,null,"",true,"","","","",{"$f":"IF(B28>0,VLOOKUP(I28,Punkteschema!$A$2:$B$101,2,FALSE),\"\")","v":""}]
[null,null,null,"",true,"","","","",{"$f":"IF(B29>0,VLOOKUP(I29,Punkteschema!$A$2:$B$101,2,FALSE),\"\")","v":""}]
[null,null,null,"",true,"","","","",{"$f":"IF(B30>0,VLOOKUP(I30,Punkteschema!$A$2:$B$101,2,FALSE),\"\")","v":""}]
[null,null,null,"",true,"","","","",{"$f":"IF(B31>0,VLOOKUP(I31,Punkteschema!$A$2:$B$101,2,FALSE),\"\")","v":""}]
[null,null,null,"",true,"","","","",{"$f":"IF(B32>0,VLOOKUP(I32,Punkteschema!$A$2:$B$101,2,FALSE),\"\")","v":""}]
[null,null,null,"",true,"","","","",{"$f":"IF(B33>0,VLOOKUP(I33,Punkteschema!$A$2:$B$101,2,FALSE),\"\")","v":""}]
[null,null,null,"",true,"","","","",{"$f":"IF(B34>0,VLOOKUP(I34,Punkteschema!$A$2:$B$101,2,FALSE),\"\")","v":""}]
[null,null,null,"",true,"","","","",{"$f":"IF(B35>0,VLOOKUP(I35,Punkteschema!$A$2:$B$101,2,FALSE),\"\")","v":""}]
[null,null,null,"",true,"","","","",{"$f":"IF(B36>0,VLOOKUP(I36,Punkteschema!$A$2:$B$101,2,FALSE),\"\")","v":""}]
[null,null,null,"",true,"","","","",{"$f":"IF(B37>0,VLOOKUP(I37,Punkteschema!$A$2:$B$101,2,FALSE),\"\")","v":""}]
[null,null,null,"",true,"","","","",{"$f":"IF(B38>0,VLOOKUP(I38,Punkteschema!$A$2:$B$101,2,FALSE),\"\")","v":""}]
[null,null,null,"",true,"","","","",{"$f":"IF(B39>0,VLOOKUP(I39,Punkteschema!$A$2:$B$101,2,FALSE),\"\")","v":""}]
[null,null,null,"",true,"","","","",{"$f":"IF(B40>0,VLOOKUP(I40,Punkteschema!$A$2:$B$101,2,FALSE),\"\")","v":""}]
[null,null,null,"",true,"","","","",{"$f":"IF(B41>0,VLOOKUP(I41,Punkteschema!$A$2:$B$101,2,FALSE),\"\")","v":""}]
[null,null,null,"",true,"","","","",{"$f":"IF(B42>0,VLOOKUP(I42,Punkteschema!$A$2:$B$101,2,FALSE),\"\")","v":""}]
[null,null,null,"",true,"","","","",{"$f":"IF(B43>0,VLOOKUP(I43,Punkteschema!$A$2:$B$101,2,FALSE),\"\")","v":""}]
[null,null,null,"",true,"","","","",{"$f":"IF(B44>0,VLOOKUP(I44,Punkteschema!$A$2:$B$101,2,FALSE),\"\")","v":""}]
[null,null,null,"",true,"","","","",{"$f":"IF(B45>0,VLOOKUP(I45,Punkteschema!$A$2:$B$101,2,FALSE),\"\")","v":""}]
[null,null,null,"",true,"","","","",{"$f":"IF(B46>0,VLOOKUP(I46,Punkteschema!$A$2:$B$101,2,FALSE),\"\")","v":""}]
[null,null,null,"",true,"","","","",{"$f":"IF(B47>0,VLOOKUP(I47,Punkteschema!$A$2:$B$101,2,FALSE),\"\")","v":""}]
[null,null,null,"",true,"","","","",{"$f":"IF(B48>0,VLOOKUP(I48,Punkteschema!$A$2:$B$101,2,FALSE),\"\")","v":""}]
[null,null,null,"",true,"","","","",{"$f":"IF(B49>0,VLOOKUP(I49,Punkteschema!$A$2:$B$101,2,FALSE),\"\")","v":""}]
[null,null,null,"",true,"","","","",{"$f":"IF(B50>0,VLOOKUP(I50,Punkteschema!$A$2:$B$101,2,FALSE),\"\")","v":""}]
[null,null,null,"",true,"","","","",{"$f":"IF(B51>0,VLOOKUP(I51,Punkteschema!$A$2:$B$101,2,FALSE),\"\")","v":""}]
[null,null,null,"",true,"","","","",{"$f":"IF(B52>0,VLOOKUP(I52,Punkteschema!$A$2:$B$101,2,FALSE),\"\")","v":""}]
[null,null,null,"",true,{"$f":"IF(B53>0,COUNTIF(B$3:B$55,\"<\"&B53)+1,\"\")","v":""},"",{"$f":"IF(AND(B53>0,C53>0),COUNTIF(D$3:D$55,\"<\"&D53)+1,\"\")","v":""},"",{"$f":"IF(B53>0,VLOOKUP(I53,Punkteschema!$A$2:$B$101,2,FALSE),\"\")","v":""}]
[null,null,null,"",true,"","",{"$f":"IF(AND(B54>0,C54>0),COUNTIF(D$3:D$55,\"<\"&D54)+1,\"\")","v":""},"",{"$f":"IF(B54>0,VLOOKUP(I54,Punkteschema!$A$2:$B$101,2,FALSE),\"\")","v":""}]
[null,null,null,"",true,"","",{"$f":"IF(AND(B55>0,C55>0),COUNTIF(D$3:D$55,\"<\"&D55)+1,\"\")","v":""},"",{"$f":"IF(B55>0,VLOOKUP(I55,Punkteschema!$A$2:$B$101,2,FALSE),\"\")","v":""}]
[]
["OS: ",null,null,null,"Runde 1:","E","<- E/B"]
["S: ",null,null,null,"Runde 2:","B","<- E/B"]
["S: "]
[]
["Verloste Preise:"]

{"sheet":"Einzelwertung18","index":21,"n_rows":61,"n_cols":10,"rows_kept":61,"cut":false,"hidden":false,"merged":[[0,0,0,9]]}
[{"$f":"CONCATENATE(\"7. Sommer-Cup - Freizeittreff Herbede - \",TEXT(Gesamtstand!$W$2,\"TT.MM.JJ\"))","v":"7. Sommer-Cup - Freizeittreff Herbede - 01.09.22"}]
["Spieler","Runde 1","Runde 2","Gesamt","bessere?","Pl. R1","Pl. R2","Pl. Ges.","gewertet","Punkte"]
[null,null,null,{"$f":"IF(B3>0,C3+B3,\"\")","v":""},true,{"$f":"IF(B3>0,COUNTIF(B$3:B$55,\"<\"&B3)+1,\"\")","v":""},"",{"$f":"IF(AND(B3>0,C3>0),COUNTIF(D$3:D$55,\"<\"&D3)+1,\"\")","v":""},{"$f":"IF(B3>0,IF(E3,MIN(F3:H3),SUM(F3:H3)-MAX(F3:H3)-MIN(F3:H3)),\"\")","v":""},{"$f":"IF(B3>0,VLOOKUP(I3,Punkteschema!$A$2:$B$101,2,FALSE),\"\")","v":""}]
[null,null,null,"",true,"","","",{"$f":"IF(B4>0,IF(E4,MIN(F4:H4),SUM(F4:H4)-MAX(F4:H4)-MIN(F4:H4)),\"\")","v":""},{"$f":"IF(B4>0,VLOOKUP(I4,Punkteschema!$A$2:$B$101,2,FALSE),\"\")","v":""}]
[null,null,null,"",true,"","","","",{"$f":"IF(B5>0,VLOOKUP(I5,Punkteschema!$A$2:$B$101,2,FALSE),\"\")","v":""}]
[null,null,null,"",true,"","","","",{"$f":"IF(B6>0,VLOOKUP(I6,Punkteschema!$A$2:$B$101,2,FALSE),\"\")","v":""}]
[null,null,null,"",true,"","","","",{"$f":"IF(B7>0,VLOOKUP(I7,Punkteschema!$A$2:$B$101,2,FALSE),\"\")","v":""}]
[null,null,null,"",true,"","","","",{"$f":"IF(B8>0,VLOOKUP(I8,Punkteschema!$A$2:$B$101,2,FALSE),\"\")","v":""}]
[null,null,null,"",true,"","","","",{"$f":"IF(B9>0,VLOOKUP(I9,Punkteschema!$A$2:$B$101,2,FALSE),\"\")","v":""}]
[null,null,null,"",true,"","","","",{"$f":"IF(B10>0,VLOOKUP(I10,Punkteschema!$A$2:$B$101,2,FALSE),\"\")","v":""}]
[null,null,null,"",true,"","","","",{"$f":"IF(B11>0,VLOOKUP(I11,Punkteschema!$A$2:$B$101,2,FALSE),\"\")","v":""}]
[null,null,null,"",true,"","","","",{"$f":"IF(B12>0,VLOOKUP(I12,Punkteschema!$A$2:$B$101,2,FALSE),\"\")","v":""}]
[null,null,null,"",true,"","","","",{"$f":"IF(B13>0,VLOOKUP(I13,Punkteschema!$A$2:$B$101,2,FALSE),\"\")","v":""}]
[null,null,null,"",true,"","","","",{"$f":"IF(B14>0,VLOOKUP(I14,Punkteschema!$A$2:$B$101,2,FALSE),\"\")","v":""}]
[null,null,null,"",true,"","","","",{"$f":"IF(B15>0,VLOOKUP(I15,Punkteschema!$A$2:$B$101,2,FALSE),\"\")","v":""}]
[null,null,null,"",true,"","","","",{"$f":"IF(B16>0,VLOOKUP(I16,Punkteschema!$A$2:$B$101,2,FALSE),\"\")","v":""}]
[null,null,null,"",true,"","","","",{"$f":"IF(B17>0,VLOOKUP(I17,Punkteschema!$A$2:$B$101,2,FALSE),\"\")","v":""}]
[null,null,null,"",true,"","","","",{"$f":"IF(B18>0,VLOOKUP(I18,Punkteschema!$A$2:$B$101,2,FALSE),\"\")","v":""}]
[null,null,null,"",true,{"$f":"IF(B19>0,COUNTIF(B$3:B$55,\"<\"&B19)+1,\"\")","v":""},"","","",{"$f":"IF(B19>0,VLOOKUP(I19,Punkteschema!$A$2:$B$101,2,FALSE),\"\")","v":""}]
[null,null,null,"",true,"","","","",{"$f":"IF(B20>0,VLOOKUP(I20,Punkteschema!$A$2:$B$101,2,FALSE),\"\")","v":""}]
[null,null,null,"",true,"","","","",{"$f":"IF(B21>0,VLOOKUP(I21,Punkteschema!$A$2:$B$101,2,FALSE),\"\")","v":""}]
[null,null,null,"",true,"","","","",{"$f":"IF(B22>0,VLOOKUP(I22,Punkteschema!$A$2:$B$101,2,FALSE),\"\")","v":""}]
[null,null,null,"",true,"","","","",{"$f":"IF(B23>0,VLOOKUP(I23,Punkteschema!$A$2:$B$101,2,FALSE),\"\")","v":""}]
[null,null,null,"",true,"","","","",{"$f":"IF(B24>0,VLOOKUP(I24,Punkteschema!$A$2:$B$101,2,FALSE),\"\")","v":""}]
[null,null,null,"",true,"","","","",{"$f":"IF(B25>0,VLOOKUP(I25,Punkteschema!$A$2:$B$101,2,FALSE),\"\")","v":""}]
[null,null,null,"",true,"","","","",{"$f":"IF(B26>0,VLOOKUP(I26,Punkteschema!$A$2:$B$101,2,FALSE),\"\")","v":""}]
[null,null,null,"",true,"","","","",{"$f":"IF(B27>0,VLOOKUP(I27,Punkteschema!$A$2:$B$101,2,FALSE),\"\")","v":""}]
[null,null,null,"",true,"","","","",{"$f":"IF(B28>0,VLOOKUP(I28,Punkteschema!$A$2:$B$101,2,FALSE),\"\")","v":""}]
[null,null,null,"",true,"","","","",{"$f":"IF(B29>0,VLOOKUP(I29,Punkteschema!$A$2:$B$101,2,FALSE),\"\")","v":""}]
[null,null,null,"",true,"","","","",{"$f":"IF(B30>0,VLOOKUP(I30,Punkteschema!$A$2:$B$101,2,FALSE),\"\")","v":""}]
[null,null,null,"",true,"","","","",{"$f":"IF(B31>0,VLOOKUP(I31,Punkteschema!$A$2:$B$101,2,FALSE),\"\")","v":""}]
[null,null,null,"",true,"","","","",{"$f":"IF(B32>0,VLOOKUP(I32,Punkteschema!$A$2:$B$101,2,FALSE),\"\")","v":""}]
[null,null,null,"",true,"","","","",{"$f":"IF(B33>0,VLOOKUP(I33,Punkteschema!$A$2:$B$101,2,FALSE),\"\")","v":""}]
[null,null,null,"",true,"","","","",{"$f":"IF(B34>0,VLOOKUP(I34,Punkteschema!$A$2:$B$101,2,FALSE),\"\")","v":""}]
[null,null,null,"",true,"","","","",{"$f":"IF(B35>0,VLOOKUP(I35,Punkteschema!$A$2:$B$101,2,FALSE),\"\")","v":""}]
[null,null,null,"",true,"","","","",{"$f":"IF(B36>0,VLOOKUP(I36,Punkteschema!$A$2:$B$101,2,FALSE),\"\")","v":""}]
[null,null,null,"",true,"","","","",{"$f":"IF(B37>0,VLOOKUP(I37,Punkteschema!$A$2:$B$101,2,FALSE),\"\")","v":""}]
[null,null,null,"",true,"","","","",{"$f":"IF(B38>0,VLOOKUP(I38,Punkteschema!$A$2:$B$101,2,FALSE),\"\")","v":""}]
[null,null,null,"",true,"","","","",{"$f":"IF(B39>0,VLOOKUP(I39,Punkteschema!$A$2:$B$101,2,FALSE),\"\")","v":""}]
[null,null,null,"",true,"","","","",{"$f":"IF(B40>0,VLOOKUP(I40,Punkteschema!$A$2:$B$101,2,FALSE),\"\")","v":""}]
[null,null,null,"",true,"","","","",{"$f":"IF(B41>0,VLOOKUP(I41,Punkteschema!$A$2:$B$101,2,FALSE),\"\")","v":""}]
[null,null,null,"",true,"","","","",{"$f":"IF(B42>0,VLOOKUP(I42,Punkteschema!$A$2:$B$101,2,FALSE),\"\")","v":""}]
[null,null,null,"",true,"","","","",{"$f":"IF(B43>0,VLOOKUP(I43,Punkteschema!$A$2:$B$101,2,FALSE),\"\")","v":""}]
[null,null,null,"",true,"","","","",{"$f":"IF(B44>0,VLOOKUP(I44,Punkteschema!$A$2:$B$101,2,FALSE),\"\")","v":""}]
[null,null,null,"",true,"","","","",{"$f":"IF(B45>0,VLOOKUP(I45,Punkteschema!$A$2:$B$101,2,FALSE),\"\")","v":""}]
[null,null,null,"",true,"","","","",{"$f":"IF(B46>0,VLOOKUP(I46,Punkteschema!$A$2:$B$101,2,FALSE),\"\")","v":""}]
[null,null,null,"",true,"","","","",{"$f":"IF(B47>0,VLOOKUP(I47,Punkteschema!$A$2:$B$101,2,FALSE),\"\")","v":""}]
[null,null,null,"",true,"","","","",{"$f":"IF(B48>0,VLOOKUP(I48,Punkteschema!$A$2:$B$101,2,FALSE),\"\")","v":""}]
[null,null,null,"",true,"","","","",{"$f":"IF(B49>0,VLOOKUP(I49,Punkteschema!$A$2:$B$101,2,FALSE),\"\")","v":""}]
[null,null,null,"",true,"","","","",{"$f":"IF(B50>0,VLOOKUP(I50,Punkteschema!$A$2:$B$101,2,FALSE),\"\")","v":""}]
[null,null,null,"",true,"","","","",{"$f":"IF(B51>0,VLOOKUP(I51,Punkteschema!$A$2:$B$101,2,FALSE),\"\")","v":""}]
[null,null,null,"",true,"","","","",{"$f":"IF(B52>0,VLOOKUP(I52,Punkteschema!$A$2:$B$101,2,FALSE),\"\")","v":""}]
[null,null,null,"",true,{"$f":"IF(B53>0,COUNTIF(B$3:B$55,\"<\"&B53)+1,\"\")","v":""},"",{"$f":"IF(AND(B53>0,C53>0),COUNTIF(D$3:D$55,\"<\"&D53)+1,\"\")","v":""},"",{"$f":"IF(B53>0,VLOOKUP(I53,Punkteschema!$A$2:$B$101,2,FALSE),\"\")","v":""}]
[null,null,null,"",true,"","",{"$f":"IF(AND(B54>0,C54>0),COUNTIF(D$3:D$55,\"<\"&D54)+1,\"\")","v":""},"",{"$f":"IF(B54>0,VLOOKUP(I54,Punkteschema!$A$2:$B$101,2,FALSE),\"\")","v":""}]
[null,null,null,"",true,"","",{"$f":"IF(AND(B55>0,C55>0),COUNTIF(D$3:D$55,\"<\"&D55)+1,\"\")","v":""},"",{"$f":"IF(B55>0,VLOOKUP(I55,Punkteschema!$A$2:$B$101,2,FALSE),\"\")","v":""}]
[]
["OS: ",null,null,null,"Runde 1:","E","<- E/B"]
["S: ",null,null,null,"Runde 2:","B","<- E/B"]
["S: "]
[]
["Verloste Preise:"]

{"sheet":"Statistik","index":22,"n_rows":25,"n_cols":13,"rows_kept":25,"cut":false,"hidden":false,"merged":[[0,0,0,5],[0,7,0,12]]}
["Buchholz, Ansgar",null,null,null,null,null,null,"Rabe, Jonas"]
[]
[null,null,null,null,"Eternit","Beton",null,null,null,null,null,"Eternit","Beton"]
[null,"Runden",null,null,{"$f":"COUNTIF(E8:E25,\">0\")","v":12},{"$f":"COUNTIF(F8:F25,\">0\")","v":12},null,null,"Runden",null,null,{"$f":"COUNTIF(L8:L25,\">0\")","v":11},{"$f":"COUNTIF(M8:M25,\">0\")","v":9}]
[null,"Schnitt",null,null,{"$f":"IF(E4>0,SUM(E8:E25)/E4,\"\")","v":26.083333333333332},{"$f":"IF(E4>0,SUM(F8:F25)/F4,\"\")","v":30.083333333333332},null,null,"Schnitt",null,null,{"$f":"IF(L4>0,SUM(L8:L25)/L4,\"\")","v":25.454545454545453},{"$f":"IF(L4>0,SUM(M8:M25)/M4,\"\")","v":32.555555555555557}]
[]
["Spieltag","Datum","R1","R2","Eternit","Beton",null,"Spieltag","Datum","R1","R2","Eternit","Beton"]
[1,{"$f":"Gesamtstand!$F$2","v":"2022-05-05"},{"$f":"Einzelwertung1!F57","v":"E"},{"$f":"Einzelwertung1!F58","v":"B"},{"$f":"SUMIF(Einzelwertung1!$A$3:$A$99,$A$1,IF($C8=\"E\",Einzelwertung1!$B$3:$B$99,Einzelwertung1!$C$3:$C$99))","v":24},{"$f":"SUMIF(Einzelwertung1!$A$3:$A$99,$A$1,IF($C8=\"B\",Einzelwertung1!$B$3:$B$99,Einzelwertung1!$C$3:$C$99))","v":30},null,1,{"$f":"Gesamtstand!$F$2","v":"2022-05-05"},{"$f":"Einzelwertung1!F57","v":"E"},{"$f":"Einzelwertung1!F58","v":"B"},{"$f":"SUMIF(Einzelwertung1!$A$3:$A$99,$H$1,IF($J8=\"E\",Einzelwertung1!$B$3:$B$99,Einzelwertung1!$C$3:$C$99))","v":23},{"$f":"SUMIF(Einzelwertung1!$A$3:$A$99,$H$1,IF($J8=\"B\",Einzelwertung1!$B$3:$B$99,Einzelwertung1!$C$3:$C$99))","v":33}]
[2,{"$f":"Gesamtstand!$G$2","v":"2022-05-12"},{"$f":"Einzelwertung2!F57","v":"E"},{"$f":"Einzelwertung2!F58","v":"B"},{"$f":"SUMIF(Einzelwertung2!$A$3:$A$99,$A$1,IF($C9=\"E\",Einzelwertung2!$B$3:$B$99,Einzelwertung2!$C$3:$C$99))","v":25},{"$f":"SUMIF(Einzelwertung2!$A$3:$A$99,$A$1,IF($C9=\"B\",Einzelwertung2!$B$3:$B$99,Einzelwertung2!$C$3:$C$99))","v":30},null,2,{"$f":"Gesamtstand!$G$2","v":"2022-05-12"},{"$f":"Einzelwertung2!F57","v":"E"},{"$f":"Einzelwertung2!F58","v":"B"},{"$f":"SUMIF(Einzelwertung2!$A$3:$A$99,$H$1,IF($J9=\"E\",Einzelwertung2!$B$3:$B$99,Einzelwertung2!$C$3:$C$99))","v":0},{"$f":"SUMIF(Einzelwertung2!$A$3:$A$99,$H$1,IF($J9=\"B\",Einzelwertung2!$B$3:$B$99,Einzelwertung2!$C$3:$C$99))","v":0}]
[3,{"$f":"Gesamtstand!$H$2","v":"2022-05-19"},{"$f":"Einzelwertung3!F57","v":"E"},{"$f":"Einzelwertung3!F58","v":"B"},{"$f":"SUMIF(Einzelwertung3!$A$3:$A$99,$A$1,IF($C10=\"E\",Einzelwertung3!$B$3:$B$99,Einzelwertung3!$C$3:$C$99))","v":30},{"$f":"SUMIF(Einzelwertung3!$A$3:$A$99,$A$1,IF($C10=\"B\",Einzelwertung3!$B$3:$B$99,Einzelwertung3!$C$3:$C$99))","v":30},null,3,{"$f":"Gesamtstand!$H$2","v":"2022-05-19"},{"$f":"Einzelwertung3!F57","v":"E"},{"$f":"Einzelwertung3!F58","v":"B"},{"$f":"SUMIF(Einzelwertung3!$A$3:$A$99,$H$1,IF($J10=\"E\",Einzelwertung3!$B$3:$B$99,Einzelwertung3!$C$3:$C$99))","v":26},{"$f":"SUMIF(Einzelwertung3!$A$3:$A$99,$H$1,IF($J10=\"B\",Einzelwertung3!$B$3:$B$99,Einzelwertung3!$C$3:$C$99))","v":34}]
[4,{"$f":"Gesamtstand!$I$2","v":"2022-05-25"},{"$f":"Einzelwertung4!F57","v":"E"},{"$f":"Einzelwertung4!F58","v":"B"},{"$f":"SUMIF(Einzelwertung4!$A$3:$A$99,$A$1,IF($C11=\"E\",Einzelwertung4!$B$3:$B$99,Einzelwertung4!$C$3:$C$99))","v":22},{"$f":"SUMIF(Einzelwertung4!$A$3:$A$99,$A$1,IF($C11=\"B\",Einzelwertung4!$B$3:$B$99,Einzelwertung4!$C$3:$C$99))","v":29},null,4,{"$f":"Gesamtstand!$I$2","v":"2022-05-25"},{"$f":"Einzelwertung4!F57","v":"E"},{"$f":"Einzelwertung4!F58","v":"B"},{"$f":"SUMIF(Einzelwertung4!$A$3:$A$99,$H$1,IF($J11=\"E\",Einzelwertung4!$B$3:$B$99,Einzelwertung4!$C$3:$C$99))","v":0},{"$f":"SUMIF(Einzelwertung4!$A$3:$A$99,$H$1,IF($J11=\"B\",Einzelwertung4!$B$3:$B$99,Einzelwertung4!$C$3:$C$99))","v":0}]
[5,{"$f":"Gesamtstand!$J$2","v":"2022-06-02"},{"$f":"Einzelwertung5!F57","v":"E"},{"$f":"Einzelwertung5!F58","v":"B"},{"$f":"SUMIF(Einzelwertung5!$A$3:$A$99,$A$1,IF($C12=\"E\",Einzelwertung5!$B$3:$B$99,Einzelwertung5!$C$3:$C$99))","v":31},{"$f":"SUMIF(Einzelwertung5!$A$3:$A$99,$A$1,IF($C12=\"B\",Einzelwertung5!$B$3:$B$99,Einzelwertung5!$C$3:$C$99))","v":33},null,5,{"$f":"Gesamtstand!$J$2","v":"2022-06-02"},{"$f":"Einzelwertung5!F57","v":"E"},{"$f":"Einzelwertung5!F58","v":"B"},{"$f":"SUMIF(Einzelwertung5!$A$3:$A$99,$H$1,IF($J12=\"E\",Einzelwertung5!$B$3:$B$99,Einzelwertung5!$C$3:$C$99))","v":23},{"$f":"SUMIF(Einzelwertung5!$A$3:$A$99,$H$1,IF($J12=\"B\",Einzelwertung5!$B$3:$B$99,Einzelwertung5!$C$3:$C$99))","v":33}]
[6,{"$f":"Gesamtstand!$K$2","v":"2022-06-09"},{"$f":"Einzelwertung6!F57","v":"E"},{"$f":"Einzelwertung6!F58","v":"B"},{"$f":"SUMIF(Einzelwertung6!$A$3:$A$99,$A$1,IF($C13=\"E\",Einzelwertung6!$B$3:$B$99,Einzelwertung6!$C$3:$C$99))","v":33},{"$f":"SUMIF(Einzelwertung6!$A$3:$A$99,$A$1,IF($C13=\"B\",Einzelwertung6!$B$3:$B$99,Einzelwertung6!$C$3:$C$99))","v":30},null,6,{"$f":"Gesamtstand!$K$2","v":"2022-06-09"},{"$f":"Einzelwertung6!F57","v":"E"},{"$f":"Einzelwertung6!F58","v":"B"},{"$f":"SUMIF(Einzelwertung6!$A$3:$A$99,$H$1,IF($J13=\"E\",Einzelwertung6!$B$3:$B$99,Einzelwertung6!$C$3:$C$99))","v":32},{"$f":"SUMIF(Einzelwertung6!$A$3:$A$99,$H$1,IF($J13=\"B\",Einzelwertung6!$B$3:$B$99,Einzelwertung6!$C$3:$C$99))","v":34}]
[{"$f":"+A13+1","v":7},{"$f":"Gesamtstand!$L$2","v":"2022-06-15"},{"$f":"Einzelwertung7!F57","v":"E"},{"$f":"Einzelwertung7!F58","v":"B"},{"$f":"SUMIF(Einzelwertung7!$A$3:$A$99,$A$1,IF($C14=\"E\",Einzelwertung7!$B$3:$B$99,Einzelwertung7!$C$3:$C$99))","v":27},{"$f":"SUMIF(Einzelwertung7!$A$3:$A$99,$A$1,IF($C14=\"B\",Einzelwertung7!$B$3:$B$99,Einzelwertung7!$C$3:$C$99))","v":32},null,{"$f":"+H13+1","v":7},{"$f":"Gesamtstand!$L$2","v":"2022-06-15"},{"$f":"Einzelwertung7!F57","v":"E"},{"$f":"Einzelwertung7!F58","v":"B"},{"$f":"SUMIF(Einzelwertung7!$A$3:$A$99,$H$1,IF($J14=\"E\",Einzelwertung7!$B$3:$B$99,Einzelwertung7!$C$3:$C$99))","v":23},{"$f":"SUMIF(Einzelwertung7!$A$3:$A$99,$H$1,IF($J14=\"B\",Einzelwertung7!$B$3:$B$99,Einzelwertung7!$C$3:$C$99))","v":31}]
[8,{"$f":"Gesamtstand!$M$2","v":"2022-06-23"},{"$f":"Einzelwertung8!F57","v":"E"},{"$f":"Einzelwertung8!F58","v":"B"},{"$f":"SUMIF(Einzelwertung8!$A$3:$A$99,$A$1,IF($C15=\"E\",Einzelwertung8!$B$3:$B$99,Einzelwertung8!$C$3:$C$99))","v":24},{"$f":"SUMIF(Einzelwertung8!$A$3:$A$99,$A$1,IF($C15=\"B\",Einzelwertung8!$B$3:$B$99,Einzelwertung8!$C$3:$C$99))","v":28},null,8,{"$f":"Gesamtstand!$M$2","v":"2022-06-23"},{"$f":"Einzelwertung8!F57","v":"E"},{"$f":"Einzelwertung8!F58","v":"B"},{"$f":"SUMIF(Einzelwertung8!$A$3:$A$99,$H$1,IF($J15=\"E\",Einzelwertung8!$B$3:$B$99,Einzelwertung8!$C$3:$C$99))","v":29},{"$f":"SUMIF(Einzelwertung8!$A$3:$A$99,$H$1,IF($J15=\"B\",Einzelwertung8!$B$3:$B$99,Einzelwertung8!$C$3:$C$99))","v":34}]
[9,{"$f":"Gesamtstand!$N$2","v":"2022-06-30"},{"$f":"Einzelwertung9!F57","v":"E"},{"$f":"Einzelwertung9!F58","v":"B"},{"$f":"SUMIF(Einzelwertung9!$A$3:$A$99,$A$1,IF($C16=\"E\",Einzelwertung9!$B$3:$B$99,Einzelwertung9!$C$3:$C$99))","v":0},{"$f":"SUMIF(Einzelwertung9!$A$3:$A$99,$A$1,IF($C16=\"B\",Einzelwertung9!$B$3:$B$99,Einzelwertung9!$C$3:$C$99))","v":0},null,9,{"$f":"Gesamtstand!$N$2","v":"2022-06-30"},{"$f":"Einzelwertung9!F57","v":"E"},{"$f":"Einzelwertung9!F58","v":"B"},{"$f":"SUMIF(Einzelwertung9!$A$3:$A$99,$H$1,IF($J16=\"E\",Einzelwertung9!$B$3:$B$99,Einzelwertung9!$C$3:$C$99))","v":21},{"$f":"SUMIF(Einzelwertung9!$A$3:$A$99,$H$1,IF($J16=\"B\",Einzelwertung9!$B$3:$B$99,Einzelwertung9!$C$3:$C$99))","v":0}]
[10,{"$f":"Gesamtstand!$O$2","v":"2022-07-07"},{"$f":"Einzelwertung10!F57","v":"E"},{"$f":"Einzelwertung10!F58","v":"B"},{"$f":"SUMIF(Einzelwertung10!$A$3:$A$99,$A$1,IF($C17=\"E\",Einzelwertung10!$B$3:$B$99,Einzelwertung10!$C$3:$C$99))","v":22},{"$f":"SUMIF(Einzelwertung10!$A$3:$A$99,$A$1,IF($C17=\"B\",Einzelwertung10!$B$3:$B$99,Einzelwertung10!$C$3:$C$99))","v":31},null,10,{"$f":"Gesamtstand!$O$2","v":"2022-07-07"},{"$f":"Einzelwertung10!F57","v":"E"},{"$f":"Einzelwertung10!F58","v":"B"},{"$f":"SUMIF(Einzelwertung10!$A$3:$A$99,$H$1,IF($J17=\"E\",Einzelwertung10!$B$3:$B$99,Einzelwertung10!$C$3:$C$99))","v":0},{"$f":"SUMIF(Einzelwertung10!$A$3:$A$99,$H$1,IF($J17=\"B\",Einzelwertung10!$B$3:$B$99,Einzelwertung10!$C$3:$C$99))","v":0}]
[11,{"$f":"Gesamtstand!$P$2","v":"2022-07-14"},{"$f":"Einzelwertung11!F57","v":"E"},{"$f":"Einzelwertung11!F58","v":"B"},{"$f":"SUMIF(Einzelwertung11!$A$3:$A$99,$A$1,IF($C18=\"E\",Einzelwertung11!$B$3:$B$99,Einzelwertung11!$C$3:$C$99))","v":24},{"$f":"SUMIF(Einzelwertung11!$A$3:$A$99,$A$1,IF($C18=\"B\",Einzelwertung11!$B$3:$B$99,Einzelwertung11!$C$3:$C$99))","v":27},null,11,{"$f":"Gesamtstand!$P$2","v":"2022-07-14"},{"$f":"Einzelwertung11!F57","v":"E"},{"$f":"Einzelwertung11!F58","v":"B"},{"$f":"SUMIF(Einzelwertung11!$A$3:$A$99,$H$1,IF($J18=\"E\",Einzelwertung11!$B$3:$B$99,Einzelwertung11!$C$3:$C$99))","v":0},{"$f":"SUMIF(Einzelwertung11!$A$3:$A$99,$H$1,IF($J18=\"B\",Einzelwertung11!$B$3:$B$99,Einzelwertung11!$C$3:$C$99))","v":0}]
[12,{"$f":"Gesamtstand!$Q$2","v":"2022-07-21"},{"$f":"Einzelwertung12!F57","v":"E"},{"$f":"Einzelwertung12!F58","v":"B"},{"$f":"SUMIF(Einzelwertung12!$A$3:$A$99,$A$1,IF($C19=\"E\",Einzelwertung12!$B$3:$B$99,Einzelwertung12!$C$3:$C$99))","v":0},{"$f":"SUMIF(Einzelwertung12!$A$3:$A$99,$A$1,IF($C19=\"B\",Einzelwertung12!$B$3:$B$99,Einzelwertung12!$C$3:$C$99))","v":0},null,12,{"$f":"Gesamtstand!$Q$2","v":"2022-07-21"},{"$f":"Einzelwertung12!F57","v":"E"},{"$f":"Einzelwertung12!F58","v":"B"},{"$f":"SUMIF(Einzelwertung12!$A$3:$A$99,$H$1,IF($J19=\"E\",Einzelwertung12!$B$3:$B$99,Einzelwertung12!$C$3:$C$99))","v":27},{"$f":"SUMIF(Einzelwertung12!$A$3:$A$99,$H$1,IF($J19=\"B\",Einzelwertung12!$B$3:$B$99,Einzelwertung12!$C$3:$C$99))","v":0}]
[13,{"$f":"Gesamtstand!$R$2","v":"2022-07-28"},{"$f":"Einzelwertung13!F57","v":"E"},{"$f":"Einzelwertung13!F58","v":"B"},{"$f":"SUMIF(Einzelwertung13!$A$3:$A$99,$A$1,IF($C20=\"E\",Einzelwertung13!$B$3:$B$99,Einzelwertung13!$C$3:$C$99))","v":0},{"$f":"SUMIF(Einzelwertung13!$A$3:$A$99,$A$1,IF($C20=\"B\",Einzelwertung13!$B$3:$B$99,Einzelwertung13!$C$3:$C$99))","v":0},null,13,{"$f":"Gesamtstand!$R$2","v":"2022-07-28"},{"$f":"Einzelwertung13!F57","v":"E"},{"$f":"Einzelwertung13!F58","v":"B"},{"$f":"SUMIF(Einzelwertung13!$A$3:$A$99,$H$1,IF($J20=\"E\",Einzelwertung13!$B$3:$B$99,Einzelwertung13!$C$3:$C$99))","v":26},{"$f":"SUMIF(Einzelwertung13!$A$3:$A$99,$H$1,IF($J20=\"B\",Einzelwertung13!$B$3:$B$99,Einzelwertung13!$C$3:$C$99))","v":29}]
[14,{"$f":"Gesamtstand!$S$2","v":"2022-08-04"},{"$f":"Einzelwertung14!F57","v":"E"},{"$f":"Einzelwertung14!F58","v":"B"},{"$f":"SUMIF(Einzelwertung14!$A$3:$A$99,$A$1,IF($C21=\"E\",Einzelwertung14!$B$3:$B$99,Einzelwertung14!$C$3:$C$99))","v":26},{"$f":"SUMIF(Einzelwertung14!$A$3:$A$99,$A$1,IF($C21=\"B\",Einzelwertung14!$B$3:$B$99,Einzelwertung14!$C$3:$C$99))","v":27},null,14,{"$f":"Gesamtstand!$S$2","v":"2022-08-04"},{"$f":"Einzelwertung14!F57","v":"E"},{"$f":"Einzelwertung14!F58","v":"B"},{"$f":"SUMIF(Einzelwertung14!$A$3:$A$99,$H$1,IF($J21=\"E\",Einzelwertung14!$B$3:$B$99,Einzelwertung14!$C$3:$C$99))","v":0},{"$f":"SUMIF(Einzelwertung14!$A$3:$A$99,$H$1,IF($J21=\"B\",Einzelwertung14!$B$3:$B$99,Einzelwertung14!$C$3:$C$99))","v":0}]
[15,{"$f":"Gesamtstand!$T$2","v":"2022-08-11"},{"$f":"Einzelwertung15!F57","v":"E"},{"$f":"Einzelwertung15!F58","v":"B"},{"$f":"SUMIF(Einzelwertung15!$A$3:$A$99,$A$1,IF($C22=\"E\",Einzelwertung15!$B$3:$B$99,Einzelwertung15!$C$3:$C$99))","v":0},{"$f":"SUMIF(Einzelwertung15!$A$3:$A$99,$A$1,IF($C22=\"B\",Einzelwertung15!$B$3:$B$99,Einzelwertung15!$C$3:$C$99))","v":0},null,15,{"$f":"Gesamtstand!$T$2","v":"2022-08-11"},{"$f":"Einzelwertung15!F57","v":"E"},{"$f":"Einzelwertung15!F58","v":"B"},{"$f":"SUMIF(Einzelwertung15!$A$3:$A$99,$H$1,IF($J22=\"E\",Einzelwertung15!$B$3:$B$99,Einzelwertung15!$C$3:$C$99))","v":24},{"$f":"SUMIF(Einzelwertung15!$A$3:$A$99,$H$1,IF($J22=\"B\",Einzelwertung15!$B$3:$B$99,Einzelwertung15!$C$3:$C$99))","v":34}]
[16,{"$f":"Gesamtstand!$U$2","v":"2022-08-18"},{"$f":"Einzelwertung16!F57","v":"E"},{"$f":"Einzelwertung16!F58","v":"B"},{"$f":"SUMIF(Einzelwertung16!$A$3:$A$99,$A$1,IF($C23=\"E\",Einzelwertung16!$B$3:$B$99,Einzelwertung16!$C$3:$C$99))","v":25},{"$f":"SUMIF(Einzelwertung16!$A$3:$A$99,$A$1,IF($C23=\"B\",Einzelwertung16!$B$3:$B$99,Einzelwertung16!$C$3:$C$99))","v":34},null,16,{"$f":"Gesamtstand!$U$2","v":"2022-08-18"},{"$f":"Einzelwertung16!F57","v":"E"},{"$f":"Einzelwertung16!F58","v":"B"},{"$f":"SUMIF(Einzelwertung16!$A$3:$A$99,$H$1,IF($J23=\"E\",Einzelwertung16!$B$3:$B$99,Einzelwertung16!$C$3:$C$99))","v":26},{"$f":"SUMIF(Einzelwertung16!$A$3:$A$99,$H$1,IF($J23=\"B\",Einzelwertung16!$B$3:$B$99,Einzelwertung16!$C$3:$C$99))","v":31}]
[17,{"$f":"Gesamtstand!$V$2","v":"2022-08-25"},{"$f":"Einzelwertung17!F57","v":"E"},{"$f":"Einzelwertung17!F58","v":"B"},{"$f":"SUMIF(Einzelwertung17!$A$3:$A$99,$A$1,IF($C24=\"E\",Einzelwertung17!$B$3:$B$99,Einzelwertung17!$C$3:$C$99))","v":0},{"$f":"SUMIF(Einzelwertung17!$A$3:$A$99,$A$1,IF($C24=\"B\",Einzelwertung17!$B$3:$B$99,Einzelwertung17!$C$3:$C$99))","v":0},null,17,{"$f":"Gesamtstand!$V$2","v":"2022-08-25"},{"$f":"Einzelwertung17!F57","v":"E"},{"$f":"Einzelwertung17!F58","v":"B"},{"$f":"SUMIF(Einzelwertung17!$A$3:$A$99,$H$1,IF($J24=\"E\",Einzelwertung17!$B$3:$B$99,Einzelwertung17!$C$3:$C$99))","v":0},{"$f":"SUMIF(Einzelwertung17!$A$3:$A$99,$H$1,IF($J24=\"B\",Einzelwertung17!$B$3:$B$99,Einzelwertung17!$C$3:$C$99))","v":0}]
[null,{"$f":"Gesamtstand!$W$2","v":"2022-09-01"},{"$f":"Einzelwertung18!F57","v":"E"},{"$f":"Einzelwertung18!F58","v":"B"},{"$f":"SUMIF(Einzelwertung18!$A$3:$A$99,$A$1,IF($C25=\"E\",Einzelwertung18!$B$3:$B$99,Einzelwertung18!$C$3:$C$99))","v":0},{"$f":"SUMIF(Einzelwertung18!$A$3:$A$99,$A$1,IF($C25=\"B\",Einzelwertung18!$B$3:$B$99,Einzelwertung18!$C$3:$C$99))","v":0},null,null,{"$f":"Gesamtstand!$W$2","v":"2022-09-01"},{"$f":"Einzelwertung18!F57","v":"E"},{"$f":"Einzelwertung18!F58","v":"B"},{"$f":"SUMIF(Einzelwertung18!$A$3:$A$99,$H$1,IF($J25=\"E\",Einzelwertung18!$B$3:$B$99,Einzelwertung18!$C$3:$C$99))","v":0},{"$f":"SUMIF(Einzelwertung18!$A$3:$A$99,$H$1,IF($J25=\"B\",Einzelwertung18!$B$3:$B$99,Einzelwertung18!$C$3:$C$99))","v":0}]

{"sheet":"Teilnehmer","index":23,"n_rows":89,"n_cols":9,"rows_kept":89,"cut":false,"hidden":false,"merged":[[0,0,0,4]]}
["Sommer-Cup im Freizeittreff Herbede - Teilnehmerliste",null,null,null,null,null,null,"aus players.data:"]
["Spieler","Verein","Passnr.","Kat.","fehlt?",null,"Kat.","Verein","Kat. Ok"]
["Arens, Ingo",{"$f":"VLOOKUP(H3,Vereine!$A$2:$B$30,2,FALSE)","v":"Osna"},27450,"SM1",{"$f":"COUNTIF(Gesamtstand!$B$3:$B$103,$A3)=0","v":false},null,{"$f":"VLOOKUP($C3,bangolf_players!$B$2:$G$4682,6,FALSE)","v":"SM1"},{"$f":"VLOOKUP($C3,bangolf_players!$B$2:$G$4682,4,FALSE)","v":"VfB Osnabrück"},{"$f":"G3=D3","v":true}]
["Battling, Hendrik",{"$f":"VLOOKUP(H4,Vereine!$A$2:$B$30,2,FALSE)","v":"ASW"},37799,"H",{"$f":"COUNTIF(Gesamtstand!$B$3:$B$103,$A4)=0","v":true},null,{"$f":"VLOOKUP($C4,bangolf_players!$B$2:$G$4682,6,FALSE)","v":"H"},{"$f":"VLOOKUP($C4,bangolf_players!$B$2:$G$4682,4,FALSE)","v":"MGC \"AS\" Witten 1963"},{"$f":"G4=D4","v":true}]
["Battig, Wolfgang",{"$f":"VLOOKUP(H5,Vereine!$A$2:$B$30,2,FALSE)","v":"Lüd."},23741,"SM2",{"$f":"COUNTIF(Gesamtstand!$B$3:$B$103,$A5)=0","v":true},null,{"$f":"VLOOKUP($C5,bangolf_players!$B$2:$G$4682,6,FALSE)","v":"SM2"},{"$f":"VLOOKUP($C5,bangolf_players!$B$2:$G$4682,4,FALSE)","v":"MC 62 Lüdenscheid"},{"$f":"G5=D5","v":true}]
["Baumgart, Thorben",{"$f":"VLOOKUP(H6,Vereine!$A$2:$B$30,2,FALSE)","v":"HAG"},37760,"H",{"$f":"COUNTIF(Gesamtstand!$B$3:$B$103,$A6)=0","v":true},null,{"$f":"VLOOKUP($C6,bangolf_players!$B$2:$G$4682,6,FALSE)","v":"H"},{"$f":"VLOOKUP($C6,bangolf_players!$B$2:$G$4682,4,FALSE)","v":"SGC Hagen"},true]
["Behrens, Stephan",{"$f":"VLOOKUP(H7,Vereine!$A$2:$B$30,2,FALSE)","v":"NIE"},34186,"H",{"$f":"COUNTIF(Gesamtstand!$B$3:$B$103,$A7)=0","v":true},null,{"$f":"VLOOKUP($C7,bangolf_players!$B$2:$G$4682,6,FALSE)","v":"H"},{"$f":"VLOOKUP($C7,bangolf_players!$B$2:$G$4682,4,FALSE)","v":"Niendorfer MC v. 1963"},true]
["Blasek, Nicole",{"$f":"VLOOKUP(H8,Vereine!$A$2:$B$30,2,FALSE)","v":"KÖL"},35663,"SW1",{"$f":"COUNTIF(Gesamtstand!$B$3:$B$103,$A8)=0","v":true},null,{"$f":"VLOOKUP($C8,bangolf_players!$B$2:$G$4682,6,FALSE)","v":"SW1"},{"$f":"VLOOKUP($C8,bangolf_players!$B$2:$G$4682,4,FALSE)","v":"1. MGC Köln 1961"},true]
["Blümer, Severin",{"$f":"VLOOKUP(H9,Vereine!$A$2:$B$30,2,FALSE)","v":"Arheilg."},66049,"H",{"$f":"COUNTIF(Gesamtstand!$B$3:$B$103,$A9)=0","v":true},null,{"$f":"VLOOKUP($C9,bangolf_players!$B$2:$G$4682,6,FALSE)","v":"H"},{"$f":"VLOOKUP($C9,bangolf_players!$B$2:$G$4682,4,FALSE)","v":"SG Arheilgen Abt. Bahnengolf"},true]
["Börgmann, Brigitte",{"$f":"VLOOKUP(H10,Vereine!$A$2:$B$30,2,FALSE)","v":"Hobby"},"Hobby6","SW1",{"$f":"COUNTIF(Gesamtstand!$B$3:$B$103,$A10)=0","v":false},null,{"$f":"VLOOKUP($C10,bangolf_players!$B$2:$G$4682,6,FALSE)","v":"SW1"},{"$f":"VLOOKUP($C10,bangolf_players!$B$2:$G$4682,4,FALSE)","v":"Hobby"},true]
["Börgmann, Ulrich",{"$f":"VLOOKUP(H11,Vereine!$A$2:$B$30,2,FALSE)","v":"Hobby"},"Hobby15","SM1",{"$f":"COUNTIF(Gesamtstand!$B$3:$B$103,$A11)=0","v":false},null,{"$f":"VLOOKUP($C11,bangolf_players!$B$2:$G$4682,6,FALSE)","v":"SM1"},{"$f":"VLOOKUP($C11,bangolf_players!$B$2:$G$4682,4,FALSE)","v":"Hobby"},true]
["Breitbarth, Frank",{"$f":"VLOOKUP(H12,Vereine!$A$2:$B$30,2,FALSE)","v":"Oly"},67219,"SM1",{"$f":"COUNTIF(Gesamtstand!$B$3:$B$103,$A12)=0","v":true},null,{"$f":"VLOOKUP($C12,bangolf_players!$B$2:$G$4682,6,FALSE)","v":"SM1"},{"$f":"VLOOKUP($C12,bangolf_players!$B$2:$G$4682,4,FALSE)","v":"SC Olympia Dortmund"},true]
["Buchholz, Ansgar",{"$f":"VLOOKUP(H13,Vereine!$A$2:$B$30,2,FALSE)","v":"ASW"},31513,"SM1",{"$f":"COUNTIF(Gesamtstand!$B$3:$B$103,$A13)=0","v":false},null,{"$f":"VLOOKUP($C13,bangolf_players!$B$2:$G$4682,6,FALSE)","v":"SM1"},{"$f":"VLOOKUP($C13,bangolf_players!$B$2:$G$4682,4,FALSE)","v":"MGC \"AS\" Witten 1963"},true]
["Brunnenkant, Frank",{"$f":"VLOOKUP(H14,Vereine!$A$2:$B$30,2,FALSE)","v":"HEV"},67882,"SM1",{"$f":"COUNTIF(Gesamtstand!$B$3:$B$103,$A14)=0","v":false},null,{"$f":"VLOOKUP($C14,bangolf_players!$B$2:$G$4682,6,FALSE)","v":"SM1"},{"$f":"VLOOKUP($C14,bangolf_players!$B$2:$G$4682,4,FALSE)","v":"MGC Heven"},true]
["Dammann, Reinhold",{"$f":"VLOOKUP(H15,Vereine!$A$2:$B$30,2,FALSE)","v":"ASW"},25732,"SM2",{"$f":"COUNTIF(Gesamtstand!$B$3:$B$103,$A15)=0","v":true},null,{"$f":"VLOOKUP($C15,bangolf_players!$B$2:$G$4682,6,FALSE)","v":"SM2"},{"$f":"VLOOKUP($C15,bangolf_players!$B$2:$G$4682,4,FALSE)","v":"MGC \"AS\" Witten 1963"},true]
["Dietzel, Gerhard",{"$f":"VLOOKUP(H16,Vereine!$A$2:$B$30,2,FALSE)","v":"FEL"},5745,"SM2",{"$f":"COUNTIF(Gesamtstand!$B$3:$B$103,$A16)=0","v":true},null,{"$f":"VLOOKUP($C16,bangolf_players!$B$2:$G$4682,6,FALSE)","v":"SM2"},{"$f":"VLOOKUP($C16,bangolf_players!$B$2:$G$4682,4,FALSE)","v":"MGC Felderbachtal 1964"},true]
["Dreischer, Burkhard",{"$f":"VLOOKUP(H17,Vereine!$A$2:$B$30,2,FALSE)","v":"Oly"},23778,"SM2",{"$f":"COUNTIF(Gesamtstand!$B$3:$B$103,$A17)=0","v":false},null,{"$f":"VLOOKUP($C17,bangolf_players!$B$2:$G$4682,6,FALSE)","v":"SM2"},{"$f":"VLOOKUP($C17,bangolf_players!$B$2:$G$4682,4,FALSE)","v":"SC Olympia Dortmund"},true]
["Fritzenkötter, Dietmar",{"$f":"VLOOKUP(H18,Vereine!$A$2:$B$30,2,FALSE)","v":"CAS"},37088,"SM2",{"$f":"COUNTIF(Gesamtstand!$B$3:$B$103,$A18)=0","v":true},null,{"$f":"VLOOKUP($C18,bangolf_players!$B$2:$G$4682,6,FALSE)","v":"SM2"},{"$f":"VLOOKUP($C18,bangolf_players!$B$2:$G$4682,4,FALSE)","v":"BGSV Castrop 1961"},{"$f":"G18=D18","v":true}]
["Fritzenkötter, Margot",{"$f":"VLOOKUP(H19,Vereine!$A$2:$B$30,2,FALSE)","v":"CAS"},37089,"SW2",{"$f":"COUNTIF(Gesamtstand!$B$3:$B$103,$A19)=0","v":true},null,{"$f":"VLOOKUP($C19,bangolf_players!$B$2:$G$4682,6,FALSE)","v":"SW2"},{"$f":"VLOOKUP($C19,bangolf_players!$B$2:$G$4682,4,FALSE)","v":"BGSV Castrop 1961"},true]
["Frost, Uwe",{"$f":"VLOOKUP(H20,Vereine!$A$2:$B$30,2,FALSE)","v":"Hobby"},"Hobby28","SM2",{"$f":"COUNTIF(Gesamtstand!$B$3:$B$103,$A20)=0","v":true},null,{"$f":"VLOOKUP($C20,bangolf_players!$B$2:$G$4682,6,FALSE)","v":"SM2"},{"$f":"VLOOKUP($C20,bangolf_players!$B$2:$G$4682,4,FALSE)","v":"Hobby"},true]
["Gattner, Karsten",{"$f":"VLOOKUP(H21,Vereine!$A$2:$B$30,2,FALSE)","v":"ASW"},67881,"SM1",{"$f":"COUNTIF(Gesamtstand!$B$3:$B$103,$A21)=0","v":false},null,{"$f":"VLOOKUP($C21,bangolf_players!$B$2:$G$4682,6,FALSE)","v":"SM1"},{"$f":"VLOOKUP($C21,bangolf_players!$B$2:$G$4682,4,FALSE)","v":"MGC \"AS\" Witten 1963"},true]
["Ginschel, Rudolf",{"$f":"VLOOKUP(H22,Vereine!$A$2:$B$30,2,FALSE)","v":"Ennep."},66864,"SM2",{"$f":"COUNTIF(Gesamtstand!$B$3:$B$103,$A22)=0","v":true},null,{"$f":"VLOOKUP($C22,bangolf_players!$B$2:$G$4682,6,FALSE)","v":"SM2"},{"$f":"VLOOKUP($C22,bangolf_players!$B$2:$G$4682,4,FALSE)","v":"BSC Ennepetal"},true]
["Goldau, Thorsten",{"$f":"VLOOKUP(H23,Vereine!$A$2:$B$30,2,FALSE)","v":"Hobby"},"Hobby5","H",{"$f":"COUNTIF(Gesamtstand!$B$3:$B$103,$A23)=0","v":true},null,{"$f":"VLOOKUP($C23,bangolf_players!$B$2:$G$4682,6,FALSE)","v":"H"},{"$f":"VLOOKUP($C23,bangolf_players!$B$2:$G$4682,4,FALSE)","v":"Hobby"},{"$f":"G23=D23","v":true}]
["Greiffendorf, Hellmut",{"$f":"VLOOKUP(H24,Vereine!$A$2:$B$30,2,FALSE)","v":"ASW"},3800,"SM2",{"$f":"COUNTIF(Gesamtstand!$B$3:$B$103,$A24)=0","v":false},null,{"$f":"VLOOKUP($C24,bangolf_players!$B$2:$G$4682,6,FALSE)","v":"SM2"},{"$f":"VLOOKUP($C24,bangolf_players!$B$2:$G$4682,4,FALSE)","v":"MGC \"AS\" Witten 1963"},true]
["Grügelsberg, Jürgen",{"$f":"VLOOKUP(H25,Vereine!$A$2:$B$30,2,FALSE)","v":"ASW"},3802,"SM2",{"$f":"COUNTIF(Gesamtstand!$B$3:$B$103,$A25)=0","v":true},null,{"$f":"VLOOKUP($C25,bangolf_players!$B$2:$G$4682,6,FALSE)","v":"SM2"},{"$f":"VLOOKUP($C25,bangolf_players!$B$2:$G$4682,4,FALSE)","v":"MGC \"AS\" Witten 1963"},{"$f":"G25=D25","v":true}]
["Grügelsberg, Marianne",{"$f":"VLOOKUP(H26,Vereine!$A$2:$B$30,2,FALSE)","v":"ASW"},3126,"SW2",{"$f":"COUNTIF(Gesamtstand!$B$3:$B$103,$A26)=0","v":true},null,{"$f":"VLOOKUP($C26,bangolf_players!$B$2:$G$4682,6,FALSE)","v":"SW2"},{"$f":"VLOOKUP($C26,bangolf_players!$B$2:$G$4682,4,FALSE)","v":"MGC \"AS\" Witten 1963"},true]
["Gust, Klaus",{"$f":"VLOOKUP(H27,Vereine!$A$2:$B$30,2,FALSE)","v":"FEL"},6740,"SM2",{"$f":"COUNTIF(Gesamtstand!$B$3:$B$103,$A27)=0","v":true},null,{"$f":"VLOOKUP($C27,bangolf_players!$B$2:$G$4682,6,FALSE)","v":"SM2"},{"$f":"VLOOKUP($C27,bangolf_players!$B$2:$G$4682,4,FALSE)","v":"MGC Felderbachtal 1964"},true]
["Hensel, Tobias",{"$f":"VLOOKUP(H28,Vereine!$A$2:$B$30,2,FALSE)","v":"Ennep."},37011,"H",{"$f":"COUNTIF(Gesamtstand!$B$3:$B$103,$A28)=0","v":true},null,{"$f":"VLOOKUP($C28,bangolf_players!$B$2:$G$4682,6,FALSE)","v":"H"},{"$f":"VLOOKUP($C28,bangolf_players!$B$2:$G$4682,4,FALSE)","v":"BSC Ennepetal"},true]
["Henseler, Rainer",{"$f":"VLOOKUP(H29,Vereine!$A$2:$B$30,2,FALSE)","v":"Paderb."},65852,"SM2",{"$f":"COUNTIF(Gesamtstand!$B$3:$B$103,$A29)=0","v":true},null,{"$f":"VLOOKUP($C29,bangolf_players!$B$2:$G$4682,6,FALSE)","v":"SM2"},{"$f":"VLOOKUP($C29,bangolf_players!$B$2:$G$4682,4,FALSE)","v":"1. MGC Paderborn"},true]
["Hesse, Peter",{"$f":"VLOOKUP(H30,Vereine!$A$2:$B$30,2,FALSE)","v":"Hobby"},"Hobby1","SM2",{"$f":"COUNTIF(Gesamtstand!$B$3:$B$103,$A30)=0","v":true},null,{"$f":"VLOOKUP($C30,bangolf_players!$B$2:$G$4682,6,FALSE)","v":"SM2"},{"$f":"VLOOKUP($C30,bangolf_players!$B$2:$G$4682,4,FALSE)","v":"Hobby"},true]
["Hettrich, Willi",{"$f":"VLOOKUP(H31,Vereine!$A$2:$B$30,2,FALSE)","v":"CAS"},35236,"SM2",{"$f":"COUNTIF(Gesamtstand!$B$3:$B$103,$A31)=0","v":false},null,{"$f":"VLOOKUP($C31,bangolf_players!$B$2:$G$4682,6,FALSE)","v":"SM2"},{"$f":"VLOOKUP($C31,bangolf_players!$B$2:$G$4682,4,FALSE)","v":"BGSV Castrop 1961"},true]
["Hickert, Peter","ASW",46250,"SM2",{"$f":"COUNTIF(Gesamtstand!$B$3:$B$103,$A32)=0","v":false},null,{"$f":"VLOOKUP($C32,bangolf_players!$B$2:$G$4682,6,FALSE)","v":"SM2"},{"$f":"VLOOKUP($C32,bangolf_players!$B$2:$G$4682,4,FALSE)","v":"MSF Brilon"},{"$f":"G32=D32","v":true}]
["Hoffmann, Thomas",{"$f":"VLOOKUP(H33,Vereine!$A$2:$B$30,2,FALSE)","v":"Hobby"},"Hobby29","SM2",{"$f":"COUNTIF(Gesamtstand!$B$3:$B$103,$A33)=0","v":false},null,{"$f":"VLOOKUP($C33,bangolf_players!$B$2:$G$4682,6,FALSE)","v":"SM2"},{"$f":"VLOOKUP($C33,bangolf_players!$B$2:$G$4682,4,FALSE)","v":"Hobby"},true]
["Hünnebeck, Petra",{"$f":"VLOOKUP(H34,Vereine!$A$2:$B$30,2,FALSE)","v":"Hobby"},"Hobby25","D",{"$f":"COUNTIF(Gesamtstand!$B$3:$B$103,$A34)=0","v":true},null,{"$f":"VLOOKUP($C34,bangolf_players!$B$2:$G$4682,6,FALSE)","v":"D"},{"$f":"VLOOKUP($C34,bangolf_players!$B$2:$G$4682,4,FALSE)","v":"Hobby"},true]
["Janz, Angela",{"$f":"VLOOKUP(H35,Vereine!$A$2:$B$30,2,FALSE)","v":"Hobby"},"Hobby26","SW2",{"$f":"COUNTIF(Gesamtstand!$B$3:$B$103,$A35)=0","v":true},null,{"$f":"VLOOKUP($C35,bangolf_players!$B$2:$G$4682,6,FALSE)","v":"SW2"},{"$f":"VLOOKUP($C35,bangolf_players!$B$2:$G$4682,4,FALSE)","v":"Hobby"},true]
["Jezierski, Marie-Luise",{"$f":"VLOOKUP(H36,Vereine!$A$2:$B$30,2,FALSE)","v":"ASW"},61958,"SW2",{"$f":"COUNTIF(Gesamtstand!$B$3:$B$103,$A36)=0","v":true},null,{"$f":"VLOOKUP($C36,bangolf_players!$B$2:$G$4682,6,FALSE)","v":"SW2"},{"$f":"VLOOKUP($C36,bangolf_players!$B$2:$G$4682,4,FALSE)","v":"MGC \"AS\" Witten 1963"},true]
["Kalhöfer, Anna",{"$f":"VLOOKUP(H37,Vereine!$A$2:$B$30,2,FALSE)","v":"ASW"},4222,"SW2",{"$f":"COUNTIF(Gesamtstand!$B$3:$B$103,$A37)=0","v":false},null,{"$f":"VLOOKUP($C37,bangolf_players!$B$2:$G$4682,6,FALSE)","v":"SW2"},{"$f":"VLOOKUP($C37,bangolf_players!$B$2:$G$4682,4,FALSE)","v":"MGC \"AS\" Witten 1963"},{"$f":"G37=D37","v":true}]
["Kersch, Uwe",{"$f":"VLOOKUP(H38,Vereine!$A$2:$B$30,2,FALSE)","v":"Hobby"},"Hobby33","SM2",{"$f":"COUNTIF(Gesamtstand!$B$3:$B$103,$A38)=0","v":false},null,{"$f":"VLOOKUP($C38,bangolf_players!$B$2:$G$4682,6,FALSE)","v":"SM2"},{"$f":"VLOOKUP($C38,bangolf_players!$B$2:$G$4682,4,FALSE)","v":"Hobby"},{"$f":"G38=D38","v":true}]
["Keruth, Ellen",{"$f":"VLOOKUP(H39,Vereine!$A$2:$B$30,2,FALSE)","v":"Hobby"},"Hobby17","SW2",{"$f":"COUNTIF(Gesamtstand!$B$3:$B$103,$A39)=0","v":true},null,{"$f":"VLOOKUP($C39,bangolf_players!$B$2:$G$4682,6,FALSE)","v":"SW2"},{"$f":"VLOOKUP($C39,bangolf_players!$B$2:$G$4682,4,FALSE)","v":"Hobby"},true]
["Keuth, Marita",{"$f":"VLOOKUP(H40,Vereine!$A$2:$B$30,2,FALSE)","v":"HEV"},67351,"SW1",{"$f":"COUNTIF(Gesamtstand!$B$3:$B$103,$A40)=0","v":true},null,{"$f":"VLOOKUP($C40,bangolf_players!$B$2:$G$4682,6,FALSE)","v":"SW1"},{"$f":"VLOOKUP($C40,bangolf_players!$B$2:$G$4682,4,FALSE)","v":"MGC Heven"},{"$f":"G40=D40","v":true}]
["Klein, Sabine",{"$f":"VLOOKUP(H41,Vereine!$A$2:$B$30,2,FALSE)","v":"BÜT"},36474,"SW1",{"$f":"COUNTIF(Gesamtstand!$B$3:$B$103,$A41)=0","v":true},null,{"$f":"VLOOKUP($C41,bangolf_players!$B$2:$G$4682,6,FALSE)","v":"SW1"},{"$f":"VLOOKUP($C41,bangolf_players!$B$2:$G$4682,4,FALSE)","v":"HMC Büttgen"},true]
["Klein, Theo",{"$f":"VLOOKUP(H42,Vereine!$A$2:$B$30,2,FALSE)","v":"Halver"},40219,"SM2",{"$f":"COUNTIF(Gesamtstand!$B$3:$B$103,$A42)=0","v":true},null,{"$f":"VLOOKUP($C42,bangolf_players!$B$2:$G$4682,6,FALSE)","v":"SM2"},{"$f":"VLOOKUP($C42,bangolf_players!$B$2:$G$4682,4,FALSE)","v":"SSC Halver"},true]
["Koch, Ursula",{"$f":"VLOOKUP(H43,Vereine!$A$2:$B$30,2,FALSE)","v":"Hobby"},"Hobby18","SW2",{"$f":"COUNTIF(Gesamtstand!$B$3:$B$103,$A43)=0","v":true},null,{"$f":"VLOOKUP($C43,bangolf_players!$B$2:$G$4682,6,FALSE)","v":"SW2"},{"$f":"VLOOKUP($C43,bangolf_players!$B$2:$G$4682,4,FALSE)","v":"Hobby"},true]
["Kortmann, Sabine",{"$f":"VLOOKUP(H44,Vereine!$A$2:$B$30,2,FALSE)","v":"Hobby"},"Hobby31","SW1",{"$f":"COUNTIF(Gesamtstand!$B$3:$B$103,$A44)=0","v":false},null,{"$f":"VLOOKUP($C44,bangolf_players!$B$2:$G$4682,6,FALSE)","v":"SW1"},{"$f":"VLOOKUP($C44,bangolf_players!$B$2:$G$4682,4,FALSE)","v":"Hobby"},{"$f":"G44=D44","v":true}]
["Kortmann, Uwe",{"$f":"VLOOKUP(H45,Vereine!$A$2:$B$30,2,FALSE)","v":"Hobby"},"Hobby32","SM1",{"$f":"COUNTIF(Gesamtstand!$B$3:$B$103,$A45)=0","v":false},null,{"$f":"VLOOKUP($C45,bangolf_players!$B$2:$G$4682,6,FALSE)","v":"SM1"},{"$f":"VLOOKUP($C45,bangolf_players!$B$2:$G$4682,4,FALSE)","v":"Hobby"},true]
["Kottek, Sabine",{"$f":"VLOOKUP(H46,Vereine!$A$2:$B$30,2,FALSE)","v":"HEV"},67152,"D",{"$f":"COUNTIF(Gesamtstand!$B$3:$B$103,$A46)=0","v":true},null,{"$f":"VLOOKUP($C46,bangolf_players!$B$2:$G$4682,6,FALSE)","v":"D"},{"$f":"VLOOKUP($C46,bangolf_players!$B$2:$G$4682,4,FALSE)","v":"MGC Heven"},true]
["Kube, Sebastian",{"$f":"VLOOKUP(H47,Vereine!$A$2:$B$30,2,FALSE)","v":"Do-Bre"},35655,"H",{"$f":"COUNTIF(Gesamtstand!$B$3:$B$103,$A47)=0","v":true},null,{"$f":"VLOOKUP($C47,bangolf_players!$B$2:$G$4682,6,FALSE)","v":"H"},{"$f":"VLOOKUP($C47,bangolf_players!$B$2:$G$4682,4,FALSE)","v":"MGC Dormagen-Brechten"},true]
["Kunz, Martin",{"$f":"VLOOKUP(H48,Vereine!$A$2:$B$30,2,FALSE)","v":"Hobby"},"Hobby40","SM1",{"$f":"COUNTIF(Gesamtstand!$B$3:$B$103,$A48)=0","v":false},null,{"$f":"VLOOKUP($C48,bangolf_players!$B$2:$G$4682,6,FALSE)","v":"SM1"},{"$f":"VLOOKUP($C48,bangolf_players!$B$2:$G$4682,4,FALSE)","v":"Hobby"},{"$f":"G48=D48","v":true}]
["Kuschel, Raphael",{"$f":"VLOOKUP(H49,Vereine!$A$2:$B$30,2,FALSE)","v":"Do-Bre"},66103,"H",{"$f":"COUNTIF(Gesamtstand!$B$3:$B$103,$A49)=0","v":true},null,{"$f":"VLOOKUP($C49,bangolf_players!$B$2:$G$4682,6,FALSE)","v":"H"},{"$f":"VLOOKUP($C49,bangolf_players!$B$2:$G$4682,4,FALSE)","v":"MGC Dormagen-Brechten"},{"$f":"G49=D49","v":true}]
["Lehmann, Niclas",{"$f":"VLOOKUP(H50,Vereine!$A$2:$B$30,2,FALSE)","v":"Oly"},67372,"H",{"$f":"COUNTIF(Gesamtstand!$B$3:$B$103,$A50)=0","v":false},null,{"$f":"VLOOKUP($C50,bangolf_players!$B$2:$G$4682,6,FALSE)","v":"H"},{"$f":"VLOOKUP($C50,bangolf_players!$B$2:$G$4682,4,FALSE)","v":"SC Olympia Dortmund"},true]
["Leibrandt, Saddrik",{"$f":"VLOOKUP(H51,Vereine!$A$2:$B$30,2,FALSE)","v":"Hobby"},"Hobby27","H",{"$f":"COUNTIF(Gesamtstand!$B$3:$B$103,$A51)=0","v":true},null,{"$f":"VLOOKUP($C51,bangolf_players!$B$2:$G$4682,6,FALSE)","v":"H"},{"$f":"VLOOKUP($C51,bangolf_players!$B$2:$G$4682,4,FALSE)","v":"Hobby"},true]
["Lenk, Rolf",{"$f":"VLOOKUP(H52,Vereine!$A$2:$B$30,2,FALSE)","v":"ASW"},61716,"SM2",{"$f":"COUNTIF(Gesamtstand!$B$3:$B$103,$A52)=0","v":false},null,{"$f":"VLOOKUP($C52,bangolf_players!$B$2:$G$4682,6,FALSE)","v":"SM2"},{"$f":"VLOOKUP($C52,bangolf_players!$B$2:$G$4682,4,FALSE)","v":"MGC \"AS\" Witten 1963"},{"$f":"G52=D52","v":true}]
["Lieber, Nicole",{"$f":"VLOOKUP(H53,Vereine!$A$2:$B$30,2,FALSE)","v":"Hobby"},"Hobby7","D",{"$f":"COUNTIF(Gesamtstand!$B$3:$B$103,$A53)=0","v":false},null,{"$f":"VLOOKUP($C53,bangolf_players!$B$2:$G$4682,6,FALSE)","v":"D"},{"$f":"VLOOKUP($C53,bangolf_players!$B$2:$G$4682,4,FALSE)","v":"Hobby"},true]
["Lütje, Ursula",{"$f":"VLOOKUP(H54,Vereine!$A$2:$B$30,2,FALSE)","v":"Hobby"},"Hobby14","SW2",{"$f":"COUNTIF(Gesamtstand!$B$3:$B$103,$A54)=0","v":true},null,{"$f":"VLOOKUP($C54,bangolf_players!$B$2:$G$4682,6,FALSE)","v":"SW2"},{"$f":"VLOOKUP($C54,bangolf_players!$B$2:$G$4682,4,FALSE)","v":"Hobby"},true]
["Lütje, Walter",{"$f":"VLOOKUP(H55,Vereine!$A$2:$B$30,2,FALSE)","v":"Hobby"},"Hobby13","SM2",{"$f":"COUNTIF(Gesamtstand!$B$3:$B$103,$A55)=0","v":true},null,{"$f":"VLOOKUP($C55,bangolf_players!$B$2:$G$4682,6,FALSE)","v":"SM2"},{"$f":"VLOOKUP($C55,bangolf_players!$B$2:$G$4682,4,FALSE)","v":"Hobby"},true]
["Matthies, Angelika",{"$f":"VLOOKUP(H56,Vereine!$A$2:$B$30,2,FALSE)","v":"ASW"},65803,"SW2",{"$f":"COUNTIF(Gesamtstand!$B$3:$B$103,$A56)=0","v":true},null,{"$f":"VLOOKUP($C56,bangolf_players!$B$2:$G$4682,6,FALSE)","v":"SW2"},{"$f":"VLOOKUP($C56,bangolf_players!$B$2:$G$4682,4,FALSE)","v":"MGC \"AS\" Witten 1963"},true]
["Matthies, Bernd",{"$f":"VLOOKUP(H57,Vereine!$A$2:$B$30,2,FALSE)","v":"ASW"},65804,"SM2",{"$f":"COUNTIF(Gesamtstand!$B$3:$B$103,$A57)=0","v":true},null,{"$f":"VLOOKUP($C57,bangolf_players!$B$2:$G$4682,6,FALSE)","v":"SM2"},{"$f":"VLOOKUP($C57,bangolf_players!$B$2:$G$4682,4,FALSE)","v":"MGC \"AS\" Witten 1963"},true]
["Neufeld, Marvin",{"$f":"VLOOKUP(H58,Vereine!$A$2:$B$30,2,FALSE)","v":"NEH"},37047,"H",{"$f":"COUNTIF(Gesamtstand!$B$3:$B$103,$A58)=0","v":true},null,{"$f":"VLOOKUP($C58,bangolf_players!$B$2:$G$4682,6,FALSE)","v":"H"},{"$f":"VLOOKUP($C58,bangolf_players!$B$2:$G$4682,4,FALSE)","v":"MSK Neheim-Hüsten"},true]
["Niederdräing, Dieter",{"$f":"VLOOKUP(H59,Vereine!$A$2:$B$30,2,FALSE)","v":"FEL"},11191,"SM2",{"$f":"COUNTIF(Gesamtstand!$B$3:$B$103,$A59)=0","v":true},null,{"$f":"VLOOKUP($C59,bangolf_players!$B$2:$G$4682,6,FALSE)","v":"SM2"},{"$f":"VLOOKUP($C59,bangolf_players!$B$2:$G$4682,4,FALSE)","v":"MGC Felderbachtal 1964"},true]
["Nopens, Christian",{"$f":"VLOOKUP(H60,Vereine!$A$2:$B$30,2,FALSE)","v":"Hobby"},"Hobby22","SM1",{"$f":"COUNTIF(Gesamtstand!$B$3:$B$103,$A60)=0","v":true},null,{"$f":"VLOOKUP($C60,bangolf_players!$B$2:$G$4682,6,FALSE)","v":"SM1"},{"$f":"VLOOKUP($C60,bangolf_players!$B$2:$G$4682,4,FALSE)","v":"Hobby"},true]
["Nopens, Ute",{"$f":"VLOOKUP(H61,Vereine!$A$2:$B$30,2,FALSE)","v":"Hobby"},"Hobby23","SW1",{"$f":"COUNTIF(Gesamtstand!$B$3:$B$103,$A61)=0","v":true},null,{"$f":"VLOOKUP($C61,bangolf_players!$B$2:$G$4682,6,FALSE)","v":"SW1"},{"$f":"VLOOKUP($C61,bangolf_players!$B$2:$G$4682,4,FALSE)","v":"Hobby"},{"$f":"G61=D61","v":true}]
["Paffrath, Ben",{"$f":"VLOOKUP(H62,Vereine!$A$2:$B$30,2,FALSE)","v":"HEV"},66565,"JM",{"$f":"COUNTIF(Gesamtstand!$B$3:$B$103,$A62)=0","v":false},null,{"$f":"VLOOKUP($C62,bangolf_players!$B$2:$G$4682,6,FALSE)","v":"JM"},{"$f":"VLOOKUP($C62,bangolf_players!$B$2:$G$4682,4,FALSE)","v":"MGC Heven"},{"$f":"G62=D62","v":true}]
["Paffrath, Siegfried",{"$f":"VLOOKUP(H63,Vereine!$A$2:$B$30,2,FALSE)","v":"HEV"},33511,"SM2",{"$f":"COUNTIF(Gesamtstand!$B$3:$B$103,$A63)=0","v":false},null,{"$f":"VLOOKUP($C63,bangolf_players!$B$2:$G$4682,6,FALSE)","v":"SM2"},{"$f":"VLOOKUP($C63,bangolf_players!$B$2:$G$4682,4,FALSE)","v":"MGC Heven"},true]
["Petersen, Robin",{"$f":"VLOOKUP(H64,Vereine!$A$2:$B$30,2,FALSE)","v":"Oly"},67371,"H",{"$f":"COUNTIF(Gesamtstand!$B$3:$B$103,$A64)=0","v":true},null,{"$f":"VLOOKUP($C64,bangolf_players!$B$2:$G$4682,6,FALSE)","v":"H"},{"$f":"VLOOKUP($C64,bangolf_players!$B$2:$G$4682,4,FALSE)","v":"SC Olympia Dortmund"},true]
["Preißinger, Bernd",{"$f":"VLOOKUP(H65,Vereine!$A$2:$B$30,2,FALSE)","v":"Hobby"},"Hobby3","SM2",{"$f":"COUNTIF(Gesamtstand!$B$3:$B$103,$A65)=0","v":true},null,{"$f":"VLOOKUP($C65,bangolf_players!$B$2:$G$4682,6,FALSE)","v":"SM2"},{"$f":"VLOOKUP($C65,bangolf_players!$B$2:$G$4682,4,FALSE)","v":"Hobby"},true]
["Presser, Wolfgang",{"$f":"VLOOKUP(H66,Vereine!$A$2:$B$30,2,FALSE)","v":"HEV"},67151,"SM2",{"$f":"COUNTIF(Gesamtstand!$B$3:$B$103,$A66)=0","v":true},null,{"$f":"VLOOKUP($C66,bangolf_players!$B$2:$G$4682,6,FALSE)","v":"SM2"},{"$f":"VLOOKUP($C66,bangolf_players!$B$2:$G$4682,4,FALSE)","v":"MGC Heven"},true]
["Puschner, Endres",{"$f":"VLOOKUP(H67,Vereine!$A$2:$B$30,2,FALSE)","v":"Hobby"},"Hobby20","H",{"$f":"COUNTIF(Gesamtstand!$B$3:$B$103,$A67)=0","v":true},null,{"$f":"VLOOKUP($C67,bangolf_players!$B$2:$G$4682,6,FALSE)","v":"H"},{"$f":"VLOOKUP($C67,bangolf_players!$B$2:$G$4682,4,FALSE)","v":"Hobby"},{"$f":"G67=D67","v":true}]
["Puschner, Michael",{"$f":"VLOOKUP(H68,Vereine!$A$2:$B$30,2,FALSE)","v":"Hobby"},"Hobby11","SM2",{"$f":"COUNTIF(Gesamtstand!$B$3:$B$103,$A68)=0","v":false},null,{"$f":"VLOOKUP($C68,bangolf_players!$B$2:$G$4682,6,FALSE)","v":"SM2"},{"$f":"VLOOKUP($C68,bangolf_players!$B$2:$G$4682,4,FALSE)","v":"Hobby"},true]
["Puschner, Silke",{"$f":"VLOOKUP(H69,Vereine!$A$2:$B$30,2,FALSE)","v":"Hobby"},"Hobby19","SW2",{"$f":"COUNTIF(Gesamtstand!$B$3:$B$103,$A69)=0","v":false},null,{"$f":"VLOOKUP($C69,bangolf_players!$B$2:$G$4682,6,FALSE)","v":"SW2"},{"$f":"VLOOKUP($C69,bangolf_players!$B$2:$G$4682,4,FALSE)","v":"Hobby"},true]
["Rabe, Jonas",{"$f":"VLOOKUP(H70,Vereine!$A$2:$B$30,2,FALSE)","v":"Hardenb."},67860,"JM",{"$f":"COUNTIF(Gesamtstand!$B$3:$B$103,$A70)=0","v":false},null,{"$f":"VLOOKUP($C70,bangolf_players!$B$2:$G$4682,6,FALSE)","v":"JM"},{"$f":"VLOOKUP($C70,bangolf_players!$B$2:$G$4682,4,FALSE)","v":"BGS Hardenberg-Pötter"},{"$f":"G70=D70","v":true}]
["Rade, Marcus",{"$f":"VLOOKUP(H71,Vereine!$A$2:$B$30,2,FALSE)","v":"Osna"},38625,"SM1",{"$f":"COUNTIF(Gesamtstand!$B$3:$B$103,$A71)=0","v":false},null,{"$f":"VLOOKUP($C71,bangolf_players!$B$2:$G$4682,6,FALSE)","v":"SM1"},{"$f":"VLOOKUP($C71,bangolf_players!$B$2:$G$4682,4,FALSE)","v":"VfB Osnabrück"},true]
["Reese, Andreas",{"$f":"VLOOKUP(H72,Vereine!$A$2:$B$30,2,FALSE)","v":"FEL"},50224,"SM1",{"$f":"COUNTIF(Gesamtstand!$B$3:$B$103,$A72)=0","v":true},null,{"$f":"VLOOKUP($C72,bangolf_players!$B$2:$G$4682,6,FALSE)","v":"SM1"},{"$f":"VLOOKUP($C72,bangolf_players!$B$2:$G$4682,4,FALSE)","v":"MGC Felderbachtal 1964"},true]
["Richter, Mike",{"$f":"VLOOKUP(H73,Vereine!$A$2:$B$30,2,FALSE)","v":"Eiben."},34904,"H",{"$f":"COUNTIF(Gesamtstand!$B$3:$B$103,$A73)=0","v":true},null,{"$f":"VLOOKUP($C73,bangolf_players!$B$2:$G$4682,6,FALSE)","v":"H"},{"$f":"VLOOKUP($C73,bangolf_players!$B$2:$G$4682,4,FALSE)","v":"MGV Eibenstock"},true]
["Scharpe, Sabine",{"$f":"VLOOKUP(H74,Vereine!$A$2:$B$30,2,FALSE)","v":"Ennep."},67147,"SW1",{"$f":"COUNTIF(Gesamtstand!$B$3:$B$103,$A74)=0","v":false},null,{"$f":"VLOOKUP($C74,bangolf_players!$B$2:$G$4682,6,FALSE)","v":"SW1"},{"$f":"VLOOKUP($C74,bangolf_players!$B$2:$G$4682,4,FALSE)","v":"BSC Ennepetal"},true]
["Schmidt, Barbara",{"$f":"VLOOKUP(H75,Vereine!$A$2:$B$30,2,FALSE)","v":"Hobby"},"Hobby41","SW2",{"$f":"COUNTIF(Gesamtstand!$B$3:$B$103,$A75)=0","v":false},null,{"$f":"VLOOKUP($C75,bangolf_players!$B$2:$G$4682,6,FALSE)","v":"SW2"},{"$f":"VLOOKUP($C75,bangolf_players!$B$2:$G$4682,4,FALSE)","v":"Hobby"},{"$f":"G75=D75","v":true}]
["Schmidtbauer, Günter",{"$f":"VLOOKUP(H76,Vereine!$A$2:$B$30,2,FALSE)","v":"Hobby"},"Hobby4","SM2",{"$f":"COUNTIF(Gesamtstand!$B$3:$B$103,$A76)=0","v":false},null,{"$f":"VLOOKUP($C76,bangolf_players!$B$2:$G$4682,6,FALSE)","v":"SM2"},{"$f":"VLOOKUP($C76,bangolf_players!$B$2:$G$4682,4,FALSE)","v":"Hobby"},true]
["Schmitt, Jürgen",{"$f":"VLOOKUP(H77,Vereine!$A$2:$B$30,2,FALSE)","v":"ASW"},44955,"SM1",{"$f":"COUNTIF(Gesamtstand!$B$3:$B$103,$A77)=0","v":false},null,{"$f":"VLOOKUP($C77,bangolf_players!$B$2:$G$4682,6,FALSE)","v":"SM1"},{"$f":"VLOOKUP($C77,bangolf_players!$B$2:$G$4682,4,FALSE)","v":"MGC \"AS\" Witten 1963"},true]
["Skischalli, Frank",{"$f":"VLOOKUP(H78,Vereine!$A$2:$B$30,2,FALSE)","v":"Hobby"},"Hobby10","H",{"$f":"COUNTIF(Gesamtstand!$B$3:$B$103,$A78)=0","v":true},null,{"$f":"VLOOKUP($C78,bangolf_players!$B$2:$G$4682,6,FALSE)","v":"H"},{"$f":"VLOOKUP($C78,bangolf_players!$B$2:$G$4682,4,FALSE)","v":"Hobby"},{"$f":"G78=D78","v":true}]
["Springob, René",{"$f":"VLOOKUP(H79,Vereine!$A$2:$B$30,2,FALSE)","v":"NEH"},38477,"H",{"$f":"COUNTIF(Gesamtstand!$B$3:$B$103,$A79)=0","v":true},null,{"$f":"VLOOKUP($C79,bangolf_players!$B$2:$G$4682,6,FALSE)","v":"H"},{"$f":"VLOOKUP($C79,bangolf_players!$B$2:$G$4682,4,FALSE)","v":"MSK Neheim-Hüsten"},true]
["Tabor, Peter",{"$f":"VLOOKUP(H80,Vereine!$A$2:$B$30,2,FALSE)","v":"ASW"},65804,"SM2",{"$f":"COUNTIF(Gesamtstand!$B$3:$B$103,$A80)=0","v":false},null,{"$f":"VLOOKUP($C80,bangolf_players!$B$2:$G$4682,6,FALSE)","v":"SM2"},{"$f":"VLOOKUP($C80,bangolf_players!$B$2:$G$4682,4,FALSE)","v":"MGC \"AS\" Witten 1963"},true]
["Urban, Angela",{"$f":"VLOOKUP(H81,Vereine!$A$2:$B$30,2,FALSE)","v":"ASW"},35605,"SW1",{"$f":"COUNTIF(Gesamtstand!$B$3:$B$103,$A81)=0","v":false},null,{"$f":"VLOOKUP($C81,bangolf_players!$B$2:$G$4682,6,FALSE)","v":"SW1"},{"$f":"VLOOKUP($C81,bangolf_players!$B$2:$G$4682,4,FALSE)","v":"MGC \"AS\" Witten 1963"},true]
["Urban, Dominic",{"$f":"VLOOKUP(H82,Vereine!$A$2:$B$30,2,FALSE)","v":"ASW"},66186,"JM",{"$f":"COUNTIF(Gesamtstand!$B$3:$B$103,$A82)=0","v":false},null,{"$f":"VLOOKUP($C82,bangolf_players!$B$2:$G$4682,6,FALSE)","v":"JM"},{"$f":"VLOOKUP($C82,bangolf_players!$B$2:$G$4682,4,FALSE)","v":"MGC \"AS\" Witten 1963"},true]
["Urban, Volker",{"$f":"VLOOKUP(H83,Vereine!$A$2:$B$30,2,FALSE)","v":"ASW"},35604,"SM1",{"$f":"COUNTIF(Gesamtstand!$B$3:$B$103,$A83)=0","v":false},null,{"$f":"VLOOKUP($C83,bangolf_players!$B$2:$G$4682,6,FALSE)","v":"SM1"},{"$f":"VLOOKUP($C83,bangolf_players!$B$2:$G$4682,4,FALSE)","v":"MGC \"AS\" Witten 1963"},true]
["Wickel-Paffrath, Melanie",{"$f":"VLOOKUP(H84,Vereine!$A$2:$B$30,2,FALSE)","v":"HEV"},33510,"D",{"$f":"COUNTIF(Gesamtstand!$B$3:$B$103,$A84)=0","v":false},null,{"$f":"VLOOKUP($C84,bangolf_players!$B$2:$G$4682,6,FALSE)","v":"D"},{"$f":"VLOOKUP($C84,bangolf_players!$B$2:$G$4682,4,FALSE)","v":"MGC Heven"},{"$f":"G84=D84","v":true}]
["Wilhelms, Ralf",{"$f":"VLOOKUP(H85,Vereine!$A$2:$B$30,2,FALSE)","v":"Ennep."},44805,"SM1",{"$f":"COUNTIF(Gesamtstand!$B$3:$B$103,$A85)=0","v":true},null,{"$f":"VLOOKUP($C85,bangolf_players!$B$2:$G$4682,6,FALSE)","v":"SM1"},{"$f":"VLOOKUP($C85,bangolf_players!$B$2:$G$4682,4,FALSE)","v":"BSC Ennepetal"},true]
["Wilke, Andreas",{"$f":"VLOOKUP(H86,Vereine!$A$2:$B$30,2,FALSE)","v":"Hobby"},"Hobby39","SM1",{"$f":"COUNTIF(Gesamtstand!$B$3:$B$103,$A86)=0","v":false},null,{"$f":"VLOOKUP($C86,bangolf_players!$B$2:$G$4682,6,FALSE)","v":"SM1"},{"$f":"VLOOKUP($C86,bangolf_players!$B$2:$G$4682,4,FALSE)","v":"Hobby"},true]
["Wolf, Arnold",{"$f":"VLOOKUP(H87,Vereine!$A$2:$B$30,2,FALSE)","v":"LIP"},66409,"SM2",{"$f":"COUNTIF(Gesamtstand!$B$3:$B$103,$A87)=0","v":false},null,{"$f":"VLOOKUP($C87,bangolf_players!$B$2:$G$4682,6,FALSE)","v":"SM2"},{"$f":"VLOOKUP($C87,bangolf_players!$B$2:$G$4682,4,FALSE)","v":"SC Bastion Rot Weiß Lippstadt"},true]
["Wortmann, Torben",{"$f":"VLOOKUP(H88,Vereine!$A$2:$B$30,2,FALSE)","v":"Hobby"},"Hobby42","H",{"$f":"COUNTIF(Gesamtstand!$B$3:$B$103,$A88)=0","v":true},null,{"$f":"VLOOKUP($C88,bangolf_players!$B$2:$G$4682,6,FALSE)","v":"H"},{"$f":"VLOOKUP($C88,bangolf_players!$B$2:$G$4682,4,FALSE)","v":"Hobby"},{"$f":"G88=D88","v":true}]
["Wruck, Wolfgang",{"$f":"VLOOKUP(H89,Vereine!$A$2:$B$30,2,FALSE)","v":"LIP"},66408,"SM1",{"$f":"COUNTIF(Gesamtstand!$B$3:$B$103,$A89)=0","v":false},null,{"$f":"VLOOKUP($C89,bangolf_players!$B$2:$G$4682,6,FALSE)","v":"SM1"},{"$f":"VLOOKUP($C89,bangolf_players!$B$2:$G$4682,4,FALSE)","v":"SC Bastion Rot Weiß Lippstadt"},true]

{"sheet":"bangolf_players","index":24,"n_rows":3732,"n_cols":8,"rows_kept":3732,"cut":false,"hidden":false,"merged":[]}
["Help","Passnr","Vorname","Nachname","Verein","Kennung","Spieler Klasse","Verein Orig"]
[{"$f":"VALUE(B2)","v":25891},25891,"Lothar","Abele","1. MGC Metzingen",{"$f":"CONCATENATE(G2,\": \",D2,\",\",C2)","v":"SM2: Abele,Lothar"},"SM2","1. Miniaturgolf Club Metzingen e. V."]
[{"$f":"VALUE(B3)","v":869},869,"Birgit","Abeling-Betzien","BGC Diepholz",{"$f":"CONCATENATE(G3,\": \",D3,\",\",C3)","v":"SW2: Abeling-Betzien,Birgit"},"SW2","Bahnen-Golf-Club Diepholz e. V."]
[33312,33312,"Edgar","Abelmann","1. BGC Hannover","SM2: Abelmann,Edgar","SM2","1. Bahnen-Golf-Club Hannover e. V."]
[27712,27712,"Thomas","Abendroth","Reinickendorfer MGC","SM1: Abendroth,Thomas","SM1","Reinickendorfer Miniatur - Golfsport - Club e. V."]
[43272,43272,"Hendrik","Ackermann","1. MGC Ludwigshafen","SM1: Ackermann,Hendrik","SM1","1. Miniatur-Golf-Club Ludwigshafen 1964 e. V."]
[34631,34631,"Jan Sebastian","Adam","VfL Lüneburg Abt. Bahnengolf","H: Adam,Jan Sebastian","H","Verein für Leibesübungen Lüneburg e. V. Abteilung Bahnengolf"]
[67154,67154,"Jessica","Adam","VfL Lüneburg Abt. Bahnengolf","D: Adam,Jessica","D","Verein für Leibesübungen Lüneburg e. V. Abteilung Bahnengolf"]
[67739,67739,"Can","Adam","1. MC Weinheim","JM: Adam,Can","JM","1. Miniaturgolf-Club Weinheim e. V."]
[36366,36366,"Herbert","Adam","MGC Felderbachtal 1964","SM2: Adam,Herbert","SM2","Minigolf-Club-Felderbachtal 1964 e. V."]
[35408,35408,"Jasmin","Adamczyk","MGC Bad Homburg vdH","D: Adamczyk,Jasmin","D","Minigolf-Club Bad Homburg e. V."]
[35377,35377,"Michael","Adamczyk","MGC Bad Homburg vdH","SM2: Adamczyk,Michael","SM2","Minigolf-Club Bad Homburg e. V."]
[37108,37108,"Astrid","Adamczyk","MGC Bad Homburg vdH","SW2: Adamczyk,Astrid","SW2","Minigolf-Club Bad Homburg e. V."]
[35715,35715,"Bernd","Adamski","MGC Rot-Weiß Wanne-Eickel","SM2: Adamski,Bernd","SM2","Minigolfclub Rot-Weiß Wanne-Eickel e. V."]
[46986,46986,"Jürgen","Adenau","BGC Schloß Paffendorf","SM1: Adenau,Jürgen","SM1","Bahnengolf Club Schloß Paffendorf e. V."]
[29794,29794,"Markus","Affeld","MSC Herscheid 1963","H: Affeld,Markus","H","Minigolf-Sportclub Herscheid 1963 e. V."]
[24649,24649,"Alan","Ahmed","MGC Bad Oldesloe","H: Ahmed,Alan","H","Miniaturgolfclub Bad Oldesloe von 1964 e. V."]
[36151,36151,"Pasi","Aho","BGC Neutraubling","SM1: Aho,Pasi","SM1","Bahnengolf-Club Neutraubling e. V."]
[37046,37046,"Mabel","Ahrentropp","HMC Büttgen","SW1: Ahrentropp,Mabel","SW1","Hobbysport Miniaturgolfclub Büttgen e. V."]
[66842,66842,"Catharina","Aichele","MGC Monrepos","D: Aichele,Catharina","D","Minigolfclub Monrepos e. V."]
[66843,66843,"Rainer","Aichele","1. MGC Hechingen","SM2: Aichele,Rainer","SM2","1. Minigolfclub Hechingen e. V."]
[27728,27728,"Sascha","Albrecht","1. MGC 1970 Göttingen","H: Albrecht,Sascha","H","1. Miniatur-Golfsport-Club 1970 Göttingen e. V."]
[66650,66650,"Nassim","Alizadeh","Miniaturgolf Sportclub Schriesheim","D: Alizadeh,Nassim","D","Miniaturgolf Sportclub Schriesheim e. V."]
[67318,67318,"Leon","Allmacher","MGC Traben-Trarbach","SCHM: Allmacher,Leon","SCHM","Minigolfclub Traben-Trarbach e. V."]
[67317,67317,"Jürgen","Allmacher","MGC Traben-Trarbach","SM1: Allmacher,Jürgen","SM1","Minigolfclub Traben-Trarbach e. V."]
[33903,33903,"Markus","Allmüller","BGV Backumer Tal Herten","SM1: Allmüller,Markus","SM1","BGV Backumer Tal Herten e. V."]
[33902,33902,"Bianca","Allmüller","BGV Backumer Tal Herten","SW1: Allmüller,Bianca","SW1","BGV Backumer Tal Herten e. V."]
[29237,29237,"Peter","Amberger","BGC Neutraubling","SM1: Amberger,Peter","SM1","Bahnengolf-Club Neutraubling e. V."]
[67242,67242,"Tobias","Amely","MSC Bad Godesberg","SM2: Amely,Tobias","SM2","Minigolf-Sport-Club Bad Godesberg e. V."]
[50612,50612,"Oliver","Anders","Cobigolf-Verein Hamm 2019","H: Anders,Oliver","H","Cobigolf-Verein Hamm 2019 e. V."]
[44990,44990,"Alexander","Anders","BGSV Castrop 1961","SM1: Anders,Alexander","SM1","Bahnengolfsportverein Castrop e. V. 1961"]
[66492,66492,"Uwe","Andrejewski","1. MGC Gelsenkirchen","SM1: Andrejewski,Uwe","SM1","1. Minigolf Club Gelsenkirchen e. V."]
[66109,66109,"Andre","Andresen","BGC Kiel West","SM1: Andresen,Andre","SM1","Bahnen-Golf-Club Kiel-West e. V."]
[37496,37496,"Klaus-Dieter","Andresen","MGC Harrislee-Wassersleben","SM2: Andresen,Klaus-Dieter","SM2","Sportverein Minigolfclub Harrislee-Wassersleben e. V."]
[67839,67839,"Dominik","Andrews","BGV Backumer Tal Herten","SCHM: Andrews,Dominik","SCHM","BGV Backumer Tal Herten e. V."]
[66201,66201,"Bernd","Andrzejak","MGC Rot-Weiß Wanne-Eickel","SM2: Andrzejak,Bernd","SM2","Minigolfclub Rot-Weiß Wanne-Eickel e. V."]
[67210,67210,"Karl-Heinz","Angrabeit","1. KGC Mönchengladbach","SM2: Angrabeit,Karl-Heinz","SM2","1. Klein-Golf-Club Mönchengladbach e. V."]
[67183,67183,"Robin","Antholz","MSG Kempten","JM: Antholz,Robin","JM","Minigolf-Sport-Gemeinschaft Kempten e. V."]
[66879,66879,"Sean","Anton","1. BGC Rodalben 1977","JM: Anton,Sean","JM","1. Bahnengolfverein Rodalben 1977 e. V."]
[27278,27278,"Udo","Apelmeier","BV Sennestadt","SM2: Apelmeier,Udo","SM2","BV Sennestadt e. V."]
[45054,45054,"Willi","Appel","Miniaturgolf Sportclub Schriesheim","SM2: Appel,Willi","SM2","Miniaturgolf Sportclub Schriesheim e. V."]
[29034,29034,"André","Appelmann","1. MGC Epe 1978","H: Appelmann,André","H","1. Minigolfclub Epe 1978 e. V."]
[36479,36479,"Laura","Appelmann","1. MGC Epe 1978","D: Appelmann,Laura","D","1. Minigolfclub Epe 1978 e. V."]
[47183,47183,"Sascha","Arendt","BGSV Castrop 1961","SM1: Arendt,Sascha","SM1","Bahnengolfsportverein Castrop e. V. 1961"]
[67250,67250,"Angelina","Arendt","BGSV Castrop 1961","SW1: Arendt,Angelina","SW1","Bahnengolfsportverein Castrop e. V. 1961"]
[27450,27450,"Ingo","Arens","VfB Osnabrück","SM1: Arens,Ingo","SM1","Verein für Bahnengolf Osnabrück von 1984 e. V."]
[26327,26327,"Christoph","Arenz","MSC Bad Godesberg","H: Arenz,Christoph","H","Minigolf-Sport-Club Bad Godesberg e. V."]
[4769,4769,"Heinz Josef","Arenz","MSC Bad Godesberg","SM2: Arenz,Heinz Josef","SM2","Minigolf-Sport-Club Bad Godesberg e. V."]
[60227,60227,"Gerhard","Arndt","VfL Lohbrügge Abt. Bahnengolf","SM2: Arndt,Gerhard","SM2","Verein für Leibesübungen Lohbrügge von 1892 e. V. Abteilung Bahnengolf"]
[35780,35780,"Mark","Arnold","SG Arheilgen Abt. Bahnengolf","H: Arnold,Mark","H","Sportgemeinschaft Arheilgen 1876/1945 e. V. Abteilung Bahnengolf"]
[47324,47324,"Simone","Arnold","MSC Bensheim-Auerbach","D: Arnold,Simone","D","Minigolf-Sport-Club Bensheim-Auerbach e. V."]
[67764,67764,"Leon","Arnold","BIG Ingelfingen","SCHM: Arnold,Leon","SCHM","Bahnengolf Interessen-Gemeinschaft Ingelfingen 2020 e. V."]
[35779,35779,"Günter","Arnold","BGSV Aßlar 1987","SM2: Arnold,Günter","SM2","Bahnengolf-Sportverein Aßlar 1987 e. V."]
[18435,18435,"Klaus","Arnold","HMC Büttgen","SM2: Arnold,Klaus","SM2","Hobbysport Miniaturgolfclub Büttgen e. V."]
[35778,35778,"Franziska","Arnold","BGSV Aßlar 1987","SW2: Arnold,Franziska","SW2","Bahnengolf-Sportverein Aßlar 1987 e. V."]
[36179,36179,"Marco","Arnsberg","MV Lankwitzer Dragons","SM2: Arnsberg,Marco","SM2","MV Lankwitzer Dragons e. V."]
[66447,66447,"Stefan","Arweiler","Freizeit Club Bliesen","SM2: Arweiler,Stefan","SM2","Freizeit Club Bliesen e. V."]
[33616,33616,"Jörg","Asmuß","MGC Brunsbüttel","SM2: Asmuß,Jörg","SM2","Miniaturgolf-Club Brunsbüttel e. V."]
[23975,23975,"Bernd","Aßmuth","Bochumer Minigolf-Club 1960","SM2: Aßmuth,Bernd","SM2","Bochumer Minigolf-Club 1960 e. V."]
[67563,67563,"Daniel","Atzert","MGC Bad Homburg vdH","H: Atzert,Daniel","H","Minigolf-Club Bad Homburg e. V."]
[29208,29208,"Thomas","Aussieker","BGSV Castrop 1961","SM1: Aussieker,Thomas","SM1","Bahnengolfsportverein Castrop e. V. 1961"]
[66405,66405,"Manuela","Aust","BSC Ennepetal","SW1: Aust,Manuela","SW1","Bahngolf-Sport-Club Ennepetal e. V."]
[67205,67205,"Jürgen","Aust","VfM Bottrop","SM2: Aust,Jürgen","SM2","Verein für Minigolf Bottrop e. V."]
[15754,15754,"Sascha","Axer","Kölner Miniatur Golf Club","H: Axer,Sascha","H","Kölner Miniatur Golf Club e. V."]
[49266,49266,"Reiner","Axer","Kölner Miniatur Golf Club","SM2: Axer,Reiner","SM2","Kölner Miniatur Golf Club e. V."]
[49267,49267,"Claudia","Axer","Kölner Miniatur Golf Club","SW2: Axer,Claudia","SW2","Kölner Miniatur Golf Club e. V."]
[{"$f":"VALUE(B67)","v":29229},29229,"Manfred","Axtner","CGC Illertal Kellmünz",{"$f":"CONCATENATE(G67,\": \",D67,\",\",C67)","v":"SM1: Axtner,Manfred"},"SM1","Cobigolfclub Illertal Kellmünz e. V."]
[19768,19768,"Stjepan","Babic","BIG ASPERG","SM2: Babic,Stjepan","SM2","Bahnengolf-Interessen-Gemeinschaft Asperg e. V. 1982"]
[67453,67453,"Manfred","Bach","BGC Schloß Paffendorf","SM2: Bach,Manfred","SM2","Bahnengolf Club Schloß Paffendorf e. V."]
[4444,4444,"Peter","Bach","MGC Oberkochen","SM2: Bach,Peter","SM2","Miniatur-Golfclub Oberkochen 1972 e. V."]
[29939,29939,"Peter","Bachmann","1. MGC 1970 Göttingen","SM1: Bachmann,Peter","SM1","1. Miniatur-Golfsport-Club 1970 Göttingen e. V."]
[43674,43674,"Sabine","Bachmann","1. MGC 1970 Göttingen","SW1: Bachmann,Sabine","SW1","1. Miniatur-Golfsport-Club 1970 Göttingen e. V."]
[35588,35588,"Robert","Bader","MGC Murnau am Staffelsee","SM2: Bader,Robert","SM2","Minigolfclub Murnau am Staffelsee e. V."]
[35587,35587,"Elfriede","Bader","MGC Murnau am Staffelsee","SW2: Bader,Elfriede","SW2","Minigolfclub Murnau am Staffelsee e. V."]
[43414,43414,"Gerhard","Badtke","BGC Bad Nenndorf","SM2: Badtke,Gerhard","SM2","Bahnen-Golf-Club Bad Nenndorf e. V."]
[46800,46800,"Monika","Badtke","BGC Bad Nenndorf","SW2: Badtke,Monika","SW2","Bahnen-Golf-Club Bad Nenndorf e. V."]
[37761,37761,"Torsten","Badziong","MGC Freizeitzentrum Biebertal","SM1: Badziong,Torsten","SM1","Miniatur-Golf-Club Freizeitzentrum Biebertal e. V."]
[37355,37355,"Uwe","Baer","1. BGC Wesseling 1975","SM2: Baer,Uwe","SM2","1. Bahnen-Golf-Club Wesseling 1975 e. V. "]
[44139,44139,"Thomas","Bahr","BGV Backumer Tal Herten","SM1: Bahr,Thomas","SM1","BGV Backumer Tal Herten e. V."]
[67618,67618,"Noelle","Bähr","Niendorfer MC v. 1963","JW: Bähr,Noelle","JW","Niendorfer Miniaturgolf-Club von 1963 e. V."]
[67619,67619,"Jonas","Bähr","Niendorfer MC v. 1963","SCHM: Bähr,Jonas","SCHM","Niendorfer Miniaturgolf-Club von 1963 e. V."]
[46033,46033,"Sascha","Bähr","Niendorfer MC v. 1963","SM1: Bähr,Sascha","SM1","Niendorfer Miniaturgolf-Club von 1963 e. V."]
[29699,29699,"Hans","Baier","MGC Oberkochen","SM2: Baier,Hans","SM2","Miniatur-Golfclub Oberkochen 1972 e. V."]
[37654,37654,"Dieter","Baierl","MGC Ingolstadt","SM2: Baierl,Dieter","SM2"," Miniaturgolf-Club Ingolstadt e. V."]
[37653,37653,"Andrea","Baierl","MGC Ingolstadt","SW2: Baierl,Andrea","SW2"," Miniaturgolf-Club Ingolstadt e. V."]
[67478,67478,"Ghulam Dastgeer","Baig","MGC Wetzlar","JM: Baig,Ghulam Dastgeer","JM","Miniatur-Golf-Club Wetzlar e. V."]
[48505,48505,"Varyam-Mirza","Baig","MGC Wetzlar","SM2: Baig,Varyam-Mirza","SM2","Miniatur-Golf-Club Wetzlar e. V."]
[33109,33109,"Heinz","Balbach","MGC Unterschneidheim","SM2: Balbach,Heinz","SM2","Minigolfclub Unterschneidheim e. V."]
[67268,67268,"Thomas","Baldauf","BSG Pneumant Fürstenwalde, Abt. Minigolf","SM2: Baldauf,Thomas","SM2","BSG Pneumant Fürstenwalde e. V. Abteilung Minigolf"]
[66669,66669,"Thomas","Balf","BGC Uerdingen","SM2: Balf,Thomas","SM2","Bahnengolf-Club Uerdingen e. V."]
[67281,67281,"Kreon","Balis","1. Münchener MGC","H: Balis,Kreon","H","1. Münchener Minigolf-Club 1962 e. V."]
[3776,3776,"Helmut","Ballbach","1. BGC Rodalben 1977","SM2: Ballbach,Helmut","SM2","1. Bahnengolfverein Rodalben 1977 e. V."]
[40671,40671,"Blandine","Ballbach","1. BGC Rodalben 1977","SW2: Ballbach,Blandine","SW2","1. Bahnengolfverein Rodalben 1977 e. V."]
[33514,33514,"Christian","Balleininger","1. MGC Bamberg","H: Balleininger,Christian","H","1. Minigolfclub Bamberg e. V."]
[5910,5910,"Lyo","Balleininger","1. MGC Bamberg","SM2: Balleininger,Lyo","SM2","1. Minigolfclub Bamberg e. V."]
[40906,40906,"Yvonne","Baltes","MSC Bad Godesberg","D: Baltes,Yvonne","D","Minigolf-Sport-Club Bad Godesberg e. V."]
[5073,5073,"Max","Balzereit","BSC Ennepetal","SM2: Balzereit,Max","SM2","Bahngolf-Sport-Club Ennepetal e. V."]
[67610,67610,"Annabelle","Balzter","SG Arheilgen Abt. Bahnengolf","D: Balzter,Annabelle","D","Sportgemeinschaft Arheilgen 1876/1945 e. V. Abteilung Bahnengolf"]
[38190,38190,"Dennis","Bamberg","1. MGC Saar 68 St. Ingbert","H: Bamberg,Dennis","H","1. Minigolf-Club Saar 68 St. Ingbert e. V."]
[25993,25993,"Gabriele","Bamberg","1. MGC Mainz","SW1: Bamberg,Gabriele","SW1","Erster Mainzer Minigolf-Club e. V. 1964"]
[42482,42482,"Michael","Bamberg","1. MGC Mainz","SM2: Bamberg,Michael","SM2","Erster Mainzer Minigolf-Club e. V. 1964"]
[48318,48318,"Tobias","Bär","MGC Bad Hersfeld","H: Bär,Tobias","H","Miniatur-Golf-Club Bad Hersfeld e. V."]
[67555,67555,"Dana","Bär","MGC Brunsbüttel","D: Bär,Dana","D","Miniaturgolf-Club Brunsbüttel e. V."]
[38333,38333,"Claudia","Barber","MSV Würzburg-Löwenbrücke","SW1: Barber,Claudia","SW1","Miniaturgolfsportverein Würzburg - Löwenbrücke e. V."]
[43841,43841,"Jens","Bardenhagen","MGC Brunsbüttel","SM1: Bardenhagen,Jens","SM1","Miniaturgolf-Club Brunsbüttel e. V."]
[25214,25214,"Stefan","Bärenz","SV 1890 Dreieichenhain, Abt. Bahnengolf","SM2: Bärenz,Stefan","SM2","Sportverein 1890 e. V. Dreieichenhain Abteilung Bahnengolf"]
[37576,37576,"Bernd","Bargenda","MGC Harrislee-Wassersleben","SM2: Bargenda,Bernd","SM2","Sportverein Minigolfclub Harrislee-Wassersleben e. V."]
[67241,67241,"Heinz","Bark","SC Olympia Dortmund","SM1: Bark,Heinz","SM1","Sport-Club Olympia Dortmund e. V. "]
[36967,36967,"Thomas","Barke","1. MSC Wesel 6.6.1966","SM1: Barke,Thomas","SM1","1. Minigolf-Sportclub Wesel 66 66 e. V. "]
[38123,38123,"Mario","Barke","1. Essener CGC \"Blau-Gold\"","SM1: Barke,Mario","SM1","1. Essener cobiGOLF - Club \"Blau-Gold\" e. V."]
[29656,29656,"René","Barlog","Bochumer Minigolf-Club 1960","H: Barlog,René","H","Bochumer Minigolf-Club 1960 e. V."]
[66068,66068,"Hermann","Barnstorf","1. BGC Celle von 1964","SM2: Barnstorf,Hermann","SM2","1. Bahnen-Golf-Club Celle von 1964 e. V."]
[36395,36395,"Harald","Barth","1. BGC Wesseling 1975","SM2: Barth,Harald","SM2","1. Bahnen-Golf-Club Wesseling 1975 e. V. "]
[66777,66777,"Patrick","Bartholomä","1. MGC Lohfelden 1997","H: Bartholomä,Patrick","H","1. Miniatur-Golfsport-Club Lohfelden e. V."]
[66896,66896,"Pierre","Bartholomä","1. MGC Lohfelden 1997","H: Bartholomä,Pierre","H","1. Miniatur-Golfsport-Club Lohfelden e. V."]
[41145,41145,"Volker","Bartmann","1. Essener CGC \"Blau-Gold\"","SM1: Bartmann,Volker","SM1","1. Essener cobiGOLF - Club \"Blau-Gold\" e. V."]
[67404,67404,"Paul","Bartsch","BV Sennestadt","SM2: Bartsch,Paul","SM2","BV Sennestadt e. V."]
[38103,38103,"Patrick","Barz","VfM Berlin","H: Barz,Patrick","H","Verein für Minigolf e. V. Berlin"]
[38102,38102,"Birgit","Barz","VfM Berlin","SW1: Barz,Birgit","SW1","Verein für Minigolf e. V. Berlin"]
[46055,46055,"Andreas","Barz","MGC Olympia Kiel","SM2: Barz,Andreas","SM2","Miniaturgolfclub Olympia Kiel e. V."]
[44254,44254,"Sven","Basse","Niendorfer MC v. 1963","SM1: Basse,Sven","SM1","Niendorfer Miniaturgolf-Club von 1963 e. V."]
[37582,37582,"Ann-Kathrin","Bastian","BGC Bildstock","D: Bastian,Ann-Kathrin","D","Bahnen-Golf-Club Bildstock e. V."]
[37583,37583,"Claudia","Bastian","BGC Bildstock","SW2: Bastian,Claudia","SW2","Bahnen-Golf-Club Bildstock e. V."]
[46910,46910,"Richard","Bätge","SV Glückauf 1901 Gebhardshagen","SM2: Bätge,Richard","SM2","SV Glück Auf 1901 Gebhardshagen e. V. Abteilung Minigolf"]
[65848,65848,"Adrian","Batschkus","1. Münchener MGC","H: Batschkus,Adrian","H","1. Münchener Minigolf-Club 1962 e. V."]
[66273,66273,"Quirin","Batschkus","1. Münchener MGC","JM: Batschkus,Quirin","JM","1. Münchener Minigolf-Club 1962 e. V."]
[23741,23741,"Wolfgang","Battig","MC 62 Lüdenscheid","SM2: Battig,Wolfgang","SM2","MC 62 Lüdenscheid e. V."]
[37799,37799,"Jan Hendrik","Battling","MGC \"AS\" Witten 1963","H: Battling,Jan Hendrik","H","Minigolfclub \"AS\" Witten 1963 e. V."]
[34490,34490,"Thomas","Bätz","MSC Bad Godesberg","SM1: Bätz,Thomas","SM1","Minigolf-Sport-Club Bad Godesberg e. V."]
[40471,40471,"Helmut","Bauer","1. MGC München-Feldmoching","SM1: Bauer,Helmut","SM1","1. Miniaturgolfclub München-Feldmoching e. V."]
[{"$f":"VALUE(B131)","v":46532},46532,"Siegfried","Bauer","BGC Bad Berneck",{"$f":"CONCATENATE(G131,\": \",D131,\",\",C131)","v":"SM1: Bauer,Siegfried"},"SM1","Bahnengolf-Club e. V. Bad Berneck"]
[44002,44002,"Jutta","Bauer","BGC Bad Berneck","SW1: Bauer,Jutta","SW1","Bahnengolf-Club e. V. Bad Berneck"]
[40864,40864,"Martin","Bauer","BGC Bildstock","SM2: Bauer,Martin","SM2","Bahnen-Golf-Club Bildstock e. V."]
[5751,5751,"Helmut","Bauerfeld","Freizeit Club Bliesen","SM2: Bauerfeld,Helmut","SM2","Freizeit Club Bliesen e. V."]
[36137,36137,"Barbara","Bauermeister","MGC Murnau am Staffelsee","SW1: Bauermeister,Barbara","SW1","Minigolfclub Murnau am Staffelsee e. V."]
[28605,28605,"Stephan","Bauermeister","MGC Murnau am Staffelsee","SM2: Bauermeister,Stephan","SM2","Minigolfclub Murnau am Staffelsee e. V."]
[46616,46616,"Marcus","Bauhofer","BGC Heilbronn","SM1: Bauhofer,Marcus","SM1","Bahnengolf Club Heilbronn e. V."]
[36563,36563,"Oliver","Baum","SV Glückauf 1901 Gebhardshagen","H: Baum,Oliver","H","SV Glück Auf 1901 Gebhardshagen e. V. Abteilung Minigolf"]
[65195,65195,"Harald","Baumann","BGC Schloß Paffendorf","SM2: Baumann,Harald","SM2","Bahnengolf Club Schloß Paffendorf e. V."]
[26398,26398,"Daniel","Baumer","1. MGC München-Feldmoching","H: Baumer,Daniel","H","1. Miniaturgolfclub München-Feldmoching e. V."]
[3998,3998,"Klaus","Baumer","BGC Illertissen","SM2: Baumer,Klaus","SM2","Bahnengolfclub Illertissen e. V."]
[47033,47033,"Ruth","Baumer","BGC Illertissen","SW2: Baumer,Ruth","SW2","Bahnengolfclub Illertissen e. V."]
[37760,37760,"Thorben","Baumgart","SGC Hagen","H: Baumgart,Thorben","H","Sterngolf-Club Hagen e. V."]
[29220,29220,"Dirk","Baumgart","MSK Neheim-Hüsten","SM1: Baumgart,Dirk","SM1","MINIGOLF-SPORT-KLUB Neheim-Hüsten e. V."]
[38226,38226,"Wolfgang","Bäurle","1. FMGC Lichtenfels 1961","H: Bäurle,Wolfgang","H","1. Fränkischer Minigolfclub Lichtenfels 1961 e. V."]
[67374,67374,"Tobias","Bayer","BIG ASPERG","JM: Bayer,Tobias","JM","Bahnengolf-Interessen-Gemeinschaft Asperg e. V. 1982"]
[67687,67687,"Jannik","Bayer","BIG ASPERG","SCHM: Bayer,Jannik","SCHM","Bahnengolf-Interessen-Gemeinschaft Asperg e. V. 1982"]
[38632,38632,"Jimmy","Bayer","MGC Murnau am Staffelsee","SM1: Bayer,Jimmy","SM1","Minigolfclub Murnau am Staffelsee e. V."]
[66645,66645,"Wolfgang","Bayer","MGC Murnau am Staffelsee","SM1: Bayer,Wolfgang","SM1","Minigolfclub Murnau am Staffelsee e. V."]
[5942,5942,"Hubert","Bayer","BGC Schweinfurt","SM2: Bayer,Hubert","SM2","Bahnengolfclub Schweinfurt e. V."]
[67061,67061,"Willi","Bayer","BIG ASPERG","SM2: Bayer,Willi","SM2","Bahnengolf-Interessen-Gemeinschaft Asperg e. V. 1982"]
[66112,66112,"Erich","Beausencourt","Minigolf-Club Diessen","SM2: Beausencourt,Erich","SM2","Minigolf-Club Diessen e. V."]
[66500,66500,"Andrea","Becher","1. BGC Landshut","SW1: Becher,Andrea","SW1","1. Bahnengolf-Club Landshut e. V."]
[66892,66892,"Christian","Beck","1. BGC Landshut","H: Beck,Christian","H","1. Bahnengolf-Club Landshut e. V."]
[46021,46021,"Bernhard","Beck","1. KC Homburg-Saar 1967","SM2: Beck,Bernhard","SM2","1. Kleingolf Club Homburg-Saar 1967 e. V."]
[38570,38570,"Jan","Becker","SG Arheilgen Abt. Bahnengolf","H: Becker,Jan","H","Sportgemeinschaft Arheilgen 1876/1945 e. V. Abteilung Bahnengolf"]
[66162,66162,"Lars","Becker","SG Arheilgen Abt. Bahnengolf","H: Becker,Lars","H","Sportgemeinschaft Arheilgen 1876/1945 e. V. Abteilung Bahnengolf"]
[67685,67685,"Marcel","Becker","1. MGC Mainz","H: Becker,Marcel","H","Erster Mainzer Minigolf-Club e. V. 1964"]
[37559,37559,"Florian","Becker","MSK Neheim-Hüsten","H: Becker,Florian","H","MINIGOLF-SPORT-KLUB Neheim-Hüsten e. V."]
[67566,67566,"Christian","Becker","Bochumer Minigolf-Club 1960","H: Becker,Christian","H","Bochumer Minigolf-Club 1960 e. V."]
[67596,67596,"Mike","Becker","BGC Dormagen","H: Becker,Mike","H","Bahnengolf-Club Dormagen e. V."]
[35103,35103,"Daniela","Becker","MGC Heven","D: Becker,Daniela","D","Miniatur - Golf - Club Heven e. V."]
[38593,38593,"Anna Lisa","Becker","1. MGC Saar 68 St. Ingbert","D: Becker,Anna Lisa","D","1. Minigolf-Club Saar 68 St. Ingbert e. V."]
[33442,33442,"Martin","Becker","Reinickendorfer MGC","SM1: Becker,Martin","SM1","Reinickendorfer Miniatur - Golfsport - Club e. V."]
[67480,67480,"Jochen","Becker","Reinickendorfer MGC","SM1: Becker,Jochen","SM1","Reinickendorfer Miniatur - Golfsport - Club e. V."]
[37225,37225,"Michael","Becker","SG  Weiterstadt 1886","SM1: Becker,Michael","SM1","Sportgemeinde 1886 e. V. Weiterstadt Abteilung Bahnengolf"]
[3591,3591,"Werner","Becker","BSV Inzlingen 1979","SM2: Becker,Werner","SM2","Bahnengolf-Sportverein Inzlingen 1979 e. V."]
[44304,44304,"Norbert","Becker","SG Arheilgen Abt. Bahnengolf","SM2: Becker,Norbert","SM2","Sportgemeinschaft Arheilgen 1876/1945 e. V. Abteilung Bahnengolf"]
[12781,12781,"Hans-Dieter","Becker","MSK Neheim-Hüsten","SM2: Becker,Hans-Dieter","SM2","MINIGOLF-SPORT-KLUB Neheim-Hüsten e. V."]
[26506,26506,"Gerd","Becker","MGC Dortmund Syburg","SM2: Becker,Gerd","SM2","MGC Do-Syburg e.V."]
[40005,40005,"Michael","Becker","SGC Hagen","SM2: Becker,Michael","SM2","Sterngolf-Club Hagen e. V."]
[44303,44303,"Karin","Becker","SG Arheilgen Abt. Bahnengolf","SW2: Becker,Karin","SW2","Sportgemeinschaft Arheilgen 1876/1945 e. V. Abteilung Bahnengolf"]
[25999,25999,"Ursula","Becker","1. MGC Mannheim 1968","SW2: Becker,Ursula","SW2","1. Miniatur-Golf-Club Mannheim 1968 e. V."]
[4101,4101,"Erika","Becker","MGC Dortmund Syburg","SW2: Becker,Erika","SW2","MGC Do-Syburg e.V."]
[26620,26620,"Thomas","Beckmann","MSK Neheim-Hüsten","SM2: Beckmann,Thomas","SM2","MINIGOLF-SPORT-KLUB Neheim-Hüsten e. V."]
[34186,34186,"Stephan","Behrens","Niendorfer MC v. 1963","H: Behrens,Stephan","H","Niendorfer Miniaturgolf-Club von 1963 e. V."]
[67123,67123,"Julien","Behrens","BGC Goslar","JM: Behrens,Julien","JM","Bahnen-Golf-Club Goslar e. V."]
[65679,65679,"Susanne","Behrens","BGC Goslar","SW1: Behrens,Susanne","SW1","Bahnen-Golf-Club Goslar e. V."]
[65678,65678,"Friedhelm","Behrens","BGC Goslar","SM2: Behrens,Friedhelm","SM2","Bahnen-Golf-Club Goslar e. V."]
[65677,65677,"Christiane","Behrens","BGC Goslar","SW2: Behrens,Christiane","SW2","Bahnen-Golf-Club Goslar e. V."]
[42528,42528,"Jürgen","Beier","1. FMGC Lichtenfels 1961","SM2: Beier,Jürgen","SM2","1. Fränkischer Minigolfclub Lichtenfels 1961 e. V."]
[42529,42529,"Harald","Beier","1. FMGC Lichtenfels 1961","SM2: Beier,Harald","SM2","1. Fränkischer Minigolfclub Lichtenfels 1961 e. V."]
[66569,66569,"Christian","Beier","MC \"Möve\" Cuxhaven-Sahlenburg","SM2: Beier,Christian","SM2","Miniaturgolf-Club \"Möve\" Cuxhaven-Sahlenburg e. V."]
[67528,67528,"Sophie","Beining","Osnabrücker M.-C. von 1963","D: Beining,Sophie","D","Osnabrücker Minigolf Club von 1963 e. V."]
[60102,60102,"Helmut","Beißwenger","Hamburger MC von 1965","SM2: Beißwenger,Helmut","SM2","Hamburger Minigolf Club von 1965 e. V."]
[67790,67790,"Helmut","Belhustede","BGV Backumer Tal Herten","H: Belhustede,Helmut","H","BGV Backumer Tal Herten e. V."]
[28085,28085,"Mario","Bell","MGC Bad Bodendorf","H: Bell,Mario","H","Miniaturgolfclub Bad Bodendorf e. V."]
[36192,36192,"Hans-Jürgen","Bellanger","1. MGC Mannheim 1968","SM2: Bellanger,Hans-Jürgen","SM2","1. Miniatur-Golf-Club Mannheim 1968 e. V."]
[36191,36191,"Martina","Bellanger","1. MGC Mannheim 1968","SW2: Bellanger,Martina","SW2","1. Miniatur-Golf-Club Mannheim 1968 e. V."]
[33091,33091,"Marvin","Below","MGC Olympia Kiel","H: Below,Marvin","H","Miniaturgolfclub Olympia Kiel e. V."]
[37097,37097,"Gerrit","Below","MGC Olympia Kiel","H: Below,Gerrit","H","Miniaturgolfclub Olympia Kiel e. V."]
[42124,42124,"Ralf","Belz","MGC Dormagen-Brechten","SM1: Belz,Ralf","SM1","Minigolfclub Dormagen - Brechten e. V."]
[35698,35698,"Wilfried","Bemelmanns","BGC Schloß Paffendorf","SM2: Bemelmanns,Wilfried","SM2","Bahnengolf Club Schloß Paffendorf e. V."]
[6059,6059,"Lutz","Bemmann","BSV AOK Leipzig","SM2: Bemmann,Lutz","SM2","BSV AOK Leipzig e. V."]
[{"$f":"VALUE(B195)","v":35539},35539,"Jasmin","Beneking","MSK Neheim-Hüsten",{"$f":"CONCATENATE(G195,\": \",D195,\",\",C195)","v":"D: Beneking,Jasmin"},"D","MINIGOLF-SPORT-KLUB Neheim-Hüsten e. V."]
[183,183,"Erwin","Beneking","VfB Osnabrück","SM2: Beneking,Erwin","SM2","Verein für Bahnengolf Osnabrück von 1984 e. V."]
[33623,33623,"Marius","Benkert","MGC Ostheim / Rhön","H: Benkert,Marius","H","Miniaturgolfclub Ostheim/Rhön e. V. "]
[37425,37425,"Katharina","Benkert","MGC Ostheim / Rhön","D: Benkert,Katharina","D","Miniaturgolfclub Ostheim/Rhön e. V. "]
[66790,66790,"Holger","Benn","VfL Lohbrügge Abt. Bahnengolf","SM2: Benn,Holger","SM2","Verein für Leibesübungen Lohbrügge von 1892 e. V. Abteilung Bahnengolf"]
[67813,67813,"Rainer","Benz","BGSC \"Gut Schlag\" Gladbeck","SM2: Benz,Rainer","SM2","Bahnengolfsportclub \"Gut Schlag\" Gladbeck e. V."]
[67812,67812,"Cornelia","Benz","BGSC \"Gut Schlag\" Gladbeck","SW2: Benz,Cornelia","SW2","Bahnengolfsportclub \"Gut Schlag\" Gladbeck e. V."]
[37894,37894,"Adam","Ber","Minigolfclub Karlshagen","H: Ber,Adam","H","Minigolfclub Karlshagen e. V."]
[38210,38210,"Jessica","Ber","Minigolfclub Karlshagen","D: Ber,Jessica","D","Minigolfclub Karlshagen e. V."]
[37630,37630,"Peter","Ber","Minigolfclub Karlshagen","SM2: Ber,Peter","SM2","Minigolfclub Karlshagen e. V."]
[37872,37872,"Elvira","Ber","Minigolfclub Karlshagen","SW2: Ber,Elvira","SW2","Minigolfclub Karlshagen e. V."]
[2083,2083,"Peter","Ber Jun.","Minigolfclub Karlshagen","H: Ber Jun.,Peter","H","Minigolfclub Karlshagen e. V."]
[67459,67459,"Sebastian","Bergau","1. BGC Celle von 1964","H: Bergau,Sebastian","H","1. Bahnen-Golf-Club Celle von 1964 e. V."]
[67460,67460,"Sandra","Bergau","1. BGC Celle von 1964","D: Bergau,Sandra","D","1. Bahnen-Golf-Club Celle von 1964 e. V."]
[67461,67461,"Linus","Bergau","1. BGC Celle von 1964","SCHM: Bergau,Linus","SCHM","1. Bahnen-Golf-Club Celle von 1964 e. V."]
[37997,37997,"Gerhard","Bergauer","BGSC Bochum 1978","SM2: Bergauer,Gerhard","SM2","Bahnengolf-Sportclub Bochum 1978 e. V."]
[46384,46384,"Martin","Berger","VfM Berlin","SM1: Berger,Martin","SM1","Verein für Minigolf e. V. Berlin"]
[66786,66786,"Dominik","Berghof","SV Lurup Abt. Bahnengolf","H: Berghof,Dominik","H","Sportverein Lurup-Hamburg von 1923 e. V. Abteilung Bahnengolf"]
[38591,38591,"Günter","Bergmaier","MGC Bad Feilnbach","SM2: Bergmaier,Günter","SM2","Minigolfclub Bad Feilnbach e. V."]
[34067,34067,"Lars","Bergmann","SSC Halver","H: Bergmann,Lars","H","SSC Halver e. V."]
[66013,66013,"Uwe","Bergmann","1. MGC Mainz","SM1: Bergmann,Uwe","SM1","Erster Mainzer Minigolf-Club e. V. 1964"]
[5537,5537,"Waltraut","Bergmann","BGC Heilbronn","SW2: Bergmann,Waltraut","SW2","Bahnengolf Club Heilbronn e. V."]
[67774,67774,"Ingrid","Bergmeier","MGC Bad Salzuflen","SW2: Bergmeier,Ingrid","SW2","Minigolf-Club Bad Salzuflen e. V."]
[40559,40559,"Reiner","Bergsmann","MGC Sulzfeld","SM1: Bergsmann,Reiner","SM1","Miniatur Golf Club Sulzfeld e. V."]
[29362,29362,"Patrick","Beringhausen","1. MGC Mainz","SM1: Beringhausen,Patrick","SM1","Erster Mainzer Minigolf-Club e. V. 1964"]
[6581,6581,"Franz-Josef","Berkenkopf","MSK Neheim-Hüsten","SM2: Berkenkopf,Franz-Josef","SM2","MINIGOLF-SPORT-KLUB Neheim-Hüsten e. V."]
[67824,67824,"Frederike","Berndt","TSV Arendsee","D: Berndt,Frederike","D","Turn- und Sportverein Arendsee e. V. Abteilung Minigolf"]
[67825,67825,"Sebastian","Berndt-Tietke","TSV Arendsee","H: Berndt-Tietke,Sebastian","H","Turn- und Sportverein Arendsee e. V. Abteilung Minigolf"]
[48006,48006,"Susanne","Berneit","1. MGC Tuttlingen","SW1: Berneit,Susanne","SW1","Erster Minigolf - Club Tuttlingen e. V."]
[42851,42851,"Frank","Bernhard","SSC Attendorn","SM1: Bernhard,Frank","SM1","Sterngolf-Sport-Club Attendorn e. V."]
[66512,66512,"Erika","Bernhardt","1. MGC Tuttlingen","D: Bernhardt,Erika","D","Erster Minigolf - Club Tuttlingen e. V."]
[23895,23895,"Hans-Jürgen","Berschansky","TSV Salzgitter Abt. Bahnengolf","SM2: Berschansky,Hans-Jürgen","SM2","Turn- und Sportverein Salzgitter e. V. Abteilung Bahnengolf"]
[52088,52088,"Yvonne","Berthel-Nelles","1. BGC Wolfsburg","SW1: Berthel-Nelles,Yvonne","SW1","1. Bahnen - Golf - Club Wolfsburg e. V."]
[44982,44982,"Christian","Beschorner","MGC Freizeitzentrum Biebertal","SM1: Beschorner,Christian","SM1","Miniatur-Golf-Club Freizeitzentrum Biebertal e. V."]
[30217,30217,"Roland","Best","1. NMC Kelheim","SM1: Best,Roland","SM1","1. Niederbayerischer Minigolf-Club Kelheim e. V."]
[67391,67391,"Lucie","Betsch","BGS Hardenberg-Pötter","SW1: Betsch,Lucie","SW1","BGS Hardenberg-Pötter e. V."]
[29631,29631,"Marco","Bettger","1. MSC Wesel 6.6.1966","SM1: Bettger,Marco","SM1","1. Minigolf-Sportclub Wesel 66 66 e. V. "]
[41029,41029,"Norbert","Betz","BGC Bad Berneck","SM2: Betz,Norbert","SM2","Bahnengolf-Club e. V. Bad Berneck"]
[25369,25369,"Nicole","Betzholz","1. CKF Dudweiler","D: Betzholz,Nicole","D","l. Club der Kleingolf - Freunde Dudweiler e. V."]
[31966,31966,"Horst","Betzholz","1. CKF Dudweiler","SM2: Betzholz,Horst","SM2","l. Club der Kleingolf - Freunde Dudweiler e. V."]
[32105,32105,"André","Betzien","BGC Diepholz","H: Betzien,André","H","Bahnen-Golf-Club Diepholz e. V."]
[27202,27202,"Jürgen","Beutin","1. MGC Ludwigshafen","SM2: Beutin,Jürgen","SM2","1. Miniatur-Golf-Club Ludwigshafen 1964 e. V."]
[47156,47156,"Bernd","Beutler","BGSV Castrop 1961","H: Beutler,Bernd","H","Bahnengolfsportverein Castrop e. V. 1961"]
[46243,46243,"Hartmut","Bever","1. MGC Gelsenkirchen","SM2: Bever,Hartmut","SM2","1. Minigolf Club Gelsenkirchen e. V."]
[67193,67193,"Lukas","Beyer","1. MGC Kassel 1964","JM: Beyer,Lukas","JM","1. Mini-Golfsport-Club Kassel-Vellmar 1964 e. V."]
[67192,67192,"Frank","Beyer","1. MGC Kassel 1964","SM2: Beyer,Frank","SM2","1. Mini-Golfsport-Club Kassel-Vellmar 1964 e. V."]
[67782,67782,"Sabine","Beyer","BSG Pneumant Fürstenwalde, Abt. Minigolf","SW2: Beyer,Sabine","SW2","BSG Pneumant Fürstenwalde e. V. Abteilung Minigolf"]
[65844,65844,"Siegfried","Biastoch","BGV Backumer Tal Herten","SM2: Biastoch,Siegfried","SM2","BGV Backumer Tal Herten e. V."]
[66914,66914,"Detlef","Bieber","1. BGC Celle von 1964","SM2: Bieber,Detlef","SM2","1. Bahnen-Golf-Club Celle von 1964 e. V."]
[40050,40050,"Maik","Biedron","MC \"Möve\" Cuxhaven-Sahlenburg","H: Biedron,Maik","H","Miniaturgolf-Club \"Möve\" Cuxhaven-Sahlenburg e. V."]
[35862,35862,"Frank","Bielak","BSC Ennepetal","SM1: Bielak,Frank","SM1","Bahngolf-Sport-Club Ennepetal e. V."]
[67244,67244,"Swen","Bielmann","1. MGC Gelsenkirchen","H: Bielmann,Swen","H","1. Minigolf Club Gelsenkirchen e. V."]
[63302,63302,"Kurt","Bien","1. MGC Ludwigshafen","SM2: Bien,Kurt","SM2","1. Miniatur-Golf-Club Ludwigshafen 1964 e. V."]
[28606,28606,"Florian","Bieringer","MGC Murnau am Staffelsee","SM2: Bieringer,Florian","SM2","Minigolfclub Murnau am Staffelsee e. V."]
[33608,33608,"Christoph","Biermann","MC Tigers Künsebeck","H: Biermann,Christoph","H","Miniaturgolf Club Tigers Künsebeck e. V."]
[67818,67818,"Hubertus","Biermann","1. MGC Paderborn","SM2: Biermann,Hubertus","SM2","1. Minigolf-Club Paderborn 1980 e. V."]
[67486,67486,"Mario","Biller","MGC Brunsbüttel","H: Biller,Mario","H","Miniaturgolf-Club Brunsbüttel e. V."]
[46401,46401,"Manfred","Biller","BGC Neutraubling","SM1: Biller,Manfred","SM1","Bahnengolf-Club Neutraubling e. V."]
[66651,66651,"Christine","Biller","BGC Neutraubling","SW1: Biller,Christine","SW1","Bahnengolf-Club Neutraubling e. V."]
[67098,67098,"Manfred","Binder","MGC Harrislee-Wassersleben","SM2: Binder,Manfred","SM2","Sportverein Minigolfclub Harrislee-Wassersleben e. V."]
[31142,31142,"Nicole","Birkelbach","1. MGC 1970 Göttingen","D: Birkelbach,Nicole","D","1. Miniatur-Golfsport-Club 1970 Göttingen e. V."]
[35522,35522,"Nicolai","Bischoff","Hamburger MC von 1965","SM1: Bischoff,Nicolai","SM1","Hamburger Minigolf Club von 1965 e. V."]
[65516,65516,"Frank","Bischoff","BSV Inzlingen 1979","SM2: Bischoff,Frank","SM2","Bahnengolf-Sportverein Inzlingen 1979 e. V."]
[48247,48247,"Frank","Bissinger","MGC Monrepos","SM1: Bissinger,Frank","SM1","Minigolfclub Monrepos e. V."]
[{"$f":"VALUE(B259)","v":67004},67004,"Vera","Bissinger","MGC Monrepos",{"$f":"CONCATENATE(G259,\": \",D259,\",\",C259)","v":"SW1: Bissinger,Vera"},"SW1","Minigolfclub Monrepos e. V."]
[30713,30713,"Martin","Bittner","MGC Murnau am Staffelsee","H: Bittner,Martin","H","Minigolfclub Murnau am Staffelsee e. V."]
[46690,46690,"Christian","Bittner","MGC Murnau am Staffelsee","SM1: Bittner,Christian","SM1","Minigolfclub Murnau am Staffelsee e. V."]
[31649,31649,"Peter Klaus","Bittner","BGSV Bad Homburg","SM1: Bittner,Peter Klaus","SM1","Bahnengolf-Sportverein Bad Homburg v.d.H. e. V."]
[36974,36974,"Alexander","Blanckarts","1. BGC Hannover","H: Blanckarts,Alexander","H","1. Bahnen-Golf-Club Hannover e. V."]
[67532,67532,"Lara","Blanckarts","1. BGC Hannover","D: Blanckarts,Lara","D","1. Bahnen-Golf-Club Hannover e. V."]
[67678,67678,"Vivien","Blandino Vilchez","1. BGC Hannover","SCHW: Blandino Vilchez,Vivien","SCHW","1. Bahnen-Golf-Club Hannover e. V."]
[35663,35663,"Nicole","Blasek","1. MGC Köln 1961","SW1: Blasek,Nicole","SW1","1. Minigolf-Club Köln 1961 e. V."]
[66402,66402,"Marc","Bläsing","BGS Hardenberg-Pötter","H: Bläsing,Marc","H","BGS Hardenberg-Pötter e. V."]
[66403,66403,"Julia","Bläsing","BGS Hardenberg-Pötter","D: Bläsing,Julia","D","BGS Hardenberg-Pötter e. V."]
[66906,66906,"Leon","Bläsing","BGS Hardenberg-Pötter","SCHM: Bläsing,Leon","SCHM","BGS Hardenberg-Pötter e. V."]
[33127,33127,"Gesa","Blechert","MGC Olympia Kiel","D: Blechert,Gesa","D","Miniaturgolfclub Olympia Kiel e. V."]
[52084,52084,"Gabriele","Blechert","MGC Olympia Kiel","SW2: Blechert,Gabriele","SW2","Miniaturgolfclub Olympia Kiel e. V."]
[42234,42234,"Gerhard","Blechschmidt","1. NMC Kelheim","SM2: Blechschmidt,Gerhard","SM2","1. Niederbayerischer Minigolf-Club Kelheim e. V."]
[42233,42233,"Renate","Blechschmidt","1. NMC Kelheim","SW2: Blechschmidt,Renate","SW2","1. Niederbayerischer Minigolf-Club Kelheim e. V."]
[31333,31333,"Stefanie","Blendermann","1. MGC Mainz","D: Blendermann,Stefanie","D","Erster Mainzer Minigolf-Club e. V. 1964"]
[28040,28040,"Werner","Bless","BSV 82 Ohlsbach","SM2: Bless,Werner","SM2","Bahnengolfsportverein 82 Ohlsbach e. V."]
[28041,28041,"Daniela","Bless","BSV 82 Ohlsbach","SW2: Bless,Daniela","SW2","Bahnengolfsportverein 82 Ohlsbach e. V."]
[47493,47493,"Achim","Blessing","MGC Schwaikheim","SM1: Blessing,Achim","SM1","Miniaturgolf – Club Schwaikheim e. V."]
[37103,37103,"Tim","Blöcker","MSK Neheim-Hüsten","H: Blöcker,Tim","H","MINIGOLF-SPORT-KLUB Neheim-Hüsten e. V."]
[34063,34063,"Bernhard","Blöckl","1. MGC München-Feldmoching","SM2: Blöckl,Bernhard","SM2","1. Miniaturgolfclub München-Feldmoching e. V."]
[50681,50681,"Bettina","Blömker","BGV Bergisch Land 1962 / 63","D: Blömker,Bettina","D","Bahnengolf-Verein Bergisch Land 1962/63 e. V."]
[2275,2275,"Detlev","Blume","MSV 05 Bad Münder / Springe","SM1: Blume,Detlev","SM1","Minigolf Sport-Verein Bad Münder/Springe von 2005 e. V."]
[66049,66049,"Severin","Blümer","SG Arheilgen Abt. Bahnengolf","H: Blümer,Severin","H","Sportgemeinschaft Arheilgen 1876/1945 e. V. Abteilung Bahnengolf"]
[66391,66391,"Hardy","Blumhoff","SV 1890 Dreieichenhain, Abt. Bahnengolf","SM2: Blumhoff,Hardy","SM2","Sportverein 1890 e. V. Dreieichenhain Abteilung Bahnengolf"]
[43555,43555,"Jens","Bock","SV Lurup Abt. Bahnengolf","SM1: Bock,Jens","SM1","Sportverein Lurup-Hamburg von 1923 e. V. Abteilung Bahnengolf"]
[43782,43782,"Hans-Jochen","Boenisch","BGC Northeim","SM1: Boenisch,Hans-Jochen","SM1","Bahnen-Golf-Club Northeim e. V."]
[21681,21681,"Volker","Bogdahn","MC 62 Lüdenscheid","SM2: Bogdahn,Volker","SM2","MC 62 Lüdenscheid e. V."]
[67113,67113,"Ulrich","Bohle","1. MGC Gelsenkirchen","SM1: Bohle,Ulrich","SM1","1. Minigolf Club Gelsenkirchen e. V."]
[67172,67172,"Hans-Dieter","Bohleber","BSV 82 Ohlsbach","SM2: Bohleber,Hans-Dieter","SM2","Bahnengolfsportverein 82 Ohlsbach e. V."]
[67834,67834,"David","Böhm","SG  Weiterstadt 1886","SCHM: Böhm,David","SCHM","Sportgemeinde 1886 e. V. Weiterstadt Abteilung Bahnengolf"]
[18421,18421,"Ernst","Böhm","MGC Murnau am Staffelsee","SM2: Böhm,Ernst","SM2","Minigolfclub Murnau am Staffelsee e. V."]
[5964,5964,"Wolfgang","Bojack","MSV Würzburg-Löwenbrücke","SM2: Bojack,Wolfgang","SM2","Miniaturgolfsportverein Würzburg - Löwenbrücke e. V."]
[66315,66315,"Richard","Bölle","Kölner Miniatur Golf Club","SM1: Bölle,Richard","SM1","Kölner Miniatur Golf Club e. V."]
[40384,40384,"Anne","Bollrich","MGC Dormagen-Brechten","D: Bollrich,Anne","D","Minigolfclub Dormagen - Brechten e. V."]
[65740,65740,"Margit","Bollrich","1. BGC Leipzig","SW1: Bollrich,Margit","SW1","1. Bahnen Golf Club Leipzig e. V."]
[38537,38537,"Jens","Bollrich","1. BGC Leipzig","SM2: Bollrich,Jens","SM2","1. Bahnen Golf Club Leipzig e. V."]
[36329,36329,"Tobias","Boltze","1. BGC Rodalben 1977","H: Boltze,Tobias","H","1. Bahnengolfverein Rodalben 1977 e. V."]
[25581,25581,"Uwe","Boltze","1. BGC Rodalben 1977","SM2: Boltze,Uwe","SM2","1. Bahnengolfverein Rodalben 1977 e. V."]
[25578,25578,"Kornelia","Boltze","1. BGC Rodalben 1977","SW2: Boltze,Kornelia","SW2","1. Bahnengolfverein Rodalben 1977 e. V."]
[38176,38176,"Wolfgang","Bomblies","MGC \"AS\" Witten 1963","SM2: Bomblies,Wolfgang","SM2","Minigolfclub \"AS\" Witten 1963 e. V."]
[67592,67592,"Janina","Bommer","BGSC Bochum 1978","D: Bommer,Janina","D","Bahnengolf-Sportclub Bochum 1978 e. V."]
[67484,67484,"Michael","Bommer","BGSC Bochum 1978","SM1: Bommer,Michael","SM1","Bahnengolf-Sportclub Bochum 1978 e. V."]
[21702,21702,"Frank","Bonenberger","1. MGC Ludwigshafen","SM1: Bonenberger,Frank","SM1","1. Miniatur-Golf-Club Ludwigshafen 1964 e. V."]
[36323,36323,"Patrick","Bönsch","KGC Bad Urach","H: Bönsch,Patrick","H","Klein-Golf-Club Bad Urach e. V."]
[41663,41663,"Heidi","Bönsch","KGC Bad Urach","SW1: Bönsch,Heidi","SW1","Klein-Golf-Club Bad Urach e. V."]
[41667,41667,"Jürgen","Bönsch","KGC Bad Urach","SM2: Bönsch,Jürgen","SM2","Klein-Golf-Club Bad Urach e. V."]
[41671,41671,"Roland","Bönsch","KGC Bad Urach","SM2: Bönsch,Roland","SM2","Klein-Golf-Club Bad Urach e. V."]
[46859,46859,"Thomas","Boock","MGC Olympia Kiel","SM1: Boock,Thomas","SM1","Miniaturgolfclub Olympia Kiel e. V."]
[37249,37249,"Cornelia","Boock","MSC Bensheim-Auerbach","SW2: Boock,Cornelia","SW2","Minigolf-Sport-Club Bensheim-Auerbach e. V."]
[66946,66946,"Pascal","Börger","VfB Osnabrück","H: Börger,Pascal","H","Verein für Bahnengolf Osnabrück von 1984 e. V."]
[66945,66945,"Jens","Börger","VfB Osnabrück","SM1: Börger,Jens","SM1","Verein für Bahnengolf Osnabrück von 1984 e. V."]
[67470,67470,"Marion","Borgers","1. Essener CGC \"Blau-Gold\"","SW1: Borgers,Marion","SW1","1. Essener cobiGOLF - Club \"Blau-Gold\" e. V."]
[43756,43756,"Jens","Borggraefe","1. MGC Ludwigshafen","H: Borggraefe,Jens","H","1. Miniatur-Golf-Club Ludwigshafen 1964 e. V."]
[36624,36624,"Martina","Borggraefe","MSK Neheim-Hüsten","D: Borggraefe,Martina","D","MINIGOLF-SPORT-KLUB Neheim-Hüsten e. V."]
[10087,10087,"Gert","Bork","1. MSC Wesel 6.6.1966","SM2: Bork,Gert","SM2","1. Minigolf-Sportclub Wesel 66 66 e. V. "]
[34108,34108,"Elisabeth","Bork","1. MSC Wesel 6.6.1966","SW2: Bork,Elisabeth","SW2","1. Minigolf-Sportclub Wesel 66 66 e. V. "]
[27803,27803,"Bianca","Bornhöft","MGC Olympia Kiel","D: Bornhöft,Bianca","D","Miniaturgolfclub Olympia Kiel e. V."]
[38241,38241,"Margit","Bornkessel","SV Lurup Abt. Bahnengolf","SW2: Bornkessel,Margit","SW2","Sportverein Lurup-Hamburg von 1923 e. V. Abteilung Bahnengolf"]
[23605,23605,"Marcel","Bort","BGC Heilbronn","H: Bort,Marcel","H","Bahnengolf Club Heilbronn e. V."]
[49091,49091,"Thomas","Bort","BGC Heilbronn","SM2: Bort,Thomas","SM2","Bahnengolf Club Heilbronn e. V."]
[49092,49092,"Elke","Bort","BGC Heilbronn","SW2: Bort,Elke","SW2","Bahnengolf Club Heilbronn e. V."]
[2088,2088,"Oliver","Bösch","Kölner Miniatur Golf Club","H: Bösch,Oliver","H","Kölner Miniatur Golf Club e. V."]
[66066,66066,"Joachim","Bosse","MGC Bad Salzuflen","SM2: Bosse,Joachim","SM2","Minigolf-Club Bad Salzuflen e. V."]
[{"$f":"VALUE(B323)","v":45560},45560,"Patrick","Bothmann","MGC Dormagen-Brechten",{"$f":"CONCATENATE(G323,\": \",D323,\",\",C323)","v":"H: Bothmann,Patrick"},"H","Minigolfclub Dormagen - Brechten e. V."]
[35737,35737,"Jasmin","Bothmann","1. MGC 1970 Göttingen","D: Bothmann,Jasmin","D","1. Miniatur-Golfsport-Club 1970 Göttingen e. V."]
[46348,46348,"Andreas","Bott","MGC Sulzfeld","SM1: Bott,Andreas","SM1","Miniatur Golf Club Sulzfeld e. V."]
[32231,32231,"Steven","Böttcher","1. MGC 1970 Göttingen","H: Böttcher,Steven","H","1. Miniatur-Golfsport-Club 1970 Göttingen e. V."]
[3602,3602,"Wilhelm","Böttcher","VfB Osnabrück","SM2: Böttcher,Wilhelm","SM2","Verein für Bahnengolf Osnabrück von 1984 e. V."]
[67378,67378,"Youri","Bottenberg","Niendorfer MC v. 1963","H: Bottenberg,Youri","H","Niendorfer Miniaturgolf-Club von 1963 e. V."]
[67602,67602,"Carolin","Boysen","MC Flora Elmshorn","D: Boysen,Carolin","D","Minigolf-Club Flora Elmshorn e. V."]
[67134,67134,"Saban","Bozkurt","MGC Heringen 1997","SM2: Bozkurt,Saban","SM2","Miniatur-Golf-Club Heringen e. V."]
[47419,47419,"Roland","Brack","BSV 82 Ohlsbach","SM2: Brack,Roland","SM2","Bahnengolfsportverein 82 Ohlsbach e. V."]
[66229,66229,"Jannick","Bracken","MGC Wertheim 91","H: Bracken,Jannick","H","Minigolfdub Wertheim ´91 e. V."]
[38110,38110,"Cedric","Brakhage","1. MGC Paderborn","H: Brakhage,Cedric","H","1. Minigolf-Club Paderborn 1980 e. V."]
[45769,45769,"Markus","Brand","MSV Bad Kreuznach","SM1: Brand,Markus","SM1","MSV Bad Kreuznach e. V."]
[62193,62193,"Wilhelm","Brand","1. BGC Paderborn","SM2: Brand,Wilhelm","SM2","1. Bahnengolfclub Paderborn e. V."]
[4611,4611,"Ursula","Brand","1. BGC Paderborn","SW2: Brand,Ursula","SW2","1. Bahnengolfclub Paderborn e. V."]
[40419,40419,"Wolfgang","Brandes","Elbhavelland, Abt. Minigolfsport","SM1: Brandes,Wolfgang","SM1","Elbhavelland e. V. Abteilung Minigolfsport"]
[29046,29046,"Peter","Brandis","TSV Kücknitz Abt. Bahnengolf","SM2: Brandis,Peter","SM2","Turn - und Sportverein Kücknitz von 1911 e. V. Abteilung Bahnengolf"]
[605,605,"Michael","Brandl","BGC Heilbronn","SM2: Brandl,Michael","SM2","Bahnengolf Club Heilbronn e. V."]
[29239,29239,"Michael","Brandner","CGC Illertal Kellmünz","SM1: Brandner,Michael","SM1","Cobigolfclub Illertal Kellmünz e. V."]
[67138,67138,"Eva","Brandstettner","BGC Goslar","D: Brandstettner,Eva","D","Bahnen-Golf-Club Goslar e. V."]
[65833,65833,"Uwe","Brandstettner","BGC Goslar","SM1: Brandstettner,Uwe","SM1","Bahnen-Golf-Club Goslar e. V."]
[28747,28747,"Ralph","Brandt","Preetzer TSV von 1861 Abt. Minigolf","SM1: Brandt,Ralph","SM1","Preetzer Turn- und Sportverein von 1861 e. V. Abteilung Minigolf"]
[489,489,"Judith","Brandt","CGC Rauschenberg","SW1: Brandt,Judith","SW1","Cobigolf-Club Rauschenberg e. V."]
[24151,24151,"Tobias","Brandt","CGC Rauschenberg","SM2: Brandt,Tobias","SM2","Cobigolf-Club Rauschenberg e. V."]
[5165,5165,"Hans-Jürgen","Brandt","BGS Hardenberg-Pötter","SM2: Brandt,Hans-Jürgen","SM2","BGS Hardenberg-Pötter e. V."]
[65645,65645,"Felix","Braschler","1. MGC Hechingen","H: Braschler,Felix","H","1. Minigolfclub Hechingen e. V."]
[65644,65644,"Carola","Braschler","1. MGC Hechingen","SW1: Braschler,Carola","SW1","1. Minigolfclub Hechingen e. V."]
[33954,33954,"Andreas","Brassait","SC Gut Heil Neumünster","SM1: Brassait,Andreas","SM1","Sportclub Gut Heil Neumünster von 1881 e. V. Abteilung Miniaturgolf"]
[67410,67410,"Dankmar","Braucks","MSF Brilon","SM2: Braucks,Dankmar","SM2","Minigolfsportfreunde Brilon e. V."]
[30395,30395,"Markus","Bräuer","MGC Marl 1960","H: Bräuer,Markus","H","Mini Golf Club Marl 1960 e. V."]
[51380,51380,"Diana","Bräuer","MGC Marl 1960","D: Bräuer,Diana","D","Mini Golf Club Marl 1960 e. V."]
[37557,37557,"Ute","Bräuer","MGC Marl 1960","SW2: Bräuer,Ute","SW2","Mini Golf Club Marl 1960 e. V."]
[65866,65866,"Jette","Braun","MGC Olympia Kiel","D: Braun,Jette","D","Miniaturgolfclub Olympia Kiel e. V."]
[67617,67617,"Wiebke","Braun","BGSC \"Gut Schlag\" Gladbeck","SCHW: Braun,Wiebke","SCHW","Bahnengolfsportclub \"Gut Schlag\" Gladbeck e. V."]
[41465,41465,"Wolfram","Braun","1. MGC 1970 Göttingen","SM1: Braun,Wolfram","SM1","1. Miniatur-Golfsport-Club 1970 Göttingen e. V."]
[67188,67188,"Dierk","Braun","BGSC \"Gut Schlag\" Gladbeck","SM1: Braun,Dierk","SM1","Bahnengolfsportclub \"Gut Schlag\" Gladbeck e. V."]
[29547,29547,"Thorsten","Braun","MGC Olympia Kiel","SM1: Braun,Thorsten","SM1","Miniaturgolfclub Olympia Kiel e. V."]
[66847,66847,"Gerd","Braun","BGC Uerdingen","SM2: Braun,Gerd","SM2","Bahnengolf-Club Uerdingen e. V."]
[65752,65752,"Gabriele","Braun","MSK Olching","SW2: Braun,Gabriele","SW2","Olchinger Minigolf Sport Klub e. V."]
[35365,35365,"Elisabeth","Braun","1. MGC Mannheim 1968","SW2: Braun,Elisabeth","SW2","1. Miniatur-Golf-Club Mannheim 1968 e. V."]
[16823,16823,"Achim","Braungart Zink","SG Arheilgen Abt. Bahnengolf","H: Braungart Zink,Achim","H","Sportgemeinschaft Arheilgen 1876/1945 e. V. Abteilung Bahnengolf"]
[50717,50717,"Ursula","Braungart Zink","Minigolfunion Neviges-Odenthal 1968","SW2: Braungart Zink,Ursula","SW2","Minigolfunion Neviges-Odenthal 1968 e. V."]
[66418,66418,"Bert","Brause","SC Olympia Dortmund","SM2: Brause,Bert","SM2","Sport-Club Olympia Dortmund e. V. "]
[46813,46813,"Manfred","Brechelt","1. MGC 1970 Göttingen","SM1: Brechelt,Manfred","SM1","1. Miniatur-Golfsport-Club 1970 Göttingen e. V."]
[34812,34812,"Benjamin","Brechtel","MGC Ravensburg-Weingarten","H: Brechtel,Benjamin","H","MGC Ravensburg-Weingarten e. V."]
[26565,26565,"Kurt","Breckenkamp","MC Tigers Künsebeck","SM2: Breckenkamp,Kurt","SM2","Miniaturgolf Club Tigers Künsebeck e. V."]
[44743,44743,"Stefan","Bredel","MSV Würzburg-Löwenbrücke","SM1: Bredel,Stefan","SM1","Miniaturgolfsportverein Würzburg - Löwenbrücke e. V."]
[38567,38567,"Anika","Breidenbach","MGC Bergisch Gladbach Gierath","D: Breidenbach,Anika","D","Minigolf-Club Bergisch Gladbach Gierath e. V."]
[67849,67849,"Andreas ","Breier","BGC Rheinau-Freistett","H: Breier,Andreas ","H","BGC Rheinau-Freistett e. V."]
[50409,50409,"Maritta","Breier","MGV Ansbach","SW2: Breier,Maritta","SW2","MGV Ansbach e. V."]
[67751,67751,"Miriam","Breitbach","MGC Bergisch Gladbach Gierath","D: Breitbach,Miriam","D","Minigolf-Club Bergisch Gladbach Gierath e. V."]
[37260,37260,"Jürgen","Breitbach","BGC Dormagen","SM2: Breitbach,Jürgen","SM2","Bahnengolf-Club Dormagen e. V."]
[37867,37867,"Lydia","Breitbach","BGC Dormagen","SW2: Breitbach,Lydia","SW2","Bahnengolf-Club Dormagen e. V."]
[67219,67219,"Frank","Breitbarth","SC Olympia Dortmund","SM1: Breitbarth,Frank","SM1","Sport-Club Olympia Dortmund e. V. "]
[67185,67185,"Johannes","Breitfeld","MSG Kempten","SM1: Breitfeld,Johannes","SM1","Minigolf-Sport-Gemeinschaft Kempten e. V."]
[36420,36420,"Thomas","Breitkopf","1. MGC Hechingen","SM1: Breitkopf,Thomas","SM1","1. Minigolfclub Hechingen e. V."]
[36939,36939,"Alexander","Breitling","BGC Bad Berneck","H: Breitling,Alexander","H","Bahnengolf-Club e. V. Bad Berneck"]
[31619,31619,"Dieter","Breitling","BGC Bad Berneck","SM1: Breitling,Dieter","SM1","Bahnengolf-Club e. V. Bad Berneck"]
[66903,66903,"H. Paul","Bremer","MC 62 Lüdenscheid","JM: Bremer,H. Paul","JM","MC 62 Lüdenscheid e. V."]
[36697,36697,"H. Bernd","Bremer","1. KGC Mönchengladbach","SM1: Bremer,H. Bernd","SM1","1. Klein-Golf-Club Mönchengladbach e. V."]
[31074,31074,"Stephan","Bremicker","MGC Dormagen-Brechten","SM1: Bremicker,Stephan","SM1","Minigolfclub Dormagen - Brechten e. V."]
[42970,42970,"Susanne","Bremicker","MGC Dormagen-Brechten","SW1: Bremicker,Susanne","SW1","Minigolfclub Dormagen - Brechten e. V."]
[66531,66531,"Robert","Brendel","1. MGC Bamberg","SM1: Brendel,Robert","SM1","1. Minigolfclub Bamberg e. V."]
[87505,87505,"Steffen","Brendler","1. MGC 1970 Göttingen","H: Brendler,Steffen","H","1. Miniatur-Golfsport-Club 1970 Göttingen e. V."]
[49753,49753,"Monika","Brethack","BGC Kiel West","SW2: Brethack,Monika","SW2","Bahnen-Golf-Club Kiel-West e. V."]
[{"$f":"VALUE(B387)","v":67801},67801,"Tim","Bretschneider","MGC Rot-Weiß Wanne-Eickel",{"$f":"CONCATENATE(G387,\": \",D387,\",\",C387)","v":"SCHM: Bretschneider,Tim"},"SCHM","Minigolfclub Rot-Weiß Wanne-Eickel e. V."]
[37121,37121,"Werner","Briese","MGC Rot-Weiß Wanne-Eickel","SM2: Briese,Werner","SM2","Minigolfclub Rot-Weiß Wanne-Eickel e. V."]
[35751,35751,"Thorsten","Brille","BGV Backumer Tal Herten","SM1: Brille,Thorsten","SM1","BGV Backumer Tal Herten e. V."]
[67448,67448,"Christoph","Brinkmann","VfL Lohbrügge Abt. Bahnengolf","SM1: Brinkmann,Christoph","SM1","Verein für Leibesübungen Lohbrügge von 1892 e. V. Abteilung Bahnengolf"]
[44142,44142,"Karl-Heinz","Britte","MGC Heven","SM2: Britte,Karl-Heinz","SM2","Miniatur - Golf - Club Heven e. V."]
[36204,36204,"Gerrit","Britz","1. KC Homburg-Saar 1967","H: Britz,Gerrit","H","1. Kleingolf Club Homburg-Saar 1967 e. V."]
[38492,38492,"Marcel","Brocks","BGS Hardenberg-Pötter","H: Brocks,Marcel","H","BGS Hardenberg-Pötter e. V."]
[38316,38316,"Ralf","Brocks","BGS Hardenberg-Pötter","SM1: Brocks,Ralf","SM1","BGS Hardenberg-Pötter e. V."]
[38336,38336,"Carsten","Brocks","BGS Hardenberg-Pötter","SM1: Brocks,Carsten","SM1","BGS Hardenberg-Pötter e. V."]
[66518,66518,"Knut","Brodersen","MGC Brunsbüttel","SM1: Brodersen,Knut","SM1","Miniaturgolf-Club Brunsbüttel e. V."]
[3185,3185,"Josef","Brodesser","Kölner Miniatur Golf Club","SM2: Brodesser,Josef","SM2","Kölner Miniatur Golf Club e. V."]
[66101,66101,"Bettina","Brökemeier","MGC Bad Salzuflen","SW1: Brökemeier,Bettina","SW1","Minigolf-Club Bad Salzuflen e. V."]
[33081,33081,"Michael","Bromberger","BSV 82 Ohlsbach","H: Bromberger,Michael","H","Bahnengolfsportverein 82 Ohlsbach e. V."]
[29739,29739,"Jörg","Brommer","TG Höchberg von 1862 Bahnengolf","SM1: Brommer,Jörg","SM1","Turngemeinde Höchberg von 1862 Bahnengolf e. V."]
[37051,37051,"Viola","Bronsart","TV Trappenkamp - Minigolf -","SW2: Bronsart,Viola","SW2","Turnverein Trappenkamp e. V. Sparte Minigolf"]
[36780,36780,"Christopher","Brown","VfM Berlin","H: Brown,Christopher","H","Verein für Minigolf e. V. Berlin"]
[29085,29085,"Lars","Brüchert","1. MGC Mainz","SM1: Brüchert,Lars","SM1","Erster Mainzer Minigolf-Club e. V. 1964"]
[67303,67303,"Rouven","Bruelheide","MGC Bad Salzuflen","H: Bruelheide,Rouven","H","Minigolf-Club Bad Salzuflen e. V."]
[66534,66534,"Julian","Brune","MGC Dortmund Syburg","H: Brune,Julian","H","MGC Do-Syburg e.V."]
[26815,26815,"Lutz","Brune","1. MGC Ludwigshafen","SM1: Brune,Lutz","SM1","1. Miniatur-Golf-Club Ludwigshafen 1964 e. V."]
[31524,31524,"Christoph","Brune","MGC Dortmund Syburg","SM1: Brune,Christoph","SM1","MGC Do-Syburg e.V."]
[67675,67675,"Axel","Brünger","MGC Bad Salzuflen","SM1: Brünger,Axel","SM1","Minigolf-Club Bad Salzuflen e. V."]
[46236,46236,"Ralf","Brunner","MSC Bad Godesberg","SM1: Brunner,Ralf","SM1","Minigolf-Sport-Club Bad Godesberg e. V."]
[34566,34566,"Wolf","Bublitz","BGSC Bochum 1978","H: Bublitz,Wolf","H","Bahnengolf-Sportclub Bochum 1978 e. V."]
[67103,67103,"Julia","Bublitz","BGSC Bochum 1978","D: Bublitz,Julia","D","Bahnengolf-Sportclub Bochum 1978 e. V."]
[42777,42777,"Marcus","Bublitz","1. MGC Ludwigshafen","SM1: Bublitz,Marcus","SM1","1. Miniatur-Golf-Club Ludwigshafen 1964 e. V."]
[22165,22165,"Harald","Buchert","MSC Bensheim-Auerbach","SM2: Buchert,Harald","SM2","Minigolf-Sport-Club Bensheim-Auerbach e. V."]
[31317,31317,"Jennifer","Buchholz","TV Trappenkamp - Minigolf -","D: Buchholz,Jennifer","D","Turnverein Trappenkamp e. V. Sparte Minigolf"]
[31513,31513,"Ansgar","Buchholz","MGC \"AS\" Witten 1963","SM1: Buchholz,Ansgar","SM1","Minigolfclub \"AS\" Witten 1963 e. V."]
[41296,41296,"Uwe","Buchholz","Preetzer TSV von 1861 Abt. Minigolf","SM2: Buchholz,Uwe","SM2","Preetzer Turn- und Sportverein von 1861 e. V. Abteilung Minigolf"]
[41297,41297,"Werner","Buchholz","TV Trappenkamp - Minigolf -","SM2: Buchholz,Werner","SM2","Turnverein Trappenkamp e. V. Sparte Minigolf"]
[65819,65819,"Horst","Buchner","BSC Ennepetal","SM2: Buchner,Horst","SM2","Bahngolf-Sport-Club Ennepetal e. V."]
[67229,67229,"Luis","Buchwieser","MSK Olching","SCHM: Buchwieser,Luis","SCHM","Olchinger Minigolf Sport Klub e. V."]
[67399,67399,"Carl","Buchwieser","MSK Olching","SCHM: Buchwieser,Carl","SCHM","Olchinger Minigolf Sport Klub e. V."]
[38056,38056,"Felix","Buckentin","MGC Ingolstadt","SM2: Buckentin,Felix","SM2"," Miniaturgolf-Club Ingolstadt e. V."]
[67639,67639,"Alexander","Bucksch","MGC Bergisch Gladbach Gierath","H: Bucksch,Alexander","H","Minigolf-Club Bergisch Gladbach Gierath e. V."]
[67638,67638,"Francoise","Bucksch","MGC Bergisch Gladbach Gierath","SW1: Bucksch,Francoise","SW1","Minigolf-Club Bergisch Gladbach Gierath e. V."]
[29327,29327,"Markus","Büdenbender","1. MSC Wesel 6.6.1966","SM1: Büdenbender,Markus","SM1","1. Minigolf-Sportclub Wesel 66 66 e. V. "]
[34106,34106,"Dietmar","Bühner","MGC Nümbrecht","SM2: Bühner,Dietmar","SM2","Minigolf-Club Nümbrecht e. V. "]
[32844,32844,"Ricarda","Bundtzen","1. Essener CGC \"Blau-Gold\"","D: Bundtzen,Ricarda","D","1. Essener cobiGOLF - Club \"Blau-Gold\" e. V."]
[34974,34974,"Paul","Bunse","1. BGC Paderborn","H: Bunse,Paul","H","1. Bahnengolfclub Paderborn e. V."]
[44445,44445,"Oliver","Burde","VfM Bottrop","SM1: Burde,Oliver","SM1","Verein für Minigolf Bottrop e. V."]
[38584,38584,"Yannick","Burdorf","MC Tigers Künsebeck","H: Burdorf,Yannick","H","Miniaturgolf Club Tigers Künsebeck e. V."]
[5758,5758,"Jürgen","Burgard","Freizeit Club Bliesen","SM2: Burgard,Jürgen","SM2","Freizeit Club Bliesen e. V."]
[38436,38436,"Norman","Burgdorf","SV Glückauf 1901 Gebhardshagen","JM: Burgdorf,Norman","JM","SV Glück Auf 1901 Gebhardshagen e. V. Abteilung Minigolf"]
[40281,40281,"Harald","Burger","1. MGC Ludwigshafen","SM1: Burger,Harald","SM1","1. Miniatur-Golf-Club Ludwigshafen 1964 e. V."]
[45219,45219,"Michael","Burk","MSC Bensheim-Auerbach","SM1: Burk,Michael","SM1","Minigolf-Sport-Club Bensheim-Auerbach e. V."]
[65508,65508,"Dieter","Burkart","BSV Inzlingen 1979","SM2: Burkart,Dieter","SM2","Bahnengolf-Sportverein Inzlingen 1979 e. V."]
[67576,67576,"Kevin","Burkert","Niendorfer MC v. 1963","JM: Burkert,Kevin","JM","Niendorfer Miniaturgolf-Club von 1963 e. V."]
[67575,67575,"Peter","Burkert","Niendorfer MC v. 1963","SM1: Burkert,Peter","SM1","Niendorfer Miniaturgolf-Club von 1963 e. V."]
[38135,38135,"Sabine Monika","Burkert","MGF Magdeburg 1995","SW1: Burkert,Sabine Monika","SW1","Minigolffreunde Magdeburg e. V."]
[1951,1951,"Michael","Burkert","MGF Magdeburg 1995","SM2: Burkert,Michael","SM2","Minigolffreunde Magdeburg e. V."]
[34305,34305,"Renate","Burkert","MGV Bremen","SW2: Burkert,Renate","SW2","Miniatur-Golf-Verein Bremen e. V."]
[43821,43821,"Peter","Burkhart","MSV Bad Kreuznach","SM2: Burkhart,Peter","SM2","MSV Bad Kreuznach e. V."]
[44916,44916,"Roswitha","Burkhart","MSV Bad Kreuznach","SW2: Burkhart,Roswitha","SW2","MSV Bad Kreuznach e. V."]
[29268,29268,"Manfred","Burmeister","MGC Brunsbüttel","SM2: Burmeister,Manfred","SM2","Miniaturgolf-Club Brunsbüttel e. V."]
[19315,19315,"Wolfgang","Burmester","MGC Bad Oldesloe","SM2: Burmester,Wolfgang","SM2","Miniaturgolfclub Bad Oldesloe von 1964 e. V."]
[46026,46026,"Michael","Busch","BGC Goslar","SM1: Busch,Michael","SM1","Bahnen-Golf-Club Goslar e. V."]
[45253,45253,"Simona","Busch","BGC Goslar","SW1: Busch,Simona","SW1","Bahnen-Golf-Club Goslar e. V."]
[10586,10586,"Philip","Busche","1. MGC 1970 Göttingen","SM2: Busche,Philip","SM2","1. Miniatur-Golfsport-Club 1970 Göttingen e. V."]
[67451,67451,"Petra","Büschenfeldt","VfL Lohbrügge Abt. Bahnengolf","SW2: Büschenfeldt,Petra","SW2","Verein für Leibesübungen Lohbrügge von 1892 e. V. Abteilung Bahnengolf"]
[3990,3990,"Rolf","Büscher","MGC Heven","SM2: Büscher,Rolf","SM2","Miniatur - Golf - Club Heven e. V."]
[66814,66814,"Daniel","Buser","MGC Unterschneidheim","H: Buser,Daniel","H","Minigolfclub Unterschneidheim e. V."]
[66328,66328,"Peter","Büsgen","Kölner Miniatur Golf Club","SM1: Büsgen,Peter","SM1","Kölner Miniatur Golf Club e. V."]
[{"$f":"VALUE(B451)","v":33859},33859,"Patrick","Buske","MC Tigers Künsebeck",{"$f":"CONCATENATE(G451,\": \",D451,\",\",C451)","v":"H: Buske,Patrick"},"H","Miniaturgolf Club Tigers Künsebeck e. V."]
[33860,33860,"Pascal","Buske","MC Tigers Künsebeck","H: Buske,Pascal","H","Miniaturgolf Club Tigers Künsebeck e. V."]
[37600,37600,"Erwin","Butscher","BGC Dormagen","SM2: Butscher,Erwin","SM2","Bahnengolf-Club Dormagen e. V."]
[33659,33659,"Alexander","Büttner","MGF Hammer","H: Büttner,Alexander","H","Minigolffreunde Hammer e. V."]
[40888,40888,"Torben","Bychowski","MC Flora Elmshorn","H: Bychowski,Torben","H","Minigolf-Club Flora Elmshorn e. V."]
[5015,5015,"Raffaele","Canceniella","Miniaturgolf Sportclub Schriesheim","SM2: Canceniella,Raffaele","SM2","Miniaturgolf Sportclub Schriesheim e. V."]
[67441,67441,"Franco","Cappelletti","1. MGC Mainz","SM1: Cappelletti,Franco","SM1","Erster Mainzer Minigolf-Club e. V. 1964"]
[37789,37789,"Gerhard","Caspar","1. MGC Mainz","SM2: Caspar,Gerhard","SM2","Erster Mainzer Minigolf-Club e. V. 1964"]
[67171,67171,"Marina","Casu","MGC Ingolstadt","SW1: Casu,Marina","SW1"," Miniaturgolf-Club Ingolstadt e. V."]
[66852,66852,"Andree","Cech","BGSV Aßlar 1987","SM1: Cech,Andree","SM1","Bahnengolf-Sportverein Aßlar 1987 e. V."]
[67048,67048,"Marc","Cervinca","1. BGC Bad Füssing","H: Cervinca,Marc","H","1. Bahnengolfclub Bad Füssing e. V."]
[66543,66543,"Bernd","Chabowski","MGV Bremen","SM2: Chabowski,Bernd","SM2","Miniatur-Golf-Verein Bremen e. V."]
[67482,67482,"Jakub","Ches","MGC Harrislee-Wassersleben","H: Ches,Jakub","H","Sportverein Minigolfclub Harrislee-Wassersleben e. V."]
[40415,40415,"Oliver","Christ","Niendorfer MC v. 1963","SM1: Christ,Oliver","SM1","Niendorfer Miniaturgolf-Club von 1963 e. V."]
[44409,44409,"Daniel","Christ","MGC Olympia Kiel","SM1: Christ,Daniel","SM1","Miniaturgolfclub Olympia Kiel e. V."]
[46852,46852,"Michael","Christ","MGC Brunsbüttel","SM2: Christ,Michael","SM2","Miniaturgolf-Club Brunsbüttel e. V."]
[35102,35102,"Ramona","Christiansen","MC Flora Elmshorn","D: Christiansen,Ramona","D","Minigolf-Club Flora Elmshorn e. V."]
[65894,65894,"Thomas","Christmann","BGC Bildstock","SM2: Christmann,Thomas","SM2","Bahnen-Golf-Club Bildstock e. V."]
[65895,65895,"Steffi","Christmann","BGC Bildstock","SW2: Christmann,Steffi","SW2","Bahnen-Golf-Club Bildstock e. V."]
[36650,36650,"Gerhard","Chrobock","MGC Einbeck","SM2: Chrobock,Gerhard","SM2","Miniatur-Golf-Club Einbeck e. V."]
[67385,67385,"Marion","Ciachera","1. Minigolf-Club Rheinhausen","SW2: Ciachera,Marion","SW2","1. Minigolf-Club Rheinhausen e. V."]
[67859,67859,"Cetin","Cicek","TSV Pfungstadt Abt. Bahnengolf","H: Cicek,Cetin","H","TSV Pfungstadt e. V. Abteilung Bahnengolf"]
[66086,66086,"Edmund","Cieslik","1. BGC Celle von 1964","SM2: Cieslik,Edmund","SM2","1. Bahnen-Golf-Club Celle von 1964 e. V."]
[12431,12431,"Marlies","Citi","KGC  Waldstadion Frankfurt am Main","SW2: Citi,Marlies","SW2","Kleingolfclub Waldstadion e. V. Frankfurt am Main\t"]
[40407,40407,"Tim","Clasen","1. MSC Wesel 6.6.1966","SM1: Clasen,Tim","SM1","1. Minigolf-Sportclub Wesel 66 66 e. V. "]
[48980,48980,"Jan","Clemens","MGC Marl 1960","SM1: Clemens,Jan","SM1","Mini Golf Club Marl 1960 e. V."]
[45741,45741,"Isabella","Clemens","MGC Marl 1960","SW1: Clemens,Isabella","SW1","Mini Golf Club Marl 1960 e. V."]
[36581,36581,"Kirsten","Clever","MC \"Möve\" Cuxhaven-Sahlenburg","SW1: Clever,Kirsten","SW1","Miniaturgolf-Club \"Möve\" Cuxhaven-Sahlenburg e. V."]
[66336,66336,"Herbert","Cöln","BGC Schloß Paffendorf","SM2: Cöln,Herbert","SM2","Bahnengolf Club Schloß Paffendorf e. V."]
[67129,67129,"Gertrud","Cöln","BGC Schloß Paffendorf","SW2: Cöln,Gertrud","SW2","Bahnengolf Club Schloß Paffendorf e. V."]
[66491,66491,"Marco","Corinth","1. MGC Gelsenkirchen","SM1: Corinth,Marco","SM1","1. Minigolf Club Gelsenkirchen e. V."]
[34137,34137,"Claudia","Crass","MGC Dortmund Syburg","D: Crass,Claudia","D","MGC Do-Syburg e.V."]
[34693,34693,"Annegret","Crass","HMC Büttgen","SW2: Crass,Annegret","SW2","Hobbysport Miniaturgolfclub Büttgen e. V."]
[65843,65843,"Yannick","Crettat","MGC Bad Homburg vdH","H: Crettat,Yannick","H","Minigolf-Club Bad Homburg e. V."]
[44877,44877,"Harm","Croppenstedt","Tempelhofer MV Berlin","SM1: Croppenstedt,Harm","SM1","Tempelhofer Miniaturgolf Verein von 1965 e. V."]
[44760,44760,"Ursula","Crößmann","1. MGC Ludwigshafen","SW2: Crößmann,Ursula","SW2","1. Miniatur-Golf-Club Ludwigshafen 1964 e. V."]
[67634,67634,"Jannis","Cvijanovic","SSC Attendorn","SCHM: Cvijanovic,Jannis","SCHM","Sterngolf-Sport-Club Attendorn e. V."]
[49136,49136,"Michael","Czernoch","MSC Blau-Weiß 2003 München","SM1: Czernoch,Michael","SM1","Minigolf-Sport-Club blau-weiß 2003 e. V. München"]
[21335,21335,"Hans-Dirk","Czerwek","MSC Bensheim-Auerbach","SM2: Czerwek,Hans-Dirk","SM2","Minigolf-Sport-Club Bensheim-Auerbach e. V."]
[67526,67526,"Achim","Czerwinski","SC Olympia Dortmund","SM1: Czerwinski,Achim","SM1","Sport-Club Olympia Dortmund e. V. "]
[38448,38448,"Tim","Dachwald","SV Lurup Abt. Bahnengolf","H: Dachwald,Tim","H","Sportverein Lurup-Hamburg von 1923 e. V. Abteilung Bahnengolf"]
[49479,49479,"Andreas","Dageförde","1. MGC Metzingen","SM1: Dageförde,Andreas","SM1","1. Miniaturgolf Club Metzingen e. V."]
[37817,37817,"Denise","Dahl","Cobigolf-Verein Hamm 2019","D: Dahl,Denise","D","Cobigolf-Verein Hamm 2019 e. V."]
[9710,9710,"Roland","Dahl","1. KC Homburg-Saar 1967","SM1: Dahl,Roland","SM1","1. Kleingolf Club Homburg-Saar 1967 e. V."]
[67811,67811,"Richard","Dahmen","BGSC \"Gut Schlag\" Gladbeck","H: Dahmen,Richard","H","Bahnengolfsportclub \"Gut Schlag\" Gladbeck e. V."]
[66399,66399,"Matthias","Dahrendorf","SV Lurup Abt. Bahnengolf","SM2: Dahrendorf,Matthias","SM2","Sportverein Lurup-Hamburg von 1923 e. V. Abteilung Bahnengolf"]
[66398,66398,"Petra","Dahrendorf","SV Lurup Abt. Bahnengolf","SW2: Dahrendorf,Petra","SW2","Sportverein Lurup-Hamburg von 1923 e. V. Abteilung Bahnengolf"]
[67263,67263,"Mazen","Dallah","TSV Kücknitz Abt. Bahnengolf","SCHM: Dallah,Mazen","SCHM","Turn - und Sportverein Kücknitz von 1911 e. V. Abteilung Bahnengolf"]
[66729,66729,"Christian","Damaschke","MGV Bremen","H: Damaschke,Christian","H","Miniatur-Golf-Verein Bremen e. V."]
[25732,25732,"Reinhold","Dammann","MGC \"AS\" Witten 1963","SM2: Dammann,Reinhold","SM2","Minigolfclub \"AS\" Witten 1963 e. V."]
[30625,30625,"Andreas","Dams","MGC Felderbachtal 1964","SM1: Dams,Andreas","SM1","Minigolf-Club-Felderbachtal 1964 e. V."]
[65441,65441,"Tanja","Dams","MGC Felderbachtal 1964","SW1: Dams,Tanja","SW1","Minigolf-Club-Felderbachtal 1964 e. V."]
[45297,45297,"Michael","Dassek","SC Olympia Dortmund","SM2: Dassek,Michael","SM2","Sport-Club Olympia Dortmund e. V. "]
[33194,33194,"Jürgen","Daub","Miniaturgolf Sportclub Schriesheim","SM1: Daub,Jürgen","SM1","Miniaturgolf Sportclub Schriesheim e. V."]
[67052,67052,"Max Werner","Daumann","1. FMGC Lichtenfels 1961","H: Daumann,Max Werner","H","1. Fränkischer Minigolfclub Lichtenfels 1961 e. V."]
[33904,33904,"Thomas","Dautert","BGV Backumer Tal Herten","SM1: Dautert,Thomas","SM1","BGV Backumer Tal Herten e. V."]
[67768,67768,"Tim","de Boer","Niendorfer MC v. 1963","JM: de Boer,Tim","JM","Niendorfer Miniaturgolf-Club von 1963 e. V."]
[36109,36109,"Sabine","Deck","SG Arheilgen Abt. Bahnengolf","D: Deck,Sabine","D","Sportgemeinschaft Arheilgen 1876/1945 e. V. Abteilung Bahnengolf"]
[40091,40091,"Monika","Deck","SG Arheilgen Abt. Bahnengolf","SW2: Deck,Monika","SW2","Sportgemeinschaft Arheilgen 1876/1945 e. V. Abteilung Bahnengolf"]
[48691,48691,"Jochen","Dedeleit","MGC Friedrichshafen","SM1: Dedeleit,Jochen","SM1","Miniaturgolfclub Friedrichshafen e. V."]
[37856,37856,"Martin","Deeg","MGC Unterschneidheim","H: Deeg,Martin","H","Minigolfclub Unterschneidheim e. V."]
[43691,43691,"Thomas","Deepen","BGC Goslar","SM1: Deepen,Thomas","SM1","Bahnen-Golf-Club Goslar e. V."]
[33673,33673,"Joachim","Dehne","1. BGC Paderborn","SM2: Dehne,Joachim","SM2","1. Bahnengolfclub Paderborn e. V."]
[66969,66969,"Benjamin","Deicke","1. BGC Hannover","H: Deicke,Benjamin","H","1. Bahnen-Golf-Club Hannover e. V."]
[{"$f":"VALUE(B515)","v":40916},40916,"Stefan","Deider","Reinickendorfer MGC",{"$f":"CONCATENATE(G515,\": \",D515,\",\",C515)","v":"SM1: Deider,Stefan"},"SM1","Reinickendorfer Miniatur - Golfsport - Club e. V."]
[64989,64989,"Rene","Dejoks","BGC Diepholz","H: Dejoks,Rene","H","Bahnen-Golf-Club Diepholz e. V."]
[66016,66016,"Christian","Delasbe","MSG Kempten","SM1: Delasbe,Christian","SM1","Minigolf-Sport-Gemeinschaft Kempten e. V."]
[66055,66055,"Barbara","Delasbe","MSG Kempten","SW1: Delasbe,Barbara","SW1","Minigolf-Sport-Gemeinschaft Kempten e. V."]
[6264,6264,"Karl-Heinz","Dellinger","MSC Bensheim-Auerbach","SM2: Dellinger,Karl-Heinz","SM2","Minigolf-Sport-Club Bensheim-Auerbach e. V."]
[21501,21501,"Christoph","Dellmann","MSK Neheim-Hüsten","SM2: Dellmann,Christoph","SM2","MINIGOLF-SPORT-KLUB Neheim-Hüsten e. V."]
[66452,66452,"Marko","Depke","MGC Bad Salzuflen","SM1: Depke,Marko","SM1","Minigolf-Club Bad Salzuflen e. V."]
[10759,10759,"Wolfgang","Detering","MGC Bad Salzuflen","SM2: Detering,Wolfgang","SM2","Minigolf-Club Bad Salzuflen e. V."]
[32810,32810,"Heinz-Werner","Detlof","1. BGC Hannover","SM2: Detlof,Heinz-Werner","SM2","1. Bahnen-Golf-Club Hannover e. V."]
[33311,33311,"Maren","Detlof","1. BGC Hannover","SW2: Detlof,Maren","SW2","1. Bahnen-Golf-Club Hannover e. V."]
[196,196,"Peter","Dettmer","VfB Osnabrück","SM1: Dettmer,Peter","SM1","Verein für Bahnengolf Osnabrück von 1984 e. V."]
[66085,66085,"Erik","Dettmer-Melendez","MC Tigers Künsebeck","H: Dettmer-Melendez,Erik","H","Miniaturgolf Club Tigers Künsebeck e. V."]
[38478,38478,"Philip","Deutschmann","1. MGC 1970 Göttingen","H: Deutschmann,Philip","H","1. Miniatur-Golfsport-Club 1970 Göttingen e. V."]
[42308,42308,"Uwe","Dewor","KGC Bad Urach","SM1: Dewor,Uwe","SM1","Klein-Golf-Club Bad Urach e. V."]
[67349,67349,"Alfons","Dhombruch","1. MGC Ludwigshafen","SM2: Dhombruch,Alfons","SM2","1. Miniatur-Golf-Club Ludwigshafen 1964 e. V."]
[67350,67350,"Verena","Dhombruch","1. MGC Ludwigshafen","SW2: Dhombruch,Verena","SW2","1. Miniatur-Golf-Club Ludwigshafen 1964 e. V."]
[67084,67084,"Stefan","Dickert","1. CGC Rot-Weiß Groß-Umstadt","H: Dickert,Stefan","H","1. Cobigolf Club Rot-Weiß Groß-Umstadt e. V."]
[38141,38141,"Robin","Dickes","1. MGC Mainz","H: Dickes,Robin","H","Erster Mainzer Minigolf-Club e. V. 1964"]
[50770,50770,"Michael","Diedrich","1. MGC Gelsenkirchen","SM1: Diedrich,Michael","SM1","1. Minigolf Club Gelsenkirchen e. V."]
[28955,28955,"Rainer","Diehl","MSC Bensheim-Auerbach","SM2: Diehl,Rainer","SM2","Minigolf-Sport-Club Bensheim-Auerbach e. V."]
[66031,66031,"Julian","Diener","BGC Northeim","H: Diener,Julian","H","Bahnen-Golf-Club Northeim e. V."]
[66030,66030,"Manuel","Diener","BGC Diepholz","H: Diener,Manuel","H","Bahnen-Golf-Club Diepholz e. V."]
[67111,67111,"Frank","Diener","MSC Bad Godesberg","SM1: Diener,Frank","SM1","Minigolf-Sport-Club Bad Godesberg e. V."]
[67401,67401,"Marcel","Dierks","MC Georgsmarienhütte","JM: Dierks,Marcel","JM","Minigolf-Club Georgsmarienhütte e. V."]
[67731,67731,"Maxim ","Dierks","MC Georgsmarienhütte","SCHM: Dierks,Maxim ","SCHM","Minigolf-Club Georgsmarienhütte e. V."]
[67290,67290,"Fabian","Dietz","MGC Heringen 1997","JM: Dietz,Fabian","JM","Miniatur-Golf-Club Heringen e. V."]
[5745,5745,"Gerhard","Dietzel","MGC Felderbachtal 1964","SM2: Dietzel,Gerhard","SM2","Minigolf-Club-Felderbachtal 1964 e. V."]
[10953,10953,"Veronika","Dietzel","MGC Felderbachtal 1964","SW2: Dietzel,Veronika","SW2","Minigolf-Club-Felderbachtal 1964 e. V."]
[37963,37963,"Anton","Dillinger","Tempelhofer MV Berlin","H: Dillinger,Anton","H","Tempelhofer Miniaturgolf Verein von 1965 e. V."]
[36175,36175,"Anne","Dippel","VfM Bottrop","D: Dippel,Anne","D","Verein für Minigolf Bottrop e. V."]
[45139,45139,"René","Dippelhofer","BGSV Bad Homburg","SM1: Dippelhofer,René","SM1","Bahnengolf-Sportverein Bad Homburg v.d.H. e. V."]
[34451,34451,"Markus","Dippelhofer","1. MGC Mannheim 1968","SM1: Dippelhofer,Markus","SM1","1. Miniatur-Golf-Club Mannheim 1968 e. V."]
[45161,45161,"Christian","Dirksmeyer","1. MGC Epe 1978","SM1: Dirksmeyer,Christian","SM1","1. Minigolfclub Epe 1978 e. V."]
[63588,63588,"Dennis","Dirlmeier","BGC Neutraubling","H: Dirlmeier,Dennis","H","Bahnengolf-Club Neutraubling e. V."]
[38329,38329,"Michael","Dittrich","MGC putter Künzell 1970","SM1: Dittrich,Michael","SM1","Minigolfclub putter Künzell 1970 e. V."]
[35097,35097,"Renate","Djezri","MSV Würzburg-Löwenbrücke","D: Djezri,Renate","D","Miniaturgolfsportverein Würzburg - Löwenbrücke e. V."]
[51818,51818,"Tobias","Dochat","BGV Bergisch Land 1962 / 63","H: Dochat,Tobias","H","Bahnengolf-Verein Bergisch Land 1962/63 e. V."]
[67483,67483,"Stefanie","Dohm","BGSC Bochum 1978","SW1: Dohm,Stefanie","SW1","Bahnengolf-Sportclub Bochum 1978 e. V."]
[42787,42787,"Britta","Dohmen","BGC Uerdingen","SW1: Dohmen,Britta","SW1","Bahnengolf-Club Uerdingen e. V."]
[66868,66868,"Marie-Theres","Dolch","1. CGC Rot-Weiß Groß-Umstadt","D: Dolch,Marie-Theres","D","1. Cobigolf Club Rot-Weiß Groß-Umstadt e. V."]
[30207,30207,"Peter","Dolch","1. CGC Rot-Weiß Groß-Umstadt","SM2: Dolch,Peter","SM2","1. Cobigolf Club Rot-Weiß Groß-Umstadt e. V."]
[25887,25887,"Dietmar","Dolde","1. MGC Metzingen","SM2: Dolde,Dietmar","SM2","1. Miniaturgolf Club Metzingen e. V."]
[67199,67199,"Silke","Doll","BGSV Bad Homburg","SW1: Doll,Silke","SW1","Bahnengolf-Sportverein Bad Homburg v.d.H. e. V."]
[36907,36907,"Fred","Doll","1. BGC Celle von 1964","SM2: Doll,Fred","SM2","1. Bahnen-Golf-Club Celle von 1964 e. V."]
[49414,49414,"Markus","Dolp","BGC Illertissen","H: Dolp,Markus","H","Bahnengolfclub Illertissen e. V."]
[6905,6905,"Heinz","Donsbach","MSC Bad Godesberg","SM2: Donsbach,Heinz","SM2","Minigolf-Sport-Club Bad Godesberg e. V."]
[67837,67837,"Wibke","Doppe","1. MGC 1970 Göttingen","D: Doppe,Wibke","D","1. Miniatur-Golfsport-Club 1970 Göttingen e. V."]
[67783,67783,"Thomas","Dörflein","MGV Ansbach","SM2: Dörflein,Thomas","SM2","MGV Ansbach e. V."]
[35718,35718,"Piroschka","Dorfmeister","MGC Felderbachtal 1964","SW1: Dorfmeister,Piroschka","SW1","Minigolf-Club-Felderbachtal 1964 e. V."]
[66811,66811,"Matthias","Dörheit","Elbhavelland, Abt. Minigolfsport","H: Dörheit,Matthias","H","Elbhavelland e. V. Abteilung Minigolfsport"]
[44395,44395,"Kai","Dorner","MGC Dormagen-Brechten","SM1: Dorner,Kai","SM1","Minigolfclub Dormagen - Brechten e. V."]
[38012,38012,"Kevin","Dornick","1. MGC Ludwigshafen","H: Dornick,Kevin","H","1. Miniatur-Golf-Club Ludwigshafen 1964 e. V."]
[38011,38011,"Jochen","Dornick","1. MGC Ludwigshafen","SM1: Dornick,Jochen","SM1","1. Miniatur-Golf-Club Ludwigshafen 1964 e. V."]
[38013,38013,"Zita","Dornick","1. MGC Ludwigshafen","SW1: Dornick,Zita","SW1","1. Miniatur-Golf-Club Ludwigshafen 1964 e. V."]
[67779,67779,"Carmen","Dorsch","SV Glückauf 1901 Gebhardshagen","D: Dorsch,Carmen","D","SV Glück Auf 1901 Gebhardshagen e. V. Abteilung Minigolf"]
[67777,67777,"Nico","Dorsch","SV Glückauf 1901 Gebhardshagen","SCHM: Dorsch,Nico","SCHM","SV Glück Auf 1901 Gebhardshagen e. V. Abteilung Minigolf"]
[67778,67778,"Myra","Dorsch","SV Glückauf 1901 Gebhardshagen","SCHW: Dorsch,Myra","SCHW","SV Glück Auf 1901 Gebhardshagen e. V. Abteilung Minigolf"]
[66213,66213,"Werner","Dosch","MC Ilvesheim","H: Dosch,Werner","H","Miniaturgolf-Club Ilvesheim e. V."]
[33733,33733,"Michael","Dostert","MSC Bad Godesberg","SM1: Dostert,Michael","SM1","Minigolf-Sport-Club Bad Godesberg e. V."]
[46210,46210,"Ulrike","Dowidat","1. MGC Köln 1961","SW2: Dowidat,Ulrike","SW2","1. Minigolf-Club Köln 1961 e. V."]
[67238,67238,"Lucas","Draber","1. FMGC Lichtenfels 1961","JM: Draber,Lucas","JM","1. Fränkischer Minigolfclub Lichtenfels 1961 e. V."]
[36775,36775,"Horst","Drautzburg","Minigolfunion Neviges-Odenthal 1968","SM2: Drautzburg,Horst","SM2","Minigolfunion Neviges-Odenthal 1968 e. V."]
[37864,37864,"Erich","Drebert","SG  Weiterstadt 1886","SM1: Drebert,Erich","SM1","Sportgemeinde 1886 e. V. Weiterstadt Abteilung Bahnengolf"]
[66163,66163,"Clementine","Drebert","SG  Weiterstadt 1886","SW2: Drebert,Clementine","SW2","Sportgemeinde 1886 e. V. Weiterstadt Abteilung Bahnengolf"]
[{"$f":"VALUE(B579)","v":67660},67660,"Christine","Drees","Tempelhofer MV Berlin",{"$f":"CONCATENATE(G579,\": \",D579,\",\",C579)","v":"SW1: Drees,Christine"},"SW1","Tempelhofer Miniaturgolf Verein von 1965 e. V."]
[67661,67661,"Holger","Drees","Tempelhofer MV Berlin","SM2: Drees,Holger","SM2","Tempelhofer Miniaturgolf Verein von 1965 e. V."]
[5717,5717,"Hans","Dreger","SV 1890 Dreieichenhain, Abt. Bahnengolf","SM2: Dreger,Hans","SM2","Sportverein 1890 e. V. Dreieichenhain Abteilung Bahnengolf"]
[23778,23778,"Burkhard","Dreischer","SC Olympia Dortmund","SM2: Dreischer,Burkhard","SM2","Sport-Club Olympia Dortmund e. V. "]
[4510,4510,"Manfred","Drescher","MGC Wetzlar","SM2: Drescher,Manfred","SM2","Miniatur-Golf-Club Wetzlar e. V."]
[36519,36519,"Kurt","Dresel","MGC Ingolstadt","SM2: Dresel,Kurt","SM2"," Miniaturgolf-Club Ingolstadt e. V."]
[35132,35132,"Daniel","Drewes","MGC putter Künzell 1970","H: Drewes,Daniel","H","Minigolfclub putter Künzell 1970 e. V."]
[6203,6203,"Horst","Dreyer","VfL Lüneburg Abt. Bahnengolf","SM2: Dreyer,Horst","SM2","Verein für Leibesübungen Lüneburg e. V. Abteilung Bahnengolf"]
[67252,67252,"Alfons","Driemel","MGC Ravensburg-Weingarten","SM2: Driemel,Alfons","SM2","MGC Ravensburg-Weingarten e. V."]
[65719,65719,"Andreas","Drobik","BGC Bremen","SM2: Drobik,Andreas","SM2","Bahnen-Golf-Club Bremen e. V."]
[65720,65720,"Kerstin","Drobik","MGV Bremen","SW2: Drobik,Kerstin","SW2","Miniatur-Golf-Verein Bremen e. V."]
[66043,66043,"Peter","Droste","BGSV Bad Homburg","SM1: Droste,Peter","SM1","Bahnengolf-Sportverein Bad Homburg v.d.H. e. V."]
[66152,66152,"Günter","Drostel","1. Minigolf-Club Rheinhausen","SM2: Drostel,Günter","SM2","1. Minigolf-Club Rheinhausen e. V."]
[36524,36524,"Sebastian","Dudenhöffer","BSV Inzlingen 1979","H: Dudenhöffer,Sebastian","H","Bahnengolf-Sportverein Inzlingen 1979 e. V."]
[43595,43595,"Jürgen","Duensing","BGC Diepholz","SM2: Duensing,Jürgen","SM2","Bahnen-Golf-Club Diepholz e. V."]
[65469,65469,"Norbert","Dullau","1. MGC Gelsenkirchen","SM1: Dullau,Norbert","SM1","1. Minigolf Club Gelsenkirchen e. V."]
[3826,3826,"Winfried","Dümmler","1. KC Homburg-Saar 1967","SM2: Dümmler,Winfried","SM2","1. Kleingolf Club Homburg-Saar 1967 e. V."]
[67108,67108,"Michael","Dunkel","1. BGC Landshut","H: Dunkel,Michael","H","1. Bahnengolf-Club Landshut e. V."]
[67477,67477,"Christina","Dunkelmann","BGC Oberhausen","D: Dunkelmann,Christina","D","Bahnengolf-Club Oberhausen e. V."]
[37832,37832,"Sven","Dunker","VfB Osnabrück","H: Dunker,Sven","H","Verein für Bahnengolf Osnabrück von 1984 e. V."]
[37750,37750,"Ruth Friederike","Dunker","VfB Osnabrück","D: Dunker,Ruth Friederike","D","Verein für Bahnengolf Osnabrück von 1984 e. V."]
[18014,18014,"Klaus","Dunker","SSC Halver","SM2: Dunker,Klaus","SM2","SSC Halver e. V."]
[43951,43951,"Heike","Dunker","SSC Halver","SW2: Dunker,Heike","SW2","SSC Halver e. V."]
[61825,61825,"Otto","Duzella","SGC Hagen","SM2: Duzella,Otto","SM2","Sterngolf-Club Hagen e. V."]
[67840,67840,"Klaus","Dyka","MGF Magdeburg 1995","SM2: Dyka,Klaus","SM2","Minigolffreunde Magdeburg e. V."]
[36496,36496,"Nick-Manuel","Eberle","MGC Rot-Weiß Wanne-Eickel","H: Eberle,Nick-Manuel","H","Minigolfclub Rot-Weiß Wanne-Eickel e. V."]
[45272,45272,"Alfred","Ebert","BGS Hardenberg-Pötter","SM2: Ebert,Alfred","SM2","BGS Hardenberg-Pötter e. V."]
[26534,26534,"Robert","Ebi","MGF Hilzingen 80","SM1: Ebi,Robert","SM1","Minigolffreunde Hilzingen 80 e. V."]
[26302,26302,"Sabine","Ebi","MGF Hilzingen 80","SW1: Ebi,Sabine","SW1","Minigolffreunde Hilzingen 80 e. V."]
[46087,46087,"Hans-Joachim","Eckerle","1. BGC Paderborn","SM1: Eckerle,Hans-Joachim","SM1","1. Bahnengolfclub Paderborn e. V."]
[62030,62030,"Horst","Eckloff","MGC Olympia Kiel","SM2: Eckloff,Horst","SM2","Miniaturgolfclub Olympia Kiel e. V."]
[66495,66495,"Helmut","Eckstein","MGC Wolnzach","SM2: Eckstein,Helmut","SM2","Miniaturgolf-Club Wolnzach e. V."]
[66496,66496,"Sonja","Eckstein","MGC Wolnzach","SW2: Eckstein,Sonja","SW2","Miniaturgolf-Club Wolnzach e. V."]
[27480,27480,"Jürgen","Edelmann","BGC Heilbronn","SM1: Edelmann,Jürgen","SM1","Bahnengolf Club Heilbronn e. V."]
[38404,38404,"Gina","Edsen","MGC Harrislee-Wassersleben","SW1: Edsen,Gina","SW1","Sportverein Minigolfclub Harrislee-Wassersleben e. V."]
[67313,67313,"Thomas","Effenberger","MGC Bad Homburg vdH","SM2: Effenberger,Thomas","SM2","Minigolf-Club Bad Homburg e. V."]
[67312,67312,"Cornelia","Effenberger","MGC Bad Homburg vdH","SW2: Effenberger,Cornelia","SW2","Minigolf-Club Bad Homburg e. V."]
[46406,46406,"Hans Jürgen","Egger","BGC Neutraubling","SM1: Egger,Hans Jürgen","SM1","Bahnengolf-Club Neutraubling e. V."]
[4181,4181,"Erich","Egger","MC Ilvesheim","SM2: Egger,Erich","SM2","Miniaturgolf-Club Ilvesheim e. V."]
[18298,18298,"Irene","Egger","MC Ilvesheim","SW2: Egger,Irene","SW2","Miniaturgolf-Club Ilvesheim e. V."]
[48601,48601,"Gerd","Ehlebracht","1. BGC Paderborn","SM2: Ehlebracht,Gerd","SM2","1. Bahnengolfclub Paderborn e. V."]
[34426,34426,"Sascha","Ehlers","1. MGC Peine von 1965","H: Ehlers,Sascha","H","1. Miniaturgolf-Club Peine von 1965 e. V."]
[33996,33996,"Ulrich","Ehlert","HMC Büttgen","SM2: Ehlert,Ulrich","SM2","Hobbysport Miniaturgolfclub Büttgen e. V."]
[34006,34006,"Christoph","Ehm","1. BGC Celle von 1964","H: Ehm,Christoph","H","1. Bahnen-Golf-Club Celle von 1964 e. V."]
[46898,46898,"Marion","Ehm","1. BGC Celle von 1964","SW1: Ehm,Marion","SW1","1. Bahnen-Golf-Club Celle von 1964 e. V."]
[34315,34315,"Josef","Ehrenberg","MGC \"Stahlquelle\" Bad Bocklet","SM1: Ehrenberg,Josef","SM1","Miniatur-Golf-Club \"Stahlquelle\", Bad Bocklet 1989 e. V."]
[67810,67810,"Wolfgang","Ehrentraut","BGSC \"Gut Schlag\" Gladbeck","SM2: Ehrentraut,Wolfgang","SM2","Bahnengolfsportclub \"Gut Schlag\" Gladbeck e. V."]
[3634,3634,"Gerda","Ehresmann","1. MGC Ludwigshafen","SW2: Ehresmann,Gerda","SW2","1. Miniatur-Golf-Club Ludwigshafen 1964 e. V."]
[30000,30000,"Volkmar","Ehrhardt","1. BGC Celle von 1964","SM2: Ehrhardt,Volkmar","SM2","1. Bahnen-Golf-Club Celle von 1964 e. V."]
[67144,67144,"Gina","Ehrich","SV Lurup Abt. Bahnengolf","JW: Ehrich,Gina","JW","Sportverein Lurup-Hamburg von 1923 e. V. Abteilung Bahnengolf"]
[29692,29692,"Steffen","Ehrlich","BGC Neutraubling","H: Ehrlich,Steffen","H","Bahnengolf-Club Neutraubling e. V."]
[44758,44758,"Marcus","Ehrlich","KGC  Waldstadion Frankfurt am Main","SM1: Ehrlich,Marcus","SM1","Kleingolfclub Waldstadion e. V. Frankfurt am Main\t"]
[66759,66759,"Maximilian","Ehrnstraßer","MGC Ingolstadt","SM1: Ehrnstraßer,Maximilian","SM1"," Miniaturgolf-Club Ingolstadt e. V."]
[21680,21680,"Karl-Heinz","Eichert","1. MGC Ladenburg","SM2: Eichert,Karl-Heinz","SM2","1. Miniaturgolf-Club Ladenburg e. V."]
[29197,29197,"Joachim","Eichhorn","1. MGC Mainz","SM2: Eichhorn,Joachim","SM2","Erster Mainzer Minigolf-Club e. V. 1964"]
[67541,67541,"Martina","Eichner","MGC Murnau am Staffelsee","SW1: Eichner,Martina","SW1","Minigolfclub Murnau am Staffelsee e. V."]
[36574,36574,"Oliver","Eid","MSV Bad Kreuznach","H: Eid,Oliver","H","MSV Bad Kreuznach e. V."]
[36575,36575,"Steffen","Eid","MSV Bad Kreuznach","H: Eid,Steffen","H","MSV Bad Kreuznach e. V."]
[33707,33707,"Marco","Eigenbrod","SG Arheilgen Abt. Bahnengolf","H: Eigenbrod,Marco","H","Sportgemeinschaft Arheilgen 1876/1945 e. V. Abteilung Bahnengolf"]
[49368,49368,"Norbert","Eilert","VfM Bottrop","SM2: Eilert,Norbert","SM2","Verein für Minigolf Bottrop e. V."]
[49367,49367,"Sigrid","Eilert","VfM Bottrop","SW2: Eilert,Sigrid","SW2","Verein für Minigolf Bottrop e. V."]
[67308,67308,"Jost-Ulrich","Eimer","MGC Nümbrecht","SM2: Eimer,Jost-Ulrich","SM2","Minigolf-Club Nümbrecht e. V. "]
[36867,36867,"Sabine","Eisele","MGF Steinbruch Kempten","SW1: Eisele,Sabine","SW1","Minigolf-Freunde Steinbruch Kempten e. V."]
[48283,48283,"Dominikus","Eisele","MGF Steinbruch Kempten","SM2: Eisele,Dominikus","SM2","Minigolf-Freunde Steinbruch Kempten e. V."]
[{"$f":"VALUE(B643)","v":64032},64032,"Markus","Eisen","Minigolf-Club Diessen",{"$f":"CONCATENATE(G643,\": \",D643,\",\",C643)","v":"H: Eisen,Markus"},"H","Minigolf-Club Diessen e. V."]
[67376,67376,"Hans","Eisen","Minigolf-Club Diessen","SM2: Eisen,Hans","SM2","Minigolf-Club Diessen e. V."]
[40364,40364,"Peter","Eisenberger","OMGC Ingolstadt","SM1: Eisenberger,Peter","SM1","Oberbayerische Minigolf-Club Ingolstadt e. V."]
[34412,34412,"Hans-Dieter","Eiserfey","1. BGC Wesseling 1975","SM2: Eiserfey,Hans-Dieter","SM2","1. Bahnen-Golf-Club Wesseling 1975 e. V. "]
[24693,24693,"Bernd","Eisermann","MGC \"AS\" Witten 1963","SM2: Eisermann,Bernd","SM2","Minigolfclub \"AS\" Witten 1963 e. V."]
[35449,35449,"Dirk","Eisleben","BGC Schloß Paffendorf","SM2: Eisleben,Dirk","SM2","Bahnengolf Club Schloß Paffendorf e. V."]
[4338,4338,"Elfriede","Ekholm","Miniaturgolf Sportclub Schriesheim","SW2: Ekholm,Elfriede","SW2","Miniaturgolf Sportclub Schriesheim e. V."]
[49246,49246,"Karim","El Gharbi","MSV Bad Kreuznach","SM1: El Gharbi,Karim","SM1","MSV Bad Kreuznach e. V."]
[27492,27492,"Karin","Elbe","MGC 1978 Remseck","D: Elbe,Karin","D","Miniaturgolf-Club 1978 Remseck a.N. e. V."]
[47500,47500,"Markus","Elbe","MGC 1978 Remseck","SM1: Elbe,Markus","SM1","Miniaturgolf-Club 1978 Remseck a.N. e. V."]
[29690,29690,"Jörg","Elbert","MGC Rot-Weiß Wanne-Eickel","H: Elbert,Jörg","H","Minigolfclub Rot-Weiß Wanne-Eickel e. V."]
[38449,38449,"Nikolei","Elich","SV Lurup Abt. Bahnengolf","H: Elich,Nikolei","H","Sportverein Lurup-Hamburg von 1923 e. V. Abteilung Bahnengolf"]
[67217,67217,"Klaus-Martin","Ellerbrock","MGC Felderbachtal 1964","SM2: Ellerbrock,Klaus-Martin","SM2","Minigolf-Club-Felderbachtal 1964 e. V."]
[35197,35197,"Harry","Ellhoff","SV Glückauf 1901 Gebhardshagen","SM1: Ellhoff,Harry","SM1","SV Glück Auf 1901 Gebhardshagen e. V. Abteilung Minigolf"]
[48907,48907,"Thomas","Elmer","Minigolfunion Neviges-Odenthal 1968","SM2: Elmer,Thomas","SM2","Minigolfunion Neviges-Odenthal 1968 e. V."]
[45330,45330,"Robert","Elst","1. MGC Bamberg","SM1: Elst,Robert","SM1","1. Minigolfclub Bamberg e. V."]
[67523,67523,"Thomas","Emde","1. MGC Kassel 1964","SM1: Emde,Thomas","SM1","1. Mini-Golfsport-Club Kassel-Vellmar 1964 e. V."]
[66974,66974,"Michaela","Emich","1. MC Weinheim","SW1: Emich,Michaela","SW1","1. Miniaturgolf-Club Weinheim e. V."]
[66975,66975,"Peter","Emich","1. MC Weinheim","SM2: Emich,Peter","SM2","1. Miniaturgolf-Club Weinheim e. V."]
[38419,38419,"Tim","Emmendörffer","MGC Rot-Weiß Wanne-Eickel","H: Emmendörffer,Tim","H","Minigolfclub Rot-Weiß Wanne-Eickel e. V."]
[67247,67247,"Brigitte","Emmerich","MGV Ansbach","D: Emmerich,Brigitte","D","MGV Ansbach e. V."]
[67246,67246,"Lea","Emmerich","MGV Ansbach","JW: Emmerich,Lea","JW","MGV Ansbach e. V."]
[67201,67201,"Lilly","Emmerich","BGC Bildstock","SCHW: Emmerich,Lilly","SCHW","Bahnen-Golf-Club Bildstock e. V."]
[67131,67131,"Sina","Emmerich-Weßa","BGC Bildstock","D: Emmerich-Weßa,Sina","D","Bahnen-Golf-Club Bildstock e. V."]
[5082,5082,"Hannelore","Endres","1. FMGC Lichtenfels 1961","SW2: Endres,Hannelore","SW2","1. Fränkischer Minigolfclub Lichtenfels 1961 e. V."]
[67402,67402,"Jonas","Endter","1. BGC Leipzig","JM: Endter,Jonas","JM","1. Bahnen Golf Club Leipzig e. V."]
[67578,67578,"Thomas","Engel","TSV 1848 Flöha","SM1: Engel,Thomas","SM1","Turn- und Sportverein Flöha 1848 e. V. Abteilung Minigolf"]
[31683,31683,"Wolfgang","Engel","MGC Schwaikheim","SM2: Engel,Wolfgang","SM2","Miniaturgolf – Club Schwaikheim e. V."]
[41719,41719,"Jens","Engelbracht","SC Olympia Dortmund","H: Engelbracht,Jens","H","Sport-Club Olympia Dortmund e. V. "]
[1359,1359,"Uwe","Engelmann","1. MGC Peine von 1965","SM2: Engelmann,Uwe","SM2","1. Miniaturgolf-Club Peine von 1965 e. V."]
[41246,41246,"Thomas","Engesser","MGF Hilzingen 80","SM1: Engesser,Thomas","SM1","Minigolffreunde Hilzingen 80 e. V."]
[33460,33460,"Heiner","Entelmann","MGV Bremen","SM2: Entelmann,Heiner","SM2","Miniatur-Golf-Verein Bremen e. V."]
[67102,67102,"Jason","Erdem","Tempelhofer MV Berlin","SCHM: Erdem,Jason","SCHM","Tempelhofer Miniaturgolf Verein von 1965 e. V."]
[45061,45061,"Sven","Eresch","Miniaturgolf Sportclub Schriesheim","SM1: Eresch,Sven","SM1","Miniaturgolf Sportclub Schriesheim e. V."]
[4408,4408,"Wolfgang","Erfurth","TV Trappenkamp - Minigolf -","SM2: Erfurth,Wolfgang","SM2","Turnverein Trappenkamp e. V. Sparte Minigolf"]
[35788,35788,"Wolfram","Erhard","BGC Rheinau-Freistett","SM2: Erhard,Wolfram","SM2","BGC Rheinau-Freistett e. V."]
[28046,28046,"Isolde","Erhard","BGC Rheinau-Freistett","SW2: Erhard,Isolde","SW2","BGC Rheinau-Freistett e. V."]
[30972,30972,"Florian","Erhart","1. BGC Landshut","H: Erhart,Florian","H","1. Bahnengolf-Club Landshut e. V."]
[65947,65947,"Matthias","Erhart","BGC Bremen","SM2: Erhart,Matthias","SM2","Bahnen-Golf-Club Bremen e. V."]
[67715,67715,"Hans-Jürgen","Erkel","1. KC Homburg-Saar 1967","SM2: Erkel,Hans-Jürgen","SM2","1. Kleingolf Club Homburg-Saar 1967 e. V."]
[28515,28515,"Harald","Erlbruch","BGS Hardenberg-Pötter","SM1: Erlbruch,Harald","SM1","BGS Hardenberg-Pötter e. V."]
[42994,42994,"Walter","Erlbruch","BGS Hardenberg-Pötter","SM1: Erlbruch,Walter","SM1","BGS Hardenberg-Pötter e. V."]
[23579,23579,"Monika","Erlbruch","BGSV Kerpen","SW2: Erlbruch,Monika","SW2","Bahnen-Golf-Sport-Vereinigung Kerpen e. V."]
[65927,65927,"Klaus","Ernst","1. BGC Wesseling 1975","SM1: Ernst,Klaus","SM1","1. Bahnen-Golf-Club Wesseling 1975 e. V. "]
[67163,67163,"Petra","Ernst","1. BGC Wesseling 1975","SW1: Ernst,Petra","SW1","1. Bahnen-Golf-Club Wesseling 1975 e. V. "]
[40033,40033,"Elisabeth","Ernstberger","1. BGC Landshut","SW2: Ernstberger,Elisabeth","SW2","1. Bahnengolf-Club Landshut e. V."]
[64551,64551,"Daniel","Ertl","MGC Murnau am Staffelsee","H: Ertl,Daniel","H","Minigolfclub Murnau am Staffelsee e. V."]
[63843,63843,"Reinhold","Ertl","1. BGC Landshut","SM1: Ertl,Reinhold","SM1","1. Bahnengolf-Club Landshut e. V."]
[65623,65623,"Johanna","Ertl","1. BGC Landshut","SW1: Ertl,Johanna","SW1","1. Bahnengolf-Club Landshut e. V."]
[28086,28086,"Dirk","Eschmann","1. MGC Ludwigshafen","H: Eschmann,Dirk","H","1. Miniatur-Golf-Club Ludwigshafen 1964 e. V."]
[49300,49300,"Jürgen","Eschmann","1. MGC Mainz","SM2: Eschmann,Jürgen","SM2","Erster Mainzer Minigolf-Club e. V. 1964"]
[29883,29883,"Gerd","Esser","1. KGC Mönchengladbach","SM1: Esser,Gerd","SM1","1. Klein-Golf-Club Mönchengladbach e. V."]
[61555,61555,"Gerhard","Essig","1. Münchener MGC","SM2: Essig,Gerhard","SM2","1. Münchener Minigolf-Club 1962 e. V."]
[36551,36551,"Christian","Essler","1. Duisburger Minigolf Club 1962","H: Essler,Christian","H","1. Duisburger Minigolf Club 1962 e. V."]
[65940,65940,"Alessandro","Essler","1. Duisburger Minigolf Club 1962","H: Essler,Alessandro","H","1. Duisburger Minigolf Club 1962 e. V."]
[37718,37718,"Ferdinand","Essler","1. Duisburger Minigolf Club 1962","SM2: Essler,Ferdinand","SM2","1. Duisburger Minigolf Club 1962 e. V."]
[60515,60515,"Peter","Etienne","MC 62 Lüdenscheid","SM2: Etienne,Peter","SM2","MC 62 Lüdenscheid e. V."]
[67271,67271,"Klaus-Dieter","Ewert","BSG Pneumant Fürstenwalde, Abt. Minigolf","SM2: Ewert,Klaus-Dieter","SM2","BSG Pneumant Fürstenwalde e. V. Abteilung Minigolf"]
[27708,27708,"Karin","Exel","1. Berliner Miniaturgolf-Sportclub 1960","SW2: Exel,Karin","SW2","1. Berliner Miniaturgolf-Sportclub e. V. 1960"]
[66174,66174,"Petra","Exner","Elbhavelland, Abt. Minigolfsport","SW1: Exner,Petra","SW1","Elbhavelland e. V. Abteilung Minigolfsport"]
[42435,42435,"Frank","Exner","BGV Bergisch Land 1962 / 63","SM2: Exner,Frank","SM2","Bahnengolf-Verein Bergisch Land 1962/63 e. V."]
[40821,40821,"Karin","Exner","BGV Bergisch Land 1962 / 63","SW2: Exner,Karin","SW2","Bahnengolf-Verein Bergisch Land 1962/63 e. V."]
[30064,30064,"Holger","Fabry","1. MGC 1970 Göttingen","SM1: Fabry,Holger","SM1","1. Miniatur-Golfsport-Club 1970 Göttingen e. V."]
[33157,33157,"Nils","Fabrytzek","BGC Goslar","H: Fabrytzek,Nils","H","Bahnen-Golf-Club Goslar e. V."]
[{"$f":"VALUE(B707)","v":28892},28892,"Kirsten","Fahrenkrog","Niendorfer MC v. 1963",{"$f":"CONCATENATE(G707,\": \",D707,\",\",C707)","v":"SW1: Fahrenkrog,Kirsten"},"SW1","Niendorfer Miniaturgolf-Club von 1963 e. V."]
[67070,67070,"Florian","Fahsel","MGV Eibenstock","H: Fahsel,Florian","H","Miniaturgolfverein Eibenstock 1997 e. V.\t"]
[67733,67733,"Franziska","Falck","Elbhavelland, Abt. Minigolfsport","D: Falck,Franziska","D","Elbhavelland e. V. Abteilung Minigolfsport"]
[33459,33459,"Felix","Falge","VfB Osnabrück","H: Falge,Felix","H","Verein für Bahnengolf Osnabrück von 1984 e. V."]
[66478,66478,"Martin","Fallenbüchel","Miniaturgolf Sportclub Schriesheim","H: Fallenbüchel,Martin","H","Miniaturgolf Sportclub Schriesheim e. V."]
[35374,35374,"Christel","Fander","1. KGC Mönchengladbach","SW2: Fander,Christel","SW2","1. Klein-Golf-Club Mönchengladbach e. V."]
[67800,67800,"Felix","Farun","MGC Rot-Weiß Wanne-Eickel","SCHM: Farun,Felix","SCHM","Minigolfclub Rot-Weiß Wanne-Eickel e. V."]
[67781,67781,"Daniel","Faschewski","SV Glückauf 1901 Gebhardshagen","H: Faschewski,Daniel","H","SV Glück Auf 1901 Gebhardshagen e. V. Abteilung Minigolf"]
[67780,67780,"Jamie","Faschewski","SV Glückauf 1901 Gebhardshagen","SCHM: Faschewski,Jamie","SCHM","SV Glück Auf 1901 Gebhardshagen e. V. Abteilung Minigolf"]
[38528,38528,"Markus","Faßbender","HMC Büttgen","SM1: Faßbender,Markus","SM1","Hobbysport Miniaturgolfclub Büttgen e. V."]
[40560,40560,"Thomas","Fassl","MGC Sulzfeld","SM1: Fassl,Thomas","SM1","Miniatur Golf Club Sulzfeld e. V."]
[67181,67181,"Christine","Faulhaber","Minigolf-Club Diessen","SW2: Faulhaber,Christine","SW2","Minigolf-Club Diessen e. V."]
[67664,67664,"Sam","Faust","MSC Bensheim-Auerbach","SCHM: Faust,Sam","SCHM","Minigolf-Sport-Club Bensheim-Auerbach e. V."]
[50859,50859,"Sascha","Faust","MGC Rot-Weiß Wanne-Eickel","SM1: Faust,Sascha","SM1","Minigolfclub Rot-Weiß Wanne-Eickel e. V."]
[48058,48058,"Monika","Faust","MSC Bensheim-Auerbach","SW1: Faust,Monika","SW1","Minigolf-Sport-Club Bensheim-Auerbach e. V."]
[40148,40148,"Gabriele","Faust","MSC Bensheim-Auerbach","SW2: Faust,Gabriele","SW2","Minigolf-Sport-Club Bensheim-Auerbach e. V."]
[67504,67504,"Katja","Fay","SV 1890 Dreieichenhain, Abt. Bahnengolf","D: Fay,Katja","D","Sportverein 1890 e. V. Dreieichenhain Abteilung Bahnengolf"]
[67831,67831,"Peter ","Fay","BGSV Bad Homburg","SM2: Fay,Peter ","SM2","Bahnengolf-Sportverein Bad Homburg v.d.H. e. V."]
[37734,37734,"Karin","Fechter","1. MGC Hechingen","SW1: Fechter,Karin","SW1","1. Minigolfclub Hechingen e. V."]
[37733,37733,"Dieter","Fechter","1. MGC Hechingen","SM2: Fechter,Dieter","SM2","1. Minigolfclub Hechingen e. V."]
[40328,40328,"Wolfgang","Federici","MGF Hilzingen 80","SM2: Federici,Wolfgang","SM2","Minigolffreunde Hilzingen 80 e. V."]
[67851,67851,"Andreas","Feldmeier","MGV Ansbach","SM1: Feldmeier,Andreas","SM1","MGV Ansbach e. V."]
[33710,33710,"Torsten","Fellenberg","TSV Salzgitter Abt. Bahnengolf","H: Fellenberg,Torsten","H","Turn- und Sportverein Salzgitter e. V. Abteilung Bahnengolf"]
[33711,33711,"Kerstin","Fellenberg","1. MGC Peine von 1965","SW1: Fellenberg,Kerstin","SW1","1. Miniaturgolf-Club Peine von 1965 e. V."]
[34721,34721,"Christa","Fellenberg","1. MGC Peine von 1965","SW2: Fellenberg,Christa","SW2","1. Miniaturgolf-Club Peine von 1965 e. V."]
[45697,45697,"Thomas","Fellmann","BGV Bergisch Land 1962 / 63","SM1: Fellmann,Thomas","SM1","Bahnengolf-Verein Bergisch Land 1962/63 e. V."]
[38610,38610,"Prisca","Ferstl","MGC Murnau am Staffelsee","SW1: Ferstl,Prisca","SW1","Minigolfclub Murnau am Staffelsee e. V."]
[27873,27873,"Christine","Feucht","1. Bahnengolf-Club Singen","SW1: Feucht,Christine","SW1","1. Bahnengolf-Club Singen e. V."]
[67059,67059,"Wolfgang","Fiedler","BGSV Aßlar 1987","SM2: Fiedler,Wolfgang","SM2","Bahnengolf-Sportverein Aßlar 1987 e. V."]
[40819,40819,"Bärbel","Fiedler","MGF Magdeburg 1995","SW2: Fiedler,Bärbel","SW2","Minigolffreunde Magdeburg e. V."]
[66695,66695,"Andreas","Filgertshofer","Minigolf-Club Diessen","SM2: Filgertshofer,Andreas","SM2","Minigolf-Club Diessen e. V."]
[48999,48999,"Manfred","Finette","MSC Bad Godesberg","SM1: Finette,Manfred","SM1","Minigolf-Sport-Club Bad Godesberg e. V."]
[33123,33123,"Moritz","Fingerle","MSK Olching","H: Fingerle,Moritz","H","Olchinger Minigolf Sport Klub e. V."]
[67531,67531,"Christoph","Fink","BGC Schloß Paffendorf","SM1: Fink,Christoph","SM1","Bahnengolf Club Schloß Paffendorf e. V."]
[1472,1472,"Nikolas","Finsterer-Robnik","BGC Illertissen","H: Finsterer-Robnik,Nikolas","H","Bahnengolfclub Illertissen e. V."]
[50426,50426,"Ralf","Fischbach","1. MGC Mainz","SM2: Fischbach,Ralf","SM2","Erster Mainzer Minigolf-Club e. V. 1964"]
[38177,38177,"Patricia","Fischbeck","MGF Magdeburg 1995","D: Fischbeck,Patricia","D","Minigolffreunde Magdeburg e. V."]
[87507,87507,"Daniel","Fischer","TG Höchberg von 1862 Bahnengolf","H: Fischer,Daniel","H","Turngemeinde Höchberg von 1862 Bahnengolf e. V."]
[37509,37509,"Christoph","Fischer","Niendorfer MC v. 1963","H: Fischer,Christoph","H","Niendorfer Miniaturgolf-Club von 1963 e. V."]
[67684,67684,"Ronja","Fischer","1. MGC Mainz","D: Fischer,Ronja","D","Erster Mainzer Minigolf-Club e. V. 1964"]
[38334,38334,"Alexandra","Fischer","MSC Bad Godesberg","D: Fischer,Alexandra","D","Minigolf-Sport-Club Bad Godesberg e. V."]
[64495,64495,"Kai-Erik","Fischer","1. MGC Kassel 1964","JM: Fischer,Kai-Erik","JM","1. Mini-Golfsport-Club Kassel-Vellmar 1964 e. V."]
[43587,43587,"Marcus","Fischer","1. MGC Kassel 1964","SM1: Fischer,Marcus","SM1","1. Mini-Golfsport-Club Kassel-Vellmar 1964 e. V."]
[37008,37008,"Robert","Fischer","BGSV Kerpen","SM1: Fischer,Robert","SM1","Bahnen-Golf-Sport-Vereinigung Kerpen e. V."]
[43000,43000,"Frank","Fischer","MSC Bad Godesberg","SM1: Fischer,Frank","SM1","Minigolf-Sport-Club Bad Godesberg e. V."]
[43588,43588,"Astrid","Fischer","1. MGC Kassel 1964","SW1: Fischer,Astrid","SW1","1. Mini-Golfsport-Club Kassel-Vellmar 1964 e. V."]
[30855,30855,"Susanne","Fischer","MSC Bad Godesberg","SW1: Fischer,Susanne","SW1","Minigolf-Sport-Club Bad Godesberg e. V."]
[48906,48906,"Annette","Fischer","Minigolfunion Neviges-Odenthal 1968","SW1: Fischer,Annette","SW1","Minigolfunion Neviges-Odenthal 1968 e. V."]
[37510,37510,"Dirk","Fischer","VfM Berlin","SM2: Fischer,Dirk","SM2","Verein für Minigolf e. V. Berlin"]
[40638,40638,"Manfred","Fischer","MGC Bad Feilnbach","SM2: Fischer,Manfred","SM2","Minigolfclub Bad Feilnbach e. V."]
[49979,49979,"Walter","Fischer","VfB Osnabrück","SM2: Fischer,Walter","SM2","Verein für Bahnengolf Osnabrück von 1984 e. V."]
[66628,66628,"Dirk","Fischer","BGV Backumer Tal Herten","SM2: Fischer,Dirk","SM2","BGV Backumer Tal Herten e. V."]
[67763,67763,"Martin","Fischer","MGC Bergisch Gladbach Gierath","SM2: Fischer,Martin","SM2","Minigolf-Club Bergisch Gladbach Gierath e. V."]
[25512,25512,"Gerd","Fischer","1. MGC Süßen","SM2: Fischer,Gerd","SM2","1. Miniaturgolfclub Süßen e. V."]
[6768,6768,"Heidi","Fischer","SSV Ulm 1846 Abt. Bahnengolf","SW2: Fischer,Heidi","SW2","Schwimm- und Sportverein Ulm 1846 e. V. Abteilung Bahnengolf"]
[67749,67749,"Eyleen","Flammann","BGC Bildstock","SCHW: Flammann,Eyleen","SCHW","Bahnen-Golf-Club Bildstock e. V."]
[66900,66900,"Marco","Flick","Kölner Miniatur Golf Club","SM1: Flick,Marco","SM1","Kölner Miniatur Golf Club e. V."]
[67756,67756,"Fiona","Flohr","BGC Oberhausen","SCHW: Flohr,Fiona","SCHW","Bahnengolf-Club Oberhausen e. V."]
[51799,51799,"Peter","Flohrschütz","BGC Schweinfurt","SM2: Flohrschütz,Peter","SM2","Bahnengolfclub Schweinfurt e. V."]
[66876,66876,"Detlef","Flotin","BGC Dormagen","SM1: Flotin,Detlef","SM1","Bahnengolf-Club Dormagen e. V."]
[43145,43145,"Heinz","Forkefeld","MGC Bad Salzuflen","SM2: Forkefeld,Heinz","SM2","Minigolf-Club Bad Salzuflen e. V."]
[67809,67809,"Jan","Formella","BGSC \"Gut Schlag\" Gladbeck","H: Formella,Jan","H","Bahnengolfsportclub \"Gut Schlag\" Gladbeck e. V."]
[38474,38474,"Robin","Forsberg","Bochumer Minigolf-Club 1960","H: Forsberg,Robin","H","Bochumer Minigolf-Club 1960 e. V."]
[38366,38366,"Rainer","Förster","KGC Bad Urach","SM2: Förster,Rainer","SM2","Klein-Golf-Club Bad Urach e. V."]
[{"$f":"VALUE(B771)","v":6770},6770,"Jürgen","Förstner","Hamburger MC von 1965",{"$f":"CONCATENATE(G771,\": \",D771,\",\",C771)","v":"SM2: Förstner,Jürgen"},"SM2","Hamburger Minigolf Club von 1965 e. V."]
[44134,44134,"Manfred","Foy","Bochumer Minigolf-Club 1960","SM2: Foy,Manfred","SM2","Bochumer Minigolf-Club 1960 e. V."]
[43512,43512,"Volker","Frahm","MGC Bad Oldesloe","SM1: Frahm,Volker","SM1","Miniaturgolfclub Bad Oldesloe von 1964 e. V."]
[66698,66698,"Fynn","Frank","Minigolfclub Karlshagen","JM: Frank,Fynn","JM","Minigolfclub Karlshagen e. V."]
[21828,21828,"Andreas","Frank","BSV 86 München","SM2: Frank,Andreas","SM2","Bahnengolfsportverein 86 München e. V."]
[67450,67450,"Bernhard","Frank","VfL Lohbrügge Abt. Bahnengolf","SM2: Frank,Bernhard","SM2","Verein für Leibesübungen Lohbrügge von 1892 e. V. Abteilung Bahnengolf"]
[38490,38490,"Rolf","Frank","BGSV Bad Homburg","SM2: Frank,Rolf","SM2","Bahnengolf-Sportverein Bad Homburg v.d.H. e. V."]
[28168,28168,"Petra","Frank","BSV 86 München","SW2: Frank,Petra","SW2","Bahnengolfsportverein 86 München e. V."]
[67449,67449,"Ute","Frank","VfL Lohbrügge Abt. Bahnengolf","SW2: Frank,Ute","SW2","Verein für Leibesübungen Lohbrügge von 1892 e. V. Abteilung Bahnengolf"]
[29402,29402,"Vanessa","Franke","1. BGC Rodalben 1977","D: Franke,Vanessa","D","1. Bahnengolfverein Rodalben 1977 e. V."]
[43328,43328,"Jörg","Franke","MGC Dormagen-Brechten","SM1: Franke,Jörg","SM1","Minigolfclub Dormagen - Brechten e. V."]
[66522,66522,"Ulrich","Franke","MGC Brunsbüttel","SM2: Franke,Ulrich","SM2","Miniaturgolf-Club Brunsbüttel e. V."]
[38052,38052,"Maximilian","Frech","1. KC Homburg-Saar 1967","H: Frech,Maximilian","H","1. Kleingolf Club Homburg-Saar 1967 e. V."]
[65518,65518,"Sven","Frech","BSV Inzlingen 1979","SM1: Frech,Sven","SM1","Bahnengolf-Sportverein Inzlingen 1979 e. V."]
[67409,67409,"Klaus Dieter","Freimann","MSF Brilon","SM2: Freimann,Klaus Dieter","SM2","Minigolfsportfreunde Brilon e. V."]
[37980,37980,"Rebecca","Freßmann","1. MGC Kassel 1964","D: Freßmann,Rebecca","D","1. Mini-Golfsport-Club Kassel-Vellmar 1964 e. V."]
[67766,67766,"Chris Vanessa","Freudenberg","BV Sennestadt","SW2: Freudenberg,Chris Vanessa","SW2","BV Sennestadt e. V."]
[66629,66629,"Wilfried","Freund","SG Arheilgen Abt. Bahnengolf","SM2: Freund,Wilfried","SM2","Sportgemeinschaft Arheilgen 1876/1945 e. V. Abteilung Bahnengolf"]
[9289,9289,"Ernst","Frick","MSC Bensheim-Auerbach","SM2: Frick,Ernst","SM2","Minigolf-Sport-Club Bensheim-Auerbach e. V."]
[33916,33916,"René","Fricke","BGC Heilbronn","H: Fricke,René","H","Bahnengolf Club Heilbronn e. V."]
[30004,30004,"Jörg","Fricker","SSC Attendorn","SM1: Fricker,Jörg","SM1","Sterngolf-Sport-Club Attendorn e. V."]
[66911,66911,"Thomas","Friedmann","SG  Weiterstadt 1886","SM1: Friedmann,Thomas","SM1","Sportgemeinde 1886 e. V. Weiterstadt Abteilung Bahnengolf"]
[66912,66912,"Heike","Friedmann","SG  Weiterstadt 1886","SW1: Friedmann,Heike","SW1","Sportgemeinde 1886 e. V. Weiterstadt Abteilung Bahnengolf"]
[67654,67654,"Patrick","Friedrich","MGC Murnau am Staffelsee","H: Friedrich,Patrick","H","Minigolfclub Murnau am Staffelsee e. V."]
[30258,30258,"Holger","Friedrich","SV Lurup Abt. Bahnengolf","SM1: Friedrich,Holger","SM1","Sportverein Lurup-Hamburg von 1923 e. V. Abteilung Bahnengolf"]
[37247,37247,"Klaus","Friedrich","Biskirchener BGV","SM1: Friedrich,Klaus","SM1","Biskirchener Bahnen-Golf-Verein e. V."]
[23796,23796,"Hans-Joachim","Friedrich","MGC Freizeitzentrum Biebertal","SM2: Friedrich,Hans-Joachim","SM2","Miniatur-Golf-Club Freizeitzentrum Biebertal e. V."]
[62733,62733,"Rolf","Friedrichs","1. BGC Hannover","SM2: Friedrichs,Rolf","SM2","1. Bahnen-Golf-Club Hannover e. V."]
[31842,31842,"Gerald","Friesacher","1. NMC Kelheim","SM2: Friesacher,Gerald","SM2","1. Niederbayerischer Minigolf-Club Kelheim e. V."]
[65964,65964,"Barbara","Friese","BGC Uerdingen","SW1: Friese,Barbara","SW1","Bahnengolf-Club Uerdingen e. V."]
[65962,65962,"Reinhard","Friese","BGC Uerdingen","SM2: Friese,Reinhard","SM2","Bahnengolf-Club Uerdingen e. V."]
[67216,67216,"Oliver","Frings","MGC Bad Bodendorf","H: Frings,Oliver","H","Miniaturgolfclub Bad Bodendorf e. V."]
[66642,66642,"Martin","Fritsch","MSC Bensheim-Auerbach","JM: Fritsch,Martin","JM","Minigolf-Sport-Club Bensheim-Auerbach e. V."]
[27550,27550,"Hans-Peter","Fritsch","MSC Bensheim-Auerbach","SM2: Fritsch,Hans-Peter","SM2","Minigolf-Sport-Club Bensheim-Auerbach e. V."]
[38328,38328,"Christian","Fritz","MGC Ostheim / Rhön","H: Fritz,Christian","H","Miniaturgolfclub Ostheim/Rhön e. V. "]
[49258,49258,"Manuela","Fritz","MC \"Möve\" Cuxhaven-Sahlenburg","D: Fritz,Manuela","D","Miniaturgolf-Club \"Möve\" Cuxhaven-Sahlenburg e. V."]
[40034,40034,"Thies","Fritzenkötter","BGSV Castrop 1961","H: Fritzenkötter,Thies","H","Bahnengolfsportverein Castrop e. V. 1961"]
[37088,37088,"Dietmar","Fritzenkötter","BGSV Castrop 1961","SM2: Fritzenkötter,Dietmar","SM2","Bahnengolfsportverein Castrop e. V. 1961"]
[37089,37089,"Margot","Fritzenkötter","BGSV Castrop 1961","SW2: Fritzenkötter,Margot","SW2","Bahnengolfsportverein Castrop e. V. 1961"]
[24461,24461,"Joachim","Fröhner","MGC Rot-Weiß Wanne-Eickel","SM2: Fröhner,Joachim","SM2","Minigolfclub Rot-Weiß Wanne-Eickel e. V."]
[67819,67819,"Johannes","Frönd","1. MGC Paderborn","SCHM: Frönd,Johannes","SCHM","1. Minigolf-Club Paderborn 1980 e. V."]
[87511,87511,"Mariya","Frontzek","MGC Rot-Weiß Wanne-Eickel","D: Frontzek,Mariya","D","Minigolfclub Rot-Weiß Wanne-Eickel e. V."]
[48981,48981,"Sascha","Frontzek","MGC Rot-Weiß Wanne-Eickel","SM1: Frontzek,Sascha","SM1","Minigolfclub Rot-Weiß Wanne-Eickel e. V."]
[49798,49798,"Christian","Fuchs","1. NMC Kelheim","H: Fuchs,Christian","H","1. Niederbayerischer Minigolf-Club Kelheim e. V."]
[38576,38576,"Tobias","Fuchs","MSK Neheim-Hüsten","H: Fuchs,Tobias","H","MINIGOLF-SPORT-KLUB Neheim-Hüsten e. V."]
[46404,46404,"Andreas","Fuchs","BGC Neutraubling","SM1: Fuchs,Andreas","SM1","Bahnengolf-Club Neutraubling e. V."]
[31272,31272,"Thomas","Fuchs","MC Tigers Künsebeck","SM1: Fuchs,Thomas","SM1","Miniaturgolf Club Tigers Künsebeck e. V."]
[42170,42170,"Tanja","Fuchs","MC Tigers Künsebeck","SW1: Fuchs,Tanja","SW1","Miniaturgolf Club Tigers Künsebeck e. V."]
[5081,5081,"Angela","Fuchs","BGC Neutraubling","SW2: Fuchs,Angela","SW2","Bahnengolf-Club Neutraubling e. V."]
[30940,30940,"Manuel","Fugazza","MC Ilvesheim","H: Fugazza,Manuel","H","Miniaturgolf-Club Ilvesheim e. V."]
[27212,27212,"Stefan","Funk","MGC Oberkochen","H: Funk,Stefan","H","Miniatur-Golfclub Oberkochen 1972 e. V."]
[35791,35791,"Andreas","Fütterer","Minigolf Wölfe Rheinstetten 02","SM1: Fütterer,Andreas","SM1","Rad- und Kraftfahrervereins \"Solidarität\" Mörsch e. V. Abteilung Minigolf Wölfe Rheinstetten 02"]
[35793,35793,"Thomas","Fütterer","Minigolf Wölfe Rheinstetten 02","SM2: Fütterer,Thomas","SM2","Rad- und Kraftfahrervereins \"Solidarität\" Mörsch e. V. Abteilung Minigolf Wölfe Rheinstetten 02"]
[67456,67456,"Klaus-Jürgen","Gäbelein","BSG Pneumant Fürstenwalde, Abt. Minigolf","SM2: Gäbelein,Klaus-Jürgen","SM2","BSG Pneumant Fürstenwalde e. V. Abteilung Minigolf"]
[67630,67630,"Karl","Galbicska","MGC Bad Homburg vdH","SM2: Galbicska,Karl","SM2","Minigolf-Club Bad Homburg e. V."]
[67759,67759,"Rosemarie","Galbicska","MGC Bad Homburg vdH","SW2: Galbicska,Rosemarie","SW2","Minigolf-Club Bad Homburg e. V."]
[27566,27566,"Jens","Galleinus","MSC Herscheid 1963","SM1: Galleinus,Jens","SM1","Minigolf-Sportclub Herscheid 1963 e. V."]
[40205,40205,"Ellen","Galleinus","MSC Herscheid 1963","SW1: Galleinus,Ellen","SW1","Minigolf-Sportclub Herscheid 1963 e. V."]
[66073,66073,"Jürgen","Galz","BGSV Bad Homburg","SM2: Galz,Jürgen","SM2","Bahnengolf-Sportverein Bad Homburg v.d.H. e. V."]
[66554,66554,"Dennis","Garbe","MSG Kempten","H: Garbe,Dennis","H","Minigolf-Sport-Gemeinschaft Kempten e. V."]
[66553,66553,"Michael","Garbe","MSG Kempten","SM2: Garbe,Michael","SM2","Minigolf-Sport-Gemeinschaft Kempten e. V."]
[45293,45293,"Bruno","Garbers","SC Olympia Dortmund","SM2: Garbers,Bruno","SM2","Sport-Club Olympia Dortmund e. V. "]
[37874,37874,"Joachim","Garden","MGC Rot-Weiß Wanne-Eickel","SM2: Garden,Joachim","SM2","Minigolfclub Rot-Weiß Wanne-Eickel e. V."]
[38168,38168,"Chris","Garte","MV Lankwitzer Dragons","H: Garte,Chris","H","MV Lankwitzer Dragons e. V."]
[{"$f":"VALUE(B835)","v":34722},34722,"Wolfgang","Gasch","MGV Eibenstock",{"$f":"CONCATENATE(G835,\": \",D835,\",\",C835)","v":"SM2: Gasch,Wolfgang"},"SM2","Miniaturgolfverein Eibenstock 1997 e. V.\t"]
[38592,38592,"Timo","Gase","1. MGC Gelsenkirchen","SM1: Gase,Timo","SM1","1. Minigolf Club Gelsenkirchen e. V."]
[65897,65897,"Birgit","Gase","1. MGC Gelsenkirchen","SW1: Gase,Birgit","SW1","1. Minigolf Club Gelsenkirchen e. V."]
[67738,67738,"Thomas","Gatawetzki-Köppchen","BGV Bergisch Land 1962 / 63","SM2: Gatawetzki-Köppchen,Thomas","SM2","Bahnengolf-Verein Bergisch Land 1962/63 e. V."]
[34092,34092,"Wolfgang","Gaute","1. BGC Celle von 1964","SM1: Gaute,Wolfgang","SM1","1. Bahnen-Golf-Club Celle von 1964 e. V."]
[67665,67665,"Julia","Gawlowski","MSC Bensheim-Auerbach","SCHW: Gawlowski,Julia","SCHW","Minigolf-Sport-Club Bensheim-Auerbach e. V."]
[67791,67791,"Jörg","Gburek","BGV Backumer Tal Herten","SM2: Gburek,Jörg","SM2","BGV Backumer Tal Herten e. V."]
[42043,42043,"Kurt","Gebauer","1. MGC München-Feldmoching","SM2: Gebauer,Kurt","SM2","1. Miniaturgolfclub München-Feldmoching e. V."]
[66707,66707,"Sarah","Gefreyer","BGC Diepholz","D: Gefreyer,Sarah","D","Bahnen-Golf-Club Diepholz e. V."]
[67012,67012,"Steffen","Gefreyer","BGC Bremen","SM1: Gefreyer,Steffen","SM1","Bahnen-Golf-Club Bremen e. V."]
[65466,65466,"Alina","Gehrke","TSV Salzgitter Abt. Bahnengolf","D: Gehrke,Alina","D","Turn- und Sportverein Salzgitter e. V. Abteilung Bahnengolf"]
[1963,1963,"Jörg","Gehrke","TSV Salzgitter Abt. Bahnengolf","SM1: Gehrke,Jörg","SM1","Turn- und Sportverein Salzgitter e. V. Abteilung Bahnengolf"]
[65468,65468,"Cornelia","Gehrke","TSV Salzgitter Abt. Bahnengolf","SW1: Gehrke,Cornelia","SW1","Turn- und Sportverein Salzgitter e. V. Abteilung Bahnengolf"]
[67305,67305,"Gabriel","Geishüttner","MSC Bad Godesberg","JM: Geishüttner,Gabriel","JM","Minigolf-Sport-Club Bad Godesberg e. V."]
[67306,67306,"Gerhard","Geishüttner","MGC Nümbrecht","SM1: Geishüttner,Gerhard","SM1","Minigolf-Club Nümbrecht e. V. "]
[42662,42662,"Ralf","Geissler","1. MGC Metzingen","SM1: Geissler,Ralf","SM1","1. Miniaturgolf Club Metzingen e. V."]
[43605,43605,"Alexander","Geist","BGS Hardenberg-Pötter","SM1: Geist,Alexander","SM1","BGS Hardenberg-Pötter e. V."]
[24314,24314,"Michaela","Geist","MSC Bensheim-Auerbach","SW1: Geist,Michaela","SW1","Minigolf-Sport-Club Bensheim-Auerbach e. V."]
[41874,41874,"Rainer","Gellermann","SGC Hagen","SM1: Gellermann,Rainer","SM1","Sterngolf-Club Hagen e. V."]
[46093,46093,"Thomas","Gemkow","MSF Brilon","SM1: Gemkow,Thomas","SM1","Minigolfsportfreunde Brilon e. V."]
[65931,65931,"Michael","Genzer","BGC Dormagen","SM1: Genzer,Michael","SM1","Bahnengolf-Club Dormagen e. V."]
[34839,34839,"Holger","Georgi","Reinickendorfer MGC","SM1: Georgi,Holger","SM1","Reinickendorfer Miniatur - Golfsport - Club e. V."]
[35794,35794,"Martin","Gerbert","Minigolf Wölfe Rheinstetten 02","H: Gerbert,Martin","H","Rad- und Kraftfahrervereins \"Solidarität\" Mörsch e. V. Abteilung Minigolf Wölfe Rheinstetten 02"]
[67498,67498,"Irmgard","Gerdeißen","1. BGC Garmisch-Partenkirchen","SW2: Gerdeißen,Irmgard","SW2","1. Bahnengolfclub Garmisch-Partenkirchen e. V."]
[34891,34891,"Felix","Gerhardt","MGC Murnau am Staffelsee","H: Gerhardt,Felix","H","Minigolfclub Murnau am Staffelsee e. V."]
[35437,35437,"Markus","Gerlach","MC Tigers Künsebeck","H: Gerlach,Markus","H","Miniaturgolf Club Tigers Künsebeck e. V."]
[35436,35436,"Stefan","Gerlach","MGC Bad Salzuflen","SM2: Gerlach,Stefan","SM2","Minigolf-Club Bad Salzuflen e. V."]
[5821,5821,"Karl-Heinz","Gerwert","MGF Waldshut 74","SM2: Gerwert,Karl-Heinz","SM2","Minigolffreunde Waldshut 1974 e. V."]
[37060,37060,"Yannis","Geschonke","MSV 05 Bad Münder / Springe","H: Geschonke,Yannis","H","Minigolf Sport-Verein Bad Münder/Springe von 2005 e. V."]
[35329,35329,"Kevin","Gesell","MGC Bad Feilnbach","H: Gesell,Kevin","H","Minigolfclub Bad Feilnbach e. V."]
[41951,41951,"Claudia","Geßner","1. Essener CGC \"Blau-Gold\"","SW1: Geßner,Claudia","SW1","1. Essener cobiGOLF - Club \"Blau-Gold\" e. V."]
[25206,25206,"Thomas","Giebenhain","MSC Bensheim-Auerbach","SM1: Giebenhain,Thomas","SM1","Minigolf-Sport-Club Bensheim-Auerbach e. V."]
[50294,50294,"Heinz-Theo","Giegel","BGV Backumer Tal Herten","SM2: Giegel,Heinz-Theo","SM2","BGV Backumer Tal Herten e. V."]
[67744,67744,"Sandra","Gill","SSC Halver","SW1: Gill,Sandra","SW1","SSC Halver e. V."]
[30460,30460,"Pascal","Gillen","1. KC Homburg-Saar 1967","H: Gillen,Pascal","H","1. Kleingolf Club Homburg-Saar 1967 e. V."]
[33015,33015,"Marco","Ginal","Miniaturgolf Sportclub Schriesheim","H: Ginal,Marco","H","Miniaturgolf Sportclub Schriesheim e. V."]
[66864,66864,"Rudolf","Ginschel","BSC Ennepetal","SM2: Ginschel,Rudolf","SM2","Bahngolf-Sport-Club Ennepetal e. V."]
[33433,33433,"Dimitri","Gkotses","MGF Hammer","H: Gkotses,Dimitri","H","Minigolffreunde Hammer e. V."]
[36872,36872,"Timo","Glaser","Miniaturgolf Sportclub Schriesheim","H: Glaser,Timo","H","Miniaturgolf Sportclub Schriesheim e. V."]
[38284,38284,"Nils","Glaser","Miniaturgolf Sportclub Schriesheim","H: Glaser,Nils","H","Miniaturgolf Sportclub Schriesheim e. V."]
[31211,31211,"Ute","Glaser","1. CGC Blau-Gelb Grötzingen","SW1: Glaser,Ute","SW1","COBI-GOLF-CLUB Blau-Gelb Grötzingen 1968 e. V."]
[22832,22832,"Helmut","Glaser","MGC Sulzfeld","SM2: Glaser,Helmut","SM2","Miniatur Golf Club Sulzfeld e. V."]
[55133,55133,"Michael","Glaser","MGC Bad Soden-Salmünster","SM2: Glaser,Michael","SM2","Miniaturgolfclub Bad Soden-Salmünster e. V."]
[66799,66799,"Felix","Glück","1. MGC Mainz","H: Glück,Felix","H","Erster Mainzer Minigolf-Club e. V. 1964"]
[33705,33705,"Jan","Göbel","MGC Wertheim 91","H: Göbel,Jan","H","Minigolfdub Wertheim ´91 e. V."]
[67677,67677,"Heiko","Göbel","MGC Bergisch Gladbach Gierath","SM1: Göbel,Heiko","SM1","Minigolf-Club Bergisch Gladbach Gierath e. V."]
[67146,67146,"Günter","Göbel","MGC Felderbachtal 1964","SM2: Göbel,Günter","SM2","Minigolf-Club-Felderbachtal 1964 e. V."]
[67145,67145,"Marina","Göbel","MGC Felderbachtal 1964","SW2: Göbel,Marina","SW2","Minigolf-Club-Felderbachtal 1964 e. V."]
[41340,41340,"Michael","Gohl","VfB Osnabrück","SM2: Gohl,Michael","SM2","Verein für Bahnengolf Osnabrück von 1984 e. V."]
[67218,67218,"Thorsten","Goldau","BGV Backumer Tal Herten","H: Goldau,Thorsten","H","BGV Backumer Tal Herten e. V."]
[67233,67233,"Holger","Goldenbow","MSV 05 Bad Münder / Springe","SM2: Goldenbow,Holger","SM2","Minigolf Sport-Verein Bad Münder/Springe von 2005 e. V."]
[34013,34013,"Heiko","Golder","Reinickendorfer MGC","SM1: Golder,Heiko","SM1","Reinickendorfer Miniatur - Golfsport - Club e. V."]
[67503,67503,"Michael","Goldhahn","1. MGC Lohfelden 1997","SM1: Goldhahn,Michael","SM1","1. Miniatur-Golfsport-Club Lohfelden e. V."]
[36159,36159,"Helmut","Goldschmidt","MSV Bad Kreuznach","SM2: Goldschmidt,Helmut","SM2","MSV Bad Kreuznach e. V."]
[66631,66631,"Heribert","Golka","1. BGC Hannover","SM2: Golka,Heribert","SM2","1. Bahnen-Golf-Club Hannover e. V."]
[66872,66872,"Gerhard","Goller","1. FMGC Lichtenfels 1961","SM1: Goller,Gerhard","SM1","1. Fränkischer Minigolfclub Lichtenfels 1961 e. V."]
[66763,66763,"Michael","Goresch","1. NMC Kelheim","JM: Goresch,Michael","JM","1. Niederbayerischer Minigolf-Club Kelheim e. V."]
[17705,17705,"Erwin","Görgen","MGC Traben-Trarbach","SM2: Görgen,Erwin","SM2","Minigolfclub Traben-Trarbach e. V."]
[31965,31965,"Dennis","Gorges","1. KC Homburg-Saar 1967","H: Gorges,Dennis","H","1. Kleingolf Club Homburg-Saar 1967 e. V."]
[67035,67035,"Petra","Görtz","1. MGC Mainz","D: Görtz,Petra","D","Erster Mainzer Minigolf-Club e. V. 1964"]
[50035,50035,"Andreas","Görtz-Fräßle","1. MGC Mainz","H: Görtz-Fräßle,Andreas","H","Erster Mainzer Minigolf-Club e. V. 1964"]
[65830,65830,"Yvonne","Gose","VfM Berlin","D: Gose,Yvonne","D","Verein für Minigolf e. V. Berlin"]
[36076,36076,"Ellen","Gose","VfM Berlin","SW2: Gose,Ellen","SW2","Verein für Minigolf e. V. Berlin"]
[37377,37377,"Sabrina","Gothmann","1. MGC Tuttlingen","D: Gothmann,Sabrina","D","Erster Minigolf - Club Tuttlingen e. V."]
[{"$f":"VALUE(B899)","v":66227},66227,"Wolfgang","Gotthard","1. BGC Garmisch-Partenkirchen",{"$f":"CONCATENATE(G899,\": \",D899,\",\",C899)","v":"SM2: Gotthard,Wolfgang"},"SM2","1. Bahnengolfclub Garmisch-Partenkirchen e. V."]
[66476,66476,"Runa Sophia","Gottke","MGC Traben-Trarbach","D: Gottke,Runa Sophia","D","Minigolfclub Traben-Trarbach e. V."]
[67425,67425,"Leon","Göttlich","MC Ilvesheim","JM: Göttlich,Leon","JM","Miniaturgolf-Club Ilvesheim e. V."]
[38630,38630,"Hendrik","Göttmann","SG Arheilgen Abt. Bahnengolf","H: Göttmann,Hendrik","H","Sportgemeinschaft Arheilgen 1876/1945 e. V. Abteilung Bahnengolf"]
[38631,38631,"Holger","Göttmann","SG Arheilgen Abt. Bahnengolf","SM2: Göttmann,Holger","SM2","Sportgemeinschaft Arheilgen 1876/1945 e. V. Abteilung Bahnengolf"]
[67015,67015,"Wolfgang","Gottschling","1. CGC Blau-Gelb Grötzingen","SM2: Gottschling,Wolfgang","SM2","COBI-GOLF-CLUB Blau-Gelb Grötzingen 1968 e. V."]
[34709,34709,"Holger","Götz","BGC Neutraubling","SM1: Götz,Holger","SM1","Bahnengolf-Club Neutraubling e. V."]
[67643,67643,"Niklas","Götze","MGF Magdeburg 1995","H: Götze,Niklas","H","Minigolffreunde Magdeburg e. V."]
[67614,67614,"Annette","Göz","MGC Bad Homburg vdH","SW2: Göz,Annette","SW2","Minigolf-Club Bad Homburg e. V."]
[40135,40135,"Christian","Graage","Preetzer TSV von 1861 Abt. Minigolf","SM1: Graage,Christian","SM1","Preetzer Turn- und Sportverein von 1861 e. V. Abteilung Minigolf"]
[37979,37979,"Thomas","Gräber","1. MC Weinheim","SM2: Gräber,Thomas","SM2","1. Miniaturgolf-Club Weinheim e. V."]
[66812,66812,"Wolfgang","Gräble","MGF Hilzingen 80","SM1: Gräble,Wolfgang","SM1","Minigolffreunde Hilzingen 80 e. V."]
[25675,25675,"Markus","Grabrucker","OMGC Ingolstadt","H: Grabrucker,Markus","H","Oberbayerische Minigolf-Club Ingolstadt e. V."]
[40381,40381,"Stefan","Grabrucker","OMGC Ingolstadt","H: Grabrucker,Stefan","H","Oberbayerische Minigolf-Club Ingolstadt e. V."]
[30979,30979,"Stephanie","Grabrucker","OMGC Ingolstadt","D: Grabrucker,Stephanie","D","Oberbayerische Minigolf-Club Ingolstadt e. V."]
[63961,63961,"Jasmin","Grabrucker","OMGC Ingolstadt","JW: Grabrucker,Jasmin","JW","Oberbayerische Minigolf-Club Ingolstadt e. V."]
[67139,67139,"Lena","Grabrucker","OMGC Ingolstadt","SCHW: Grabrucker,Lena","SCHW","Oberbayerische Minigolf-Club Ingolstadt e. V."]
[67671,67671,"Annika","Grabrucker","OMGC Ingolstadt","SCHW: Grabrucker,Annika","SCHW","Oberbayerische Minigolf-Club Ingolstadt e. V."]
[5271,5271,"Anton","Grabrucker","OMGC Ingolstadt","SM2: Grabrucker,Anton","SM2","Oberbayerische Minigolf-Club Ingolstadt e. V."]
[28389,28389,"Manfred","Grabrucker","OMGC Ingolstadt","SM2: Grabrucker,Manfred","SM2","Oberbayerische Minigolf-Club Ingolstadt e. V."]
[9033,9033,"Elfriede","Grabrucker","OMGC Ingolstadt","SW2: Grabrucker,Elfriede","SW2","Oberbayerische Minigolf-Club Ingolstadt e. V."]
[37359,37359,"Lars","Graeber","BGV Bergisch Land 1962 / 63","SM1: Graeber,Lars","SM1","Bahnengolf-Verein Bergisch Land 1962/63 e. V."]
[33132,33132,"Roger","Graf","MGC Traben-Trarbach","SM2: Graf,Roger","SM2","Minigolfclub Traben-Trarbach e. V."]
[66498,66498,"Thomas","Gräf","MGC Bad Feilnbach","SM1: Gräf,Thomas","SM1","Minigolfclub Bad Feilnbach e. V."]
[34316,34316,"Ingo","Graf von Mainberg","BGC Schweinfurt","H: Graf von Mainberg,Ingo","H","Bahnengolfclub Schweinfurt e. V."]
[67794,67794,"André","Grajek","Cobigolf-Verein Hamm 2019","H: Grajek,André","H","Cobigolf-Verein Hamm 2019 e. V."]
[67471,67471,"Olaf","Gralow","1. Essener CGC \"Blau-Gold\"","SM1: Gralow,Olaf","SM1","1. Essener cobiGOLF - Club \"Blau-Gold\" e. V."]
[67472,67472,"Regina","Gralow","1. Essener CGC \"Blau-Gold\"","SW1: Gralow,Regina","SW1","1. Essener cobiGOLF - Club \"Blau-Gold\" e. V."]
[34359,34359,"Frank","Gramer","1. MGC Tuttlingen","SM2: Gramer,Frank","SM2","Erster Minigolf - Club Tuttlingen e. V."]
[43923,43923,"Petra","Gransee","BGSV Castrop 1961","SW2: Gransee,Petra","SW2","Bahnengolfsportverein Castrop e. V. 1961"]
[1344,1344,"Susanne","Granz","MC \"Möve\" Cuxhaven-Sahlenburg","SW1: Granz,Susanne","SW1","Miniaturgolf-Club \"Möve\" Cuxhaven-Sahlenburg e. V."]
[45502,45502,"Gerno","Grapengeter","MGC Dormagen-Brechten","SM1: Grapengeter,Gerno","SM1","Minigolfclub Dormagen - Brechten e. V."]
[66277,66277,"Patricia","Gras","MGC Millennium Viernheim","D: Gras,Patricia","D","MGC Millennium Viernheim e. V."]
[67320,67320,"André","Gras","1. MGC Peine von 1965","SM1: Gras,André","SM1","1. Miniaturgolf-Club Peine von 1965 e. V."]
[66658,66658,"Lucas","Graumann","TSV Salzgitter Abt. Bahnengolf","H: Graumann,Lucas","H","Turn- und Sportverein Salzgitter e. V. Abteilung Bahnengolf"]
[66648,66648,"Eicke","Greh","VfM Berlin","H: Greh,Eicke","H","Verein für Minigolf e. V. Berlin"]
[30056,30056,"Lars","Greiffendorf","1. MGC Mainz","SM1: Greiffendorf,Lars","SM1","Erster Mainzer Minigolf-Club e. V. 1964"]
[3800,3800,"Hellmut","Greiffendorf","MGC \"AS\" Witten 1963","SM2: Greiffendorf,Hellmut","SM2","Minigolfclub \"AS\" Witten 1963 e. V."]
[31762,31762,"Thomas","Gress","MGC Bad Hersfeld","SM1: Gress,Thomas","SM1","Miniatur-Golf-Club Bad Hersfeld e. V."]
[67095,67095,"Simon","Griebat","MSK Olching","SCHM: Griebat,Simon","SCHM","Olchinger Minigolf Sport Klub e. V."]
[46148,46148,"Ottmar","Gries","SSV Ulm 1846 Abt. Bahnengolf","SM1: Gries,Ottmar","SM1","Schwimm- und Sportverein Ulm 1846 e. V. Abteilung Bahnengolf"]
[67065,67065,"Christine","Gries","SSV Ulm 1846 Abt. Bahnengolf","SW1: Gries,Christine","SW1","Schwimm- und Sportverein Ulm 1846 e. V. Abteilung Bahnengolf"]
[25960,25960,"Bernd","Grigo","VfM Bottrop","SM2: Grigo,Bernd","SM2","Verein für Minigolf Bottrop e. V."]
[37669,37669,"Marcus","Grimm","BSV 86 München","H: Grimm,Marcus","H","Bahnengolfsportverein 86 München e. V."]
[65794,65794,"Wolf-Dieter","Grimm","SV Lurup Abt. Bahnengolf","SM2: Grimm,Wolf-Dieter","SM2","Sportverein Lurup-Hamburg von 1923 e. V. Abteilung Bahnengolf"]
[463,463,"Uwe","Grimme","1. NMC Kelheim","SM1: Grimme,Uwe","SM1","1. Niederbayerischer Minigolf-Club Kelheim e. V."]
[38540,38540,"Robert","Grobe","MGC Rot-Weiß Wanne-Eickel","SM1: Grobe,Robert","SM1","Minigolfclub Rot-Weiß Wanne-Eickel e. V."]
[66339,66339,"Thomas","Grobe","1. BGC Hannover","SM2: Grobe,Thomas","SM2","1. Bahnen-Golf-Club Hannover e. V."]
[67029,67029,"Bernhard","Gröbel","MSV Würzburg-Löwenbrücke","SM2: Gröbel,Bernhard","SM2","Miniaturgolfsportverein Würzburg - Löwenbrücke e. V."]
[66416,66416,"Ronald","Groenewoud","BGV Backumer Tal Herten","SM2: Groenewoud,Ronald","SM2","BGV Backumer Tal Herten e. V."]
[36717,36717,"Rainer","Grohse","MGC Brunsbüttel","SM2: Grohse,Rainer","SM2","Miniaturgolf-Club Brunsbüttel e. V."]
[65954,65954,"Frederick","Grombein","Kölner Miniatur Golf Club","H: Grombein,Frederick","H","Kölner Miniatur Golf Club e. V."]
[66567,66567,"Frank","Gromm","BGSC \"Gut Schlag\" Gladbeck","SM2: Gromm,Frank","SM2","Bahnengolfsportclub \"Gut Schlag\" Gladbeck e. V."]
[26423,26423,"Markus","Groneberg","VfM Berlin","H: Groneberg,Markus","H","Verein für Minigolf e. V. Berlin"]
[65976,65976,"Thomas","Gronski","MGC Rot-Weiß Wanne-Eickel","SM2: Gronski,Thomas","SM2","Minigolfclub Rot-Weiß Wanne-Eickel e. V."]
[65971,65971,"Friederike","Gronski","MGC Rot-Weiß Wanne-Eickel","SW2: Gronski,Friederike","SW2","Minigolfclub Rot-Weiß Wanne-Eickel e. V."]
[67773,67773,"Bruno","Grosjean","BGS Hardenberg-Pötter","H: Grosjean,Bruno","H","BGS Hardenberg-Pötter e. V."]
[22243,22243,"Ina","Grosse","TV Trappenkamp - Minigolf -","SW2: Grosse,Ina","SW2","Turnverein Trappenkamp e. V. Sparte Minigolf"]
[38461,38461,"Lennart","Großmann","1. MSC Wesel 6.6.1966","H: Großmann,Lennart","H","1. Minigolf-Sportclub Wesel 66 66 e. V. "]
[30400,30400,"Bertold","Großmann","MGC Sulzfeld","SM2: Großmann,Bertold","SM2","Miniatur Golf Club Sulzfeld e. V."]
[37516,37516,"Rosemarie","Groteböhmer","MSC Bad Godesberg","SW2: Groteböhmer,Rosemarie","SW2","Minigolf-Sport-Club Bad Godesberg e. V."]
[29588,29588,"Stefan","Gruber","MGC Murnau am Staffelsee","H: Gruber,Stefan","H","Minigolfclub Murnau am Staffelsee e. V."]
[31872,31872,"Christoph","Grübl","1. NMC Kelheim","H: Grübl,Christoph","H","1. Niederbayerischer Minigolf-Club Kelheim e. V."]
[6550,6550,"Sieglinde","Grübl","1. BGC Landshut","SW2: Grübl,Sieglinde","SW2","1. Bahnengolf-Club Landshut e. V."]
[{"$f":"VALUE(B963)","v":3802},3802,"Jürgen","Grügelsberg","MGC \"AS\" Witten 1963",{"$f":"CONCATENATE(G963,\": \",D963,\",\",C963)","v":"SM2: Grügelsberg,Jürgen"},"SM2","Minigolfclub \"AS\" Witten 1963 e. V."]
[3126,3126,"Marianne","Grügelsberg","MGC \"AS\" Witten 1963","SW2: Grügelsberg,Marianne","SW2","Minigolfclub \"AS\" Witten 1963 e. V."]
[25695,25695,"Iris","Grün","BGC Dormagen","SW1: Grün,Iris","SW1","Bahnengolf-Club Dormagen e. V."]
[67264,67264,"Richard","Grünberg","TSV Kücknitz Abt. Bahnengolf","SM2: Grünberg,Richard","SM2","Turn - und Sportverein Kücknitz von 1911 e. V. Abteilung Bahnengolf"]
[67567,67567,"Isabella","Gründer","BGSC \"Gut Schlag\" Gladbeck","SCHW: Gründer,Isabella","SCHW","Bahnengolfsportclub \"Gut Schlag\" Gladbeck e. V."]
[35168,35168,"Dirk","Gründer","BGSC \"Gut Schlag\" Gladbeck","SM1: Gründer,Dirk","SM1","Bahnengolfsportclub \"Gut Schlag\" Gladbeck e. V."]
[67454,67454,"Eric","Grundmann","BGC Schloß Paffendorf","SM2: Grundmann,Eric","SM2","Bahnengolf Club Schloß Paffendorf e. V."]
[66883,66883,"Thomas","Grundmüller","MGC Ingolstadt","H: Grundmüller,Thomas","H"," Miniaturgolf-Club Ingolstadt e. V."]
[66884,66884,"Benedikt","Grundmüller","MGC Ingolstadt","H: Grundmüller,Benedikt","H"," Miniaturgolf-Club Ingolstadt e. V."]
[44875,44875,"Franz","Grundmüller","MGC Ingolstadt","SM1: Grundmüller,Franz","SM1"," Miniaturgolf-Club Ingolstadt e. V."]
[44874,44874,"Sonja","Grundmüller","MGC Ingolstadt","SW1: Grundmüller,Sonja","SW1"," Miniaturgolf-Club Ingolstadt e. V."]
[4233,4233,"Adolf","Grüne","1. MGC Kassel 1964","SM2: Grüne,Adolf","SM2","1. Mini-Golfsport-Club Kassel-Vellmar 1964 e. V."]
[50093,50093,"Frank","Grunert","TSV Salzgitter Abt. Bahnengolf","SM1: Grunert,Frank","SM1","Turn- und Sportverein Salzgitter e. V. Abteilung Bahnengolf"]
[46269,46269,"Uwe","Grüning","1. Minigolf-Club Rheinhausen","SM2: Grüning,Uwe","SM2","1. Minigolf-Club Rheinhausen e. V."]
[44280,44280,"Eveline","Grüning","1. Minigolf-Club Rheinhausen","SW2: Grüning,Eveline","SW2","1. Minigolf-Club Rheinhausen e. V."]
[65943,65943,"Luisa-Marie","Grüninger","MGC Murnau am Staffelsee","D: Grüninger,Luisa-Marie","D","Minigolfclub Murnau am Staffelsee e. V."]
[45426,45426,"Christoph","Grunt","1. MGC Ludwigshafen","H: Grunt,Christoph","H","1. Miniatur-Golf-Club Ludwigshafen 1964 e. V."]
[6487,6487,"Manfred","Grunwald","SSC Halver","SM2: Grunwald,Manfred","SM2","SSC Halver e. V."]
[35795,35795,"Beatriz","Grüßinger","Minigolf Wölfe Rheinstetten 02","SW1: Grüßinger,Beatriz","SW1","Rad- und Kraftfahrervereins \"Solidarität\" Mörsch e. V. Abteilung Minigolf Wölfe Rheinstetten 02"]
[46450,46450,"Ulrich","Grützner","MC \"Möve\" Cuxhaven-Sahlenburg","SM2: Grützner,Ulrich","SM2","Miniaturgolf-Club \"Möve\" Cuxhaven-Sahlenburg e. V."]
[31639,31639,"Andreas","Grzeski","BGSV Kerpen","SM1: Grzeski,Andreas","SM1","Bahnen-Golf-Sport-Vereinigung Kerpen e. V."]
[22467,22467,"Joachim","Grzyb-Bonsack","MSK Neheim-Hüsten","SM2: Grzyb-Bonsack,Joachim","SM2","MINIGOLF-SPORT-KLUB Neheim-Hüsten e. V."]
[38611,38611,"Julian","Guddat","BGV Bergisch Land 1962 / 63","H: Guddat,Julian","H","Bahnengolf-Verein Bergisch Land 1962/63 e. V."]
[35156,35156,"Matthias","Guhe","1. KGC Mönchengladbach","H: Guhe,Matthias","H","1. Klein-Golf-Club Mönchengladbach e. V."]
[33357,33357,"Jürgen","Gundermann","MGC Dortmund Syburg","SM2: Gundermann,Jürgen","SM2","MGC Do-Syburg e.V."]
[50029,50029,"Nicole","Gundert","1. MGC Mainz","D: Gundert,Nicole","D","Erster Mainzer Minigolf-Club e. V. 1964"]
[67400,67400,"Thomas","Guney","VfB Osnabrück","SM2: Guney,Thomas","SM2","Verein für Bahnengolf Osnabrück von 1984 e. V."]
[48275,48275,"Rudolf","Guni","MGC Murnau am Staffelsee","SM1: Guni,Rudolf","SM1","Minigolfclub Murnau am Staffelsee e. V."]
[66718,66718,"Kevin","Günther","Hamburger MC von 1965","H: Günther,Kevin","H","Hamburger Minigolf Club von 1965 e. V."]
[6740,6740,"Klaus","Gust","MGC Felderbachtal 1964","SM2: Gust,Klaus","SM2","Minigolf-Club-Felderbachtal 1964 e. V."]
[67591,67591,"Anna-Lena","Gut","MGF Waldshut 74","JW: Gut,Anna-Lena","JW","Minigolffreunde Waldshut 1974 e. V."]
[31177,31177,"Oliver","Gut","MGF Waldshut 74","SM1: Gut,Oliver","SM1","Minigolffreunde Waldshut 1974 e. V."]
[67732,67732,"Josef","Gut","MGC Bad Waldsee 1990","SM2: Gut,Josef","SM2","Minigolf-Club Bad Waldsee 1990 e. V."]
[32535,32535,"Benjamin","Güth","Niendorfer MC v. 1963","H: Güth,Benjamin","H","Niendorfer Miniaturgolf-Club von 1963 e. V."]
[43241,43241,"Udo","Guttroff","1. MGC Metzingen","SM1: Guttroff,Udo","SM1","1. Miniaturgolf Club Metzingen e. V."]
[67734,67734,"Marc","Haake","Elbhavelland, Abt. Minigolfsport","H: Haake,Marc","H","Elbhavelland e. V. Abteilung Minigolfsport"]
[38354,38354,"Alexandra","Haas","BSV 82 Ohlsbach","SW1: Haas,Alexandra","SW1","Bahnengolfsportverein 82 Ohlsbach e. V."]
[40878,40878,"Wolfgang","Haas","1. BGC Bad Füssing","SM2: Haas,Wolfgang","SM2","1. Bahnengolfclub Bad Füssing e. V."]
[67101,67101,"Ben","Haase","SV Lurup Abt. Bahnengolf","JM: Haase,Ben","JM","Sportverein Lurup-Hamburg von 1923 e. V. Abteilung Bahnengolf"]
[41960,41960,"Guido","Haase","1. MGC Kassel 1964","SM2: Haase,Guido","SM2","1. Mini-Golfsport-Club Kassel-Vellmar 1964 e. V."]
[67344,67344,"Erika","Haase","1. MGC Kassel 1964","SW2: Haase,Erika","SW2","1. Mini-Golfsport-Club Kassel-Vellmar 1964 e. V."]
[67838,67838,"Michael","Haberecht","1. MSC Hamburg-Neu Wulmstorf","SM2: Haberecht,Michael","SM2","1. Minigolf-Sport-Club Hamburg-Neu-Wulmstorf e. V."]
[66539,66539,"Felicitas","Haberl","MGC Ingolstadt","D: Haberl,Felicitas","D"," Miniaturgolf-Club Ingolstadt e. V."]
[66838,66838,"Lena","Haberl","MGC Ingolstadt","D: Haberl,Lena","D"," Miniaturgolf-Club Ingolstadt e. V."]
[29277,29277,"Volker","Haberl","MGC Ingolstadt","SM1: Haberl,Volker","SM1"," Miniaturgolf-Club Ingolstadt e. V."]
[67452,67452,"Markus","Haberland","BGC Schloß Paffendorf","H: Haberland,Markus","H","Bahnengolf Club Schloß Paffendorf e. V."]
[27189,27189,"Klaus","Hablitzel","1. MGC Tuttlingen","SM2: Hablitzel,Klaus","SM2","Erster Minigolf - Club Tuttlingen e. V."]
[67604,67604,"Ronja","Hablowetz","MGV Ansbach","SCHW: Hablowetz,Ronja","SCHW","MGV Ansbach e. V."]
[67605,67605,"Karlheinz","Hablowetz","MGV Ansbach","SM1: Hablowetz,Karlheinz","SM1","MGV Ansbach e. V."]
[27909,27909,"Klaus","Habrich","1. MGC Süßen","SM2: Habrich,Klaus","SM2","1. Miniaturgolfclub Süßen e. V."]
[34559,34559,"Danny","Hackel","MGC Homburger Land","H: Hackel,Danny","H","MGC Homburger Land e. V."]
[37074,37074,"Günter","Hackenberg","1. MGC Kassel 1964","SM2: Hackenberg,Günter","SM2","1. Mini-Golfsport-Club Kassel-Vellmar 1964 e. V."]
[37079,37079,"Willi","Hackenberg","1. BGC Wolfsburg","SM2: Hackenberg,Willi","SM2","1. Bahnen - Golf - Club Wolfsburg e. V."]
[67832,67832,"Rudolf","Häffner","BGSV Bad Homburg","SM2: Häffner,Rudolf","SM2","Bahnengolf-Sportverein Bad Homburg v.d.H. e. V."]
[36278,36278,"Wolfgang","Hageböck","SSC Halver","SM2: Hageböck,Wolfgang","SM2","SSC Halver e. V."]
[67501,67501,"Andreas","Hagel","Minigolf Wölfe Rheinstetten 02","H: Hagel,Andreas","H","Rad- und Kraftfahrervereins \"Solidarität\" Mörsch e. V. Abteilung Minigolf Wölfe Rheinstetten 02"]
[34296,34296,"Robert","Hägele","MGC Bad Feilnbach","SM1: Hägele,Robert","SM1","Minigolfclub Bad Feilnbach e. V."]
[66990,66990,"David","Hagemeyer","BGSV Bad Homburg","H: Hagemeyer,David","H","Bahnengolf-Sportverein Bad Homburg v.d.H. e. V."]
[17834,17834,"Leo","Hagenlüke","BV Sennestadt","SM2: Hagenlüke,Leo","SM2","BV Sennestadt e. V."]
[35720,35720,"Christopher","Hahn","BGV Backumer Tal Herten","H: Hahn,Christopher","H","BGV Backumer Tal Herten e. V."]
[46374,46374,"Timon","Hahn","VfB Osnabrück","H: Hahn,Timon","H","Verein für Bahnengolf Osnabrück von 1984 e. V."]
[48646,48646,"Corinna","Hahn","1. MGC Ludwigshafen","D: Hahn,Corinna","D","1. Miniatur-Golf-Club Ludwigshafen 1964 e. V."]
[44416,44416,"Robert","Hahn","1. MGC Ludwigshafen","SM1: Hahn,Robert","SM1","1. Miniatur-Golf-Club Ludwigshafen 1964 e. V."]
[65301,65301,"Rolf","Haid","1. MGC Hechingen","SM2: Haid,Rolf","SM2","1. Minigolfclub Hechingen e. V."]
[{"$f":"VALUE(B1027)","v":65300},65300,"Kornelia","Haid","1. MGC Hechingen",{"$f":"CONCATENATE(G1027,\": \",D1027,\",\",C1027)","v":"SW2: Haid,Kornelia"},"SW2","1. Minigolfclub Hechingen e. V."]
[66432,66432,"Thomas","Hainzl","MGC Bad Feilnbach","SM2: Hainzl,Thomas","SM2","Minigolfclub Bad Feilnbach e. V."]
[42187,42187,"Siegfried","Hake","BGC Goslar","SM2: Hake,Siegfried","SM2","Bahnen-Golf-Club Goslar e. V."]
[66115,66115,"Alexander","Halbauer","MSG Kempten","SM1: Halbauer,Alexander","SM1","Minigolf-Sport-Gemeinschaft Kempten e. V."]
[42555,42555,"Markus","Haller","1. NMC Kelheim","SM1: Haller,Markus","SM1","1. Niederbayerischer Minigolf-Club Kelheim e. V."]
[65847,65847,"Markus","Hallhuber","BSV Inzlingen 1979","H: Hallhuber,Markus","H","Bahnengolf-Sportverein Inzlingen 1979 e. V."]
[47240,47240,"Martin","Halscheidt","MGC Wertheim 91","SM1: Halscheidt,Martin","SM1","Minigolfdub Wertheim ´91 e. V."]
[67724,67724,"Wolfgang","Hamann","BSC Ennepetal","SM2: Hamann,Wolfgang","SM2","Bahngolf-Sport-Club Ennepetal e. V."]
[35765,35765,"Marina","Hammann","MC Ilvesheim","SW2: Hammann,Marina","SW2","Miniaturgolf-Club Ilvesheim e. V."]
[36423,36423,"Melanie","Hammerschmidt","1. KC Homburg-Saar 1967","D: Hammerschmidt,Melanie","D","1. Kleingolf Club Homburg-Saar 1967 e. V."]
[42281,42281,"Michael","Hammon","BGC Bad Berneck","SM1: Hammon,Michael","SM1","Bahnengolf-Club e. V. Bad Berneck"]
[43760,43760,"Dagmar","Hammon","BGC Bad Berneck","SW1: Hammon,Dagmar","SW1","Bahnengolf-Club e. V. Bad Berneck"]
[36282,36282,"Dennis","Handtke","MSK Neheim-Hüsten","H: Handtke,Dennis","H","MINIGOLF-SPORT-KLUB Neheim-Hüsten e. V."]
[67148,67148,"Jonas","Handtke","MSK Neheim-Hüsten","H: Handtke,Jonas","H","MINIGOLF-SPORT-KLUB Neheim-Hüsten e. V."]
[38511,38511,"Sarah","Handtke","MSK Neheim-Hüsten","D: Handtke,Sarah","D","MINIGOLF-SPORT-KLUB Neheim-Hüsten e. V."]
[40161,40161,"Michael","Handtke","MSK Neheim-Hüsten","SM2: Handtke,Michael","SM2","MINIGOLF-SPORT-KLUB Neheim-Hüsten e. V."]
[63732,63732,"Dieter","Hanisch","MGC Ingolstadt","SM2: Hanisch,Dieter","SM2"," Miniaturgolf-Club Ingolstadt e. V."]
[49941,49941,"Sven","Hänke","MC Flora Elmshorn","H: Hänke,Sven","H","Minigolf-Club Flora Elmshorn e. V."]
[26439,26439,"Rainer","Hanker","BGSC \"Gut Schlag\" Gladbeck","SM2: Hanker,Rainer","SM2","Bahnengolfsportclub \"Gut Schlag\" Gladbeck e. V."]
[45588,45588,"Johann","Hann","SSV Ulm 1846 Abt. Bahnengolf","SM2: Hann,Johann","SM2","Schwimm- und Sportverein Ulm 1846 e. V. Abteilung Bahnengolf"]
[64724,64724,"Andreas","Hannemann-Schmidhuber","1. BGC Landshut","H: Hannemann-Schmidhuber,Andreas","H","1. Bahnengolf-Club Landshut e. V."]
[64722,64722,"Claudia","Hannemann-Schmidhuber","1. BGC Landshut","SW1: Hannemann-Schmidhuber,Claudia","SW1","1. Bahnengolf-Club Landshut e. V."]
[43553,43553,"Jörg","Hannmann","Niendorfer MC v. 1963","SM1: Hannmann,Jörg","SM1","Niendorfer Miniaturgolf-Club von 1963 e. V."]
[45795,45795,"Jürgen","Hansel","CGC Illertal Kellmünz","SM2: Hansel,Jürgen","SM2","Cobigolfclub Illertal Kellmünz e. V."]
[32383,32383,"Mike","Hansen","MSC Bad Godesberg","H: Hansen,Mike","H","Minigolf-Sport-Club Bad Godesberg e. V."]
[38016,38016,"Pascal","Hansen","BGS Hardenberg-Pötter","H: Hansen,Pascal","H","BGS Hardenberg-Pötter e. V."]
[28083,28083,"Nicole","Hansen","MGC Bad Bodendorf","D: Hansen,Nicole","D","Miniaturgolfclub Bad Bodendorf e. V."]
[67093,67093,"Marc","Hansen","MGC Bad Bodendorf","SCHM: Hansen,Marc","SCHM","Miniaturgolfclub Bad Bodendorf e. V."]
[11,11,"Svend","Hansen","MGC Bad Oldesloe","SM1: Hansen,Svend","SM1","Miniaturgolfclub Bad Oldesloe von 1964 e. V."]
[52109,52109,"Sabine","Hansen","BGC Kiel West","SW2: Hansen,Sabine","SW2","Bahnen-Golf-Club Kiel-West e. V."]
[38421,38421,"Thomas","Hansper","VfM Berlin","SM1: Hansper,Thomas","SM1","Verein für Minigolf e. V. Berlin"]
[66157,66157,"Heike","Hansper","VfM Berlin","SW1: Hansper,Heike","SW1","Verein für Minigolf e. V. Berlin"]
[66853,66853,"Martin","Hänßgen","MGF Magdeburg 1995","H: Hänßgen,Martin","H","Minigolffreunde Magdeburg e. V."]
[22800,22800,"Jochen","Hänßler","1. MGC Tuttlingen","H: Hänßler,Jochen","H","Erster Minigolf - Club Tuttlingen e. V."]
[37141,37141,"Andreas","Hardt","VfM Berlin","H: Hardt,Andreas","H","Verein für Minigolf e. V. Berlin"]
[45059,45059,"Claudia","Hardt","VfM Berlin","D: Hardt,Claudia","D","Verein für Minigolf e. V. Berlin"]
[50257,50257,"Ute","Häring","SSV Ulm 1846 Abt. Bahnengolf","SW2: Häring,Ute","SW2","Schwimm- und Sportverein Ulm 1846 e. V. Abteilung Bahnengolf"]
[25381,25381,"Armin","Härle","MGC Oberkochen","SM2: Härle,Armin","SM2","Miniatur-Golfclub Oberkochen 1972 e. V."]
[36571,36571,"Mark","Harmening","1. MGC Mainz","H: Harmening,Mark","H","Erster Mainzer Minigolf-Club e. V. 1964"]
[19114,19114,"Herbert","Harms","MSC Bensheim-Auerbach","SM2: Harms,Herbert","SM2","Minigolf-Sport-Club Bensheim-Auerbach e. V."]
[67457,67457,"Else","Harnyss","BSG Pneumant Fürstenwalde, Abt. Minigolf","SW2: Harnyss,Else","SW2","BSG Pneumant Fürstenwalde e. V. Abteilung Minigolf"]
[33191,33191,"Stefan","Härtel","VfB Osnabrück","H: Härtel,Stefan","H","Verein für Bahnengolf Osnabrück von 1984 e. V."]
[4021,4021,"Gustav","Hartfuhs","BGC Illertissen","SM2: Hartfuhs,Gustav","SM2","Bahnengolfclub Illertissen e. V."]
[67013,67013,"Max","Hartkorn","1. CGC Blau-Gelb Grötzingen","JM: Hartkorn,Max","JM","COBI-GOLF-CLUB Blau-Gelb Grötzingen 1968 e. V."]
[67121,67121,"Tamara","Hartkorn","1. CGC Blau-Gelb Grötzingen","SW1: Hartkorn,Tamara","SW1","COBI-GOLF-CLUB Blau-Gelb Grötzingen 1968 e. V."]
[67120,67120,"Mario","Hartkorn-Götz","1. CGC Blau-Gelb Grötzingen","SM1: Hartkorn-Götz,Mario","SM1","COBI-GOLF-CLUB Blau-Gelb Grötzingen 1968 e. V."]
[49269,49269,"Matthias","Hartl","MSC Bad Godesberg","SM2: Hartl,Matthias","SM2","Minigolf-Sport-Club Bad Godesberg e. V."]
[3874,3874,"Wolfgang","Härtl","PTSV Hof, Abt. Minigolf","SM2: Härtl,Wolfgang","SM2","Post- und Telekom-Sportverein Hof e. V. Abteilung Minigolf "]
[44936,44936,"Ingo","Hartlein","BGC Bad Nenndorf","SM2: Hartlein,Ingo","SM2","Bahnen-Golf-Club Bad Nenndorf e. V."]
[49,49,"Rolf","Hartmaier","BIG ASPERG","SM1: Hartmaier,Rolf","SM1","Bahnengolf-Interessen-Gemeinschaft Asperg e. V. 1982"]
[33896,33896,"Jürgen","Hartmaier","BGC Heilbronn","SM2: Hartmaier,Jürgen","SM2","Bahnengolf Club Heilbronn e. V."]
[30051,30051,"Jörg","Hartmann","Tempelhofer MV Berlin","H: Hartmann,Jörg","H","Tempelhofer Miniaturgolf Verein von 1965 e. V."]
[36667,36667,"Maximilian","Hartmann","BGC Illertissen","H: Hartmann,Maximilian","H","Bahnengolfclub Illertissen e. V."]
[63738,63738,"Christian","Hartmann","MSG Kempten","H: Hartmann,Christian","H","Minigolf-Sport-Gemeinschaft Kempten e. V."]
[5033,5033,"Peter","Hartmann","1. CGC Blau-Gelb Grötzingen","SM2: Hartmann,Peter","SM2","COBI-GOLF-CLUB Blau-Gelb Grötzingen 1968 e. V."]
[26119,26119,"Rochus","Hartmann","BGC Bad Nenndorf","SM2: Hartmann,Rochus","SM2","Bahnen-Golf-Club Bad Nenndorf e. V."]
[67641,67641,"Andreas","Hartung","1. MGC Lohfelden 1997","H: Hartung,Andreas","H","1. Miniatur-Golfsport-Club Lohfelden e. V."]
[67788,67788,"Detlef","Hartz","BGSV Bad Homburg","SM2: Hartz,Detlef","SM2","Bahnengolf-Sportverein Bad Homburg v.d.H. e. V."]
[41738,41738,"Friedrich","Haschberger","1. BGC Landshut","SM2: Haschberger,Friedrich","SM2","1. Bahnengolf-Club Landshut e. V."]
[38534,38534,"Felix","Hasenberg","SGC Hagen","H: Hasenberg,Felix","H","Sterngolf-Club Hagen e. V."]
[29346,29346,"Christoph","Hasenberg","SGC Hagen","SM1: Hasenberg,Christoph","SM1","Sterngolf-Club Hagen e. V."]
[43147,43147,"Heike","Hasenberg","SGC Hagen","SW1: Hasenberg,Heike","SW1","Sterngolf-Club Hagen e. V."]
[37054,37054,"Dirk","Hasenclever","1. BGC Leipzig","SM2: Hasenclever,Dirk","SM2","1. Bahnen Golf Club Leipzig e. V."]
[35711,35711,"Johann","Hasenfuss","SC Bad Münder Abt. Bahnengolf","SM2: Hasenfuss,Johann","SM2","Sportclub Bad Münder e. V. Abteilung Bahnengolf"]
[{"$f":"VALUE(B1091)","v":66796},66796,"Christian","Haß","BGC Bildstock",{"$f":"CONCATENATE(G1091,\": \",D1091,\",\",C1091)","v":"H: Haß,Christian"},"H","Bahnen-Golf-Club Bildstock e. V."]
[43779,43779,"Lars","Hasse","1. MGC 1970 Göttingen","SM1: Hasse,Lars","SM1","1. Miniatur-Golfsport-Club 1970 Göttingen e. V."]
[34250,34250,"Rainer","Hasse","Preetzer TSV von 1861 Abt. Minigolf","SM2: Hasse,Rainer","SM2","Preetzer Turn- und Sportverein von 1861 e. V. Abteilung Minigolf"]
[34249,34249,"Monika","Hasse","Preetzer TSV von 1861 Abt. Minigolf","SW2: Hasse,Monika","SW2","Preetzer Turn- und Sportverein von 1861 e. V. Abteilung Minigolf"]
[41949,41949,"Agni","Hau","1. Essener CGC \"Blau-Gold\"","SW2: Hau,Agni","SW2","1. Essener cobiGOLF - Club \"Blau-Gold\" e. V."]
[10992,10992,"Franz","Haubner","1. NMC Kelheim","SM2: Haubner,Franz","SM2","1. Niederbayerischer Minigolf-Club Kelheim e. V."]
[1541,1541,"Uwe","Haubold","MGV Bremen","SM2: Haubold,Uwe","SM2","Miniatur-Golf-Verein Bremen e. V."]
[67673,67673,"Patricia","Haubrock","1. MGC Kassel 1964","D: Haubrock,Patricia","D","1. Mini-Golfsport-Club Kassel-Vellmar 1964 e. V."]
[67521,67521,"Felicitas","Haubrock","1. MGC Kassel 1964","JW: Haubrock,Felicitas","JW","1. Mini-Golfsport-Club Kassel-Vellmar 1964 e. V."]
[67620,67620,"Ute","Haubrock","1. MGC Kassel 1964","SW1: Haubrock,Ute","SW1","1. Mini-Golfsport-Club Kassel-Vellmar 1964 e. V."]
[67621,67621,"Willi","Haubrock","1. MGC Kassel 1964","SM2: Haubrock,Willi","SM2","1. Mini-Golfsport-Club Kassel-Vellmar 1964 e. V."]
[35810,35810,"Timm","Haucke","SC Bastion Rot Weiß Lippstadt","H: Haucke,Timm","H","SC Bastion Rot - Weiß Lippstadt 1964 e. V."]
[4204,4204,"Karlheinz","Haucke","SC Bastion Rot Weiß Lippstadt","SM2: Haucke,Karlheinz","SM2","SC Bastion Rot - Weiß Lippstadt 1964 e. V."]
[31350,31350,"Jörg","Hauer","BGC Heilbronn","SM1: Hauer,Jörg","SM1","Bahnengolf Club Heilbronn e. V."]
[37399,37399,"Maike","Haupt","MGC Dormagen-Brechten","D: Haupt,Maike","D","Minigolfclub Dormagen - Brechten e. V."]
[66998,66998,"Lukas","Haupt","MGF Magdeburg 1995","JM: Haupt,Lukas","JM","Minigolffreunde Magdeburg e. V."]
[37692,37692,"Michael","Haupter","1. MGC Metzingen","SM1: Haupter,Michael","SM1","1. Miniaturgolf Club Metzingen e. V."]
[34570,34570,"Karin","Hauschke","1. Minigolf-Club Rheinhausen","SW2: Hauschke,Karin","SW2","1. Minigolf-Club Rheinhausen e. V."]
[67383,67383,"Alois","Hauser","BSV 82 Ohlsbach","SM2: Hauser,Alois","SM2","Bahnengolfsportverein 82 Ohlsbach e. V."]
[35083,35083,"Hans","Häuserer","1. BGC Garmisch-Partenkirchen","SM2: Häuserer,Hans","SM2","1. Bahnengolfclub Garmisch-Partenkirchen e. V."]
[65456,65456,"Gerd","Hausmann","1. MGC Ludwigshafen","SM1: Hausmann,Gerd","SM1","1. Miniatur-Golf-Club Ludwigshafen 1964 e. V."]
[35145,35145,"Erich","Hauth","MGC Traben-Trarbach","SM2: Hauth,Erich","SM2","Minigolfclub Traben-Trarbach e. V."]
[67686,67686,"Thomas","Hayer","1. MGC Mainz","H: Hayer,Thomas","H","Erster Mainzer Minigolf-Club e. V. 1964"]
[37511,37511,"Christian","Hebbeln","Hamburger MC von 1965","H: Hebbeln,Christian","H","Hamburger Minigolf Club von 1965 e. V."]
[37853,37853,"Carina","Hebbeln","Hamburger MC von 1965","D: Hebbeln,Carina","D","Hamburger Minigolf Club von 1965 e. V."]
[32382,32382,"Stefan","Hecken","MC Tigers Künsebeck","H: Hecken,Stefan","H","Miniaturgolf Club Tigers Künsebeck e. V."]
[20081,20081,"Michael","Hecken","MC Neuwied","SM2: Hecken,Michael","SM2","Miniaturgolfclub Neuwied e. V."]
[66901,66901,"Sebastian","Heckmann","1. MGC Ladenburg","JM: Heckmann,Sebastian","JM","1. Miniaturgolf-Club Ladenburg e. V."]
[67726,67726,"Elvira","Heddergott","MGC Bergisch Gladbach Gierath","SW2: Heddergott,Elvira","SW2","Minigolf-Club Bergisch Gladbach Gierath e. V."]
[36956,36956,"Tobias","Heer","MGC Bad Homburg vdH","H: Heer,Tobias","H","Minigolf-Club Bad Homburg e. V."]
[36425,36425,"Ludwig","Heer","MGC Bad Homburg vdH","SM2: Heer,Ludwig","SM2","Minigolf-Club Bad Homburg e. V."]
[30816,30816,"Laila","Heerich","1. MGC Kassel 1964","SW1: Heerich,Laila","SW1","1. Mini-Golfsport-Club Kassel-Vellmar 1964 e. V."]
[21948,21948,"Ralph","Heerich","1. MGC Kassel 1964","SM2: Heerich,Ralph","SM2","1. Mini-Golfsport-Club Kassel-Vellmar 1964 e. V."]
[67587,67587,"Dominik","Heering","SSC Halver","H: Heering,Dominik","H","SSC Halver e. V."]
[67681,67681,"Tom","Heering","BSV 86 München","SCHM: Heering,Tom","SCHM","Bahnengolfsportverein 86 München e. V."]
[67728,67728,"Florin","Heering","BSV 86 München","SM1: Heering,Florin","SM1","Bahnengolfsportverein 86 München e. V."]
[51888,51888,"Hans-Joachim","Heese","MGC Freizeitzentrum Biebertal","SM2: Heese,Hans-Joachim","SM2","Miniatur-Golf-Club Freizeitzentrum Biebertal e. V."]
[26259,26259,"Karl-Heinz","Hefner","MGC Ostheim / Rhön","SM2: Hefner,Karl-Heinz","SM2","Miniaturgolfclub Ostheim/Rhön e. V. "]
[36131,36131,"Marcel","Heger","1. CGC Blau-Gelb Grötzingen","H: Heger,Marcel","H","COBI-GOLF-CLUB Blau-Gelb Grötzingen 1968 e. V."]
[65149,65149,"Thomas","Heger","MGC Heringen 1997","SM1: Heger,Thomas","SM1","Miniatur-Golf-Club Heringen e. V."]
[46457,46457,"Falk","Heidecke","MC \"Möve\" Cuxhaven-Sahlenburg","SM1: Heidecke,Falk","SM1","Miniaturgolf-Club \"Möve\" Cuxhaven-Sahlenburg e. V."]
[67562,67562,"Karl-Heinz","Heidemann","VfM Bottrop","SM2: Heidemann,Karl-Heinz","SM2","Verein für Minigolf Bottrop e. V."]
[67561,67561,"Margarete","Heidemann","VfM Bottrop","SW2: Heidemann,Margarete","SW2","Verein für Minigolf Bottrop e. V."]
[67598,67598,"Bernd","Heidrich","1. BGC Hannover","SM2: Heidrich,Bernd","SM2","1. Bahnen-Golf-Club Hannover e. V."]
[67599,67599,"Gabriele","Heidrich","1. BGC Hannover","SW2: Heidrich,Gabriele","SW2","1. Bahnen-Golf-Club Hannover e. V."]
[28904,28904,"Ursula","Heiliger","1. BGC Wolfsburg","SW2: Heiliger,Ursula","SW2","1. Bahnen - Golf - Club Wolfsburg e. V."]
[18150,18150,"Horst","Heilmann","BGSC Bochum 1978","SM2: Heilmann,Horst","SM2","Bahnengolf-Sportclub Bochum 1978 e. V."]
[23436,23436,"Dirk","Hein","Tempelhofer MV Berlin","H: Hein,Dirk","H","Tempelhofer Miniaturgolf Verein von 1965 e. V."]
[29808,29808,"Karsten","Hein","BGV Bergisch Land 1962 / 63","SM1: Hein,Karsten","SM1","Bahnengolf-Verein Bergisch Land 1962/63 e. V."]
[24422,24422,"Helga","Hein","1. NMC Kelheim","SW2: Hein,Helga","SW2","1. Niederbayerischer Minigolf-Club Kelheim e. V."]
[40930,40930,"Sebastian","Heine","MGC Dormagen-Brechten","H: Heine,Sebastian","H","Minigolfclub Dormagen - Brechten e. V."]
[1723,1723,"Peter","Heine","1. BGC Hannover","SM2: Heine,Peter","SM2","1. Bahnen-Golf-Club Hannover e. V."]
[33352,33352,"Andreas","Heinel","MSK Olching","H: Heinel,Andreas","H","Olchinger Minigolf Sport Klub e. V."]
[35309,35309,"Marina","Heinel","1. FMGC Lichtenfels 1961","D: Heinel,Marina","D","1. Fränkischer Minigolfclub Lichtenfels 1961 e. V."]
[66117,66117,"Justin","Heinisch","BGC Bad Nenndorf","H: Heinisch,Justin","H","Bahnen-Golf-Club Bad Nenndorf e. V."]
[35094,35094,"Stefanie","Heinisch","BGC Bad Nenndorf","D: Heinisch,Stefanie","D","Bahnen-Golf-Club Bad Nenndorf e. V."]
[66118,66118,"Vincent","Heinisch","BGC Bad Nenndorf","JM: Heinisch,Vincent","JM","Bahnen-Golf-Club Bad Nenndorf e. V."]
[41617,41617,"Marco","Heinisch","BGC Bad Nenndorf","SM1: Heinisch,Marco","SM1","Bahnen-Golf-Club Bad Nenndorf e. V."]
[31397,31397,"Hans-Werner","Heinisch","BGC Bad Nenndorf","SM2: Heinisch,Hans-Werner","SM2","Bahnen-Golf-Club Bad Nenndorf e. V."]
[67607,67607,"Herbert","Heinlein","MGV Ansbach","SM2: Heinlein,Herbert","SM2","MGV Ansbach e. V."]
[67606,67606,"Inge","Heinlein","MGV Ansbach","SW2: Heinlein,Inge","SW2","MGV Ansbach e. V."]
[31244,31244,"Sabrina","Heinrich","MSV Bad Kreuznach","D: Heinrich,Sabrina","D","MSV Bad Kreuznach e. V."]
[5129,5129,"Werner","Heinrich","1. MSC Wesel 6.6.1966","SM2: Heinrich,Werner","SM2","1. Minigolf-Sportclub Wesel 66 66 e. V. "]
[48909,48909,"Tobias","Heintze","1. Minigolf-Club Rheinhausen","SM1: Heintze,Tobias","SM1","1. Minigolf-Club Rheinhausen e. V."]
[{"$f":"VALUE(B1155)","v":65896},65896,"Klaus","Heinz","1. MGC Gelsenkirchen",{"$f":"CONCATENATE(G1155,\": \",D1155,\",\",C1155)","v":"SM2: Heinz,Klaus"},"SM2","1. Minigolf Club Gelsenkirchen e. V."]
[30057,30057,"Doris","Heinze","BSV AOK Leipzig","D: Heinze,Doris","D","BSV AOK Leipzig e. V."]
[37194,37194,"Ingmar","Heipel","SG Arheilgen Abt. Bahnengolf","H: Heipel,Ingmar","H","Sportgemeinschaft Arheilgen 1876/1945 e. V. Abteilung Bahnengolf"]
[50371,50371,"Stefanie","Heise","MGC Bad Salzuflen","SW1: Heise,Stefanie","SW1","Minigolf-Club Bad Salzuflen e. V."]
[44726,44726,"Thomas","Heisel","BGC Diepholz","H: Heisel,Thomas","H","Bahnen-Golf-Club Diepholz e. V."]
[44731,44731,"Regina","Heisel","BGC Diepholz","SW2: Heisel,Regina","SW2","Bahnen-Golf-Club Diepholz e. V."]
[36965,36965,"Dieter","Heisterklaus","MSK Neheim-Hüsten","SM2: Heisterklaus,Dieter","SM2","MINIGOLF-SPORT-KLUB Neheim-Hüsten e. V."]
[67053,67053,"Johann","Hejosch","BV Sennestadt","SM2: Hejosch,Johann","SM2","BV Sennestadt e. V."]
[66236,66236,"Barbara","Helfmann","MGC Bergisch Gladbach Gierath","SW2: Helfmann,Barbara","SW2","Minigolf-Club Bergisch Gladbach Gierath e. V."]
[49900,49900,"Sven","Helldörfer","1. NMC Kelheim","H: Helldörfer,Sven","H","1. Niederbayerischer Minigolf-Club Kelheim e. V."]
[30650,30650,"Oswald","Heller","BGC Bad Berneck","SM2: Heller,Oswald","SM2","Bahnengolf-Club e. V. Bad Berneck"]
[5340,5340,"Hans-Peter","Heller","BGSV Kerpen","SM2: Heller,Hans-Peter","SM2","Bahnen-Golf-Sport-Vereinigung Kerpen e. V."]
[46285,46285,"Gabriele","Heller","BGSV Kerpen","SW2: Heller,Gabriele","SW2","Bahnen-Golf-Sport-Vereinigung Kerpen e. V."]
[67022,67022,"Jacqueline","Hellmann","MGC Rot-Weiß Wanne-Eickel","D: Hellmann,Jacqueline","D","Minigolfclub Rot-Weiß Wanne-Eickel e. V."]
[46744,46744,"Elvira","Hellmich","VfM Bottrop","SW1: Hellmich,Elvira","SW1","Verein für Minigolf Bottrop e. V."]
[27801,27801,"Uwe","Hellmich","VfM Bottrop","SM2: Hellmich,Uwe","SM2","Verein für Minigolf Bottrop e. V."]
[32968,32968,"Martin","Hellwig","Cobigolf-Verein Hamm 2019","SM1: Hellwig,Martin","SM1","Cobigolf-Verein Hamm 2019 e. V."]
[44381,44381,"Markus","Hellwig","MGC Dormagen-Brechten","SM1: Hellwig,Markus","SM1","Minigolfclub Dormagen - Brechten e. V."]
[596,596,"Anja","Helmes","1. BGC Wesseling 1975","SW1: Helmes,Anja","SW1","1. Bahnen-Golf-Club Wesseling 1975 e. V. "]
[6117,6117,"Willi","Helmschmidt","MGC Ingolstadt","SM2: Helmschmidt,Willi","SM2"," Miniaturgolf-Club Ingolstadt e. V."]
[67551,67551,"René","Hemgesberg","BGS Hardenberg-Pötter","H: Hemgesberg,René","H","BGS Hardenberg-Pötter e. V."]
[66740,66740,"Andreas","Hemmelmann","MGC Wertheim 91","SM1: Hemmelmann,Andreas","SM1","Minigolfdub Wertheim ´91 e. V."]
[29993,29993,"Martin","Hemmerling","TSV Pfungstadt Abt. Bahnengolf","H: Hemmerling,Martin","H","TSV Pfungstadt e. V. Abteilung Bahnengolf"]
[67650,67650,"Stefan","Hempel","BIG Ingelfingen","H: Hempel,Stefan","H","Bahnengolf Interessen-Gemeinschaft Ingelfingen 2020 e. V."]
[67692,67692,"Tim","Hengsberg","MGC Bad Bodendorf","JM: Hengsberg,Tim","JM","Miniaturgolfclub Bad Bodendorf e. V."]
[34042,34042,"Ulli","Hengstberger","SSV Ulm 1846 Abt. Bahnengolf","H: Hengstberger,Ulli","H","Schwimm- und Sportverein Ulm 1846 e. V. Abteilung Bahnengolf"]
[22909,22909,"Ulrich","Hengstler","1. Bahnengolf-Club Singen","SM1: Hengstler,Ulrich","SM1","1. Bahnengolf-Club Singen e. V."]
[41231,41231,"Claudia","Hengstler","1. Bahnengolf-Club Singen","SW1: Hengstler,Claudia","SW1","1. Bahnengolf-Club Singen e. V."]
[34712,34712,"Björn","Henke","MGC Freizeitzentrum Biebertal","H: Henke,Björn","H","Miniatur-Golf-Club Freizeitzentrum Biebertal e. V."]
[67274,67274,"Eberhard","Henkel","BSG Pneumant Fürstenwalde, Abt. Minigolf","SM2: Henkel,Eberhard","SM2","BSG Pneumant Fürstenwalde e. V. Abteilung Minigolf"]
[34118,34118,"Klaus-Dieter","Henkel","MSV 05 Bad Münder / Springe","SM2: Henkel,Klaus-Dieter","SM2","Minigolf Sport-Verein Bad Münder/Springe von 2005 e. V."]
[2061,2061,"Helmut","Henkel","1. MGC Peine von 1965","SM2: Henkel,Helmut","SM2","1. Miniaturgolf-Club Peine von 1965 e. V."]
[50094,50094,"Holger","Hennies","1. BGC Hannover","SM1: Hennies,Holger","SM1","1. Bahnen-Golf-Club Hannover e. V."]
[66516,66516,"Simone","Hennig-Becker","TSV Pfungstadt Abt. Bahnengolf","D: Hennig-Becker,Simone","D","TSV Pfungstadt e. V. Abteilung Bahnengolf"]
[67645,67645,"Annika-Eske","Henning","Tempelhofer MV Berlin","SCHW: Henning,Annika-Eske","SCHW","Tempelhofer Miniaturgolf Verein von 1965 e. V."]
[36074,36074,"Petra","Henschke","VfM Berlin","SW2: Henschke,Petra","SW2","Verein für Minigolf e. V. Berlin"]
[29252,29252,"Danny","Hense","SG Arheilgen Abt. Bahnengolf","H: Hense,Danny","H","Sportgemeinschaft Arheilgen 1876/1945 e. V. Abteilung Bahnengolf"]
[62946,62946,"Josef","Hense","1. MGC Metzingen","SM2: Hense,Josef","SM2","1. Miniaturgolf Club Metzingen e. V."]
[62945,62945,"Ingrid","Hense","1. MGC Metzingen","SW2: Hense,Ingrid","SW2","1. Miniaturgolf Club Metzingen e. V."]
[37011,37011,"Tobias","Hensel","BSC Ennepetal","H: Hensel,Tobias","H","Bahngolf-Sport-Club Ennepetal e. V."]
[40199,40199,"Florian","Hensel","BSC Ennepetal","H: Hensel,Florian","H","Bahngolf-Sport-Club Ennepetal e. V."]
[66136,66136,"Julian","Hensel","BSC Ennepetal","H: Hensel,Julian","H","Bahngolf-Sport-Club Ennepetal e. V."]
[66533,66533,"Annika Sophia","Hensel","BSC Ennepetal","JW: Hensel,Annika Sophia","JW","Bahngolf-Sport-Club Ennepetal e. V."]
[46247,46247,"Peter","Hensel","BSC Ennepetal","SM1: Hensel,Peter","SM1","Bahngolf-Sport-Club Ennepetal e. V."]
[48052,48052,"Heike","Hensel","BSC Ennepetal","SW1: Hensel,Heike","SW1","Bahngolf-Sport-Club Ennepetal e. V."]
[65852,65852,"Rainer","Henseler","1. MGC Paderborn","SM2: Henseler,Rainer","SM2","1. Minigolf-Club Paderborn 1980 e. V."]
[40589,40589,"Steffen","Hentschel","VfM Berlin","SM1: Hentschel,Steffen","SM1","Verein für Minigolf e. V. Berlin"]
[26232,26232,"Andreas","Henze","1. MGC 1970 Göttingen","SM2: Henze,Andreas","SM2","1. Miniatur-Golfsport-Club 1970 Göttingen e. V."]
[3564,3564,"Karl","Herbich","MSK Olching","SM2: Herbich,Karl","SM2","Olchinger Minigolf Sport Klub e. V."]
[34669,34669,"Jan","Herbig","MC Ilvesheim","SM1: Herbig,Jan","SM1","Miniaturgolf-Club Ilvesheim e. V."]
[18029,18029,"Lothar","Herfurt","VfM Berlin","SM2: Herfurt,Lothar","SM2","Verein für Minigolf e. V. Berlin"]
[38653,38653,"Dirk","Hergesell","VfM Berlin","SM2: Hergesell,Dirk","SM2","Verein für Minigolf e. V. Berlin"]
[67590,67590,"Hans-Jürgen","Herhold","1. Minigolf-Club Rheinhausen","SM2: Herhold,Hans-Jürgen","SM2","1. Minigolf-Club Rheinhausen e. V."]
[67702,67702,"Eric","Herlitze","BGSC Bochum 1978","H: Herlitze,Eric","H","Bahnengolf-Sportclub Bochum 1978 e. V."]
[31267,31267,"Alexander","Hermann","1. MGC Mainz","H: Hermann,Alexander","H","Erster Mainzer Minigolf-Club e. V. 1964"]
[31268,31268,"Max","Hermann","1. MGC Mainz","H: Hermann,Max","H","Erster Mainzer Minigolf-Club e. V. 1964"]
[67319,67319,"David","Hermann","1. MGC Mainz","SCHM: Hermann,David","SCHM","Erster Mainzer Minigolf-Club e. V. 1964"]
[6621,6621,"Gerhard","Hermann","MGC Monrepos","SM2: Hermann,Gerhard","SM2","Minigolfclub Monrepos e. V."]
[29935,29935,"Marc","Herrmann","1. MGC 1970 Göttingen","SM1: Herrmann,Marc","SM1","1. Miniatur-Golfsport-Club 1970 Göttingen e. V."]
[28696,28696,"Otmar","Herrmann","MGC Traben-Trarbach","SM2: Herrmann,Otmar","SM2","Minigolfclub Traben-Trarbach e. V."]
[62403,62403,"Achim","Hertzberg","MGC Dortmund Syburg","SM2: Hertzberg,Achim","SM2","MGC Do-Syburg e.V."]
[6270,6270,"Doris","Hertzberg","MGC Dortmund Syburg","SW2: Hertzberg,Doris","SW2","MGC Do-Syburg e.V."]
[67127,67127,"Frank","Herwig","1. MGC 1970 Göttingen","SM1: Herwig,Frank","SM1","1. Miniatur-Golfsport-Club 1970 Göttingen e. V."]
[66935,66935,"Heidi","Herz","1. MSC Hamburg-Neu Wulmstorf","SW1: Herz,Heidi","SW1","1. Minigolf-Sport-Club Hamburg-Neu-Wulmstorf e. V."]
[{"$f":"VALUE(B1219)","v":31952},31952,"Sven","Herzberger","TG Höchberg von 1862 Bahnengolf",{"$f":"CONCATENATE(G1219,\": \",D1219,\",\",C1219)","v":"SM1: Herzberger,Sven"},"SM1","Turngemeinde Höchberg von 1862 Bahnengolf e. V."]
[38197,38197,"Frederik","Herzic","1. MGC Metzingen","H: Herzic,Frederik","H","1. Miniaturgolf Club Metzingen e. V."]
[50402,50402,"Hagen","Herzog","MGF Magdeburg 1995","SM1: Herzog,Hagen","SM1","Minigolffreunde Magdeburg e. V."]
[46823,46823,"Ralf","Herzog","TSV Pfungstadt Abt. Bahnengolf","SM1: Herzog,Ralf","SM1","TSV Pfungstadt e. V. Abteilung Bahnengolf"]
[67704,67704,"Luca","Hes","BGV Backumer Tal Herten","SCHM: Hes,Luca","SCHM","BGV Backumer Tal Herten e. V."]
[34103,34103,"Sigrid","Hesker","MGC Bergisch Gladbach Gierath","SW2: Hesker,Sigrid","SW2","Minigolf-Club Bergisch Gladbach Gierath e. V."]
[33843,33843,"Danny","Hess","1. MGC Mainz","H: Hess,Danny","H","Erster Mainzer Minigolf-Club e. V. 1964"]
[67488,67488,"Bernd","Hess","MGF Steinbruch Kempten","SM1: Hess,Bernd","SM1","Minigolf-Freunde Steinbruch Kempten e. V."]
[44929,44929,"Rainer","Hess","SG Arheilgen Abt. Bahnengolf","SM1: Hess,Rainer","SM1","Sportgemeinschaft Arheilgen 1876/1945 e. V. Abteilung Bahnengolf"]
[17936,17936,"Erich","Hess","SG Arheilgen Abt. Bahnengolf","SM2: Hess,Erich","SM2","Sportgemeinschaft Arheilgen 1876/1945 e. V. Abteilung Bahnengolf"]
[3600,3600,"Renate","Hess","SG Arheilgen Abt. Bahnengolf","SW2: Hess,Renate","SW2","Sportgemeinschaft Arheilgen 1876/1945 e. V. Abteilung Bahnengolf"]
[3863,3863,"Dietmar","Hesse","BGC Goslar","SM2: Hesse,Dietmar","SM2","Bahnen-Golf-Club Goslar e. V."]
[29405,29405,"Karin","Hesse","BGC Goslar","SW2: Hesse,Karin","SW2","Bahnen-Golf-Club Goslar e. V."]
[34749,34749,"Sandra","Hess-Struchen","SG Arheilgen Abt. Bahnengolf","SW1: Hess-Struchen,Sandra","SW1","Sportgemeinschaft Arheilgen 1876/1945 e. V. Abteilung Bahnengolf"]
[35237,35237,"Robin","Hettrich","MGC Dormagen-Brechten","H: Hettrich,Robin","H","Minigolfclub Dormagen - Brechten e. V."]
[35236,35236,"Willi","Hettrich","BGSV Castrop 1961","SM2: Hettrich,Willi","SM2","Bahnengolfsportverein Castrop e. V. 1961"]
[38602,38602,"Bernd","Heublein","1. FMGC Lichtenfels 1961","H: Heublein,Bernd","H","1. Fränkischer Minigolfclub Lichtenfels 1961 e. V."]
[19478,19478,"Andrea","Heublein","1. FMGC Lichtenfels 1961","SW1: Heublein,Andrea","SW1","1. Fränkischer Minigolfclub Lichtenfels 1961 e. V."]
[30655,30655,"Silvia","Heublein","1. MGC 1970 Göttingen","SW1: Heublein,Silvia","SW1","1. Miniatur-Golfsport-Club 1970 Göttingen e. V."]
[37959,37959,"Florian","Heuer","Preetzer TSV von 1861 Abt. Minigolf","H: Heuer,Florian","H","Preetzer Turn- und Sportverein von 1861 e. V. Abteilung Minigolf"]
[67422,67422,"Melanie","Heuger","PTSV Hof, Abt. Minigolf","D: Heuger,Melanie","D","Post- und Telekom-Sportverein Hof e. V. Abteilung Minigolf "]
[66345,66345,"Andreas","Heuser","MGC Bad Bodendorf","H: Heuser,Andreas","H","Miniaturgolfclub Bad Bodendorf e. V."]
[33530,33530,"Marcus","Hey","OMGC Ingolstadt","H: Hey,Marcus","H","Oberbayerische Minigolf-Club Ingolstadt e. V."]
[5326,5326,"Rudolf","Heydenreich","MGC Traben-Trarbach","SM2: Heydenreich,Rudolf","SM2","Minigolfclub Traben-Trarbach e. V."]
[49901,49901,"Christian","Heyder","BGC Bad Berneck","H: Heyder,Christian","H","Bahnengolf-Club e. V. Bad Berneck"]
[6367,6367,"Angelika","Heyder","MGC Murnau am Staffelsee","SW2: Heyder,Angelika","SW2","Minigolfclub Murnau am Staffelsee e. V."]
[40457,40457,"Torsten","Heydt","MGC Olympia Kiel","SM1: Heydt,Torsten","SM1","Miniaturgolfclub Olympia Kiel e. V."]
[44771,44771,"Lars","Heydt","MGC Olympia Kiel","SM1: Heydt,Lars","SM1","Miniaturgolfclub Olympia Kiel e. V."]
[37254,37254,"Hans Bernd","Heyer","MGC Bergisch Gladbach Gierath","SM1: Heyer,Hans Bernd","SM1","Minigolf-Club Bergisch Gladbach Gierath e. V."]
[20291,20291,"Peter","Heynen","1. BGC Celle von 1964","SM2: Heynen,Peter","SM2","1. Bahnen-Golf-Club Celle von 1964 e. V."]
[46250,46250,"Peter","Hickert","MSF Brilon","SM2: Hickert,Peter","SM2","Minigolfsportfreunde Brilon e. V."]
[67054,67054,"Ursula","Hiebsch","BV Sennestadt","SW2: Hiebsch,Ursula","SW2","BV Sennestadt e. V."]
[5839,5839,"Georg","Hilbert","1. MGC Epe 1978","SM2: Hilbert,Georg","SM2","1. Minigolfclub Epe 1978 e. V."]
[66659,66659,"Justin","Hildebrandt","BGS Hardenberg-Pötter","H: Hildebrandt,Justin","H","BGS Hardenberg-Pötter e. V."]
[38437,38437,"Andreas","Hildebrandt","SV Glückauf 1901 Gebhardshagen","SM1: Hildebrandt,Andreas","SM1","SV Glück Auf 1901 Gebhardshagen e. V. Abteilung Minigolf"]
[27536,27536,"Christian","Hilgenberg","1. MGC Kassel 1964","H: Hilgenberg,Christian","H","1. Mini-Golfsport-Club Kassel-Vellmar 1964 e. V."]
[5289,5289,"Ursula","Hillebrecht","1. MGC 1970 Göttingen","SW2: Hillebrecht,Ursula","SW2","1. Miniatur-Golfsport-Club 1970 Göttingen e. V."]
[50172,50172,"Reinhold","Hilß","1. MC Weinheim","SM2: Hilß,Reinhold","SM2","1. Miniaturgolf-Club Weinheim e. V."]
[45368,45368,"Klaus","Hiltner","MSG Kempten","SM1: Hiltner,Klaus","SM1","Minigolf-Sport-Gemeinschaft Kempten e. V."]
[67609,67609,"Tom","Hinkelmann","SSC Attendorn","SCHM: Hinkelmann,Tom","SCHM","Sterngolf-Sport-Club Attendorn e. V."]
[26579,26579,"Holger","Hinsel","MSF Brilon","SM2: Hinsel,Holger","SM2","Minigolfsportfreunde Brilon e. V."]
[66442,66442,"Raphael","Hintermeier","BGC Neutraubling","JM: Hintermeier,Raphael","JM","Bahnengolf-Club Neutraubling e. V."]
[49154,49154,"Paul","Hirle","MSC Blau-Weiß 2003 München","SM1: Hirle,Paul","SM1","Minigolf-Sport-Club blau-weiß 2003 e. V. München"]
[87512,87512,"Jonathan","Hirsch","Hamburger MC von 1965","JM: Hirsch,Jonathan","JM","Hamburger Minigolf Club von 1965 e. V."]
[87513,87513,"Theodor","Hirsch","Hamburger MC von 1965","JM: Hirsch,Theodor","JM","Hamburger Minigolf Club von 1965 e. V."]
[38170,38170,"Peter","Hisserich","MGC Bad Homburg vdH","SM1: Hisserich,Peter","SM1","Minigolf-Club Bad Homburg e. V."]
[37644,37644,"Rebecca","Hoch","MGC Dormagen-Brechten","D: Hoch,Rebecca","D","Minigolfclub Dormagen - Brechten e. V."]
[3127,3127,"Bruno","Hoch","BGSV Kerpen","SM2: Hoch,Bruno","SM2","Bahnen-Golf-Sport-Vereinigung Kerpen e. V."]
[25846,25846,"Raimund","Hoch","BGSV Kerpen","SM2: Hoch,Raimund","SM2","Bahnen-Golf-Sport-Vereinigung Kerpen e. V."]
[67336,67336,"Markus","Höcherl","MGC Murnau am Staffelsee","JM: Höcherl,Markus","JM","Minigolfclub Murnau am Staffelsee e. V."]
[49074,49074,"Michael","Hoefig","HMC Büttgen","SM1: Hoefig,Michael","SM1","Hobbysport Miniaturgolfclub Büttgen e. V."]
[49067,49067,"Hildegard","Hoefig","HMC Büttgen","SW2: Hoefig,Hildegard","SW2","Hobbysport Miniaturgolfclub Büttgen e. V."]
[27994,27994,"Heinz","Höferlin","BSV Inzlingen 1979","SM2: Höferlin,Heinz","SM2","Bahnengolf-Sportverein Inzlingen 1979 e. V."]
[40282,40282,"Jörg","Hoffmann","1. MGC Mainz","SM1: Hoffmann,Jörg","SM1","Erster Mainzer Minigolf-Club e. V. 1964"]
[42242,42242,"Carsten","Hoffmann","MSC Herscheid 1963","SM1: Hoffmann,Carsten","SM1","Minigolf-Sportclub Herscheid 1963 e. V."]
[5093,5093,"Helmut","Hoffmann","MSC Bad Godesberg","SM2: Hoffmann,Helmut","SM2","Minigolf-Sport-Club Bad Godesberg e. V."]
[40278,40278,"Joachim","Hoffmann","MGC Bergisch Gladbach Gierath","SM2: Hoffmann,Joachim","SM2","Minigolf-Club Bergisch Gladbach Gierath e. V."]
[60566,60566,"Helmut-Karl","Hoffmann","MGC Bergisch Gladbach Gierath","SM2: Hoffmann,Helmut-Karl","SM2","Minigolf-Club Bergisch Gladbach Gierath e. V."]
[36636,36636,"Thomas","Höfler","1. KC Homburg-Saar 1967","H: Höfler,Thomas","H","1. Kleingolf Club Homburg-Saar 1967 e. V."]
[30938,30938,"Michael","Hofmann","MC Ilvesheim","H: Hofmann,Michael","H","Miniaturgolf-Club Ilvesheim e. V."]
[66000,66000,"Yannick","Hofmann","ASV Pegnitz, Abt. Minigolf","H: Hofmann,Yannick","H","Allgemeiner Sportverein Pegnitz e. V. Abteilung Minigolf"]
[66001,66001,"Fabian","Hofmann","ASV Pegnitz, Abt. Minigolf","H: Hofmann,Fabian","H","Allgemeiner Sportverein Pegnitz e. V. Abteilung Minigolf"]
[35619,35619,"Benjamin","Hofmann","MGC Wetzlar","H: Hofmann,Benjamin","H","Miniatur-Golf-Club Wetzlar e. V."]
[67736,67736,"Evelyn","Hofmann","Niendorfer MC v. 1963","D: Hofmann,Evelyn","D","Niendorfer Miniaturgolf-Club von 1963 e. V."]
[{"$f":"VALUE(B1283)","v":67735},67735,"Lennard","Hofmann","Niendorfer MC v. 1963",{"$f":"CONCATENATE(G1283,\": \",D1283,\",\",C1283)","v":"SCHM: Hofmann,Lennard"},"SCHM","Niendorfer Miniaturgolf-Club von 1963 e. V."]
[66263,66263,"Klaus","Hofmann","ASV Pegnitz, Abt. Minigolf","SM1: Hofmann,Klaus","SM1","Allgemeiner Sportverein Pegnitz e. V. Abteilung Minigolf"]
[65213,65213,"Jean-Daniel","Hofstetter","MGF Waldshut 74","SM2: Hofstetter,Jean-Daniel","SM2","Minigolffreunde Waldshut 1974 e. V."]
[34294,34294,"Tamara","Hohenadler","MGC Bad Feilnbach","D: Hohenadler,Tamara","D","Minigolfclub Bad Feilnbach e. V."]
[65319,65319,"Annalena","Hohenadler","MGC Bad Feilnbach","JW: Hohenadler,Annalena","JW","Minigolfclub Bad Feilnbach e. V."]
[40858,40858,"Markus","Hohenadler","MGC Bad Feilnbach","SM1: Hohenadler,Markus","SM1","Minigolfclub Bad Feilnbach e. V."]
[66093,66093,"Christine","Hohmann","1. BGC Hannover","SW1: Hohmann,Christine","SW1","1. Bahnen-Golf-Club Hannover e. V."]
[4513,4513,"Edgard","Höhmann","1. MGC Kassel 1964","SM2: Höhmann,Edgard","SM2","1. Mini-Golfsport-Club Kassel-Vellmar 1964 e. V."]
[6522,6522,"Holger","Hohnke","MGC Olympia Kiel","SM2: Hohnke,Holger","SM2","Miniaturgolfclub Olympia Kiel e. V."]
[36460,36460,"Hans-Joachim","Höhnke","Tempelhofer MV Berlin","H: Höhnke,Hans-Joachim","H","Tempelhofer Miniaturgolf Verein von 1965 e. V."]
[66955,66955,"Carlotta","Höing","VfB Osnabrück","JW: Höing,Carlotta","JW","Verein für Bahnengolf Osnabrück von 1984 e. V."]
[66694,66694,"Georg","Hoiss","Minigolf-Club Diessen","SM1: Hoiss,Georg","SM1","Minigolf-Club Diessen e. V."]
[66922,66922,"Martina","Hoiss","Minigolf-Club Diessen","SW1: Hoiss,Martina","SW1","Minigolf-Club Diessen e. V."]
[38118,38118,"Claudia","Holderberg","BGSC Bochum 1978","SW1: Holderberg,Claudia","SW1","Bahnengolf-Sportclub Bochum 1978 e. V."]
[38119,38119,"Hans-Peter","Holderberg","BGSC Bochum 1978","SM2: Holderberg,Hans-Peter","SM2","Bahnengolf-Sportclub Bochum 1978 e. V."]
[67626,67626,"Luca","Hölldobler","MGV Ansbach","JM: Hölldobler,Luca","JM","MGV Ansbach e. V."]
[67165,67165,"Birte","Hollensteiner","BV Sennestadt","SW1: Hollensteiner,Birte","SW1","BV Sennestadt e. V."]
[66869,66869,"Dieter","Hollwedel","MGV Bremen","SM2: Hollwedel,Dieter","SM2","Miniatur-Golf-Verein Bremen e. V."]
[41042,41042,"Alfred","Höltgen","BGS Hardenberg-Pötter","SM2: Höltgen,Alfred","SM2","BGS Hardenberg-Pötter e. V."]
[22778,22778,"Gudrun","Höltgen","BGS Hardenberg-Pötter","SW2: Höltgen,Gudrun","SW2","BGS Hardenberg-Pötter e. V."]
[67827,67827,"Marcus","Holtmann","Cobigolf-Verein Hamm 2019","SM1: Holtmann,Marcus","SM1","Cobigolf-Verein Hamm 2019 e. V."]
[37720,37720,"Frederik","Holtz","1. Minigolf-Club Rheinhausen","H: Holtz,Frederik","H","1. Minigolf-Club Rheinhausen e. V."]
[42793,42793,"Edgar","Holtz","1. Minigolf-Club Rheinhausen","SM1: Holtz,Edgar","SM1","1. Minigolf-Club Rheinhausen e. V."]
[38028,38028,"Peter","Holtz","1. Minigolf-Club Rheinhausen","SM2: Holtz,Peter","SM2","1. Minigolf-Club Rheinhausen e. V."]
[67584,67584,"Ursula","Holtzmann","1. MGC Köln 1961","SW2: Holtzmann,Ursula","SW2","1. Minigolf-Club Köln 1961 e. V."]
[67439,67439,"Ulrich","Holz","PTSV Hof, Abt. Minigolf","SM2: Holz,Ulrich","SM2","Post- und Telekom-Sportverein Hof e. V. Abteilung Minigolf "]
[66732,66732,"Sascha","Holzenthal","1. MGC Mainz","H: Holzenthal,Sascha","H","Erster Mainzer Minigolf-Club e. V. 1964"]
[5746,5746,"Lothar","Homey","1. Essener CGC \"Blau-Gold\"","SM2: Homey,Lothar","SM2","1. Essener cobiGOLF - Club \"Blau-Gold\" e. V."]
[67033,67033,"Wolfgang","Hommel","MGC Olympia Kiel","SM2: Hommel,Wolfgang","SM2","Miniaturgolfclub Olympia Kiel e. V."]
[37494,37494,"Frank","Honerkamp","Bochumer Minigolf-Club 1960","SM1: Honerkamp,Frank","SM1","Bochumer Minigolf-Club 1960 e. V."]
[63691,63691,"Ronny","Hönicke","MGC \"Stahlquelle\" Bad Bocklet","H: Hönicke,Ronny","H","Miniatur-Golf-Club \"Stahlquelle\", Bad Bocklet 1989 e. V."]
[63702,63702,"Marcel","Hönicke","MGC \"Stahlquelle\" Bad Bocklet","H: Hönicke,Marcel","H","Miniatur-Golf-Club \"Stahlquelle\", Bad Bocklet 1989 e. V."]
[66357,66357,"Marco","Hönicke","MGC \"Stahlquelle\" Bad Bocklet","SM1: Hönicke,Marco","SM1","Miniatur-Golf-Club \"Stahlquelle\", Bad Bocklet 1989 e. V."]
[49860,49860,"Ludger","Honnacker","MGC Felderbachtal 1964","SM2: Honnacker,Ludger","SM2","Minigolf-Club-Felderbachtal 1964 e. V."]
[23187,23187,"Peter","Honnef","1. MGC Ludwigshafen","SM2: Honnef,Peter","SM2","1. Miniatur-Golf-Club Ludwigshafen 1964 e. V."]
[36467,36467,"Karl Heinz","Hönscheid","1. BGC Wesseling 1975","SM2: Hönscheid,Karl Heinz","SM2","1. Bahnen-Golf-Club Wesseling 1975 e. V. "]
[66979,66979,"Luca","Hoock","1. MGC Ludwigshafen","JM: Hoock,Luca","JM","1. Miniatur-Golf-Club Ludwigshafen 1964 e. V."]
[30377,30377,"Björn","Hoogen","VfB Osnabrück","H: Hoogen,Björn","H","Verein für Bahnengolf Osnabrück von 1984 e. V."]
[48944,48944,"Ingo","Hoogen","VfB Osnabrück","H: Hoogen,Ingo","H","Verein für Bahnengolf Osnabrück von 1984 e. V."]
[66793,66793,"Lena","Hoogen","VfB Osnabrück","JW: Hoogen,Lena","JW","Verein für Bahnengolf Osnabrück von 1984 e. V."]
[67430,67430,"Hendrik","Hoogen","VfB Osnabrück","SCHM: Hoogen,Hendrik","SCHM","Verein für Bahnengolf Osnabrück von 1984 e. V."]
[40538,40538,"Wilfried","Hoose","BGS Hardenberg-Pötter","SM2: Hoose,Wilfried","SM2","BGS Hardenberg-Pötter e. V."]
[30608,30608,"Bernhard","Höötmann","1. BGC Hannover","SM1: Höötmann,Bernhard","SM1","1. Bahnen-Golf-Club Hannover e. V."]
[35130,35130,"Carsten","Höpfner","BGC Northeim","SM1: Höpfner,Carsten","SM1","Bahnen-Golf-Club Northeim e. V."]
[46612,46612,"Peter","Höpner","BGS Hardenberg-Pötter","SM2: Höpner,Peter","SM2","BGS Hardenberg-Pötter e. V."]
[37752,37752,"Mike","Hoppe","MGF Magdeburg 1995","SM1: Hoppe,Mike","SM1","Minigolffreunde Magdeburg e. V."]
[67299,67299,"Daniel","Hoppe","Cobigolf-Verein Hamm 2019","SM1: Hoppe,Daniel","SM1","Cobigolf-Verein Hamm 2019 e. V."]
[37753,37753,"Manfred","Hoppe","MGF Magdeburg 1995","SM2: Hoppe,Manfred","SM2","Minigolffreunde Magdeburg e. V."]
[42335,42335,"Alexander","Horbas","MGC Ingolstadt","SM2: Horbas,Alexander","SM2"," Miniaturgolf-Club Ingolstadt e. V."]
[67186,67186,"Benedikt","Hörburger","MSG Kempten","JM: Hörburger,Benedikt","JM","Minigolf-Sport-Gemeinschaft Kempten e. V."]
[38145,38145,"Claudia","Horeis","MGC Bergisch Gladbach Gierath","SW1: Horeis,Claudia","SW1","Minigolf-Club Bergisch Gladbach Gierath e. V."]
[38146,38146,"Kai","Horeis","MGC Bergisch Gladbach Gierath","SM2: Horeis,Kai","SM2","Minigolf-Club Bergisch Gladbach Gierath e. V."]
[27888,27888,"Armin","Hörl","MGF Hammer","H: Hörl,Armin","H","Minigolffreunde Hammer e. V."]
[50002,50002,"Dennis","Horn","BGC Diepholz","SM2: Horn,Dennis","SM2","Bahnen-Golf-Club Diepholz e. V."]
[45305,45305,"Frank","Hornberger","SV Lurup Abt. Bahnengolf","SM1: Hornberger,Frank","SM1","Sportverein Lurup-Hamburg von 1923 e. V. Abteilung Bahnengolf"]
[33961,33961,"Gerhard","Horsinka","MC Flora Elmshorn","SM2: Horsinka,Gerhard","SM2","Minigolf-Club Flora Elmshorn e. V."]
[38121,38121,"Valentin","Horst","SG Arheilgen Abt. Bahnengolf","H: Horst,Valentin","H","Sportgemeinschaft Arheilgen 1876/1945 e. V. Abteilung Bahnengolf"]
[67697,67697,"Benedikt","Hößl","1. Münchener MGC","JM: Hößl,Benedikt","JM","1. Münchener Minigolf-Club 1962 e. V."]
[67088,67088,"Matthis","Hötzel","BGSV Castrop 1961","H: Hötzel,Matthis","H","Bahnengolfsportverein Castrop e. V. 1961"]
[24610,24610,"Kai","Hövel","VfM Bottrop","H: Hövel,Kai","H","Verein für Minigolf Bottrop e. V."]
[38389,38389,"Eric","Huber","BGSV Bad Homburg","H: Huber,Eric","H","Bahnengolf-Sportverein Bad Homburg v.d.H. e. V."]
[38355,38355,"Ronny","Huber","BGC Heilbronn","H: Huber,Ronny","H","Bahnengolf Club Heilbronn e. V."]
[47050,47050,"Klaus","Huber","MGC Wolnzach","SM1: Huber,Klaus","SM1","Miniaturgolf-Club Wolnzach e. V."]
[48107,48107,"Karl-Heinz","Huber","1. BGC Landshut","SM2: Huber,Karl-Heinz","SM2","1. Bahnengolf-Club Landshut e. V."]
[{"$f":"VALUE(B1347)","v":66882},66882,"Kevin","Hubrecht","MC Flora Elmshorn",{"$f":"CONCATENATE(G1347,\": \",D1347,\",\",C1347)","v":"JM: Hubrecht,Kevin"},"JM","Minigolf-Club Flora Elmshorn e. V."]
[32871,32871,"Peter","Hubrecht","MC Flora Elmshorn","SM1: Hubrecht,Peter","SM1","Minigolf-Club Flora Elmshorn e. V."]
[67248,67248,"Luca","Hudert","BGSV Bad Homburg","H: Hudert,Luca","H","Bahnengolf-Sportverein Bad Homburg v.d.H. e. V."]
[33867,33867,"Karl-Heinz","Hufnagl","MGC Ingolstadt","SM2: Hufnagl,Karl-Heinz","SM2"," Miniaturgolf-Club Ingolstadt e. V."]
[7524,7524,"Klaus","Hufschmidt","BGSC \"Gut Schlag\" Gladbeck","SM2: Hufschmidt,Klaus","SM2","Bahnengolfsportclub \"Gut Schlag\" Gladbeck e. V."]
[30013,30013,"Michael","Huhn","BGC Heilbronn","H: Huhn,Michael","H","Bahnengolf Club Heilbronn e. V."]
[6300,6300,"Klaus","Huhn","BGC Heilbronn","SM2: Huhn,Klaus","SM2","Bahnengolf Club Heilbronn e. V."]
[47019,47019,"Martina","Huhn","BGC Bad Mergentheim","SW2: Huhn,Martina","SW2","Bahnen-Golf-Club Bad Mergentheim e. V."]
[49297,49297,"Wolfgang","Hühne","1. MGC Kassel 1964","SM2: Hühne,Wolfgang","SM2","1. Mini-Golfsport-Club Kassel-Vellmar 1964 e. V."]
[67802,67802,"Ben","Humann","BGSC \"Gut Schlag\" Gladbeck","SCHM: Humann,Ben","SCHM","Bahnengolfsportclub \"Gut Schlag\" Gladbeck e. V."]
[67844,67844,"Claudia","Humann","BGSC \"Gut Schlag\" Gladbeck","SW1: Humann,Claudia","SW1","Bahnengolfsportclub \"Gut Schlag\" Gladbeck e. V."]
[32803,32803,"Marcell","Humbek","MGC \"Stahlquelle\" Bad Bocklet","H: Humbek,Marcell","H","Miniatur-Golf-Club \"Stahlquelle\", Bad Bocklet 1989 e. V."]
[36485,36485,"Sascha-Nico","Humbek","MGC \"Stahlquelle\" Bad Bocklet","H: Humbek,Sascha-Nico","H","Miniatur-Golf-Club \"Stahlquelle\", Bad Bocklet 1989 e. V."]
[63553,63553,"Jeanette","Humbek-Hönicke","MGC \"Stahlquelle\" Bad Bocklet","D: Humbek-Hönicke,Jeanette","D","Miniatur-Golf-Club \"Stahlquelle\", Bad Bocklet 1989 e. V."]
[67010,67010,"Dieter","Hundt","SSC Attendorn","SM2: Hundt,Dieter","SM2","Sterngolf-Sport-Club Attendorn e. V."]
[44723,44723,"Karl-Heinz","Hunte","BGC Diepholz","SM1: Hunte,Karl-Heinz","SM1","Bahnen-Golf-Club Diepholz e. V."]
[40603,40603,"Stefanie","Hunte","BGC Diepholz","SW1: Hunte,Stefanie","SW1","Bahnen-Golf-Club Diepholz e. V."]
[5258,5258,"Josef","Hupfloher","1. Münchener MGC","SM2: Hupfloher,Josef","SM2","1. Münchener Minigolf-Club 1962 e. V."]
[65120,65120,"Norbert","Hupka","MGC Bad Homburg vdH","SM2: Hupka,Norbert","SM2","Minigolf-Club Bad Homburg e. V."]
[27615,27615,"Martin","Hüppen","Bochumer Minigolf-Club 1960","SM1: Hüppen,Martin","SM1","Bochumer Minigolf-Club 1960 e. V."]
[46235,46235,"Ulrich","Hürter","MSC Bad Godesberg","SM1: Hürter,Ulrich","SM1","Minigolf-Sport-Club Bad Godesberg e. V."]
[66173,66173,"Fred","Huse","Elbhavelland, Abt. Minigolfsport","SM2: Huse,Fred","SM2","Elbhavelland e. V. Abteilung Minigolfsport"]
[35406,35406,"Marcel","Hüsges","MC \"Möve\" Cuxhaven-Sahlenburg","H: Hüsges,Marcel","H","Miniaturgolf-Club \"Möve\" Cuxhaven-Sahlenburg e. V."]
[67058,67058,"Ralf","Hüther","MGC Heringen 1997","SM1: Hüther,Ralf","SM1","Miniatur-Golf-Club Heringen e. V."]
[40165,40165,"Marcel","Hütter","1. Duisburger Minigolf Club 1962","H: Hütter,Marcel","H","1. Duisburger Minigolf Club 1962 e. V."]
[38569,38569,"Natascha","Hütter","1. Duisburger Minigolf Club 1962","D: Hütter,Natascha","D","1. Duisburger Minigolf Club 1962 e. V."]
[4182,4182,"Anneliese","Hutzler","1. NMC Kelheim","SW2: Hutzler,Anneliese","SW2","1. Niederbayerischer Minigolf-Club Kelheim e. V."]
[38269,38269,"Marcus","Hylak","MSC Bad Godesberg","SM1: Hylak,Marcus","SM1","Minigolf-Sport-Club Bad Godesberg e. V."]
[26659,26659,"Reinhild","Hylak","MSC Bad Godesberg","SW2: Hylak,Reinhild","SW2","Minigolf-Sport-Club Bad Godesberg e. V."]
[35568,35568,"Marina","Iffland","MGC Rot-Weiß Wanne-Eickel","D: Iffland,Marina","D","Minigolfclub Rot-Weiß Wanne-Eickel e. V."]
[35239,35239,"Peter","Iffland","MGC Rot-Weiß Wanne-Eickel","SM2: Iffland,Peter","SM2","Minigolfclub Rot-Weiß Wanne-Eickel e. V."]
[67725,67725,"Martin ","Ihm","MGC Bergisch Gladbach Gierath","SM2: Ihm,Martin ","SM2","Minigolf-Club Bergisch Gladbach Gierath e. V."]
[48686,48686,"Thomas","Ill","MGC Ravensburg-Weingarten","SM1: Ill,Thomas","SM1","MGC Ravensburg-Weingarten e. V."]
[26834,26834,"Alfred","Inck","MGC Bergisch Gladbach Gierath","SM2: Inck,Alfred","SM2","Minigolf-Club Bergisch Gladbach Gierath e. V."]
[44954,44954,"Alwine","Inck","MGC Bergisch Gladbach Gierath","SW2: Inck,Alwine","SW2","Minigolf-Club Bergisch Gladbach Gierath e. V."]
[67771,67771,"Dominik","Ingenpass","MC Georgsmarienhütte","H: Ingenpass,Dominik","H","Minigolf-Club Georgsmarienhütte e. V."]
[27702,27702,"Bruno","Ingenston","1. Berliner Miniaturgolf-Sportclub 1960","SM2: Ingenston,Bruno","SM2","1. Berliner Miniaturgolf-Sportclub e. V. 1960"]
[61325,61325,"Rose-Marie","Ipach","MGC Brunsbüttel","SW2: Ipach,Rose-Marie","SW2","Miniaturgolf-Club Brunsbüttel e. V."]
[87517,87517,"Heinz","Isbaner","BGC Oberhausen","SM2: Isbaner,Heinz","SM2","Bahnengolf-Club Oberhausen e. V."]
[40541,40541,"Oliver","Isenbiel","MSC Bensheim-Auerbach","SM1: Isenbiel,Oliver","SM1","Minigolf-Sport-Club Bensheim-Auerbach e. V."]
[33586,33586,"Marion","Isop","VfL Lohbrügge Abt. Bahnengolf","SW1: Isop,Marion","SW1","Verein für Leibesübungen Lohbrügge von 1892 e. V. Abteilung Bahnengolf"]
[63326,63326,"Werner","Isselmann","1. MSC Wesel 6.6.1966","SM2: Isselmann,Werner","SM2","1. Minigolf-Sportclub Wesel 66 66 e. V. "]
[46453,46453,"Marcus","Itjen","MC \"Möve\" Cuxhaven-Sahlenburg","SM1: Itjen,Marcus","SM1","Miniaturgolf-Club \"Möve\" Cuxhaven-Sahlenburg e. V."]
[66797,66797,"Patrick","Itter","BGC Neutraubling","H: Itter,Patrick","H","Bahnengolf-Club Neutraubling e. V."]
[30373,30373,"Holger","Ittner","MSK Neheim-Hüsten","SM1: Ittner,Holger","SM1","MINIGOLF-SPORT-KLUB Neheim-Hüsten e. V."]
[66406,66406,"Peter","Izelle","BSC Ennepetal","SM2: Izelle,Peter","SM2","Bahngolf-Sport-Club Ennepetal e. V."]
[43158,43158,"Ingo","Jablonowski","BGSC Bochum 1978","SM1: Jablonowski,Ingo","SM1","Bahnengolf-Sportclub Bochum 1978 e. V."]
[46049,46049,"Jesko","Jachens","MGC Olympia Kiel","SM1: Jachens,Jesko","SM1","Miniaturgolfclub Olympia Kiel e. V."]
[18069,18069,"Franz","Jachert","1. MGC Süßen","SM2: Jachert,Franz","SM2","1. Miniaturgolfclub Süßen e. V."]
[33011,33011,"Christopher","Jäck","1. Bahnengolf-Club Singen","H: Jäck,Christopher","H","1. Bahnengolf-Club Singen e. V."]
[34687,34687,"Wolfram","Jäck","MGF Hilzingen 80","SM2: Jäck,Wolfram","SM2","Minigolffreunde Hilzingen 80 e. V."]
[66462,66462,"Joelina","Jacobi","MGC Bad Salzuflen","JW: Jacobi,Joelina","JW","Minigolf-Club Bad Salzuflen e. V."]
[47260,47260,"Frank","Jacobi","MGC Bad Salzuflen","SM1: Jacobi,Frank","SM1","Minigolf-Club Bad Salzuflen e. V."]
[35705,35705,"Sabine","Jacobi","MGC Bad Salzuflen","SW1: Jacobi,Sabine","SW1","Minigolf-Club Bad Salzuflen e. V."]
[35317,35317,"Marco","Jacobs","TSV Arendsee","H: Jacobs,Marco","H","Turn- und Sportverein Arendsee e. V. Abteilung Minigolf"]
[1742,1742,"Ralf","Jacobs","TSV Arendsee","SM1: Jacobs,Ralf","SM1","Turn- und Sportverein Arendsee e. V. Abteilung Minigolf"]
[35316,35316,"Jörg","Jacobs","TSV Arendsee","SM1: Jacobs,Jörg","SM1","Turn- und Sportverein Arendsee e. V. Abteilung Minigolf"]
[6372,6372,"Peter","Jäger","1. BGC Landshut","SM2: Jäger,Peter","SM2","1. Bahnengolf-Club Landshut e. V."]
[40980,40980,"Michael","Jäger","BGSV Bad Homburg","SM2: Jäger,Michael","SM2","Bahnengolf-Sportverein Bad Homburg v.d.H. e. V."]
[38313,38313,"Gisela","Jäger","MGC Dortmund Syburg","SW2: Jäger,Gisela","SW2","MGC Do-Syburg e.V."]
[42951,42951,"Achim","Jahr","MGC Oberkochen","SM1: Jahr,Achim","SM1","Miniatur-Golfclub Oberkochen 1972 e. V."]
[24925,24925,"Konrad","Jahr","1. MGC 1970 Göttingen","SM2: Jahr,Konrad","SM2","1. Miniatur-Golfsport-Club 1970 Göttingen e. V."]
[44499,44499,"Uta","Jahrmärker","1. BGC Celle von 1964","SW2: Jahrmärker,Uta","SW2","1. Bahnen-Golf-Club Celle von 1964 e. V."]
[45789,45789,"Christian","Jäink","MSK Neheim-Hüsten","SM1: Jäink,Christian","SM1","MINIGOLF-SPORT-KLUB Neheim-Hüsten e. V."]
[{"$f":"VALUE(B1411)","v":66863},66863,"Andre","Jaiser","SSV Ulm 1846 Abt. Bahnengolf",{"$f":"CONCATENATE(G1411,\": \",D1411,\",\",C1411)","v":"H: Jaiser,Andre"},"H","Schwimm- und Sportverein Ulm 1846 e. V. Abteilung Bahnengolf"]
[66485,66485,"Rudi","Jakab","1. BGC Bad Füssing","SM2: Jakab,Rudi","SM2","1. Bahnengolfclub Bad Füssing e. V."]
[41217,41217,"Franz","Jakob","MGC Ingolstadt","SM2: Jakob,Franz","SM2"," Miniaturgolf-Club Ingolstadt e. V."]
[66119,66119,"Norbert","Jakob","BGSV Bad Homburg","SM2: Jakob,Norbert","SM2","Bahnengolf-Sportverein Bad Homburg v.d.H. e. V."]
[67141,67141,"Jens","Jakobs","MGC Traben-Trarbach","H: Jakobs,Jens","H","Minigolfclub Traben-Trarbach e. V."]
[33405,33405,"Timo","Jakoby","MGC Traben-Trarbach","H: Jakoby,Timo","H","Minigolfclub Traben-Trarbach e. V."]
[66652,66652,"Rene","Jakubeit","VfL Lüneburg Abt. Bahnengolf","SM1: Jakubeit,Rene","SM1","Verein für Leibesübungen Lüneburg e. V. Abteilung Bahnengolf"]
[67208,67208,"Janine","Jander","MGC Marl 1960","D: Jander,Janine","D","Mini Golf Club Marl 1960 e. V."]
[67556,67556,"Karolína","Jandová","BGC Neutraubling","D: Jandová,Karolína","D","Bahnengolf-Club Neutraubling e. V."]
[29585,29585,"André","Jänicke","MGC Dormagen-Brechten","SM1: Jänicke,André","SM1","Minigolfclub Dormagen - Brechten e. V."]
[37822,37822,"Andreas","Jansen","MGC Bergisch Gladbach Gierath","H: Jansen,Andreas","H","Minigolf-Club Bergisch Gladbach Gierath e. V."]
[36046,36046,"Thomas","Jansen","MGC Ingolstadt","SM2: Jansen,Thomas","SM2"," Miniaturgolf-Club Ingolstadt e. V."]
[24340,24340,"Jörg","Jansen","VfM Bottrop","SM2: Jansen,Jörg","SM2","Verein für Minigolf Bottrop e. V."]
[31015,31015,"Markus","Janßen","1. MGC Mainz","SM1: Janßen,Markus","SM1","Erster Mainzer Minigolf-Club e. V. 1964"]
[66147,66147,"Petra","Janßen","SV Lurup Abt. Bahnengolf","SW2: Janßen,Petra","SW2","Sportverein Lurup-Hamburg von 1923 e. V. Abteilung Bahnengolf"]
[67236,67236,"Sven","Janz","1. CGC Blau-Gelb Grötzingen","H: Janz,Sven","H","COBI-GOLF-CLUB Blau-Gelb Grötzingen 1968 e. V."]
[29771,29771,"Klaus","Jarosch","VfM Bottrop","SM1: Jarosch,Klaus","SM1","Verein für Minigolf Bottrop e. V."]
[34756,34756,"Monika","Jarzembowski","MGC Olympia Kiel","SW2: Jarzembowski,Monika","SW2","Miniaturgolfclub Olympia Kiel e. V."]
[37433,37433,"Alexander","Jasper","MGC Dormagen-Brechten","SM1: Jasper,Alexander","SM1","Minigolfclub Dormagen - Brechten e. V."]
[66179,66179,"Jens","Jatho","1. BGC Hannover","H: Jatho,Jens","H","1. Bahnen-Golf-Club Hannover e. V."]
[66845,66845,"Michael","Jauernek","MGC Monrepos","SM1: Jauernek,Michael","SM1","Minigolfclub Monrepos e. V."]
[66825,66825,"Martin","Jecny","BGS Hardenberg-Pötter","H: Jecny,Martin","H","BGS Hardenberg-Pötter e. V."]
[50226,50226,"Frank","Jende","MSC Bensheim-Auerbach","SM1: Jende,Frank","SM1","Minigolf-Sport-Club Bensheim-Auerbach e. V."]
[67772,67772,"Antje","Jende","MSC Bensheim-Auerbach","SW1: Jende,Antje","SW1","Minigolf-Sport-Club Bensheim-Auerbach e. V."]
[46846,46846,"André","Jensen","MGC Olympia Kiel","SM1: Jensen,André","SM1","Miniaturgolfclub Olympia Kiel e. V."]
[33394,33394,"Bernd","Jentschke","MGC Unterschneidheim","SM1: Jentschke,Bernd","SM1","Minigolfclub Unterschneidheim e. V."]
[34568,34568,"Sebastian","Jeschke","MSC Bad Godesberg","H: Jeschke,Sebastian","H","Minigolf-Sport-Club Bad Godesberg e. V."]
[36293,36293,"Anna","Jeske","SV Lurup Abt. Bahnengolf","D: Jeske,Anna","D","Sportverein Lurup-Hamburg von 1923 e. V. Abteilung Bahnengolf"]
[61958,61958,"Marie-Luise","Jezierski","MGC \"AS\" Witten 1963","SW2: Jezierski,Marie-Luise","SW2","Minigolfclub \"AS\" Witten 1963 e. V."]
[26456,26456,"Erwin","Joachimsthaler","BGC Schweinfurt","SM2: Joachimsthaler,Erwin","SM2","Bahnengolfclub Schweinfurt e. V."]
[67682,67682,"Páris","Joao","MGC Ingolstadt","SM1: Joao,Páris","SM1"," Miniaturgolf-Club Ingolstadt e. V."]
[67792,67792,"Niklas","Joch","BGSV Bad Homburg","H: Joch,Niklas","H","Bahnengolf-Sportverein Bad Homburg v.d.H. e. V."]
[67793,67793,"Peter","Joch","BGSV Bad Homburg","SM1: Joch,Peter","SM1","Bahnengolf-Sportverein Bad Homburg v.d.H. e. V."]
[46843,46843,"Niels","Johannsen","MGC Bad Oldesloe","SM1: Johannsen,Niels","SM1","Miniaturgolfclub Bad Oldesloe von 1964 e. V."]
[40896,40896,"Manfred","Jöhrens","1. BGC Hannover","SM2: Jöhrens,Manfred","SM2","1. Bahnen-Golf-Club Hannover e. V."]
[28802,28802,"Melanie","Jooß","BGC Illertissen","SW1: Jooß,Melanie","SW1","Bahnengolfclub Illertissen e. V."]
[28793,28793,"Thomas","Jooß","BGC Illertissen","SM2: Jooß,Thomas","SM2","Bahnengolfclub Illertissen e. V."]
[67200,67200,"Oliver","Jordan","BGSV Bad Homburg","SM1: Jordan,Oliver","SM1","Bahnengolf-Sportverein Bad Homburg v.d.H. e. V."]
[40687,40687,"Nikolai","Juchem","1. MGC Mainz","SM1: Juchem,Nikolai","SM1","Erster Mainzer Minigolf-Club e. V. 1964"]
[37937,37937,"Marco","Jung","MGC Murnau am Staffelsee","H: Jung,Marco","H","Minigolfclub Murnau am Staffelsee e. V."]
[30969,30969,"Claudia","Jung","MGC Murnau am Staffelsee","D: Jung,Claudia","D","Minigolfclub Murnau am Staffelsee e. V."]
[66017,66017,"Johanna","Jung","1. KC Homburg-Saar 1967","D: Jung,Johanna","D","1. Kleingolf Club Homburg-Saar 1967 e. V."]
[40003,40003,"Markus","Jung","BGV Bergisch Land 1962 / 63","SM1: Jung,Markus","SM1","Bahnengolf-Verein Bergisch Land 1962/63 e. V."]
[67262,67262,"Barbara","Jung","MGC \"Stahlquelle\" Bad Bocklet","SW1: Jung,Barbara","SW1","Miniatur-Golf-Club \"Stahlquelle\", Bad Bocklet 1989 e. V."]
[34878,34878,"Horst","Jung","MSC Bensheim-Auerbach","SM2: Jung,Horst","SM2","Minigolf-Sport-Club Bensheim-Auerbach e. V."]
[66018,66018,"Jürgen","Jung","1. KC Homburg-Saar 1967","SM2: Jung,Jürgen","SM2","1. Kleingolf Club Homburg-Saar 1967 e. V."]
[3578,3578,"Lieselotte","Jung","BGC Dormagen","SW2: Jung,Lieselotte","SW2","Bahnengolf-Club Dormagen e. V."]
[66050,66050,"Sven","Jungwirth","SSC Attendorn","SM1: Jungwirth,Sven","SM1","Sterngolf-Sport-Club Attendorn e. V."]
[49073,49073,"Alexander","Junkermann","MGC Dormagen-Brechten","SM1: Junkermann,Alexander","SM1","Minigolfclub Dormagen - Brechten e. V."]
[38338,38338,"Melanie","Jurgeleit","MGC Murnau am Staffelsee","D: Jurgeleit,Melanie","D","Minigolfclub Murnau am Staffelsee e. V."]
[38339,38339,"Rebecca","Jurgeleit","BSV 86 München","SW1: Jurgeleit,Rebecca","SW1","Bahnengolfsportverein 86 München e. V."]
[38337,38337,"Bernd","Jurgeleit","BSV 86 München","SM2: Jurgeleit,Bernd","SM2","Bahnengolfsportverein 86 München e. V."]
[66717,66717,"Klaus-Dieter","Jürgens","1. BGC Hannover","SM1: Jürgens,Klaus-Dieter","SM1","1. Bahnen-Golf-Club Hannover e. V."]
[67142,67142,"Jan Uwe","Jürgensen","SSV Ulm 1846 Abt. Bahnengolf","JM: Jürgensen,Jan Uwe","JM","Schwimm- und Sportverein Ulm 1846 e. V. Abteilung Bahnengolf"]
[43273,43273,"Ralf","Jürgensen","SSV Ulm 1846 Abt. Bahnengolf","SM1: Jürgensen,Ralf","SM1","Schwimm- und Sportverein Ulm 1846 e. V. Abteilung Bahnengolf"]
[67491,67491,"Cornelia","Jürgensen","SSV Ulm 1846 Abt. Bahnengolf","SW1: Jürgensen,Cornelia","SW1","Schwimm- und Sportverein Ulm 1846 e. V. Abteilung Bahnengolf"]
[34656,34656,"Heiko","Jürs","MC Flora Elmshorn","H: Jürs,Heiko","H","Minigolf-Club Flora Elmshorn e. V."]
[65559,65559,"Daniel","Jürs","MC Flora Elmshorn","H: Jürs,Daniel","H","Minigolf-Club Flora Elmshorn e. V."]
[46052,46052,"Mario","Jürs","MC Flora Elmshorn","SM1: Jürs,Mario","SM1","Minigolf-Club Flora Elmshorn e. V."]
[43508,43508,"Dieter","Jürs","MC Flora Elmshorn","SM2: Jürs,Dieter","SM2","Minigolf-Club Flora Elmshorn e. V."]
[43515,43515,"Gabriele","Jürs","MC Flora Elmshorn","SW2: Jürs,Gabriele","SW2","Minigolf-Club Flora Elmshorn e. V."]
[29850,29850,"Michael","Just","1. MGC Süßen","SM1: Just,Michael","SM1","1. Miniaturgolfclub Süßen e. V."]
[66282,66282,"Stephan","Jütte","1. MGC Paderborn","H: Jütte,Stephan","H","1. Minigolf-Club Paderborn 1980 e. V."]
[37468,37468,"Annette","Kaestner","Reinickendorfer MGC","SW1: Kaestner,Annette","SW1","Reinickendorfer Miniatur - Golfsport - Club e. V."]
[{"$f":"VALUE(B1475)","v":46699},46699,"Thomas","Kaiser","MSF Brilon",{"$f":"CONCATENATE(G1475,\": \",D1475,\",\",C1475)","v":"SM1: Kaiser,Thomas"},"SM1","Minigolfsportfreunde Brilon e. V."]
[35182,35182,"Herbert","Kaiser","BSV 86 München","SM2: Kaiser,Herbert","SM2","Bahnengolfsportverein 86 München e. V."]
[43405,43405,"Michael","Kaiser","BGSV Bad Homburg","SM2: Kaiser,Michael","SM2","Bahnengolf-Sportverein Bad Homburg v.d.H. e. V."]
[66302,66302,"Alois","Kaisr","BGSV Aßlar 1987","SM2: Kaisr,Alois","SM2","Bahnengolf-Sportverein Aßlar 1987 e. V."]
[66290,66290,"Lukas","Kalb","MGC Murnau am Staffelsee","H: Kalb,Lukas","H","Minigolfclub Murnau am Staffelsee e. V."]
[4222,4222,"Anna","Kalhöfer","MGC \"AS\" Witten 1963","SW2: Kalhöfer,Anna","SW2","Minigolfclub \"AS\" Witten 1963 e. V."]
[4455,4455,"Manfred","Kalisch","BGSV Aßlar 1987","SM2: Kalisch,Manfred","SM2","Bahnengolf-Sportverein Aßlar 1987 e. V."]
[42648,42648,"Roland","Kalka","MSK Olching","SM1: Kalka,Roland","SM1","Olchinger Minigolf Sport Klub e. V."]
[34231,34231,"Antje","Kalkbrenner","MGC Bad Salzuflen","D: Kalkbrenner,Antje","D","Minigolf-Club Bad Salzuflen e. V."]
[67360,67360,"Katja","Kammermaier","BSV 86 München","SW1: Kammermaier,Katja","SW1","Bahnengolfsportverein 86 München e. V."]
[35257,35257,"Cornelia","Kampe","TSV Salzgitter Abt. Bahnengolf","SW2: Kampe,Cornelia","SW2","Turn- und Sportverein Salzgitter e. V. Abteilung Bahnengolf"]
[45597,45597,"Michael","Kampmann","MGC Bad Salzuflen","SM1: Kampmann,Michael","SM1","Minigolf-Club Bad Salzuflen e. V."]
[67662,67662,"Sabine","Kampmann","BGV Backumer Tal Herten","SW2: Kampmann,Sabine","SW2","BGV Backumer Tal Herten e. V."]
[65827,65827,"Jan-Kevin","Kampschulte","SSC Attendorn","H: Kampschulte,Jan-Kevin","H","Sterngolf-Sport-Club Attendorn e. V."]
[40227,40227,"Frank","Kampschulte","MSC Herscheid 1963","SM1: Kampschulte,Frank","SM1","Minigolf-Sportclub Herscheid 1963 e. V."]
[66910,66910,"Hannes","Kandert","TG Höchberg von 1862 Bahnengolf","JM: Kandert,Hannes","JM","Turngemeinde Höchberg von 1862 Bahnengolf e. V."]
[38341,38341,"Harald","Kantor","BGSV Bad Homburg","SM2: Kantor,Harald","SM2","Bahnengolf-Sportverein Bad Homburg v.d.H. e. V."]
[44501,44501,"Ralf","Kapelle","1. BGC Celle von 1964","SM1: Kapelle,Ralf","SM1","1. Bahnen-Golf-Club Celle von 1964 e. V."]
[35774,35774,"Dennis","Kapke","MGC Dormagen-Brechten","H: Kapke,Dennis","H","Minigolfclub Dormagen - Brechten e. V."]
[28575,28575,"Gabriele","Karas","1. MSC Hamburg-Neu Wulmstorf","SW2: Karas,Gabriele","SW2","1. Minigolf-Sport-Club Hamburg-Neu-Wulmstorf e. V."]
[29752,29752,"Bruno","Karcher","1. MGC Tuttlingen","SM1: Karcher,Bruno","SM1","Erster Minigolf - Club Tuttlingen e. V."]
[29374,29374,"Jürgen","Karl","MC Ilvesheim","SM1: Karl,Jürgen","SM1","Miniaturgolf-Club Ilvesheim e. V."]
[25466,25466,"Klaus","Karlitschek","1. MGC Metzingen","SM2: Karlitschek,Klaus","SM2","1. Miniaturgolf Club Metzingen e. V."]
[18344,18344,"Winfried","Karpa","BGV Backumer Tal Herten","SM2: Karpa,Winfried","SM2","BGV Backumer Tal Herten e. V."]
[27122,27122,"Detlef","Kasburg","1. MGC Peine von 1965","SM2: Kasburg,Detlef","SM2","1. Miniaturgolf-Club Peine von 1965 e. V."]
[46970,46970,"Ralf","Käsler","SC Olympia Dortmund","SM1: Käsler,Ralf","SM1","Sport-Club Olympia Dortmund e. V. "]
[67468,67468,"Sky Joèl","Kaspar","BGC Bildstock","SCHM: Kaspar,Sky Joèl","SCHM","Bahnen-Golf-Club Bildstock e. V."]
[30576,30576,"Stefan","Kaspar","BSV 82 Ohlsbach","SM1: Kaspar,Stefan","SM1","Bahnengolfsportverein 82 Ohlsbach e. V."]
[67820,67820,"Jan","Kasper","1. MGC Paderborn","SCHM: Kasper,Jan","SCHM","1. Minigolf-Club Paderborn 1980 e. V."]
[34120,34120,"Harald","Kaßner","SC Bad Münder Abt. Bahnengolf","SM2: Kaßner,Harald","SM2","Sportclub Bad Münder e. V. Abteilung Bahnengolf"]
[38144,38144,"Holger","Kastner","1. MSC Wesel 6.6.1966","SM1: Kastner,Holger","SM1","1. Minigolf-Sportclub Wesel 66 66 e. V. "]
[67235,67235,"Fabian","Kauss","1. BGC Celle von 1964","H: Kauss,Fabian","H","1. Bahnen-Golf-Club Celle von 1964 e. V."]
[31250,31250,"Thomas","Kegel","MGC Ostheim / Rhön","SM2: Kegel,Thomas","SM2","Miniaturgolfclub Ostheim/Rhön e. V. "]
[26465,26465,"Roland","Kehl","SGC Hagen","SM2: Kehl,Roland","SM2","Sterngolf-Club Hagen e. V."]
[30337,30337,"Karsten","Kehr","BGC Northeim","SM1: Kehr,Karsten","SM1","Bahnen-Golf-Club Northeim e. V."]
[6360,6360,"Hermann","Kehrer","1. MGC Metzingen","SM2: Kehrer,Hermann","SM2","1. Miniaturgolf Club Metzingen e. V."]
[46465,46465,"Sven","Keiper","Freizeit Club Bliesen","H: Keiper,Sven","H","Freizeit Club Bliesen e. V."]
[67351,67351,"Marita","Keith","MGC Heven","SW1: Keith,Marita","SW1","Miniatur - Golf - Club Heven e. V."]
[24022,24022,"Andreas","Kelch","Tempelhofer MV Berlin","SM1: Kelch,Andreas","SM1","Tempelhofer Miniaturgolf Verein von 1965 e. V."]
[29738,29738,"Frank","Keller","TG Höchberg von 1862 Bahnengolf","SM1: Keller,Frank","SM1","Turngemeinde Höchberg von 1862 Bahnengolf e. V."]
[67050,67050,"Markus","Keller","BGV Backumer Tal Herten","SM1: Keller,Markus","SM1","BGV Backumer Tal Herten e. V."]
[48285,48285,"Franz","Keller","MGC Murnau am Staffelsee","SM2: Keller,Franz","SM2","Minigolfclub Murnau am Staffelsee e. V."]
[19630,19630,"Rudolf","Kellner","MGC Oberkochen","SM2: Kellner,Rudolf","SM2","Miniatur-Golfclub Oberkochen 1972 e. V."]
[22366,22366,"Karin","Kellner","MGC Oberkochen","SW2: Kellner,Karin","SW2","Miniatur-Golfclub Oberkochen 1972 e. V."]
[50151,50151,"Christian","Kemler","1. KGC Mönchengladbach","H: Kemler,Christian","H","1. Klein-Golf-Club Mönchengladbach e. V."]
[30988,30988,"Norbert","Kempa","SV Glückauf 1901 Gebhardshagen","SM1: Kempa,Norbert","SM1","SV Glück Auf 1901 Gebhardshagen e. V. Abteilung Minigolf"]
[955,955,"Marina","Kempa","SV Glückauf 1901 Gebhardshagen","SW2: Kempa,Marina","SW2","SV Glück Auf 1901 Gebhardshagen e. V. Abteilung Minigolf"]
[26658,26658,"Manfred","Kempen","MSC Bad Godesberg","SM2: Kempen,Manfred","SM2","Minigolf-Sport-Club Bad Godesberg e. V."]
[36920,36920,"Markus","Kempf","BGSV Kerpen","H: Kempf,Markus","H","Bahnen-Golf-Sport-Vereinigung Kerpen e. V."]
[38620,38620,"Lutz","Kemsies","BSV AOK Leipzig","SM2: Kemsies,Lutz","SM2","BSV AOK Leipzig e. V."]
[66655,66655,"Regine","Kemsies","BSV AOK Leipzig","SW2: Kemsies,Regine","SW2","BSV AOK Leipzig e. V."]
[67854,67854,"Jette","Keppler","1. MGC Süßen","D: Keppler,Jette","D","1. Miniaturgolfclub Süßen e. V."]
[42407,42407,"Udo","Keppler","1. MGC Süßen","SM1: Keppler,Udo","SM1","1. Miniaturgolfclub Süßen e. V."]
[66536,66536,"Jürgen","Kerk","Hamburger MC von 1965","SM2: Kerk,Jürgen","SM2","Hamburger Minigolf Club von 1965 e. V."]
[67069,67069,"Toni","Kersek","MSK Neheim-Hüsten","H: Kersek,Toni","H","MINIGOLF-SPORT-KLUB Neheim-Hüsten e. V."]
[66397,66397,"Jens","Kesting","Kölner Miniatur Golf Club","SM1: Kesting,Jens","SM1","Kölner Miniatur Golf Club e. V."]
[48508,48508,"Andreas","Kiefer","Tempelhofer MV Berlin","SM1: Kiefer,Andreas","SM1","Tempelhofer Miniaturgolf Verein von 1965 e. V."]
[36169,36169,"Peter","Kiehl","MGC Bad Soden-Salmünster","SM2: Kiehl,Peter","SM2","Miniaturgolfclub Bad Soden-Salmünster e. V."]
[4114,4114,"Detlev","Kiesow","TSV Kücknitz Abt. Bahnengolf","SM2: Kiesow,Detlev","SM2","Turn - und Sportverein Kücknitz von 1911 e. V. Abteilung Bahnengolf"]
[38332,38332,"Georg","Kießling","BGC Schweinfurt","SM2: Kießling,Georg","SM2","Bahnengolfclub Schweinfurt e. V."]
[40792,40792,"Thilo","Killmaier","Miniaturgolf Sportclub Schriesheim","SM1: Killmaier,Thilo","SM1","Miniaturgolf Sportclub Schriesheim e. V."]
[34130,34130,"Christine","Killmaier","Miniaturgolf Sportclub Schriesheim","SW2: Killmaier,Christine","SW2","Miniaturgolf Sportclub Schriesheim e. V."]
[41160,41160,"Oliver","Kindermann","1. MGC Ludwigshafen","SM1: Kindermann,Oliver","SM1","1. Miniatur-Golf-Club Ludwigshafen 1964 e. V."]
[155,155,"Jörg Rainer","Kindt","MSV Bad Kreuznach","SM2: Kindt,Jörg Rainer","SM2","MSV Bad Kreuznach e. V."]
[{"$f":"VALUE(B1539)","v":48544},48544,"Jörg","Kinnemann","1. MGC 1970 Göttingen",{"$f":"CONCATENATE(G1539,\": \",D1539,\",\",C1539)","v":"SM2: Kinnemann,Jörg"},"SM2","1. Miniatur-Golfsport-Club 1970 Göttingen e. V."]
[67629,67629,"Maxim","Kipka","BGC Bremen","SCHM: Kipka,Maxim","SCHM","Bahnen-Golf-Club Bremen e. V."]
[42971,42971,"Rainer","Kirberg","HMC Büttgen","SM1: Kirberg,Rainer","SM1","Hobbysport Miniaturgolfclub Büttgen e. V."]
[29886,29886,"Manfred","Kirch","1. BGC Wesseling 1975","SM1: Kirch,Manfred","SM1","1. Bahnen-Golf-Club Wesseling 1975 e. V. "]
[67691,67691,"Thomas","Kirchhöfer","1. CGC Rot-Weiß Groß-Umstadt","SM1: Kirchhöfer,Thomas","SM1","1. Cobigolf Club Rot-Weiß Groß-Umstadt e. V."]
[6110,6110,"Dagmar","Kirchhoff-Freund","MGC Freizeitzentrum Biebertal","SW2: Kirchhoff-Freund,Dagmar","SW2","Miniatur-Golf-Club Freizeitzentrum Biebertal e. V."]
[22103,22103,"Helga","Kirgasser","MC Neuwied","SW2: Kirgasser,Helga","SW2","Miniaturgolfclub Neuwied e. V."]
[67646,67646,"Stefan","Kirmair","Minigolf-Club Diessen","SM1: Kirmair,Stefan","SM1","Minigolf-Club Diessen e. V."]
[36810,36810,"Josef","Kirner","MGC Bad Feilnbach","SM2: Kirner,Josef","SM2","Minigolfclub Bad Feilnbach e. V."]
[51586,51586,"Stefan","Kirpal","BGC Bad Nenndorf","SM1: Kirpal,Stefan","SM1","Bahnen-Golf-Club Bad Nenndorf e. V."]
[38456,38456,"Michael","Kirschke","Reinickendorfer MGC","SM2: Kirschke,Michael","SM2","Reinickendorfer Miniatur - Golfsport - Club e. V."]
[67338,67338,"Tobias","Kirscht","MC Flora Elmshorn","H: Kirscht,Tobias","H","Minigolf-Club Flora Elmshorn e. V."]
[36686,36686,"Rotraud","Kirstein","MSC Herscheid 1963","SW2: Kirstein,Rotraud","SW2","Minigolf-Sportclub Herscheid 1963 e. V."]
[64051,64051,"Emil","Kisel","MGF Steinbruch Kempten","SM2: Kisel,Emil","SM2","Minigolf-Freunde Steinbruch Kempten e. V."]
[4892,4892,"Franz","Kissenkötter","1. MGC Köln 1961","SM2: Kissenkötter,Franz","SM2","1. Minigolf-Club Köln 1961 e. V."]
[67611,67611,"Frank","Kissinger","MGF Magdeburg 1995","SM1: Kissinger,Frank","SM1","Minigolffreunde Magdeburg e. V."]
[67184,67184,"Lukas","Kitzeder","MSG Kempten","JM: Kitzeder,Lukas","JM","Minigolf-Sport-Gemeinschaft Kempten e. V."]
[41439,41439,"Stefan","Kitzeder","MSG Kempten","SM1: Kitzeder,Stefan","SM1","Minigolf-Sport-Gemeinschaft Kempten e. V."]
[67642,67642,"Bärbel","Kizinski","Elbhavelland, Abt. Minigolfsport","SW2: Kizinski,Bärbel","SW2","Elbhavelland e. V. Abteilung Minigolfsport"]
[36924,36924,"Bernd","Klann","MGC Dormagen-Brechten","SM1: Klann,Bernd","SM1","Minigolfclub Dormagen - Brechten e. V."]
[3832,3832,"Gerd","Klär","Freizeit Club Bliesen","SM2: Klär,Gerd","SM2","Freizeit Club Bliesen e. V."]
[67327,67327,"Heribert","Klarhold","1. BGC Paderborn","SM2: Klarhold,Heribert","SM2","1. Bahnengolfclub Paderborn e. V."]
[25842,25842,"Heinz","Kläsgen","MGC Freizeitzentrum Biebertal","SM2: Kläsgen,Heinz","SM2","Miniatur-Golf-Club Freizeitzentrum Biebertal e. V."]
[34826,34826,"Oleg","Klassen","SG Arheilgen Abt. Bahnengolf","H: Klassen,Oleg","H","Sportgemeinschaft Arheilgen 1876/1945 e. V. Abteilung Bahnengolf"]
[4690,4690,"Walter","Klauke","Miniaturgolf Sportclub Schriesheim","SM2: Klauke,Walter","SM2","Miniaturgolf Sportclub Schriesheim e. V."]
[66582,66582,"Liana","Klaus","BGC Bremen","D: Klaus,Liana","D","Bahnen-Golf-Club Bremen e. V."]
[66581,66581,"Sven","Klaus","BGC Bremen","SM1: Klaus,Sven","SM1","Bahnen-Golf-Club Bremen e. V."]
[36946,36946,"Michael","Klee","1. KC Homburg-Saar 1967","H: Klee,Michael","H","1. Kleingolf Club Homburg-Saar 1967 e. V."]
[24092,24092,"Hannes","Klee","MSC Bensheim-Auerbach","SM2: Klee,Hannes","SM2","Minigolf-Sport-Club Bensheim-Auerbach e. V."]
[36072,36072,"Wolfgang","Klee","1. KC Homburg-Saar 1967","SM2: Klee,Wolfgang","SM2","1. Kleingolf Club Homburg-Saar 1967 e. V."]
[48337,48337,"Marcel","Klein","MGC putter Künzell 1970","H: Klein,Marcel","H","Minigolfclub putter Künzell 1970 e. V."]
[67464,67464,"Michael","Klein","1. BGC Hannover","SM1: Klein,Michael","SM1","1. Bahnen-Golf-Club Hannover e. V."]
[46240,46240,"Detlef","Klein","MGC Bad Salzuflen","SM1: Klein,Detlef","SM1","Minigolf-Club Bad Salzuflen e. V."]
[42309,42309,"Chris","Klein","1. KC Homburg-Saar 1967","SM1: Klein,Chris","SM1","1. Kleingolf Club Homburg-Saar 1967 e. V."]
[34233,34233,"Kerstin","Klein","1. BGC Hannover","SW1: Klein,Kerstin","SW1","1. Bahnen-Golf-Club Hannover e. V."]
[36474,36474,"Sabine","Klein","HMC Büttgen","SW1: Klein,Sabine","SW1","Hobbysport Miniaturgolfclub Büttgen e. V."]
[42305,42305,"Kerstin","Klein","MGC Bad Salzuflen","SW1: Klein,Kerstin","SW1","Minigolf-Club Bad Salzuflen e. V."]
[19531,19531,"Peter","Klein","MC Ilvesheim","SM2: Klein,Peter","SM2","Miniaturgolf-Club Ilvesheim e. V."]
[600,600,"Jürgen","Klein","VfB Osnabrück","SM2: Klein,Jürgen","SM2","Verein für Bahnengolf Osnabrück von 1984 e. V."]
[4762,4762,"Helge","Klein","MSC Bad Godesberg","SM2: Klein,Helge","SM2","Minigolf-Sport-Club Bad Godesberg e. V."]
[7074,7074,"Heinz Günter","Klein","1. KGC Mönchengladbach","SM2: Klein,Heinz Günter","SM2","1. Klein-Golf-Club Mönchengladbach e. V."]
[36277,36277,"Bernd","Klein","SSC Halver","SM2: Klein,Bernd","SM2","SSC Halver e. V."]
[40219,40219,"Theo","Klein","SSC Halver","SM2: Klein,Theo","SM2","SSC Halver e. V."]
[34653,34653,"Antje","Klein","SC Gut Heil Neumünster","SW2: Klein,Antje","SW2","Sportclub Gut Heil Neumünster von 1881 e. V. Abteilung Miniaturgolf"]
[38462,38462,"Tristan","Kleiner","1. MSC Wesel 6.6.1966","H: Kleiner,Tristan","H","1. Minigolf-Sportclub Wesel 66 66 e. V. "]
[38519,38519,"Philipp","Kleiner","MSK Neheim-Hüsten","H: Kleiner,Philipp","H","MINIGOLF-SPORT-KLUB Neheim-Hüsten e. V."]
[38606,38606,"Bernward","Kleiner","1. BGC Hannover","SM1: Kleiner,Bernward","SM1","1. Bahnen-Golf-Club Hannover e. V."]
[38607,38607,"Sabine","Kleiner","1. BGC Hannover","SW1: Kleiner,Sabine","SW1","1. Bahnen-Golf-Club Hannover e. V."]
[33520,33520,"Benjamin","Kleinherne","MGC Ravensburg-Weingarten","H: Kleinherne,Benjamin","H","MGC Ravensburg-Weingarten e. V."]
[66947,66947,"Robin","Kleinke","SSC Attendorn","JM: Kleinke,Robin","JM","Sterngolf-Sport-Club Attendorn e. V."]
[67670,67670,"André","Klemm","MGC Bad Homburg vdH","H: Klemm,André","H","Minigolf-Club Bad Homburg e. V."]
[37962,37962,"Marc Dominik","Klemm","1. KC Homburg-Saar 1967","H: Klemm,Marc Dominik","H","1. Kleingolf Club Homburg-Saar 1967 e. V."]
[67462,67462,"Till","Klenzmann","1. BGC Hannover","JM: Klenzmann,Till","JM","1. Bahnen-Golf-Club Hannover e. V."]
[67463,67463,"Kai","Klenzmann","1. BGC Hannover","SCHM: Klenzmann,Kai","SCHM","1. Bahnen-Golf-Club Hannover e. V."]
[67232,67232,"Felix","Klepzig","Minigolfclub Karlshagen","JM: Klepzig,Felix","JM","Minigolfclub Karlshagen e. V."]
[182,182,"Michael","Kleyer","BGSV Castrop 1961","SM2: Kleyer,Michael","SM2","Bahnengolfsportverein Castrop e. V. 1961"]
[6025,6025,"Erich","Kleyer","BGSV Castrop 1961","SM2: Kleyer,Erich","SM2","Bahnengolfsportverein Castrop e. V. 1961"]
[67489,67489,"Katja","Kling","1. MGC Tuttlingen","SW1: Kling,Katja","SW1","Erster Minigolf - Club Tuttlingen e. V."]
[66511,66511,"Peter","Kling","BGSC Bochum 1978","SM2: Kling,Peter","SM2","Bahnengolf-Sportclub Bochum 1978 e. V."]
[66510,66510,"Martina","Kling","BGSC Bochum 1978","SW2: Kling,Martina","SW2","Bahnengolf-Sportclub Bochum 1978 e. V."]
[65814,65814,"Björn","Klingelhöfer","CGC Rauschenberg","H: Klingelhöfer,Björn","H","Cobigolf-Club Rauschenberg e. V."]
[24658,24658,"Wilfried","Klipp","BV Sennestadt","SM2: Klipp,Wilfried","SM2","BV Sennestadt e. V."]
[66309,66309,"Lauro","Klöckener","MSK Neheim-Hüsten","JM: Klöckener,Lauro","JM","MINIGOLF-SPORT-KLUB Neheim-Hüsten e. V."]
[45785,45785,"Sven","Klöckener","MSK Neheim-Hüsten","SM1: Klöckener,Sven","SM1","MINIGOLF-SPORT-KLUB Neheim-Hüsten e. V."]
[{"$f":"VALUE(B1603)","v":45786},45786,"Astrid","Klöckener","MSK Neheim-Hüsten",{"$f":"CONCATENATE(G1603,\": \",D1603,\",\",C1603)","v":"SW1: Klöckener,Astrid"},"SW1","MINIGOLF-SPORT-KLUB Neheim-Hüsten e. V."]
[5257,5257,"Katharina","Klöhn","MSK Olching","SW2: Klöhn,Katharina","SW2","Olchinger Minigolf Sport Klub e. V."]
[45781,45781,"Olaf","Kloke","MSK Neheim-Hüsten","SM2: Kloke,Olaf","SM2","MINIGOLF-SPORT-KLUB Neheim-Hüsten e. V."]
[67750,67750,"Chiara","Klopp","BGC Bildstock","SCHW: Klopp,Chiara","SCHW","Bahnen-Golf-Club Bildstock e. V."]
[33504,33504,"Sebastian","Klosek","BGC Bad Nenndorf","H: Klosek,Sebastian","H","Bahnen-Golf-Club Bad Nenndorf e. V."]
[65955,65955,"Sascha","Klotz","BGSV Aßlar 1987","H: Klotz,Sascha","H","Bahnengolf-Sportverein Aßlar 1987 e. V."]
[33187,33187,"Christian","Klotz","1. MGC Süßen","SM1: Klotz,Christian","SM1","1. Miniaturgolfclub Süßen e. V."]
[35375,35375,"Sandra","Klotz","1. MGC Süßen","SW1: Klotz,Sandra","SW1","1. Miniaturgolfclub Süßen e. V."]
[45514,45514,"Matthias","Klug","1. MGC Mainz","SM1: Klug,Matthias","SM1","Erster Mainzer Minigolf-Club e. V. 1964"]
[67769,67769,"Yvonne ","Klukas","1. MGC Mainz","D: Klukas,Yvonne ","D","Erster Mainzer Minigolf-Club e. V. 1964"]
[43187,43187,"Joachim","Knapp","SG Arheilgen Abt. Bahnengolf","SM1: Knapp,Joachim","SM1","Sportgemeinschaft Arheilgen 1876/1945 e. V. Abteilung Bahnengolf"]
[413,413,"Ulrich","Kneer","1. MGC Paderborn","SM1: Kneer,Ulrich","SM1","1. Minigolf-Club Paderborn 1980 e. V."]
[36090,36090,"Vanessa","Knezevic","BGC Neutraubling","D: Knezevic,Vanessa","D","Bahnengolf-Club Neutraubling e. V."]
[41828,41828,"Katja","Kniesch","1. BGC Hannover","SW1: Kniesch,Katja","SW1","1. Bahnen-Golf-Club Hannover e. V."]
[35356,35356,"Dieter","Knietsch","1. MGC Peine von 1965","SM2: Knietsch,Dieter","SM2","1. Miniaturgolf-Club Peine von 1965 e. V."]
[35357,35357,"Teresa","Knietsch","1. MGC Peine von 1965","SW2: Knietsch,Teresa","SW2","1. Miniaturgolf-Club Peine von 1965 e. V."]
[25352,25352,"Ralf","Knippschild","1. MSC Wesel 6.6.1966","SM2: Knippschild,Ralf","SM2","1. Minigolf-Sportclub Wesel 66 66 e. V. "]
[38155,38155,"Jan","Knoblauch","BGSC \"Gut Schlag\" Gladbeck","SM1: Knoblauch,Jan","SM1","Bahnengolfsportclub \"Gut Schlag\" Gladbeck e. V."]
[46684,46684,"Wolfgang","Knoll","MC Ilvesheim","SM2: Knoll,Wolfgang","SM2","Miniaturgolf-Club Ilvesheim e. V."]
[35266,35266,"Bianca","Knoll","MC Ilvesheim","SW2: Knoll,Bianca","SW2","Miniaturgolf-Club Ilvesheim e. V."]
[48641,48641,"Nicole","Knöll-Grünenthal","TSV Pfungstadt Abt. Bahnengolf","SW1: Knöll-Grünenthal,Nicole","SW1","TSV Pfungstadt e. V. Abteilung Bahnengolf"]
[67658,67658,"Klaudia","Knörle","BIG Ingelfingen","SW2: Knörle,Klaudia","SW2","Bahnengolf Interessen-Gemeinschaft Ingelfingen 2020 e. V."]
[3935,3935,"Helmut","Knott","BSV 86 München","SM2: Knott,Helmut","SM2","Bahnengolfsportverein 86 München e. V."]
[46124,46124,"Irene","Knott","BSV 86 München","SW2: Knott,Irene","SW2","Bahnengolfsportverein 86 München e. V."]
[67164,67164,"Stefan","Knull","BV Sennestadt","SM1: Knull,Stefan","SM1","BV Sennestadt e. V."]
[25613,25613,"Uwe","Knust","BGC Bad Nenndorf","SM1: Knust,Uwe","SM1","Bahnen-Golf-Club Bad Nenndorf e. V."]
[38374,38374,"Philip","Kobbe","1. BGC Wolfsburg","H: Kobbe,Philip","H","1. Bahnen - Golf - Club Wolfsburg e. V."]
[66636,66636,"Marion","Kober","MSC Bensheim-Auerbach","SW1: Kober,Marion","SW1","Minigolf-Sport-Club Bensheim-Auerbach e. V."]
[21472,21472,"Markus","Köberle","1. MGC Ladenburg","SM1: Köberle,Markus","SM1","1. Miniaturgolf-Club Ladenburg e. V."]
[27551,27551,"Roman","Kobisch","1. MGC Mainz","SM1: Kobisch,Roman","SM1","Erster Mainzer Minigolf-Club e. V. 1964"]
[27565,27565,"Alice","Kobisch","1. MGC Mainz","SW1: Kobisch,Alice","SW1","Erster Mainzer Minigolf-Club e. V. 1964"]
[45575,45575,"Robert","Koböck","MGF Hammer","SM1: Koböck,Robert","SM1","Minigolffreunde Hammer e. V."]
[47206,47206,"Konrad","Koböck","MGF Hammer","SM1: Koböck,Konrad","SM1","Minigolffreunde Hammer e. V."]
[66490,66490,"Kevin","Koch","VFB 21 Neugattersleben","H: Koch,Kevin","H","VfB 21 Neugattersleben e. V."]
[66077,66077,"Claudia","Koch","VFB 21 Neugattersleben","D: Koch,Claudia","D","VfB 21 Neugattersleben e. V."]
[67381,67381,"Dennis","Koch","BGSV Bad Homburg","JM: Koch,Dennis","JM","Bahnengolf-Sportverein Bad Homburg v.d.H. e. V."]
[67594,67594,"Stefan","Koch","MSV Würzburg-Löwenbrücke","SM1: Koch,Stefan","SM1","Miniaturgolfsportverein Würzburg - Löwenbrücke e. V."]
[67380,67380,"Rolf","Koch","BGSV Bad Homburg","SM1: Koch,Rolf","SM1","Bahnengolf-Sportverein Bad Homburg v.d.H. e. V."]
[52103,52103,"Jens","Koch","BGC Kiel West","SM1: Koch,Jens","SM1","Bahnen-Golf-Club Kiel-West e. V."]
[43836,43836,"Anja","Koch","MGC Brunsbüttel","SW1: Koch,Anja","SW1","Miniaturgolf-Club Brunsbüttel e. V."]
[67375,67375,"Jürgen","Koch","1. KGC Mönchengladbach","SM2: Koch,Jürgen","SM2","1. Klein-Golf-Club Mönchengladbach e. V."]
[27674,27674,"Klaus","Kocks","BGV Backumer Tal Herten","SM2: Kocks,Klaus","SM2","BGV Backumer Tal Herten e. V."]
[3613,3613,"Gerhard","Kofler","KGC Bad Urach","SM2: Kofler,Gerhard","SM2","Klein-Golf-Club Bad Urach e. V."]
[35075,35075,"Sven","Kohl","MGC Bad Soden-Salmünster","H: Kohl,Sven","H","Miniaturgolfclub Bad Soden-Salmünster e. V."]
[66203,66203,"Philipp","Köhler","BGC Heilbronn","H: Köhler,Philipp","H","Bahnengolf Club Heilbronn e. V."]
[18496,18496,"Ulrich","Köhler","BSV 86 München","SM2: Köhler,Ulrich","SM2","Bahnengolfsportverein 86 München e. V."]
[50852,50852,"Michael","Kohlhage","SSC Attendorn","SM2: Kohlhage,Michael","SM2","Sterngolf-Sport-Club Attendorn e. V."]
[49559,49559,"Michael","Kohnke","BGC Schloß Paffendorf","SM2: Kohnke,Michael","SM2","Bahnengolf Club Schloß Paffendorf e. V."]
[67786,67786,"Jan","Kolenko","BGS Hardenberg-Pötter","H: Kolenko,Jan","H","BGS Hardenberg-Pötter e. V."]
[4492,4492,"Max","Koll","MC 62 Lüdenscheid","SM2: Koll,Max","SM2","MC 62 Lüdenscheid e. V."]
[36379,36379,"Renate","Koll","MC 62 Lüdenscheid","SW2: Koll,Renate","SW2","MC 62 Lüdenscheid e. V."]
[67137,67137,"Jutta","Kolloff","SV Glückauf 1901 Gebhardshagen","SW2: Kolloff,Jutta","SW2","SV Glück Auf 1901 Gebhardshagen e. V. Abteilung Minigolf"]
[61900,61900,"Johann","Komurka","1. MGC Ladenburg","SM2: Komurka,Johann","SM2","1. Miniaturgolf-Club Ladenburg e. V."]
[66181,66181,"Bernd","Könemann","TSV Salzgitter Abt. Bahnengolf","SM1: Könemann,Bernd","SM1","Turn- und Sportverein Salzgitter e. V. Abteilung Bahnengolf"]
[66182,66182,"Nicole","Könemann","TSV Salzgitter Abt. Bahnengolf","SW1: Könemann,Nicole","SW1","Turn- und Sportverein Salzgitter e. V. Abteilung Bahnengolf"]
[66968,66968,"Joshua","Könen","MGC Bad Bodendorf","JM: Könen,Joshua","JM","Miniaturgolfclub Bad Bodendorf e. V."]
[66151,66151,"Stephan","Konieczny","MSC Bensheim-Auerbach","SM1: Konieczny,Stephan","SM1","Minigolf-Sport-Club Bensheim-Auerbach e. V."]
[65818,65818,"Kevin","König","1. Bahnengolf-Club Singen","H: König,Kevin","H","1. Bahnengolf-Club Singen e. V."]
[36548,36548,"Bert","König","1. Minigolf-Club Rheinhausen","SM1: König,Bert","SM1","1. Minigolf-Club Rheinhausen e. V."]
[4539,4539,"Wolfgang","König","1. MSC Hamburg-Neu Wulmstorf","SM2: König,Wolfgang","SM2","1. Minigolf-Sport-Club Hamburg-Neu-Wulmstorf e. V."]
[21380,21380,"Helmut","König","VfM Bottrop","SM2: König,Helmut","SM2","Verein für Minigolf Bottrop e. V."]
[66051,66051,"Erich","König","SSC Attendorn","SM2: König,Erich","SM2","Sterngolf-Sport-Club Attendorn e. V."]
[6233,6233,"Hannelore","König","1. MSC Hamburg-Neu Wulmstorf","SW2: König,Hannelore","SW2","1. Minigolf-Sport-Club Hamburg-Neu-Wulmstorf e. V."]
[67057,67057,"Irmtraud","König","MGC Heringen 1997","SW2: König,Irmtraud","SW2","Miniatur-Golf-Club Heringen e. V."]
[{"$f":"VALUE(B1667)","v":36196},36196,"Beate","König","1. Minigolf-Club Rheinhausen",{"$f":"CONCATENATE(G1667,\": \",D1667,\",\",C1667)","v":"SW2: König,Beate"},"SW2","1. Minigolf-Club Rheinhausen e. V."]
[34127,34127,"Peter","Konle","MGC Unterschneidheim","SM2: Konle,Peter","SM2","Minigolfclub Unterschneidheim e. V."]
[5696,5696,"Ingeborg","Könnecke","BGC 90 Ottobrunn","SW2: Könnecke,Ingeborg","SW2","BGC 90 Ottobrunn e. V."]
[37506,37506,"Günther","Konstanzer","1. MGC Hechingen","SM1: Konstanzer,Günther","SM1","1. Minigolfclub Hechingen e. V."]
[37380,37380,"Alfred","Konstanzer","1. MGC Metzingen","SM2: Konstanzer,Alfred","SM2","1. Miniaturgolf Club Metzingen e. V."]
[66828,66828,"Nils","Körner","TSV Pfungstadt Abt. Bahnengolf","JM: Körner,Nils","JM","TSV Pfungstadt e. V. Abteilung Bahnengolf"]
[5842,5842,"Dieter","Körner","MGC Schwaikheim","SM2: Körner,Dieter","SM2","Miniaturgolf – Club Schwaikheim e. V."]
[61974,61974,"Hans","Koslowski","1. BGC Celle von 1964","SM2: Koslowski,Hans","SM2","1. Bahnen-Golf-Club Celle von 1964 e. V."]
[44601,44601,"Helmut","Kosmowski","MGF Hilzingen 80","SM2: Kosmowski,Helmut","SM2","Minigolffreunde Hilzingen 80 e. V."]
[23976,23976,"Klaus","Kossmann","MSK Neheim-Hüsten","SM2: Kossmann,Klaus","SM2","MINIGOLF-SPORT-KLUB Neheim-Hüsten e. V."]
[67502,67502,"Ulrich","Koßmann","MGC Bad Salzuflen","SM2: Koßmann,Ulrich","SM2","Minigolf-Club Bad Salzuflen e. V."]
[67534,67534,"Petra","Koßmann","MGC Bad Salzuflen","SW2: Koßmann,Petra","SW2","Minigolf-Club Bad Salzuflen e. V."]
[36868,36868,"Mario","Kostack","MSG Kempten","SM2: Kostack,Mario","SM2","Minigolf-Sport-Gemeinschaft Kempten e. V."]
[67152,67152,"Sabine","Kottek","MGC Heven","D: Kottek,Sabine","D","Miniatur - Golf - Club Heven e. V."]
[42073,42073,"Manuela","Köttel","ASV Pegnitz, Abt. Minigolf","SW1: Köttel,Manuela","SW1","Allgemeiner Sportverein Pegnitz e. V. Abteilung Minigolf"]
[44870,44870,"Martin","Köttel","ASV Pegnitz, Abt. Minigolf","SM2: Köttel,Martin","SM2","Allgemeiner Sportverein Pegnitz e. V. Abteilung Minigolf"]
[37199,37199,"Christopher","Kottemer","MGF Magdeburg 1995","H: Kottemer,Christopher","H","Minigolffreunde Magdeburg e. V."]
[67179,67179,"Chris","Kougioumtzidis","MGC Rot-Weiß Wanne-Eickel","SM2: Kougioumtzidis,Chris","SM2","Minigolfclub Rot-Weiß Wanne-Eickel e. V."]
[44018,44018,"Elke","Kowatsch","BGC Bad Berneck","D: Kowatsch,Elke","D","Bahnengolf-Club e. V. Bad Berneck"]
[46426,46426,"Tanja","Koziol","MGC Bad Hersfeld","D: Koziol,Tanja","D","Miniatur-Golf-Club Bad Hersfeld e. V."]
[31769,31769,"Michael","Koziol","BGS Hardenberg-Pötter","SM1: Koziol,Michael","SM1","BGS Hardenberg-Pötter e. V."]
[67077,67077,"Herwart","Kraaz","MTV Seesen Abt. Bahnengolf","SM2: Kraaz,Herwart","SM2","Männer-Turn-Verein Seesen von 1862 e. V. Abteilung Bahnengolf"]
[40352,40352,"Christian","Kracht","MGC Bad Salzuflen","SM2: Kracht,Christian","SM2","Minigolf-Club Bad Salzuflen e. V."]
[26346,26346,"Michael","Kramer","BSV AOK Leipzig","SM2: Kramer,Michael","SM2","BSV AOK Leipzig e. V."]
[20342,20342,"Norbert","Kramer","1. MGC Mainz","SM2: Kramer,Norbert","SM2","Erster Mainzer Minigolf-Club e. V. 1964"]
[38200,38200,"Sebastian","Krämer","MSC Blau-Weiß 2003 München","H: Krämer,Sebastian","H","Minigolf-Sport-Club blau-weiß 2003 e. V. München"]
[67845,67845,"Matthias","Krämer","MSV 05 Bad Münder / Springe","H: Krämer,Matthias","H","Minigolf Sport-Verein Bad Münder/Springe von 2005 e. V."]
[44705,44705,"Mathias","Krämer","MSC Blau-Weiß 2003 München","SM1: Krämer,Mathias","SM1","Minigolf-Sport-Club blau-weiß 2003 e. V. München"]
[50644,50644,"Bärbel","Krämer","MSC Blau-Weiß 2003 München","SW1: Krämer,Bärbel","SW1","Minigolf-Sport-Club blau-weiß 2003 e. V. München"]
[66222,66222,"Melissa","Krane","MSK Neheim-Hüsten","D: Krane,Melissa","D","MINIGOLF-SPORT-KLUB Neheim-Hüsten e. V."]
[38393,38393,"Michaela","Krane","MSK Neheim-Hüsten","D: Krane,Michaela","D","MINIGOLF-SPORT-KLUB Neheim-Hüsten e. V."]
[30374,30374,"Jörg","Krane","MSK Neheim-Hüsten","SM1: Krane,Jörg","SM1","MINIGOLF-SPORT-KLUB Neheim-Hüsten e. V."]
[43336,43336,"Bettina","Krane","MSK Neheim-Hüsten","SW1: Krane,Bettina","SW1","MINIGOLF-SPORT-KLUB Neheim-Hüsten e. V."]
[40222,40222,"Ralf","Krane","MSK Neheim-Hüsten","SM2: Krane,Ralf","SM2","MINIGOLF-SPORT-KLUB Neheim-Hüsten e. V."]
[26070,26070,"Stephan","Kraus","Bochumer Minigolf-Club 1960","SM1: Kraus,Stephan","SM1","Bochumer Minigolf-Club 1960 e. V."]
[67021,67021,"Michel","Krause","Tempelhofer MV Berlin","H: Krause,Michel","H","Tempelhofer Miniaturgolf Verein von 1965 e. V."]
[67823,67823,"Sophia","Krause","TSV Arendsee","D: Krause,Sophia","D","Turn- und Sportverein Arendsee e. V. Abteilung Minigolf"]
[48931,48931,"Dirk","Krause","1. BGC Celle von 1964","SM1: Krause,Dirk","SM1","1. Bahnen-Golf-Club Celle von 1964 e. V."]
[24877,24877,"Achim","Krause","BGC Dormagen","SM2: Krause,Achim","SM2","Bahnengolf-Club Dormagen e. V."]
[66161,66161,"Silvio","Krauss","1. MGC Mainz","H: Krauss,Silvio","H","Erster Mainzer Minigolf-Club e. V. 1964"]
[66160,66160,"Selina","Krauss","1. MGC Mainz","D: Krauss,Selina","D","Erster Mainzer Minigolf-Club e. V. 1964"]
[66159,66159,"Silvia","Krauss","1. MGC Mainz","SW1: Krauss,Silvia","SW1","Erster Mainzer Minigolf-Club e. V. 1964"]
[66158,66158,"Siegfried","Krauss","1. MGC Mainz","SM2: Krauss,Siegfried","SM2","Erster Mainzer Minigolf-Club e. V. 1964"]
[62949,62949,"Hildegard","Krawutschke","Niendorfer MC v. 1963","SW2: Krawutschke,Hildegard","SW2","Niendorfer Miniaturgolf-Club von 1963 e. V."]
[35302,35302,"Tobias","Krebs","BGSV Castrop 1961","H: Krebs,Tobias","H","Bahnengolfsportverein Castrop e. V. 1961"]
[38545,38545,"Antje","Kreisheimer","MGC \"Stahlquelle\" Bad Bocklet","SW1: Kreisheimer,Antje","SW1","Miniatur-Golf-Club \"Stahlquelle\", Bad Bocklet 1989 e. V."]
[38546,38546,"Günther","Kreisheimer","MGC \"Stahlquelle\" Bad Bocklet","SM2: Kreisheimer,Günther","SM2","Miniatur-Golf-Club \"Stahlquelle\", Bad Bocklet 1989 e. V."]
[36641,36641,"Rene","Kreitz","1. MGC 1970 Göttingen","H: Kreitz,Rene","H","1. Miniatur-Golfsport-Club 1970 Göttingen e. V."]
[66877,66877,"Dieter","Kretschmer","Hamburger MC von 1965","SM2: Kretschmer,Dieter","SM2","Hamburger Minigolf Club von 1965 e. V."]
[34823,34823,"Bernhard","Kreutter","MGF Waldshut 74","SM2: Kreutter,Bernhard","SM2","Minigolffreunde Waldshut 1974 e. V."]
[67436,67436,"Inge","Kreutz","Minigolfclub Karlshagen","SW2: Kreutz,Inge","SW2","Minigolfclub Karlshagen e. V."]
[67657,67657,"Niklas","Kreuzer","ASV Pegnitz, Abt. Minigolf","SCHM: Kreuzer,Niklas","SCHM","Allgemeiner Sportverein Pegnitz e. V. Abteilung Minigolf"]
[30925,30925,"Andreas","Kreuzer","ASV Pegnitz, Abt. Minigolf","SM1: Kreuzer,Andreas","SM1","Allgemeiner Sportverein Pegnitz e. V. Abteilung Minigolf"]
[36156,36156,"Tina","Kreuzer-Morgenstern","ASV Pegnitz, Abt. Minigolf","D: Kreuzer-Morgenstern,Tina","D","Allgemeiner Sportverein Pegnitz e. V. Abteilung Minigolf"]
[38453,38453,"Thomas","Krieger","1. MGC München-Feldmoching","H: Krieger,Thomas","H","1. Miniaturgolfclub München-Feldmoching e. V."]
[67353,67353,"Simone","Krieger","BGS Hardenberg-Pötter","D: Krieger,Simone","D","BGS Hardenberg-Pötter e. V."]
[67089,67089,"Leon","Krieger","BGS Hardenberg-Pötter","JM: Krieger,Leon","JM","BGS Hardenberg-Pötter e. V."]
[66265,66265,"Wolfgang","Krieger","Minigolf Wölfe Rheinstetten 02","SM2: Krieger,Wolfgang","SM2","Rad- und Kraftfahrervereins \"Solidarität\" Mörsch e. V. Abteilung Minigolf Wölfe Rheinstetten 02"]
[33310,33310,"Gerhard","Krieger","1. MGC München-Feldmoching","SM2: Krieger,Gerhard","SM2","1. Miniaturgolfclub München-Feldmoching e. V."]
[35781,35781,"Andreas","Krieger","BGSV Bad Homburg","SM2: Krieger,Andreas","SM2","Bahnengolf-Sportverein Bad Homburg v.d.H. e. V."]
[40965,40965,"Susanne","Kritsch","1. BGC Wolfsburg","SW1: Kritsch,Susanne","SW1","1. Bahnen - Golf - Club Wolfsburg e. V."]
[67696,67696,"Gunter","Kröber","1. Münchener MGC","H: Kröber,Gunter","H","1. Münchener Minigolf-Club 1962 e. V."]
[3168,3168,"Erich","Kröger","MGC Brunsbüttel","SM2: Kröger,Erich","SM2","Miniaturgolf-Club Brunsbüttel e. V."]
[3116,3116,"Maren","Kröger","MGC Brunsbüttel","SW2: Kröger,Maren","SW2","Miniaturgolf-Club Brunsbüttel e. V."]
[{"$f":"VALUE(B1731)","v":3365},3365,"Johann","Kröll","1. Porzer MGC Grün-Weiß 1969",{"$f":"CONCATENATE(G1731,\": \",D1731,\",\",C1731)","v":"SM2: Kröll,Johann"},"SM2","1. Porzer Minigolfclub Grün-Weiß 1969 e. V."]
[35332,35332,"Manfred","Kronenberg","Minigolfclub Karlshagen","SM1: Kronenberg,Manfred","SM1","Minigolfclub Karlshagen e. V."]
[66824,66824,"Susann","Kronschnabl","1. Münchener MGC","D: Kronschnabl,Susann","D","1. Münchener Minigolf-Club 1962 e. V."]
[64901,64901,"Florian","Kronschnabl","1. Münchener MGC","SCHM: Kronschnabl,Florian","SCHM","1. Münchener Minigolf-Club 1962 e. V."]
[36647,36647,"Manfred","Kronschnabl","1. Münchener MGC","SM1: Kronschnabl,Manfred","SM1","1. Münchener Minigolf-Club 1962 e. V."]
[67078,67078,"Theo","Kronschnabl","BGC Illertissen","SM1: Kronschnabl,Theo","SM1","Bahnengolfclub Illertissen e. V."]
[17833,17833,"Erwin","Kroßa","BV Sennestadt","SM2: Kroßa,Erwin","SM2","BV Sennestadt e. V."]
[17986,17986,"Dietger","Krost","1. BGC Wolfsburg","SM2: Krost,Dietger","SM2","1. Bahnen - Golf - Club Wolfsburg e. V."]
[6334,6334,"Heinz","Krüchten","1. BGC Rodalben 1977","SM2: Krüchten,Heinz","SM2","1. Bahnengolfverein Rodalben 1977 e. V."]
[66558,66558,"Bernhard","Krug","1. BGC Landshut","SM2: Krug,Bernhard","SM2","1. Bahnengolf-Club Landshut e. V."]
[17741,17741,"Reinhard","Krüger","1. MSC Hamburg-Neu Wulmstorf","SM2: Krüger,Reinhard","SM2","1. Minigolf-Sport-Club Hamburg-Neu-Wulmstorf e. V."]
[958,958,"Michael","Krull","1. MGC 1970 Göttingen","H: Krull,Michael","H","1. Miniatur-Golfsport-Club 1970 Göttingen e. V."]
[67857,67857,"Domenica ","Krull","1. MGC 1970 Göttingen","D: Krull,Domenica ","D","1. Miniatur-Golfsport-Club 1970 Göttingen e. V."]
[66657,66657,"Karl-Heinz","Krull","1. MGC 1970 Göttingen","SM2: Krull,Karl-Heinz","SM2","1. Miniatur-Golfsport-Club 1970 Göttingen e. V."]
[42429,42429,"Patricia","Krumay","TSV Pfungstadt Abt. Bahnengolf","SW1: Krumay,Patricia","SW1","TSV Pfungstadt e. V. Abteilung Bahnengolf"]
[36856,36856,"Kai","Krumm","HMC Büttgen","SM1: Krumm,Kai","SM1","Hobbysport Miniaturgolfclub Büttgen e. V."]
[65839,65839,"Melanie","Krumm","HMC Büttgen","SW1: Krumm,Melanie","SW1","Hobbysport Miniaturgolfclub Büttgen e. V."]
[67467,67467,"Stefanie","Krüper","MGC Bad Oldesloe","D: Krüper,Stefanie","D","Miniaturgolfclub Bad Oldesloe von 1964 e. V."]
[67466,67466,"Finn Åke","Krüper","MGC Bad Oldesloe","JM: Krüper,Finn Åke","JM","Miniaturgolfclub Bad Oldesloe von 1964 e. V."]
[67169,67169,"Klaus-Bernd","Kruse","MGC Millennium Viernheim","SM1: Kruse,Klaus-Bernd","SM1","MGC Millennium Viernheim e. V."]
[47258,47258,"André","Kruse","MGC Bad Salzuflen","SM1: Kruse,André","SM1","Minigolf-Club Bad Salzuflen e. V."]
[40300,40300,"Manfred","Krusenbaum","VfM Bottrop","SM2: Krusenbaum,Manfred","SM2","Verein für Minigolf Bottrop e. V."]
[67017,67017,"Maurice","Krzyza","BGSC Bochum 1978","H: Krzyza,Maurice","H","Bahnengolf-Sportclub Bochum 1978 e. V."]
[35655,35655,"Sebastian","Kube","MGC Dormagen-Brechten","H: Kube,Sebastian","H","Minigolfclub Dormagen - Brechten e. V."]
[65952,65952,"Kai","Kübler","MGC Monrepos","H: Kübler,Kai","H","Minigolfclub Monrepos e. V."]
[66045,66045,"Manfred","Kubzda","MGV Bremen","SM2: Kubzda,Manfred","SM2","Miniatur-Golf-Verein Bremen e. V."]
[66836,66836,"Elke","Kubzda","MGV Bremen","SW2: Kubzda,Elke","SW2","Miniatur-Golf-Verein Bremen e. V."]
[42798,42798,"Dieter","Kuck","BGV Backumer Tal Herten","SM2: Kuck,Dieter","SM2","BGV Backumer Tal Herten e. V."]
[37693,37693,"Helmut","Kühbauch","1. MGC Metzingen","SM2: Kühbauch,Helmut","SM2","1. Miniaturgolf Club Metzingen e. V."]
[17549,17549,"Dieter","Kuhl","Minigolfunion Neviges-Odenthal 1968","SM2: Kuhl,Dieter","SM2","Minigolfunion Neviges-Odenthal 1968 e. V."]
[62879,62879,"Magdalena","Kuhl","Minigolfunion Neviges-Odenthal 1968","SW2: Kuhl,Magdalena","SW2","Minigolfunion Neviges-Odenthal 1968 e. V."]
[29326,29326,"Peter","Kuhlenberg","SSC Halver","SM1: Kuhlenberg,Peter","SM1","SSC Halver e. V."]
[66350,66350,"Giuseppe","Kühmstädt","BGSV Castrop 1961","H: Kühmstädt,Giuseppe","H","Bahnengolfsportverein Castrop e. V. 1961"]
[65929,65929,"Dustin","Kuhn","VfM Berlin","H: Kuhn,Dustin","H","Verein für Minigolf e. V. Berlin"]
[67557,67557,"Rolf","Kuhn","Miniaturgolf Sportclub Schriesheim","SM2: Kuhn,Rolf","SM2","Miniaturgolf Sportclub Schriesheim e. V."]
[44146,44146,"André","Kuhn","1. MGC 1970 Göttingen","SM2: Kuhn,André","SM2","1. Miniatur-Golfsport-Club 1970 Göttingen e. V."]
[66860,66860,"Marco","Kühn","MGC Rot-Weiß Wanne-Eickel","SM1: Kühn,Marco","SM1","Minigolfclub Rot-Weiß Wanne-Eickel e. V."]
[40132,40132,"Ingo","Kuhnert","MGC Wertheim 91","SM2: Kuhnert,Ingo","SM2","Minigolfdub Wertheim ´91 e. V."]
[45671,45671,"Stefan","Küll","MGC Bad Salzuflen","H: Küll,Stefan","H","Minigolf-Club Bad Salzuflen e. V."]
[40126,40126,"Christian","Kullick","Tempelhofer MV Berlin","H: Kullick,Christian","H","Tempelhofer Miniaturgolf Verein von 1965 e. V."]
[20595,20595,"Robert","Kullick","Tempelhofer MV Berlin","SM2: Kullick,Robert","SM2","Tempelhofer Miniaturgolf Verein von 1965 e. V."]
[66042,66042,"Ingo","Kullmann","MSV Bad Kreuznach","SM1: Kullmann,Ingo","SM1","MSV Bad Kreuznach e. V."]
[44774,44774,"Peter","Kulse","MGC Olympia Kiel","SM2: Kulse,Peter","SM2","Miniaturgolfclub Olympia Kiel e. V."]
[21411,21411,"Wolfgang","Kunert","1. MGC Bamberg","SM2: Kunert,Wolfgang","SM2","1. Minigolfclub Bamberg e. V."]
[38351,38351,"Herbert","Kunimünch","BSV Inzlingen 1979","SM2: Kunimünch,Herbert","SM2","Bahnengolf-Sportverein Inzlingen 1979 e. V."]
[38352,38352,"Monika","Kunimünch","BSV Inzlingen 1979","SW2: Kunimünch,Monika","SW2","Bahnengolf-Sportverein Inzlingen 1979 e. V."]
[67316,67316,"Jennifer","Kunisch","MGC Monrepos","D: Kunisch,Jennifer","D","Minigolfclub Monrepos e. V."]
[30336,30336,"Jens-Michael","Künnecke","BGC Northeim","SM1: Künnecke,Jens-Michael","SM1","Bahnen-Golf-Club Northeim e. V."]
[33425,33425,"Marcel","Kunstmann","Elbhavelland, Abt. Minigolfsport","H: Kunstmann,Marcel","H","Elbhavelland e. V. Abteilung Minigolfsport"]
[33427,33427,"Andreas","Kunstmann","Elbhavelland, Abt. Minigolfsport","SM1: Kunstmann,Andreas","SM1","Elbhavelland e. V. Abteilung Minigolfsport"]
[30521,30521,"Markus","Kuntermann","Cobigolf-Verein Hamm 2019","SM1: Kuntermann,Markus","SM1","Cobigolf-Verein Hamm 2019 e. V."]
[66139,66139,"Lisa","Kuntze","TSV Pfungstadt Abt. Bahnengolf","D: Kuntze,Lisa","D","TSV Pfungstadt e. V. Abteilung Bahnengolf"]
[66428,66428,"Jürgen","Kuntze","TSV Pfungstadt Abt. Bahnengolf","SM2: Kuntze,Jürgen","SM2","TSV Pfungstadt e. V. Abteilung Bahnengolf"]
[66519,66519,"Peter","Kunz","1. MGC Kassel 1964","SM1: Kunz,Peter","SM1","1. Mini-Golfsport-Club Kassel-Vellmar 1964 e. V."]
[66977,66977,"Simone","Kunz","1. MGC Kassel 1964","SW1: Kunz,Simone","SW1","1. Mini-Golfsport-Club Kassel-Vellmar 1964 e. V."]
[5225,5225,"Bernd","Kunz","MGC Olympia Kiel","SM2: Kunz,Bernd","SM2","Miniaturgolfclub Olympia Kiel e. V."]
[25024,25024,"Helga","Kunz","MGC Olympia Kiel","SW2: Kunz,Helga","SW2","Miniaturgolfclub Olympia Kiel e. V."]
[6538,6538,"Hans-Peter","Künzel","1. MGC Ludwigshafen","SM2: Künzel,Hans-Peter","SM2","1. Miniatur-Golf-Club Ludwigshafen 1964 e. V."]
[66855,66855,"Thorsten","Kurkowski","1. MGC Gelsenkirchen","H: Kurkowski,Thorsten","H","1. Minigolf Club Gelsenkirchen e. V."]
[37998,37998,"Patrick","Kurtz","Bochumer Minigolf-Club 1960","H: Kurtz,Patrick","H","Bochumer Minigolf-Club 1960 e. V."]
[38084,38084,"Rainer","Kurtz","BGSC Bochum 1978","SM2: Kurtz,Rainer","SM2","Bahnengolf-Sportclub Bochum 1978 e. V."]
[34665,34665,"Jochen","Kurz","1. MGC Metzingen","H: Kurz,Jochen","H","1. Miniaturgolf Club Metzingen e. V."]
[41007,41007,"Mikael","Kurzweg","Bochumer Minigolf-Club 1960","H: Kurzweg,Mikael","H","Bochumer Minigolf-Club 1960 e. V."]
[66103,66103,"Raphael","Kuschel","MGC Dormagen-Brechten","H: Kuschel,Raphael","H","Minigolfclub Dormagen - Brechten e. V."]
[{"$f":"VALUE(B1795)","v":23321},23321,"Jürgen","Kuß","1. MGC Mannheim 1968",{"$f":"CONCATENATE(G1795,\": \",D1795,\",\",C1795)","v":"SM2: Kuß,Jürgen"},"SM2","1. Miniatur-Golf-Club Mannheim 1968 e. V."]
[5956,5956,"Helmut","Kuttig","Minigolfunion Neviges-Odenthal 1968","SM2: Kuttig,Helmut","SM2","Minigolfunion Neviges-Odenthal 1968 e. V."]
[25372,25372,"Emil","Laber","BIG ASPERG","SM2: Laber,Emil","SM2","Bahnengolf-Interessen-Gemeinschaft Asperg e. V. 1982"]
[25371,25371,"Andrea","Laber","BIG ASPERG","SW2: Laber,Andrea","SW2","Bahnengolf-Interessen-Gemeinschaft Asperg e. V. 1982"]
[67419,67419,"Peter","Labude","VfL Lohbrügge Abt. Bahnengolf","SM1: Labude,Peter","SM1","Verein für Leibesübungen Lohbrügge von 1892 e. V. Abteilung Bahnengolf"]
[29677,29677,"René","Lagerquist","MGC Olympia Kiel","H: Lagerquist,René","H","Miniaturgolfclub Olympia Kiel e. V."]
[49742,49742,"Britta","Lagerquist","MGC Olympia Kiel","SW1: Lagerquist,Britta","SW1","Miniaturgolfclub Olympia Kiel e. V."]
[41848,41848,"Stefan","Lahann","1. MSC Hamburg-Neu Wulmstorf","SM1: Lahann,Stefan","SM1","1. Minigolf-Sport-Club Hamburg-Neu-Wulmstorf e. V."]
[5260,5260,"Peter","Lais","1. Münchener MGC","SM2: Lais,Peter","SM2","1. Münchener Minigolf-Club 1962 e. V."]
[65072,65072,"Cornelia","Lais","1. Münchener MGC","SW2: Lais,Cornelia","SW2","1. Münchener Minigolf-Club 1962 e. V."]
[37708,37708,"Kevin","Lammers","VfM Bottrop","H: Lammers,Kevin","H","Verein für Minigolf Bottrop e. V."]
[29247,29247,"Andreas","Lammers","VfM Bottrop","SM1: Lammers,Andreas","SM1","Verein für Minigolf Bottrop e. V."]
[6879,6879,"Helmut","Landl","BSV 86 München","SM2: Landl,Helmut","SM2","Bahnengolfsportverein 86 München e. V."]
[31613,31613,"Christa","Landl","BSV 86 München","SW2: Landl,Christa","SW2","Bahnengolfsportverein 86 München e. V."]
[35806,35806,"Martin","Lanfer","MGC Dormagen-Brechten","SM1: Lanfer,Martin","SM1","Minigolfclub Dormagen - Brechten e. V."]
[46037,46037,"Ewald","Lang","MSC Bad Godesberg","SM1: Lang,Ewald","SM1","Minigolf-Sport-Club Bad Godesberg e. V."]
[34780,34780,"Jürgen","Lang","1. MGC Süßen","SM1: Lang,Jürgen","SM1","1. Miniaturgolfclub Süßen e. V."]
[37857,37857,"Michael","Lang","BGC Bildstock","SM2: Lang,Michael","SM2","Bahnen-Golf-Club Bildstock e. V."]
[67718,67718,"Justin","Lange","TSV Arendsee","H: Lange,Justin","H","Turn- und Sportverein Arendsee e. V. Abteilung Minigolf"]
[879,879,"Kevin","Lange","BGC Diepholz","H: Lange,Kevin","H","Bahnen-Golf-Club Diepholz e. V."]
[37204,37204,"Philipp","Lange","BGV Backumer Tal Herten","H: Lange,Philipp","H","BGV Backumer Tal Herten e. V."]
[66725,66725,"Nils","Lange","SC Olympia Dortmund","H: Lange,Nils","H","Sport-Club Olympia Dortmund e. V. "]
[45964,45964,"Heinz-Jürgen","Lange","BGSV Bad Homburg","SM2: Lange,Heinz-Jürgen","SM2","Bahnengolf-Sportverein Bad Homburg v.d.H. e. V."]
[12503,12503,"Dieter","Lange","MGC \"AS\" Witten 1963","SM2: Lange,Dieter","SM2","Minigolfclub \"AS\" Witten 1963 e. V."]
[17614,17614,"Friedrich","Lange","1. KGC Mönchengladbach","SM2: Lange,Friedrich","SM2","1. Klein-Golf-Club Mönchengladbach e. V."]
[17112,17112,"Maria","Lange","MGC \"AS\" Witten 1963","SW2: Lange,Maria","SW2","Minigolfclub \"AS\" Witten 1963 e. V."]
[17615,17615,"Marlene","Lange","1. KGC Mönchengladbach","SW2: Lange,Marlene","SW2","1. Klein-Golf-Club Mönchengladbach e. V."]
[33485,33485,"Bianca","Langenbacher","1. MGC Tuttlingen","D: Langenbacher,Bianca","D","Erster Minigolf - Club Tuttlingen e. V."]
[66570,66570,"Yannick","Langer","MGC Ingolstadt","H: Langer,Yannick","H"," Miniaturgolf-Club Ingolstadt e. V."]
[29043,29043,"Waldemar","Langer","1. BGC Landshut","SM2: Langer,Waldemar","SM2","1. Bahnengolf-Club Landshut e. V."]
[66571,66571,"Viktor","Langer","MGC Ingolstadt","SM2: Langer,Viktor","SM2"," Miniaturgolf-Club Ingolstadt e. V."]
[35700,35700,"Martin","Langfeld","1. MGC Metzingen","SM2: Langfeld,Martin","SM2","1. Miniaturgolf Club Metzingen e. V."]
[34921,34921,"Heinz","Langner","TSV 1848 Flöha","SM2: Langner,Heinz","SM2","Turn- und Sportverein Flöha 1848 e. V. Abteilung Minigolf"]
[902,902,"Janina","Laskowski","1. BGC Hannover","D: Laskowski,Janina","D","1. Bahnen-Golf-Club Hannover e. V."]
[44812,44812,"Günter","Lassen","MSC Herscheid 1963","SM2: Lassen,Günter","SM2","Minigolf-Sportclub Herscheid 1963 e. V."]
[50101,50101,"Tanja","Lauber-Selka","MSK Neheim-Hüsten","D: Lauber-Selka,Tanja","D","MINIGOLF-SPORT-KLUB Neheim-Hüsten e. V."]
[41392,41392,"Holger","Lauble","MGF Waldshut 74","SM1: Lauble,Holger","SM1","Minigolffreunde Waldshut 1974 e. V."]
[6368,6368,"Ekkehard","Lauer","OMGC Ingolstadt","SM2: Lauer,Ekkehard","SM2","Oberbayerische Minigolf-Club Ingolstadt e. V."]
[67833,67833,"Ludwig","Laufenberg","BGS Hardenberg-Pötter","SM2: Laufenberg,Ludwig","SM2","BGS Hardenberg-Pötter e. V."]
[67322,67322,"Gunter","Laurenz","Osnabrücker M.-C. von 1963","SM1: Laurenz,Gunter","SM1","Osnabrücker Minigolf Club von 1963 e. V."]
[67321,67321,"Anja","Laurenz","Osnabrücker M.-C. von 1963","SW1: Laurenz,Anja","SW1","Osnabrücker Minigolf Club von 1963 e. V."]
[66198,66198,"Horst","Laurenz","MSG Kempten","SM2: Laurenz,Horst","SM2","Minigolf-Sport-Gemeinschaft Kempten e. V."]
[34469,34469,"Aylin","Lauterfeld","TSV Pfungstadt Abt. Bahnengolf","D: Lauterfeld,Aylin","D","TSV Pfungstadt e. V. Abteilung Bahnengolf"]
[35659,35659,"Marcel","Laux","MGC Traben-Trarbach","H: Laux,Marcel","H","Minigolfclub Traben-Trarbach e. V."]
[33131,33131,"Alexander","Laux","MGC Traben-Trarbach","SM1: Laux,Alexander","SM1","Minigolfclub Traben-Trarbach e. V."]
[67537,67537,"Heinrich","Lay","MSC Bensheim-Auerbach","JM: Lay,Heinrich","JM","Minigolf-Sport-Club Bensheim-Auerbach e. V."]
[47498,47498,"Ilona","Lechler","MGC Schwaikheim","SW1: Lechler,Ilona","SW1","Miniaturgolf – Club Schwaikheim e. V."]
[67187,67187,"Justin","Lechtenfeld","MGC Rot-Weiß Wanne-Eickel","JM: Lechtenfeld,Justin","JM","Minigolfclub Rot-Weiß Wanne-Eickel e. V."]
[48696,48696,"Valentino","Legisa","BGSC \"Gut Schlag\" Gladbeck","SM2: Legisa,Valentino","SM2","Bahnengolfsportclub \"Gut Schlag\" Gladbeck e. V."]
[67372,67372,"Niclas","Lehmann","SC Olympia Dortmund","H: Lehmann,Niclas","H","Sport-Club Olympia Dortmund e. V. "]
[67753,67753,"Fabienne","Lehmann","BGC Dormagen","JW: Lehmann,Fabienne","JW","Bahnengolf-Club Dormagen e. V."]
[67754,67754,"Michaela","Lehmann","BGC Dormagen","SW1: Lehmann,Michaela","SW1","Bahnengolf-Club Dormagen e. V."]
[66356,66356,"Reiner","Lehmann","MGC \"Stahlquelle\" Bad Bocklet","SM2: Lehmann,Reiner","SM2","Miniatur-Golf-Club \"Stahlquelle\", Bad Bocklet 1989 e. V."]
[23055,23055,"Detlef","Lehmann","Bochumer Minigolf-Club 1960","SM2: Lehmann,Detlef","SM2","Bochumer Minigolf-Club 1960 e. V."]
[67640,67640,"Nico","Lehn","BGC Diepholz","SM1: Lehn,Nico","SM1","Bahnen-Golf-Club Diepholz e. V."]
[32627,32627,"Kevin","Leickel","MGC Olympia Kiel","H: Leickel,Kevin","H","Miniaturgolfclub Olympia Kiel e. V."]
[67843,67843,"Christian","Leidigkeit","BGSC \"Gut Schlag\" Gladbeck","SM1: Leidigkeit,Christian","SM1","Bahnengolfsportclub \"Gut Schlag\" Gladbeck e. V."]
[35756,35756,"Andreas","Leidlein","1. MGC Gelsenkirchen","SM2: Leidlein,Andreas","SM2","1. Minigolf Club Gelsenkirchen e. V."]
[66327,66327,"Adam","Leist","Minigolf Wölfe Rheinstetten 02","SM2: Leist,Adam","SM2","Rad- und Kraftfahrervereins \"Solidarität\" Mörsch e. V. Abteilung Minigolf Wölfe Rheinstetten 02"]
[41235,41235,"Hans","Lemanczyk","1. MSC Hamburg-Neu Wulmstorf","SM1: Lemanczyk,Hans","SM1","1. Minigolf-Sport-Club Hamburg-Neu-Wulmstorf e. V."]
[62202,62202,"Dieter","Lemanczyk","1. MSC Hamburg-Neu Wulmstorf","SM2: Lemanczyk,Dieter","SM2","1. Minigolf-Sport-Club Hamburg-Neu-Wulmstorf e. V."]
[29671,29671,"André","Lemke","MGC Olympia Kiel","H: Lemke,André","H","Miniaturgolfclub Olympia Kiel e. V."]
[34585,34585,"Sabrina","Lemke","MGC Olympia Kiel","D: Lemke,Sabrina","D","Miniaturgolfclub Olympia Kiel e. V."]
[67207,67207,"Thomas","Lemke","Kölner Miniatur Golf Club","SM1: Lemke,Thomas","SM1","Kölner Miniatur Golf Club e. V."]
[{"$f":"VALUE(B1859)","v":28673},28673,"Kai","Lemke","MGC Olympia Kiel",{"$f":"CONCATENATE(G1859,\": \",D1859,\",\",C1859)","v":"SM1: Lemke,Kai"},"SM1","Miniaturgolfclub Olympia Kiel e. V."]
[41266,41266,"Cornelia","Lemke","MGC Olympia Kiel","SW1: Lemke,Cornelia","SW1","Miniaturgolfclub Olympia Kiel e. V."]
[44385,44385,"Andreas","Lemm","MGC Freizeitzentrum Biebertal","SM1: Lemm,Andreas","SM1","Miniatur-Golf-Club Freizeitzentrum Biebertal e. V."]
[67390,67390,"Georg","Lemm","Kölner Miniatur Golf Club","SM2: Lemm,Georg","SM2","Kölner Miniatur Golf Club e. V."]
[67582,67582,"Marita","Lemm","Kölner Miniatur Golf Club","SW2: Lemm,Marita","SW2","Kölner Miniatur Golf Club e. V."]
[66067,66067,"Ute","Lendner","VfL Lohbrügge Abt. Bahnengolf","SW2: Lendner,Ute","SW2","Verein für Leibesübungen Lohbrügge von 1892 e. V. Abteilung Bahnengolf"]
[67220,67220,"Georg","Lendzian","SC Olympia Dortmund","SM2: Lendzian,Georg","SM2","Sport-Club Olympia Dortmund e. V. "]
[29795,29795,"Katharina","Lenertz","1. MSC Wesel 6.6.1966","D: Lenertz,Katharina","D","1. Minigolf-Sportclub Wesel 66 66 e. V. "]
[67816,67816,"Sebastian","Lengeling","1. MGC Paderborn","H: Lengeling,Sebastian","H","1. Minigolf-Club Paderborn 1980 e. V."]
[38613,38613,"Andre","Lenger","MGC Bad Salzuflen","SM1: Lenger,Andre","SM1","Minigolf-Club Bad Salzuflen e. V."]
[61716,61716,"Rolf","Lenk","MGC \"AS\" Witten 1963","SM2: Lenk,Rolf","SM2","Minigolfclub \"AS\" Witten 1963 e. V."]
[26539,26539,"Axel","Lenz","MGF Hilzingen 80","SM1: Lenz,Axel","SM1","Minigolffreunde Hilzingen 80 e. V."]
[38115,38115,"Jürgen","Lenz","HMC Büttgen","SM2: Lenz,Jürgen","SM2","Hobbysport Miniaturgolfclub Büttgen e. V."]
[67315,67315,"Heinz Peter","Leonhardt","MGC Bad Homburg vdH","SM2: Leonhardt,Heinz Peter","SM2","Minigolf-Club Bad Homburg e. V."]
[36564,36564,"Björn","Lepa","TSV Salzgitter Abt. Bahnengolf","H: Lepa,Björn","H","Turn- und Sportverein Salzgitter e. V. Abteilung Bahnengolf"]
[35504,35504,"Gerrit","Lerch","MC Ilvesheim","H: Lerch,Gerrit","H","Miniaturgolf-Club Ilvesheim e. V."]
[67652,67652,"Leandra","Leske","Tempelhofer MV Berlin","SCHW: Leske,Leandra","SCHW","Tempelhofer Miniaturgolf Verein von 1965 e. V."]
[66401,66401,"Jörg","Leske","Tempelhofer MV Berlin","SM1: Leske,Jörg","SM1","Tempelhofer Miniaturgolf Verein von 1965 e. V."]
[5776,5776,"Irena","Lesnik","SSV Ulm 1846 Abt. Bahnengolf","SW2: Lesnik,Irena","SW2","Schwimm- und Sportverein Ulm 1846 e. V. Abteilung Bahnengolf"]
[40048,40048,"Michael","Leßner","Bochumer Minigolf-Club 1960","SM1: Leßner,Michael","SM1","Bochumer Minigolf-Club 1960 e. V."]
[30039,30039,"Reinhard","Letzel","BGC Rheinau-Freistett","SM2: Letzel,Reinhard","SM2","BGC Rheinau-Freistett e. V."]
[3756,3756,"Hans-Winfried","Leuchtenberger","VfM Berlin","SM2: Leuchtenberger,Hans-Winfried","SM2","Verein für Minigolf e. V. Berlin"]
[51324,51324,"Marcus","Leuthäußer","MGV Bremen","H: Leuthäußer,Marcus","H","Miniatur-Golf-Verein Bremen e. V."]
[36908,36908,"Philipp","Lewin","MSK Neheim-Hüsten","H: Lewin,Philipp","H","MINIGOLF-SPORT-KLUB Neheim-Hüsten e. V."]
[38260,38260,"Annika","Lewin","MSK Neheim-Hüsten","D: Lewin,Annika","D","MINIGOLF-SPORT-KLUB Neheim-Hüsten e. V."]
[66907,66907,"Karin","Leyer","SV 1890 Dreieichenhain, Abt. Bahnengolf","SW2: Leyer,Karin","SW2","Sportverein 1890 e. V. Dreieichenhain Abteilung Bahnengolf"]
[66351,66351,"Heike","Liberoudis","VfB Osnabrück","SW1: Liberoudis,Heike","SW1","Verein für Bahnengolf Osnabrück von 1984 e. V."]
[37633,37633,"Jan Peter","Lichtenberg","1. KC Homburg-Saar 1967","H: Lichtenberg,Jan Peter","H","1. Kleingolf Club Homburg-Saar 1967 e. V."]
[23239,23239,"Kurt","Lichtenberg","1. KC Homburg-Saar 1967","SM2: Lichtenberg,Kurt","SM2","1. Kleingolf Club Homburg-Saar 1967 e. V."]
[65975,65975,"Hans-Jürgen","Lichterfeld","MGC Bergisch Gladbach Gierath","SM2: Lichterfeld,Hans-Jürgen","SM2","Minigolf-Club Bergisch Gladbach Gierath e. V."]
[65873,65873,"Johannes","Lieber","1. KC Homburg-Saar 1967","H: Lieber,Johannes","H","1. Kleingolf Club Homburg-Saar 1967 e. V."]
[23980,23980,"Bernhard","Liebetrau","Miniaturgolf Sportclub Schriesheim","SM2: Liebetrau,Bernhard","SM2","Miniaturgolf Sportclub Schriesheim e. V."]
[48671,48671,"Sven","Liebig","BGC Bad Nenndorf","SM1: Liebig,Sven","SM1","Bahnen-Golf-Club Bad Nenndorf e. V."]
[42408,42408,"Manfred","Liebstückel","MGC Wertheim 91","SM2: Liebstückel,Manfred","SM2","Minigolfdub Wertheim ´91 e. V."]
[42417,42417,"Ruth","Liebstückel","MGC Wertheim 91","SW2: Liebstückel,Ruth","SW2","Minigolfdub Wertheim ´91 e. V."]
[27921,27921,"Peter","Liedhegener","MSK Neheim-Hüsten","SM2: Liedhegener,Peter","SM2","MINIGOLF-SPORT-KLUB Neheim-Hüsten e. V."]
[66148,66148,"Simone","Limpius","TG Höchberg von 1862 Bahnengolf","D: Limpius,Simone","D","Turngemeinde Höchberg von 1862 Bahnengolf e. V."]
[44172,44172,"Matthias","Limpius","TG Höchberg von 1862 Bahnengolf","SM1: Limpius,Matthias","SM1","Turngemeinde Höchberg von 1862 Bahnengolf e. V."]
[42074,42074,"Andrea","Limpius","TG Höchberg von 1862 Bahnengolf","SW1: Limpius,Andrea","SW1","Turngemeinde Höchberg von 1862 Bahnengolf e. V."]
[5966,5966,"Werner","Limpius","TG Höchberg von 1862 Bahnengolf","SM2: Limpius,Werner","SM2","Turngemeinde Höchberg von 1862 Bahnengolf e. V."]
[36091,36091,"Alfred","Lindauer","OMGC Ingolstadt","SM2: Lindauer,Alfred","SM2","Oberbayerische Minigolf-Club Ingolstadt e. V."]
[25107,25107,"Jürgen","Linde","SSC Attendorn","SM2: Linde,Jürgen","SM2","Sterngolf-Sport-Club Attendorn e. V."]
[66253,66253,"Lukas","Lindemann","BGSV Bad Homburg","H: Lindemann,Lukas","H","Bahnengolf-Sportverein Bad Homburg v.d.H. e. V."]
[66254,66254,"Oliver","Lindemann","BGSV Bad Homburg","SM1: Lindemann,Oliver","SM1","Bahnengolf-Sportverein Bad Homburg v.d.H. e. V."]
[40203,40203,"Mareike","Lindenberg","1. BGC Celle von 1964","D: Lindenberg,Mareike","D","1. Bahnen-Golf-Club Celle von 1964 e. V."]
[133,133,"Andreas","Lindenblatt","VfB Osnabrück","SM2: Lindenblatt,Andreas","SM2","Verein für Bahnengolf Osnabrück von 1984 e. V."]
[40475,40475,"Bernhard","Lindner","1. NMC Kelheim","SM1: Lindner,Bernhard","SM1","1. Niederbayerischer Minigolf-Club Kelheim e. V."]
[9959,9959,"Fritz","Lindner","ASV Pegnitz, Abt. Minigolf","SM2: Lindner,Fritz","SM2","Allgemeiner Sportverein Pegnitz e. V. Abteilung Minigolf"]
[41825,41825,"Gisbert","Lindner","BGC Neutraubling","SM2: Lindner,Gisbert","SM2","Bahnengolf-Club Neutraubling e. V."]
[37135,37135,"Jacqueline","Lingemann","VfB Osnabrück","D: Lingemann,Jacqueline","D","Verein für Bahnengolf Osnabrück von 1984 e. V."]
[37136,37136,"Sarah","Lingemann","VfB Osnabrück","D: Lingemann,Sarah","D","Verein für Bahnengolf Osnabrück von 1984 e. V."]
[66396,66396,"Christin","Lingemann","Osnabrücker M.-C. von 1963","JW: Lingemann,Christin","JW","Osnabrücker Minigolf Club von 1963 e. V."]
[48947,48947,"Konrad","Lingemann","Osnabrücker M.-C. von 1963","SM2: Lingemann,Konrad","SM2","Osnabrücker Minigolf Club von 1963 e. V."]
[37973,37973,"Horst","Linke","1. Bahnengolf-Club Singen","SM2: Linke,Horst","SM2","1. Bahnengolf-Club Singen e. V."]
[37415,37415,"Christina","Linke-König","1. Bahnengolf-Club Singen","D: Linke-König,Christina","D","1. Bahnengolf-Club Singen e. V."]
[66747,66747,"Matti","Linker","CGC Rauschenberg","JM: Linker,Matti","JM","Cobigolf-Club Rauschenberg e. V."]
[67817,67817,"Robin","Linnemann","1. MGC Paderborn","H: Linnemann,Robin","H","1. Minigolf-Club Paderborn 1980 e. V."]
[67648,67648,"Tiemo","Lipphausen","1. MGC Paderborn","H: Lipphausen,Tiemo","H","1. Minigolf-Club Paderborn 1980 e. V."]
[65442,65442,"Brigitte","Lischke","OMGC Ingolstadt","D: Lischke,Brigitte","D","Oberbayerische Minigolf-Club Ingolstadt e. V."]
[33730,33730,"Martin","Lischke","OMGC Ingolstadt","SM1: Lischke,Martin","SM1","Oberbayerische Minigolf-Club Ingolstadt e. V."]
[29299,29299,"Heinz","Löbel","OMGC Ingolstadt","SM2: Löbel,Heinz","SM2","Oberbayerische Minigolf-Club Ingolstadt e. V."]
[36844,36844,"Gerhard","Lödige","VfB Osnabrück","SM2: Lödige,Gerhard","SM2","Verein für Bahnengolf Osnabrück von 1984 e. V."]
[36853,36853,"Maria","Lödige","VfB Osnabrück","SW2: Lödige,Maria","SW2","Verein für Bahnengolf Osnabrück von 1984 e. V."]
[6464,6464,"Manfred","Loewe","BSC Ennepetal","SM2: Loewe,Manfred","SM2","Bahngolf-Sport-Club Ennepetal e. V."]
[{"$f":"VALUE(B1923)","v":66736},66736,"Harry","Löffler","1. BGC Landshut",{"$f":"CONCATENATE(G1923,\": \",D1923,\",\",C1923)","v":"SM2: Löffler,Harry"},"SM2","1. Bahnengolf-Club Landshut e. V."]
[30914,30914,"Alfred","Lohe","BGSC \"Gut Schlag\" Gladbeck","SM2: Lohe,Alfred","SM2","Bahnengolfsportclub \"Gut Schlag\" Gladbeck e. V."]
[36543,36543,"Angelika","Lohe","BGSC \"Gut Schlag\" Gladbeck","SW2: Lohe,Angelika","SW2","Bahnengolfsportclub \"Gut Schlag\" Gladbeck e. V."]
[36001,36001,"Christian","Lohmann","Cobigolf-Verein Hamm 2019","H: Lohmann,Christian","H","Cobigolf-Verein Hamm 2019 e. V."]
[47063,47063,"Thomas","Lohöfener","BV Sennestadt","SM1: Lohöfener,Thomas","SM1","BV Sennestadt e. V."]
[45633,45633,"Michael","Löhr","BGSC Bochum 1978","SM2: Löhr,Michael","SM2","Bahnengolf-Sportclub Bochum 1978 e. V."]
[49463,49463,"Elke","Löhr","BGSC Bochum 1978","SW2: Löhr,Elke","SW2","Bahnengolf-Sportclub Bochum 1978 e. V."]
[4788,4788,"Roland","Löhrlein","1. FMGC Lichtenfels 1961","SM2: Löhrlein,Roland","SM2","1. Fränkischer Minigolfclub Lichtenfels 1961 e. V."]
[66834,66834,"Martin","Loibl","1. Berliner Miniaturgolf-Sportclub 1960","SM1: Loibl,Martin","SM1","1. Berliner Miniaturgolf-Sportclub e. V. 1960"]
[33631,33631,"Thomas","Lojewski","MGC Murnau am Staffelsee","H: Lojewski,Thomas","H","Minigolfclub Murnau am Staffelsee e. V."]
[67775,67775,"Ulrich","Loll","1. MGC Köln 1961","SM2: Loll,Ulrich","SM2","1. Minigolf-Club Köln 1961 e. V."]
[66958,66958,"Peter","Lorch","1. MGC Mainz","SM2: Lorch,Peter","SM2","Erster Mainzer Minigolf-Club e. V. 1964"]
[35306,35306,"Patrick","Lorenz","SG Arheilgen Abt. Bahnengolf","H: Lorenz,Patrick","H","Sportgemeinschaft Arheilgen 1876/1945 e. V. Abteilung Bahnengolf"]
[33338,33338,"Uwe","Lorenz","MC \"Möve\" Cuxhaven-Sahlenburg","SM2: Lorenz,Uwe","SM2","Miniaturgolf-Club \"Möve\" Cuxhaven-Sahlenburg e. V."]
[46048,46048,"Melanie","Lorgie","MGC Olympia Kiel","SW1: Lorgie,Melanie","SW1","Miniaturgolfclub Olympia Kiel e. V."]
[5852,5852,"Hans-Herbert","Lorgie","MGC Olympia Kiel","SM2: Lorgie,Hans-Herbert","SM2","Miniaturgolfclub Olympia Kiel e. V."]
[41253,41253,"Regina","Lorgie","MGC Olympia Kiel","SW2: Lorgie,Regina","SW2","Miniaturgolfclub Olympia Kiel e. V."]
[27300,27300,"Thomas","Losch","1. BGC Hannover","SM1: Losch,Thomas","SM1","1. Bahnen-Golf-Club Hannover e. V."]
[36171,36171,"Dennis","Löschmann","Tempelhofer MV Berlin","H: Löschmann,Dennis","H","Tempelhofer Miniaturgolf Verein von 1965 e. V."]
[34157,34157,"Michael","Lotz","MGC Bad Soden-Salmünster","SM2: Lotz,Michael","SM2","Miniaturgolfclub Bad Soden-Salmünster e. V."]
[67632,67632,"Gudrun","Lotz","MGC Bad Homburg vdH","SW2: Lotz,Gudrun","SW2","Minigolf-Club Bad Homburg e. V."]
[66395,66395,"Hans","Louven","VfB Osnabrück","SM2: Louven,Hans","SM2","Verein für Bahnengolf Osnabrück von 1984 e. V."]
[67656,67656,"Jochen","Löwer","1. MGC Ludwigshafen","SM1: Löwer,Jochen","SM1","1. Miniatur-Golf-Club Ludwigshafen 1964 e. V."]
[5594,5594,"Herbert","Löwer","1. MGC Kassel 1964","SM2: Löwer,Herbert","SM2","1. Mini-Golfsport-Club Kassel-Vellmar 1964 e. V."]
[67741,67741,"Sylvia","Lück","BV Sennestadt","SW1: Lück,Sylvia","SW1","BV Sennestadt e. V."]
[45994,45994,"Bettina","Luckei","1. MGC Lohfelden 1997","SW1: Luckei,Bettina","SW1","1. Miniatur-Golfsport-Club Lohfelden e. V."]
[45995,45995,"Manfred","Luckei","1. MGC Lohfelden 1997","SM2: Luckei,Manfred","SM2","1. Miniatur-Golfsport-Club Lohfelden e. V."]
[37293,37293,"Dominik","Ludwig","BGC Goslar","H: Ludwig,Dominik","H","Bahnen-Golf-Club Goslar e. V."]
[37295,37295,"Sven","Ludwig","BGC Goslar","H: Ludwig,Sven","H","Bahnen-Golf-Club Goslar e. V."]
[1501,1501,"Kornelia","Ludwig","BGC Goslar","SW1: Ludwig,Kornelia","SW1","Bahnen-Golf-Club Goslar e. V."]
[67807,67807,"Michael","Ludwig","BGSC \"Gut Schlag\" Gladbeck","SM2: Ludwig,Michael","SM2","Bahnengolfsportclub \"Gut Schlag\" Gladbeck e. V."]
[67808,67808,"Adelheid","Ludwig","BGSC \"Gut Schlag\" Gladbeck","SW2: Ludwig,Adelheid","SW2","Bahnengolfsportclub \"Gut Schlag\" Gladbeck e. V."]
[67373,67373,"Niklas","Ludzay","SC Olympia Dortmund","H: Ludzay,Niklas","H","Sport-Club Olympia Dortmund e. V. "]
[41227,41227,"Robert","Lugauer","MGC Ingolstadt","SM2: Lugauer,Robert","SM2"," Miniaturgolf-Club Ingolstadt e. V."]
[3261,3261,"Werner","Lührs","1. BGC Celle von 1964","SM2: Lührs,Werner","SM2","1. Bahnen-Golf-Club Celle von 1964 e. V."]
[33613,33613,"Marcel","Lukat","MGC Brunsbüttel","H: Lukat,Marcel","H","Miniaturgolf-Club Brunsbüttel e. V."]
[67434,67434,"Wigbert","Lüke","BV Sennestadt","SM2: Lüke,Wigbert","SM2","BV Sennestadt e. V."]
[40720,40720,"Dirk","Lumma","HMC Büttgen","SM1: Lumma,Dirk","SM1","Hobbysport Miniaturgolfclub Büttgen e. V."]
[38641,38641,"Herbert","Luttmann","VfB Osnabrück","SM2: Luttmann,Herbert","SM2","Verein für Bahnengolf Osnabrück von 1984 e. V."]
[22917,22917,"Hugo","Lutz","1. Bahnengolf-Club Singen","SM1: Lutz,Hugo","SM1","1. Bahnengolf-Club Singen e. V."]
[40232,40232,"Helmut","Lutz","SSC Attendorn","SM2: Lutz,Helmut","SM2","Sterngolf-Sport-Club Attendorn e. V."]
[22913,22913,"Martina","Lutz","1. Bahnengolf-Club Singen","SW2: Lutz,Martina","SW2","1. Bahnengolf-Club Singen e. V."]
[45123,45123,"Angelika","Luz","1. MGC Metzingen","SW2: Luz,Angelika","SW2","1. Miniaturgolf Club Metzingen e. V."]
[34902,34902,"Daniel","Maar","BGSV Castrop 1961","H: Maar,Daniel","H","Bahnengolfsportverein Castrop e. V. 1961"]
[66036,66036,"Vanessa","Maaß","MGC Brunsbüttel","D: Maaß,Vanessa","D","Miniaturgolf-Club Brunsbüttel e. V."]
[43835,43835,"Bettina","Maaß","MGC Brunsbüttel","SW1: Maaß,Bettina","SW1","Miniaturgolf-Club Brunsbüttel e. V."]
[43837,43837,"Herbert","Maaß","MGC Brunsbüttel","SM2: Maaß,Herbert","SM2","Miniaturgolf-Club Brunsbüttel e. V."]
[67706,67706,"Benjamin","Maczkiewicz","BGV Backumer Tal Herten","H: Maczkiewicz,Benjamin","H","BGV Backumer Tal Herten e. V."]
[67167,67167,"Stefan","Maes","BGS Hardenberg-Pötter","SM1: Maes,Stefan","SM1","BGS Hardenberg-Pötter e. V."]
[38127,38127,"Friedel","Maesel","MC 62 Lüdenscheid","SM2: Maesel,Friedel","SM2","MC 62 Lüdenscheid e. V."]
[30185,30185,"Thomas","Magin","1. MGC Ludwigshafen","SM1: Magin,Thomas","SM1","1. Miniatur-Golf-Club Ludwigshafen 1964 e. V."]
[67428,67428,"Regina","Magin","MGC Bad Homburg vdH","SW2: Magin,Regina","SW2","Minigolf-Club Bad Homburg e. V."]
[67278,67278,"Simon","Mahl","1. BGC Garmisch-Partenkirchen","H: Mahl,Simon","H","1. Bahnengolfclub Garmisch-Partenkirchen e. V."]
[49672,49672,"Josef","Mahl","1. BGC Garmisch-Partenkirchen","SM2: Mahl,Josef","SM2","1. Bahnengolfclub Garmisch-Partenkirchen e. V."]
[36823,36823,"Niklas","Maier","MGC Unterschneidheim","SM1: Maier,Niklas","SM1","Minigolfclub Unterschneidheim e. V."]
[38562,38562,"Marianne","Maier","MGC Unterschneidheim","SW1: Maier,Marianne","SW1","Minigolfclub Unterschneidheim e. V."]
[47032,47032,"Josef","Maier","MGC Wolnzach","SM2: Maier,Josef","SM2","Miniaturgolf-Club Wolnzach e. V."]
[66497,66497,"Anton","Maierhofer","MGC Bad Feilnbach","H: Maierhofer,Anton","H","Minigolfclub Bad Feilnbach e. V."]
[67044,67044,"Thomas","Maisch","MGC Monrepos","H: Maisch,Thomas","H","Minigolfclub Monrepos e. V."]
[67043,67043,"Ramona","Maisch","MGC Monrepos","D: Maisch,Ramona","D","Minigolfclub Monrepos e. V."]
[67465,67465,"Nurfet","Majdanac","BGC 90 Ottobrunn","H: Majdanac,Nurfet","H","BGC 90 Ottobrunn e. V."]
[37360,37360,"Frank","Maldei","BGSC \"Gut Schlag\" Gladbeck","SM1: Maldei,Frank","SM1","Bahnengolfsportclub \"Gut Schlag\" Gladbeck e. V."]
[49850,49850,"Ralf","Malirs","SV Lurup Abt. Bahnengolf","SM1: Malirs,Ralf","SM1","Sportverein Lurup-Hamburg von 1923 e. V. Abteilung Bahnengolf"]
[67730,67730,"Brain ","Mally","SV 1890 Dreieichenhain, Abt. Bahnengolf","H: Mally,Brain ","H","Sportverein 1890 e. V. Dreieichenhain Abteilung Bahnengolf"]
[{"$f":"VALUE(B1987)","v":37865},37865,"Joachim","Mally","SV 1890 Dreieichenhain, Abt. Bahnengolf",{"$f":"CONCATENATE(G1987,\": \",D1987,\",\",C1987)","v":"SM1: Mally,Joachim"},"SM1","Sportverein 1890 e. V. Dreieichenhain Abteilung Bahnengolf"]
[25785,25785,"Norman","Mandel","HMC Büttgen","SM2: Mandel,Norman","SM2","Hobbysport Miniaturgolfclub Büttgen e. V."]
[50926,50926,"Frank","Manderscheid","1. MGC Ludwigshafen","SM1: Manderscheid,Frank","SM1","1. Miniatur-Golf-Club Ludwigshafen 1964 e. V."]
[6693,6693,"Hans","Manderscheid","Freizeit Club Bliesen","SM2: Manderscheid,Hans","SM2","Freizeit Club Bliesen e. V."]
[3796,3796,"Hans-Joachim","Mann","MGC Murnau am Staffelsee","SM2: Mann,Hans-Joachim","SM2","Minigolfclub Murnau am Staffelsee e. V."]
[38500,38500,"Stefan","Manthey","MSC Bad Godesberg","SM1: Manthey,Stefan","SM1","Minigolf-Sport-Club Bad Godesberg e. V."]
[67046,67046,"Tim","Manz","Reinickendorfer MGC","JM: Manz,Tim","JM","Reinickendorfer Miniatur - Golfsport - Club e. V."]
[45029,45029,"Wolfgang","Manz","BGC Illertissen","SM2: Manz,Wolfgang","SM2","Bahnengolfclub Illertissen e. V."]
[40944,40944,"Susanne","Manz","BGC Illertissen","SW2: Manz,Susanne","SW2","Bahnengolfclub Illertissen e. V."]
[42687,42687,"Christian","Marinello","MC \"Möve\" Cuxhaven-Sahlenburg","SM1: Marinello,Christian","SM1","Miniaturgolf-Club \"Möve\" Cuxhaven-Sahlenburg e. V."]
[65657,65657,"Max","Märkl","BGC Neutraubling","SM2: Märkl,Max","SM2","Bahnengolf-Club Neutraubling e. V."]
[45267,45267,"Leif","Markmann","MGC Olympia Kiel","SM1: Markmann,Leif","SM1","Miniaturgolfclub Olympia Kiel e. V."]
[50930,50930,"Jürgen","Marschall","Freizeit Club Bliesen","SM2: Marschall,Jürgen","SM2","Freizeit Club Bliesen e. V."]
[33471,33471,"Heinz","Marterer","1. BGC Garmisch-Partenkirchen","SM2: Marterer,Heinz","SM2","1. Bahnengolfclub Garmisch-Partenkirchen e. V."]
[42045,42045,"Sabine","Marterer-Schleser","1. MGC München-Feldmoching","SW1: Marterer-Schleser,Sabine","SW1","1. Miniaturgolfclub München-Feldmoching e. V."]
[66957,66957,"Christian","Marth","1. MGC Mainz","SM2: Marth,Christian","SM2","Erster Mainzer Minigolf-Club e. V. 1964"]
[35692,35692,"Bärbel","Martin","MGC Olympia Kiel","SW2: Martin,Bärbel","SW2","Miniaturgolfclub Olympia Kiel e. V."]
[36222,36222,"Sven","Martinez Moreno","1. Minigolf-Club Rheinhausen","SM1: Martinez Moreno,Sven","SM1","1. Minigolf-Club Rheinhausen e. V."]
[47173,47173,"Ingo","Marx","1. MSC Hamburg-Neu Wulmstorf","SM1: Marx,Ingo","SM1","1. Minigolf-Sport-Club Hamburg-Neu-Wulmstorf e. V."]
[67426,67426,"Marcus","Maschauer","MGC Bad Homburg vdH","H: Maschauer,Marcus","H","Minigolf-Club Bad Homburg e. V."]
[67365,67365,"Claus","Maschauer","MGC Bad Homburg vdH","SM2: Maschauer,Claus","SM2","Minigolf-Club Bad Homburg e. V."]
[67364,67364,"Diana","Maschauer","MGC Bad Homburg vdH","SW2: Maschauer,Diana","SW2","Minigolf-Club Bad Homburg e. V."]
[40718,40718,"Jürgen","Maschotta","Minigolfunion Neviges-Odenthal 1968","SM1: Maschotta,Jürgen","SM1","Minigolfunion Neviges-Odenthal 1968 e. V."]
[40721,40721,"Dirk","Maschotta","Minigolfunion Neviges-Odenthal 1968","SM1: Maschotta,Dirk","SM1","Minigolfunion Neviges-Odenthal 1968 e. V."]
[67846,67846,"Tobias","Maßmann","MSV 05 Bad Münder / Springe","H: Maßmann,Tobias","H","Minigolf Sport-Verein Bad Münder/Springe von 2005 e. V."]
[6331,6331,"Peter","Matern","1. MC Weinheim","SM2: Matern,Peter","SM2","1. Miniaturgolf-Club Weinheim e. V."]
[42640,42640,"Erwin","Materne","1. BGC Bad Füssing","SM2: Materne,Erwin","SM2","1. Bahnengolfclub Bad Füssing e. V."]
[37435,37435,"Alexander","Mathes","MGC \"Stahlquelle\" Bad Bocklet","H: Mathes,Alexander","H","Miniatur-Golf-Club \"Stahlquelle\", Bad Bocklet 1989 e. V."]
[66724,66724,"Nico","Mathes","MGC \"Stahlquelle\" Bad Bocklet","JM: Mathes,Nico","JM","Miniatur-Golf-Club \"Stahlquelle\", Bad Bocklet 1989 e. V."]
[67064,67064,"Lena","Mathes","MGC \"Stahlquelle\" Bad Bocklet","SCHW: Mathes,Lena","SCHW","Miniatur-Golf-Club \"Stahlquelle\", Bad Bocklet 1989 e. V."]
[67548,67548,"David","Matthäi","KGC Bad Urach","H: Matthäi,David","H","Klein-Golf-Club Bad Urach e. V."]
[67848,67848,"Dirk","Matthes","Kölner Miniatur Golf Club","H: Matthes,Dirk","H","Kölner Miniatur Golf Club e. V."]
[65804,65804,"Bernd","Matthies","MGC \"AS\" Witten 1963","SM2: Matthies,Bernd","SM2","Minigolfclub \"AS\" Witten 1963 e. V."]
[65803,65803,"Angelika","Matthies","MGC \"AS\" Witten 1963","SW2: Matthies,Angelika","SW2","Minigolfclub \"AS\" Witten 1963 e. V."]
[38370,38370,"Klaus","Mattick","BGC Bremen","SM2: Mattick,Klaus","SM2","Bahnen-Golf-Club Bremen e. V."]
[67549,67549,"Julius","Mattzick","MGC Wetzlar","SCHM: Mattzick,Julius","SCHM","Miniatur-Golf-Club Wetzlar e. V."]
[28038,28038,"Ralf","Mätz","BGC Rheinau-Freistett","SM2: Mätz,Ralf","SM2","BGC Rheinau-Freistett e. V."]
[35865,35865,"Dennis","Mau","1. Minigolf-Club Rheinhausen","H: Mau,Dennis","H","1. Minigolf-Club Rheinhausen e. V."]
[66874,66874,"Felix","Mau","MGC Bad Homburg vdH","JM: Mau,Felix","JM","Minigolf-Club Bad Homburg e. V."]
[66875,66875,"Bastian","Mau","MGC Bad Homburg vdH","JM: Mau,Bastian","JM","Minigolf-Club Bad Homburg e. V."]
[48353,48353,"Jürgen","Mau","1. Minigolf-Club Rheinhausen","SM1: Mau,Jürgen","SM1","1. Minigolf-Club Rheinhausen e. V."]
[38580,38580,"Raik","Mauersberger","MGF Magdeburg 1995","H: Mauersberger,Raik","H","Minigolffreunde Magdeburg e. V."]
[66039,66039,"Moritz","Maul","SG Arheilgen Abt. Bahnengolf","H: Maul,Moritz","H","Sportgemeinschaft Arheilgen 1876/1945 e. V. Abteilung Bahnengolf"]
[34481,34481,"Claus","Maurer","1. MGC Mannheim 1968","SM1: Maurer,Claus","SM1","1. Miniatur-Golf-Club Mannheim 1968 e. V."]
[5100,5100,"Franz","Maurer","1. MGC Ludwigshafen","SM2: Maurer,Franz","SM2","1. Miniatur-Golf-Club Ludwigshafen 1964 e. V."]
[37831,37831,"Christian","Mauser","TSV Arendsee","SM1: Mauser,Christian","SM1","Turn- und Sportverein Arendsee e. V. Abteilung Minigolf"]
[66699,66699,"Roswitha","Maute","1. MGC Hechingen","SW2: Maute,Roswitha","SW2","1. Minigolfclub Hechingen e. V."]
[1326,1326,"Daniela","May","TSV 1848 Flöha","D: May,Daniela","D","Turn- und Sportverein Flöha 1848 e. V. Abteilung Minigolf"]
[42368,42368,"Bernd","May","1. MGC Ladenburg","SM1: May,Bernd","SM1","1. Miniaturgolf-Club Ladenburg e. V."]
[67655,67655,"Peter","Mayer","MGC Murnau am Staffelsee","H: Mayer,Peter","H","Minigolfclub Murnau am Staffelsee e. V."]
[66848,66848,"Max","Mayer","1. CGC Blau-Gelb Grötzingen","SM1: Mayer,Max","SM1","COBI-GOLF-CLUB Blau-Gelb Grötzingen 1968 e. V."]
[45271,45271,"Gerd","Mayerhofer","1. MGC Süßen","SM1: Mayerhofer,Gerd","SM1","1. Miniaturgolfclub Süßen e. V."]
[9823,9823,"Herbert","Mazzoli","1. MGC Köln 1961","SM2: Mazzoli,Herbert","SM2","1. Minigolf-Club Köln 1961 e. V."]
[50149,50149,"Marco","Meffert","MGC Dormagen-Brechten","H: Meffert,Marco","H","Minigolfclub Dormagen - Brechten e. V."]
[66216,66216,"Christopher","Mehl","MC Ilvesheim","H: Mehl,Christopher","H","Miniaturgolf-Club Ilvesheim e. V."]
[66329,66329,"Tino","Mehlhorn","Kölner Miniatur Golf Club","SM2: Mehlhorn,Tino","SM2","Kölner Miniatur Golf Club e. V."]
[64099,64099,"Jan","Mehling","MGV Ansbach","H: Mehling,Jan","H","MGV Ansbach e. V."]
[17103,17103,"Uwe","Meier","BGSV Kerpen","SM2: Meier,Uwe","SM2","Bahnen-Golf-Sport-Vereinigung Kerpen e. V."]
[40719,40719,"Achim","Meier","Minigolfunion Neviges-Odenthal 1968","SM2: Meier,Achim","SM2","Minigolfunion Neviges-Odenthal 1968 e. V."]
[36229,36229,"Manfred","Meier","BGC Kiel West","SM2: Meier,Manfred","SM2","Bahnen-Golf-Club Kiel-West e. V."]
[47267,47267,"Ralf","Meierkord","MGC Bad Salzuflen","SM2: Meierkord,Ralf","SM2","Minigolf-Club Bad Salzuflen e. V."]
[87509,87509,"Dustin","Meik","MGC Marl 1960","H: Meik,Dustin","H","Mini Golf Club Marl 1960 e. V."]
[67770,67770,"Felix","Meiran","MC Georgsmarienhütte","JM: Meiran,Felix","JM","Minigolf-Club Georgsmarienhütte e. V."]
[61096,61096,"Manfred","Meißner","1. MGC Peine von 1965","SM2: Meißner,Manfred","SM2","1. Miniaturgolf-Club Peine von 1965 e. V."]
[{"$f":"VALUE(B2051)","v":36232},36232,"Hiltraut","Meissner","MGC Olympia Kiel",{"$f":"CONCATENATE(G2051,\": \",D2051,\",\",C2051)","v":"SW2: Meissner,Hiltraut"},"SW2","Miniaturgolfclub Olympia Kiel e. V."]
[31912,31912,"Markus","Meister","1. MGC Ludwigshafen","H: Meister,Markus","H","1. Miniatur-Golf-Club Ludwigshafen 1964 e. V."]
[50463,50463,"Hans-Peter","Meister","1. MGC Ludwigshafen","SM2: Meister,Hans-Peter","SM2","1. Miniatur-Golf-Club Ludwigshafen 1964 e. V."]
[29300,29300,"Werner","Meixner","MGF Hammer","SM2: Meixner,Werner","SM2","Minigolffreunde Hammer e. V."]
[66705,66705,"Günter","Mendyk","MGC Dortmund Syburg","SM2: Mendyk,Günter","SM2","MGC Do-Syburg e.V."]
[1077,1077,"Patrick","Menzel","TSV Salzgitter Abt. Bahnengolf","H: Menzel,Patrick","H","Turn- und Sportverein Salzgitter e. V. Abteilung Bahnengolf"]
[36022,36022,"Melanie","Menzel","1. Essener CGC \"Blau-Gold\"","D: Menzel,Melanie","D","1. Essener cobiGOLF - Club \"Blau-Gold\" e. V."]
[6066,6066,"Harald","Menzel","1. Minigolf-Club Rheinhausen","SM2: Menzel,Harald","SM2","1. Minigolf-Club Rheinhausen e. V."]
[9558,9558,"Bernhard","Merges","1. MGC Ludwigshafen","SM2: Merges,Bernhard","SM2","1. Miniatur-Golf-Club Ludwigshafen 1964 e. V."]
[66483,66483,"Karin","Merkens","1. Duisburger Minigolf Club 1962","SW2: Merkens,Karin","SW2","1. Duisburger Minigolf Club 1962 e. V."]
[45439,45439,"Carsten","Mertens","1. KGC Mönchengladbach","SM1: Mertens,Carsten","SM1","1. Klein-Golf-Club Mönchengladbach e. V."]
[35707,35707,"Karl-Heinz","Mertsch","1. MGC Lohfelden 1997","SM2: Mertsch,Karl-Heinz","SM2","1. Miniatur-Golfsport-Club Lohfelden e. V."]
[33679,33679,"Peter","Merz","BGC Schweinfurt","SM2: Merz,Peter","SM2","Bahnengolfclub Schweinfurt e. V."]
[37881,37881,"Claus","Methner","1. MGC Metzingen","SM1: Methner,Claus","SM1","1. Miniaturgolf Club Metzingen e. V."]
[35351,35351,"Marc","Mette","1. MGC Gelsenkirchen","SM1: Mette,Marc","SM1","1. Minigolf Club Gelsenkirchen e. V."]
[50336,50336,"Marcus","Mettler","SSV Ulm 1846 Abt. Bahnengolf","SM1: Mettler,Marcus","SM1","Schwimm- und Sportverein Ulm 1846 e. V. Abteilung Bahnengolf"]
[36983,36983,"Marc","Metz","MGC Bad Homburg vdH","H: Metz,Marc","H","Minigolf-Club Bad Homburg e. V."]
[67085,67085,"Michael","Meyer","1. Minigolf-Club Rheinhausen","H: Meyer,Michael","H","1. Minigolf-Club Rheinhausen e. V."]
[37065,37065,"Matthias","Meyer","MSV 05 Bad Münder / Springe","SM1: Meyer,Matthias","SM1","Minigolf Sport-Verein Bad Münder/Springe von 2005 e. V."]
[29486,29486,"Josef","Meyer","BGC Dormagen","SM1: Meyer,Josef","SM1","Bahnengolf-Club Dormagen e. V."]
[41492,41492,"Klaus","Meyer","BGV Bergisch Land 1962 / 63","SM1: Meyer,Klaus","SM1","Bahnengolf-Verein Bergisch Land 1962/63 e. V."]
[67298,67298,"Britta","Meyer","Cobigolf-Verein Hamm 2019","SW1: Meyer,Britta","SW1","Cobigolf-Verein Hamm 2019 e. V."]
[37944,37944,"Dieter","Meyer","SV Lurup Abt. Bahnengolf","SM2: Meyer,Dieter","SM2","Sportverein Lurup-Hamburg von 1923 e. V. Abteilung Bahnengolf"]
[67117,67117,"Werner","Meyer","SG Arheilgen Abt. Bahnengolf","SM2: Meyer,Werner","SM2","Sportgemeinschaft Arheilgen 1876/1945 e. V. Abteilung Bahnengolf"]
[36748,36748,"Rolf","Meyer","VfM Bottrop","SM2: Meyer,Rolf","SM2","Verein für Minigolf Bottrop e. V."]
[66816,66816,"Marita","Meyer","MGV Bremen","SW2: Meyer,Marita","SW2","Miniatur-Golf-Verein Bremen e. V."]
[65621,65621,"Christa","Meyer","1. BGC Paderborn","SW2: Meyer,Christa","SW2","1. Bahnengolfclub Paderborn e. V."]
[67631,67631,"Olaf","Michael","MGC Bad Homburg vdH","SM2: Michael,Olaf","SM2","Minigolf-Club Bad Homburg e. V."]
[67403,67403,"Miroslaw","Michalski","MGC Dormagen-Brechten","H: Michalski,Miroslaw","H","Minigolfclub Dormagen - Brechten e. V."]
[33682,33682,"Ralf","Michel","MGC Wertheim 91","SM1: Michel,Ralf","SM1","Minigolfdub Wertheim ´91 e. V."]
[64086,64086,"Adolf","Michel","BGC Schweinfurt","SM2: Michel,Adolf","SM2","Bahnengolfclub Schweinfurt e. V."]
[67554,67554,"Peter","Michelmann","BGSV Kerpen","SM2: Michelmann,Peter","SM2","Bahnen-Golf-Sport-Vereinigung Kerpen e. V."]
[41683,41683,"Claudia","Michenfelder","BIG ASPERG","SW2: Michenfelder,Claudia","SW2","Bahnengolf-Interessen-Gemeinschaft Asperg e. V. 1982"]
[33336,33336,"Wolfgang","Michna","MC \"Möve\" Cuxhaven-Sahlenburg","SM2: Michna,Wolfgang","SM2","Miniaturgolf-Club \"Möve\" Cuxhaven-Sahlenburg e. V."]
[33337,33337,"Sigrid","Michna","MC \"Möve\" Cuxhaven-Sahlenburg","SW2: Michna,Sigrid","SW2","Miniaturgolf-Club \"Möve\" Cuxhaven-Sahlenburg e. V."]
[67307,67307,"Horst","Miebach","MGC Nümbrecht","SM2: Miebach,Horst","SM2","Minigolf-Club Nümbrecht e. V. "]
[30858,30858,"Jörg","Mielenz","BGV Bergisch Land 1962 / 63","SM1: Mielenz,Jörg","SM1","Bahnengolf-Verein Bergisch Land 1962/63 e. V."]
[67720,67720,"Günter","Mikschl","BGC Neutraubling","SM2: Mikschl,Günter","SM2","Bahnengolf-Club Neutraubling e. V."]
[67257,67257,"Frank","Milbers","1. MGC Mannheim 1968","SM1: Milbers,Frank","SM1","1. Miniatur-Golf-Club Mannheim 1968 e. V."]
[67266,67266,"Monika","Milbers","1. MGC Mannheim 1968","SW1: Milbers,Monika","SW1","1. Miniatur-Golf-Club Mannheim 1968 e. V."]
[8613,8613,"Klaus","Mildenberger","1. CGC Blau-Gelb Grötzingen","SM2: Mildenberger,Klaus","SM2","COBI-GOLF-CLUB Blau-Gelb Grötzingen 1968 e. V."]
[65828,65828,"Maximilian","Millhoff","SSC Attendorn","H: Millhoff,Maximilian","H","Sterngolf-Sport-Club Attendorn e. V."]
[42588,42588,"Andreas","Minuth","1. BGC Wolfsburg","SM1: Minuth,Andreas","SM1","1. Bahnen - Golf - Club Wolfsburg e. V."]
[4621,4621,"Karl-Heinz","Minuth","1. BGC Wolfsburg","SM2: Minuth,Karl-Heinz","SM2","1. Bahnen - Golf - Club Wolfsburg e. V."]
[4622,4622,"Hanna","Minuth","1. BGC Wolfsburg","SW2: Minuth,Hanna","SW2","1. Bahnen - Golf - Club Wolfsburg e. V."]
[25538,25538,"Volker","Missonnier","1. MGC Mainz","SM2: Missonnier,Volker","SM2","Erster Mainzer Minigolf-Club e. V. 1964"]
[28918,28918,"Udo","Mitscher","MGC Traben-Trarbach","SM2: Mitscher,Udo","SM2","Minigolfclub Traben-Trarbach e. V."]
[38040,38040,"Frank","Mitschke","MC \"Möve\" Cuxhaven-Sahlenburg","SM1: Mitschke,Frank","SM1","Miniaturgolf-Club \"Möve\" Cuxhaven-Sahlenburg e. V."]
[36005,36005,"Claudia","Mitschke","MGC Bad Salzuflen","SW2: Mitschke,Claudia","SW2","Minigolf-Club Bad Salzuflen e. V."]
[66976,66976,"Nadja","Mittelhammer","1. MC Weinheim","D: Mittelhammer,Nadja","D","1. Miniaturgolf-Club Weinheim e. V."]
[38539,38539,"Stefan","Mittelhammer","1. MC Weinheim","SM1: Mittelhammer,Stefan","SM1","1. Miniaturgolf-Club Weinheim e. V."]
[27214,27214,"Norbert","Mitterle","TG Höchberg von 1862 Bahnengolf","SM2: Mitterle,Norbert","SM2","Turngemeinde Höchberg von 1862 Bahnengolf e. V."]
[35154,35154,"Alfred","Mix","BSV 86 München","SM2: Mix,Alfred","SM2","Bahnengolfsportverein 86 München e. V."]
[50242,50242,"Joachim","Möbis","BGSV Castrop 1961","SM1: Möbis,Joachim","SM1","Bahnengolfsportverein Castrop e. V. 1961"]
[38091,38091,"Christine","Möbs","MGC Ingolstadt","SW1: Möbs,Christine","SW1"," Miniaturgolf-Club Ingolstadt e. V."]
[38090,38090,"Lothar","Möbs","MGC Ingolstadt","SM2: Möbs,Lothar","SM2"," Miniaturgolf-Club Ingolstadt e. V."]
[33787,33787,"Jürgen","Möckel","MGC Bad Soden-Salmünster","SM2: Möckel,Jürgen","SM2","Miniaturgolfclub Bad Soden-Salmünster e. V."]
[33788,33788,"Jutta","Möckel","MGC Bad Soden-Salmünster","SW2: Möckel,Jutta","SW2","Miniaturgolfclub Bad Soden-Salmünster e. V."]
[67485,67485,"Lisa Sabrina","Mohr","MGC Brunsbüttel","D: Mohr,Lisa Sabrina","D","Miniaturgolf-Club Brunsbüttel e. V."]
[49769,49769,"Wilfried","Mohr","SC Gut Heil Neumünster","SM1: Mohr,Wilfried","SM1","Sportclub Gut Heil Neumünster von 1881 e. V. Abteilung Miniaturgolf"]
[67493,67493,"Wolfgang","Mohr","MGC Brunsbüttel","SM1: Mohr,Wolfgang","SM1","Miniaturgolf-Club Brunsbüttel e. V."]
[67494,67494,"Ina","Mohr","MGC Brunsbüttel","SW1: Mohr,Ina","SW1","Miniaturgolf-Club Brunsbüttel e. V."]
[40845,40845,"Jakob","Mois","MGC Murnau am Staffelsee","SM2: Mois,Jakob","SM2","Minigolfclub Murnau am Staffelsee e. V."]
[30348,30348,"Maik","Moll","1. CGC Blau-Gelb Grötzingen","SM1: Moll,Maik","SM1","COBI-GOLF-CLUB Blau-Gelb Grötzingen 1968 e. V."]
[{"$f":"VALUE(B2115)","v":5649},5649,"Heidi","Moll","CGC Rauschenberg",{"$f":"CONCATENATE(G2115,\": \",D2115,\",\",C2115)","v":"SW2: Moll,Heidi"},"SW2","Cobigolf-Club Rauschenberg e. V."]
[37921,37921,"David","Möller","MSK Olching","H: Möller,David","H","Olchinger Minigolf Sport Klub e. V."]
[33192,33192,"Markus","Möller","MC Tigers Künsebeck","H: Möller,Markus","H","Miniaturgolf Club Tigers Künsebeck e. V."]
[17358,17358,"Egon","Möller","BGC Bad Berneck","SM2: Möller,Egon","SM2","Bahnengolf-Club e. V. Bad Berneck"]
[3551,3551,"Friedrich-Wilhelm","Möller","BGC Diepholz","SM2: Möller,Friedrich-Wilhelm","SM2","Bahnen-Golf-Club Diepholz e. V."]
[17359,17359,"Wolfgang","Möller","MGC Brunsbüttel","SM2: Möller,Wolfgang","SM2","Miniaturgolf-Club Brunsbüttel e. V."]
[37430,37430,"Karel jr.","Molnár","BGS Hardenberg-Pötter","H: Molnár,Karel jr.","H","BGS Hardenberg-Pötter e. V."]
[31014,31014,"Marion","Mombauer","BGC Uerdingen","SW1: Mombauer,Marion","SW1","Bahnengolf-Club Uerdingen e. V."]
[67202,67202,"Felix Leon","Mönnig","CGC Rauschenberg","SCHM: Mönnig,Felix Leon","SCHM","Cobigolf-Club Rauschenberg e. V."]
[26414,26414,"Richard","Mönning","1. MGC Epe 1978","SM1: Mönning,Richard","SM1","1. Minigolfclub Epe 1978 e. V."]
[38208,38208,"Tobias","Montberg","1. MSC Wesel 6.6.1966","H: Montberg,Tobias","H","1. Minigolf-Sportclub Wesel 66 66 e. V. "]
[38230,38230,"Jan-Niclas","Moosmann","1. BGC Rodalben 1977","H: Moosmann,Jan-Niclas","H","1. Bahnengolfverein Rodalben 1977 e. V."]
[67707,67707,"Daniel","Moosmann","1. BGC Rodalben 1977","H: Moosmann,Daniel","H","1. Bahnengolfverein Rodalben 1977 e. V."]
[37444,37444,"Katharina","Moosmann","1. BGC Rodalben 1977","D: Moosmann,Katharina","D","1. Bahnengolfverein Rodalben 1977 e. V."]
[40668,40668,"Mathias","Moosmann","1. BGC Rodalben 1977","SM1: Moosmann,Mathias","SM1","1. Bahnengolfverein Rodalben 1977 e. V."]
[36211,36211,"Stefanie","Moosmann","1. BGC Rodalben 1977","SW1: Moosmann,Stefanie","SW1","1. Bahnengolfverein Rodalben 1977 e. V."]
[12100,12100,"Hans","Mordhorst","VfM Berlin","SM2: Mordhorst,Hans","SM2","Verein für Minigolf e. V. Berlin"]
[17884,17884,"Rosemarie","Mordhorst","VfM Berlin","SW2: Mordhorst,Rosemarie","SW2","Verein für Minigolf e. V. Berlin"]
[67348,67348,"Ruggiero","Morelli","1. MGC Ludwigshafen","SM2: Morelli,Ruggiero","SM2","1. Miniatur-Golf-Club Ludwigshafen 1964 e. V."]
[25840,25840,"Angela","Morgenstern","BGS Hardenberg-Pötter","SW2: Morgenstern,Angela","SW2","BGS Hardenberg-Pötter e. V."]
[36599,36599,"Brigitte","Morhardt","1. MGC Metzingen","SW2: Morhardt,Brigitte","SW2","1. Miniaturgolf Club Metzingen e. V."]
[67020,67020,"Rainer","Moritz","BGC Schweinfurt","SM1: Moritz,Rainer","SM1","Bahnengolfclub Schweinfurt e. V."]
[66564,66564,"Daniel","Mörixbauer","1. MGC Süßen","H: Mörixbauer,Daniel","H","1. Miniaturgolfclub Süßen e. V."]
[66727,66727,"Jürgen","Mörixbauer","1. MGC Süßen","SM2: Mörixbauer,Jürgen","SM2","1. Miniaturgolfclub Süßen e. V."]
[37808,37808,"Kevin","Morschick","BGC Dormagen","H: Morschick,Kevin","H","Bahnengolf-Club Dormagen e. V."]
[37807,37807,"Detlef","Morschick","BGC Dormagen","SM2: Morschick,Detlef","SM2","Bahnengolf-Club Dormagen e. V."]
[42254,42254,"Rüdiger","Moser","VfM Bottrop","SM1: Moser,Rüdiger","SM1","Verein für Minigolf Bottrop e. V."]
[66421,66421,"Colin","Mössinger","BGSV Kerpen","H: Mössinger,Colin","H","Bahnen-Golf-Sport-Vereinigung Kerpen e. V."]
[67495,67495,"Sigrun","Mössinger","1. CGC Blau-Gelb Grötzingen","SW1: Mössinger,Sigrun","SW1","COBI-GOLF-CLUB Blau-Gelb Grötzingen 1968 e. V."]
[36162,36162,"Philipp","Most","MGC \"Stahlquelle\" Bad Bocklet","SM2: Most,Philipp","SM2","Miniatur-Golf-Club \"Stahlquelle\", Bad Bocklet 1989 e. V."]
[38557,38557,"Alexander","Mrohs","Niendorfer MC v. 1963","H: Mrohs,Alexander","H","Niendorfer Miniaturgolf-Club von 1963 e. V."]
[28527,28527,"Martin","Much","MSK Neheim-Hüsten","SM2: Much,Martin","SM2","MINIGOLF-SPORT-KLUB Neheim-Hüsten e. V."]
[40247,40247,"Jan","Muckenhaupt","SSC Attendorn","H: Muckenhaupt,Jan","H","Sterngolf-Sport-Club Attendorn e. V."]
[43491,43491,"Willy","Mühlberg","SV Lurup Abt. Bahnengolf","SM2: Mühlberg,Willy","SM2","Sportverein Lurup-Hamburg von 1923 e. V. Abteilung Bahnengolf"]
[29511,29511,"Dirk","Mühlenbeck","HMC Büttgen","SM1: Mühlenbeck,Dirk","SM1","Hobbysport Miniaturgolfclub Büttgen e. V."]
[49369,49369,"Dirk","Mühling","Cobigolf-Verein Hamm 2019","SM2: Mühling,Dirk","SM2","Cobigolf-Verein Hamm 2019 e. V."]
[66557,66557,"Peter","Mühlstein","1. BGC Landshut","SM2: Mühlstein,Peter","SM2","1. Bahnengolf-Club Landshut e. V."]
[66559,66559,"Wolfgang","Mühlstein","1. BGC Landshut","SM2: Mühlstein,Wolfgang","SM2","1. Bahnengolf-Club Landshut e. V."]
[67226,67226,"Renate","Mühlstein","1. BGC Landshut","SW2: Mühlstein,Renate","SW2","1. Bahnengolf-Club Landshut e. V."]
[38076,38076,"Peter","Mulfinger","MGC Bad Feilnbach","SM2: Mulfinger,Peter","SM2","Minigolfclub Bad Feilnbach e. V."]
[65620,65620,"Karin","Mulfinger","MGC Bad Feilnbach","SW2: Mulfinger,Karin","SW2","Minigolfclub Bad Feilnbach e. V."]
[20828,20828,"Hans Dieter","Müllen","MGC Traben-Trarbach","SM2: Müllen,Hans Dieter","SM2","Minigolfclub Traben-Trarbach e. V."]
[32762,32762,"Björn","Müller","MC \"Möve\" Cuxhaven-Sahlenburg","H: Müller,Björn","H","Miniaturgolf-Club \"Möve\" Cuxhaven-Sahlenburg e. V."]
[33774,33774,"Patrick","Müller","MSC Bad Godesberg","H: Müller,Patrick","H","Minigolf-Sport-Club Bad Godesberg e. V."]
[48182,48182,"Dirk","Müller","HMC Büttgen","H: Müller,Dirk","H","Hobbysport Miniaturgolfclub Büttgen e. V."]
[38330,38330,"Yannick","Müller","BGS Hardenberg-Pötter","H: Müller,Yannick","H","BGS Hardenberg-Pötter e. V."]
[34616,34616,"Laura","Müller","1. MGC Ludwigshafen","D: Müller,Laura","D","1. Miniatur-Golf-Club Ludwigshafen 1964 e. V."]
[26535,26535,"Klaus","Müller","MGF Hilzingen 80","SM1: Müller,Klaus","SM1","Minigolffreunde Hilzingen 80 e. V."]
[46389,46389,"Ralf","Müller","Reinickendorfer MGC","SM1: Müller,Ralf","SM1","Reinickendorfer Miniatur - Golfsport - Club e. V."]
[46141,46141,"Michael","Müller","MGC Bad Feilnbach","SM1: Müller,Michael","SM1","Minigolfclub Bad Feilnbach e. V."]
[29586,29586,"Stefan","Müller","BGSV Kerpen","SM1: Müller,Stefan","SM1","Bahnen-Golf-Sport-Vereinigung Kerpen e. V."]
[65865,65865,"Markus","Müller","Minigolfunion Neviges-Odenthal 1968","SM1: Müller,Markus","SM1","Minigolfunion Neviges-Odenthal 1968 e. V."]
[67760,67760,"Frank","Müller","BGC Schloß Paffendorf","SM1: Müller,Frank","SM1","Bahnengolf Club Schloß Paffendorf e. V."]
[41049,41049,"Volker","Müller","1. CKF Dudweiler","SM1: Müller,Volker","SM1","l. Club der Kleingolf - Freunde Dudweiler e. V."]
[67761,67761,"Viola","Müller","BGC Schloß Paffendorf","SW1: Müller,Viola","SW1","Bahnengolf Club Schloß Paffendorf e. V."]
[40622,40622,"Peter","Müller","Miniaturgolf Sportclub Schriesheim","SM2: Müller,Peter","SM2","Miniaturgolf Sportclub Schriesheim e. V."]
[18367,18367,"Wolfgang","Müller","1. BGC Celle von 1964","SM2: Müller,Wolfgang","SM2","1. Bahnen-Golf-Club Celle von 1964 e. V."]
[66176,66176,"Michael","Müller","SC Bad Münder Abt. Bahnengolf","SM2: Müller,Michael","SM2","Sportclub Bad Münder e. V. Abteilung Bahnengolf"]
[27319,27319,"Friedrich","Müller","1. MGC Paderborn","SM2: Müller,Friedrich","SM2","1. Minigolf-Club Paderborn 1980 e. V."]
[45001,45001,"Michael","Müller","MC 62 Lüdenscheid","SM2: Müller,Michael","SM2","MC 62 Lüdenscheid e. V."]
[66322,66322,"Uwe","Müller","MGC Rot-Weiß Wanne-Eickel","SM2: Müller,Uwe","SM2","Minigolfclub Rot-Weiß Wanne-Eickel e. V."]
[40912,40912,"Axel","Müller","1. KC Homburg-Saar 1967","SM2: Müller,Axel","SM2","1. Kleingolf Club Homburg-Saar 1967 e. V."]
[34489,34489,"Elli","Müller","MSC Bad Godesberg","SW2: Müller,Elli","SW2","Minigolf-Sport-Club Bad Godesberg e. V."]
[67593,67593,"Anna","Müller","1. Duisburger Minigolf Club 1962","SW2: Müller,Anna","SW2","1. Duisburger Minigolf Club 1962 e. V."]
[{"$f":"VALUE(B2179)","v":34023},34023,"Sascha","Müller-Zentz","BGC Bildstock",{"$f":"CONCATENATE(G2179,\": \",D2179,\",\",C2179)","v":"H: Müller-Zentz,Sascha"},"H","Bahnen-Golf-Club Bildstock e. V."]
[43367,43367,"Michael","Müllner","MC Ilvesheim","SM2: Müllner,Michael","SM2","Miniaturgolf-Club Ilvesheim e. V."]
[65375,65375,"Anna Lena","Münch","1. KC Homburg-Saar 1967","JW: Münch,Anna Lena","JW","1. Kleingolf Club Homburg-Saar 1967 e. V."]
[46494,46494,"Roman","Münch","1. KC Homburg-Saar 1967","SM2: Münch,Roman","SM2","1. Kleingolf Club Homburg-Saar 1967 e. V."]
[67175,67175,"Farin","Münchhoff","MGC Ingolstadt","SCHM: Münchhoff,Farin","SCHM"," Miniaturgolf-Club Ingolstadt e. V."]
[25741,25741,"Christian","Münster","Minigolf-Club Diessen","SM2: Münster,Christian","SM2","Minigolf-Club Diessen e. V."]
[44517,44517,"Raimund","Mürhoff","1. MGC Paderborn","SM2: Mürhoff,Raimund","SM2","1. Minigolf-Club Paderborn 1980 e. V."]
[67806,67806,"Rafaela","Musielak","BGSC \"Gut Schlag\" Gladbeck","SW1: Musielak,Rafaela","SW1","Bahnengolfsportclub \"Gut Schlag\" Gladbeck e. V."]
[67805,67805,"Jürgen","Musielak","BGSC \"Gut Schlag\" Gladbeck","SM2: Musielak,Jürgen","SM2","Bahnengolfsportclub \"Gut Schlag\" Gladbeck e. V."]
[67122,67122,"Pascal","Mutsch","1. MGC Metzingen","H: Mutsch,Pascal","H","1. Miniaturgolf Club Metzingen e. V."]
[67581,67581,"Sebastian","Mützel","BGC Schweinfurt","H: Mützel,Sebastian","H","Bahnengolfclub Schweinfurt e. V."]
[1090,1090,"Hendrik","Mylius","MGV Bremen","H: Mylius,Hendrik","H","Miniatur-Golf-Verein Bremen e. V."]
[40393,40393,"Uwe","Mylius","BGC Bremen","SM1: Mylius,Uwe","SM1","Bahnen-Golf-Club Bremen e. V."]
[1641,1641,"Frank","Mylius","MGV Bremen","SM2: Mylius,Frank","SM2","Miniatur-Golf-Verein Bremen e. V."]
[40898,40898,"Marion","Mylius","MGV Bremen","SW2: Mylius,Marion","SW2","Miniatur-Golf-Verein Bremen e. V."]
[26399,26399,"Norbert","Naber","1. MGC Epe 1978","SM2: Naber,Norbert","SM2","1. Minigolfclub Epe 1978 e. V."]
[32405,32405,"Dirk","Nacke","1. MGC Gelsenkirchen","H: Nacke,Dirk","H","1. Minigolf Club Gelsenkirchen e. V."]
[42563,42563,"Udo","Nagl","1. BGC Landshut","SM1: Nagl,Udo","SM1","1. Bahnengolf-Club Landshut e. V."]
[42569,42569,"Sabine","Nagl","1. BGC Landshut","SW1: Nagl,Sabine","SW1","1. Bahnengolf-Club Landshut e. V."]
[33110,33110,"Xaver","Nagler","MGC Unterschneidheim","SM2: Nagler,Xaver","SM2","Minigolfclub Unterschneidheim e. V."]
[36824,36824,"Martin","Nagler","MGC Unterschneidheim","SM2: Nagler,Martin","SM2","Minigolfclub Unterschneidheim e. V."]
[35773,35773,"Wolf-Dieter","Nähler","1. MGC Köln 1961","SM2: Nähler,Wolf-Dieter","SM2","1. Minigolf-Club Köln 1961 e. V."]
[45049,45049,"Dirk Willi","Nebe","BGSC \"Gut Schlag\" Gladbeck","SM1: Nebe,Dirk Willi","SM1","Bahnengolfsportclub \"Gut Schlag\" Gladbeck e. V."]
[29219,29219,"Kurt","Nees","MGC Schwaikheim","SM1: Nees,Kurt","SM1","Miniaturgolf – Club Schwaikheim e. V."]
[66624,66624,"Ernst-Georg","Negwer","BGC Schweinfurt","SM2: Negwer,Ernst-Georg","SM2","Bahnengolfclub Schweinfurt e. V."]
[66623,66623,"Ursula","Negwer","BGC Schweinfurt","SW2: Negwer,Ursula","SW2","Bahnengolfclub Schweinfurt e. V."]
[67714,67714,"Luis","Neidenberger","1. MGC Peine von 1965","SCHM: Neidenberger,Luis","SCHM","1. Miniaturgolf-Club Peine von 1965 e. V."]
[27505,27505,"Stefan","Neidig","1. MGC Mannheim 1968","SM1: Neidig,Stefan","SM1","1. Miniatur-Golf-Club Mannheim 1968 e. V."]
[66269,66269,"Niklas","Nell","MGC Bad Waldsee 1990","JM: Nell,Niklas","JM","Minigolf-Club Bad Waldsee 1990 e. V."]
[33042,33042,"Roland","Nell","MGC Bad Waldsee 1990","SM1: Nell,Roland","SM1","Minigolf-Club Bad Waldsee 1990 e. V."]
[66360,66360,"Benjamin","Nelles","1. BGC Wolfsburg","H: Nelles,Benjamin","H","1. Bahnen - Golf - Club Wolfsburg e. V."]
[45733,45733,"Ingrid","Netzband","1. MGC Metzingen","SW2: Netzband,Ingrid","SW2","1. Miniaturgolf Club Metzingen e. V."]
[37611,37611,"Erika","Neuburger","SSV Ulm 1846 Abt. Bahnengolf","D: Neuburger,Erika","D","Schwimm- und Sportverein Ulm 1846 e. V. Abteilung Bahnengolf"]
[37027,37027,"Andreas","Neuburger","SSV Ulm 1846 Abt. Bahnengolf","SM1: Neuburger,Andreas","SM1","Schwimm- und Sportverein Ulm 1846 e. V. Abteilung Bahnengolf"]
[66301,66301,"Dennis","Neudert","BGC Illertissen","H: Neudert,Dennis","H","Bahnengolfclub Illertissen e. V."]
[43062,43062,"Oliver","Neudert","BGC Illertissen","SM1: Neudert,Oliver","SM1","Bahnengolfclub Illertissen e. V."]
[37047,37047,"Marvin","Neufeld","MSK Neheim-Hüsten","H: Neufeld,Marvin","H","MINIGOLF-SPORT-KLUB Neheim-Hüsten e. V."]
[48942,48942,"Dieter","Neuhäuser","VfB Osnabrück","SM1: Neuhäuser,Dieter","SM1","Verein für Bahnengolf Osnabrück von 1984 e. V."]
[25784,25784,"Michael","Neuland","MGC Dormagen-Brechten","SM1: Neuland,Michael","SM1","Minigolfclub Dormagen - Brechten e. V."]
[29733,29733,"Björn","Neumann","MC \"Möve\" Cuxhaven-Sahlenburg","H: Neumann,Björn","H","Miniaturgolf-Club \"Möve\" Cuxhaven-Sahlenburg e. V."]
[38363,38363,"Kevin","Neumann","1. BGC Celle von 1964","H: Neumann,Kevin","H","1. Bahnen-Golf-Club Celle von 1964 e. V."]
[37955,37955,"Lukas","Neumann","1. MGC Mainz","H: Neumann,Lukas","H","Erster Mainzer Minigolf-Club e. V. 1964"]
[32139,32139,"Kathrin","Neumann","1. MGC Mainz","D: Neumann,Kathrin","D","Erster Mainzer Minigolf-Club e. V. 1964"]
[37667,37667,"Christian","Neumann","MGC Murnau am Staffelsee","SM1: Neumann,Christian","SM1","Minigolfclub Murnau am Staffelsee e. V."]
[37668,37668,"Michael","Neumann","MGC Murnau am Staffelsee","SM1: Neumann,Michael","SM1","Minigolfclub Murnau am Staffelsee e. V."]
[42783,42783,"Josef","Neumann","OMGC Ingolstadt","SM1: Neumann,Josef","SM1","Oberbayerische Minigolf-Club Ingolstadt e. V."]
[66340,66340,"Reiner","Neumann","BGC Bremen","SM1: Neumann,Reiner","SM1","Bahnen-Golf-Club Bremen e. V."]
[37168,37168,"Michael","Neumann","Minigolf Wölfe Rheinstetten 02","SM2: Neumann,Michael","SM2","Rad- und Kraftfahrervereins \"Solidarität\" Mörsch e. V. Abteilung Minigolf Wölfe Rheinstetten 02"]
[35213,35213,"Uwe","Neumann","BGC Bremen","SM2: Neumann,Uwe","SM2","Bahnen-Golf-Club Bremen e. V."]
[33165,33165,"Bärbel","Neumann","Tempelhofer MV Berlin","SW2: Neumann,Bärbel","SW2","Tempelhofer Miniaturgolf Verein von 1965 e. V."]
[65576,65576,"Sabine","Neumann","1. BGC Celle von 1964","SW2: Neumann,Sabine","SW2","1. Bahnen-Golf-Club Celle von 1964 e. V."]
[67153,67153,"Angelika","Neumann","1. BGC Wolfsburg","SW2: Neumann,Angelika","SW2","1. Bahnen - Golf - Club Wolfsburg e. V."]
[28030,28030,"Ralf","Neuwald","Miniaturgolf Sportclub Schriesheim","SM1: Neuwald,Ralf","SM1","Miniaturgolf Sportclub Schriesheim e. V."]
[65600,65600,"Fabian","Neuwirth","BGC Illertissen","H: Neuwirth,Fabian","H","Bahnengolfclub Illertissen e. V."]
[37473,37473,"Waldemar","Neuwirth","MGC Dormagen-Brechten","SM1: Neuwirth,Waldemar","SM1","Minigolfclub Dormagen - Brechten e. V."]
[65599,65599,"Dietmar","Neuwirth","BGC Illertissen","SM2: Neuwirth,Dietmar","SM2","Bahnengolfclub Illertissen e. V."]
[66071,66071,"Thomas","Nichter","BIG ASPERG","H: Nichter,Thomas","H","Bahnengolf-Interessen-Gemeinschaft Asperg e. V. 1982"]
[38005,38005,"Dustin","Nickel","MGC Wetzlar","H: Nickel,Dustin","H","Miniatur-Golf-Club Wetzlar e. V."]
[46042,46042,"Holger","Nickel","MGC Homburger Land","SM1: Nickel,Holger","SM1","MGC Homburger Land e. V."]
[37288,37288,"Dieter","Nickel","PTSV Hof, Abt. Minigolf","SM2: Nickel,Dieter","SM2","Post- und Telekom-Sportverein Hof e. V. Abteilung Minigolf "]
[46152,46152,"Gerhard","Nickel","MGC Wetzlar","SM2: Nickel,Gerhard","SM2","Miniatur-Golf-Club Wetzlar e. V."]
[66601,66601,"David","Nickerl","1. MGC München-Feldmoching","JM: Nickerl,David","JM","1. Miniaturgolfclub München-Feldmoching e. V."]
[46446,46446,"Matthias","Nickerl","MGC Veitshöchheim","SM1: Nickerl,Matthias","SM1","Miniaturgolfclub Veitshöchheim e. V."]
[48138,48138,"Alfred","Nickerl","1. MGC München-Feldmoching","SM1: Nickerl,Alfred","SM1","1. Miniaturgolfclub München-Feldmoching e. V."]
[{"$f":"VALUE(B2243)","v":46123},46123,"Piergiorgio","Nicolazzi","MGC Murnau am Staffelsee",{"$f":"CONCATENATE(G2243,\": \",D2243,\",\",C2243)","v":"SM2: Nicolazzi,Piergiorgio"},"SM2","Minigolfclub Murnau am Staffelsee e. V."]
[40306,40306,"Richard","Niebler","BGC Neutraubling","SM2: Niebler,Richard","SM2","Bahnengolf-Club Neutraubling e. V."]
[66206,66206,"Jörg","Niebuhr","BGC Northeim","SM1: Niebuhr,Jörg","SM1","Bahnen-Golf-Club Northeim e. V."]
[11191,11191,"Dieter","Niederdräing","MGC Felderbachtal 1964","SM2: Niederdräing,Dieter","SM2","Minigolf-Club-Felderbachtal 1964 e. V."]
[42044,42044,"Andreas","Niedermeir","1. MGC München-Feldmoching","SM1: Niedermeir,Andreas","SM1","1. Miniaturgolfclub München-Feldmoching e. V."]
[42046,42046,"Martin","Niedermeir","1. MGC München-Feldmoching","SM1: Niedermeir,Martin","SM1","1. Miniaturgolfclub München-Feldmoching e. V."]
[37610,37610,"Roland","Niedl","BGC Illertissen","SM2: Niedl,Roland","SM2","Bahnengolfclub Illertissen e. V."]
[67712,67712,"Dirk","Niehaus","SSC Halver","SM1: Niehaus,Dirk","SM1","SSC Halver e. V."]
[45006,45006,"Thorsten","Niemann","MGC Bad Oldesloe","SM1: Niemann,Thorsten","SM1","Miniaturgolfclub Bad Oldesloe von 1964 e. V."]
[52000,52000,"Uwe","Niemtschke","TSV Arendsee","SM1: Niemtschke,Uwe","SM1","Turn- und Sportverein Arendsee e. V. Abteilung Minigolf"]
[66579,66579,"Susanne","Niepel","MGC Rot-Weiß Wanne-Eickel","SW1: Niepel,Susanne","SW1","Minigolfclub Rot-Weiß Wanne-Eickel e. V."]
[67392,67392,"Jean-Luc","Nihoul","BGS Hardenberg-Pötter","SM2: Nihoul,Jean-Luc","SM2","BGS Hardenberg-Pötter e. V."]
[34408,34408,"Sandra","Nikolaus","1. BGC Rodalben 1977","D: Nikolaus,Sandra","D","1. Bahnengolfverein Rodalben 1977 e. V."]
[37551,37551,"Michael","Nischk","MGC Bad Homburg vdH","SM1: Nischk,Michael","SM1","Minigolf-Club Bad Homburg e. V."]
[67311,67311,"Britta","Nischk","MGC Bad Homburg vdH","SW1: Nischk,Britta","SW1","Minigolf-Club Bad Homburg e. V."]
[37550,37550,"Erika","Nischk","MGC Bad Homburg vdH","SW2: Nischk,Erika","SW2","Minigolf-Club Bad Homburg e. V."]
[45189,45189,"Holger","Nitsche","1. MGC Epe 1978","SM1: Nitsche,Holger","SM1","1. Minigolfclub Epe 1978 e. V."]
[43542,43542,"Thomas","Nix","BIG ASPERG","SM1: Nix,Thomas","SM1","Bahnengolf-Interessen-Gemeinschaft Asperg e. V. 1982"]
[67214,67214,"Danny","Noack","Minigolfclub Karlshagen","H: Noack,Danny","H","Minigolfclub Karlshagen e. V."]
[31269,31269,"Marcel","Noack","1. MGC Mainz","H: Noack,Marcel","H","Erster Mainzer Minigolf-Club e. V. 1964"]
[66971,66971,"Nevio","Noack","Minigolfclub Karlshagen","SCHM: Noack,Nevio","SCHM","Minigolfclub Karlshagen e. V."]
[34191,34191,"Günter","Noack","1. MGC Mainz","SM2: Noack,Günter","SM2","Erster Mainzer Minigolf-Club e. V. 1964"]
[23517,23517,"Frank","Noch","Tempelhofer MV Berlin","SM2: Noch,Frank","SM2","Tempelhofer Miniaturgolf Verein von 1965 e. V."]
[23516,23516,"Christiane","Noch","Tempelhofer MV Berlin","SW2: Noch,Christiane","SW2","Tempelhofer Miniaturgolf Verein von 1965 e. V."]
[35738,35738,"Harald","Nohr","1. BGC Celle von 1964","SM1: Nohr,Harald","SM1","1. Bahnen-Golf-Club Celle von 1964 e. V."]
[67785,67785,"Jeanette","Nöth","MGV Ansbach","D: Nöth,Jeanette","D","MGV Ansbach e. V."]
[67028,67028,"Johannes","Nöth","MGV Ansbach","JM: Nöth,Johannes","JM","MGV Ansbach e. V."]
[67026,67026,"Michael","Nöth","MGV Ansbach","SM2: Nöth,Michael","SM2","MGV Ansbach e. V."]
[5511,5511,"Wilfried","Nowak","MSK Neheim-Hüsten","SM2: Nowak,Wilfried","SM2","MINIGOLF-SPORT-KLUB Neheim-Hüsten e. V."]
[38541,38541,"Alfred","Nowak","BGSC Bochum 1978","SM2: Nowak,Alfred","SM2","Bahnengolf-Sportclub Bochum 1978 e. V."]
[21500,21500,"Marion","Nowak","MSK Neheim-Hüsten","SW2: Nowak,Marion","SW2","MINIGOLF-SPORT-KLUB Neheim-Hüsten e. V."]
[30639,30639,"Peter","Nowsky","1. MGC 1970 Göttingen","SM1: Nowsky,Peter","SM1","1. Miniatur-Golfsport-Club 1970 Göttingen e. V."]
[66272,66272,"Beatrix","Numberger","1. Münchener MGC","SW2: Numberger,Beatrix","SW2","1. Münchener Minigolf-Club 1962 e. V."]
[43054,43054,"Martin","Nuri-Kälble","BSV 82 Ohlsbach","SM2: Nuri-Kälble,Martin","SM2","Bahnengolfsportverein 82 Ohlsbach e. V."]
[33491,33491,"Rolf","Nutzenberger","1. MGC Mannheim 1968","SM2: Nutzenberger,Rolf","SM2","1. Miniatur-Golf-Club Mannheim 1968 e. V."]
[33385,33385,"Hermann","Oberding","Biskirchener BGV","SM2: Oberding,Hermann","SM2","Biskirchener Bahnen-Golf-Verein e. V."]
[42510,42510,"Frank","Oberhofer","MGF Hammer","SM1: Oberhofer,Frank","SM1","Minigolffreunde Hammer e. V."]
[67644,67644,"Ursula","Oberle","Minigolf Wölfe Rheinstetten 02","SW2: Oberle,Ursula","SW2","Rad- und Kraftfahrervereins \"Solidarität\" Mörsch e. V. Abteilung Minigolf Wölfe Rheinstetten 02"]
[67711,67711,"Maximilian ","Obermeier","1. BGC Hannover","H: Obermeier,Maximilian ","H","1. Bahnen-Golf-Club Hannover e. V."]
[67710,67710,"Carsten","Obermeier","1. BGC Hannover","SM1: Obermeier,Carsten","SM1","1. Bahnen-Golf-Club Hannover e. V."]
[67500,67500,"Walter","Oberthanner","Hamburger MC von 1965","SM1: Oberthanner,Walter","SM1","Hamburger Minigolf Club von 1965 e. V."]
[36180,36180,"Felix","Oehl","MV Lankwitzer Dragons","H: Oehl,Felix","H","MV Lankwitzer Dragons e. V."]
[40827,40827,"Torsten","Offner","Hamburger MC von 1965","SM2: Offner,Torsten","SM2","Hamburger Minigolf Club von 1965 e. V."]
[66701,66701,"Roland","Ohletz","BGC Uerdingen","SM1: Ohletz,Roland","SM1","Bahnengolf-Club Uerdingen e. V."]
[38373,38373,"Jutta","Ohly","1. MGC Metzingen","SW2: Ohly,Jutta","SW2","1. Miniaturgolf Club Metzingen e. V."]
[29928,29928,"Hans-Peter","Ohm","SV Glückauf 1901 Gebhardshagen","SM1: Ohm,Hans-Peter","SM1","SV Glück Auf 1901 Gebhardshagen e. V. Abteilung Minigolf"]
[67676,67676,"Wolfgang","Ohnesorge","MGC Wetzlar","SM2: Ohnesorge,Wolfgang","SM2","Miniatur-Golf-Club Wetzlar e. V."]
[35023,35023,"Edith","Oitzinger","BV Sennestadt","SW2: Oitzinger,Edith","SW2","BV Sennestadt e. V."]
[45418,45418,"Carola","Oklmann","SSV Ulm 1846 Abt. Bahnengolf","SW2: Oklmann,Carola","SW2","Schwimm- und Sportverein Ulm 1846 e. V. Abteilung Bahnengolf"]
[30123,30123,"Michael","Olböter","1. Essener CGC \"Blau-Gold\"","SM2: Olböter,Michael","SM2","1. Essener cobiGOLF - Club \"Blau-Gold\" e. V."]
[66809,66809,"Torben","Oldhafer","MSK Neheim-Hüsten","H: Oldhafer,Torben","H","MINIGOLF-SPORT-KLUB Neheim-Hüsten e. V."]
[1170,1170,"Dirk","Onnen","1. BGC Hannover","H: Onnen,Dirk","H","1. Bahnen-Golf-Club Hannover e. V."]
[42114,42114,"Stefan","Opitz","1. BGC Hannover","SM1: Opitz,Stefan","SM1","1. Bahnen-Golf-Club Hannover e. V."]
[35803,35803,"Brigitte","Opitz","1. MGC Peine von 1965","SW2: Opitz,Brigitte","SW2","1. Miniaturgolf-Club Peine von 1965 e. V."]
[34733,34733,"David","Oppermann","BSC Ennepetal","H: Oppermann,David","H","Bahngolf-Sport-Club Ennepetal e. V."]
[22422,22422,"Ralf","Oppermann","BSC Ennepetal","SM2: Oppermann,Ralf","SM2","Bahngolf-Sport-Club Ennepetal e. V."]
[29740,29740,"Arne","Oppmann","MSV Würzburg-Löwenbrücke","SM1: Oppmann,Arne","SM1","Miniaturgolfsportverein Würzburg - Löwenbrücke e. V."]
[40264,40264,"Harald","Orth","MSV Bad Kreuznach","SM1: Orth,Harald","SM1","MSV Bad Kreuznach e. V."]
[29215,29215,"Ingo","Ortner","MGC Schwaikheim","SM1: Ortner,Ingo","SM1","Miniaturgolf – Club Schwaikheim e. V."]
[45103,45103,"Michael","Oseit","1. MC Weinheim","SM1: Oseit,Michael","SM1","1. Miniaturgolf-Club Weinheim e. V."]
[26349,26349,"Jörn","Osnabrügge","1. MGC Ludwigshafen","SM2: Osnabrügge,Jörn","SM2","1. Miniatur-Golf-Club Ludwigshafen 1964 e. V."]
[67458,67458,"Gerd","Oßendorf","1. Porzer MGC Grün-Weiß 1969","SM2: Oßendorf,Gerd","SM2","1. Porzer Minigolfclub Grün-Weiß 1969 e. V."]
[3358,3358,"Karl-Heinz","Oster","1. Porzer MGC Grün-Weiß 1969","SM2: Oster,Karl-Heinz","SM2","1. Porzer Minigolfclub Grün-Weiß 1969 e. V."]
[66338,66338,"Gabriele","Osthushenrich","1. BGC Hannover","SW1: Osthushenrich,Gabriele","SW1","1. Bahnen-Golf-Club Hannover e. V."]
[{"$f":"VALUE(B2307)","v":30224},30224,"Hans-Jörg","Ott","BGC Bad Berneck",{"$f":"CONCATENATE(G2307,\": \",D2307,\",\",C2307)","v":"H: Ott,Hans-Jörg"},"H","Bahnengolf-Club e. V. Bad Berneck"]
[31026,31026,"David","Ott","BGV Backumer Tal Herten","H: Ott,David","H","BGV Backumer Tal Herten e. V."]
[31031,31031,"Andy","Ott","BGV Backumer Tal Herten","H: Ott,Andy","H","BGV Backumer Tal Herten e. V."]
[36193,36193,"Philipp","Ott","BGSV Castrop 1961","H: Ott,Philipp","H","Bahnengolfsportverein Castrop e. V. 1961"]
[9296,9296,"Norbert","Ott","BGV Backumer Tal Herten","SM2: Ott,Norbert","SM2","BGV Backumer Tal Herten e. V."]
[29114,29114,"Dirk","Otten","TSV Salzgitter Abt. Bahnengolf","SM1: Otten,Dirk","SM1","Turn- und Sportverein Salzgitter e. V. Abteilung Bahnengolf"]
[28901,28901,"Sabine","Otten","1. BGC Wolfsburg","SW1: Otten,Sabine","SW1","1. Bahnen - Golf - Club Wolfsburg e. V."]
[48281,48281,"Stefan","Ottinger","MGC Murnau am Staffelsee","SM1: Ottinger,Stefan","SM1","Minigolfclub Murnau am Staffelsee e. V."]
[32793,32793,"Meike","Otto","MGC Olympia Kiel","D: Otto,Meike","D","Miniaturgolfclub Olympia Kiel e. V."]
[151,151,"Herbert","Otto","MGC Rot-Weiß Wanne-Eickel","SM2: Otto,Herbert","SM2","Minigolfclub Rot-Weiß Wanne-Eickel e. V."]
[6524,6524,"Kuno","Otto","MGC Olympia Kiel","SM2: Otto,Kuno","SM2","Miniaturgolfclub Olympia Kiel e. V."]
[25020,25020,"Karin","Otto","MGC Olympia Kiel","SW2: Otto,Karin","SW2","Miniaturgolfclub Olympia Kiel e. V."]
[67173,67173,"Petra","Ovzarek","1. CGC Blau-Gelb Grötzingen","SW1: Ovzarek,Petra","SW1","COBI-GOLF-CLUB Blau-Gelb Grötzingen 1968 e. V."]
[67174,67174,"Wolfgang","Ovzarek","1. CGC Blau-Gelb Grötzingen","SM2: Ovzarek,Wolfgang","SM2","COBI-GOLF-CLUB Blau-Gelb Grötzingen 1968 e. V."]
[66565,66565,"Ben","Paffrath","MGC Heven","JM: Paffrath,Ben","JM","Miniatur - Golf - Club Heven e. V."]
[33511,33511,"Siegfried","Paffrath","MGC Heven","SM2: Paffrath,Siegfried","SM2","Miniatur - Golf - Club Heven e. V."]
[61978,61978,"Heinz","Pahl","1. BGC Celle von 1964","SM2: Pahl,Heinz","SM2","1. Bahnen-Golf-Club Celle von 1964 e. V."]
[21494,21494,"Horst","Pahl","MSK Neheim-Hüsten","SM2: Pahl,Horst","SM2","MINIGOLF-SPORT-KLUB Neheim-Hüsten e. V."]
[28473,28473,"Gabi","Pahl","1. BGC Celle von 1964","SW2: Pahl,Gabi","SW2","1. Bahnen-Golf-Club Celle von 1964 e. V."]
[37073,37073,"Kim-Kevin","Pajonk","TSV Arendsee","H: Pajonk,Kim-Kevin","H","Turn- und Sportverein Arendsee e. V. Abteilung Minigolf"]
[37072,37072,"Kathi","Pajonk","TSV Arendsee","SW1: Pajonk,Kathi","SW1","Turn- und Sportverein Arendsee e. V. Abteilung Minigolf"]
[5757,5757,"Klaus Peter","Palm","1. KC Homburg-Saar 1967","SM2: Palm,Klaus Peter","SM2","1. Kleingolf Club Homburg-Saar 1967 e. V."]
[35611,35611,"Olaf","Paltian","1. MGC Ludwigshafen","H: Paltian,Olaf","H","1. Miniatur-Golf-Club Ludwigshafen 1964 e. V."]
[50042,50042,"Christian","Pannek","1. MGC Mainz","H: Pannek,Christian","H","Erster Mainzer Minigolf-Club e. V. 1964"]
[37578,37578,"Marc","Pape","1. KC Homburg-Saar 1967","H: Pape,Marc","H","1. Kleingolf Club Homburg-Saar 1967 e. V."]
[66902,66902,"Robert-Alexander","Pape","Elbhavelland, Abt. Minigolfsport","JM: Pape,Robert-Alexander","JM","Elbhavelland e. V. Abteilung Minigolfsport"]
[36258,36258,"Ronald","Pape","MGF Magdeburg 1995","SM2: Pape,Ronald","SM2","Minigolffreunde Magdeburg e. V."]
[67330,67330,"Jürgen","Pape","Elbhavelland, Abt. Minigolfsport","SM2: Pape,Jürgen","SM2","Elbhavelland e. V. Abteilung Minigolfsport"]
[67289,67289,"Ulrich","Pape","MSV Bad Kreuznach","SM2: Pape,Ulrich","SM2","MSV Bad Kreuznach e. V."]
[67331,67331,"Christina","Pape","Elbhavelland, Abt. Minigolfsport","SW2: Pape,Christina","SW2","Elbhavelland e. V. Abteilung Minigolfsport"]
[9750,9750,"Sylvia","Pape-Münch","1. KC Homburg-Saar 1967","SW1: Pape-Münch,Sylvia","SW1","1. Kleingolf Club Homburg-Saar 1967 e. V."]
[67689,67689,"Andre","Pappers","1. KGC Mönchengladbach","SM1: Pappers,Andre","SM1","1. Klein-Golf-Club Mönchengladbach e. V."]
[28746,28746,"Karsten","Parbst","VfL Lohbrügge Abt. Bahnengolf","SM2: Parbst,Karsten","SM2","Verein für Leibesübungen Lohbrügge von 1892 e. V. Abteilung Bahnengolf"]
[30259,30259,"Monika","Parbst","VfL Lohbrügge Abt. Bahnengolf","SW2: Parbst,Monika","SW2","Verein für Leibesübungen Lohbrügge von 1892 e. V. Abteilung Bahnengolf"]
[33393,33393,"Susanne","Parr","MSC Bensheim-Auerbach","SW1: Parr,Susanne","SW1","Minigolf-Sport-Club Bensheim-Auerbach e. V."]
[40114,40114,"Daniel","Patan","BIG ASPERG","H: Patan,Daniel","H","Bahnengolf-Interessen-Gemeinschaft Asperg e. V. 1982"]
[66771,66771,"Franziska","Patan","BIG ASPERG","D: Patan,Franziska","D","Bahnengolf-Interessen-Gemeinschaft Asperg e. V. 1982"]
[51850,51850,"Bernhard","Patan","BIG ASPERG","SM1: Patan,Bernhard","SM1","Bahnengolf-Interessen-Gemeinschaft Asperg e. V. 1982"]
[55130,55130,"Sabine","Patan","BIG ASPERG","SW1: Patan,Sabine","SW1","Bahnengolf-Interessen-Gemeinschaft Asperg e. V. 1982"]
[67432,67432,"Ralf","Paternusch","MGC 1978 Remseck","SM1: Paternusch,Ralf","SM1","Miniaturgolf-Club 1978 Remseck a.N. e. V."]
[35530,35530,"Marcel","Patorra","BGC Bad Nenndorf","H: Patorra,Marcel","H","Bahnen-Golf-Club Bad Nenndorf e. V."]
[66577,66577,"Michael","Pätz","1. BGC Bad Füssing","H: Pätz,Michael","H","1. Bahnengolfclub Bad Füssing e. V."]
[46006,46006,"Markus","Patzelt","BGSV Kerpen","SM1: Patzelt,Markus","SM1","Bahnen-Golf-Sport-Vereinigung Kerpen e. V."]
[67213,67213,"Gerd","Paul","MGC Bad Homburg vdH","SM1: Paul,Gerd","SM1","Minigolf-Club Bad Homburg e. V."]
[33153,33153,"Lars","Paulsen","MGC Harrislee-Wassersleben","SM1: Paulsen,Lars","SM1","Sportverein Minigolfclub Harrislee-Wassersleben e. V."]
[49350,49350,"Achim","Paulsen","MGC Olympia Kiel","SM1: Paulsen,Achim","SM1","Miniaturgolfclub Olympia Kiel e. V."]
[67856,67856,"Rainer","Paulsen","MGC Brunsbüttel","SM2: Paulsen,Rainer","SM2","Miniaturgolf-Club Brunsbüttel e. V."]
[50354,50354,"Steffen","Paulus","KGC Bad Urach","SM2: Paulus,Steffen","SM2","Klein-Golf-Club Bad Urach e. V."]
[36042,36042,"Cornelia","Päuser","1. MGC Kassel 1964","SW2: Päuser,Cornelia","SW2","1. Mini-Golfsport-Club Kassel-Vellmar 1964 e. V."]
[4744,4744,"Rudolf","Pavlas","MSV Bad Kreuznach","SM2: Pavlas,Rudolf","SM2","MSV Bad Kreuznach e. V."]
[66726,66726,"Nicolas","Pawelka","Miniaturgolf Sportclub Schriesheim","H: Pawelka,Nicolas","H","Miniaturgolf Sportclub Schriesheim e. V."]
[66223,66223,"Stephan","Pawelka","Miniaturgolf Sportclub Schriesheim","SM1: Pawelka,Stephan","SM1","Miniaturgolf Sportclub Schriesheim e. V."]
[34757,34757,"Sebastian","Peffer","Niendorfer MC v. 1963","H: Peffer,Sebastian","H","Niendorfer Miniaturgolf-Club von 1963 e. V."]
[34562,34562,"Willi","Peffer","1. BGC Wesseling 1975","SM2: Peffer,Willi","SM2","1. Bahnen-Golf-Club Wesseling 1975 e. V. "]
[48955,48955,"Reinhold","Peichl","MGC Wertheim 91","SM1: Peichl,Reinhold","SM1","Minigolfdub Wertheim ´91 e. V."]
[33490,33490,"Kurt","Peinelt","1. MGC Ludwigshafen","SM2: Peinelt,Kurt","SM2","1. Miniatur-Golf-Club Ludwigshafen 1964 e. V."]
[67443,67443,"Jan","Peithmann","1. Essener CGC \"Blau-Gold\"","JM: Peithmann,Jan","JM","1. Essener cobiGOLF - Club \"Blau-Gold\" e. V."]
[67442,67442,"Wiebke","Peithmann","1. Essener CGC \"Blau-Gold\"","SCHW: Peithmann,Wiebke","SCHW","1. Essener cobiGOLF - Club \"Blau-Gold\" e. V."]
[67444,67444,"Konrad","Peithmann","1. Essener CGC \"Blau-Gold\"","SM1: Peithmann,Konrad","SM1","1. Essener cobiGOLF - Club \"Blau-Gold\" e. V."]
[35571,35571,"Igor","Pekrul","MGC putter Künzell 1970","H: Pekrul,Igor","H","Minigolfclub putter Künzell 1970 e. V."]
[36243,36243,"Tanja","Pekrul","MGC putter Künzell 1970","D: Pekrul,Tanja","D","Minigolfclub putter Künzell 1970 e. V."]
[67758,67758,"Ann-Kathrin","Penk","BGC Oberhausen","D: Penk,Ann-Kathrin","D","Bahnengolf-Club Oberhausen e. V."]
[37558,37558,"Daniel","Peppler","Reinickendorfer MGC","H: Peppler,Daniel","H","Reinickendorfer Miniatur - Golfsport - Club e. V."]
[27520,27520,"Peter","Perle","1. MGC Mannheim 1968","SM2: Perle,Peter","SM2","1. Miniatur-Golf-Club Mannheim 1968 e. V."]
[{"$f":"VALUE(B2371)","v":40366},40366,"Klaus","Perlich","OMGC Ingolstadt",{"$f":"CONCATENATE(G2371,\": \",D2371,\",\",C2371)","v":"SM1: Perlich,Klaus"},"SM1","Oberbayerische Minigolf-Club Ingolstadt e. V."]
[67633,67633,"Frank","Peschel","MGC Bad Homburg vdH","SM1: Peschel,Frank","SM1","Minigolf-Club Bad Homburg e. V."]
[67040,67040,"Tobias","Peschke","MGC Dormagen-Brechten","H: Peschke,Tobias","H","Minigolfclub Dormagen - Brechten e. V."]
[32975,32975,"Philipp","Pester","SG Arheilgen Abt. Bahnengolf","H: Pester,Philipp","H","Sportgemeinschaft Arheilgen 1876/1945 e. V. Abteilung Bahnengolf"]
[32976,32976,"Magnus","Pester","MGC putter Künzell 1970","H: Pester,Magnus","H","Minigolfclub putter Künzell 1970 e. V."]
[26809,26809,"Manfred","Pester","TSV Pfungstadt Abt. Bahnengolf","SM2: Pester,Manfred","SM2","TSV Pfungstadt e. V. Abteilung Bahnengolf"]
[50128,50128,"Timo","Peter","BIG ASPERG","H: Peter,Timo","H","Bahnengolf-Interessen-Gemeinschaft Asperg e. V. 1982"]
[7607,7607,"Uwe","Peter","1. BGC Celle von 1964","SM2: Peter,Uwe","SM2","1. Bahnen-Golf-Club Celle von 1964 e. V."]
[45445,45445,"Alois","Peter","MGC Bad Waldsee 1990","SM2: Peter,Alois","SM2","Minigolf-Club Bad Waldsee 1990 e. V."]
[65723,65723,"Rainer","Petermann","SC Wermelskirchen 1976","SM2: Petermann,Rainer","SM2","SC-Wermelskirchen e. V."]
[65722,65722,"Dora-Gisela","Petermann","SC Wermelskirchen 1976","SW2: Petermann,Dora-Gisela","SW2","SC-Wermelskirchen e. V."]
[66949,66949,"Moritz","Peters","MGC Olympia Kiel","H: Peters,Moritz","H","Miniaturgolfclub Olympia Kiel e. V."]
[37020,37020,"Hartmut","Peters","SC Gut Heil Neumünster","SM2: Peters,Hartmut","SM2","Sportclub Gut Heil Neumünster von 1881 e. V. Abteilung Miniaturgolf"]
[67371,67371,"Robin","Petersen","SC Olympia Dortmund","H: Petersen,Robin","H","Sport-Club Olympia Dortmund e. V. "]
[66924,66924,"Detlef","Petersen","1. BGC Hannover","SM1: Petersen,Detlef","SM1","1. Bahnen-Golf-Club Hannover e. V."]
[67651,67651,"Susanne","Petzsche","BIG Ingelfingen","D: Petzsche,Susanne","D","Bahnengolf Interessen-Gemeinschaft Ingelfingen 2020 e. V."]
[35460,35460,"Viola","Peucker","SV Glückauf 1901 Gebhardshagen","SW1: Peucker,Viola","SW1","SV Glück Auf 1901 Gebhardshagen e. V. Abteilung Minigolf"]
[37241,37241,"Mirko","Peuker","MGC Dormagen-Brechten","H: Peuker,Mirko","H","Minigolfclub Dormagen - Brechten e. V."]
[37242,37242,"Vanessa","Peuker","MGC Dormagen-Brechten","D: Peuker,Vanessa","D","Minigolfclub Dormagen - Brechten e. V."]
[43327,43327,"Hans-Jürgen","Peuker","MGC Dormagen-Brechten","SM2: Peuker,Hans-Jürgen","SM2","Minigolfclub Dormagen - Brechten e. V."]
[87508,87508,"Manuel","Peuser","MGC Marl 1960","H: Peuser,Manuel","H","Mini Golf Club Marl 1960 e. V."]
[22574,22574,"Roland","Pfeffer","SV 1890 Dreieichenhain, Abt. Bahnengolf","SM2: Pfeffer,Roland","SM2","Sportverein 1890 e. V. Dreieichenhain Abteilung Bahnengolf"]
[17476,17476,"Werner","Pfeffer","1. MGC Mannheim 1968","SM2: Pfeffer,Werner","SM2","1. Miniatur-Golf-Club Mannheim 1968 e. V."]
[24619,24619,"Lutz","Pfeffer","Kölner Miniatur Golf Club","SM2: Pfeffer,Lutz","SM2","Kölner Miniatur Golf Club e. V."]
[66167,66167,"Reinhard","Pfeffer","MC Georgsmarienhütte","SM2: Pfeffer,Reinhard","SM2","Minigolf-Club Georgsmarienhütte e. V."]
[67603,67603,"Ulrich","Pfeifer","MGF Waldshut 74","SM2: Pfeifer,Ulrich","SM2","Minigolffreunde Waldshut 1974 e. V."]
[67104,67104,"Norbert","Pfeifer","MGV Ansbach","SM2: Pfeifer,Norbert","SM2","MGV Ansbach e. V."]
[31259,31259,"Holger","Pfeiffer","Biskirchener BGV","SM2: Pfeiffer,Holger","SM2","Biskirchener Bahnen-Golf-Verein e. V."]
[34951,34951,"Cynthia","Pfingst","1. BGC Leipzig","SW1: Pfingst,Cynthia","SW1","1. Bahnen Golf Club Leipzig e. V."]
[30926,30926,"Thomas","Pfister","ASV Pegnitz, Abt. Minigolf","SM1: Pfister,Thomas","SM1","Allgemeiner Sportverein Pegnitz e. V. Abteilung Minigolf"]
[12405,12405,"Klaus","Pfriem","SV Glückauf 1901 Gebhardshagen","SM2: Pfriem,Klaus","SM2","SV Glück Auf 1901 Gebhardshagen e. V. Abteilung Minigolf"]
[47213,47213,"Heiderose","Pfriem","SV Glückauf 1901 Gebhardshagen","SW2: Pfriem,Heiderose","SW2","SV Glück Auf 1901 Gebhardshagen e. V. Abteilung Minigolf"]
[36616,36616,"Joachim","Pfundt","BGV Bergisch Land 1962 / 63","SM2: Pfundt,Joachim","SM2","Bahnengolf-Verein Bergisch Land 1962/63 e. V."]
[29801,29801,"Simon","Philipp","MGF Hilzingen 80","H: Philipp,Simon","H","Minigolffreunde Hilzingen 80 e. V."]
[66052,66052,"Andreas","Philipp","VfM Berlin","SM1: Philipp,Andreas","SM1","Verein für Minigolf e. V. Berlin"]
[67024,67024,"Lukas","Philippus","BGSV Bad Homburg","H: Philippus,Lukas","H","Bahnengolf-Sportverein Bad Homburg v.d.H. e. V."]
[31032,31032,"Thorsten","Pichol","BGV Backumer Tal Herten","H: Pichol,Thorsten","H","BGV Backumer Tal Herten e. V."]
[38272,38272,"Maike","Pichol","BGV Backumer Tal Herten","D: Pichol,Maike","D","BGV Backumer Tal Herten e. V."]
[66184,66184,"Michelle","Pichol","BGV Backumer Tal Herten","D: Pichol,Michelle","D","BGV Backumer Tal Herten e. V."]
[67705,67705,"Joel","Pichol","BGV Backumer Tal Herten","SCHM: Pichol,Joel","SCHM","BGV Backumer Tal Herten e. V."]
[42849,42849,"Markus","Piechota","SSC Attendorn","SM1: Piechota,Markus","SM1","Sterngolf-Sport-Club Attendorn e. V."]
[36538,36538,"Rosemarie","Piechotta","MGC Dortmund Syburg","SW2: Piechotta,Rosemarie","SW2","MGC Do-Syburg e.V."]
[41953,41953,"Armando","Piedigaci","SC Wermelskirchen 1976","SM2: Piedigaci,Armando","SM2","SC-Wermelskirchen e. V."]
[67752,67752,"Michael","Piegeler","HMC Büttgen","SM2: Piegeler,Michael","SM2","Hobbysport Miniaturgolfclub Büttgen e. V."]
[65977,65977,"Werner","Piehl","MGC Bergisch Gladbach Gierath","SM2: Piehl,Werner","SM2","Minigolf-Club Bergisch Gladbach Gierath e. V."]
[37859,37859,"Sebastian","Piekorz","BGS Hardenberg-Pötter","H: Piekorz,Sebastian","H","BGS Hardenberg-Pötter e. V."]
[43980,43980,"Oliver","Pieper","MGC Traben-Trarbach","H: Pieper,Oliver","H","Minigolfclub Traben-Trarbach e. V."]
[35658,35658,"Sabrina","Pieper","MGC Traben-Trarbach","D: Pieper,Sabrina","D","Minigolfclub Traben-Trarbach e. V."]
[5324,5324,"Ulrich","Pieper","MGC Traben-Trarbach","SM2: Pieper,Ulrich","SM2","Minigolfclub Traben-Trarbach e. V."]
[66129,66129,"Andreas","Pieplau","MGC Millennium Viernheim","SM1: Pieplau,Andreas","SM1","MGC Millennium Viernheim e. V."]
[38267,38267,"Armin","Piest","MGC Brunsbüttel","SM2: Piest,Armin","SM2","Miniaturgolf-Club Brunsbüttel e. V."]
[36654,36654,"Harald","Pietsch","1. MGC Gelsenkirchen","SM2: Pietsch,Harald","SM2","1. Minigolf Club Gelsenkirchen e. V."]
[38243,38243,"Peter","Pilz","MGC Ingolstadt","SM2: Pilz,Peter","SM2"," Miniaturgolf-Club Ingolstadt e. V."]
[50457,50457,"Karl-Heinz","Pindor","BGV Backumer Tal Herten","SM2: Pindor,Karl-Heinz","SM2","BGV Backumer Tal Herten e. V."]
[38279,38279,"Matthias","Pipke","BGSC Bochum 1978","SM1: Pipke,Matthias","SM1","Bahnengolf-Sportclub Bochum 1978 e. V."]
[33364,33364,"Wolfgang","Pirrung","1. KC Homburg-Saar 1967","SM2: Pirrung,Wolfgang","SM2","1. Kleingolf Club Homburg-Saar 1967 e. V."]
[29305,29305,"Gerhard","Pischel","MGC Wolnzach","SM2: Pischel,Gerhard","SM2","Miniaturgolf-Club Wolnzach e. V."]
[36354,36354,"Mirijam Esther","Pisleag","1. BGC Garmisch-Partenkirchen","D: Pisleag,Mirijam Esther","D","1. Bahnengolfclub Garmisch-Partenkirchen e. V."]
[36237,36237,"Gerhard","Pitterle","MGC Bad Feilnbach","SM2: Pitterle,Gerhard","SM2","Minigolfclub Bad Feilnbach e. V."]
[40567,40567,"Siegfried","Pitz","1. CGC Blau-Gelb Grötzingen","SM2: Pitz,Siegfried","SM2","COBI-GOLF-CLUB Blau-Gelb Grötzingen 1968 e. V."]
[48880,48880,"Joachim","Plack","KGC Bad Urach","SM1: Plack,Joachim","SM1","Klein-Golf-Club Bad Urach e. V."]
[36206,36206,"Daniel","Platz","Freizeit Club Bliesen","H: Platz,Daniel","H","Freizeit Club Bliesen e. V."]
[31933,31933,"Stefan","Pleger","BGC Bad Nenndorf","SM1: Pleger,Stefan","SM1","Bahnen-Golf-Club Bad Nenndorf e. V."]
[67136,67136,"Steffen","Plep","MGC Bad Bodendorf","SM1: Plep,Steffen","SM1","Miniaturgolfclub Bad Bodendorf e. V."]
[{"$f":"VALUE(B2435)","v":43572},43572,"Stefan","Plieninger","1. BGC Landshut",{"$f":"CONCATENATE(G2435,\": \",D2435,\",\",C2435)","v":"SM1: Plieninger,Stefan"},"SM1","1. Bahnengolf-Club Landshut e. V."]
[67265,67265,"Andrea","Ploch","CGC Rauschenberg","SW1: Ploch,Andrea","SW1","Cobigolf-Club Rauschenberg e. V."]
[40689,40689,"Hans","Ploem","MSV Bad Kreuznach","SM2: Ploem,Hans","SM2","MSV Bad Kreuznach e. V."]
[26514,26514,"Christiane","Ploem","MSV Bad Kreuznach","SW2: Ploem,Christiane","SW2","MSV Bad Kreuznach e. V."]
[10662,10662,"Günther","Plötz","Tempelhofer MV Berlin","SM2: Plötz,Günther","SM2","Tempelhofer Miniaturgolf Verein von 1965 e. V."]
[67497,67497,"Marvin","Plumpe","BGV Backumer Tal Herten","H: Plumpe,Marvin","H","BGV Backumer Tal Herten e. V."]
[66693,66693,"Michael","Pohler","Minigolf-Club Diessen","SM1: Pohler,Michael","SM1","Minigolf-Club Diessen e. V."]
[6076,6076,"Necdet","Polat","VfL Lohbrügge Abt. Bahnengolf","SM2: Polat,Necdet","SM2","Verein für Leibesübungen Lohbrügge von 1892 e. V. Abteilung Bahnengolf"]
[67162,67162,"Ivo-René","Polpitz","BGC Northeim","H: Polpitz,Ivo-René","H","Bahnen-Golf-Club Northeim e. V."]
[66105,66105,"Steffen","Poltermann","TV Nierstein 1901, Abt. Minigolf","SM2: Poltermann,Steffen","SM2","Turnverein 1901 e. V. Nierstein/Rhein Abteilung Minigolf"]
[67239,67239,"Jan","Pommer","1. BGC Hannover","H: Pommer,Jan","H","1. Bahnen-Golf-Club Hannover e. V."]
[67240,67240,"Christine","Pommer","1. BGC Hannover","SW2: Pommer,Christine","SW2","1. Bahnen-Golf-Club Hannover e. V."]
[44073,44073,"Michael","Ponellis","1. MSC Wesel 6.6.1966","SM1: Ponellis,Michael","SM1","1. Minigolf-Sportclub Wesel 66 66 e. V. "]
[67535,67535,"Norbert","Pönnighaus","MGC Bad Salzuflen","SM2: Pönnighaus,Norbert","SM2","Minigolf-Club Bad Salzuflen e. V."]
[66794,66794,"Ivan","Popleteev","MGC putter Künzell 1970","H: Popleteev,Ivan","H","Minigolfclub putter Künzell 1970 e. V."]
[36776,36776,"Fabian","Pöppe","BGSC Bochum 1978","H: Pöppe,Fabian","H","Bahnengolf-Sportclub Bochum 1978 e. V."]
[37658,37658,"Alfred","Pöppe","BGSC Bochum 1978","SM2: Pöppe,Alfred","SM2","Bahnengolf-Sportclub Bochum 1978 e. V."]
[36981,36981,"Birgit","Pöppe","BGSC Bochum 1978","SW2: Pöppe,Birgit","SW2","Bahnengolf-Sportclub Bochum 1978 e. V."]
[36696,36696,"Barbara","Pörrer","OMGC Ingolstadt","SW2: Pörrer,Barbara","SW2","Oberbayerische Minigolf-Club Ingolstadt e. V."]
[49243,49243,"Alexander","Porsch","ASV Pegnitz, Abt. Minigolf","H: Porsch,Alexander","H","Allgemeiner Sportverein Pegnitz e. V. Abteilung Minigolf"]
[67496,67496,"Stephan","Pöschko","BGSC Bochum 1978","H: Pöschko,Stephan","H","Bahnengolf-Sportclub Bochum 1978 e. V."]
[49886,49886,"Stefan","Poser","1. BGC Hannover","SM1: Poser,Stefan","SM1","1. Bahnen-Golf-Club Hannover e. V."]
[49887,49887,"Heike","Poser","1. BGC Hannover","SW1: Poser,Heike","SW1","1. Bahnen-Golf-Club Hannover e. V."]
[33993,33993,"Jürgen","Praedel","MGC Rot-Weiß Wanne-Eickel","SM2: Praedel,Jürgen","SM2","Minigolfclub Rot-Weiß Wanne-Eickel e. V."]
[67700,67700,"Jeannette","Praxl","MGC Bad Feilnbach","SW1: Praxl,Jeannette","SW1","Minigolfclub Bad Feilnbach e. V."]
[66608,66608,"Lars","Prediger","1. BGC Celle von 1964","H: Prediger,Lars","H","1. Bahnen-Golf-Club Celle von 1964 e. V."]
[67415,67415,"Robert","Preißler","MSG Kempten","SM2: Preißler,Robert","SM2","Minigolf-Sport-Gemeinschaft Kempten e. V."]
[37322,37322,"David","Pren","1. MSC Wesel 6.6.1966","H: Pren,David","H","1. Minigolf-Sportclub Wesel 66 66 e. V. "]
[67151,67151,"Wolfgang","Presser","MGC Heven","SM2: Presser,Wolfgang","SM2","Miniatur - Golf - Club Heven e. V."]
[66981,66981,"Gerald","Pressmar-Danne","1. MC Weinheim","JM: Pressmar-Danne,Gerald","JM","1. Miniaturgolf-Club Weinheim e. V."]
[44355,44355,"Dorothea","Preuß","MGC Felderbachtal 1964","SW1: Preuß,Dorothea","SW1","Minigolf-Club-Felderbachtal 1964 e. V."]
[67855,67855,"Bettina","Preuß","BGSC Bochum 1978","SW2: Preuß,Bettina","SW2","Bahnengolf-Sportclub Bochum 1978 e. V."]
[6767,6767,"Walter","Pribuß","BGC Illertissen","SM2: Pribuß,Walter","SM2","Bahnengolfclub Illertissen e. V."]
[36550,36550,"Heinz","Pribyl","1. Minigolf-Club Rheinhausen","SM2: Pribyl,Heinz","SM2","1. Minigolf-Club Rheinhausen e. V."]
[66670,66670,"Ulrich","Priedigkeit","BGC Uerdingen","SM1: Priedigkeit,Ulrich","SM1","Bahnengolf-Club Uerdingen e. V."]
[66671,66671,"Gudrun","Priedigkeit","BGC Uerdingen","SW1: Priedigkeit,Gudrun","SW1","Bahnengolf-Club Uerdingen e. V."]
[67743,67743,"Daniel","Priemer","SSC Halver","H: Priemer,Daniel","H","SSC Halver e. V."]
[66841,66841,"Anne-Katrin","Prill","Minigolfclub Karlshagen","D: Prill,Anne-Katrin","D","Minigolfclub Karlshagen e. V."]
[66529,66529,"Norbert","Probost","MGC Wetzlar","SM2: Probost,Norbert","SM2","Miniatur-Golf-Club Wetzlar e. V."]
[26092,26092,"Michael","Proschko","1. BGC Bad Füssing","H: Proschko,Michael","H","1. Bahnengolfclub Bad Füssing e. V."]
[66484,66484,"Franz jr.","Proschko","1. BGC Bad Füssing","SM2: Proschko,Franz jr.","SM2","1. Bahnengolfclub Bad Füssing e. V."]
[35158,35158,"Dominik","Prüßner","MGC Bad Salzuflen","H: Prüßner,Dominik","H","Minigolf-Club Bad Salzuflen e. V."]
[10566,10566,"Johann","Pscherer jun.","MSK Olching","SM2: Pscherer jun.,Johann","SM2","Olchinger Minigolf Sport Klub e. V."]
[30634,30634,"Rudolf","Pull","1. MGC Mainz","H: Pull,Rudolf","H","Erster Mainzer Minigolf-Club e. V. 1964"]
[67180,67180,"Ly","Puschner","BIG Ingelfingen","SW1: Puschner,Ly","SW1","Bahnengolf Interessen-Gemeinschaft Ingelfingen 2020 e. V."]
[66528,66528,"Gerhard","Puschner","BIG Ingelfingen","SM2: Puschner,Gerhard","SM2","Bahnengolf Interessen-Gemeinschaft Ingelfingen 2020 e. V."]
[5509,5509,"Marianne","Quade","MGC Bad Salzuflen","SW2: Quade,Marianne","SW2","Minigolf-Club Bad Salzuflen e. V."]
[44691,44691,"Frank","Quandt","TSV Salzgitter Abt. Bahnengolf","SM1: Quandt,Frank","SM1","Turn- und Sportverein Salzgitter e. V. Abteilung Bahnengolf"]
[24081,24081,"Jürgen","Quandt","HMC Büttgen","SM2: Quandt,Jürgen","SM2","Hobbysport Miniaturgolfclub Büttgen e. V."]
[37784,37784,"Thorsten","Quantz","MGC Heringen 1997","SM1: Quantz,Thorsten","SM1","Miniatur-Golf-Club Heringen e. V."]
[22150,22150,"Andreas","Quelle","BSV 86 München","SM2: Quelle,Andreas","SM2","Bahnengolfsportverein 86 München e. V."]
[38420,38420,"Martin","Quickels","MGC Rot-Weiß Wanne-Eickel","SM2: Quickels,Martin","SM2","Minigolfclub Rot-Weiß Wanne-Eickel e. V."]
[62816,62816,"Sieghardt","Quitsch","SV Lurup Abt. Bahnengolf","SM2: Quitsch,Sieghardt","SM2","Sportverein Lurup-Hamburg von 1923 e. V. Abteilung Bahnengolf"]
[61546,61546,"Ruth","Quitsch","SV Lurup Abt. Bahnengolf","SW2: Quitsch,Ruth","SW2","Sportverein Lurup-Hamburg von 1923 e. V. Abteilung Bahnengolf"]
[32241,32241,"Matthias","Raatz","MGC Bergisch Gladbach Gierath","H: Raatz,Matthias","H","Minigolf-Club Bergisch Gladbach Gierath e. V."]
[67860,67860,"Jonas","Rabe","BGS Hardenberg-Pötter","JM: Rabe,Jonas","JM","BGS Hardenberg-Pötter e. V."]
[66373,66373,"Dieter","Rach","1. MGC Paderborn","SM2: Rach,Dieter","SM2","1. Minigolf-Club Paderborn 1980 e. V."]
[66549,66549,"Florian","Rachl","MSG Kempten","H: Rachl,Florian","H","Minigolf-Sport-Gemeinschaft Kempten e. V."]
[66551,66551,"Armin","Rachl","MSG Kempten","SM1: Rachl,Armin","SM1","Minigolf-Sport-Gemeinschaft Kempten e. V."]
[66550,66550,"Conny","Rachl","MSG Kempten","SW1: Rachl,Conny","SW1","Minigolf-Sport-Gemeinschaft Kempten e. V."]
[38625,38625,"Marcus","Rade","VfB Osnabrück","SM1: Rade,Marcus","SM1","Verein für Bahnengolf Osnabrück von 1984 e. V."]
[37281,37281,"Carina","Radeck","MGF Steinbruch Kempten","D: Radeck,Carina","D","Minigolf-Freunde Steinbruch Kempten e. V."]
[34051,34051,"Wolfgang","Rademacher","1. MGC 1970 Göttingen","SM2: Rademacher,Wolfgang","SM2","1. Miniatur-Golfsport-Club 1970 Göttingen e. V."]
[37656,37656,"Sonja","Radocaj","MSK Olching","SW2: Radocaj,Sonja","SW2","Olchinger Minigolf Sport Klub e. V."]
[{"$f":"VALUE(B2499)","v":48343},48343,"Mark","Radziejewski","MGC putter Künzell 1970",{"$f":"CONCATENATE(G2499,\": \",D2499,\",\",C2499)","v":"SM1: Radziejewski,Mark"},"SM1","Minigolfclub putter Künzell 1970 e. V."]
[36793,36793,"Dustin","Raffler","1. Essener CGC \"Blau-Gold\"","H: Raffler,Dustin","H","1. Essener cobiGOLF - Club \"Blau-Gold\" e. V."]
[10650,10650,"Walther","Raffler","1. Essener CGC \"Blau-Gold\"","SM2: Raffler,Walther","SM2","1. Essener cobiGOLF - Club \"Blau-Gold\" e. V."]
[31752,31752,"Timur","Rahman","MGC putter Künzell 1970","H: Rahman,Timur","H","Minigolfclub putter Künzell 1970 e. V."]
[4654,4654,"Brunhilde","Rahmlow","SV Lurup Abt. Bahnengolf","SW2: Rahmlow,Brunhilde","SW2","Sportverein Lurup-Hamburg von 1923 e. V. Abteilung Bahnengolf"]
[66633,66633,"Wolfgang","Raimann","MGC Bergisch Gladbach Gierath","SM1: Raimann,Wolfgang","SM1","Minigolf-Club Bergisch Gladbach Gierath e. V."]
[27206,27206,"Bianca","Raith","MGC Oberkochen","D: Raith,Bianca","D","Miniatur-Golfclub Oberkochen 1972 e. V."]
[43192,43192,"Richard","Raith","MGC Oberkochen","SM1: Raith,Richard","SM1","Miniatur-Golfclub Oberkochen 1972 e. V."]
[32862,32862,"Tobias","Ramcke","MC Tigers Künsebeck","H: Ramcke,Tobias","H","Miniaturgolf Club Tigers Künsebeck e. V."]
[37213,37213,"René","Ramming","BGC Bad Berneck","H: Ramming,René","H","Bahnengolf-Club e. V. Bad Berneck"]
[45764,45764,"Eduard","Rankel","MGC Bad Bodendorf","SM2: Rankel,Eduard","SM2","Miniaturgolfclub Bad Bodendorf e. V."]
[37655,37655,"Roland","Ranzinger","MGC Ingolstadt","SM2: Ranzinger,Roland","SM2"," Miniaturgolf-Club Ingolstadt e. V."]
[44276,44276,"Michael","Rapp","MGF Hammer","SM2: Rapp,Michael","SM2","Minigolffreunde Hammer e. V."]
[36567,36567,"Marcel","Raschke","BGC Diepholz","H: Raschke,Marcel","H","Bahnen-Golf-Club Diepholz e. V."]
[44728,44728,"Benjamin","Raschke","BGC Bremen","H: Raschke,Benjamin","H","Bahnen-Golf-Club Bremen e. V."]
[66379,66379,"Jörg","Raschke","Biskirchener BGV","SM1: Raschke,Jörg","SM1","Biskirchener Bahnen-Golf-Verein e. V."]
[884,884,"Isabell","Raschke-Dejoks","BGC Diepholz","D: Raschke-Dejoks,Isabell","D","Bahnen-Golf-Club Diepholz e. V."]
[34099,34099,"Gerhard","Rassler","Minigolfunion Neviges-Odenthal 1968","SM2: Rassler,Gerhard","SM2","Minigolfunion Neviges-Odenthal 1968 e. V."]
[34086,34086,"Claudia","Rassler","Minigolfunion Neviges-Odenthal 1968","SW2: Rassler,Claudia","SW2","Minigolfunion Neviges-Odenthal 1968 e. V."]
[35541,35541,"Yvonne","Rastetter","1. CGC Blau-Gelb Grötzingen","D: Rastetter,Yvonne","D","COBI-GOLF-CLUB Blau-Gelb Grötzingen 1968 e. V."]
[67309,67309,"Lucas","Rastetter","1. CGC Blau-Gelb Grötzingen","SCHM: Rastetter,Lucas","SCHM","COBI-GOLF-CLUB Blau-Gelb Grötzingen 1968 e. V."]
[31213,31213,"Thomas","Rastetter","1. CGC Blau-Gelb Grötzingen","SM1: Rastetter,Thomas","SM1","COBI-GOLF-CLUB Blau-Gelb Grötzingen 1968 e. V."]
[65851,65851,"Robert","Rastetter","Minigolf Wölfe Rheinstetten 02","SM2: Rastetter,Robert","SM2","Rad- und Kraftfahrervereins \"Solidarität\" Mörsch e. V. Abteilung Minigolf Wölfe Rheinstetten 02"]
[65824,65824,"Markus","Rath","BGC Goslar","SM1: Rath,Markus","SM1","Bahnen-Golf-Club Goslar e. V."]
[23693,23693,"Udo","Rathje","MGC Olympia Kiel","SM2: Rathje,Udo","SM2","Miniaturgolfclub Olympia Kiel e. V."]
[51902,51902,"Oliver","Rathjens","1. MSC Wesel 6.6.1966","SM1: Rathjens,Oliver","SM1","1. Minigolf-Sportclub Wesel 66 66 e. V. "]
[42343,42343,"Josef","Rauch","MGC Ingolstadt","SM1: Rauch,Josef","SM1"," Miniaturgolf-Club Ingolstadt e. V."]
[42585,42585,"Martin","Rausch","MGC putter Künzell 1970","SM1: Rausch,Martin","SM1","Minigolfclub putter Künzell 1970 e. V."]
[47353,47353,"Joachim","Rautenberg","MGC Heven","SM2: Rautenberg,Joachim","SM2","Miniatur - Golf - Club Heven e. V."]
[66721,66721,"Stefan","Rebstock","MC Flora Elmshorn","SM1: Rebstock,Stefan","SM1","Minigolf-Club Flora Elmshorn e. V."]
[37325,37325,"Jens","Rechenmacher","VfB Osnabrück","SM1: Rechenmacher,Jens","SM1","Verein für Bahnengolf Osnabrück von 1984 e. V."]
[50224,50224,"Andreas","Reese","MGC Felderbachtal 1964","SM1: Reese,Andreas","SM1","Minigolf-Club-Felderbachtal 1964 e. V."]
[37501,37501,"Maike","Reese","MGC Felderbachtal 1964","SW1: Reese,Maike","SW1","Minigolf-Club-Felderbachtal 1964 e. V."]
[67703,67703,"Hannelore","Reher","VfL Lohbrügge Abt. Bahnengolf","SW2: Reher,Hannelore","SW2","Verein für Leibesübungen Lohbrügge von 1892 e. V. Abteilung Bahnengolf"]
[43640,43640,"Norbert","Rehfeld","BGV Bergisch Land 1962 / 63","SM2: Rehfeld,Norbert","SM2","Bahnengolf-Verein Bergisch Land 1962/63 e. V."]
[34994,34994,"Sabine","Rehse","BGSC Bochum 1978","SW1: Rehse,Sabine","SW1","Bahnengolf-Sportclub Bochum 1978 e. V."]
[65945,65945,"Alexander","Reich","MGC Bad Feilnbach","H: Reich,Alexander","H","Minigolfclub Bad Feilnbach e. V."]
[32470,32470,"Matthias","Reiche","1. BGC Leipzig","H: Reiche,Matthias","H","1. Bahnen Golf Club Leipzig e. V."]
[34731,34731,"Michael","Reichert","MGC Unterschneidheim","SM2: Reichert,Michael","SM2","Minigolfclub Unterschneidheim e. V."]
[40054,40054,"Thomas","Reichert","TV Niederstetten 1862  Abt. Minigolf","SM2: Reichert,Thomas","SM2","Turnverein Niederstetten 1862 e. V. Abteilung Minigolf"]
[26125,26125,"Matthias","Reichle","BSV Inzlingen 1979","H: Reichle,Matthias","H","Bahnengolf-Sportverein Inzlingen 1979 e. V."]
[43382,43382,"Stefan","Reichle","BSV Inzlingen 1979","H: Reichle,Stefan","H","Bahnengolf-Sportverein Inzlingen 1979 e. V."]
[67023,67023,"Ben","Reichle","BSV Inzlingen 1979","SCHM: Reichle,Ben","SCHM","Bahnengolf-Sportverein Inzlingen 1979 e. V."]
[42375,42375,"Dirk","Reichle","1. MGC Ladenburg","SM1: Reichle,Dirk","SM1","1. Miniaturgolf-Club Ladenburg e. V."]
[3975,3975,"Urs","Reichle","BSV Inzlingen 1979","SM2: Reichle,Urs","SM2","Bahnengolf-Sportverein Inzlingen 1979 e. V."]
[32876,32876,"Heidi","Reichle","BSV Inzlingen 1979","SW2: Reichle,Heidi","SW2","Bahnengolf-Sportverein Inzlingen 1979 e. V."]
[67490,67490,"Sascha","Reiff","1. MGC Bamberg","SM1: Reiff,Sascha","SM1","1. Minigolfclub Bamberg e. V."]
[67550,67550,"Leon","Reim","MGC Wetzlar","JM: Reim,Leon","JM","Miniatur-Golf-Club Wetzlar e. V."]
[46907,46907,"Jens","Reimann","SV Glückauf 1901 Gebhardshagen","SM1: Reimann,Jens","SM1","SV Glück Auf 1901 Gebhardshagen e. V. Abteilung Minigolf"]
[18172,18172,"Werner","Reimer","VfM Bottrop","SM2: Reimer,Werner","SM2","Verein für Minigolf Bottrop e. V."]
[40617,40617,"Franz","Reimling","MC Ilvesheim","SM1: Reimling,Franz","SM1","Miniaturgolf-Club Ilvesheim e. V."]
[49312,49312,"Andy","Rein","1. MGC Ludwigshafen","H: Rein,Andy","H","1. Miniatur-Golf-Club Ludwigshafen 1964 e. V."]
[66993,66993,"Leonie","Rein","1. MGC Ludwigshafen","JW: Rein,Leonie","JW","1. Miniatur-Golf-Club Ludwigshafen 1964 e. V."]
[6215,6215,"Franz-Josef","Reinartz","1. KGC Mönchengladbach","SM2: Reinartz,Franz-Josef","SM2","1. Klein-Golf-Club Mönchengladbach e. V."]
[67858,67858,"Fabian","Reindl","MGC Murnau am Staffelsee","SCHM: Reindl,Fabian","SCHM","Minigolfclub Murnau am Staffelsee e. V."]
[67337,67337,"André","Reinhardt","MGC Ostheim / Rhön","H: Reinhardt,André","H","Miniaturgolfclub Ostheim/Rhön e. V. "]
[67666,67666,"Oliver","Reinhardt","Hamburger MC von 1965","H: Reinhardt,Oliver","H","Hamburger Minigolf Club von 1965 e. V."]
[32387,32387,"Tobias","Reinhardt","MSC Herscheid 1963","H: Reinhardt,Tobias","H","Minigolf-Sportclub Herscheid 1963 e. V."]
[36966,36966,"Günther","Reinhardt","1. Essener CGC \"Blau-Gold\"","SM1: Reinhardt,Günther","SM1","1. Essener cobiGOLF - Club \"Blau-Gold\" e. V."]
[6838,6838,"Manfred","Reinhardt","BGC Heilbronn","SM2: Reinhardt,Manfred","SM2","Bahnengolf Club Heilbronn e. V."]
[42690,42690,"Michael","Reinicke","MC \"Möve\" Cuxhaven-Sahlenburg","SM2: Reinicke,Michael","SM2","Miniaturgolf-Club \"Möve\" Cuxhaven-Sahlenburg e. V."]
[42691,42691,"Frank","Reinicke","MC \"Möve\" Cuxhaven-Sahlenburg","SM2: Reinicke,Frank","SM2","Miniaturgolf-Club \"Möve\" Cuxhaven-Sahlenburg e. V."]
[44862,44862,"Andrea","Reinicke","MC \"Möve\" Cuxhaven-Sahlenburg","SW2: Reinicke,Andrea","SW2","Miniaturgolf-Club \"Möve\" Cuxhaven-Sahlenburg e. V."]
[49802,49802,"Corina","Reinisch","BGC Neutraubling","D: Reinisch,Corina","D","Bahnengolf-Club Neutraubling e. V."]
[{"$f":"VALUE(B2563)","v":63580},63580,"Tim","Reinisch","BGC Neutraubling",{"$f":"CONCATENATE(G2563,\": \",D2563,\",\",C2563)","v":"JM: Reinisch,Tim"},"JM","Bahnengolf-Club Neutraubling e. V."]
[64926,64926,"Klaus jr.","Reinisch","BGC Neutraubling","SCHM: Reinisch,Klaus jr.","SCHM","Bahnengolf-Club Neutraubling e. V."]
[43664,43664,"Roman","Reinisch","BGC Neutraubling","SM1: Reinisch,Roman","SM1","Bahnengolf-Club Neutraubling e. V."]
[4065,4065,"Klaus","Reinisch","BGC Neutraubling","SM2: Reinisch,Klaus","SM2","Bahnengolf-Club Neutraubling e. V."]
[4076,4076,"Hildegard","Reinisch","BGC Neutraubling","SW2: Reinisch,Hildegard","SW2","Bahnengolf-Club Neutraubling e. V."]
[50558,50558,"Jürgen","Reinshagen","MGC Bergisch Gladbach Gierath","SM2: Reinshagen,Jürgen","SM2","Minigolf-Club Bergisch Gladbach Gierath e. V."]
[48965,48965,"Sandra","Reis","MGC Wertheim 91","D: Reis,Sandra","D","Minigolfdub Wertheim ´91 e. V."]
[45515,45515,"Hans","Reisdorff","MGC Bad Bodendorf","SM2: Reisdorff,Hans","SM2","Miniaturgolfclub Bad Bodendorf e. V."]
[4138,4138,"Anneliese","Reisdorff","MGC Bad Bodendorf","SW2: Reisdorff,Anneliese","SW2","Miniaturgolfclub Bad Bodendorf e. V."]
[48140,48140,"Alexander","Reiss","BGC Illertissen","H: Reiss,Alexander","H","Bahnengolfclub Illertissen e. V."]
[48968,48968,"Wolfgang","Reiss","1. NMC Kelheim","SM1: Reiss,Wolfgang","SM1","1. Niederbayerischer Minigolf-Club Kelheim e. V."]
[33172,33172,"Maria-Ina","Reißmann","MGV Eibenstock","D: Reißmann,Maria-Ina","D","Miniaturgolfverein Eibenstock 1997 e. V.\t"]
[32817,32817,"Volkmar","Reißmann","MGV Eibenstock","SM2: Reißmann,Volkmar","SM2","Miniaturgolfverein Eibenstock 1997 e. V.\t"]
[66612,66612,"Lea","Reitemeier","MGC Rot-Weiß Wanne-Eickel","D: Reitemeier,Lea","D","Minigolfclub Rot-Weiß Wanne-Eickel e. V."]
[66613,66613,"Michael","Reitemeier","MGC Rot-Weiß Wanne-Eickel","SM2: Reitemeier,Michael","SM2","Minigolfclub Rot-Weiß Wanne-Eickel e. V."]
[45574,45574,"Josef","Reiter","MGF Hammer","SM1: Reiter,Josef","SM1","Minigolffreunde Hammer e. V."]
[51479,51479,"Thomas","Remscheidt","SSC Attendorn","SM1: Remscheidt,Thomas","SM1","Sterngolf-Sport-Club Attendorn e. V."]
[66850,66850,"Uwe","Rennert","TSV 1848 Flöha","SM2: Rennert,Uwe","SM2","Turn- und Sportverein Flöha 1848 e. V. Abteilung Minigolf"]
[46579,46579,"Manfred","Retzlaff","BIG ASPERG","SM1: Retzlaff,Manfred","SM1","Bahnengolf-Interessen-Gemeinschaft Asperg e. V. 1982"]
[46595,46595,"Brigitte","Retzlaff","BIG ASPERG","SW1: Retzlaff,Brigitte","SW1","Bahnengolf-Interessen-Gemeinschaft Asperg e. V. 1982"]
[37449,37449,"Brigitte","Reul","BGSV Bad Homburg","SW2: Reul,Brigitte","SW2","Bahnengolf-Sportverein Bad Homburg v.d.H. e. V."]
[66656,66656,"Michel","Rhyn","SG Arheilgen Abt. Bahnengolf","SM1: Rhyn,Michel","SM1","Sportgemeinschaft Arheilgen 1876/1945 e. V. Abteilung Bahnengolf"]
[34628,34628,"Ilario","Ricci","1. BGC Wolfsburg","H: Ricci,Ilario","H","1. Bahnen - Golf - Club Wolfsburg e. V."]
[27886,27886,"Andreas","Richard","1. MGC Süßen","SM1: Richard,Andreas","SM1","1. Miniaturgolfclub Süßen e. V."]
[65809,65809,"Tobias","Richter","1. MC Weinheim","H: Richter,Tobias","H","1. Miniaturgolf-Club Weinheim e. V."]
[34904,34904,"Mike","Richter","MGV Eibenstock","H: Richter,Mike","H","Miniaturgolfverein Eibenstock 1997 e. V.\t"]
[67635,67635,"Sabine","Richter","1. BGC Leipzig","D: Richter,Sabine","D","1. Bahnen Golf Club Leipzig e. V."]
[31089,31089,"Anja","Richter","BGC Uerdingen","SW1: Richter,Anja","SW1","Bahnengolf-Club Uerdingen e. V."]
[47480,47480,"Siegfried","Richter","1. KGC Mönchengladbach","SM2: Richter,Siegfried","SM2","1. Klein-Golf-Club Mönchengladbach e. V."]
[3149,3149,"Helga","Riebeling","1. MC Weinheim","SW2: Riebeling,Helga","SW2","1. Miniaturgolf-Club Weinheim e. V."]
[31071,31071,"Pia","Riebesam","HMC Büttgen","SW1: Riebesam,Pia","SW1","Hobbysport Miniaturgolfclub Büttgen e. V."]
[43517,43517,"Mirko","Riecken","MC Flora Elmshorn","SM1: Riecken,Mirko","SM1","Minigolf-Club Flora Elmshorn e. V."]
[43372,43372,"Ralf","Riedel","1. MGC Tuttlingen","SM1: Riedel,Ralf","SM1","Erster Minigolf - Club Tuttlingen e. V."]
[43376,43376,"Kurt","Riedel","1. MGC Tuttlingen","SM1: Riedel,Kurt","SM1","Erster Minigolf - Club Tuttlingen e. V."]
[43350,43350,"Wolfgang","Rieder","MGF Waldshut 74","SM2: Rieder,Wolfgang","SM2","Minigolffreunde Waldshut 1974 e. V."]
[43435,43435,"Elisabeth","Riedl","1. FMGC Lichtenfels 1961","SW2: Riedl,Elisabeth","SW2","1. Fränkischer Minigolfclub Lichtenfels 1961 e. V."]
[66700,66700,"Niklas","Riedlinger","1. MGC Hechingen","H: Riedlinger,Niklas","H","1. Minigolfclub Hechingen e. V."]
[66239,66239,"Erik","Rieger","MGC Bad Soden-Salmünster","SM1: Rieger,Erik","SM1","Miniaturgolfclub Bad Soden-Salmünster e. V."]
[34059,34059,"Ulf","Rieger","BGS Hardenberg-Pötter","SM1: Rieger,Ulf","SM1","BGS Hardenberg-Pötter e. V."]
[67519,67519,"Mike","Riehl","1. MGC Mainz","H: Riehl,Mike","H","Erster Mainzer Minigolf-Club e. V. 1964"]
[67518,67518,"Susanne","Riehl","1. MGC Mainz","D: Riehl,Susanne","D","Erster Mainzer Minigolf-Club e. V. 1964"]
[31344,31344,"Markus","Rieker","1. MGC Tuttlingen","SM1: Rieker,Markus","SM1","Erster Minigolf - Club Tuttlingen e. V."]
[30817,30817,"Michael","Riemann","CGC Rauschenberg","SM1: Riemann,Michael","SM1","Cobigolf-Club Rauschenberg e. V."]
[41463,41463,"Carsten","Riemann","1. MGC 1970 Göttingen","SM1: Riemann,Carsten","SM1","1. Miniatur-Golfsport-Club 1970 Göttingen e. V."]
[42684,42684,"Susanne","Riemann","1. MGC Kassel 1964","SW1: Riemann,Susanne","SW1","1. Mini-Golfsport-Club Kassel-Vellmar 1964 e. V."]
[66494,66494,"Lothar","Riemann","MGC Bad Salzuflen","SM2: Riemann,Lothar","SM2","Minigolf-Club Bad Salzuflen e. V."]
[66493,66493,"Karin","Riemann","MGC Bad Salzuflen","SW2: Riemann,Karin","SW2","Minigolf-Club Bad Salzuflen e. V."]
[36048,36048,"Klaus","Riepe","MGC Harrislee-Wassersleben","SM2: Riepe,Klaus","SM2","Sportverein Minigolfclub Harrislee-Wassersleben e. V."]
[67672,67672,"Kerlyn","Ries","1. FMGC Lichtenfels 1961","D: Ries,Kerlyn","D","1. Fränkischer Minigolfclub Lichtenfels 1961 e. V."]
[6783,6783,"Karl-Ludwig","Ries","MSV Bad Kreuznach","SM2: Ries,Karl-Ludwig","SM2","MSV Bad Kreuznach e. V."]
[33348,33348,"Anke","Riesbeck","Preetzer TSV von 1861 Abt. Minigolf","SW2: Riesbeck,Anke","SW2","Preetzer Turn- und Sportverein von 1861 e. V. Abteilung Minigolf"]
[42608,42608,"Ulrich","Riesenbeck","1. KGC Mönchengladbach","SM2: Riesenbeck,Ulrich","SM2","1. Klein-Golf-Club Mönchengladbach e. V."]
[66619,66619,"Ole","Riewe","TG Höchberg von 1862 Bahnengolf","H: Riewe,Ole","H","Turngemeinde Höchberg von 1862 Bahnengolf e. V."]
[42965,42965,"Norbert","Ring","HMC Büttgen","SM2: Ring,Norbert","SM2","Hobbysport Miniaturgolfclub Büttgen e. V."]
[37236,37236,"Karl","Ring","MGC Unterschneidheim","SM2: Ring,Karl","SM2","Minigolfclub Unterschneidheim e. V."]
[38262,38262,"Angelika Pia","Ringler","1. MGC Tuttlingen","SW1: Ringler,Angelika Pia","SW1","Erster Minigolf - Club Tuttlingen e. V."]
[31221,31221,"Andreas","Ringshandl","1. NMC Kelheim","H: Ringshandl,Andreas","H","1. Niederbayerischer Minigolf-Club Kelheim e. V."]
[67713,67713,"Björn","Rink","MSF Brilon","H: Rink,Björn","H","Minigolfsportfreunde Brilon e. V."]
[48112,48112,"Walter","Rinke","MC Flora Elmshorn","SM2: Rinke,Walter","SM2","Minigolf-Club Flora Elmshorn e. V."]
[66410,66410,"Lukas","Rinker","MGC Wetzlar","H: Rinker,Lukas","H","Miniatur-Golf-Club Wetzlar e. V."]
[37586,37586,"Joshua","Rischar","BGC Bildstock","H: Rischar,Joshua","H","Bahnen-Golf-Club Bildstock e. V."]
[65974,65974,"Oliver","Rissling","MGC Bergisch Gladbach Gierath","SM1: Rissling,Oliver","SM1","Minigolf-Club Bergisch Gladbach Gierath e. V."]
[38371,38371,"Wolfgang","Ristow","1. MGC Paderborn","SM2: Ristow,Wolfgang","SM2","1. Minigolf-Club Paderborn 1980 e. V."]
[33975,33975,"Michael","Ritschel","Miniaturgolf Sportclub Schriesheim","H: Ritschel,Michael","H","Miniaturgolf Sportclub Schriesheim e. V."]
[{"$f":"VALUE(B2627)","v":5020},5020,"Reiner","Ritschel","Miniaturgolf Sportclub Schriesheim",{"$f":"CONCATENATE(G2627,\": \",D2627,\",\",C2627)","v":"SM2: Ritschel,Reiner"},"SM2","Miniaturgolf Sportclub Schriesheim e. V."]
[38544,38544,"Klaus","Ritschel","MGC \"Stahlquelle\" Bad Bocklet","SM2: Ritschel,Klaus","SM2","Miniatur-Golf-Club \"Stahlquelle\", Bad Bocklet 1989 e. V."]
[36284,36284,"Claudia","Ritschmann","BGC Heilbronn","SW1: Ritschmann,Claudia","SW1","Bahnengolf Club Heilbronn e. V."]
[36285,36285,"Uwe","Ritschmann","BGC Heilbronn","SM2: Ritschmann,Uwe","SM2","Bahnengolf Club Heilbronn e. V."]
[66773,66773,"Sascha","Ritterbusch","1. MGC Lohfelden 1997","SM1: Ritterbusch,Sascha","SM1","1. Miniatur-Golfsport-Club Lohfelden e. V."]
[44193,44193,"Thorsten","Ritz","BGSC \"Gut Schlag\" Gladbeck","SM1: Ritz,Thorsten","SM1","Bahnengolfsportclub \"Gut Schlag\" Gladbeck e. V."]
[43368,43368,"Andreas","Ritzert","MC Ilvesheim","SM1: Ritzert,Andreas","SM1","Miniaturgolf-Club Ilvesheim e. V."]
[42533,42533,"Bettina","Ritzert","MC Ilvesheim","SW1: Ritzert,Bettina","SW1","Miniaturgolf-Club Ilvesheim e. V."]
[33395,33395,"Eva","Rochel","SGC Hagen","SW2: Rochel,Eva","SW2","Sterngolf-Club Hagen e. V."]
[66915,66915,"Jens","Rockstroh","TSV 1848 Flöha","SM2: Rockstroh,Jens","SM2","Turn- und Sportverein Flöha 1848 e. V. Abteilung Minigolf"]
[66037,66037,"Andreas","Rödig","MGC Bad Feilnbach","SM1: Rödig,Andreas","SM1","Minigolfclub Bad Feilnbach e. V."]
[19330,19330,"Peter","Rödiger","MGC Wetzlar","SM2: Rödiger,Peter","SM2","Miniatur-Golf-Club Wetzlar e. V."]
[34792,34792,"Timo","Roessler","1. MGC Metzingen","H: Roessler,Timo","H","1. Miniaturgolf Club Metzingen e. V."]
[66856,66856,"Heinz-Friedrich","Rogall","MGC Felderbachtal 1964","SM2: Rogall,Heinz-Friedrich","SM2","Minigolf-Club-Felderbachtal 1964 e. V."]
[37470,37470,"Thomas","Rogge","VfM Berlin","SM1: Rogge,Thomas","SM1","Verein für Minigolf e. V. Berlin"]
[66697,66697,"Jens","Rogler","Minigolfclub Karlshagen","SM1: Rogler,Jens","SM1","Minigolfclub Karlshagen e. V."]
[43860,43860,"Uwe","Rohard","MGC Brunsbüttel","SM2: Rohard,Uwe","SM2","Miniaturgolf-Club Brunsbüttel e. V."]
[67110,67110,"Sabine","Röhrl","MSK Olching","SW1: Röhrl,Sabine","SW1","Olchinger Minigolf Sport Klub e. V."]
[67628,67628,"Tom-Luca","Röhsa","Hamburger MC von 1965","SCHM: Röhsa,Tom-Luca","SCHM","Hamburger Minigolf Club von 1965 e. V."]
[67746,67746,"Kay","Röhsa","Hamburger MC von 1965","SM1: Röhsa,Kay","SM1","Hamburger Minigolf Club von 1965 e. V."]
[67310,67310,"Peter","Roland","MC \"Möve\" Cuxhaven-Sahlenburg","SM2: Roland,Peter","SM2","Miniaturgolf-Club \"Möve\" Cuxhaven-Sahlenburg e. V."]
[19228,19228,"Karlheinz","Roller","1. MGC Metzingen","SM2: Roller,Karlheinz","SM2","1. Miniaturgolf Club Metzingen e. V."]
[42632,42632,"Joachim","Romano","1. BGC Bad Füssing","SM1: Romano,Joachim","SM1","1. Bahnengolfclub Bad Füssing e. V."]
[44981,44981,"Michael","Romberg","MGC Freizeitzentrum Biebertal","SM1: Romberg,Michael","SM1","Miniatur-Golf-Club Freizeitzentrum Biebertal e. V."]
[34766,34766,"Yvonne","Romberg","MGC Freizeitzentrum Biebertal","SW1: Romberg,Yvonne","SW1","Miniatur-Golf-Club Freizeitzentrum Biebertal e. V."]
[6616,6616,"Wolfgang","Romberg","BGC Schloß Paffendorf","SM2: Romberg,Wolfgang","SM2","Bahnengolf Club Schloß Paffendorf e. V."]
[25686,25686,"Silvia","Romberg","BGC Schloß Paffendorf","SW2: Romberg,Silvia","SW2","Bahnengolf Club Schloß Paffendorf e. V."]
[37427,37427,"Stephan","Römer","1. KGC Mönchengladbach","SM1: Römer,Stephan","SM1","1. Klein-Golf-Club Mönchengladbach e. V."]
[16911,16911,"Wolfgang","Romero Bustillo","MSC Bad Godesberg","H: Romero Bustillo,Wolfgang","H","Minigolf-Sport-Club Bad Godesberg e. V."]
[67431,67431,"Cedric","Rörig","SSC Attendorn","H: Rörig,Cedric","H","Sterngolf-Sport-Club Attendorn e. V."]
[24416,24416,"Martin","Rösch","1. NMC Kelheim","SM2: Rösch,Martin","SM2","1. Niederbayerischer Minigolf-Club Kelheim e. V."]
[38635,38635,"Benjamin","Rose","BGC Dormagen","H: Rose,Benjamin","H","Bahnengolf-Club Dormagen e. V."]
[65915,65915,"Karl-Wilhelm","Rose","BGC Dormagen","SM2: Rose,Karl-Wilhelm","SM2","Bahnengolf-Club Dormagen e. V."]
[38636,38636,"Heidemarie","Rose","BGC Dormagen","SW2: Rose,Heidemarie","SW2","Bahnengolf-Club Dormagen e. V."]
[35849,35849,"Christian","Roselieb","Bochumer Minigolf-Club 1960","H: Roselieb,Christian","H","Bochumer Minigolf-Club 1960 e. V."]
[35850,35850,"Manfred","Roselieb","1. MGC 1970 Göttingen","SM2: Roselieb,Manfred","SM2","1. Miniatur-Golfsport-Club 1970 Göttingen e. V."]
[35560,35560,"Axel","Rosemann","Minigolfunion Neviges-Odenthal 1968","SM1: Rosemann,Axel","SM1","Minigolfunion Neviges-Odenthal 1968 e. V."]
[33650,33650,"Marina","Rosenbach","MGC Traben-Trarbach","D: Rosenbach,Marina","D","Minigolfclub Traben-Trarbach e. V."]
[66634,66634,"Willi","Rosenberger","MSV Würzburg-Löwenbrücke","SM2: Rosenberger,Willi","SM2","Miniaturgolfsportverein Würzburg - Löwenbrücke e. V."]
[29032,29032,"Detlev","Rösener","MSK Neheim-Hüsten","SM1: Rösener,Detlev","SM1","MINIGOLF-SPORT-KLUB Neheim-Hüsten e. V."]
[3522,3522,"Ingeborg","Rosenkranz","OMGC Ingolstadt","SW2: Rosenkranz,Ingeborg","SW2","Oberbayerische Minigolf-Club Ingolstadt e. V."]
[36949,36949,"Roland","Rösner","MGC Bad Feilnbach","SM2: Rösner,Roland","SM2","Minigolfclub Bad Feilnbach e. V."]
[31044,31044,"Markus","Roßmeier","1. BGC Bad Füssing","H: Roßmeier,Markus","H","1. Bahnengolfclub Bad Füssing e. V."]
[67414,67414,"Stefan","Rotenstein","1. MGC Peine von 1965","H: Rotenstein,Stefan","H","1. Miniaturgolf-Club Peine von 1965 e. V."]
[66952,66952,"Marie Sophie","Rotermund","1. BGC Celle von 1964","JW: Rotermund,Marie Sophie","JW","1. Bahnen-Golf-Club Celle von 1964 e. V."]
[38248,38248,"Jürgen","Rotermund","1. BGC Celle von 1964","SM2: Rotermund,Jürgen","SM2","1. Bahnen-Golf-Club Celle von 1964 e. V."]
[66992,66992,"Frank","Roth","1. BGC Rodalben 1977","H: Roth,Frank","H","1. Bahnengolfverein Rodalben 1977 e. V."]
[37019,37019,"Nathalie-Inez","Roth","TG Höchberg von 1862 Bahnengolf","D: Roth,Nathalie-Inez","D","Turngemeinde Höchberg von 1862 Bahnengolf e. V."]
[67842,67842,"Hans Bruno","Roth","1. MC Weinheim","SM2: Roth,Hans Bruno","SM2","1. Miniaturgolf-Club Weinheim e. V."]
[34054,34054,"Dieter","Rothermel","MSC Bensheim-Auerbach","SM2: Rothermel,Dieter","SM2","Minigolf-Sport-Club Bensheim-Auerbach e. V."]
[34053,34053,"Ute","Rothermel","MSC Bensheim-Auerbach","SW2: Rothermel,Ute","SW2","Minigolf-Sport-Club Bensheim-Auerbach e. V."]
[87506,87506,"Sandra","Röttger","1. MGC 1970 Göttingen","D: Röttger,Sandra","D","1. Miniatur-Golfsport-Club 1970 Göttingen e. V."]
[67586,67586,"Stefan","Ruber","MGC Bad Feilnbach","SM1: Ruber,Stefan","SM1","Minigolfclub Bad Feilnbach e. V."]
[66908,66908,"Sebastian","Rübner","MGC \"Stahlquelle\" Bad Bocklet","H: Rübner,Sebastian","H","Miniatur-Golf-Club \"Stahlquelle\", Bad Bocklet 1989 e. V."]
[66803,66803,"Dietmar","Ruck","BGC Schweinfurt","SM1: Ruck,Dietmar","SM1","Bahnengolfclub Schweinfurt e. V."]
[67608,67608,"Peter","Ruck","MGV Ansbach","SM2: Ruck,Peter","SM2","MGV Ansbach e. V."]
[27788,27788,"Sven","Rücker","MGC Wetzlar","H: Rücker,Sven","H","Miniatur-Golf-Club Wetzlar e. V."]
[66287,66287,"Verena","Rude","1. MGC Ladenburg","D: Rude,Verena","D","1. Miniaturgolf-Club Ladenburg e. V."]
[24182,24182,"Dieter","Rude","1. MGC Ladenburg","SM2: Rude,Dieter","SM2","1. Miniaturgolf-Club Ladenburg e. V."]
[67597,67597,"Holger","Rüdebusch","SV Lurup Abt. Bahnengolf","SM1: Rüdebusch,Holger","SM1","Sportverein Lurup-Hamburg von 1923 e. V. Abteilung Bahnengolf"]
[36630,36630,"Hans","Ruder","Minigolf Wölfe Rheinstetten 02","SM2: Ruder,Hans","SM2","Rad- und Kraftfahrervereins \"Solidarität\" Mörsch e. V. Abteilung Minigolf Wölfe Rheinstetten 02"]
[42717,42717,"Thomas","Ruff","MGC Ravensburg-Weingarten","SM1: Ruff,Thomas","SM1","MGC Ravensburg-Weingarten e. V."]
[51306,51306,"Wolfgang","Ruft","1. BGC Hannover","SM1: Ruft,Wolfgang","SM1","1. Bahnen-Golf-Club Hannover e. V."]
[67784,67784,"Frank","Rüger","MGV Ansbach","SM1: Rüger,Frank","SM1","MGV Ansbach e. V."]
[{"$f":"VALUE(B2691)","v":22305},22305,"Klaus","Rüger","BGC Northeim",{"$f":"CONCATENATE(G2691,\": \",D2691,\",\",C2691)","v":"SM2: Rüger,Klaus"},"SM2","Bahnen-Golf-Club Northeim e. V."]
[21226,21226,"Dieter","Rüger","1. MSC Wesel 6.6.1966","SM2: Rüger,Dieter","SM2","1. Minigolf-Sportclub Wesel 66 66 e. V. "]
[36047,36047,"Karl-Heinz","Rühle","MGC Wolnzach","SM2: Rühle,Karl-Heinz","SM2","Miniaturgolf-Club Wolnzach e. V."]
[37637,37637,"Anna","Rümmelin","BSV Inzlingen 1979","D: Rümmelin,Anna","D","Bahnengolf-Sportverein Inzlingen 1979 e. V."]
[67225,67225,"Eycke","Rümmelin","BSV Inzlingen 1979","SW1: Rümmelin,Eycke","SW1","Bahnengolf-Sportverein Inzlingen 1979 e. V."]
[49432,49432,"Jürgen","Rupp","MGC Ravensburg-Weingarten","H: Rupp,Jürgen","H","MGC Ravensburg-Weingarten e. V."]
[66956,66956,"Petra","Rupp","1. MGC Mainz","SW2: Rupp,Petra","SW2","Erster Mainzer Minigolf-Club e. V. 1964"]
[6727,6727,"Eberhard","Rüppel","MGC Bad Homburg vdH","SM2: Rüppel,Eberhard","SM2","Minigolf-Club Bad Homburg e. V."]
[29657,29657,"Frank","Rüter","MSK Neheim-Hüsten","SM1: Rüter,Frank","SM1","MINIGOLF-SPORT-KLUB Neheim-Hüsten e. V."]
[65913,65913,"Holger","Ruzicka","BGC Illertissen","SM2: Ruzicka,Holger","SM2","Bahnengolfclub Illertissen e. V."]
[36288,36288,"Patrick","Saar","1. MGC Tuttlingen","H: Saar,Patrick","H","Erster Minigolf - Club Tuttlingen e. V."]
[31240,31240,"Petra","Sabath","MGC Einbeck","SW1: Sabath,Petra","SW1","Miniatur-Golf-Club Einbeck e. V."]
[43142,43142,"Wolfgang","Sachs","MGC Bad Salzuflen","SM2: Sachs,Wolfgang","SM2","Minigolf-Club Bad Salzuflen e. V."]
[67074,67074,"Torsten","Sachse","SG Arheilgen Abt. Bahnengolf","H: Sachse,Torsten","H","Sportgemeinschaft Arheilgen 1876/1945 e. V. Abteilung Bahnengolf"]
[29035,29035,"Markus","Sack","MSK Neheim-Hüsten","SM1: Sack,Markus","SM1","MINIGOLF-SPORT-KLUB Neheim-Hüsten e. V."]
[28574,28574,"Bernd","Sadzeck","1. MSC Hamburg-Neu Wulmstorf","SM1: Sadzeck,Bernd","SM1","1. Minigolf-Sport-Club Hamburg-Neu-Wulmstorf e. V."]
[66088,66088,"Ellen","Saft","MSK Olching","D: Saft,Ellen","D","Olchinger Minigolf Sport Klub e. V."]
[66089,66089,"Chiana","Saft","MSK Olching","D: Saft,Chiana","D","Olchinger Minigolf Sport Klub e. V."]
[67737,67737,"Dirk","Sagowsky","MGC Bergisch Gladbach Gierath","SM2: Sagowsky,Dirk","SM2","Minigolf-Club Bergisch Gladbach Gierath e. V."]
[66320,66320,"Petra","Sakulski","SSC Attendorn","SW1: Sakulski,Petra","SW1","Sterngolf-Sport-Club Attendorn e. V."]
[45743,45743,"Henri","Salewski","Bochumer Minigolf-Club 1960","SM1: Salewski,Henri","SM1","Bochumer Minigolf-Club 1960 e. V."]
[67474,67474,"Andreas","Salitz","1. Essener CGC \"Blau-Gold\"","SM1: Salitz,Andreas","SM1","1. Essener cobiGOLF - Club \"Blau-Gold\" e. V."]
[33791,33791,"Reiner","Salzmann","MSC Bad Godesberg","SM2: Salzmann,Reiner","SM2","Minigolf-Sport-Club Bad Godesberg e. V."]
[29061,29061,"Mark","Sandkamp","1. MGC Epe 1978","H: Sandkamp,Mark","H","1. Minigolfclub Epe 1978 e. V."]
[67727,67727,"Tristan","Sänger","BSV 82 Ohlsbach","SCHM: Sänger,Tristan","SCHM","Bahnengolfsportverein 82 Ohlsbach e. V."]
[33349,33349,"Ralph","Santen","Preetzer TSV von 1861 Abt. Minigolf","SM1: Santen,Ralph","SM1","Preetzer Turn- und Sportverein von 1861 e. V. Abteilung Minigolf"]
[66760,66760,"Turan","Sariefe","MGC Ingolstadt","SM1: Sariefe,Turan","SM1"," Miniaturgolf-Club Ingolstadt e. V."]
[6664,6664,"Manfred","Sassenberg","1. MGC Mainz","SM2: Sassenberg,Manfred","SM2","Erster Mainzer Minigolf-Club e. V. 1964"]
[66120,66120,"Michael","Sattler","BGSV Bad Homburg","H: Sattler,Michael","H","Bahnengolf-Sportverein Bad Homburg v.d.H. e. V."]
[29845,29845,"Albert","Sauer","BSV 82 Ohlsbach","SM1: Sauer,Albert","SM1","Bahnengolfsportverein 82 Ohlsbach e. V."]
[49737,49737,"Kay","Sauerland","MGC Harrislee-Wassersleben","H: Sauerland,Kay","H","Sportverein Minigolfclub Harrislee-Wassersleben e. V."]
[67475,67475,"Gabriela","Sawärt","BGSC Bochum 1978","SW2: Sawärt,Gabriela","SW2","Bahnengolf-Sportclub Bochum 1978 e. V."]
[43149,43149,"Ralf","Sawartowski","MGC Rot-Weiß Wanne-Eickel","SM1: Sawartowski,Ralf","SM1","Minigolfclub Rot-Weiß Wanne-Eickel e. V."]
[65989,65989,"Sadettin","Saykin","MGC Bad Soden-Salmünster","H: Saykin,Sadettin","H","Miniaturgolfclub Bad Soden-Salmünster e. V."]
[65984,65984,"Sadiddin","Saykin","MGC Bad Soden-Salmünster","SM1: Saykin,Sadiddin","SM1","Miniaturgolfclub Bad Soden-Salmünster e. V."]
[30667,30667,"Jens","Schacht","Hamburger MC von 1965","SM1: Schacht,Jens","SM1","Hamburger Minigolf Club von 1965 e. V."]
[40098,40098,"Monika","Schacht","MGC Harrislee-Wassersleben","SW2: Schacht,Monika","SW2","Sportverein Minigolfclub Harrislee-Wassersleben e. V."]
[67049,67049,"Frank","Schachtsiek","Bochumer Minigolf-Club 1960","SM1: Schachtsiek,Frank","SM1","Bochumer Minigolf-Club 1960 e. V."]
[12064,12064,"Egon","Schacke","VfM Berlin","SM2: Schacke,Egon","SM2","Verein für Minigolf e. V. Berlin"]
[36767,36767,"Doris","Schacke","VfM Berlin","SW2: Schacke,Doris","SW2","Verein für Minigolf e. V. Berlin"]
[44021,44021,"Michael","Schaefer","MSC Bad Godesberg","SM1: Schaefer,Michael","SM1","Minigolf-Sport-Club Bad Godesberg e. V."]
[66150,66150,"Dennis","Schäfer","MSC Bensheim-Auerbach","H: Schäfer,Dennis","H","Minigolf-Sport-Club Bensheim-Auerbach e. V."]
[37818,37818,"Pascal","Schäfer","MGC Traben-Trarbach","H: Schäfer,Pascal","H","Minigolfclub Traben-Trarbach e. V."]
[31511,31511,"Willi","Schäfer","MSF Brilon","H: Schäfer,Willi","H","Minigolfsportfreunde Brilon e. V."]
[67729,67729,"Celine","Schäfer","SV 1890 Dreieichenhain, Abt. Bahnengolf","D: Schäfer,Celine","D","Sportverein 1890 e. V. Dreieichenhain Abteilung Bahnengolf"]
[1814,1814,"Norbert","Schäfer","1. MGC Kassel 1964","SM2: Schäfer,Norbert","SM2","1. Mini-Golfsport-Club Kassel-Vellmar 1964 e. V."]
[49087,49087,"Richard","Schäfer","1. MGC Mainz","SM2: Schäfer,Richard","SM2","Erster Mainzer Minigolf-Club e. V. 1964"]
[24462,24462,"Jürgen","Schäfer","MGC Rot-Weiß Wanne-Eickel","SM2: Schäfer,Jürgen","SM2","Minigolfclub Rot-Weiß Wanne-Eickel e. V."]
[27438,27438,"Armin","Schäfer","MSC Herscheid 1963","SM2: Schäfer,Armin","SM2","Minigolf-Sportclub Herscheid 1963 e. V."]
[45844,45844,"Carsten","Schakowski","MGC Monrepos","SM1: Schakowski,Carsten","SM1","Minigolfclub Monrepos e. V."]
[26089,26089,"Albert","Schamberger","MSK Olching","SM2: Schamberger,Albert","SM2","Olchinger Minigolf Sport Klub e. V."]
[26088,26088,"Gerda","Schamberger","MSK Olching","SW2: Schamberger,Gerda","SW2","Olchinger Minigolf Sport Klub e. V."]
[66787,66787,"Sven","Schäning","SV Glückauf 1901 Gebhardshagen","SM1: Schäning,Sven","SM1","SV Glück Auf 1901 Gebhardshagen e. V. Abteilung Minigolf"]
[67243,67243,"Petra","Schäning","SV Glückauf 1901 Gebhardshagen","SW1: Schäning,Petra","SW1","SV Glück Auf 1901 Gebhardshagen e. V. Abteilung Minigolf"]
[6642,6642,"Erich","Schankweiler","1. BGC Celle von 1964","SM2: Schankweiler,Erich","SM2","1. Bahnen-Golf-Club Celle von 1964 e. V."]
[46517,46517,"Thomas","Schäpe","BGSV Kerpen","SM1: Schäpe,Thomas","SM1","Bahnen-Golf-Sport-Vereinigung Kerpen e. V."]
[67544,67544,"Richard","Scharf","BGC Illertissen","SM2: Scharf,Richard","SM2","Bahnengolfclub Illertissen e. V."]
[7907,7907,"Peter","Scharfenberg","MSC Bad Godesberg","SM2: Scharfenberg,Peter","SM2","Minigolf-Sport-Club Bad Godesberg e. V."]
[38455,38455,"Helga","Scharnhorst","1. BGC Hannover","SW1: Scharnhorst,Helga","SW1","1. Bahnen-Golf-Club Hannover e. V."]
[1549,1549,"Rüdiger","Scharnhorst","1. BGC Hannover","SM2: Scharnhorst,Rüdiger","SM2","1. Bahnen-Golf-Club Hannover e. V."]
[67147,67147,"Sabine","Scharpe","BSC Ennepetal","SW1: Scharpe,Sabine","SW1","Bahngolf-Sport-Club Ennepetal e. V."]
[27121,27121,"Arno","Schatke","BGC Northeim","SM2: Schatke,Arno","SM2","Bahnen-Golf-Club Northeim e. V."]
[34453,34453,"Michael","Schätz","1. MGC Mannheim 1968","SM2: Schätz,Michael","SM2","1. Miniatur-Golf-Club Mannheim 1968 e. V."]
[67762,67762,"Peter","Schätzle","MGC Bad Homburg vdH","SM1: Schätzle,Peter","SM1","Minigolf-Club Bad Homburg e. V."]
[{"$f":"VALUE(B2755)","v":35464},35464,"Susanne","Schaub","MSV Würzburg-Löwenbrücke",{"$f":"CONCATENATE(G2755,\": \",D2755,\",\",C2755)","v":"D: Schaub,Susanne"},"D","Miniaturgolfsportverein Würzburg - Löwenbrücke e. V."]
[66477,66477,"Karim","Schaub","MSV Würzburg-Löwenbrücke","JM: Schaub,Karim","JM","Miniaturgolfsportverein Würzburg - Löwenbrücke e. V."]
[87515,87515,"Julian","Schauer","PTSV Hof, Abt. Minigolf","H: Schauer,Julian","H","Post- und Telekom-Sportverein Hof e. V. Abteilung Minigolf "]
[40975,40975,"Werner","Schechinger","MGC Wolnzach","SM1: Schechinger,Werner","SM1","Miniaturgolf-Club Wolnzach e. V."]
[66526,66526,"Laura","Scheder","TG Höchberg von 1862 Bahnengolf","D: Scheder,Laura","D","Turngemeinde Höchberg von 1862 Bahnengolf e. V."]
[66524,66524,"Christine","Scheder","TG Höchberg von 1862 Bahnengolf","SW1: Scheder,Christine","SW1","Turngemeinde Höchberg von 1862 Bahnengolf e. V."]
[66525,66525,"Roland","Scheder","TG Höchberg von 1862 Bahnengolf","SM2: Scheder,Roland","SM2","Turngemeinde Höchberg von 1862 Bahnengolf e. V."]
[33583,33583,"Jens","Scheffler","1. BGC Wesseling 1975","H: Scheffler,Jens","H","1. Bahnen-Golf-Club Wesseling 1975 e. V. "]
[65969,65969,"Ingelore","Scheffler","1. MGC Peine von 1965","SW2: Scheffler,Ingelore","SW2","1. Miniaturgolf-Club Peine von 1965 e. V."]
[40220,40220,"Georg","Scheffzik","SSC Halver","SM1: Scheffzik,Georg","SM1","SSC Halver e. V."]
[24,24,"Stefan","Scheider","SSC Halver","SM1: Scheider,Stefan","SM1","SSC Halver e. V."]
[47093,47093,"Christian","Scheider","SSC Halver","SM1: Scheider,Christian","SM1","SSC Halver e. V."]
[34772,34772,"Dirk","Scheikowski","1. MSC Wesel 6.6.1966","H: Scheikowski,Dirk","H","1. Minigolf-Sportclub Wesel 66 66 e. V. "]
[631,631,"Kurt","Schellhas","MGC \"AS\" Witten 1963","SM2: Schellhas,Kurt","SM2","Minigolfclub \"AS\" Witten 1963 e. V."]
[44026,44026,"Horst-Dieter","Schenk","1. MGC Köln 1961","SM2: Schenk,Horst-Dieter","SM2","1. Minigolf-Club Köln 1961 e. V."]
[66951,66951,"Richard","Schenkel","MSC Bensheim-Auerbach","SM2: Schenkel,Richard","SM2","Minigolf-Sport-Club Bensheim-Auerbach e. V."]
[38547,38547,"Peter","Scherber","MGC \"Stahlquelle\" Bad Bocklet","H: Scherber,Peter","H","Miniatur-Golf-Club \"Stahlquelle\", Bad Bocklet 1989 e. V."]
[67828,67828,"Ulrich","Scherberger","BGC Uerdingen","SM2: Scherberger,Ulrich","SM2","Bahnengolf-Club Uerdingen e. V."]
[36164,36164,"Markus","Scherkenbach","VfM Bottrop","SM1: Scherkenbach,Markus","SM1","Verein für Minigolf Bottrop e. V."]
[44856,44856,"Irving","Scheunemann","MC \"Möve\" Cuxhaven-Sahlenburg","SM1: Scheunemann,Irving","SM1","Miniaturgolf-Club \"Möve\" Cuxhaven-Sahlenburg e. V."]
[65902,65902,"Andrea","Schewcik","MC Ilvesheim","D: Schewcik,Andrea","D","Miniaturgolf-Club Ilvesheim e. V."]
[65901,65901,"Andreas","Schewcik","MC Ilvesheim","SM1: Schewcik,Andreas","SM1","Miniaturgolf-Club Ilvesheim e. V."]
[30366,30366,"Ralf","Schewerda","MGC Felderbachtal 1964","SM1: Schewerda,Ralf","SM1","Minigolf-Club-Felderbachtal 1964 e. V."]
[18086,18086,"Hans","Schewerda","BGSC Bochum 1978","SM2: Schewerda,Hans","SM2","Bahnengolf-Sportclub Bochum 1978 e. V."]
[18085,18085,"Helga","Schewerda","BGSC Bochum 1978","SW2: Schewerda,Helga","SW2","Bahnengolf-Sportclub Bochum 1978 e. V."]
[45472,45472,"Thomas","Schiebel","1. MGC Mainz","SM1: Schiebel,Thomas","SM1","Erster Mainzer Minigolf-Club e. V. 1964"]
[67747,67747,"Michael","Schiffer","BGC Oberhausen","SM2: Schiffer,Michael","SM2","Bahnengolf-Club Oberhausen e. V."]
[66772,66772,"Angela","Schikorra","BGV Backumer Tal Herten","D: Schikorra,Angela","D","BGV Backumer Tal Herten e. V."]
[67447,67447,"Kerstin","Schild","VfL Lohbrügge Abt. Bahnengolf","SW1: Schild,Kerstin","SW1","Verein für Leibesübungen Lohbrügge von 1892 e. V. Abteilung Bahnengolf"]
[41116,41116,"Alfred","Schiller","1. BGC Bad Füssing","SM1: Schiller,Alfred","SM1","1. Bahnengolfclub Bad Füssing e. V."]
[67835,67835,"Markus","Schillhabel","MSC Bad Godesberg","SM2: Schillhabel,Markus","SM2","Minigolf-Sport-Club Bad Godesberg e. V."]
[5665,5665,"Adolf","Schilling","1. MSC Wesel 6.6.1966","SM2: Schilling,Adolf","SM2","1. Minigolf-Sportclub Wesel 66 66 e. V. "]
[67041,67041,"Arno","Schimanski","MGC Rot-Weiß Wanne-Eickel","SM1: Schimanski,Arno","SM1","Minigolfclub Rot-Weiß Wanne-Eickel e. V."]
[46946,46946,"Stefan","Schimscha","1. FMGC Lichtenfels 1961","SM1: Schimscha,Stefan","SM1","1. Fränkischer Minigolfclub Lichtenfels 1961 e. V."]
[34905,34905,"Sebastian","Schindler","MGV Eibenstock","H: Schindler,Sebastian","H","Miniaturgolfverein Eibenstock 1997 e. V.\t"]
[29859,29859,"Ralf","Schindler","1. BGC Celle von 1964","SM1: Schindler,Ralf","SM1","1. Bahnen-Golf-Club Celle von 1964 e. V."]
[67481,67481,"Dominik","Schirmer","MGC Ingolstadt","H: Schirmer,Dominik","H"," Miniaturgolf-Club Ingolstadt e. V."]
[67683,67683,"Kevin","Schirmer","MGC Ingolstadt","H: Schirmer,Kevin","H"," Miniaturgolf-Club Ingolstadt e. V."]
[26183,26183,"Uwe","Schirrmacher","1. MSC Hamburg-Neu Wulmstorf","SM2: Schirrmacher,Uwe","SM2","1. Minigolf-Sport-Club Hamburg-Neu-Wulmstorf e. V."]
[36672,36672,"Thomas","Schlai","BGC Illertissen","H: Schlai,Thomas","H","Bahnengolfclub Illertissen e. V."]
[63701,63701,"Dominik","Schlauch","BGC Bad Berneck","H: Schlauch,Dominik","H","Bahnengolf-Club e. V. Bad Berneck"]
[26002,26002,"Peter","Schlauch","BGC Bad Berneck","SM2: Schlauch,Peter","SM2","Bahnengolf-Club e. V. Bad Berneck"]
[26005,26005,"Anna-Maria","Schlauch","BGC Bad Berneck","SW2: Schlauch,Anna-Maria","SW2","Bahnengolf-Club e. V. Bad Berneck"]
[66312,66312,"Jeanine","Schlaucher","MGC Murnau am Staffelsee","D: Schlaucher,Jeanine","D","Minigolfclub Murnau am Staffelsee e. V."]
[62840,62840,"Gerd","Schlaudecker","1. MGC Saar 68 St. Ingbert","SM2: Schlaudecker,Gerd","SM2","1. Minigolf-Club Saar 68 St. Ingbert e. V."]
[44479,44479,"Vera","Schlaudecker","1. KC Homburg-Saar 1967","SW2: Schlaudecker,Vera","SW2","1. Kleingolf Club Homburg-Saar 1967 e. V."]
[67822,67822,"Fabian","Schlauer","TSV Arendsee","H: Schlauer,Fabian","H","Turn- und Sportverein Arendsee e. V. Abteilung Minigolf"]
[38217,38217,"Melanie","Schleich","MSF Brilon","D: Schleich,Melanie","D","Minigolfsportfreunde Brilon e. V."]
[38649,38649,"Christina","Schleich","MSF Brilon","D: Schleich,Christina","D","Minigolfsportfreunde Brilon e. V."]
[38218,38218,"Peter","Schleich","MSF Brilon","SM2: Schleich,Peter","SM2","Minigolfsportfreunde Brilon e. V."]
[18146,18146,"Wolfgang","Schlenstedt","Minigolf Wölfe Rheinstetten 02","SM2: Schlenstedt,Wolfgang","SM2","Rad- und Kraftfahrervereins \"Solidarität\" Mörsch e. V. Abteilung Minigolf Wölfe Rheinstetten 02"]
[34033,34033,"Annette","Schlereth","MGC \"Stahlquelle\" Bad Bocklet","SW2: Schlereth,Annette","SW2","Miniatur-Golf-Club \"Stahlquelle\", Bad Bocklet 1989 e. V."]
[37858,37858,"Sebastian","Schleser","1. MGC München-Feldmoching","H: Schleser,Sebastian","H","1. Miniaturgolfclub München-Feldmoching e. V."]
[66966,66966,"Fabian","Schlesier","1. BGC Hannover","H: Schlesier,Fabian","H","1. Bahnen-Golf-Club Hannover e. V."]
[3738,3738,"Peter","Schlesinger","Bochumer Minigolf-Club 1960","SM2: Schlesinger,Peter","SM2","Bochumer Minigolf-Club 1960 e. V."]
[67212,67212,"Peter","Schlicksupp","MGC Bad Homburg vdH","SM2: Schlicksupp,Peter","SM2","Minigolf-Club Bad Homburg e. V."]
[29721,29721,"Rainer","Schlieker","MGC Murnau am Staffelsee","SM2: Schlieker,Rainer","SM2","Minigolfclub Murnau am Staffelsee e. V."]
[67722,67722,"Wolfmar ","Schlögl","MGC Ravensburg-Weingarten","SM2: Schlögl,Wolfmar ","SM2","MGC Ravensburg-Weingarten e. V."]
[21326,21326,"Hans-Günter","Schlösser","BGSV Kerpen","SM2: Schlösser,Hans-Günter","SM2","Bahnen-Golf-Sport-Vereinigung Kerpen e. V."]
[43245,43245,"Rainer","Schlottermüller","1. BGC Hannover","SM2: Schlottermüller,Rainer","SM2","1. Bahnen-Golf-Club Hannover e. V."]
[67177,67177,"Birgit","Schmäck","1. KGC Mönchengladbach","SW1: Schmäck,Birgit","SW1","1. Klein-Golf-Club Mönchengladbach e. V."]
[67178,67178,"Joachim","Schmäck","1. KGC Mönchengladbach","SM2: Schmäck,Joachim","SM2","1. Klein-Golf-Club Mönchengladbach e. V."]
[67060,67060,"Herbert","Schmalix","1. Münchener MGC","SM1: Schmalix,Herbert","SM1","1. Münchener Minigolf-Club 1962 e. V."]
[35113,35113,"Markus","Schmälzle","Miniaturgolf Sportclub Schriesheim","H: Schmälzle,Markus","H","Miniaturgolf Sportclub Schriesheim e. V."]
[{"$f":"VALUE(B2819)","v":66742},66742,"Kenny Marc","Schmeckenbecher","MC 62 Lüdenscheid",{"$f":"CONCATENATE(G2819,\": \",D2819,\",\",C2819)","v":"JM: Schmeckenbecher,Kenny Marc"},"JM","MC 62 Lüdenscheid e. V."]
[203,203,"Michael","Schmeling","Tempelhofer MV Berlin","SM1: Schmeling,Michael","SM1","Tempelhofer Miniaturgolf Verein von 1965 e. V."]
[25894,25894,"Roland","Schmid","MGF Hilzingen 80","SM1: Schmid,Roland","SM1","Minigolffreunde Hilzingen 80 e. V."]
[67080,67080,"Stephan","Schmid","OMGC Ingolstadt","SM1: Schmid,Stephan","SM1","Oberbayerische Minigolf-Club Ingolstadt e. V."]
[40400,40400,"Barbara","Schmid","TV Niederstetten 1862  Abt. Minigolf","SW2: Schmid,Barbara","SW2","Turnverein Niederstetten 1862 e. V. Abteilung Minigolf"]
[67081,67081,"Margit","Schmidbauer","OMGC Ingolstadt","SW1: Schmidbauer,Margit","SW1","Oberbayerische Minigolf-Club Ingolstadt e. V."]
[67082,67082,"Werner","Schmidbauer","OMGC Ingolstadt","SM2: Schmidbauer,Werner","SM2","Oberbayerische Minigolf-Club Ingolstadt e. V."]
[64760,64760,"Maximilian","Schmidhuber","1. BGC Landshut","H: Schmidhuber,Maximilian","H","1. Bahnengolf-Club Landshut e. V."]
[42558,42558,"Lothar","Schmidhuber","1. BGC Landshut","SM1: Schmidhuber,Lothar","SM1","1. Bahnengolf-Club Landshut e. V."]
[33346,33346,"Henry","Schmidt","1. FMGC Lichtenfels 1961","H: Schmidt,Henry","H","1. Fränkischer Minigolfclub Lichtenfels 1961 e. V."]
[66256,66256,"Maximilian","Schmidt","1. FMGC Lichtenfels 1961","H: Schmidt,Maximilian","H","1. Fränkischer Minigolfclub Lichtenfels 1961 e. V."]
[87514,87514,"Marco","Schmidt","MGC Bad Soden-Salmünster","H: Schmidt,Marco","H","Miniaturgolfclub Bad Soden-Salmünster e. V."]
[67624,67624,"Marco","Schmidt","SG Arheilgen Abt. Bahnengolf","H: Schmidt,Marco","H","Sportgemeinschaft Arheilgen 1876/1945 e. V. Abteilung Bahnengolf"]
[37848,37848,"Dustin","Schmidt","MGC Homburger Land","H: Schmidt,Dustin","H","MGC Homburger Land e. V."]
[37849,37849,"Marvin","Schmidt","MGC Homburger Land","H: Schmidt,Marvin","H","MGC Homburger Land e. V."]
[67669,67669,"Dennis","Schmidt","SGC \"Glocke\" Castrop","H: Schmidt,Dennis","H","Sterngolfclub Glocke Castrop e. V."]
[66761,66761,"Hanna","Schmidt","CGC Rauschenberg","JW: Schmidt,Hanna","JW","Cobigolf-Club Rauschenberg e. V."]
[67798,67798,"Max","Schmidt","MGC Rot-Weiß Wanne-Eickel","SCHM: Schmidt,Max","SCHM","Minigolfclub Rot-Weiß Wanne-Eickel e. V."]
[22105,22105,"Frank","Schmidt","MC Neuwied","SM1: Schmidt,Frank","SM1","Miniaturgolfclub Neuwied e. V."]
[40202,40202,"Helmut","Schmidt","MGC Freizeitzentrum Biebertal","SM1: Schmidt,Helmut","SM1","Miniatur-Golf-Club Freizeitzentrum Biebertal e. V."]
[51714,51714,"Christian","Schmidt","BGSC \"Gut Schlag\" Gladbeck","SM1: Schmidt,Christian","SM1","Bahnengolfsportclub \"Gut Schlag\" Gladbeck e. V."]
[67560,67560,"Thorsten","Schmidt","VfM Bottrop","SM1: Schmidt,Thorsten","SM1","Verein für Minigolf Bottrop e. V."]
[33928,33928,"Thorben","Schmidt","MGC Brunsbüttel","SM1: Schmidt,Thorben","SM1","Miniaturgolf-Club Brunsbüttel e. V."]
[45345,45345,"Barbara","Schmidt","1. FMGC Lichtenfels 1961","SW1: Schmidt,Barbara","SW1","1. Fränkischer Minigolfclub Lichtenfels 1961 e. V."]
[67275,67275,"Peter","Schmidt","BSG Pneumant Fürstenwalde, Abt. Minigolf","SM2: Schmidt,Peter","SM2","BSG Pneumant Fürstenwalde e. V. Abteilung Minigolf"]
[35706,35706,"Peter","Schmidt","Elbhavelland, Abt. Minigolfsport","SM2: Schmidt,Peter","SM2","Elbhavelland e. V. Abteilung Minigolfsport"]
[30657,30657,"Volker","Schmidt","1. FMGC Lichtenfels 1961","SM2: Schmidt,Volker","SM2","1. Fränkischer Minigolfclub Lichtenfels 1961 e. V."]
[67429,67429,"Klaus","Schmidt","MGC Bad Homburg vdH","SM2: Schmidt,Klaus","SM2","Minigolf-Club Bad Homburg e. V."]
[40892,40892,"Horst","Schmidt","1. BGC Hannover","SM2: Schmidt,Horst","SM2","1. Bahnen-Golf-Club Hannover e. V."]
[9197,9197,"Hans-Jürgen","Schmidt","MGC Homburger Land","SM2: Schmidt,Hans-Jürgen","SM2","MGC Homburger Land e. V."]
[26491,26491,"Olaf","Schmidt","MGC \"AS\" Witten 1963","SM2: Schmidt,Olaf","SM2","Minigolfclub \"AS\" Witten 1963 e. V."]
[19792,19792,"Dietmar","Schmidt","BIG ASPERG","SM2: Schmidt,Dietmar","SM2","Bahnengolf-Interessen-Gemeinschaft Asperg e. V. 1982"]
[67653,67653,"Annemarie","Schmidt","MGC Murnau am Staffelsee","SW2: Schmidt,Annemarie","SW2","Minigolfclub Murnau am Staffelsee e. V."]
[30937,30937,"Heike","Schmidt","BGC Bad Nenndorf","SW2: Schmidt,Heike","SW2","Bahnen-Golf-Club Bad Nenndorf e. V."]
[36324,36324,"Carmen","Schmidt","1. BGC Hannover","SW2: Schmidt,Carmen","SW2","1. Bahnen-Golf-Club Hannover e. V."]
[67258,67258,"Silvia","Schmidt","1. MGC Mannheim 1968","SW2: Schmidt,Silvia","SW2","1. Miniatur-Golf-Club Mannheim 1968 e. V."]
[31210,31210,"Ralf","Schmidt-Hess","MGF Waldshut 74","SM1: Schmidt-Hess,Ralf","SM1","Minigolffreunde Waldshut 1974 e. V."]
[36631,36631,"Sabine","Schmidt-Hess","1. CGC Blau-Gelb Grötzingen","SW1: Schmidt-Hess,Sabine","SW1","COBI-GOLF-CLUB Blau-Gelb Grötzingen 1968 e. V."]
[67623,67623,"Lisa","Schmidt-Pasewalk","SG Arheilgen Abt. Bahnengolf","D: Schmidt-Pasewalk,Lisa","D","Sportgemeinschaft Arheilgen 1876/1945 e. V. Abteilung Bahnengolf"]
[5056,5056,"Johannes","Schmiedbauer","1. BGC Bad Füssing","SM2: Schmiedbauer,Johannes","SM2","1. Bahnengolfclub Bad Füssing e. V."]
[67601,67601,"Manfred","Schmiedlin","MGF Waldshut 74","SM2: Schmiedlin,Manfred","SM2","Minigolffreunde Waldshut 1974 e. V."]
[36110,36110,"Michael","Schmitt","SG Arheilgen Abt. Bahnengolf","H: Schmitt,Michael","H","Sportgemeinschaft Arheilgen 1876/1945 e. V. Abteilung Bahnengolf"]
[67789,67789,"Stefanie","Schmitt","BGSV Aßlar 1987","D: Schmitt,Stefanie","D","Bahnengolf-Sportverein Aßlar 1987 e. V."]
[33891,33891,"Uwe","Schmitt","Miniaturgolf Sportclub Schriesheim","SM1: Schmitt,Uwe","SM1","Miniaturgolf Sportclub Schriesheim e. V."]
[44955,44955,"Jürgen","Schmitt","MGC \"AS\" Witten 1963","SM1: Schmitt,Jürgen","SM1","Minigolfclub \"AS\" Witten 1963 e. V."]
[46967,46967,"Regina","Schmitt","SC Olympia Dortmund","SW1: Schmitt,Regina","SW1","Sport-Club Olympia Dortmund e. V. "]
[60743,60743,"Ursula","Schmitt","SG Arheilgen Abt. Bahnengolf","SW2: Schmitt,Ursula","SW2","Sportgemeinschaft Arheilgen 1876/1945 e. V. Abteilung Bahnengolf"]
[36041,36041,"Joachim","Schmittdiel","1. MGC Kassel 1964","SM1: Schmittdiel,Joachim","SM1","1. Mini-Golfsport-Club Kassel-Vellmar 1964 e. V."]
[9449,9449,"Peter","Schmitutz","MGC Millennium Viernheim","SM2: Schmitutz,Peter","SM2","MGC Millennium Viernheim e. V."]
[67001,67001,"Dominik","Schmitz","Kölner Miniatur Golf Club","H: Schmitz,Dominik","H","Kölner Miniatur Golf Club e. V."]
[38245,38245,"Sibylle","Schmitz","BGC Dormagen","SW1: Schmitz,Sibylle","SW1","Bahnengolf-Club Dormagen e. V."]
[67680,67680,"Inge","Schmitz","MGC Rot-Weiß Wanne-Eickel","SW2: Schmitz,Inge","SW2","Minigolfclub Rot-Weiß Wanne-Eickel e. V."]
[35141,35141,"Tobias","Schmolke","MSC Bensheim-Auerbach","H: Schmolke,Tobias","H","Minigolf-Sport-Club Bensheim-Auerbach e. V."]
[756,756,"Axel Rolf","Schmurdy","1. MGC Kassel 1964","SM2: Schmurdy,Axel Rolf","SM2","1. Mini-Golfsport-Club Kassel-Vellmar 1964 e. V."]
[24639,24639,"Nico","Schnauer","MGC Bad Oldesloe","H: Schnauer,Nico","H","Miniaturgolfclub Bad Oldesloe von 1964 e. V."]
[64054,64054,"Reinhold","Schneid","MGV Ansbach","SM1: Schneid,Reinhold","SM1","MGV Ansbach e. V."]
[34319,34319,"Alexander","Schneider","SG Arheilgen Abt. Bahnengolf","H: Schneider,Alexander","H","Sportgemeinschaft Arheilgen 1876/1945 e. V. Abteilung Bahnengolf"]
[36247,36247,"Andreas","Schneider","SG Arheilgen Abt. Bahnengolf","H: Schneider,Andreas","H","Sportgemeinschaft Arheilgen 1876/1945 e. V. Abteilung Bahnengolf"]
[67804,67804,"Kristin","Schneider","BGSC \"Gut Schlag\" Gladbeck","D: Schneider,Kristin","D","Bahnengolfsportclub \"Gut Schlag\" Gladbeck e. V."]
[66666,66666,"Timm","Schneider","SG Arheilgen Abt. Bahnengolf","SM1: Schneider,Timm","SM1","Sportgemeinschaft Arheilgen 1876/1945 e. V. Abteilung Bahnengolf"]
[43681,43681,"Christian","Schneider","1. MGC 1970 Göttingen","SM1: Schneider,Christian","SM1","1. Miniatur-Golfsport-Club 1970 Göttingen e. V."]
[43733,43733,"Simon","Schneider","BGV Bergisch Land 1962 / 63","SM1: Schneider,Simon","SM1","Bahnengolf-Verein Bergisch Land 1962/63 e. V."]
[66941,66941,"Dirk","Schneider","1. BGC Paderborn","SM1: Schneider,Dirk","SM1","1. Bahnengolfclub Paderborn e. V."]
[40365,40365,"Renate","Schneider","OMGC Ingolstadt","SW1: Schneider,Renate","SW1","Oberbayerische Minigolf-Club Ingolstadt e. V."]
[{"$f":"VALUE(B2883)","v":66818},66818,"Franz","Schneider","BSV 82 Ohlsbach",{"$f":"CONCATENATE(G2883,\": \",D2883,\",\",C2883)","v":"SM2: Schneider,Franz"},"SM2","Bahnengolfsportverein 82 Ohlsbach e. V."]
[61696,61696,"Paul","Schneider","1. MGC Ludwigshafen","SM2: Schneider,Paul","SM2","1. Miniatur-Golf-Club Ludwigshafen 1964 e. V."]
[67717,67717,"Wolfgang","Schneider","BV Sennestadt","SM2: Schneider,Wolfgang","SM2","BV Sennestadt e. V."]
[28127,28127,"Wolfgang","Schneiderbanger","1. MGC Bamberg","SM2: Schneiderbanger,Wolfgang","SM2","1. Minigolfclub Bamberg e. V."]
[67115,67115,"Michael","Schnell","BSV 82 Ohlsbach","SM1: Schnell,Michael","SM1","Bahnengolfsportverein 82 Ohlsbach e. V."]
[47187,47187,"Oliver","Schnickmann","Cobigolf-Verein Hamm 2019","SM1: Schnickmann,Oliver","SM1","Cobigolf-Verein Hamm 2019 e. V."]
[47186,47186,"Stefanie","Schnickmann","Cobigolf-Verein Hamm 2019","SW1: Schnickmann,Stefanie","SW1","Cobigolf-Verein Hamm 2019 e. V."]
[43936,43936,"Martin","Schnittker","Bochumer Minigolf-Club 1960","SM1: Schnittker,Martin","SM1","Bochumer Minigolf-Club 1960 e. V."]
[66214,66214,"Jörg","Schnoor","MGC Bad Oldesloe","SM2: Schnoor,Jörg","SM2","Miniaturgolfclub Bad Oldesloe von 1964 e. V."]
[67367,67367,"Norbert","Schnura","Tempelhofer MV Berlin","SM2: Schnura,Norbert","SM2","Tempelhofer Miniaturgolf Verein von 1965 e. V."]
[67368,67368,"Regina","Schnura","Tempelhofer MV Berlin","SW2: Schnura,Regina","SW2","Tempelhofer Miniaturgolf Verein von 1965 e. V."]
[37048,37048,"Manfred","Schöbel","HMC Büttgen","SM2: Schöbel,Manfred","SM2","Hobbysport Miniaturgolfclub Büttgen e. V."]
[67182,67182,"Rudolf","Schocher","Minigolf-Club Diessen","SM2: Schocher,Rudolf","SM2","Minigolf-Club Diessen e. V."]
[40386,40386,"Thomas","Schöchlin","MSV Würzburg-Löwenbrücke","SM1: Schöchlin,Thomas","SM1","Miniaturgolfsportverein Würzburg - Löwenbrücke e. V."]
[67539,67539,"Toni","Schöll","BGC Illertissen","SM2: Schöll,Toni","SM2","Bahnengolfclub Illertissen e. V."]
[67540,67540,"Gitti","Schöll","BGC Illertissen","SW2: Schöll,Gitti","SW2","Bahnengolfclub Illertissen e. V."]
[67359,67359,"Kurt","Schöllnast","BSV 86 München","SM1: Schöllnast,Kurt","SM1","Bahnengolfsportverein 86 München e. V."]
[66299,66299,"Bastian","Scholz","TG Höchberg von 1862 Bahnengolf","H: Scholz,Bastian","H","Turngemeinde Höchberg von 1862 Bahnengolf e. V."]
[31280,31280,"Lucas","Scholz","1. MGC Mainz","H: Scholz,Lucas","H","Erster Mainzer Minigolf-Club e. V. 1964"]
[12780,12780,"Rüdiger","Scholz","MSK Neheim-Hüsten","SM2: Scholz,Rüdiger","SM2","MINIGOLF-SPORT-KLUB Neheim-Hüsten e. V."]
[67261,67261,"Rainer","Schölzke","MGC \"Stahlquelle\" Bad Bocklet","SM1: Schölzke,Rainer","SM1","Miniatur-Golf-Club \"Stahlquelle\", Bad Bocklet 1989 e. V."]
[35267,35267,"Helmut","Schön","MC Ilvesheim","SM2: Schön,Helmut","SM2","Miniaturgolf-Club Ilvesheim e. V."]
[35230,35230,"Wolfgang","Schön","SC Gut Heil Neumünster","SM2: Schön,Wolfgang","SM2","Sportclub Gut Heil Neumünster von 1881 e. V. Abteilung Miniaturgolf"]
[3389,3389,"Horst","Schönfeld","BGC Northeim","SM2: Schönfeld,Horst","SM2","Bahnen-Golf-Club Northeim e. V."]
[34084,34084,"Karl-Heinz","Schönfeld","1. BGC Celle von 1964","SM2: Schönfeld,Karl-Heinz","SM2","1. Bahnen-Golf-Club Celle von 1964 e. V."]
[50889,50889,"Ute","Schönherr","1. MGC Köln 1961","SW1: Schönherr,Ute","SW1","1. Minigolf-Club Köln 1961 e. V."]
[66449,66449,"Lukas","Schrader","MGC Olympia Kiel","H: Schrader,Lukas","H","Miniaturgolfclub Olympia Kiel e. V."]
[67529,67529,"Julia","Schramm","MGC Bad Bodendorf","JW: Schramm,Julia","JW","Miniaturgolfclub Bad Bodendorf e. V."]
[67530,67530,"Oliver","Schramm","MGC Bad Bodendorf","SM1: Schramm,Oliver","SM1","Miniaturgolfclub Bad Bodendorf e. V."]
[44645,44645,"Reiner","Schramm","BGSV Bad Homburg","SM2: Schramm,Reiner","SM2","Bahnengolf-Sportverein Bad Homburg v.d.H. e. V."]
[67440,67440,"Anja","Schray","1. MGC Mainz","SW1: Schray,Anja","SW1","Erster Mainzer Minigolf-Club e. V. 1964"]
[41008,41008,"Andreas","Schreck","VfM Berlin","H: Schreck,Andreas","H","Verein für Minigolf e. V. Berlin"]
[66804,66804,"Clemens","Schreiber","1. BGC Leipzig","H: Schreiber,Clemens","H","1. Bahnen Golf Club Leipzig e. V."]
[67296,67296,"Martina","Schreiber","MGC Bad Soden-Salmünster","SW1: Schreiber,Martina","SW1","Miniaturgolfclub Bad Soden-Salmünster e. V."]
[67295,67295,"Manfred","Schreiber","MGC Bad Soden-Salmünster","SM2: Schreiber,Manfred","SM2","Miniaturgolfclub Bad Soden-Salmünster e. V."]
[66205,66205,"Udo","Schreiber","1. MGC Epe 1978","SM2: Schreiber,Udo","SM2","1. Minigolfclub Epe 1978 e. V."]
[38343,38343,"Christopher","Schrettl","MSG Kempten","H: Schrettl,Christopher","H","Minigolf-Sport-Gemeinschaft Kempten e. V."]
[49424,49424,"Thomas","Schrettl","BGC Neutraubling","SM1: Schrettl,Thomas","SM1","Bahnengolf-Club Neutraubling e. V."]
[67105,67105,"Harald","Schreyl","MGC Wolnzach","SM1: Schreyl,Harald","SM1","Miniaturgolf-Club Wolnzach e. V."]
[38657,38657,"Gerhard","Schröck","BGC Schweinfurt","SM2: Schröck,Gerhard","SM2","Bahnengolfclub Schweinfurt e. V."]
[34660,34660,"Jan-Georg","Schröder","MC Flora Elmshorn","H: Schröder,Jan-Georg","H","Minigolf-Club Flora Elmshorn e. V."]
[66833,66833,"Mario","Schröder","1. Berliner Miniaturgolf-Sportclub 1960","SM1: Schröder,Mario","SM1","1. Berliner Miniaturgolf-Sportclub e. V. 1960"]
[40350,40350,"Matthias","Schröder","MGC Dormagen-Brechten","SM1: Schröder,Matthias","SM1","Minigolfclub Dormagen - Brechten e. V."]
[66839,66839,"Michaela","Schröder","MGC Bad Salzuflen","SW1: Schröder,Michaela","SW1","Minigolf-Club Bad Salzuflen e. V."]
[36274,36274,"Jürgen","Schröder","MC 62 Lüdenscheid","SM2: Schröder,Jürgen","SM2","MC 62 Lüdenscheid e. V."]
[4054,4054,"Gabriele","Schröder","1. Berliner Miniaturgolf-Sportclub 1960","SW2: Schröder,Gabriele","SW2","1. Berliner Miniaturgolf-Sportclub e. V. 1960"]
[66827,66827,"Jarno","Schrüfer","TSV Pfungstadt Abt. Bahnengolf","JM: Schrüfer,Jarno","JM","TSV Pfungstadt e. V. Abteilung Bahnengolf"]
[65979,65979,"Niklas","Schubert","MGC Bad Salzuflen","H: Schubert,Niklas","H","Minigolf-Club Bad Salzuflen e. V."]
[65980,65980,"Finn","Schubert","MGC Bad Salzuflen","H: Schubert,Finn","H","Minigolf-Club Bad Salzuflen e. V."]
[31091,31091,"Christian","Schubert","1. NMC Kelheim","SM1: Schubert,Christian","SM1","1. Niederbayerischer Minigolf-Club Kelheim e. V."]
[66632,66632,"Christiane","Schubert","MGC Bergisch Gladbach Gierath","SW1: Schubert,Christiane","SW1","Minigolf-Club Bergisch Gladbach Gierath e. V."]
[6795,6795,"Horst","Schuchardt","BGC Bremen","SM2: Schuchardt,Horst","SM2","Bahnen-Golf-Club Bremen e. V."]
[31757,31757,"Torsten","Schück","1. MGC Mainz","SM1: Schück,Torsten","SM1","Erster Mainzer Minigolf-Club e. V. 1964"]
[29088,29088,"Bernd","Schué","BGC Goslar","SM1: Schué,Bernd","SM1","Bahnen-Golf-Club Goslar e. V."]
[67850,67850,"Lars","Schugart","MGC Bad Homburg vdH","JM: Schugart,Lars","JM","Minigolf-Club Bad Homburg e. V."]
[26338,26338,"Sabine-Simone","Schüler","1. MGC Bamberg","SW2: Schüler,Sabine-Simone","SW2","1. Minigolfclub Bamberg e. V."]
[66081,66081,"Christoph","Schuller","MSK Olching","H: Schuller,Christoph","H","Olchinger Minigolf Sport Klub e. V."]
[66082,66082,"Fabian","Schuller","MSK Olching","H: Schuller,Fabian","H","Olchinger Minigolf Sport Klub e. V."]
[67125,67125,"Dana","Schüller","BGSV Kerpen","D: Schüller,Dana","D","Bahnen-Golf-Sport-Vereinigung Kerpen e. V."]
[46043,46043,"Jens","Schüller","MGC Bergisch Gladbach Gierath","SM1: Schüller,Jens","SM1","Minigolf-Club Bergisch Gladbach Gierath e. V."]
[40246,40246,"Jan","Schulte","SSC Attendorn","H: Schulte,Jan","H","Sterngolf-Sport-Club Attendorn e. V."]
[37834,37834,"Udo","Schulte","VfB Osnabrück","SM2: Schulte,Udo","SM2","Verein für Bahnengolf Osnabrück von 1984 e. V."]
[66898,66898,"Michael","Schulte","1. MGC Paderborn","SM2: Schulte,Michael","SM2","1. Minigolf-Club Paderborn 1980 e. V."]
[67286,67286,"Christian","Schultes","MSK Olching","SM2: Schultes,Christian","SM2","Olchinger Minigolf Sport Klub e. V."]
[{"$f":"VALUE(B2947)","v":67701},67701,"Alexander","Schulz","BGSC Bochum 1978",{"$f":"CONCATENATE(G2947,\": \",D2947,\",\",C2947)","v":"H: Schulz,Alexander"},"H","Bahnengolf-Sportclub Bochum 1978 e. V."]
[31848,31848,"Ralf","Schulz","MC \"Möve\" Cuxhaven-Sahlenburg","SM1: Schulz,Ralf","SM1","Miniaturgolf-Club \"Möve\" Cuxhaven-Sahlenburg e. V."]
[43682,43682,"Matthias","Schulz","1. MGC 1970 Göttingen","SM1: Schulz,Matthias","SM1","1. Miniatur-Golfsport-Club 1970 Göttingen e. V."]
[45666,45666,"Hans-Jürgen","Schulz","MC \"Möve\" Cuxhaven-Sahlenburg","SM1: Schulz,Hans-Jürgen","SM1","Miniaturgolf-Club \"Möve\" Cuxhaven-Sahlenburg e. V."]
[38181,38181,"Peter","Schulz","SV Lurup Abt. Bahnengolf","SM2: Schulz,Peter","SM2","Sportverein Lurup-Hamburg von 1923 e. V. Abteilung Bahnengolf"]
[66936,66936,"Jonas","Schulze","1. MSC Hamburg-Neu Wulmstorf","H: Schulze,Jonas","H","1. Minigolf-Sport-Club Hamburg-Neu-Wulmstorf e. V."]
[48074,48074,"Klaus","Schulze","MGC Dortmund Syburg","SM2: Schulze,Klaus","SM2","MGC Do-Syburg e.V."]
[66673,66673,"Stefan","Schumacher","1. MGC Tuttlingen","H: Schumacher,Stefan","H","Erster Minigolf - Club Tuttlingen e. V."]
[67112,67112,"Danny","Schumacher","1. MGC Gelsenkirchen","H: Schumacher,Danny","H","1. Minigolf Club Gelsenkirchen e. V."]
[67114,67114,"David","Schumacher","1. MGC Gelsenkirchen","H: Schumacher,David","H","1. Minigolf Club Gelsenkirchen e. V."]
[37475,37475,"Sarah","Schumacher","MGC Dormagen-Brechten","D: Schumacher,Sarah","D","Minigolfclub Dormagen - Brechten e. V."]
[66672,66672,"Silvia","Schumacher","BSV Inzlingen 1979","JW: Schumacher,Silvia","JW","Bahnengolf-Sportverein Inzlingen 1979 e. V."]
[31332,31332,"Wolfgang","Schumacher","BSV Inzlingen 1979","SM1: Schumacher,Wolfgang","SM1","Bahnengolf-Sportverein Inzlingen 1979 e. V."]
[3386,3386,"Klaus","Schumacher","Kölner Miniatur Golf Club","SM2: Schumacher,Klaus","SM2","Kölner Miniatur Golf Club e. V."]
[67600,67600,"Doreen","Schumann","HMC Büttgen","D: Schumann,Doreen","D","Hobbysport Miniaturgolfclub Büttgen e. V."]
[49856,49856,"Herbert","Schüngel","BGC Assindia Essen","SM2: Schüngel,Herbert","SM2","Bahnengolf - Club Assindia Essen e. V."]
[49580,49580,"Petra","Schüngel","BGC Assindia Essen","SW2: Schüngel,Petra","SW2","Bahnengolf - Club Assindia Essen e. V."]
[67826,67826,"Rainer","Schuppenhauer","Hamburger MC von 1965","SM2: Schuppenhauer,Rainer","SM2","Hamburger Minigolf Club von 1965 e. V."]
[30255,30255,"Herbert","Schurig","VfL Lohbrügge Abt. Bahnengolf","SM2: Schurig,Herbert","SM2","Verein für Leibesübungen Lohbrügge von 1892 e. V. Abteilung Bahnengolf"]
[33960,33960,"Susanne","Schürmann","1. BGC Wesseling 1975","SW2: Schürmann,Susanne","SW2","1. Bahnen-Golf-Club Wesseling 1975 e. V. "]
[47009,47009,"Wolfgang","Schury","MSV Würzburg-Löwenbrücke","SM1: Schury,Wolfgang","SM1","Miniaturgolfsportverein Würzburg - Löwenbrücke e. V."]
[67347,67347,"Jana","Schüßler","MSC Bensheim-Auerbach","JW: Schüßler,Jana","JW","Minigolf-Sport-Club Bensheim-Auerbach e. V."]
[67538,67538,"Sophie","Schüßler","MSC Bensheim-Auerbach","SCHW: Schüßler,Sophie","SCHW","Minigolf-Sport-Club Bensheim-Auerbach e. V."]
[23509,23509,"David","Schuster","1. MGC Ludwigshafen","H: Schuster,David","H","1. Miniatur-Golf-Club Ludwigshafen 1964 e. V."]
[38046,38046,"Oliver","Schuster","BGC Oberhausen","SM1: Schuster,Oliver","SM1","Bahnengolf-Club Oberhausen e. V."]
[38154,38154,"Alexandra","Schuster","BGC Oberhausen","SW1: Schuster,Alexandra","SW1","Bahnengolf-Club Oberhausen e. V."]
[4645,4645,"Bernhard","Schütterle","BGC Rheinau-Freistett","SM2: Schütterle,Bernhard","SM2","BGC Rheinau-Freistett e. V."]
[37112,37112,"Ronny","Schüttler","SG  Weiterstadt 1886","H: Schüttler,Ronny","H","Sportgemeinde 1886 e. V. Weiterstadt Abteilung Bahnengolf"]
[41299,41299,"Rainer","Schütz","BGC Heilbronn","SM1: Schütz,Rainer","SM1","Bahnengolf Club Heilbronn e. V."]
[32907,32907,"Bernd","Schwab","SC Bad Münder Abt. Bahnengolf","SM2: Schwab,Bernd","SM2","Sportclub Bad Münder e. V. Abteilung Bahnengolf"]
[32908,32908,"Marianne","Schwab","SC Bad Münder Abt. Bahnengolf","SW2: Schwab,Marianne","SW2","Sportclub Bad Münder e. V. Abteilung Bahnengolf"]
[67499,67499,"Raimund","Schwägerl","MGC Murnau am Staffelsee","SM1: Schwägerl,Raimund","SM1","Minigolfclub Murnau am Staffelsee e. V."]
[66857,66857,"Luca","Schwarz","Minigolfclub Karlshagen","JM: Schwarz,Luca","JM","Minigolfclub Karlshagen e. V."]
[66470,66470,"Tobias","Schwarz","MSK Olching","JM: Schwarz,Tobias","JM","Olchinger Minigolf Sport Klub e. V."]
[67094,67094,"Dominik","Schwarz","MSK Olching","SCHM: Schwarz,Dominik","SCHM","Olchinger Minigolf Sport Klub e. V."]
[35523,35523,"Rosemarie","Schwarz","MSC Bensheim-Auerbach","SW1: Schwarz,Rosemarie","SW1","Minigolf-Sport-Club Bensheim-Auerbach e. V."]
[2284,2284,"Egon","Schwarz","Minigolfclub Karlshagen","SM2: Schwarz,Egon","SM2","Minigolfclub Karlshagen e. V."]
[49255,49255,"Detlef","Schwarz","MC \"Möve\" Cuxhaven-Sahlenburg","SM2: Schwarz,Detlef","SM2","Miniaturgolf-Club \"Möve\" Cuxhaven-Sahlenburg e. V."]
[2283,2283,"Anita","Schwarz","Minigolfclub Karlshagen","SW2: Schwarz,Anita","SW2","Minigolfclub Karlshagen e. V."]
[23183,23183,"Karl-Albert","Schweizer","1. MGC Ludwigshafen","SM2: Schweizer,Karl-Albert","SM2","1. Miniatur-Golf-Club Ludwigshafen 1964 e. V."]
[45141,45141,"Uwe","Schwer","MC Ilvesheim","SM1: Schwer,Uwe","SM1","Miniaturgolf-Club Ilvesheim e. V."]
[22937,22937,"Bernd","Schwer","MC Ilvesheim","SM2: Schwer,Bernd","SM2","Miniaturgolf-Club Ilvesheim e. V."]
[67536,67536,"Petra","Schwicker","BSV 86 München","SW1: Schwicker,Petra","SW1","Bahnengolfsportverein 86 München e. V."]
[35763,35763,"Sebastian","Schwind","1. MGC Ludwigshafen","H: Schwind,Sebastian","H","1. Miniatur-Golf-Club Ludwigshafen 1964 e. V."]
[33361,33361,"Sebastian","Schwind","BGC Dormagen","H: Schwind,Sebastian","H","Bahnengolf-Club Dormagen e. V."]
[36108,36108,"Karl-Willi","Schwind","BGC Dormagen","SM2: Schwind,Karl-Willi","SM2","Bahnengolf-Club Dormagen e. V."]
[36107,36107,"Regina","Schwind","BGC Dormagen","SW2: Schwind,Regina","SW2","Bahnengolf-Club Dormagen e. V."]
[40968,40968,"Markus","Schwinger","BGSC \"Gut Schlag\" Gladbeck","SM1: Schwinger,Markus","SM1","Bahnengolfsportclub \"Gut Schlag\" Gladbeck e. V."]
[31144,31144,"Uwe","Seeland","BSC Ennepetal","SM2: Seeland,Uwe","SM2","Bahngolf-Sport-Club Ennepetal e. V."]
[49464,49464,"Norbert","Seelig","BGSC Bochum 1978","SM2: Seelig,Norbert","SM2","Bahnengolf-Sportclub Bochum 1978 e. V."]
[35801,35801,"Gerald","Seher","TSV Salzgitter Abt. Bahnengolf","SM2: Seher,Gerald","SM2","Turn- und Sportverein Salzgitter e. V. Abteilung Bahnengolf"]
[66056,66056,"Alexander","Sehm","MSG Kempten","H: Sehm,Alexander","H","Minigolf-Sport-Gemeinschaft Kempten e. V."]
[67716,67716,"Dieter","Seibert","SV 1890 Dreieichenhain, Abt. Bahnengolf","SM2: Seibert,Dieter","SM2","Sportverein 1890 e. V. Dreieichenhain Abteilung Bahnengolf"]
[67841,67841,"Alexander","Seidel","Bochumer Minigolf-Club 1960","H: Seidel,Alexander","H","Bochumer Minigolf-Club 1960 e. V."]
[67273,67273,"Dirk","Seidel","VfM Berlin","SM1: Seidel,Dirk","SM1","Verein für Minigolf e. V. Berlin"]
[50389,50389,"Martin","Seidel","MGC putter Künzell 1970","SM1: Seidel,Martin","SM1","Minigolfclub putter Künzell 1970 e. V."]
[37395,37395,"Andreas","Seidel","MV Lankwitzer Dragons","SM2: Seidel,Andreas","SM2","MV Lankwitzer Dragons e. V."]
[66621,66621,"Heribert","Seidl","BGC Neutraubling","SM2: Seidl,Heribert","SM2","Bahnengolf-Club Neutraubling e. V."]
[50138,50138,"Frank","Seidler","BGSV Kerpen","H: Seidler,Frank","H","Bahnen-Golf-Sport-Vereinigung Kerpen e. V."]
[66364,66364,"Noah","Seifert","BGV Backumer Tal Herten","H: Seifert,Noah","H","BGV Backumer Tal Herten e. V."]
[66819,66819,"Colin","Seifert","MGC Dormagen-Brechten","JM: Seifert,Colin","JM","Minigolfclub Dormagen - Brechten e. V."]
[66472,66472,"Stefan","Seifert","BGV Backumer Tal Herten","SM1: Seifert,Stefan","SM1","BGV Backumer Tal Herten e. V."]
[67133,67133,"Uwe","Seifert","MSK Olching","SM2: Seifert,Uwe","SM2","Olchinger Minigolf Sport Klub e. V."]
[67438,67438,"Sabine","Seiferth","PTSV Hof, Abt. Minigolf","SW1: Seiferth,Sabine","SW1","Post- und Telekom-Sportverein Hof e. V. Abteilung Minigolf "]
[{"$f":"VALUE(B3011)","v":41018},41018,"Oliver","Seilz","Reinickendorfer MGC",{"$f":"CONCATENATE(G3011,\": \",D3011,\",\",C3011)","v":"SM1: Seilz,Oliver"},"SM1","Reinickendorfer Miniatur - Golfsport - Club e. V."]
[45788,45788,"Heiko","Selka","MSK Neheim-Hüsten","SM1: Selka,Heiko","SM1","MINIGOLF-SPORT-KLUB Neheim-Hüsten e. V."]
[45198,45198,"Thorsten","Semrau","SGC \"Glocke\" Castrop","SM1: Semrau,Thorsten","SM1","Sterngolfclub Glocke Castrop e. V."]
[67616,67616,"Finlay","Sender","SV Glückauf 1901 Gebhardshagen","SCHM: Sender,Finlay","SCHM","SV Glück Auf 1901 Gebhardshagen e. V. Abteilung Minigolf"]
[66859,66859,"Jessica","Senke","MGC Rot-Weiß Wanne-Eickel","D: Senke,Jessica","D","Minigolfclub Rot-Weiß Wanne-Eickel e. V."]
[66858,66858,"Andreas","Senke","MGC Rot-Weiß Wanne-Eickel","SM1: Senke,Andreas","SM1","Minigolfclub Rot-Weiß Wanne-Eickel e. V."]
[6721,6721,"Bärbel","Senke","MGC Rot-Weiß Wanne-Eickel","SW2: Senke,Bärbel","SW2","Minigolfclub Rot-Weiß Wanne-Eickel e. V."]
[66781,66781,"Corinna","Serfling","MSG Kempten","D: Serfling,Corinna","D","Minigolf-Sport-Gemeinschaft Kempten e. V."]
[66873,66873,"Moritz","Sesselmann","1. FMGC Lichtenfels 1961","H: Sesselmann,Moritz","H","1. Fränkischer Minigolfclub Lichtenfels 1961 e. V."]
[67237,67237,"Christoph","Sesselmann","1. FMGC Lichtenfels 1961","H: Sesselmann,Christoph","H","1. Fränkischer Minigolfclub Lichtenfels 1961 e. V."]
[34720,34720,"Wolfgang","Sessler","1. BGC Landshut","SM2: Sessler,Wolfgang","SM2","1. Bahnengolf-Club Landshut e. V."]
[34717,34717,"Susanne","Sessler","1. BGC Landshut","SW2: Sessler,Susanne","SW2","1. Bahnengolf-Club Landshut e. V."]
[40401,40401,"Jürgen","Seubert","TV Niederstetten 1862  Abt. Minigolf","SM2: Seubert,Jürgen","SM2","Turnverein Niederstetten 1862 e. V. Abteilung Minigolf"]
[31289,31289,"Andreas","Seumenicht","TSV Kücknitz Abt. Bahnengolf","H: Seumenicht,Andreas","H","Turn - und Sportverein Kücknitz von 1911 e. V. Abteilung Bahnengolf"]
[48952,48952,"Norbert","Seus","MGC Wertheim 91","SM1: Seus,Norbert","SM1","Minigolfdub Wertheim ´91 e. V."]
[30411,30411,"Andreas","Seyen","MC \"Möve\" Cuxhaven-Sahlenburg","H: Seyen,Andreas","H","Miniaturgolf-Club \"Möve\" Cuxhaven-Sahlenburg e. V."]
[67695,67695,"Ban","Shen","1. Münchener MGC","SCHM: Shen,Ban","SCHM","1. Münchener Minigolf-Club 1962 e. V."]
[67694,67694,"Yue","Shen","1. Münchener MGC","SCHW: Shen,Yue","SCHW","1. Münchener Minigolf-Club 1962 e. V."]
[22127,22127,"Zoltan","Sic","MGC Bad Homburg vdH","SM2: Sic,Zoltan","SM2","Minigolf-Club Bad Homburg e. V."]
[6728,6728,"Terezia","Sic","MGC Bad Homburg vdH","SW2: Sic,Terezia","SW2","Minigolf-Club Bad Homburg e. V."]
[66620,66620,"Markus","Sieber","ASV Pegnitz, Abt. Minigolf","SM1: Sieber,Markus","SM1","Allgemeiner Sportverein Pegnitz e. V. Abteilung Minigolf"]
[34384,34384,"Erich","Siebert","MGC Wetzlar","SM2: Siebert,Erich","SM2","Miniatur-Golf-Club Wetzlar e. V."]
[29580,29580,"Stefan","Siebold","MGC Bad Oldesloe","H: Siebold,Stefan","H","Miniaturgolfclub Bad Oldesloe von 1964 e. V."]
[41009,41009,"Thorben","Sielaff","Tempelhofer MV Berlin","H: Sielaff,Thorben","H","Tempelhofer Miniaturgolf Verein von 1965 e. V."]
[67388,67388,"Jörg","Sienknecht","BGC Schweinfurt","H: Sienknecht,Jörg","H","Bahnengolfclub Schweinfurt e. V."]
[41468,41468,"Bernd","Sierakowski","1. MGC Kassel 1964","SM1: Sierakowski,Bernd","SM1","1. Mini-Golfsport-Club Kassel-Vellmar 1964 e. V."]
[66076,66076,"Andrea","Silex","VFB 21 Neugattersleben","SW1: Silex,Andrea","SW1","VfB 21 Neugattersleben e. V."]
[65957,65957,"Gerald","Silex","VFB 21 Neugattersleben","SM2: Silex,Gerald","SM2","VfB 21 Neugattersleben e. V."]
[66140,66140,"Jasmine","Simmerock","MGC Bad Soden-Salmünster","D: Simmerock,Jasmine","D","Miniaturgolfclub Bad Soden-Salmünster e. V."]
[26101,26101,"Frank","Simons","Kölner Miniatur Golf Club","SM2: Simons,Frank","SM2","Kölner Miniatur Golf Club e. V."]
[48352,48352,"Dirk","Sindorf","1. Minigolf-Club Rheinhausen","SM2: Sindorf,Dirk","SM2","1. Minigolf-Club Rheinhausen e. V."]
[43922,43922,"Michael","Sinzenich","BGSV Kerpen","SM2: Sinzenich,Michael","SM2","Bahnen-Golf-Sport-Vereinigung Kerpen e. V."]
[29482,29482,"Renate","Sinzenich","BGSV Kerpen","SW2: Sinzenich,Renate","SW2","Bahnen-Golf-Sport-Vereinigung Kerpen e. V."]
[34564,34564,"Gerald","Siol","SC Bad Münder Abt. Bahnengolf","SM2: Siol,Gerald","SM2","Sportclub Bad Münder e. V. Abteilung Bahnengolf"]
[67721,67721,"Christelle","Sippel","BGC Neutraubling","SW2: Sippel,Christelle","SW2","Bahnengolf-Club Neutraubling e. V."]
[31559,31559,"Norbert","Skowronsky","MGC Bad Salzuflen","SM1: Skowronsky,Norbert","SM1","Minigolf-Club Bad Salzuflen e. V."]
[34954,34954,"Andreas","Slowig","BGC Kiel West","SM1: Slowig,Andreas","SM1","Bahnen-Golf-Club Kiel-West e. V."]
[67166,67166,"Marek","Smejkal","BGS Hardenberg-Pötter","H: Smejkal,Marek","H","BGS Hardenberg-Pötter e. V."]
[44768,44768,"Thomas","Smyczek","TSV Pfungstadt Abt. Bahnengolf","SM1: Smyczek,Thomas","SM1","TSV Pfungstadt e. V. Abteilung Bahnengolf"]
[17842,17842,"Herma","Snaga","1. BGC Hannover","SW2: Snaga,Herma","SW2","1. Bahnen-Golf-Club Hannover e. V."]
[34030,34030,"Siegfried","Söchting","SC Bad Münder Abt. Bahnengolf","SM2: Söchting,Siegfried","SM2","Sportclub Bad Münder e. V. Abteilung Bahnengolf"]
[38156,38156,"Markus","Sodenkamp","MSK Neheim-Hüsten","SM1: Sodenkamp,Markus","SM1","MINIGOLF-SPORT-KLUB Neheim-Hüsten e. V."]
[25441,25441,"Bert-Rainer","Soest","MGC Homburger Land","SM2: Soest,Bert-Rainer","SM2","MGC Homburger Land e. V."]
[30548,30548,"Heike","Solarski","KGC  Waldstadion Frankfurt am Main","SW2: Solarski,Heike","SW2","Kleingolfclub Waldstadion e. V. Frankfurt am Main\t"]
[66335,66335,"Matthias","Söldner","MSV Würzburg-Löwenbrücke","H: Söldner,Matthias","H","Miniaturgolfsportverein Würzburg - Löwenbrücke e. V."]
[25756,25756,"Sebastian","Solleder","MGC Wolnzach","SM2: Solleder,Sebastian","SM2","Miniaturgolf-Club Wolnzach e. V."]
[66973,66973,"Reto","Sommer","1. MGC Mainz","H: Sommer,Reto","H","Erster Mainzer Minigolf-Club e. V. 1964"]
[67355,67355,"Zoe-Loreen","Sommer","MSG Kempten","SCHW: Sommer,Zoe-Loreen","SCHW","Minigolf-Sport-Gemeinschaft Kempten e. V."]
[36488,36488,"Ralf","Sommer","MSG Kempten","SM1: Sommer,Ralf","SM1","Minigolf-Sport-Gemeinschaft Kempten e. V."]
[49260,49260,"Christian","Somnitz","MC \"Möve\" Cuxhaven-Sahlenburg","H: Somnitz,Christian","H","Miniaturgolf-Club \"Möve\" Cuxhaven-Sahlenburg e. V."]
[67688,67688,"Sabine","Sonntag","MGF Steinbruch Kempten","SW1: Sonntag,Sabine","SW1","Minigolf-Freunde Steinbruch Kempten e. V."]
[36572,36572,"Uwe","Sonntag","MGF Steinbruch Kempten","SM2: Sonntag,Uwe","SM2","Minigolf-Freunde Steinbruch Kempten e. V."]
[33951,33951,"Rainer","Sorgenfrei","BGC Illertissen","SM2: Sorgenfrei,Rainer","SM2","Bahnengolfclub Illertissen e. V."]
[33712,33712,"Britta","Spandau","1. MGC Peine von 1965","D: Spandau,Britta","D","1. Miniaturgolf-Club Peine von 1965 e. V."]
[42332,42332,"Christian","Spandau","TSV Salzgitter Abt. Bahnengolf","SM1: Spandau,Christian","SM1","Turn- und Sportverein Salzgitter e. V. Abteilung Bahnengolf"]
[34546,34546,"Ernst","Spanner","BGC Illertissen","SM2: Spanner,Ernst","SM2","Bahnengolfclub Illertissen e. V."]
[64594,64594,"Peter","Spehn","MGC Bad Waldsee 1990","SM1: Spehn,Peter","SM1","Minigolf-Club Bad Waldsee 1990 e. V."]
[66545,66545,"Jeffrey","Spence","MGC Bad Homburg vdH","SM1: Spence,Jeffrey","SM1","Minigolf-Club Bad Homburg e. V."]
[66546,66546,"Manuela","Spence-Kunz","MGC Bad Homburg vdH","SW1: Spence-Kunz,Manuela","SW1","Minigolf-Club Bad Homburg e. V."]
[37666,37666,"Christian","Spennesberger","MGC Murnau am Staffelsee","SM1: Spennesberger,Christian","SM1","Minigolfclub Murnau am Staffelsee e. V."]
[40159,40159,"Sascha","Sperling","BGC Diepholz","H: Sperling,Sascha","H","Bahnen-Golf-Club Diepholz e. V."]
[40389,40389,"Sven","Sperling","BGC Bad Nenndorf","H: Sperling,Sven","H","Bahnen-Golf-Club Bad Nenndorf e. V."]
[64884,64884,"Kai-Rudolph","Sperling","SC Bad Münder Abt. Bahnengolf","H: Sperling,Kai-Rudolph","H","Sportclub Bad Münder e. V. Abteilung Bahnengolf"]
[51629,51629,"Sascha","Sperling","SC Bad Münder Abt. Bahnengolf","SM1: Sperling,Sascha","SM1","Sportclub Bad Münder e. V. Abteilung Bahnengolf"]
[{"$f":"VALUE(B3075)","v":35640},35640,"Frank","Spettel","MGC Wertheim 91",{"$f":"CONCATENATE(G3075,\": \",D3075,\",\",C3075)","v":"SM1: Spettel,Frank"},"SM1","Minigolfdub Wertheim ´91 e. V."]
[6280,6280,"Maria","Spieleder","BGC Neutraubling","SW2: Spieleder,Maria","SW2","Bahnengolf-Club Neutraubling e. V."]
[31489,31489,"Detlef","Spielfeld","MGC Dortmund Syburg","SM2: Spielfeld,Detlef","SM2","MGC Do-Syburg e.V."]
[31503,31503,"Manfred","Spielfeld","SGC Hagen","SM2: Spielfeld,Manfred","SM2","Sterngolf-Club Hagen e. V."]
[49066,49066,"Thomas","Spies","HMC Büttgen","SM1: Spies,Thomas","SM1","Hobbysport Miniaturgolfclub Büttgen e. V."]
[41300,41300,"Sepp","Splettstößer","BSV 82 Ohlsbach","SM2: Splettstößer,Sepp","SM2","Bahnengolfsportverein 82 Ohlsbach e. V."]
[26787,26787,"Volker","Spohr","1. BGC Leipzig","SM1: Spohr,Volker","SM1","1. Bahnen Golf Club Leipzig e. V."]
[36205,36205,"Sascha","Spreier","1. KC Homburg-Saar 1967","H: Spreier,Sascha","H","1. Kleingolf Club Homburg-Saar 1967 e. V."]
[34782,34782,"Roman","Springer","OMGC Ingolstadt","H: Springer,Roman","H","Oberbayerische Minigolf-Club Ingolstadt e. V."]
[35081,35081,"Wilfried","Springer","OMGC Ingolstadt","SM2: Springer,Wilfried","SM2","Oberbayerische Minigolf-Club Ingolstadt e. V."]
[34841,34841,"Rosmarie","Springer","OMGC Ingolstadt","SW2: Springer,Rosmarie","SW2","Oberbayerische Minigolf-Club Ingolstadt e. V."]
[67570,67570,"Marianne","Springer","BGC Bildstock","SW2: Springer,Marianne","SW2","Bahnen-Golf-Club Bildstock e. V."]
[31572,31572,"Lars","Springob","SSC Attendorn","H: Springob,Lars","H","Sterngolf-Sport-Club Attendorn e. V."]
[38477,38477,"René","Springob","MSK Neheim-Hüsten","H: Springob,René","H","MINIGOLF-SPORT-KLUB Neheim-Hüsten e. V."]
[64598,64598,"Patric","Sprung","BGC Bad Mergentheim","SM1: Sprung,Patric","SM1","Bahnen-Golf-Club Bad Mergentheim e. V."]
[50895,50895,"Georg","Stabl","SSV Ulm 1846 Abt. Bahnengolf","SM2: Stabl,Georg","SM2","Schwimm- und Sportverein Ulm 1846 e. V. Abteilung Bahnengolf"]
[67285,67285,"Leon","Staeubert","MSK Olching","SCHM: Staeubert,Leon","SCHM","Olchinger Minigolf Sport Klub e. V."]
[64940,64940,"Jan","Stahmann","1. MGC Kassel 1964","H: Stahmann,Jan","H","1. Mini-Golfsport-Club Kassel-Vellmar 1964 e. V."]
[67520,67520,"Julius","Stahmann","1. MGC Kassel 1964","SCHM: Stahmann,Julius","SCHM","1. Mini-Golfsport-Club Kassel-Vellmar 1964 e. V."]
[66480,66480,"Sebastian","Stallkamp","Osnabrücker M.-C. von 1963","H: Stallkamp,Sebastian","H","Osnabrücker Minigolf Club von 1963 e. V."]
[66606,66606,"Andreas","Stallkamp","Osnabrücker M.-C. von 1963","SM1: Stallkamp,Andreas","SM1","Osnabrücker Minigolf Club von 1963 e. V."]
[66704,66704,"Thomas","Stallkamp","MC Georgsmarienhütte","SM1: Stallkamp,Thomas","SM1","Minigolf-Club Georgsmarienhütte e. V."]
[43996,43996,"Sebastian","Stallmann","MGC Marl 1960","SM1: Stallmann,Sebastian","SM1","Mini Golf Club Marl 1960 e. V."]
[24288,24288,"Dirk","Stamm","1. Essener CGC \"Blau-Gold\"","SM2: Stamm,Dirk","SM2","1. Essener cobiGOLF - Club \"Blau-Gold\" e. V."]
[38295,38295,"Anita","Stamm","1. Essener CGC \"Blau-Gold\"","SW2: Stamm,Anita","SW2","1. Essener cobiGOLF - Club \"Blau-Gold\" e. V."]
[33125,33125,"Siegfried","Stanchly","BGC Heilbronn","SM1: Stanchly,Siegfried","SM1","Bahnengolf Club Heilbronn e. V."]
[31756,31756,"Carsten","Stang","MGC Bad Hersfeld","SM1: Stang,Carsten","SM1","Miniatur-Golf-Club Bad Hersfeld e. V."]
[64902,64902,"Tim-Niklas","Stange","1. BGC Hannover","H: Stange,Tim-Niklas","H","1. Bahnen-Golf-Club Hannover e. V."]
[1989,1989,"Michael","Stange","1. BGC Hannover","SM1: Stange,Michael","SM1","1. Bahnen-Golf-Club Hannover e. V."]
[2241,2241,"Anja","Stange","1. BGC Hannover","SW1: Stange,Anja","SW1","1. Bahnen-Golf-Club Hannover e. V."]
[34799,34799,"Hans-Werner","Stange","SV Lurup Abt. Bahnengolf","SM2: Stange,Hans-Werner","SM2","Sportverein Lurup-Hamburg von 1923 e. V. Abteilung Bahnengolf"]
[66867,66867,"Karl","Stängl","1. BGC Landshut","SM2: Stängl,Karl","SM2","1. Bahnengolf-Club Landshut e. V."]
[29997,29997,"Ulrich","Stappenbeck","1. BGC Wesseling 1975","SM1: Stappenbeck,Ulrich","SM1","1. Bahnen-Golf-Club Wesseling 1975 e. V. "]
[45118,45118,"Wolfgang","Stargardt","1. MGC Metzingen","SM2: Stargardt,Wolfgang","SM2","1. Miniaturgolf Club Metzingen e. V."]
[67852,67852,"Enrico","Staritz","Böllberger SG","H: Staritz,Enrico","H","Böllberger Sportgemeinschaft 185 e. V. Abteilung Minigolfsport"]
[67853,67853,"Nadine","Staritz","Böllberger SG","D: Staritz,Nadine","D","Böllberger Sportgemeinschaft 185 e. V. Abteilung Minigolfsport"]
[65465,65465,"Florian","Stark","MGC Olympia Kiel","H: Stark,Florian","H","Miniaturgolfclub Olympia Kiel e. V."]
[3524,3524,"Rupert","Stark","OMGC Ingolstadt","SM2: Stark,Rupert","SM2","Oberbayerische Minigolf-Club Ingolstadt e. V."]
[3568,3568,"Werner","Starke","MSK Olching","SM2: Starke,Werner","SM2","Olchinger Minigolf Sport Klub e. V."]
[32959,32959,"Thomas","Staska","BSV 86 München","SM1: Staska,Thomas","SM1","Bahnengolfsportverein 86 München e. V."]
[66934,66934,"Marcel","Staudt","Miniaturgolf Sportclub Schriesheim","H: Staudt,Marcel","H","Miniaturgolf Sportclub Schriesheim e. V."]
[40425,40425,"Ilka","Stautmeister","Elbhavelland, Abt. Minigolfsport","SW1: Stautmeister,Ilka","SW1","Elbhavelland e. V. Abteilung Minigolfsport"]
[5053,5053,"Werner","Steeger","SSC Halver","SM2: Steeger,Werner","SM2","SSC Halver e. V."]
[67304,67304,"Iris","Steffens-Bruelheide","MGC Bad Salzuflen","D: Steffens-Bruelheide,Iris","D","Minigolf-Club Bad Salzuflen e. V."]
[27838,27838,"Ulf","Stegmaier","BIG ASPERG","H: Stegmaier,Ulf","H","Bahnengolf-Interessen-Gemeinschaft Asperg e. V. 1982"]
[67585,67585,"Louis","Stegmayr","MGC Bad Feilnbach","SCHM: Stegmayr,Louis","SCHM","Minigolfclub Bad Feilnbach e. V."]
[66897,66897,"Udo","Stegmayr","MGC Bad Feilnbach","SM1: Stegmayr,Udo","SM1","Minigolfclub Bad Feilnbach e. V."]
[67659,67659,"Thomas","Steidle","BIG Ingelfingen","H: Steidle,Thomas","H","Bahnengolf Interessen-Gemeinschaft Ingelfingen 2020 e. V."]
[44123,44123,"Uwe","Steier","Niendorfer MC v. 1963","SM2: Steier,Uwe","SM2","Niendorfer Miniaturgolf-Club von 1963 e. V."]
[44379,44379,"Sonja","Steinburg","MGC Dormagen-Brechten","SW1: Steinburg,Sonja","SW1","Minigolfclub Dormagen - Brechten e. V."]
[6796,6796,"Ralf","Steinhausen","BGC Bremen","SM2: Steinhausen,Ralf","SM2","Bahnen-Golf-Club Bremen e. V."]
[41367,41367,"Hubert","Steinhoff","MSK Neheim-Hüsten","SM2: Steinhoff,Hubert","SM2","MINIGOLF-SPORT-KLUB Neheim-Hüsten e. V."]
[33580,33580,"William","Stellato","MGC Wertheim 91","SM2: Stellato,William","SM2","Minigolfdub Wertheim ´91 e. V."]
[21876,21876,"Friedhelm","Steller","CGC Illertal Kellmünz","SM2: Steller,Friedhelm","SM2","Cobigolfclub Illertal Kellmünz e. V."]
[6075,6075,"Klaus","Stelter","SV Lurup Abt. Bahnengolf","SM2: Stelter,Klaus","SM2","Sportverein Lurup-Hamburg von 1923 e. V. Abteilung Bahnengolf"]
[18104,18104,"Jürgen","Stelter","SV Lurup Abt. Bahnengolf","SM2: Stelter,Jürgen","SM2","Sportverein Lurup-Hamburg von 1923 e. V. Abteilung Bahnengolf"]
[6006,6006,"Karin","Stelter","MC Flora Elmshorn","SW2: Stelter,Karin","SW2","Minigolf-Club Flora Elmshorn e. V."]
[66711,66711,"Kai","Stelzer","MSK Neheim-Hüsten","H: Stelzer,Kai","H","MINIGOLF-SPORT-KLUB Neheim-Hüsten e. V."]
[37404,37404,"Franziska","Stemplinger","BGC 90 Ottobrunn","D: Stemplinger,Franziska","D","BGC 90 Ottobrunn e. V."]
[47402,47402,"Michaela","Stemplinger","BGC 90 Ottobrunn","SW1: Stemplinger,Michaela","SW1","BGC 90 Ottobrunn e. V."]
[33974,33974,"Ludwig","Stemplinger","BGC 90 Ottobrunn","SM2: Stemplinger,Ludwig","SM2","BGC 90 Ottobrunn e. V."]
[46386,46386,"Christian","Stendel","Reinickendorfer MGC","SM2: Stendel,Christian","SM2","Reinickendorfer Miniatur - Golfsport - Club e. V."]
[66285,66285,"Markus","Stern","VfB Osnabrück","SM1: Stern,Markus","SM1","Verein für Bahnengolf Osnabrück von 1984 e. V."]
[10099,10099,"Udo","Sternemann","BGSV Castrop 1961","SM2: Sternemann,Udo","SM2","Bahnengolfsportverein Castrop e. V. 1961"]
[{"$f":"VALUE(B3139)","v":66281},66281,"Elisabeth","Stertkamp","BV Sennestadt",{"$f":"CONCATENATE(G3139,\": \",D3139,\",\",C3139)","v":"SW2: Stertkamp,Elisabeth"},"SW2","BV Sennestadt e. V."]
[35625,35625,"Helmut","Steuer","BGC Illertissen","SM2: Steuer,Helmut","SM2","Bahnengolfclub Illertissen e. V."]
[67019,67019,"Jan Malte","Stief","MC 62 Lüdenscheid","SCHM: Stief,Jan Malte","SCHM","MC 62 Lüdenscheid e. V."]
[67223,67223,"Hans-Dieter","Stier","1. MC Weinheim","SM2: Stier,Hans-Dieter","SM2","1. Miniaturgolf-Club Weinheim e. V."]
[67097,67097,"Sören","Stift","MGC Harrislee-Wassersleben","H: Stift,Sören","H","Sportverein Minigolfclub Harrislee-Wassersleben e. V."]
[30319,30319,"Kris","Stille","Niendorfer MC v. 1963","H: Stille,Kris","H","Niendorfer Miniaturgolf-Club von 1963 e. V."]
[66100,66100,"Thomas","Stock","MGC Bad Bodendorf","H: Stock,Thomas","H","Miniaturgolfclub Bad Bodendorf e. V."]
[41929,41929,"Manfred","Stock","MGC Bad Bodendorf","SM2: Stock,Manfred","SM2","Miniaturgolfclub Bad Bodendorf e. V."]
[67615,67615,"Harald","Stocker","MGC Bad Homburg vdH","SM2: Stocker,Harald","SM2","Minigolf-Club Bad Homburg e. V."]
[356,356,"Martin","Stöckle","Niendorfer MC v. 1963","H: Stöckle,Martin","H","Niendorfer Miniaturgolf-Club von 1963 e. V."]
[67748,67748,"Jana","Stoklossa","BGC Bildstock","SCHW: Stoklossa,Jana","SCHW","Bahnen-Golf-Club Bildstock e. V."]
[18249,18249,"Hans","Stolt","1. MGC Tuttlingen","SM2: Stolt,Hans","SM2","Erster Minigolf - Club Tuttlingen e. V."]
[67679,67679,"Stefan","Stölzel","MC Flora Elmshorn","SM1: Stölzel,Stefan","SM1","Minigolf-Club Flora Elmshorn e. V."]
[22496,22496,"Miroslav","Stoparic","1. MGC Mainz","H: Stoparic,Miroslav","H","Erster Mainzer Minigolf-Club e. V. 1964"]
[27937,27937,"Branislav","Stoparic","1. MGC Mannheim 1968","H: Stoparic,Branislav","H","1. Miniatur-Golf-Club Mannheim 1968 e. V."]
[28333,28333,"Martin","Stopper","BSV 86 München","SM2: Stopper,Martin","SM2","Bahnengolfsportverein 86 München e. V."]
[31829,31829,"Erika","Stopper","BSV 86 München","SW2: Stopper,Erika","SW2","Bahnengolfsportverein 86 München e. V."]
[43139,43139,"Frank","Störmer","Cobigolf-Verein Hamm 2019","SM1: Störmer,Frank","SM1","Cobigolf-Verein Hamm 2019 e. V."]
[31301,31301,"Hans-Jürgen","Stötzer","1. BGC Wesseling 1975","SM2: Stötzer,Hans-Jürgen","SM2","1. Bahnen-Golf-Club Wesseling 1975 e. V. "]
[36353,36353,"Stephan","Stranka","1. BGC Garmisch-Partenkirchen","H: Stranka,Stephan","H","1. Bahnengolfclub Garmisch-Partenkirchen e. V."]
[66600,66600,"Giuseppe","Strano","BGSC \"Gut Schlag\" Gladbeck","SM2: Strano,Giuseppe","SM2","Bahnengolfsportclub \"Gut Schlag\" Gladbeck e. V."]
[33184,33184,"Christian","Straub","MGC Sulzfeld","H: Straub,Christian","H","Miniatur Golf Club Sulzfeld e. V."]
[35657,35657,"Michael","Straub","MGC Sulzfeld","H: Straub,Michael","H","Miniatur Golf Club Sulzfeld e. V."]
[37045,37045,"Christa","Streit","Minigolfunion Neviges-Odenthal 1968","SW2: Streit,Christa","SW2","Minigolfunion Neviges-Odenthal 1968 e. V."]
[33658,33658,"Manfred","Strohmaier","SSV Ulm 1846 Abt. Bahnengolf","SM2: Strohmaier,Manfred","SM2","Schwimm- und Sportverein Ulm 1846 e. V. Abteilung Bahnengolf"]
[67396,67396,"Claudia","Strohmenger","1. MC Weinheim","SW1: Strohmenger,Claudia","SW1","1. Miniaturgolf-Club Weinheim e. V."]
[67394,67394,"Uwe","Strohmenger","1. MC Weinheim","SM2: Strohmenger,Uwe","SM2","1. Miniaturgolf-Club Weinheim e. V."]
[34700,34700,"Holger","Strube","MGC Bad Soden-Salmünster","SM1: Strube,Holger","SM1","Miniaturgolfclub Bad Soden-Salmünster e. V."]
[35809,35809,"Catalina","Strube","MGC Bad Soden-Salmünster","SW2: Strube,Catalina","SW2","Miniaturgolfclub Bad Soden-Salmünster e. V."]
[35201,35201,"Bernd","Stübgen","1. MGC Peine von 1965","H: Stübgen,Bernd","H","1. Miniaturgolf-Club Peine von 1965 e. V."]
[67042,67042,"Connor","Stübiger","BGSV Aßlar 1987","JM: Stübiger,Connor","JM","Bahnengolf-Sportverein Aßlar 1987 e. V."]
[67776,67776,"Jane","Stucki","MSK Olching","D: Stucki,Jane","D","Olchinger Minigolf Sport Klub e. V."]
[67613,67613,"Lukas","Stuffer","MGV Ansbach","JM: Stuffer,Lukas","JM","MGV Ansbach e. V."]
[38224,38224,"Martin","Stukan","BGC Schweinfurt","H: Stukan,Martin","H","Bahnengolfclub Schweinfurt e. V."]
[38362,38362,"Ingo","Stuppy","1. MGC Mannheim 1968","SM2: Stuppy,Ingo","SM2","1. Miniatur-Golf-Club Mannheim 1968 e. V."]
[37814,37814,"Tobias","Sturm","MGC Murnau am Staffelsee","H: Sturm,Tobias","H","Minigolfclub Murnau am Staffelsee e. V."]
[26576,26576,"Norbert","Sturm","MGC Ingolstadt","SM2: Sturm,Norbert","SM2"," Miniaturgolf-Club Ingolstadt e. V."]
[29722,29722,"Werner","Sturm","MGC Murnau am Staffelsee","SM2: Sturm,Werner","SM2","Minigolfclub Murnau am Staffelsee e. V."]
[64201,64201,"Dietlind","Sturm","MGC Murnau am Staffelsee","SW2: Sturm,Dietlind","SW2","Minigolfclub Murnau am Staffelsee e. V."]
[37460,37460,"Klaus","Stürmer","1. KC Homburg-Saar 1967","SM2: Stürmer,Klaus","SM2","1. Kleingolf Club Homburg-Saar 1967 e. V."]
[36587,36587,"Wolfgang","Stute","MGC Schwaikheim","SM1: Stute,Wolfgang","SM1","Miniaturgolf – Club Schwaikheim e. V."]
[37780,37780,"Brian","Suchomel","MC Tigers Künsebeck","H: Suchomel,Brian","H","Miniaturgolf Club Tigers Künsebeck e. V."]
[43284,43284,"Jürgen","Suckau","MGC Homburger Land","SM2: Suckau,Jürgen","SM2","MGC Homburger Land e. V."]
[44353,44353,"Frank","Südhoff","CGC Grün-Gold Bad Hamm","SM1: Südhoff,Frank","SM1","Cobigolf-Club \"Grün-Gold\" Bad Hamm e. V."]
[26352,26352,"Lutz","Suhrbier","Tempelhofer MV Berlin","SM1: Suhrbier,Lutz","SM1","Tempelhofer Miniaturgolf Verein von 1965 e. V."]
[44865,44865,"Christopher","Süling","MC \"Möve\" Cuxhaven-Sahlenburg","SM1: Süling,Christopher","SM1","Miniaturgolf-Club \"Möve\" Cuxhaven-Sahlenburg e. V."]
[32849,32849,"Hans-Gerd","Sülzen","MGS Hildesheim","SM2: Sülzen,Hans-Gerd","SM2","MiniGolfSportverein Hildesheim e. V."]
[32850,32850,"Annelie","Sülzen","MGS Hildesheim","SW2: Sülzen,Annelie","SW2","MiniGolfSportverein Hildesheim e. V."]
[24727,24727,"Jürgen","Summ","MGC Sulzfeld","SM2: Summ,Jürgen","SM2","Miniatur Golf Club Sulzfeld e. V."]
[6234,6234,"Rudi","Surau","1. MSC Hamburg-Neu Wulmstorf","SM2: Surau,Rudi","SM2","1. Minigolf-Sport-Club Hamburg-Neu-Wulmstorf e. V."]
[43693,43693,"Michael","Sussek","1. BGC Wolfsburg","SM2: Sussek,Michael","SM2","1. Bahnen - Golf - Club Wolfsburg e. V."]
[36570,36570,"Manuel","Szablikowski","1. MGC Mainz","H: Szablikowski,Manuel","H","Erster Mainzer Minigolf-Club e. V. 1964"]
[37981,37981,"Tim","Szablikowski","1. MGC Mainz","H: Szablikowski,Tim","H","Erster Mainzer Minigolf-Club e. V. 1964"]
[30493,30493,"Bernd","Szablikowski","1. MGC Mainz","SM1: Szablikowski,Bernd","SM1","Erster Mainzer Minigolf-Club e. V. 1964"]
[44243,44243,"André","Szablikowski","1. MGC Mainz","SM1: Szablikowski,André","SM1","Erster Mainzer Minigolf-Club e. V. 1964"]
[29090,29090,"Anke","Szablikowski","1. MGC Mainz","SW1: Szablikowski,Anke","SW1","Erster Mainzer Minigolf-Club e. V. 1964"]
[29092,29092,"Petra","Szablikowski","1. MGC Mainz","SW1: Szablikowski,Petra","SW1","Erster Mainzer Minigolf-Club e. V. 1964"]
[25536,25536,"Axel","Szablikowski","1. MGC Mainz","SM2: Szablikowski,Axel","SM2","Erster Mainzer Minigolf-Club e. V. 1964"]
[37507,37507,"Harald","Szabo","1. MGC Hechingen","SM2: Szabo,Harald","SM2","1. Minigolfclub Hechingen e. V."]
[48004,48004,"Jörg","Sziele","MGC Wertheim 91","SM1: Sziele,Jörg","SM1","Minigolfdub Wertheim ´91 e. V."]
[67272,67272,"Ilka","Szukowski","BSG Pneumant Fürstenwalde, Abt. Minigolf","SW2: Szukowski,Ilka","SW2","BSG Pneumant Fürstenwalde e. V. Abteilung Minigolf"]
[27974,27974,"Peter","Tabor","MGC \"AS\" Witten 1963","SM2: Tabor,Peter","SM2","Minigolfclub \"AS\" Witten 1963 e. V."]
[36355,36355,"Julian","Tafel","1. BGC Garmisch-Partenkirchen","H: Tafel,Julian","H","1. Bahnengolfclub Garmisch-Partenkirchen e. V."]
[38199,38199,"Daniel","Tafel","1. BGC Garmisch-Partenkirchen","H: Tafel,Daniel","H","1. Bahnengolfclub Garmisch-Partenkirchen e. V."]
[{"$f":"VALUE(B3203)","v":36894},36894,"Melanie","Tafel","1. BGC Garmisch-Partenkirchen",{"$f":"CONCATENATE(G3203,\": \",D3203,\",\",C3203)","v":"D: Tafel,Melanie"},"D","1. Bahnengolfclub Garmisch-Partenkirchen e. V."]
[45237,45237,"Susanne","Tafel","1. BGC Garmisch-Partenkirchen","SW1: Tafel,Susanne","SW1","1. Bahnengolfclub Garmisch-Partenkirchen e. V."]
[28604,28604,"Manfred","Tafel","1. BGC Garmisch-Partenkirchen","SM2: Tafel,Manfred","SM2","1. Bahnengolfclub Garmisch-Partenkirchen e. V."]
[65725,65725,"Reinhard","Tasche","SC Wermelskirchen 1976","SM2: Tasche,Reinhard","SM2","SC-Wermelskirchen e. V."]
[65724,65724,"Edeltraut","Tasche","SC Wermelskirchen 1976","SW2: Tasche,Edeltraut","SW2","SC-Wermelskirchen e. V."]
[41313,41313,"Angelo","Tatti","BGC Heilbronn","SM1: Tatti,Angelo","SM1","Bahnengolf Club Heilbronn e. V."]
[3621,3621,"Clemente","Tatti","BGC Heilbronn","SM2: Tatti,Clemente","SM2","Bahnengolf Club Heilbronn e. V."]
[30769,30769,"Volker","Tatzelt","Niendorfer MC v. 1963","SM1: Tatzelt,Volker","SM1","Niendorfer Miniaturgolf-Club von 1963 e. V."]
[4761,4761,"Peter","Taudien","MSC Bad Godesberg","SM2: Taudien,Peter","SM2","Minigolf-Sport-Club Bad Godesberg e. V."]
[36632,36632,"Gunter","Tauterat","MGC Monrepos","SM1: Tauterat,Gunter","SM1","Minigolfclub Monrepos e. V."]
[36633,36633,"Carmen","Tauterat","BGC Bad Mergentheim","SW1: Tauterat,Carmen","SW1","Bahnen-Golf-Club Bad Mergentheim e. V."]
[33986,33986,"Eleonore","Tautrims","MGC Bad Homburg vdH","SW2: Tautrims,Eleonore","SW2","Minigolf-Club Bad Homburg e. V."]
[4244,4244,"Peter","Tautz","VfM Bottrop","SM2: Tautz,Peter","SM2","Verein für Minigolf Bottrop e. V."]
[5715,5715,"Brigitte","Te Kamp","SC Wermelskirchen 1976","SW2: Te Kamp,Brigitte","SW2","SC-Wermelskirchen e. V."]
[67346,67346,"Finn","Teetzen","MGV Bremen","SCHM: Teetzen,Finn","SCHM","Miniatur-Golf-Verein Bremen e. V."]
[67345,67345,"Michael","Teetzen","MGV Bremen","SM1: Teetzen,Michael","SM1","Miniatur-Golf-Verein Bremen e. V."]
[6014,6014,"Heinrich","Teine","BGSV Kerpen","SM2: Teine,Heinrich","SM2","Bahnen-Golf-Sport-Vereinigung Kerpen e. V."]
[33964,33964,"Marco","Templin","BGS Hardenberg-Pötter","H: Templin,Marco","H","BGS Hardenberg-Pötter e. V."]
[67861,67861,"Boris","Teofanovic","MGC Bad Oldesloe","SM1: Teofanovic,Boris","SM1","Miniaturgolfclub Bad Oldesloe von 1964 e. V."]
[41710,41710,"Michael","Tesch","BGC Schloß Paffendorf","SM2: Tesch,Michael","SM2","Bahnengolf Club Schloß Paffendorf e. V."]
[48559,48559,"Jörg","Tetzlaff","Reinickendorfer MGC","SM1: Tetzlaff,Jörg","SM1","Reinickendorfer Miniatur - Golfsport - Club e. V."]
[50596,50596,"Jan-Christoph","Theden","MGC Olympia Kiel","H: Theden,Jan-Christoph","H","Miniaturgolfclub Olympia Kiel e. V."]
[67565,67565,"Andreas","Theilig","MGC Bad Homburg vdH","SM1: Theilig,Andreas","SM1","Minigolf-Club Bad Homburg e. V."]
[67564,67564,"Petra","Theilig","BGSV Bad Homburg","SW1: Theilig,Petra","SW1","Bahnengolf-Sportverein Bad Homburg v.d.H. e. V."]
[34879,34879,"Michael","Theimann","BGS Hardenberg-Pötter","SM2: Theimann,Michael","SM2","BGS Hardenberg-Pötter e. V."]
[66593,66593,"Kai","Theobald","TV Nierstein 1901, Abt. Minigolf","H: Theobald,Kai","H","Turnverein 1901 e. V. Nierstein/Rhein Abteilung Minigolf"]
[66592,66592,"Tobias","Theobald","TV Nierstein 1901, Abt. Minigolf","H: Theobald,Tobias","H","Turnverein 1901 e. V. Nierstein/Rhein Abteilung Minigolf"]
[24892,24892,"Matthias","Thiebes","BGC Bad Mergentheim","SM1: Thiebes,Matthias","SM1","Bahnen-Golf-Club Bad Mergentheim e. V."]
[45943,45943,"Stephan","Thiel","VfM Berlin","SM1: Thiel,Stephan","SM1","Verein für Minigolf e. V. Berlin"]
[43548,43548,"Elke","Thiem","MSC Bensheim-Auerbach","SW1: Thiem,Elke","SW1","Minigolf-Sport-Club Bensheim-Auerbach e. V."]
[36565,36565,"Frank","Thies","BGC Northeim","SM2: Thies,Frank","SM2","Bahnen-Golf-Club Northeim e. V."]
[48286,48286,"Hans-Jürgen","Thölke","MGC Murnau am Staffelsee","SM2: Thölke,Hans-Jürgen","SM2","Minigolfclub Murnau am Staffelsee e. V."]
[38597,38597,"Andreas","Thomas","MGC Ostheim / Rhön","H: Thomas,Andreas","H","Miniaturgolfclub Ostheim/Rhön e. V. "]
[67397,67397,"Herbert","Thomas","BGSV Castrop 1961","SM2: Thomas,Herbert","SM2","Bahnengolfsportverein Castrop e. V. 1961"]
[35702,35702,"Tilo","Thomsen","MGC Olympia Kiel","H: Thomsen,Tilo","H","Miniaturgolfclub Olympia Kiel e. V."]
[67099,67099,"Jan","Thomsen","MGC Harrislee-Wassersleben","H: Thomsen,Jan","H","Sportverein Minigolfclub Harrislee-Wassersleben e. V."]
[67815,67815,"Ann-Katrin","Thomsen","MGC Wetzlar","D: Thomsen,Ann-Katrin","D","Miniatur-Golf-Club Wetzlar e. V."]
[67719,67719,"Flemming","Thomsen","MGC Brunsbüttel","SCHM: Thomsen,Flemming","SCHM","Miniaturgolf-Club Brunsbüttel e. V."]
[67100,67100,"Tanja","Thomsen","MGC Harrislee-Wassersleben","SW1: Thomsen,Tanja","SW1","Sportverein Minigolfclub Harrislee-Wassersleben e. V."]
[38501,38501,"Ralf","Thren","MSC Bad Godesberg","SM1: Thren,Ralf","SM1","Minigolf-Sport-Club Bad Godesberg e. V."]
[38502,38502,"Sigrid","Thren-Bös","MSC Bad Godesberg","SW2: Thren-Bös,Sigrid","SW2","Minigolf-Sport-Club Bad Godesberg e. V."]
[37289,37289,"Marwin","Throne","ASV Pegnitz, Abt. Minigolf","H: Throne,Marwin","H","Allgemeiner Sportverein Pegnitz e. V. Abteilung Minigolf"]
[37290,37290,"Werner","Throne","PTSV Hof, Abt. Minigolf","SM2: Throne,Werner","SM2","Post- und Telekom-Sportverein Hof e. V. Abteilung Minigolf "]
[31419,31419,"Timo","Thun","MGV Bremen","H: Thun,Timo","H","Miniatur-Golf-Verein Bremen e. V."]
[6586,6586,"Dieter","Thun","MGV Bremen","SM2: Thun,Dieter","SM2","Miniatur-Golf-Verein Bremen e. V."]
[41317,41317,"Thomas","Thusek","BGC Heilbronn","SM1: Thusek,Thomas","SM1","Bahnengolf Club Heilbronn e. V."]
[26670,26670,"Hans-Joachim","Thüsen","1. MGC Kassel 1964","SM2: Thüsen,Hans-Joachim","SM2","1. Mini-Golfsport-Club Kassel-Vellmar 1964 e. V."]
[66788,66788,"Michael","Tiedtke","MGV Bremen","H: Tiedtke,Michael","H","Miniatur-Golf-Verein Bremen e. V."]
[67326,67326,"Marlene","Tietz","MSK Neheim-Hüsten","D: Tietz,Marlene","D","MINIGOLF-SPORT-KLUB Neheim-Hüsten e. V."]
[48644,48644,"Axel Eric","Timm","TSV Pfungstadt Abt. Bahnengolf","H: Timm,Axel Eric","H","TSV Pfungstadt e. V. Abteilung Bahnengolf"]
[67708,67708,"Andreas","Timmer","TSV Arendsee","H: Timmer,Andreas","H","Turn- und Sportverein Arendsee e. V. Abteilung Minigolf"]
[67814,67814,"Stefan","Tinibel","Bochumer Minigolf-Club 1960","SM1: Tinibel,Stefan","SM1","Bochumer Minigolf-Club 1960 e. V."]
[6771,6771,"Dietmar","Tinney","Hamburger MC von 1965","SM2: Tinney,Dietmar","SM2","Hamburger Minigolf Club von 1965 e. V."]
[43144,43144,"Jürgen","Tismer","MGC Bad Salzuflen","SM2: Tismer,Jürgen","SM2","Minigolf-Club Bad Salzuflen e. V."]
[24603,24603,"Klaus","Todtenhöfer","BGC Dormagen","SM2: Todtenhöfer,Klaus","SM2","Bahnengolf-Club Dormagen e. V."]
[31347,31347,"Ingolf","Tolk","1. MGC Tuttlingen","SM1: Tolk,Ingolf","SM1","Erster Minigolf - Club Tuttlingen e. V."]
[37500,37500,"Mathias","Tomkowitz","Cobigolf-Verein Hamm 2019","H: Tomkowitz,Mathias","H","Cobigolf-Verein Hamm 2019 e. V."]
[32802,32802,"Stefanie","Tomkowitz","Cobigolf-Verein Hamm 2019","D: Tomkowitz,Stefanie","D","Cobigolf-Verein Hamm 2019 e. V."]
[29648,29648,"Michael","Töpelt","1. BGC Leipzig","H: Töpelt,Michael","H","1. Bahnen Golf Club Leipzig e. V."]
[37907,37907,"Eva","Töpelt","1. BGC Leipzig","D: Töpelt,Eva","D","1. Bahnen Golf Club Leipzig e. V."]
[67830,67830,"Alexander","Töppe","Reinickendorfer MGC","JM: Töppe,Alexander","JM","Reinickendorfer Miniatur - Golfsport - Club e. V."]
[67829,67829,"Ellena","Töppe","Reinickendorfer MGC","SCHW: Töppe,Ellena","SCHW","Reinickendorfer Miniatur - Golfsport - Club e. V."]
[37793,37793,"Jürgen","Torka","1. MGC Gelsenkirchen","SM2: Torka,Jürgen","SM2","1. Minigolf Club Gelsenkirchen e. V."]
[30869,30869,"Andreas","Träger","MSC Bensheim-Auerbach","SM1: Träger,Andreas","SM1","Minigolf-Sport-Club Bensheim-Auerbach e. V."]
[{"$f":"VALUE(B3267)","v":27087},27087,"Harald","Träger","MGC Bad Salzuflen",{"$f":"CONCATENATE(G3267,\": \",D3267,\",\",C3267)","v":"SM1: Träger,Harald"},"SM1","Minigolf-Club Bad Salzuflen e. V."]
[66435,66435,"Manuel","Tramp","KSV Baltrum","H: Tramp,Manuel","H","Kultur- und Sportverein Baltrum e. V. Sparte Cobigolf"]
[43716,43716,"Karl","Trauner","BSV 86 München","SM2: Trauner,Karl","SM2","Bahnengolfsportverein 86 München e. V."]
[43715,43715,"Anneliese","Trauner","BSV 86 München","SW2: Trauner,Anneliese","SW2","Bahnengolfsportverein 86 München e. V."]
[36781,36781,"Clemens","Trautmann","VfM Berlin","SM1: Trautmann,Clemens","SM1","Verein für Minigolf e. V. Berlin"]
[67314,67314,"Herbert","Trautmann","MGC Bad Homburg vdH","SM2: Trautmann,Herbert","SM2","Minigolf-Club Bad Homburg e. V."]
[5274,5274,"Franz","Treffer","OMGC Ingolstadt","SM2: Treffer,Franz","SM2","Oberbayerische Minigolf-Club Ingolstadt e. V."]
[47135,47135,"Bernd","Trempenau","MGC Bad Salzuflen","SM2: Trempenau,Bernd","SM2","Minigolf-Club Bad Salzuflen e. V."]
[38530,38530,"Matthias","Trenz","BGC Bildstock","H: Trenz,Matthias","H","Bahnen-Golf-Club Bildstock e. V."]
[66644,66644,"Christine","Trepesch","1. MGC Tuttlingen","SW1: Trepesch,Christine","SW1","Erster Minigolf - Club Tuttlingen e. V."]
[6191,6191,"Peter","Trettl","MGC putter Künzell 1970","SM2: Trettl,Peter","SM2","Minigolfclub putter Künzell 1970 e. V."]
[17987,17987,"Adi","Trillges","BGSV Kerpen","SM2: Trillges,Adi","SM2","Bahnen-Golf-Sport-Vereinigung Kerpen e. V."]
[4880,4880,"Brigitte","Trillges","BGSV Kerpen","SW2: Trillges,Brigitte","SW2","Bahnen-Golf-Sport-Vereinigung Kerpen e. V."]
[36623,36623,"Werner","Trinkl","MSK Olching","SM2: Trinkl,Werner","SM2","Olchinger Minigolf Sport Klub e. V."]
[36625,36625,"Bettina","Trinkl","MSK Olching","SW2: Trinkl,Bettina","SW2","Olchinger Minigolf Sport Klub e. V."]
[66640,66640,"Levi","Tritsch","MSC Bensheim-Auerbach","SCHM: Tritsch,Levi","SCHM","Minigolf-Sport-Club Bensheim-Auerbach e. V."]
[36489,36489,"Katharina","Trojak","MSG Kempten","D: Trojak,Katharina","D","Minigolf-Sport-Gemeinschaft Kempten e. V."]
[38133,38133,"Jürgen","Tröller","SV 1890 Dreieichenhain, Abt. Bahnengolf","SM1: Tröller,Jürgen","SM1","Sportverein 1890 e. V. Dreieichenhain Abteilung Bahnengolf"]
[63610,63610,"Burkhard","Trümbach","MGC \"Stahlquelle\" Bad Bocklet","SM1: Trümbach,Burkhard","SM1","Miniatur-Golf-Club \"Stahlquelle\", Bad Bocklet 1989 e. V."]
[40643,40643,"Jürgen","Tschischka","1. MGC München-Feldmoching","SM2: Tschischka,Jürgen","SM2","1. Miniaturgolfclub München-Feldmoching e. V."]
[67546,67546,"Alan","Tuaew","SG Arheilgen Abt. Bahnengolf","SCHM: Tuaew,Alan","SCHM","Sportgemeinschaft Arheilgen 1876/1945 e. V. Abteilung Bahnengolf"]
[67545,67545,"Emilia","Tuaew","SG Arheilgen Abt. Bahnengolf","SCHW: Tuaew,Emilia","SCHW","Sportgemeinschaft Arheilgen 1876/1945 e. V. Abteilung Bahnengolf"]
[5739,5739,"Erika","Tuchs","MGC Murnau am Staffelsee","SW2: Tuchs,Erika","SW2","Minigolfclub Murnau am Staffelsee e. V."]
[66310,66310,"Cedric Alexander","Türk","MSK Neheim-Hüsten","H: Türk,Cedric Alexander","H","MINIGOLF-SPORT-KLUB Neheim-Hüsten e. V."]
[67742,67742,"Tobias","Turner","BGSV Castrop 1961","JM: Turner,Tobias","JM","Bahnengolfsportverein Castrop e. V. 1961"]
[36173,36173,"Uwe","Tusch","1. MGC 1970 Göttingen","SM2: Tusch,Uwe","SM2","1. Miniatur-Golfsport-Club 1970 Göttingen e. V."]
[66441,66441,"Heinrich","Uetzmann","Tempelhofer MV Berlin","SM2: Uetzmann,Heinrich","SM2","Tempelhofer Miniaturgolf Verein von 1965 e. V."]
[34151,34151,"Jasmin Astrid","Uhl","MGC Olympia Kiel","D: Uhl,Jasmin Astrid","D","Miniaturgolfclub Olympia Kiel e. V."]
[30695,30695,"Birgit","Uhl","MGC Olympia Kiel","SW1: Uhl,Birgit","SW1","Miniaturgolfclub Olympia Kiel e. V."]
[36133,36133,"Thorsten","Uhlig","MSC Blau-Weiß 2003 München","SM1: Uhlig,Thorsten","SM1","Minigolf-Sport-Club blau-weiß 2003 e. V. München"]
[42068,42068,"Thorsten","Uhlir","Cobigolf-Verein Hamm 2019","SM1: Uhlir,Thorsten","SM1","Cobigolf-Verein Hamm 2019 e. V."]
[47176,47176,"Werner","Uhr","1. MSC Hamburg-Neu Wulmstorf","SM2: Uhr,Werner","SM2","1. Minigolf-Sport-Club Hamburg-Neu-Wulmstorf e. V."]
[37956,37956,"Dominik","Ullrich","1. MGC Mainz","H: Ullrich,Dominik","H","Erster Mainzer Minigolf-Club e. V. 1964"]
[67847,67847,"Stephanie","Ullrich","MV Lankwitzer Dragons","D: Ullrich,Stephanie","D","MV Lankwitzer Dragons e. V."]
[33761,33761,"Stefan","Ulrich","1. MGC Ludwigshafen","H: Ulrich,Stefan","H","1. Miniatur-Golf-Club Ludwigshafen 1964 e. V."]
[66988,66988,"Miriam","Ulrich","1. MGC Ludwigshafen","D: Ulrich,Miriam","D","1. Miniatur-Golf-Club Ludwigshafen 1964 e. V."]
[29919,29919,"Uwe","Ulrich","BGC Goslar","SM2: Ulrich,Uwe","SM2","Bahnen-Golf-Club Goslar e. V."]
[45991,45991,"Andreas","Umbach","1. MGC Kassel 1964","SM1: Umbach,Andreas","SM1","1. Mini-Golfsport-Club Kassel-Vellmar 1964 e. V."]
[38310,38310,"Lukas","Umhauer","1. MGC Mainz","H: Umhauer,Lukas","H","Erster Mainzer Minigolf-Club e. V. 1964"]
[2411,2411,"Jens","Umhauer","1. MGC Mainz","SM2: Umhauer,Jens","SM2","Erster Mainzer Minigolf-Club e. V. 1964"]
[1322,1322,"Karin","Umlauf","SC Bad Münder Abt. Bahnengolf","SW2: Umlauf,Karin","SW2","Sportclub Bad Münder e. V. Abteilung Bahnengolf"]
[34732,34732,"Uwe","Ungermann","BSC Ennepetal","SM1: Ungermann,Uwe","SM1","Bahngolf-Sport-Club Ennepetal e. V."]
[38216,38216,"Thomas","Unglaube","BGC Dormagen","H: Unglaube,Thomas","H","Bahnengolf-Club Dormagen e. V."]
[67170,67170,"Joerg","Unruh","MGC Millennium Viernheim","SM1: Unruh,Joerg","SM1","MGC Millennium Viernheim e. V."]
[26698,26698,"Horst","Unterleitner","CGC Illertal Kellmünz","SM2: Unterleitner,Horst","SM2","Cobigolfclub Illertal Kellmünz e. V."]
[66186,66186,"Dominic","Urban","MGC \"AS\" Witten 1963","JM: Urban,Dominic","JM","Minigolfclub \"AS\" Witten 1963 e. V."]
[35604,35604,"Volker","Urban","MGC \"AS\" Witten 1963","SM1: Urban,Volker","SM1","Minigolfclub \"AS\" Witten 1963 e. V."]
[35605,35605,"Angela","Urban","MGC \"AS\" Witten 1963","SW1: Urban,Angela","SW1","Minigolfclub \"AS\" Witten 1963 e. V."]
[30422,30422,"Patrick","Urbanke","MGC Bad Soden-Salmünster","H: Urbanke,Patrick","H","Miniaturgolfclub Bad Soden-Salmünster e. V."]
[41095,41095,"Karsten","Urbanski","1. Essener CGC \"Blau-Gold\"","SM1: Urbanski,Karsten","SM1","1. Essener cobiGOLF - Club \"Blau-Gold\" e. V."]
[67803,67803,"Jenny","Uschmann","BGSC \"Gut Schlag\" Gladbeck","SW1: Uschmann,Jenny","SW1","Bahnengolfsportclub \"Gut Schlag\" Gladbeck e. V."]
[23,23,"Monika","Vahle","MSK Neheim-Hüsten","SW1: Vahle,Monika","SW1","MINIGOLF-SPORT-KLUB Neheim-Hüsten e. V."]
[67224,67224,"Kerstin","Vallot","BGSV Aßlar 1987","SW1: Vallot,Kerstin","SW1","Bahnengolf-Sportverein Aßlar 1987 e. V."]
[33059,33059,"Dirk","van der Wals","1. MGC Epe 1978","H: van der Wals,Dirk","H","1. Minigolfclub Epe 1978 e. V."]
[26404,26404,"Wilfried","van der Wals","1. MGC Epe 1978","SM2: van der Wals,Wilfried","SM2","1. Minigolfclub Epe 1978 e. V."]
[38505,38505,"Tom","van Diejen","MSC Bensheim-Auerbach","H: van Diejen,Tom","H","Minigolf-Sport-Club Bensheim-Auerbach e. V."]
[38415,38415,"Jan","van Eickelen","BGV Bergisch Land 1962 / 63","H: van Eickelen,Jan","H","Bahnengolf-Verein Bergisch Land 1962/63 e. V."]
[65919,65919,"Ralf","van Eickelen","BGV Bergisch Land 1962 / 63","SM2: van Eickelen,Ralf","SM2","Bahnengolf-Verein Bergisch Land 1962/63 e. V."]
[67579,67579,"Remco","van Steenwijk","BGC Uerdingen","SM1: van Steenwijk,Remco","SM1","Bahnengolf-Club Uerdingen e. V."]
[36532,36532,"Jan","van Vught","SG Arheilgen Abt. Bahnengolf","H: van Vught,Jan","H","Sportgemeinschaft Arheilgen 1876/1945 e. V. Abteilung Bahnengolf"]
[40558,40558,"Peter","Vanselow","MGC Sulzfeld","SM2: Vanselow,Peter","SM2","Miniatur Golf Club Sulzfeld e. V."]
[66881,66881,"Svenja","Vatter","1. MGC Ludwigshafen","JW: Vatter,Svenja","JW","1. Miniatur-Golf-Club Ludwigshafen 1964 e. V."]
[31256,31256,"Bernd","Veit","MGC Wetzlar","SM1: Veit,Bernd","SM1","Miniatur-Golf-Club Wetzlar e. V."]
[67124,67124,"Alexander","Vellone","BGC Bad Nenndorf","H: Vellone,Alexander","H","Bahnen-Golf-Club Bad Nenndorf e. V."]
[{"$f":"VALUE(B3331)","v":27127},27127,"Nicolo","Vellone","BGC Bad Nenndorf",{"$f":"CONCATENATE(G3331,\": \",D3331,\",\",C3331)","v":"SM2: Vellone,Nicolo"},"SM2","Bahnen-Golf-Club Bad Nenndorf e. V."]
[48946,48946,"Dirk","Vennemann","VfB Osnabrück","SM2: Vennemann,Dirk","SM2","Verein für Bahnengolf Osnabrück von 1984 e. V."]
[65961,65961,"Ralf","Vennemann","VfB Osnabrück","SM2: Vennemann,Ralf","SM2","Verein für Bahnengolf Osnabrück von 1984 e. V."]
[67382,67382,"Gerhard","Verges","1. MGC Ladenburg","SM1: Verges,Gerhard","SM1","1. Miniaturgolf-Club Ladenburg e. V."]
[29907,29907,"Alfred","Verhoeven","BGC Dormagen","SM1: Verhoeven,Alfred","SM1","Bahnengolf-Club Dormagen e. V."]
[37766,37766,"Julian","Vernaleken","MGC Bad Salzuflen","H: Vernaleken,Julian","H","Minigolf-Club Bad Salzuflen e. V."]
[33945,33945,"Renate","Vetter","MSC Bensheim-Auerbach","D: Vetter,Renate","D","Minigolf-Sport-Club Bensheim-Auerbach e. V."]
[36659,36659,"Peter","Vielhauer","1. MGC Epe 1978","SM2: Vielhauer,Peter","SM2","1. Minigolfclub Epe 1978 e. V."]
[36658,36658,"Marieluise","Vielhauer","1. MGC Epe 1978","SW2: Vielhauer,Marieluise","SW2","1. Minigolfclub Epe 1978 e. V."]
[34501,34501,"Ralf","Vittinghoff","1. MGC Ladenburg","SM1: Vittinghoff,Ralf","SM1","1. Miniaturgolf-Club Ladenburg e. V."]
[5272,5272,"Leonhard","Vocht","OMGC Ingolstadt","SM2: Vocht,Leonhard","SM2","Oberbayerische Minigolf-Club Ingolstadt e. V."]
[67637,67637,"Marc","Vogel","MGC Bergisch Gladbach Gierath","SM1: Vogel,Marc","SM1","Minigolf-Club Bergisch Gladbach Gierath e. V."]
[282,282,"Klaus","Vogentanz","1. MGC Bamberg","SM2: Vogentanz,Klaus","SM2","1. Minigolfclub Bamberg e. V."]
[44676,44676,"Markus","Vogt","BGC Schloß Paffendorf","SM1: Vogt,Markus","SM1","Bahnengolf Club Schloß Paffendorf e. V."]
[47299,47299,"Michael","Vogt","MGC Dormagen-Brechten","SM1: Vogt,Michael","SM1","Minigolfclub Dormagen - Brechten e. V."]
[5959,5959,"Johannes","Völk","MGC Murnau am Staffelsee","SM2: Völk,Johannes","SM2","Minigolfclub Murnau am Staffelsee e. V."]
[24417,24417,"Erhard","Völkel","1. NMC Kelheim","SM2: Völkel,Erhard","SM2","1. Niederbayerischer Minigolf-Club Kelheim e. V."]
[47134,47134,"Michael","Volkmer","BV Sennestadt","SM1: Volkmer,Michael","SM1","BV Sennestadt e. V."]
[47133,47133,"Iris","Volkmer-Ruben","BV Sennestadt","SW1: Volkmer-Ruben,Iris","SW1","BV Sennestadt e. V."]
[43224,43224,"Jürgen","Vollmer","1. BGC Paderborn","SM2: Vollmer,Jürgen","SM2","1. Bahnengolfclub Paderborn e. V."]
[66544,66544,"Anja","Vollrath","MGC Bad Homburg vdH","D: Vollrath,Anja","D","Minigolf-Club Bad Homburg e. V."]
[37329,37329,"Frank","Völzke","1. KGC Mönchengladbach","SM1: Völzke,Frank","SM1","1. Klein-Golf-Club Mönchengladbach e. V."]
[37670,37670,"Peter","vom Berg","BGC Schloß Paffendorf","SM1: vom Berg,Peter","SM1","Bahnengolf Club Schloß Paffendorf e. V."]
[34494,34494,"Felix","vom Bruch","MSK Neheim-Hüsten","H: vom Bruch,Felix","H","MINIGOLF-SPORT-KLUB Neheim-Hüsten e. V."]
[261,261,"Lars","Vomhof","MSK Neheim-Hüsten","SM1: Vomhof,Lars","SM1","MINIGOLF-SPORT-KLUB Neheim-Hüsten e. V."]
[49943,49943,"Kay","von Beuningen","VfL Lohbrügge Abt. Bahnengolf","H: von Beuningen,Kay","H","Verein für Leibesübungen Lohbrügge von 1892 e. V. Abteilung Bahnengolf"]
[5612,5612,"Boto","von Beuningen","VfL Lohbrügge Abt. Bahnengolf","SM2: von Beuningen,Boto","SM2","Verein für Leibesübungen Lohbrügge von 1892 e. V. Abteilung Bahnengolf"]
[2320,2320,"Dörthe","von Beuningen","VfL Lohbrügge Abt. Bahnengolf","SW2: von Beuningen,Dörthe","SW2","Verein für Leibesübungen Lohbrügge von 1892 e. V. Abteilung Bahnengolf"]
[32379,32379,"Sebastian","von Block","MSC Bad Godesberg","H: von Block,Sebastian","H","Minigolf-Sport-Club Bad Godesberg e. V."]
[46295,46295,"Gabriele","von Contzen","SV Lurup Abt. Bahnengolf","SW2: von Contzen,Gabriele","SW2","Sportverein Lurup-Hamburg von 1923 e. V. Abteilung Bahnengolf"]
[25562,25562,"Andreas","von dem Knesebeck","1. MGC 1970 Göttingen","SM1: von dem Knesebeck,Andreas","SM1","1. Miniatur-Golfsport-Club 1970 Göttingen e. V."]
[36691,36691,"Alexandra","von dem Knesebeck","1. MGC 1970 Göttingen","SW1: von dem Knesebeck,Alexandra","SW1","1. Miniatur-Golfsport-Club 1970 Göttingen e. V."]
[5288,5288,"Ingo","von dem Knesebeck","1. MGC 1970 Göttingen","SM2: von dem Knesebeck,Ingo","SM2","1. Miniatur-Golfsport-Club 1970 Göttingen e. V."]
[40235,40235,"Stephan","von der Pütten","MGC Traben-Trarbach","SM1: von der Pütten,Stephan","SM1","Minigolfclub Traben-Trarbach e. V."]
[14562,14562,"Axel","von Holten","MC \"Möve\" Cuxhaven-Sahlenburg","SM1: von Holten,Axel","SM1","Miniaturgolf-Club \"Möve\" Cuxhaven-Sahlenburg e. V."]
[66751,66751,"Jens","von Trümbach","Minigolfclub Karlshagen","SM1: von Trümbach,Jens","SM1","Minigolfclub Karlshagen e. V."]
[66750,66750,"Katarzyna","von Trümbach","Minigolfclub Karlshagen","SW1: von Trümbach,Katarzyna","SW1","Minigolfclub Karlshagen e. V."]
[34068,34068,"Waldemar","Voos","BGV Bergisch Land 1962 / 63","H: Voos,Waldemar","H","Bahnengolf-Verein Bergisch Land 1962/63 e. V."]
[3720,3720,"Hans-Peter","Vosberg","Minigolfunion Neviges-Odenthal 1968","SM2: Vosberg,Hans-Peter","SM2","Minigolfunion Neviges-Odenthal 1968 e. V."]
[66768,66768,"Christian","Voß","1. MGC Paderborn","H: Voß,Christian","H","1. Minigolf-Club Paderborn 1980 e. V."]
[49854,49854,"Björn","Voß","MC Flora Elmshorn","SM1: Voß,Björn","SM1","Minigolf-Club Flora Elmshorn e. V."]
[18217,18217,"Fritz","Voss","Cobigolf-Verein Hamm 2019","SM2: Voss,Fritz","SM2","Cobigolf-Verein Hamm 2019 e. V."]
[30196,30196,"Johannes","Vosschulte","Cobigolf-Verein Hamm 2019","SM2: Vosschulte,Johannes","SM2","Cobigolf-Verein Hamm 2019 e. V."]
[65283,65283,"Manuel André","Wächter","MSK Neheim-Hüsten","H: Wächter,Manuel André","H","MINIGOLF-SPORT-KLUB Neheim-Hüsten e. V."]
[35127,35127,"Sven","Wachtl","MGC Bad Homburg vdH","SM1: Wachtl,Sven","SM1","Minigolf-Club Bad Homburg e. V."]
[4260,4260,"Renate","Wachtl","MGC Bad Homburg vdH","SW2: Wachtl,Renate","SW2","Minigolf-Club Bad Homburg e. V."]
[5997,5997,"Gertrud","Wäcke","MGC \"Stahlquelle\" Bad Bocklet","SW2: Wäcke,Gertrud","SW2","Miniatur-Golf-Club \"Stahlquelle\", Bad Bocklet 1989 e. V."]
[26331,26331,"Hans Rolf","Wageck","1. MGC Ludwigshafen","SM2: Wageck,Hans Rolf","SM2","1. Miniatur-Golf-Club Ludwigshafen 1964 e. V."]
[37142,37142,"Uwe","Wageck","1. BGC Rodalben 1977","SM2: Wageck,Uwe","SM2","1. Bahnengolfverein Rodalben 1977 e. V."]
[67083,67083,"Tobias","Wagener","MGC Murnau am Staffelsee","SCHM: Wagener,Tobias","SCHM","Minigolfclub Murnau am Staffelsee e. V."]
[66313,66313,"Volker","Wagener","MGC Murnau am Staffelsee","SM1: Wagener,Volker","SM1","Minigolfclub Murnau am Staffelsee e. V."]
[45065,45065,"Jürgen","Wagner","Miniaturgolf Sportclub Schriesheim","H: Wagner,Jürgen","H","Miniaturgolf Sportclub Schriesheim e. V."]
[50472,50472,"Christian","Wagner","PTSV Hof, Abt. Minigolf","H: Wagner,Christian","H","Post- und Telekom-Sportverein Hof e. V. Abteilung Minigolf "]
[28224,28224,"Imke","Wagner","Miniaturgolf Sportclub Schriesheim","D: Wagner,Imke","D","Miniaturgolf Sportclub Schriesheim e. V."]
[67393,67393,"Ben","Wagner","VfM Bottrop","JM: Wagner,Ben","JM","Verein für Minigolf Bottrop e. V."]
[61252,61252,"Gerald","Wagner","MSV Würzburg-Löwenbrücke","SM2: Wagner,Gerald","SM2","Miniaturgolfsportverein Würzburg - Löwenbrücke e. V."]
[26716,26716,"Hans-Joachim","Wagner","1. MGC Mainz","SM2: Wagner,Hans-Joachim","SM2","Erster Mainzer Minigolf-Club e. V. 1964"]
[5805,5805,"Günter","Wagner","MSC Herscheid 1963","SM2: Wagner,Günter","SM2","Minigolf-Sportclub Herscheid 1963 e. V."]
[4908,4908,"Franz","Wagner","1. KC Homburg-Saar 1967","SM2: Wagner,Franz","SM2","1. Kleingolf Club Homburg-Saar 1967 e. V."]
[36583,36583,"Marita","Wagner","MSC Herscheid 1963","SW2: Wagner,Marita","SW2","Minigolf-Sportclub Herscheid 1963 e. V."]
[4906,4906,"Barbara","Wagner","1. KC Homburg-Saar 1967","SW2: Wagner,Barbara","SW2","1. Kleingolf Club Homburg-Saar 1967 e. V."]
[30067,30067,"Sandra","Waldherr","MGC Wertheim 91","D: Waldherr,Sandra","D","Minigolfdub Wertheim ´91 e. V."]
[43576,43576,"Udo","Waldmann","1. BGC Landshut","SM1: Waldmann,Udo","SM1","1. Bahnengolf-Club Landshut e. V."]
[36560,36560,"Marcel","Waleska","1. MGC 1970 Göttingen","H: Waleska,Marcel","H","1. Miniatur-Golfsport-Club 1970 Göttingen e. V."]
[{"$f":"VALUE(B3395)","v":1185},1185,"Ingrit","Walkowiak","TSV Salzgitter Abt. Bahnengolf",{"$f":"CONCATENATE(G3395,\": \",D3395,\",\",C3395)","v":"SW2: Walkowiak,Ingrit"},"SW2","Turn- und Sportverein Salzgitter e. V. Abteilung Bahnengolf"]
[67799,67799,"Peter","Wallbaum","MGC Rot-Weiß Wanne-Eickel","SM1: Wallbaum,Peter","SM1","Minigolfclub Rot-Weiß Wanne-Eickel e. V."]
[38499,38499,"Daniel","Wallich","BGC Bildstock","H: Wallich,Daniel","H","Bahnen-Golf-Club Bildstock e. V."]
[67547,67547,"Fredrik","Wallin","Niendorfer MC v. 1963","SM1: Wallin,Fredrik","SM1","Niendorfer Miniaturgolf-Club von 1963 e. V."]
[67663,67663,"Jannick","Walter","1. MGC Lohfelden 1997","JM: Walter,Jannick","JM","1. Miniatur-Golfsport-Club Lohfelden e. V."]
[24779,24779,"Udo","Walter","VfM Bottrop","SM2: Walter,Udo","SM2","Verein für Minigolf Bottrop e. V."]
[38457,38457,"Denis","Walther","Minigolfclub Karlshagen","H: Walther,Denis","H","Minigolfclub Karlshagen e. V."]
[66125,66125,"Markus","Walther","Minigolfclub Karlshagen","H: Walther,Markus","H","Minigolfclub Karlshagen e. V."]
[28026,28026,"Klaus","Walther","BGC Rheinau-Freistett","SM1: Walther,Klaus","SM1","BGC Rheinau-Freistett e. V."]
[36712,36712,"Hans-Jürgen","Walther","BGC Assindia Essen","SM2: Walther,Hans-Jürgen","SM2","Bahnengolf - Club Assindia Essen e. V."]
[40495,40495,"Christian","Wamboldt","MSK Olching","SM1: Wamboldt,Christian","SM1","Olchinger Minigolf Sport Klub e. V."]
[29768,29768,"Christiane","Wamboldt","MSK Olching","SW1: Wamboldt,Christiane","SW1","Olchinger Minigolf Sport Klub e. V."]
[66192,66192,"Eric","Wanjek","BGSC \"Gut Schlag\" Gladbeck","JM: Wanjek,Eric","JM","Bahnengolfsportclub \"Gut Schlag\" Gladbeck e. V."]
[37030,37030,"Guido","Wanjek","BGSC \"Gut Schlag\" Gladbeck","SM1: Wanjek,Guido","SM1","Bahnengolfsportclub \"Gut Schlag\" Gladbeck e. V."]
[37029,37029,"Mandy","Wanjek","BGSC \"Gut Schlag\" Gladbeck","SW1: Wanjek,Mandy","SW1","Bahnengolfsportclub \"Gut Schlag\" Gladbeck e. V."]
[36782,36782,"Alexander","Wanner","1. MGC Metzingen","H: Wanner,Alexander","H","1. Miniaturgolf Club Metzingen e. V."]
[33946,33946,"Burkhard","Waptis","BGSV Castrop 1961","SM1: Waptis,Burkhard","SM1","Bahnengolfsportverein Castrop e. V. 1961"]
[66830,66830,"Silas","Warkentin","TSV Pfungstadt Abt. Bahnengolf","JM: Warkentin,Silas","JM","TSV Pfungstadt e. V. Abteilung Bahnengolf"]
[1612,1612,"Jenifer","Warnecke","1. BGC Wolfsburg","SW1: Warnecke,Jenifer","SW1","1. Bahnen - Golf - Club Wolfsburg e. V."]
[46911,46911,"Nicole","Warnecke","1. BGC Wolfsburg","SW1: Warnecke,Nicole","SW1","1. Bahnen - Golf - Club Wolfsburg e. V."]
[35214,35214,"Thomas","Warnkens","BGC Bremen","SM2: Warnkens,Thomas","SM2","Bahnen-Golf-Club Bremen e. V."]
[65415,65415,"Tobias","Warschkau","SC Wermelskirchen 1976","H: Warschkau,Tobias","H","SC-Wermelskirchen e. V."]
[24559,24559,"Hans-Werner","Waschbusch","Freizeit Club Bliesen","SM2: Waschbusch,Hans-Werner","SM2","Freizeit Club Bliesen e. V."]
[43441,43441,"Ursula","Waschbusch","Freizeit Club Bliesen","SW2: Waschbusch,Ursula","SW2","Freizeit Club Bliesen e. V."]
[67427,67427,"Michael","Wassberg","MGC Bad Homburg vdH","SM1: Wassberg,Michael","SM1","Minigolf-Club Bad Homburg e. V."]
[34515,34515,"Sven","Wassermann","1. MGC Kassel 1964","H: Wassermann,Sven","H","1. Mini-Golfsport-Club Kassel-Vellmar 1964 e. V."]
[37371,37371,"Peter","Waßmer","BSV Inzlingen 1979","SM2: Waßmer,Peter","SM2","Bahnengolf-Sportverein Inzlingen 1979 e. V."]
[65513,65513,"Brigitte","Waßmer","BSV Inzlingen 1979","SW2: Waßmer,Brigitte","SW2","Bahnengolf-Sportverein Inzlingen 1979 e. V."]
[65861,65861,"Sven","Waxmann","MGC Traben-Trarbach","H: Waxmann,Sven","H","Minigolfclub Traben-Trarbach e. V."]
[65862,65862,"Dirk","Waxmann","MGC Traben-Trarbach","H: Waxmann,Dirk","H","Minigolfclub Traben-Trarbach e. V."]
[66802,66802,"Marco","Weber","Miniaturgolf Sportclub Schriesheim","H: Weber,Marco","H","Miniaturgolf Sportclub Schriesheim e. V."]
[23179,23179,"Dennis","Weber","MGC Dortmund Syburg","H: Weber,Dennis","H","MGC Do-Syburg e.V."]
[27911,27911,"Dominik","Weber","Cobigolf-Verein Hamm 2019","H: Weber,Dominik","H","Cobigolf-Verein Hamm 2019 e. V."]
[66765,66765,"Elena","Weber","MGC Murnau am Staffelsee","JW: Weber,Elena","JW","Minigolfclub Murnau am Staffelsee e. V."]
[66887,66887,"Janina","Weber","MSC Bad Godesberg","JW: Weber,Janina","JW","Minigolf-Sport-Club Bad Godesberg e. V."]
[29622,29622,"Hans-Dieter","Weber","MSC Bad Godesberg","SM1: Weber,Hans-Dieter","SM1","Minigolf-Sport-Club Bad Godesberg e. V."]
[35116,35116,"Bernd","Weber","VfM Bottrop","SM2: Weber,Bernd","SM2","Verein für Minigolf Bottrop e. V."]
[6298,6298,"Karl-Otto","Weber","BGC Bad Mergentheim","SM2: Weber,Karl-Otto","SM2","Bahnen-Golf-Club Bad Mergentheim e. V."]
[66866,66866,"Jutta","Weber","1. BGC Landshut","SW2: Weber,Jutta","SW2","1. Bahnengolf-Club Landshut e. V."]
[38167,38167,"Marianne","Weber","BGC Bad Mergentheim","SW2: Weber,Marianne","SW2","Bahnen-Golf-Club Bad Mergentheim e. V."]
[67787,67787,"Carmen","Wedel","BGSV Bad Homburg","SW1: Wedel,Carmen","SW1","Bahnengolf-Sportverein Bad Homburg v.d.H. e. V."]
[46606,46606,"Sven","Wedmann","BGC Bad Nenndorf","SM1: Wedmann,Sven","SM1","Bahnen-Golf-Club Bad Nenndorf e. V."]
[35491,35491,"Frank","Wege","BGV Backumer Tal Herten","SM1: Wege,Frank","SM1","BGV Backumer Tal Herten e. V."]
[33976,33976,"Hugo","Wehlmann","MGC Sulzfeld","SM2: Wehlmann,Hugo","SM2","Miniatur Golf Club Sulzfeld e. V."]
[50935,50935,"Markus","Wehmeyer","1. MGC Epe 1978","SM1: Wehmeyer,Markus","SM1","1. Minigolfclub Epe 1978 e. V."]
[37139,37139,"Dieter","Wehn","MGC \"Stahlquelle\" Bad Bocklet","SM2: Wehn,Dieter","SM2","Miniatur-Golf-Club \"Stahlquelle\", Bad Bocklet 1989 e. V."]
[37133,37133,"Svenja","Wehner","HMC Büttgen","D: Wehner,Svenja","D","Hobbysport Miniaturgolfclub Büttgen e. V."]
[31003,31003,"Uwe","Wehner","VfM Berlin","SM1: Wehner,Uwe","SM1","Verein für Minigolf e. V. Berlin"]
[66720,66720,"Petra","Wehner","VfM Berlin","SW1: Wehner,Petra","SW1","Verein für Minigolf e. V. Berlin"]
[27861,27861,"Thomas","Wehner","HMC Büttgen","SM2: Wehner,Thomas","SM2","Hobbysport Miniaturgolfclub Büttgen e. V."]
[37252,37252,"Martina","Wehner","HMC Büttgen","SW2: Wehner,Martina","SW2","Hobbysport Miniaturgolfclub Büttgen e. V."]
[67384,67384,"Christofer","Wehrheim","MGC Bad Homburg vdH","SM1: Wehrheim,Christofer","SM1","Minigolf-Club Bad Homburg e. V."]
[35645,35645,"Thorsten","Wehrmann","MGC Bad Salzuflen","SM1: Wehrmann,Thorsten","SM1","Minigolf-Club Bad Salzuflen e. V."]
[44007,44007,"Petra","Weibbrecht","1. FMGC Lichtenfels 1961","SW1: Weibbrecht,Petra","SW1","1. Fränkischer Minigolfclub Lichtenfels 1961 e. V."]
[67647,67647,"Julian","Weibold","OMGC Ingolstadt","H: Weibold,Julian","H","Oberbayerische Minigolf-Club Ingolstadt e. V."]
[34707,34707,"Corina","Weickl","BGC Neutraubling","D: Weickl,Corina","D","Bahnengolf-Club Neutraubling e. V."]
[51729,51729,"Andreas","Weidel","BGC Neutraubling","H: Weidel,Andreas","H","Bahnengolf-Club Neutraubling e. V."]
[34555,34555,"Bernhard","Weidemann","TSV Kücknitz Abt. Bahnengolf","SM2: Weidemann,Bernhard","SM2","Turn - und Sportverein Kücknitz von 1911 e. V. Abteilung Bahnengolf"]
[32995,32995,"Stefan","Weidl","MSG Kempten","H: Weidl,Stefan","H","Minigolf-Sport-Gemeinschaft Kempten e. V."]
[44689,44689,"Ingo","Weidner","1. BGC Hannover","SM1: Weidner,Ingo","SM1","1. Bahnen-Golf-Club Hannover e. V."]
[6605,6605,"Klaus-Dieter","Weigang","1. BGC Hannover","SM2: Weigang,Klaus-Dieter","SM2","1. Bahnen-Golf-Club Hannover e. V."]
[38019,38019,"Karlheinz","Weigenand","MC Ilvesheim","SM2: Weigenand,Karlheinz","SM2","Miniaturgolf-Club Ilvesheim e. V."]
[41248,41248,"Christian","Weigl","BSV Inzlingen 1979","SM1: Weigl,Christian","SM1","Bahnengolf-Sportverein Inzlingen 1979 e. V."]
[67071,67071,"Dominik","Weihs","MSK Neheim-Hüsten","JM: Weihs,Dominik","JM","MINIGOLF-SPORT-KLUB Neheim-Hüsten e. V."]
[{"$f":"VALUE(B3459)","v":26955},26955,"Reiner","Weinberger","BGC Neutraubling",{"$f":"CONCATENATE(G3459,\": \",D3459,\",\",C3459)","v":"SM1: Weinberger,Reiner"},"SM1","Bahnengolf-Club Neutraubling e. V."]
[36154,36154,"Reinhold","Weinberger","1. MGC Gelsenkirchen","SM2: Weinberger,Reinhold","SM2","1. Minigolf Club Gelsenkirchen e. V."]
[3488,3488,"Inge","Weinberger","BGC Neutraubling","SW2: Weinberger,Inge","SW2","Bahnengolf-Club Neutraubling e. V."]
[36153,36153,"Sabine","Weinberger","1. MGC Gelsenkirchen","SW2: Weinberger,Sabine","SW2","1. Minigolf Club Gelsenkirchen e. V."]
[35538,35538,"Stefan","Weinhold","ASV Pegnitz, Abt. Minigolf","H: Weinhold,Stefan","H","Allgemeiner Sportverein Pegnitz e. V. Abteilung Minigolf"]
[62043,62043,"Helga","Weinstein","KGC  Waldstadion Frankfurt am Main","SW2: Weinstein,Helga","SW2","Kleingolfclub Waldstadion e. V. Frankfurt am Main\t"]
[36594,36594,"Claudia","Weinzierl","1. NMC Kelheim","D: Weinzierl,Claudia","D","1. Niederbayerischer Minigolf-Club Kelheim e. V."]
[41137,41137,"Jörg","Weirich","MSC Bensheim-Auerbach","SM1: Weirich,Jörg","SM1","Minigolf-Sport-Club Bensheim-Auerbach e. V."]
[35006,35006,"Ralf","Weis","1. Münchener MGC","SM1: Weis,Ralf","SM1","1. Münchener Minigolf-Club 1962 e. V."]
[17988,17988,"Norbert","Weis","BGC Schweinfurt","SM2: Weis,Norbert","SM2","Bahnengolfclub Schweinfurt e. V."]
[48289,48289,"Silvia","Weiser","MGC Murnau am Staffelsee","SW1: Weiser,Silvia","SW1","Minigolfclub Murnau am Staffelsee e. V."]
[48288,48288,"Franz","Weiser","MGC Murnau am Staffelsee","SM2: Weiser,Franz","SM2","Minigolfclub Murnau am Staffelsee e. V."]
[9244,9244,"Wolfgang","Weiser","TSV Pfungstadt Abt. Bahnengolf","SM2: Weiser,Wolfgang","SM2","TSV Pfungstadt e. V. Abteilung Bahnengolf"]
[38114,38114,"Steven","Weiß","1. MGC Mainz","H: Weiß,Steven","H","Erster Mainzer Minigolf-Club e. V. 1964"]
[66719,66719,"Christian","Weiß","TV Niederstetten 1862  Abt. Minigolf","JM: Weiß,Christian","JM","Turnverein Niederstetten 1862 e. V. Abteilung Minigolf"]
[67276,67276,"Damon","Weiß","Miniaturgolf Sportclub Schriesheim","SCHM: Weiß,Damon","SCHM","Miniaturgolf Sportclub Schriesheim e. V."]
[38113,38113,"Michael","Weiß","Miniaturgolf Sportclub Schriesheim","SM1: Weiß,Michael","SM1","Miniaturgolf Sportclub Schriesheim e. V."]
[36070,36070,"Rolf","Weiß","TV Niederstetten 1862  Abt. Minigolf","SM1: Weiß,Rolf","SM1","Turnverein Niederstetten 1862 e. V. Abteilung Minigolf"]
[38112,38112,"Jeannette","Weiß","Miniaturgolf Sportclub Schriesheim","SW1: Weiß,Jeannette","SW1","Miniaturgolf Sportclub Schriesheim e. V."]
[44173,44173,"Stefan","Weißenberger","TG Höchberg von 1862 Bahnengolf","SM1: Weißenberger,Stefan","SM1","Turngemeinde Höchberg von 1862 Bahnengolf e. V."]
[30307,30307,"Angela","Weißer","BIG Ingelfingen","D: Weißer,Angela","D","Bahnengolf Interessen-Gemeinschaft Ingelfingen 2020 e. V."]
[35784,35784,"Stephan","Weißer","BIG Ingelfingen","SM1: Weißer,Stephan","SM1","Bahnengolf Interessen-Gemeinschaft Ingelfingen 2020 e. V."]
[67795,67795,"Andrea","Weisser","MC \"Möve\" Cuxhaven-Sahlenburg","SW1: Weisser,Andrea","SW1","Miniaturgolf-Club \"Möve\" Cuxhaven-Sahlenburg e. V."]
[33604,33604,"Henning","Weißmann","1. MGC 1970 Göttingen","H: Weißmann,Henning","H","1. Miniatur-Golfsport-Club 1970 Göttingen e. V."]
[34150,34150,"Dennis","Welpmann","MC Tigers Künsebeck","H: Welpmann,Dennis","H","Miniaturgolf Club Tigers Künsebeck e. V."]
[37781,37781,"Patrick","Welpmann","MC Tigers Künsebeck","H: Welpmann,Patrick","H","Miniaturgolf Club Tigers Künsebeck e. V."]
[67580,67580,"Daniela","Welz","MGC Rot-Weiß Wanne-Eickel","SW1: Welz,Daniela","SW1","Minigolfclub Rot-Weiß Wanne-Eickel e. V."]
[67014,67014,"Ralf","Wendland","1. CGC Blau-Gelb Grötzingen","SM1: Wendland,Ralf","SM1","COBI-GOLF-CLUB Blau-Gelb Grötzingen 1968 e. V."]
[49256,49256,"Dieter","Wendlandt","MC \"Möve\" Cuxhaven-Sahlenburg","SM2: Wendlandt,Dieter","SM2","Miniaturgolf-Club \"Möve\" Cuxhaven-Sahlenburg e. V."]
[32118,32118,"Oliver","Wendling","Niendorfer MC v. 1963","H: Wendling,Oliver","H","Niendorfer Miniaturgolf-Club von 1963 e. V."]
[66014,66014,"Elfi","Wendt","BGC Illertissen","SW2: Wendt,Elfi","SW2","Bahnengolfclub Illertissen e. V."]
[35896,35896,"Gottholde","Weniger","CGC Rauschenberg","SW1: Weniger,Gottholde","SW1","Cobigolf-Club Rauschenberg e. V."]
[66225,66225,"Timo","Wenner","1. CGC Blau-Gelb Grötzingen","H: Wenner,Timo","H","COBI-GOLF-CLUB Blau-Gelb Grötzingen 1968 e. V."]
[37916,37916,"Marcel","Wentzel","VfL Lohbrügge Abt. Bahnengolf","H: Wentzel,Marcel","H","Verein für Leibesübungen Lohbrügge von 1892 e. V. Abteilung Bahnengolf"]
[37949,37949,"Dominik","Wentzel","MGC Bad Oldesloe","H: Wentzel,Dominik","H","Miniaturgolfclub Bad Oldesloe von 1964 e. V."]
[31459,31459,"Felix","Wenz","BGSV Kerpen","H: Wenz,Felix","H","Bahnen-Golf-Sport-Vereinigung Kerpen e. V."]
[32089,32089,"Tobias","Wenz","BGSV Kerpen","H: Wenz,Tobias","H","Bahnen-Golf-Sport-Vereinigung Kerpen e. V."]
[66221,66221,"Norbert","Wenzel","1. BGC Hannover","SM2: Wenzel,Norbert","SM2","1. Bahnen-Golf-Club Hannover e. V."]
[42436,42436,"Detlef","Wenzel","BGV Backumer Tal Herten","SM2: Wenzel,Detlef","SM2","BGV Backumer Tal Herten e. V."]
[5994,5994,"Karl","Wenzke","MGC \"Stahlquelle\" Bad Bocklet","SM2: Wenzke,Karl","SM2","Miniatur-Golf-Club \"Stahlquelle\", Bad Bocklet 1989 e. V."]
[35061,35061,"Ulrich","Wernecke","MGC Bad Oldesloe","H: Wernecke,Ulrich","H","Miniaturgolfclub Bad Oldesloe von 1964 e. V."]
[37605,37605,"Uwe","Wernecke","MGC Bad Oldesloe","SM2: Wernecke,Uwe","SM2","Miniaturgolfclub Bad Oldesloe von 1964 e. V."]
[36311,36311,"Lars","Werner","MGC Freizeitzentrum Biebertal","H: Werner,Lars","H","Miniatur-Golf-Club Freizeitzentrum Biebertal e. V."]
[37386,37386,"Simone","Werner","MGC Murnau am Staffelsee","D: Werner,Simone","D","Minigolfclub Murnau am Staffelsee e. V."]
[31120,31120,"Hans Jürgen","Werner","MSC Bensheim-Auerbach","SM1: Werner,Hans Jürgen","SM1","Minigolf-Sport-Club Bensheim-Auerbach e. V."]
[35666,35666,"Jana","Wernicke","BGC Neutraubling","D: Wernicke,Jana","D","Bahnengolf-Club Neutraubling e. V."]
[28786,28786,"Karlheinz","Werres","1. KGC Mönchengladbach","SM2: Werres,Karlheinz","SM2","1. Klein-Golf-Club Mönchengladbach e. V."]
[35546,35546,"Florian","Wesemann","BGC Diepholz","H: Wesemann,Florian","H","Bahnen-Golf-Club Diepholz e. V."]
[36292,36292,"Eike-Fabian","Wesemann","BGC Diepholz","H: Wesemann,Eike-Fabian","H","Bahnen-Golf-Club Diepholz e. V."]
[50388,50388,"Christoph","Wess","MGC putter Künzell 1970","H: Wess,Christoph","H","Minigolfclub putter Künzell 1970 e. V."]
[43598,43598,"Volker","Wesselmäcking","TSV Salzgitter Abt. Bahnengolf","SM1: Wesselmäcking,Volker","SM1","Turn- und Sportverein Salzgitter e. V. Abteilung Bahnengolf"]
[37466,37466,"Klaus","Wessendorf","MC Georgsmarienhütte","SM2: Wessendorf,Klaus","SM2","Minigolf-Club Georgsmarienhütte e. V."]
[67407,67407,"Stefanie","Westerwelle","VfB Osnabrück","D: Westerwelle,Stefanie","D","Verein für Bahnengolf Osnabrück von 1984 e. V."]
[66696,66696,"Rainer","Wettstädt","MV Lankwitzer Dragons","SM2: Wettstädt,Rainer","SM2","MV Lankwitzer Dragons e. V."]
[37659,37659,"Jonas","Wetzel","BGC Dormagen","H: Wetzel,Jonas","H","Bahnengolf-Club Dormagen e. V."]
[31721,31721,"Klaus","Wetzel","BGC Dormagen","SM1: Wetzel,Klaus","SM1","Bahnengolf-Club Dormagen e. V."]
[42610,42610,"Markus","Wetzel","BGC Dormagen","SM1: Wetzel,Markus","SM1","Bahnengolf-Club Dormagen e. V."]
[31216,31216,"Cornelia","Wetzel","1. CGC Blau-Gelb Grötzingen","SW1: Wetzel,Cornelia","SW1","COBI-GOLF-CLUB Blau-Gelb Grötzingen 1968 e. V."]
[5581,5581,"Paul","Wetzel","1. MGC Süßen","SM2: Wetzel,Paul","SM2","1. Miniaturgolfclub Süßen e. V."]
[3309,3309,"Christian","Weyandt","SSV Ulm 1846 Abt. Bahnengolf","SM2: Weyandt,Christian","SM2","Schwimm- und Sportverein Ulm 1846 e. V. Abteilung Bahnengolf"]
[46965,46965,"Stefan","Weyers","BGC Uerdingen","SM1: Weyers,Stefan","SM1","Bahnengolf-Club Uerdingen e. V."]
[29149,29149,"Frank","Weygold","1. MGC Ladenburg","SM1: Weygold,Frank","SM1","1. Miniaturgolf-Club Ladenburg e. V."]
[27809,27809,"Thomas","Weygoldt","1. MGC Ladenburg","SM1: Weygoldt,Thomas","SM1","1. Miniaturgolf-Club Ladenburg e. V."]
[43497,43497,"Marcus","Wiche","MSC Bad Godesberg","SM1: Wiche,Marcus","SM1","Minigolf-Sport-Club Bad Godesberg e. V."]
[{"$f":"VALUE(B3523)","v":3808},3808,"Peter","Wichmann","Niendorfer MC v. 1963",{"$f":"CONCATENATE(G3523,\": \",D3523,\",\",C3523)","v":"SM2: Wichmann,Peter"},"SM2","Niendorfer Miniaturgolf-Club von 1963 e. V."]
[38324,38324,"Daniel","Wick","MGC Traben-Trarbach","H: Wick,Daniel","H","Minigolfclub Traben-Trarbach e. V."]
[30278,30278,"Frank","Wickel","MGC Heven","SM2: Wickel,Frank","SM2","Miniatur - Golf - Club Heven e. V."]
[33510,33510,"Melanie","Wickel-Paffrath","MGC Heven","D: Wickel-Paffrath,Melanie","D","Miniatur - Golf - Club Heven e. V."]
[41894,41894,"Bernd","Widera","1. BGC Wolfsburg","SM1: Widera,Bernd","SM1","1. Bahnen - Golf - Club Wolfsburg e. V."]
[47446,47446,"Roland","Widmair","MGC Bad Feilnbach","H: Widmair,Roland","H","Minigolfclub Bad Feilnbach e. V."]
[30082,30082,"Peter","Widmair","MGC Bad Feilnbach","SM2: Widmair,Peter","SM2","Minigolfclub Bad Feilnbach e. V."]
[37722,37722,"Peter","Wiebauer","1. MGC Ludwigshafen","SM2: Wiebauer,Peter","SM2","1. Miniatur-Golf-Club Ludwigshafen 1964 e. V."]
[65464,65464,"Christine","Wiebauer","1. MGC Ludwigshafen","SW2: Wiebauer,Christine","SW2","1. Miniatur-Golf-Club Ludwigshafen 1964 e. V."]
[32946,32946,"Friedrich","Wiebusch","SC Wermelskirchen 1976","SM2: Wiebusch,Friedrich","SM2","SC-Wermelskirchen e. V."]
[67836,67836,"Peter","Wiedemann","OMGC Ingolstadt","H: Wiedemann,Peter","H","Oberbayerische Minigolf-Club Ingolstadt e. V."]
[38379,38379,"Klaus-Heinrich","Wiedemann","VfM Berlin","SM2: Wiedemann,Klaus-Heinrich","SM2","Verein für Minigolf e. V. Berlin"]
[36603,36603,"Oliver","Wieder","MGF Magdeburg 1995","H: Wieder,Oliver","H","Minigolffreunde Magdeburg e. V."]
[33568,33568,"Stephan","Wiedmann","SG Arheilgen Abt. Bahnengolf","SM1: Wiedmann,Stephan","SM1","Sportgemeinschaft Arheilgen 1876/1945 e. V. Abteilung Bahnengolf"]
[34736,34736,"Dieter","Wiedmann","TV Niederstetten 1862  Abt. Minigolf","SM1: Wiedmann,Dieter","SM1","Turnverein Niederstetten 1862 e. V. Abteilung Minigolf"]
[1002,1002,"Dieter","Wiegand","1. BGC Hannover","SM2: Wiegand,Dieter","SM2","1. Bahnen-Golf-Club Hannover e. V."]
[38058,38058,"Florian","Wiegard","MGC putter Künzell 1970","H: Wiegard,Florian","H","Minigolfclub putter Künzell 1970 e. V."]
[48335,48335,"Michael","Wiegard","MGC putter Künzell 1970","SM1: Wiegard,Michael","SM1","Minigolfclub putter Künzell 1970 e. V."]
[38061,38061,"Marvin","Wiegel","Bochumer Minigolf-Club 1960","H: Wiegel,Marvin","H","Bochumer Minigolf-Club 1960 e. V."]
[4859,4859,"Reinhold","Wiegelmann","Minigolf Wölfe Rheinstetten 02","SM2: Wiegelmann,Reinhold","SM2","Rad- und Kraftfahrervereins \"Solidarität\" Mörsch e. V. Abteilung Minigolf Wölfe Rheinstetten 02"]
[67767,67767,"Joy","Wielink-Pol","SC Olympia Dortmund","SW1: Wielink-Pol,Joy","SW1","Sport-Club Olympia Dortmund e. V. "]
[42659,42659,"Beate","Wiemer","TSV Pfungstadt Abt. Bahnengolf","SW1: Wiemer,Beate","SW1","TSV Pfungstadt e. V. Abteilung Bahnengolf"]
[25211,25211,"Thomas","Wiemer","MSC Bensheim-Auerbach","SM2: Wiemer,Thomas","SM2","Minigolf-Sport-Club Bensheim-Auerbach e. V."]
[49980,49980,"Ellen","Wienand","1. BGC Paderborn","SW1: Wienand,Ellen","SW1","1. Bahnengolfclub Paderborn e. V."]
[50367,50367,"Thomas","Wiertz","MGC Bad Salzuflen","H: Wiertz,Thomas","H","Minigolf-Club Bad Salzuflen e. V."]
[30856,30856,"Lutz","Wierum","BGV Bergisch Land 1962 / 63","SM1: Wierum,Lutz","SM1","Bahnengolf-Verein Bergisch Land 1962/63 e. V."]
[37893,37893,"René","Wieser","HMC Büttgen","SM1: Wieser,René","SM1","Hobbysport Miniaturgolfclub Büttgen e. V."]
[66667,66667,"Julian","Wiesinger","MSK Olching","JM: Wiesinger,Julian","JM","Olchinger Minigolf Sport Klub e. V."]
[66714,66714,"Peter","Wiesinger","MSK Olching","SM1: Wiesinger,Peter","SM1","Olchinger Minigolf Sport Klub e. V."]
[66730,66730,"Nicole","Wiesinger","MSK Olching","SW1: Wiesinger,Nicole","SW1","Olchinger Minigolf Sport Klub e. V."]
[46031,46031,"Florian","Wietz","Niendorfer MC v. 1963","SM1: Wietz,Florian","SM1","Niendorfer Miniaturgolf-Club von 1963 e. V."]
[37443,37443,"Sascha","Wilbrand","MGC Dortmund Syburg","H: Wilbrand,Sascha","H","MGC Do-Syburg e.V."]
[24312,24312,"Dieter","Wild","1. MGC Süßen","SM2: Wild,Dieter","SM2","1. Miniaturgolfclub Süßen e. V."]
[10721,10721,"Annemarie","Wild","1. MGC Süßen","SW2: Wild,Annemarie","SW2","1. Miniaturgolfclub Süßen e. V."]
[29310,29310,"Walter","Wildt","MGF Hammer","SM2: Wildt,Walter","SM2","Minigolffreunde Hammer e. V."]
[4057,4057,"Horst-Peter","Wilhelm","Reinickendorfer MGC","SM2: Wilhelm,Horst-Peter","SM2","Reinickendorfer Miniatur - Golfsport - Club e. V."]
[66164,66164,"Valerie","Wilhelms","BSC Ennepetal","D: Wilhelms,Valerie","D","Bahngolf-Sport-Club Ennepetal e. V."]
[44805,44805,"Ralf","Wilhelms","BSC Ennepetal","SM1: Wilhelms,Ralf","SM1","Bahngolf-Sport-Club Ennepetal e. V."]
[46290,46290,"Alexandra","Wilhelms","BSC Ennepetal","SW1: Wilhelms,Alexandra","SW1","Bahngolf-Sport-Club Ennepetal e. V."]
[67627,67627,"Henry Jeremy","Wilkes","BSC Ennepetal","JM: Wilkes,Henry Jeremy","JM","Bahngolf-Sport-Club Ennepetal e. V."]
[3575,3575,"Hans-Peter","Wilkesmann","BGC Dormagen","SM2: Wilkesmann,Hans-Peter","SM2","Bahnengolf-Club Dormagen e. V."]
[42431,42431,"Jan","Wille","BGSC Bochum 1978","SM2: Wille,Jan","SM2","Bahnengolf-Sportclub Bochum 1978 e. V."]
[66006,66006,"Michael","Willeke","MC 62 Lüdenscheid","SM1: Willeke,Michael","SM1","MC 62 Lüdenscheid e. V."]
[29879,29879,"Marcus","Willems","1. BGC Wesseling 1975","SM1: Willems,Marcus","SM1","1. Bahnen-Golf-Club Wesseling 1975 e. V. "]
[33849,33849,"Anke","Willenbockel","Minigolfclub Karlshagen","D: Willenbockel,Anke","D","Minigolfclub Karlshagen e. V."]
[29796,29796,"Marion","Willenbockel","MC \"Möve\" Cuxhaven-Sahlenburg","SW2: Willenbockel,Marion","SW2","Miniaturgolf-Club \"Möve\" Cuxhaven-Sahlenburg e. V."]
[32333,32333,"Melanie","Willfroth","Cobigolf-Verein Hamm 2019","D: Willfroth,Melanie","D","Cobigolf-Verein Hamm 2019 e. V."]
[38004,38004,"Lothar","Willkommen","TSV Arendsee","SM2: Willkommen,Lothar","SM2","Turn- und Sportverein Arendsee e. V. Abteilung Minigolf"]
[66123,66123,"Pascal","Willy","BSV 82 Ohlsbach","H: Willy,Pascal","H","Bahnengolfsportverein 82 Ohlsbach e. V."]
[37683,37683,"Katrin","Wilms","CGC Grün-Gold Bad Hamm","D: Wilms,Katrin","D","Cobigolf-Club \"Grün-Gold\" Bad Hamm e. V."]
[42963,42963,"Joachim","Wilsch","HMC Büttgen","SM2: Wilsch,Joachim","SM2","Hobbysport Miniaturgolfclub Büttgen e. V."]
[42964,42964,"Petra","Wilsch","HMC Büttgen","SW2: Wilsch,Petra","SW2","Hobbysport Miniaturgolfclub Büttgen e. V."]
[33708,33708,"Kirsten","Wimmer","MSC Bensheim-Auerbach","SW2: Wimmer,Kirsten","SW2","Minigolf-Sport-Club Bensheim-Auerbach e. V."]
[67649,67649,"Beatrix","Windberg","MGF Magdeburg 1995","SW1: Windberg,Beatrix","SW1","Minigolffreunde Magdeburg e. V."]
[33926,33926,"Andreas","Winkel","1. MGC Süßen","SM1: Winkel,Andreas","SM1","1. Miniaturgolfclub Süßen e. V."]
[36541,36541,"Dirk","Winkler","BGSC \"Gut Schlag\" Gladbeck","SM1: Winkler,Dirk","SM1","Bahnengolfsportclub \"Gut Schlag\" Gladbeck e. V."]
[67421,67421,"Simon","Winter","PTSV Hof, Abt. Minigolf","H: Winter,Simon","H","Post- und Telekom-Sportverein Hof e. V. Abteilung Minigolf "]
[38201,38201,"Simon Leon","Winter","MGC Wetzlar","H: Winter,Simon Leon","H","Miniatur-Golf-Club Wetzlar e. V."]
[67797,67797,"Roland","Winter","MGC Rot-Weiß Wanne-Eickel","SM2: Winter,Roland","SM2","Minigolfclub Rot-Weiß Wanne-Eickel e. V."]
[67796,67796,"Elisabeth","Winter","MGC Rot-Weiß Wanne-Eickel","SW2: Winter,Elisabeth","SW2","Minigolfclub Rot-Weiß Wanne-Eickel e. V."]
[67424,67424,"Johanna","Winterhoff","BSC Ennepetal","SCHW: Winterhoff,Johanna","SCHW","Bahngolf-Sport-Club Ennepetal e. V."]
[45644,45644,"Peter","Winters","BGSV Kerpen","SM1: Winters,Peter","SM1","Bahnen-Golf-Sport-Vereinigung Kerpen e. V."]
[37763,37763,"Thorsten","Winzer","MGC Freizeitzentrum Biebertal","SM1: Winzer,Thorsten","SM1","Miniatur-Golf-Club Freizeitzentrum Biebertal e. V."]
[25167,25167,"Michael","Wirth","1. Duisburger Minigolf Club 1962","SM2: Wirth,Michael","SM2","1. Duisburger Minigolf Club 1962 e. V."]
[{"$f":"VALUE(B3587)","v":32625},32625,"Karsten","Wischeropp","MGF Magdeburg 1995",{"$f":"CONCATENATE(G3587,\": \",D3587,\",\",C3587)","v":"H: Wischeropp,Karsten"},"H","Minigolffreunde Magdeburg e. V."]
[45007,45007,"Birthe","Wischnath","MGC Bad Oldesloe","SW1: Wischnath,Birthe","SW1","Miniaturgolfclub Bad Oldesloe von 1964 e. V."]
[67416,67416,"Fynn","Wischott","MSK Neheim-Hüsten","JM: Wischott,Fynn","JM","MINIGOLF-SPORT-KLUB Neheim-Hüsten e. V."]
[34695,34695,"Marc","Wisnewski","1. MSC Wesel 6.6.1966","H: Wisnewski,Marc","H","1. Minigolf-Sportclub Wesel 66 66 e. V. "]
[36971,36971,"Thomas","Witte","Tempelhofer MV Berlin","SM2: Witte,Thomas","SM2","Tempelhofer Miniaturgolf Verein von 1965 e. V."]
[41466,41466,"Peter","Wittek","1. BGC Hannover","SM1: Wittek,Peter","SM1","1. Bahnen-Golf-Club Hannover e. V."]
[29626,29626,"Andreas","Wittke","MGC Dormagen-Brechten","SM1: Wittke,Andreas","SM1","Minigolfclub Dormagen - Brechten e. V."]
[37992,37992,"Helga","Wittkopf","BGC Bremen","SW1: Wittkopf,Helga","SW1","Bahnen-Golf-Club Bremen e. V."]
[67230,67230,"Marcel","Wittling","Osnabrücker M.-C. von 1963","H: Wittling,Marcel","H","Osnabrücker Minigolf Club von 1963 e. V."]
[67339,67339,"Kiara","Wittling","Osnabrücker M.-C. von 1963","SCHW: Wittling,Kiara","SCHW","Osnabrücker Minigolf Club von 1963 e. V."]
[33415,33415,"Christian","Wittwer","MSV Bad Kreuznach","H: Wittwer,Christian","H","MSV Bad Kreuznach e. V."]
[33416,33416,"Daniel","Wittwer","MSV Bad Kreuznach","H: Wittwer,Daniel","H","MSV Bad Kreuznach e. V."]
[37964,37964,"Joachim","Wodok","1. BGC Celle von 1964","SM1: Wodok,Joachim","SM1","1. Bahnen-Golf-Club Celle von 1964 e. V."]
[35095,35095,"Luise","Wohlfarth","MSV Würzburg-Löwenbrücke","SW2: Wohlfarth,Luise","SW2","Miniaturgolfsportverein Würzburg - Löwenbrücke e. V."]
[67757,67757,"Michael","Wohlgemuth","BGC Oberhausen","SM2: Wohlgemuth,Michael","SM2","Bahnengolf-Club Oberhausen e. V."]
[67361,67361,"Michael","Wöhrmann","BSV 86 München","SM1: Wöhrmann,Michael","SM1","Bahnengolfsportverein 86 München e. V."]
[67362,67362,"Tatjana","Wöhrmann","BSV 86 München","SW1: Wöhrmann,Tatjana","SW1","Bahnengolfsportverein 86 München e. V."]
[35847,35847,"Stefanie","Wolf","ASV Pegnitz, Abt. Minigolf","D: Wolf,Stefanie","D","Allgemeiner Sportverein Pegnitz e. V. Abteilung Minigolf"]
[35180,35180,"Manuela","Wolf","SC Bastion Rot Weiß Lippstadt","D: Wolf,Manuela","D","SC Bastion Rot - Weiß Lippstadt 1964 e. V."]
[4639,4639,"Henning","Wolf","BGC Northeim","SM2: Wolf,Henning","SM2","Bahnen-Golf-Club Northeim e. V."]
[4835,4835,"Karl-Heinz","Wolf","SC Bastion Rot Weiß Lippstadt","SM2: Wolf,Karl-Heinz","SM2","SC Bastion Rot - Weiß Lippstadt 1964 e. V."]
[66409,66409,"Arnold","Wolf","SC Bastion Rot Weiß Lippstadt","SM2: Wolf,Arnold","SM2","SC Bastion Rot - Weiß Lippstadt 1964 e. V."]
[40341,40341,"Julian","Wolff","MC 62 Lüdenscheid","H: Wolff,Julian","H","MC 62 Lüdenscheid e. V."]
[66059,66059,"Marko","Wolff","BGC Uerdingen","SM1: Wolff,Marko","SM1","Bahnengolf-Club Uerdingen e. V."]
[548,548,"Beate","Wolff","BSV 82 Ohlsbach","SW1: Wolff,Beate","SW1","Bahnengolfsportverein 82 Ohlsbach e. V."]
[20690,20690,"Bertram","Wolff","BSV 82 Ohlsbach","SM2: Wolff,Bertram","SM2","Bahnengolfsportverein 82 Ohlsbach e. V."]
[66527,66527,"Ulf-Michael","Wolff","1. BGC Hannover","SM2: Wolff,Ulf-Michael","SM2","1. Bahnen-Golf-Club Hannover e. V."]
[66940,66940,"Stefan","Woller","1. MGC Gelsenkirchen","SM1: Woller,Stefan","SM1","1. Minigolf Club Gelsenkirchen e. V."]
[33461,33461,"Fritz-Herbert","Woltmann","MC \"Möve\" Cuxhaven-Sahlenburg","SM2: Woltmann,Fritz-Herbert","SM2","Miniaturgolf-Club \"Möve\" Cuxhaven-Sahlenburg e. V."]
[839,839,"Inge","Woltmann","MC \"Möve\" Cuxhaven-Sahlenburg","SW2: Woltmann,Inge","SW2","Miniaturgolf-Club \"Möve\" Cuxhaven-Sahlenburg e. V."]
[37276,37276,"Martin","Wolyniak","SV 1890 Dreieichenhain, Abt. Bahnengolf","SM1: Wolyniak,Martin","SM1","Sportverein 1890 e. V. Dreieichenhain Abteilung Bahnengolf"]
[66515,66515,"Hans Joachim","Wonka","TSV Pfungstadt Abt. Bahnengolf","SM1: Wonka,Hans Joachim","SM1","TSV Pfungstadt e. V. Abteilung Bahnengolf"]
[38503,38503,"Sonja","Wontroba","MSC Bad Godesberg","D: Wontroba,Sonja","D","Minigolf-Sport-Club Bad Godesberg e. V."]
[20394,20394,"Frank-Thomas","Wortmann","CGC Grün-Gold Bad Hamm","SM2: Wortmann,Frank-Thomas","SM2","Cobigolf-Club \"Grün-Gold\" Bad Hamm e. V."]
[67821,67821,"Jennifer","Woßilat","BGV Backumer Tal Herten","D: Woßilat,Jennifer","D","BGV Backumer Tal Herten e. V."]
[547,547,"Jörg","Wössner","BGSV Kerpen","SM1: Wössner,Jörg","SM1","Bahnen-Golf-Sport-Vereinigung Kerpen e. V."]
[66210,66210,"Wolfgang","Wotzlawek","1. BGC Landshut","SM2: Wotzlawek,Wolfgang","SM2","1. Bahnengolf-Club Landshut e. V."]
[10260,10260,"Hans","Wriedt","MC Flora Elmshorn","SM2: Wriedt,Hans","SM2","Minigolf-Club Flora Elmshorn e. V."]
[66919,66919,"Susanne","Wriedt","MC Flora Elmshorn","SW2: Wriedt,Susanne","SW2","Minigolf-Club Flora Elmshorn e. V."]
[66408,66408,"Wolfgang","Wruck","SC Bastion Rot Weiß Lippstadt","SM1: Wruck,Wolfgang","SM1","SC Bastion Rot - Weiß Lippstadt 1964 e. V."]
[67036,67036,"Dirk","Wulhorst","BGC Bad Nenndorf","SM2: Wulhorst,Dirk","SM2","Bahnen-Golf-Club Bad Nenndorf e. V."]
[33821,33821,"Gaby","Wunderlich","1. MGSV Netphen","D: Wunderlich,Gaby","D","1. Minigolf-Sportverein Netphen e. V."]
[43556,43556,"Mario","Wunderlich","SV Lurup Abt. Bahnengolf","SM1: Wunderlich,Mario","SM1","Sportverein Lurup-Hamburg von 1923 e. V. Abteilung Bahnengolf"]
[38072,38072,"Günter","Wunderlich","1. MGSV Netphen","SM2: Wunderlich,Günter","SM2","1. Minigolf-Sportverein Netphen e. V."]
[66541,66541,"Sascha Markus","Würges","BGC Kiel West","SM1: Würges,Sascha Markus","SM1","Bahnen-Golf-Club Kiel-West e. V."]
[65922,65922,"Jan","Würthle","BSV 82 Ohlsbach","H: Würthle,Jan","H","Bahnengolfsportverein 82 Ohlsbach e. V."]
[38504,38504,"Michelle","Würthle","BSV 82 Ohlsbach","D: Würthle,Michelle","D","Bahnengolfsportverein 82 Ohlsbach e. V."]
[44527,44527,"Jürgen","Würthle","BSV 82 Ohlsbach","SM1: Würthle,Jürgen","SM1","Bahnengolfsportverein 82 Ohlsbach e. V."]
[28259,28259,"Christian","Wustrack","MC \"Möve\" Cuxhaven-Sahlenburg","SM1: Wustrack,Christian","SM1","Miniaturgolf-Club \"Möve\" Cuxhaven-Sahlenburg e. V."]
[63375,63375,"Elke","Wuttke","1. BGC Hannover","SW2: Wuttke,Elke","SW2","1. Bahnen-Golf-Club Hannover e. V."]
[34420,34420,"Angelika","Wycisk","1. BGC Leipzig","SW1: Wycisk,Angelika","SW1","1. Bahnen Golf Club Leipzig e. V."]
[50593,50593,"Bettina","Zabel","1. BGC Hannover","SW2: Zabel,Bettina","SW2","1. Bahnen-Golf-Club Hannover e. V."]
[41670,41670,"Michael","Zahner","KGC Bad Urach","SM1: Zahner,Michael","SM1","Klein-Golf-Club Bad Urach e. V."]
[45917,45917,"Jürgen","Zahner","KGC Bad Urach","SM1: Zahner,Jürgen","SM1","Klein-Golf-Club Bad Urach e. V."]
[4495,4495,"Klaus","Zamponi","1. MGSV Netphen","SM2: Zamponi,Klaus","SM2","1. Minigolf-Sportverein Netphen e. V."]
[67568,67568,"Max","Zander","MGC Bad Homburg vdH","H: Zander,Max","H","Minigolf-Club Bad Homburg e. V."]
[30058,30058,"Hilmer","Zander","SG  Weiterstadt 1886","SM2: Zander,Hilmer","SM2","Sportgemeinde 1886 e. V. Weiterstadt Abteilung Bahnengolf"]
[37272,37272,"Michel","Zazzi","1. Essener CGC \"Blau-Gold\"","H: Zazzi,Michel","H","1. Essener cobiGOLF - Club \"Blau-Gold\" e. V."]
[35402,35402,"Thorsten","Zazzi","1. Essener CGC \"Blau-Gold\"","SM1: Zazzi,Thorsten","SM1","1. Essener cobiGOLF - Club \"Blau-Gold\" e. V."]
[38261,38261,"Johann","Zech","1. Bahnengolf-Club Singen","SM2: Zech,Johann","SM2","1. Bahnengolf-Club Singen e. V."]
[67690,67690,"Andreas","Zeferer","BGC Bildstock","SM1: Zeferer,Andreas","SM1","Bahnen-Golf-Club Bildstock e. V."]
[45973,45973,"Michael","Zehe","MGC Ostheim / Rhön","SM1: Zehe,Michael","SM1","Miniaturgolfclub Ostheim/Rhön e. V. "]
[22825,22825,"Alfred","Zehm","SC Bastion Rot Weiß Lippstadt","SM2: Zehm,Alfred","SM2","SC Bastion Rot - Weiß Lippstadt 1964 e. V."]
[66668,66668,"Ingrid","Zehm","SC Bastion Rot Weiß Lippstadt","SW2: Zehm,Ingrid","SW2","SC Bastion Rot - Weiß Lippstadt 1964 e. V."]
[{"$f":"VALUE(B3651)","v":60359},60359,"Emma","Zehtner","BSV 86 München",{"$f":"CONCATENATE(G3651,\": \",D3651,\",\",C3651)","v":"SW2: Zehtner,Emma"},"SW2","Bahnengolfsportverein 86 München e. V."]
[50152,50152,"Torsten","Zeisler","SSC Halver","H: Zeisler,Torsten","H","SSC Halver e. V."]
[4438,4438,"Werner","Zeisler","SSC Halver","SM2: Zeisler,Werner","SM2","SSC Halver e. V."]
[47089,47089,"Klaus","Zeisler","SSC Halver","SM2: Zeisler,Klaus","SM2","SSC Halver e. V."]
[40499,40499,"Bernd","Zeller","MSK Olching","SM1: Zeller,Bernd","SM1","Olchinger Minigolf Sport Klub e. V."]
[3569,3569,"Gerd","Zeller","MSK Olching","SM2: Zeller,Gerd","SM2","Olchinger Minigolf Sport Klub e. V."]
[5676,5676,"Edeltraud","Zeller","MSK Olching","SW2: Zeller,Edeltraud","SW2","Olchinger Minigolf Sport Klub e. V."]
[47417,47417,"Monika","Zeller","1. MGC München-Feldmoching","SW2: Zeller,Monika","SW2","1. Miniaturgolfclub München-Feldmoching e. V."]
[46752,46752,"Markus","Zender","MGC Bad Bodendorf","SM1: Zender,Markus","SM1","Miniaturgolfclub Bad Bodendorf e. V."]
[31736,31736,"Helmut","Zender","MGC Bergisch Gladbach Gierath","SM2: Zender,Helmut","SM2","Minigolf-Club Bergisch Gladbach Gierath e. V."]
[18151,18151,"Heinz","Zideller","BGSC Bochum 1978","SM2: Zideller,Heinz","SM2","Bahnengolf-Sportclub Bochum 1978 e. V."]
[6175,6175,"Klaus","Ziebell","Tempelhofer MV Berlin","SM2: Ziebell,Klaus","SM2","Tempelhofer Miniaturgolf Verein von 1965 e. V."]
[36994,36994,"Frank","Ziegler","TG Höchberg von 1862 Bahnengolf","H: Ziegler,Frank","H","Turngemeinde Höchberg von 1862 Bahnengolf e. V."]
[38485,38485,"Thomas","Ziegler","BGSV Kerpen","H: Ziegler,Thomas","H","Bahnen-Golf-Sport-Vereinigung Kerpen e. V."]
[66330,66330,"Andreas","Ziegler","MSK Olching","SM1: Ziegler,Andreas","SM1","Olchinger Minigolf Sport Klub e. V."]
[66643,66643,"Uwe","Ziegler","MGC \"Stahlquelle\" Bad Bocklet","SM1: Ziegler,Uwe","SM1","Miniatur-Golf-Club \"Stahlquelle\", Bad Bocklet 1989 e. V."]
[36995,36995,"Roland","Ziegler","MGV Ansbach","SM2: Ziegler,Roland","SM2","MGV Ansbach e. V."]
[67543,67543,"Rüdiger","Ziel","1. Minigolf-Club Rheinhausen","SM2: Ziel,Rüdiger","SM2","1. Minigolf-Club Rheinhausen e. V."]
[67542,67542,"Ute","Ziel","1. Minigolf-Club Rheinhausen","SW2: Ziel,Ute","SW2","1. Minigolf-Club Rheinhausen e. V."]
[38205,38205,"Christian","Zielaff","1. MGC 1970 Göttingen","H: Zielaff,Christian","H","1. Miniatur-Golfsport-Club 1970 Göttingen e. V."]
[33643,33643,"Robert","Zierl","MGC Wertheim 91","SM1: Zierl,Robert","SM1","Minigolfdub Wertheim ´91 e. V."]
[35462,35462,"Sabine","Zierl","MGC Wertheim 91","SW2: Zierl,Sabine","SW2","Minigolfdub Wertheim ´91 e. V."]
[36344,36344,"Lukas","Zimmermann","BGC Heilbronn","H: Zimmermann,Lukas","H","Bahnengolf Club Heilbronn e. V."]
[67698,67698,"Ariane","Zimmermann","1. MGC Mainz","D: Zimmermann,Ariane","D","Erster Mainzer Minigolf-Club e. V. 1964"]
[67740,67740,"Rebekka","Zimmermann","1. MGC Mainz","SCHW: Zimmermann,Rebekka","SCHW","Erster Mainzer Minigolf-Club e. V. 1964"]
[67699,67699,"Frank","Zimmermann","1. MGC Mainz","SM1: Zimmermann,Frank","SM1","Erster Mainzer Minigolf-Club e. V. 1964"]
[66463,66463,"Dieter","Zimmermann","1. BGC Paderborn","SM2: Zimmermann,Dieter","SM2","1. Bahnengolfclub Paderborn e. V."]
[36086,36086,"Christopher","Zink","BGC Northeim","H: Zink,Christopher","H","Bahnen-Golf-Club Northeim e. V."]
[67709,67709,"Till","Zipper","TSV Arendsee","H: Zipper,Till","H","Turn- und Sportverein Arendsee e. V. Abteilung Minigolf"]
[35900,35900,"Bianca","Zirkenbach","MGC Bad Homburg vdH","D: Zirkenbach,Bianca","D","Minigolf-Club Bad Homburg e. V."]
[65132,65132,"Lavinia","Zirkenbach","MGC Bad Homburg vdH","JW: Zirkenbach,Lavinia","JW","Minigolf-Club Bad Homburg e. V."]
[67492,67492,"Marlin","Zirkenbach","MGC Bad Homburg vdH","SCHM: Zirkenbach,Marlin","SCHM","Minigolf-Club Bad Homburg e. V."]
[67569,67569,"Kiara","Zirkenbach","MGC Bad Homburg vdH","SCHW: Zirkenbach,Kiara","SCHW","Minigolf-Club Bad Homburg e. V."]
[50153,50153,"Bianca","Zodrow-Wenke","1. MGC 1970 Göttingen","D: Zodrow-Wenke,Bianca","D","1. Miniatur-Golfsport-Club 1970 Göttingen e. V."]
[3510,3510,"Sieglinde","Zollinger","MGF Hilzingen 80","SW2: Zollinger,Sieglinde","SW2","Minigolffreunde Hilzingen 80 e. V."]
[32674,32674,"Lars","Zornstein","Cobigolf-Verein Hamm 2019","H: Zornstein,Lars","H","Cobigolf-Verein Hamm 2019 e. V."]
[36168,36168,"Nicole","Zornstein","Cobigolf-Verein Hamm 2019","D: Zornstein,Nicole","D","Cobigolf-Verein Hamm 2019 e. V."]
[36914,36914,"Ronald","Zoschke","MGF Magdeburg 1995","SM2: Zoschke,Ronald","SM2","Minigolffreunde Magdeburg e. V."]
[38006,38006,"Hannah","Zschäpe","VfB Osnabrück","D: Zschäpe,Hannah","D","Verein für Bahnengolf Osnabrück von 1984 e. V."]
[37751,37751,"Jens-Bob","Zschäpe","VfB Osnabrück","SM2: Zschäpe,Jens-Bob","SM2","Verein für Bahnengolf Osnabrück von 1984 e. V."]
[25152,25152,"Jörg","Zseby","VfM Berlin","SM2: Zseby,Jörg","SM2","Verein für Minigolf e. V. Berlin"]
[67723,67723,"Josef","Zwick","MGC Ravensburg-Weingarten","SM2: Zwick,Josef","SM2","MGC Ravensburg-Weingarten e. V."]
[37389,37389,"Michaela","Zwirlein","TG Höchberg von 1862 Bahnengolf","D: Zwirlein,Michaela","D","Turngemeinde Höchberg von 1862 Bahnengolf e. V."]
[37390,37390,"Rainer","Zwirlein","MGC Murnau am Staffelsee","SM1: Zwirlein,Rainer","SM1","Minigolfclub Murnau am Staffelsee e. V."]
[null,"Hobby1","Peter","Hesse","Hobby","SM2: Hesse,Peter","SM2"]
[null,"Hobby2","Ulla","Barthauer","Hobby","SW2: Barthauer,Ulla","SW2"]
[null,"Hobby3","Bernd","Preißinger","Hobby","SM2: Preißinger,Bernd","SM2"]
[null,"Hobby4","Günter","Schmidtbauer","Hobby","SM2: Schmidtbauer,Günter","SM2"]
[null,"Hobby5","Thorsten","Goldau","Hobby","H: Goldau,Thorsten","H"]
[null,"Hobby6","Brigitte","Börgmann","Hobby","SW1: Börgmann,Brigitte","SW1"]
[null,"Hobby7","Nicole","Lieber","Hobby","D: Lieber,Nicole","D"]
[null,"Hobby9","Marita","Keuth","Hobby","SW1: Keuth,Marita","SW1"]
[null,"Hobby10","Frank","Skischalli","Hobby","H: Skischalli,Frank","H"]
[null,"Hobby11","Michael","Puschner","Hobby","SM2: Puschner,Michael","SM2"]
[null,"Hobby13","Walter","Lütje","Hobby","SM2: Lütje,Walter","SM2"]
[null,"Hobby14","Ursula","Lütje","Hobby","SW2: Lütje,Ursula","SW2"]
[null,"Hobby15","Ulrich","Börgmann","Hobby","SM1: Börgmann,Ulrich","SM1"]
[null,67881,"Karsten","Gattner","MGC \"AS\" Witten 1963","SM1: Gattner,Karsten","SM1"]
[null,"Hobby17","Ellen","Keruth","Hobby","SW2: Keruth,Ellen","SW2"]
[null,"Hobby18","Ursula","Koch","Hobby","SW2: Koch,Ursula","SW2"]
[null,"Hobby19","Silke","Puschner","Hobby","SW2: Puschner,Silke","SW2"]
[null,"Hobby20","Endres","Puschner","Hobby","H: Puschner,Endres","H"]
[null,"Hobby21","Klaus","Fechner","Hobby","SM2: Fechner,Klaus","SM2"]
[null,"Hobby22","Christian","Nopens","Hobby","SM1: Nopens,Christian","SM1"]
[null,"Hobby23","Ute","Nopens","Hobby",{"$f":"CONCATENATE(G3715,\": \",D3715,\",\",C3715)","v":"SW1: Nopens,Ute"},"SW1"]
[null,"Hobby25","Petra","Hünnebeck","Hobby","D: Hünnebeck,Petra","D"]
[null,"Hobby26","Angela","Janz","Hobby","SW2: Janz,Angela","SW2"]
[null,"Hobby27","Saddrik","Leibrandt","Hobby","H: Leibrandt,Saddrik","H"]
[null,"Hobby28","Uwe","Frost","Hobby","SM2: Frost,Uwe","SM2"]
[null,"Hobby29","Thomas","Hoffmann","Hobby","SM2: Hoffmann,Thomas","SM2"]
[null,"Hobby31","Sabine","Kortmann","Hobby","SW1: Kortmann,Sabine","SW1"]
[null,"Hobby32","Uwe","Kortmann","Hobby","SM1: Kortmann,Uwe","SM1"]
[null,"Hobby33","Uwe","Kersch","Hobby","SM2: Kersch,Uwe","SM2"]
[null,"Hobby34","Bernd","Peine","Hobby","SM2: Peine,Bernd","SM2"]
[null,"Hobby35","Ute","Nopens","Hobby","SW1: Nopens,Ute","SW1"]
[null,"Hobby36","Christian","Nopens","Hobby","SM1: Nopens,Christian","SM1"]
[null,"Hobby37","Anna","Kortmann","Hobby","D: Kortmann,Anna","D"]
[null,67882,"Frank","Brunnenkant","MGC Heven","SM1: Brunnenkant,Frank","SM1"]
[null,"Hobby39","Andreas","Wilke","Hobby","SM1: Wilke,Andreas","SM1"]
[null,"Hobby40","Martin","Kunz","Hobby","SM1: Kunz,Martin","SM1"]
[null,"Hobby41","Barbara","Schmidt","Hobby","SW2: Schmidt,Barbara","SW2"]
[null,"Hobby42","Christian","Becker","Hobby","H: Becker,Christian","H"]

{"sheet":"Vereine","index":25,"n_rows":30,"n_cols":2,"rows_kept":30,"cut":false,"hidden":false,"merged":[]}
["Vereinsname","Kürzel"]
["MGC \"AS\" Witten 1963","ASW"]
["MSK Neheim-Hüsten","NEH"]
["Niendorfer MC v. 1963","NIE"]
["1. MGC Köln 1961","KÖL"]
["SGC Hagen","HAG"]
["HMC Büttgen","BÜT"]
["BGC Assindia Essen","ASS"]
["BGSC Bochum 1978","BGSC"]
["SG Arheilgen Abt. Bahnengolf","Arheilg."]
["BGS Hardenberg-Pötter","Hardenb."]
["Hobby","Hobby"]
["MGC Felderbachtal 1964","FEL"]
["1. MGC Gelsenkirchen","Gels."]
["BGV Bergisch Land 1962 / 63","B.-Land"]
["BSC Ennepetal","Ennep."]
["Bochumer Minigolf-Club 1960","BMC"]
["BGSV Castrop 1961","CAS"]
["SC Bastion Rot Weiß Lippstadt","LIP"]
["1. Essener CGC \"Blau-Gold\"","1. CGC"]
["1. MGC Paderborn","Paderb."]
["SSC Halver","Halver"]
["MSC Herscheid 1963","Hersch."]
["SC Olympia Dortmund","Oly"]
["VfB Osnabrück","Osna"]
["MGC Dormagen-Brechten","Do-Bre"]
["MGC Heven","HEV"]
["MGV Eibenstock","Eiben."]
["MC 62 Lüdenscheid","Lüd."]
["1. MSC Wesel 6.6.1966","Wesel"]

{"sheet":"Punkteschema","index":26,"n_rows":101,"n_cols":2,"rows_kept":101,"cut":false,"hidden":false,"merged":[]}
["Platz","Punkte"]
[0,0]
[1,25]
[2,21]
[3,18]
[4,15]
[5,15]
[6,15]
[7,10]
[8,10]
[9,10]
[10,10]
[11,5]
[12,5]
[13,5]
[14,5]
[15,5]
[16,3]
[17,3]
[18,3]
[19,3]
[20,3]
[21,1]
[22,1]
[23,1]
[24,1]
[25,1]
[26,1]
[27,1]
[28,1]
[29,1]
[30,1]
[31,1]
[32,1]
[33,1]
[34,1]
[35,1]
[36,1]
[37,1]
[38,1]
[39,1]
[40,1]
[41,1]
[42,1]
[43,1]
[44,1]
[45,1]
[46,1]
[47,1]
[48,1]
[49,1]
[50,1]
[51,1]
[52,1]
[53,1]
[54,1]
[55,1]
[56,1]
[57,1]
[58,1]
[59,1]
[60,1]
[61,1]
[62,1]
[63,1]
[64,1]
[65,1]
[66,1]
[67,1]
[68,1]
[69,1]
[70,1]
[71,1]
[72,1]
[73,1]
[74,1]
[75,1]
[76,1]
[77,1]
[78,1]
[79,1]
[80,1]
[81,1]
[82,1]
[83,1]
[84,1]
[85,1]
[86,1]
[87,1]
[88,1]
[89,1]
[90,1]
[91,1]
[92,1]
[93,1]
[94,1]
[95,1]
[96,1]
[97,1]
[98,1]
[99,1]

{"sheet":"Hilfe","index":27,"n_rows":14,"n_cols":5,"rows_kept":14,"cut":false,"hidden":false,"merged":[]}
[11,"<- die besten … Punktzahlen werden gewertet"]
[null,"(11 von 16, also die besten ca. 69% der Spieltage)"]
[null,"Quali für Preise: mindestens 11 von 16 Spieltagen,"]
[null,"also etwa an mindestens 69% der Spieltage"]
[]
[]
[]
[null,null,"Standard","aktuell","gerundet"]
[null,"gesamt",16,16,{"$f":"ROUND(D9,0)","v":16}]
[null,"gewertet",11,{"$f":"D9/$C$9*$C10","v":11},{"$f":"ROUND(D10,0)","v":11}]
[null,"Mindestteilnahme",11,{"$f":"D9/$C$9*$C11","v":11},{"$f":"ROUND(D11,0)","v":11}]
[]
[null,"% gewertet",{"$f":"C10/C9","v":0.6875},{"$f":"D10/D9","v":0.6875},{"$f":"E10/E9","v":0.6875}]
[null,"% Mindestteilnahme",{"$f":"C11/C9","v":0.6875},{"$f":"D11/D9","v":0.6875},{"$f":"E11/E9","v":0.6875}]

{"sheet":"Preise","index":28,"n_rows":14,"n_cols":9,"rows_kept":14,"cut":false,"hidden":false,"merged":[]}
["Spieltage",16,null,{"$f":"D6/D2/D3","v":16},null,null,16]
["zu je … TN",20,null,{"$f":"Gesamtstand!X41","v":13.8125},null,null,{"$f":"D2","v":13.8125}]
["Startgeld",5,null,{"$f":"Gesamtstand!Z41/Gesamtstand!Y41","v":4.7285067873303168},null,null,{"$f":"D3","v":4.7285067873303168}]
[]
[null,"geplant",null,"echt",null,"Hochrech."]
["Startgeld",{"$f":"B1*B2*B3","v":1600},null,{"$f":"Gesamtstand!Z41","v":1045},null,{"$f":"G1*G2*G3","v":1045}]
[null,"Ausschreibung","% Einnahmen","analog echt","% analog","analog HR","% HR","Korrektur","Diff pp"]
[1,230,{"$f":"B8/B$6","v":0.14374999999999999},{"$f":"ROUND($C8*D$6,-1)","v":150},{"$f":"D8/D$6","v":0.14354066985645933},{"$f":"ROUND($C8*F$6,-1)+H8","v":150},{"$f":"F8/F$6","v":0.14354066985645933},null,{"$f":"G8-C8","v":-2.0933014354065915E-4}]
[2,170,{"$f":"B9/B$6","v":0.10625},{"$f":"ROUND($C9*D$6,-1)","v":110},0.10526315789473684,{"$f":"ROUND($C9*F$6,-1)+H9","v":110},{"$f":"F9/F$6","v":0.10526315789473684},null,{"$f":"G9-C9","v":-9.8684210526316096E-4}]
[3,135,8.4375000000000006E-2,90,8.6124401913875603E-2,90,{"$f":"F10/F$6","v":8.6124401913875603E-2},null,1.7494019138755978E-3]
[4,110,6.8750000000000006E-2,70,6.6985645933014357E-2,70,{"$f":"F11/F$6","v":6.6985645933014357E-2},null,-1.7643540669856489E-3]
[5,85,5.3124999999999999E-2,60,5.7416267942583733E-2,60,{"$f":"F12/F$6","v":5.7416267942583733E-2},null,4.2912679425837347E-3]
[6,70,4.3749999999999997E-2,50,4.784688995215311E-2,50,{"$f":"F13/F$6","v":4.784688995215311E-2},null,4.0968899521531127E-3]
["Summe",{"$f":"SUM(B8:B13)","v":800},0.5,{"$f":"SUM(D8:D13)","v":530},0.50717703349282295,{"$f":"SUM(F8:F13)","v":530},{"$f":"F14/F$6","v":0.50717703349282295},null,7.1770334928229484E-3]